BEGIN:VCALENDAR
VERSION:2.0
PRODID:-//Sabre//Sabre VObject 4.5.8//EN
CALSCALE:GREGORIAN
BEGIN:VEVENT
UID:sabre-vobject-f3df7f3f-2a62-44a7-9447-71d47dfcc479
DTSTAMP:20260425T124551Z
SUMMARY:Swissolar-Webinar: LEG für Gemeinden 
LOCATION:online
DESCRIPTION:- Begrüssung und Einführung   \n   Lena Kern\, Technik und Be
 triebswirtschaft\, Swissolar\n- Rahmenbedingung (v)ZEV und LEG   \n   Wiel
 and Hintz\, Leiter Markt und Politik\, Stv. Geschäftsführer\, Swissolar\
 n- Bericht aus der Praxis: LEG Gründung der Gemeinde Wädenswil. Vorgehen
  und Herausforderungen  \n   Golrang Daneshgar\, Leiterin Nachhaltigkeit\,
  Stadt Wädenswil\n- Fragen und Diskussion  \n   Lena Kern\, Technik und B
 etriebswirtschaft\, Swissolar
DTSTART:20260701T140000Z
DTEND:20260701T150000Z
END:VEVENT
END:VCALENDAR
