BEGIN:VCALENDAR
VERSION:2.0
PRODID:-//Sabre//Sabre VObject 4.5.8//EN
CALSCALE:GREGORIAN
BEGIN:VEVENT
UID:sabre-vobject-ea31e5c5-c40f-43f5-9cde-df60506e721a
DTSTAMP:20260423T084233Z
SUMMARY:Swissolar-Kurs: Statik von PV-Anlagen
LOCATION:PH ZH\nPädagogische Hochschule Zürich\nLagerstrasse 2\n8090 Zür
 ich
DESCRIPTION:Kursinhalt\n\n- Allgemeines zur Statik\n- Statische Gutachten D
 achkonstruktion\n- Statische Bemessung\n- Schneelast\n- Montagekonstruktio
 n\n- PV-Modul\n- Fassade und Überkopfverglasung\n- Schneefang\n- Hagelwid
 erstand\n\nZielgruppe\n\n- Installateurinnen und Installateure\n- (Angehnd
 e) Solarprofis\n- Fachplaner:innen PV\n\nDer Kurs «Statik» kann als Teil
  des [Fachplaner:in PV Swissolar](https://www.swissolar.ch/de/bildung/swis
 solar-kurse/fachplaner-in-pv-kurs) absolviert werden.\n\nVoraussetzungen\n
 \n- Swissolarkurs Solarstrom Basis\n- Erwartet werden Basiskenntnisse im r
 elevanten Fachbereich.
DTSTART:20260422T063000Z
DTEND:20260422T100000Z
END:VEVENT
END:VCALENDAR
