BEGIN:VCALENDAR
VERSION:2.0
PRODID:-//Sabre//Sabre VObject 4.5.8//EN
CALSCALE:GREGORIAN
BEGIN:VEVENT
UID:sabre-vobject-fde0cb88-cd58-400c-998a-4d567f692362
DTSTAMP:20260421T143027Z
SUMMARY:Swissolar-Webinar: Vorbereitung auf den Nationalen Zukunftstag
LOCATION:online
DESCRIPTION:Referierende\n\n- Isabelle Santamaria\, Geschäftsführerin\, N
 ationaler Zukunftstag\n- Michelle Jenni\, Leiterin Marketing/Kommunikation
 \, BE Netz\n- Michèle Ofri\, Berufsmarketing\, Swissolar\n\nProgramm\n\n-
  Der Nationale Zukunftstag – Ziele\, Ablauf und Teilnahme als Betrieb\n-
  Praxisbericht und Hinweise für die Umsetzung\n- Rechtliches und Sicherhe
 itsaspekte\n- Fragen und Austausch\n\nDer Nationale Zukunftstag bietet Sol
 arbetrieben die Möglichkeit\, Jugendlichen den Berufsalltag zu zeigen und
  Interesse an einer Lehre in der Solarbranche zu wecken. Das Webinar richt
 et sich an alle Solarbetriebe\, auch an Unternehmen ohne Lehrbetriebserfah
 rung.
DTSTART:20260609T130000Z
DTEND:20260609T140000Z
END:VEVENT
END:VCALENDAR
