BEGIN:VCALENDAR
VERSION:2.0
PRODID:-//Sabre//Sabre VObject 4.5.8//EN
CALSCALE:GREGORIAN
BEGIN:VEVENT
UID:sabre-vobject-bee10f63-f88f-4985-a414-920e544d4ada
DTSTAMP:20260423T084228Z
SUMMARY:Swissolar-Kurs: Systemintegration von Energie-Gebäude-Mobilität
LOCATION:Weiterbildungszentrum Lenzburg\nNeuhofstrasse 36\n5600 Lenzburg\n
DESCRIPTION:Kursinhalt Tag 1\n\n- Einführung Planungsgrundlagen\n- Einfüh
 rung Photovoltaik\n- Einführung in Elektromobilität und Batteriespeicher
 \n- Einführung Wärmepumpen und thermische Speicher inkl. Umsetzung\n- De
 monstration Planungsablauf anhand eines Excel-Tools für das Energiesystem
  Gebäude und Mobilität\n\nKursinhalt Tag 2\n\n- Planung und Projektablau
 f inkl. Inbetriebnahme / Funktionskontrolle / Betriebsoptimierung / Instru
 ktion / Übergabe an Kundschaft\n- Praxisbeispiele\n- Qualitätssicherung 
 nach Umsetzung Wärmepumpen-Systemmodul\n- Übersicht Energiemanagementsys
 teme\n- Gebäude und Bewohner:innen / Benutzer:innen-Verhalten\n- Umsetzun
 gsbeispiele mit einer Simulationssoftware\n- Verkauf Dienstleistung System
 integration\n\nZielgruppe\n\n- Fachleute aus Planung und Installation\n- F
 achleute aus den Bereichen Elektrotechnik\, Heizung und Solar\n\nVorausset
 zungen  \nErste Erfahrungen im Bereich Systemintegration sind von Vorteil.
 \n\nEMPFEHLUNG: Halbtageskurs bei der FHNW Brugg-Windisch als Ergänzung z
 um Kurs  \nSmartGridready Testlabor FHNW\n\nFür Planer und Installateure\
 , welche Ihre praktischen Kenntnisse bei der Einbindung moderner Energiema
 nagementsysteme (EMS) und verschiedener Produkte wie Wärmepumpen\, Emobil
 -Ladestationen\, Stromzähler\, usw. vertiefen wollen.  \n  \nWeitere Info
 rmationen finden Sie hier:  \n[Praxis-Kurs «Systemintegration von Energie
 -Gebäude-Mobilität» | FHNW](https://www.fhnw.ch/de/forschung-und-dienst
 leistungen/technik/labore-der-hochschule-fuer-technik-fhnw/smartgridready-
 testlabor-kurs-systemintegration)
DTSTART:20260609T063000Z
DTEND:20260610T150000Z
END:VEVENT
END:VCALENDAR
