BEGIN:VCALENDAR
VERSION:2.0
PRODID:-//Sabre//Sabre VObject 4.5.8//EN
CALSCALE:GREGORIAN
BEGIN:VEVENT
UID:sabre-vobject-1cc0beb0-60de-40e4-9b8d-a35c08dc9917
DTSTAMP:20260422T145903Z
SUMMARY:Fachtagung Steildach
LOCATION:Mövenpick Hotel\nIm Zentrum 2\n8105 Regensdorf
DESCRIPTION:##### Programm\n\n- Ein Blick nach Bern: Bürokratieabbau mit U
 nternehmerentlastung oder bei Baubewilligungsverfahren\n- Dauerhafte Betri
 ebssicherheit von PV-Anlagen\n- Arbeitssicherheit im Steildach: von A wie 
 Asbest bis Z wie Zugangstechnik\n- Mindestneigungen – Das unterschätzte
  Schadenpotenzial im Steildach\n- Hagelschutzwiderstand der verschiedenen 
 Deckmaterialien\n- Garantien und rechtliche Risiken rund um Photovoltaik\n
 - Servicekompetenz aus der Sicht eines Butlers\n- Erfahrungen statt Theori
 e: Meine Lehre zum Solarinstallateur EFZ\n- Wissenschaftliche Prüfungen v
 ersus Praxistauglichkeit auf der Baustelle\n- Brandschutz bei Photovoltaik
 anlagen\n- Fehlerquellen am Steildach: Wie Planungs- und Ausführungsfehle
 r zu Schäden führen\n- Kreislaufwirtschaft\n\nIn den Pausen haben Sie di
 e Gelegenheit\, unsere Fachausstellung zu besuchen und sich mit unseren Pa
 rtnern über neue und bewährte Produkte auszutauschen.
DTSTART:20260423T070000Z
DTEND:20260423T150000Z
END:VEVENT
END:VCALENDAR
