BEGIN:VCALENDAR
VERSION:2.0
PRODID:-//Sabre//Sabre VObject 4.5.8//EN
CALSCALE:GREGORIAN
BEGIN:VEVENT
UID:sabre-vobject-628f03f8-ae70-4b66-b024-c74da4b5c50d
DTSTAMP:20260423T084255Z
SUMMARY:Swissolar-Kurs: Wirtschaftlichkeit von PV-Anlagen
LOCATION:PHZH	\nLagerstrasse 2\n8090 Zürich 
DESCRIPTION:Der Präsenzkurs vertieft folgende Themen mit Referaten\, Disku
 ssionen und Fallstudien:\n\n- (Neue) Regulierungen (David Stickelberger) 
 –Wirtschaftlichkeit im Schweizer Kontext – Chancen und Herausforderung
 en\n- Aus der Praxis (Tobias Stahel) – Wie können die Chancen der neuen
  Regulierungen optimal genutzt werden? Welches sind die grössten Hebel f
 ür wirtschaftlich attraktive Projekte?\n- Wirtschaftlichkeit berechnen (L
 ena Hörnlein) – Vorstellung des Wirtschaftlichkeitsrechners von Swissol
 ar mit Fallstudien\n- Wie wird ein Projekt finanzierbar? (Peter Hammesfahr
 ) – Die Sicht einer führenden Bank im Bereich Solarfinanzierung\n\nDie 
 Grundlagen können optional in einem vorgängigen E-Learning (Umfang ca. 3
  Stunden) zum Thema [«Wirtschaftlichkeit von PV-Anlagen – Kennzahlen au
 s der Finanzwirtschaft und Schweizer Regulierung verstehen und richtig ein
 ordnen»](https://www.swissolar.ch/de/agenda/detail/e-learning-wirtschaftl
 ichkeit-von-pv-anlagen-kennzahlen-aus-der-finanzwirtschaft-und-schweizer-r
 egulierung-verstehen-und-richtig-einordnen-78930) erarbeitet werden. Der P
 räsenzkurs ist bei entsprechendem Vorwissen auch ohne Teilnahme am E-Lear
 ning buchbar.\n\n  \nZielgruppe:  \nDer Kurs richtet sich an Fachpersonen\
 , die bereits sicher mit Wirtschaftlichkeitsrechnungen arbeiten und solche
 \, die den Fokus auf ein kompaktes Update zu den neuesten regulatorischen 
 Entwicklungen und deren praktischer Anwendung legen möchten.\n\n- Planer:
 innen von PV-Anlagen\n- Projektleiter:innen im Bereich Solarenergie\n- Ins
 tallateur:innen mit Projektverantwortung\n- Ingenieur:innen mit Bezug zu P
 V-Projekten\n- Bauherrschaftenvertretungen und fachkundige Auftraggebende\
 n\nVoraussetzungen:  \nAuch Interessierte mit weniger Erfahrung können am
  Kurs teilnehmen. Ihnen wird als Einführung die Teilnahme am vorgängigen
  E-learning [E-Learning: «Wirtschaftlichkeit von PV-Anlagen – Kennzahle
 n aus der Finanzwirtschaft und Schweizer Regulierung verstehen und richtig
  einordnen»](https://www.swissolar.ch/de/agenda/detail/e-learning-wirtsch
 aftlichkeit-von-pv-anlagen-kennzahlen-aus-der-finanzwirtschaft-und-schweiz
 er-regulierung-verstehen-und-richtig-einordnen-78930) empfohlen.
DTSTART:20260624T063000Z
DTEND:20260624T100000Z
END:VEVENT
END:VCALENDAR
