BEGIN:VCALENDAR
VERSION:2.0
PRODID:-//Sabre//Sabre VObject 4.5.8//EN
CALSCALE:GREGORIAN
BEGIN:VEVENT
UID:sabre-vobject-f2d69029-38c8-4465-ae72-c0e1e38da051
DTSTAMP:20260423T084233Z
SUMMARY:Swissolar-Kurs: Planung von PV-Fassaden (Vertiefung)
LOCATION:Energiehaus\nLuzernerstrasse 131\n6014 Luzern
DESCRIPTION:Kursinhalt\n\n- Genehmigungspraxis / Baurecht\n- Ertragsprognos
 en im 3D Modell\n- Layout / Fassadeneinteilung\n- Moduldesign entwickeln /
  Gläser und farbige Beschichtungen\n- Unterkonstruktionen Primär / Monta
 geuntergründe\n- Unterkonstruktionen Sekundär / Möglichkeiten Modulbesf
 estigung\n- Elektrisches Design / DC-Verschaltung\n- Wechselrichterkonzept
 e / Optimizer\n- Kalkulation / Wirtschaftlichkeit\n- Betrieb und Betriebs
 überwachung\n\nZielgruppe\n\n- Architektinnen und Architekten\n- Fassaden
 planer und -planerinnen\n- Installateure und Planende\n- Bauherren oder de
 ren Vertreterinnen\n\nVorsaussetzungen\n\nDer Kurs baut auf dem Swissolar-
 Kurs "Grundwissen PV-Fassaden" auf.  \nWährend der Kurs "Grundwissen PV-F
 assaden" einen Überblick über die wichtigsten Grundlagen wie Anwendungsb
 ereiche\, technische Grenzen und Modulaufbau gibt\, richtet sich der Aufba
 ukurs speziell an Teilnehmende\, die bereits über Grundkenntnisse verfüg
 en und nun praxisorientiertes\, weiterführendes Fachwissen erwerben möch
 ten.\n\nVergünstigung  \nFalls Sie die beiden Halbtageskurse "Grundlagen 
 von PV-Fassaden" (Vormittag) und "Planung PV-Fassaden" (Nachmittag) am gle
 ichen Datum buchen\, profitieren Sie von einem reduzierten Kurspreis und S
 ie werden zum Mittagessen eingeladen.\n\n- CHF 510 für Swissolar-Mitglied
 er (anstelle von CHF 740 bei separater Buchung der beiden Kurse "Grundwiss
 en PV-Fassaden" und "Planung PV-Fassaden")\n- CHF 680 für Nichtmitglieder
  (anstelle von CHF 980 bei separater Buchung der beiden Kurse "Grundwissen
  PV-Fassaden" und "Planung PV-Fassaden")
DTSTART:20260618T113000Z
DTEND:20260618T150000Z
END:VEVENT
END:VCALENDAR
