BEGIN:VCALENDAR
VERSION:2.0
PRODID:-//Sabre//Sabre VObject 4.5.8//EN
CALSCALE:GREGORIAN
BEGIN:VEVENT
UID:sabre-vobject-44a6b8ce-4ffb-4b86-a4b6-1bf2f36b6cd9
DTSTAMP:20260423T084147Z
SUMMARY:Swissolar-Kurs: Gewerbespeicher
LOCATION:MBRSolar\nFrauenfelderstrasse 12\n9545 Wängi TG\n
DESCRIPTION:Kursinhalt\n\n- Projektplanung\n- Projektumsetzung\n- Betreuung
  während der Lebensdauer\n- "End of life" / "second life"  \n   Mit der B
 esichtigung eines Batterieraumes.\n\nZielgruppe\n\nPV-Planer und PV-Instal
 lateure  \nDer Kurs ist aber auch interessant für: Contractor\, Mitgliede
 r von Electrosuisse\, VKF\, Mitarbeitende der Gebäudeversicherung\, Brand
 schutzfachleute und Brandschutzexperten.
DTSTART:20260601T063000Z
DTEND:20260601T150000Z
END:VEVENT
END:VCALENDAR
