BEGIN:VCALENDAR
VERSION:2.0
PRODID:-//Sabre//Sabre VObject 4.5.8//EN
CALSCALE:GREGORIAN
BEGIN:VEVENT
UID:sabre-vobject-4da1cfe1-f6b9-4f60-89e2-24839cc241a7
DTSTAMP:20260421T124508Z
SUMMARY:Swissolar-Kurs: Gewerbespeicher
LOCATION:Electrosuisse\nLuppmenstrasse 1\n8320 Fehraltorf ZH\n
DESCRIPTION:Kursinhalt\n\n- Projektplanung\n- Projektumsetzung\n- Betreuung
  während der Lebensdauer\n- "End of life" / "second life"\n\nZielgruppe\n
 \nPV-Planer und PV-Installateure  \nDer Kurs ist aber auch interessant fü
 r: Contractor\, Mitglieder von Electrosuisse\, VKF\, Mitarbeitende der Geb
 äudeversicherung\, Brandschutzfachleute und Brandschutzexperten.
DTSTART:20260925T063000Z
DTEND:20260925T150000Z
END:VEVENT
END:VCALENDAR
