BEGIN:VCALENDAR
VERSION:2.0
PRODID:-//Sabre//Sabre VObject 4.5.8//EN
CALSCALE:GREGORIAN
BEGIN:VEVENT
UID:sabre-vobject-9e8228d8-a257-4d1c-b687-d44046c422c7
DTSTAMP:20260423T084327Z
SUMMARY:Swissolar-Kurs: Unabhängige Kontrolle von PV-Anlagen (VSEK)
LOCATION:Seminarzentrum Schweiz GmbH\nRiggenbachstrasse 8\n4600 Olten
DESCRIPTION:Kursinhalt\n\n- Neues Mess- und Prüfprotokoll\n- NIV ab 1. Jul
 i 2021\n- Relevante Normen und Vorschriften\n- Stand der Technik bei PV-An
 lagen\n- Ablauf einer typischen Kontrolle\n- Beispiele ungenügender Anlag
 en\n- Spezialfälle: \n  - Anlagen mit Batteriespeichern\n  - Insel- und N
 etzbetrieb\n  - Modulelektronik\n  - Periodische Kontrolle von älteren An
 lagen\n  - HKN-Audit für Anlagen bis 100 kW\, neu ab 1. Januar 2022\n\nZi
 elgruppe\n\n- Elektrokontrolleur:innen\n- Elektro-Sicherheitsberater:innen
 \n- Weitere in die Kontrolle von PV-Anlagen involvierte Personen\n\nVoraus
 setzungen\n\nGrundkenntnisse zu PV-Anlagen und technisches Interesse
DTSTART:20261027T073000Z
DTEND:20261027T110000Z
END:VEVENT
END:VCALENDAR
