BEGIN:VCALENDAR
VERSION:2.0
PRODID:-//Sabre//Sabre VObject 4.5.8//EN
CALSCALE:GREGORIAN
BEGIN:VEVENT
UID:sabre-vobject-66557e42-9119-43d7-a652-baeca06952a5
DTSTAMP:20260423T084414Z
SUMMARY:Swissolar-Kurs: Blitz- und Überspannungsschutz
LOCATION:online
DESCRIPTION:Kursinhalt\n\n- Wann ist Blitzschutz bei PV-Anlagen notwendig?\
 n- Übersicht zu den aktuellen Normen und Vorschriften\n- Fachgerechte Pla
 nung und Ausführung von Blitz- und Überspannungsschutz bei PV-Anlagen\n-
  Beispiele und Fragen aus der Praxis\n\nZielgruppe\n\n- Solarprofis\n- Ele
 ktrinstallateur:innen\n- Elektroprojektleiter:innen und -planer:innen\n- A
 bsolvent:innen der Kurse Solarstrom Basis\n- Fachplaner:innen PV\n\nDer Ku
 rs «Blitz- und Überspannungsschutz» kann als Teil des [Fachplaner:in PV
  Swissolar](https://www.swissolar.ch/de/bildung/swissolar-kurse/fachplaner
 -in-pv-kurs) absolviert werden.\n\nVoraussetzungen\n\nGrundkenntnisse zu P
 V-Anlagen und technisches Interesse
DTSTART:20260519T063000Z
DTEND:20260519T100000Z
END:VEVENT
END:VCALENDAR
