BEGIN:VCALENDAR
VERSION:2.0
PRODID:-//Sabre//Sabre VObject 4.5.8//EN
CALSCALE:GREGORIAN
BEGIN:VEVENT
UID:sabre-vobject-76507578-5930-468f-a8d8-31d49a214884
DTSTAMP:20260423T084255Z
SUMMARY:Swissolar-Kurs: Systemintegration von Energie-Gebäude-Mobilität
LOCATION:HSLU\nTechnikumstrasse 21\n6048 Horw\n
DESCRIPTION:Kursinhalt Tag 1\n\n- Einführung Planungsgrundlagen\n- Einfüh
 rung Photovoltaik\n- Einführung in Elektromobilität und Batteriespeicher
 \n- Einführung Wärmepumpen und thermische Speicher inkl. Umsetzung\n- De
 monstration Planungsablauf anhand eines Excel-Tools für das Energiesystem
  Gebäude und Mobilität\n\nKursinhalt Tag 2\n\n- Planung und Projektablau
 f inkl. Inbetriebnahme / Funktionskontrolle / Betriebsoptimierung / Instru
 ktion / Übergabe an Kundschaft\n- Praxisbeispiele\n- Qualitätssicherung 
 nach Umsetzung Wärmepumpen-Systemmodul\n- Übersicht Energiemanagementsys
 teme\n- Gebäude und Bewohner:innen / Benutzer:innen-Verhalten\n- Umsetzun
 gsbeispiele mit einer Simulationssoftware\n- Verkauf Dienstleistung System
 integration\n\nZielgruppe\n\n- Fachleute aus Planung und Installation\n- F
 achleute aus den Bereichen Elektrotechnik\, Heizung und Solar\n\nVorausset
 zungen  \nErste Erfahrungen im Bereich Systemintegration sind von Vorteil.
 \n\nEMPFEHLUNG: Halbtageskurs bei der FHNW Brugg-Windisch als Ergänzung z
 um Kurs  \nSmartGridready Testlabor FHNW\n\nFür Planer und Installateure\
 , welche Ihre praktischen Kenntnisse bei der Einbindung moderner Energiema
 nagementsysteme (EMS) und verschiedener Produkte wie Wärmepumpen\, Emobil
 -Ladestationen\, Stromzähler\, usw. vertiefen wollen.  \n  \nWeitere Info
 rmationen finden Sie hier:  \n[Praxis-Kurs «Systemintegration von Energie
 -Gebäude-Mobilität» | FHNW](https://www.fhnw.ch/de/forschung-und-dienst
 leistungen/technik/labore-der-hochschule-fuer-technik-fhnw/smartgridready-
 testlabor-kurs-systemintegration)
DTSTART:20261110T073000Z
DTEND:20261111T160000Z
END:VEVENT
END:VCALENDAR
