BEGIN:VCALENDAR
VERSION:2.0
PRODID:-//Sabre//Sabre VObject 4.5.8//EN
CALSCALE:GREGORIAN
BEGIN:VEVENT
UID:sabre-vobject-72534b10-a80f-4a87-b147-1dad903bd5d3
DTSTAMP:20260423T084318Z
SUMMARY:Swissolar-Kurs: Wärmepumpen und PV-Anlagen
LOCATION:Tagungszentrum Plantahof\nKantonsstrasse 17\n7302 Landquart
DESCRIPTION:Kursinhalt\n\n- Bedeutung von Wärmepumpen\n- Aufbau und Funkti
 on\n- Wärmequellen und Wärmesenken\n- Bauformen\, Betriebsweisen\, Kennz
 ahlen\n- Betriebscharakteristik und Einsatzgrenzen\n- Eigenverbrauchsoptim
 ierung von PV-Strom\n\nZielgruppe\n\n- Solarprofis\n- Elektroinstallateur:
 innen\n- Heizungsinstallateur:innen\n\nVoraussetzungen\n\nInteresse am Ein
 satz von Wärmepumpen in Kombination mit PV-Anlagen sowie technisches Grun
 dverständnis
DTSTART:20260507T110000Z
DTEND:20260507T150000Z
END:VEVENT
END:VCALENDAR
