BEGIN:VCALENDAR
VERSION:2.0
PRODID:-//Sabre//Sabre VObject 4.5.8//EN
CALSCALE:GREGORIAN
BEGIN:VEVENT
UID:sabre-vobject-a9e7d804-35f4-4cf6-9af4-6a7ac592dd8e
DTSTAMP:20260419T133848Z
SUMMARY:Swissolar-Kurs: Wärmepumpen und PV-Anlagen
LOCATION:Seminarzentrum Schweiz GmbH\nRiggenbachstrasse 8\n4601 Olten
DESCRIPTION:Kursinhalt\n\n- Bedeutung von Wärmepumpen\n- Aufbau und Funkti
 on\n- Wärmequellen und Wärmesenken\n- Bauformen\, Betriebsweisen\, Kennz
 ahlen\n- Betriebscharakteristik und Einsatzgrenzen\n- Eigenverbrauchsoptim
 ierung von PV-Strom\n\nZielgruppe\n\n- Solarprofis\n- Elektroinstallateur:
 innen\n- Heizungsinstallateur:innen\n\nVoraussetzungen\n\nInteresse am Ein
 satz von Wärmepumpen in Kombination mit PV-Anlagen sowie technisches Grun
 dverständnis
DTSTART:20261124T070000Z
DTEND:20261124T110000Z
END:VEVENT
END:VCALENDAR
