BEGIN:VCALENDAR
VERSION:2.0
PRODID:-//Sabre//Sabre VObject 4.5.8//EN
CALSCALE:GREGORIAN
BEGIN:VEVENT
UID:sabre-vobject-23df2107-67ff-4d6b-a7cb-85833e1ab160
DTSTAMP:20260425T134851Z
SUMMARY:Swissolar-Kurs: Praxis und Messmethodik
LOCATION:EBZ\nGrendelbachstrasse 35\n8307 Illnau-Effretikon
DESCRIPTION:Kursinhalt\n\n- Mess- und Prüfprotokoll für PV-Anlagen\n- Str
 om- und Spannungsberechnungen\n- Dokumentation gemäss EN 62446\n- Sicherh
 eit und Schutzausrüstung\n- Praxisübungen Messung Flachdachanlage\, Fass
 ade und Batteriespeicher\n- Messungen mit Kennlinienmessgerät und Infraro
 tkamera\n\nZielgruppe\n\n- Elektroinstallateur:innen\n- Elektro-Projektlei
 ter:innen\n- Elektro-Sicherheitsberater:innen\n- Elektro-Chefmonteure und 
 -Monteurinnen\n- Fachpersonen mit NIV-14-Bewilligung\n- Personen mit entsp
 rechenden fachlichen Kompetenzen aus Ausbildung oder Beruf\n\nVoraussetzun
 gen\n\nGrundkenntnisse zu PV-Anlagen und technisches Interesse
DTSTART:20260512T063000Z
DTEND:20260512T150000Z
END:VEVENT
END:VCALENDAR
