BEGIN:VCALENDAR
VERSION:2.0
PRODID:-//Sabre//Sabre VObject 4.5.8//EN
CALSCALE:GREGORIAN
BEGIN:VEVENT
UID:sabre-vobject-9476759c-91e3-401d-a9f7-56dc0acb5292
DTSTAMP:20260423T084147Z
SUMMARY:Swissolar-Kurs: Brandschutz und PV-Anlagen
LOCATION:online
DESCRIPTION:Kursinhalt\n\n- Grundkenntnisse Brandschutz\n- Grundlagen und d
 ie aktuell geltenden Normen und Richtlinien im Brandschutz\n- Planung von 
 PV-Dachanlagen unter Berücksichtigung der Brandschutzvorschriften\n- Plan
 ung von PV-Fassaden unter Berücksichtigung der Brandschutzvorschriften\n-
  Blitz- und Überspannungsschutz (Lichtbogendetektion\, neue NIN\, etc.)\n
 - Qualitätssicherung im Brandschutz\n- Kenntnisse über Bewilligungsproze
 ss und die involvierten Amtsstellen\n\nZielgruppe\n\n- Fachkräfte Photovo
 ltaikplanung\n- Fachkräfte PV-Fassadenplanung\n- Fachkräfte aus dem Bere
 ich Architektur und Brandschutz\n- Fachplaner:innen PV\n\nDer Kurs «Brand
 schutz» kann als Teil des [Fachplaner:in PV Swissolar](https://www.swisso
 lar.ch/de/bildung/swissolar-kurse/fachplaner-in-pv-kurs) absolviert werden
 .\n\nVoraussetzungen\n\nGrundkenntnisse zu PV-Anlagen und technisches Inte
 resse
DTSTART:20260625T113000Z
DTEND:20260625T150000Z
END:VEVENT
END:VCALENDAR
