BEGIN:VCALENDAR
VERSION:2.0
PRODID:-//Sabre//Sabre VObject 4.5.8//EN
CALSCALE:GREGORIAN
BEGIN:VEVENT
UID:sabre-vobject-3d77388f-2a83-412d-95fb-59d2b503535d
DTSTAMP:20260423T084054Z
SUMMARY:Swissolar-Kurs: E-Mobilität mit PV-Anlagen
LOCATION:Seminarzentrum Schweiz GmbH\nSälihof\nRiggenbachstrasse 8\n4601 O
 lten
DESCRIPTION:Kursinhalt\n\n- Übersicht Elektrofahrzeuge\n- Übersicht Ladei
 nfrastruktur\n- Last- und Lademanagement\n- Sicherheit und Brandschutz\n- 
 Mythen der Elektromobilität\n- Solaroptimiertes Laden\n\nZielgruppe\n\n- 
 Solarprofis\n- Solarinstallateur:innen\n- Elektroinstallateur:innen\n\nVor
 aussetzungen\n\nGrundkenntnisse zu PV-Anlagen und Interesse an der Elektro
 mobilität
DTSTART:20260511T063000Z
DTEND:20260511T100000Z
END:VEVENT
END:VCALENDAR
