BEGIN:VCALENDAR
VERSION:2.0
PRODID:-//Sabre//Sabre VObject 4.5.8//EN
CALSCALE:GREGORIAN
BEGIN:VEVENT
UID:sabre-vobject-b985ab98-c676-4631-a216-141d341c2ce0
DTSTAMP:20260423T084054Z
SUMMARY:Swissolar-Kurs: Backup-Systeme für PV-Anlagen
LOCATION:Energiehaus\nLuzernerstrasse 131\n6014 Luzern
DESCRIPTION:Kursinhalt\n\n- Unterschied Speicher für Eigenverbrauch\, Back
 up\, unterbrechungsfreie Stromversorgung (USV)\n- Übersicht Technologien 
 und Topologien\n- Planung\, Auslegung und Dimensionierung\n- Kosten und Wi
 rtschaftlichkeit\n- Produkt- und Systembeispiele\n- Normen und Regeln für
  Backup-Systeme\n\nZielgruppe\n\n- Solarprofis\n- Installateur:innen und P
 laner:innen\n\nVoraussetzungen\n\nGrundkenntnisse zu PV-Anlagen und Batter
 iespeichersystemen\, z. B. durch den Besuch des Kurses «Batteriespeicher 
 für PV-Anlagen»
DTSTART:20260611T113000Z
DTEND:20260611T150000Z
END:VEVENT
END:VCALENDAR
