BEGIN:VCALENDAR
VERSION:2.0
PRODID:-//Sabre//Sabre VObject 4.5.8//EN
CALSCALE:GREGORIAN
BEGIN:VEVENT
UID:sabre-vobject-f5dc4f3f-163a-4308-a46e-161fc5172266
DTSTAMP:20260423T084125Z
SUMMARY:Swissolar-Kurs: Planung von Absturzsicherungen
LOCATION:vatter Business Center\nBärenplatz 2\n3011 Bern
DESCRIPTION:Kursinhalt\n\n- Suva-Vorschriften zum Schutz gegen Absturz\n- S
 chutz vor Absturz auf Schräg- und Flachdächern\n- Kritische Punkte bei P
 V-Anlagen / speziellen Dachsituationen\n- Verfügbare Systeme im Vergleich
 \n- Übungen mit typischen Planungsaufgaben\n\nZielgruppe\n\n- Solarprofis
 \n- Fachleute aus dem Bereich Gebäudehülle\n- Anbieter:innen von Schutze
 inrichtungen gegen Absturz\n- Liegenschaftenverantwortliche\n\nVoraussetzu
 ngen\n\nErfahrungen mit Solaranlagen oder abgeschlossene Berufsausbildung.
  Vorheriger Besuch des Swissolar Basiskurses Solarstrom oder vergleichbare
 r Aus- und Weiterbildung. Kenntnisse zu den Suva-Dokumenten zum Thema und 
 zu den allgemeinen Sicherheitsvorschriften am Bau.
DTSTART:20260527T063000Z
DTEND:20260527T150000Z
END:VEVENT
END:VCALENDAR
