BEGIN:VCALENDAR
VERSION:2.0
PRODID:-//Sabre//Sabre VObject 4.5.8//EN
CALSCALE:GREGORIAN
BEGIN:VEVENT
UID:sabre-vobject-8ffab84f-8f36-4083-a442-533fbbfcc734
DTSTAMP:20260421T130009Z
SUMMARY:Swissolar-Kurs: Grundwissen PV-Fassaden
LOCATION:TecLab Burgdorf\nc/o Berner Fachhochschule\nJlcoweg 1\n3400 Burgdo
 rf
DESCRIPTION:Kursinhalt\n\n- Übersicht Photovoltaik-Module für Fassaden\n-
  Modulgestaltung: Farben\, Gläser\, Folien usw.\n- Planungsablauf von PV-
 Fassaden\, Schnittstellen\n- PV-Module als Balkon- oder Terrassenbrüstung
 \n- Förderbeiträge\n- Ertragsberechnung und Wirtschaftlichkeit\n- Normen
  und Vorschriften\n- Ertragsverhalten: Verschattung\, Ausrichtung\, Saison
 alität\n\nZielgruppe\n\n- Solarprofis\n- Architektinnen und Architekten\n
 - Fassadenplaner und -planerinnen\n- Installateure und Planende\n- Bauherr
 en oder deren Vertreterinnen\n- Voraussetzungen\n- Grundkenntnisse zu PV-A
 nlagen und technisches Interesse
DTSTART:20260818T063000Z
DTEND:20260818T100000Z
END:VEVENT
END:VCALENDAR
