{"text_format":"1","workbook":"xlsx","n_sheets":21,"sheets":["Istruzioni","Distinta articoli","000 Condizioni","E_Box000","100 Moduli FV","E_Box100","200 Sist. mont. FV","E_Box200","300 Disp. di allacciamento","E_Box300","400 Installazione DC","E_Box400","500 Installazione AC","E_Box500","600 Prep. e progettazione","E_Box600","700 Opere edili","E_Box700","800 Servizi","E_Box800","Indice generale"],"not_rendered":{"charts":0,"images":14,"macros":1,"external_links":0,"defined_names":77,"comments":0,"pivot_tables":0},"unopened":[],"bounds":{"document_bytes":16777216,"sheet_cells":100000,"rows_first":2000,"rows_last":500,"rows_between":2000,"halvings":0,"cell_chars":16384,"cell_head_chars":4096},"cells_cut":0,"cells_raw":0,"read":"whole","date_system":"1900"}

{"sheet":"Istruzioni","index":0,"n_rows":78,"n_cols":1,"rows_kept":78,"cut":false,"hidden":false,"merged":[]}
[]
[]
[]
["oppure a info@swissolar.ch"]
[]
[]
[]
["Impressum"]
["Il generatore d'offerta SOQ per impianti fotovoltaici è stato sviluppato da un gruppo di lavoro di Swissolar e sostenuto da SvizzeraEnergia. I diritti sono interamente di proprietà di Swissolar. Si declina qualsiasi responsabilità."]
[]
["Breve istruzione all'utilizzo del generatore d'offerta SOQ"]
["Versione 1.3"]
["Giugno 2021"]
[]
["Questa è una breve introduzione all'utilizzo del generatore d'offerta SOQ. Ulteriori dettagli e spiegazioni più approfondite si trovano all'interno della guida."]
[]
["Requisiti di sistema"]
[]
["Il generatore d'offerta SOQ è stato sviluppato per MS Office (dalla versione 2013) e per il sistema operativo Windows."]
[]
["Struttura gruppi principali"]
[]
["I gruppi principali della struttura sono organizzati come fogli di calcolo individuali."]
[]
[]
[]
[]
[]
["Codice dei colori nei fogli di calcolo dei gruppi principali"]
[]
["Nei singoli fogli di calcolo viene impiegato il seguente codice dei colori:\n- verde: livello di struttura obbligatorio, fino al quale gli elementi devono essere definiti\n- marrone: livello di struttura opzionale, che può essere definito in aggiunta\n- grigio: campi di inserimento delle unità e campi di selezione della posizione (tutti gli altri campi sono bloccati)"]
[]
[]
[]
[]
[]
["I livelli di struttura obbligatori e opzionali sono definiti in modo diverso per ogni livello di struttura principale. I livelli di struttura non utilizzati sono nascosti. La profondità massima dei livelli di struttura è 6."]
[]
["Scelta delle singole posizioni e delle unità"]
[]
["Livello di struttura principale \"000 Condizioni\""]
["Il primo livello di struttura principale si differenzia dagli altri livelli di struttura principali in quanto non riguarda le posizioni specifiche della distinta degli articoli, ma le condizioni dell'offerta che sono utilizzate dal progettista per definire l'impianto. Di conseguenza, solo le posizioni desiderate devono essere selezionate qui, indicando una \"x\" nel campo \"aggiungi posizione\". Le posizioni al livello di struttura 2 vengono automaticamente selezionate come titoli quando viene attivata una posizione al livello 3 o successivo."]
[]
[]
[]
[]
[]
[]
[]
[]
[]
[]
[]
["Livelli di struttura principali \"100 Moduli FV\" fino a \"800 Servizi\""]
["I livelli di struttura principali da 100 a 800 sono gruppi di posizioni SOQ che devono essere definiti o che possono essere specificati in modo più dettagliato a seconda delle esigenze.\nLe posizioni SOQ desiderate possono essere selezionate indicano una \"x\" nel campo \"aggiungi posizione\". Per le posizioni multiple (p. es. due moduli diversi della stessa categoria), al posto della \"x\" può essere indicata una cifra.\nLe posizioni al livello di struttura 2 vengono automaticamente selezionate come titoli quando viene attivata una posizione al livello 3 o successivo. In alcuni livelli di struttura principali, anche le posizioni SOQ del livello di struttura 2 possono essere selezionati con una \"x\" come posizione generica. Poiché si tratta di una voce forfettaria, la selezione multipla con una cifra non è possibile (le cifre vengono ignorate). Una posizione SOQ forfettaria al livello di struttura 2 può anche essere completata con posizioni al livello di struttura 3 o successivo. "]
["Le unità possono essere definite per ogni posizione. Sono a disposizione le unità obbligatorie per ogni posizione SOQ. Per le posizioni al livello di struttura 2 che vengono utilizzate come voci forfettarie, bisogna scegliere l'unità forfait. A seconda della posizione, sono disponibile le seguenti unità:\n\npz. - pezzo\nmoduli \nml - metro lineare\nm2 - metro quadrato\nm3 - metro cubo\nh - ore\nmesi\nanni\nkWp - chilowatt di potenza a condizioni di test standard STC\nforfait - importo forfettario"]
[]
[" "]
[]
[]
[]
[]
[]
[]
[]
["Caselle delle caratteristiche"]
[]
["Ulteriori caratteristiche delle posizioni selezionate possono essere indicate nelle caselle E-Box. Per mezzo di un elenco a discesa sono disponibili una serie di caratteristiche predefinite. Dalla lista è possibile selezionare consecutivamente più posizioni, che vengono poi inserite nella casella. Per le posizioni multiple, l'E-Box può essere definita una sola volta; le modifiche delle singole posizioni devono essere fatte manualmente.\nLe posizioni nella casella possono essere modificate o cancellate manualmente.\nLa casella può anche essere copiata in un'altra casella."]
[]
[]
[]
[]
[]
[]
[]
["Allestimento della distinta degli articoli"]
[]
["Una volta effettuate le scelte nei livelli di struttura principali, può essere allestita la distinta degli articoli. Per farlo bisogna cliccare sul tasto \"Generare distinta degli articoli\" nel foglio di lavoro Distinta articoli. Questo sovrascrive la distinta degli articoli esistente. A questo punto, la distinta degli articoli può essere copiata in un documento Excel vuoto per eventuali ulteriori elaborazioni."]

{"sheet":"Distinta articoli","index":1,"n_rows":5,"n_cols":11,"rows_kept":5,"cut":false,"hidden":false,"merged":[]}
[1]
[1,null,"Distinta degli articoli"]
[1,null,"Secondo la struttura d'offerta SOQ versione 1.3"]
[1]
[1,null,"Posizione SOQ",null,null,null,"Descrizione","Unità","Quantità","Prezzo unitario","Importo"]

{"sheet":"000 Condizioni","index":2,"n_rows":226,"n_cols":22,"rows_kept":226,"cut":false,"hidden":false,"merged":[[1,8,1,9],[3,16,3,17],[2,12,2,17],[3,8,3,9],[3,10,3,11],[3,12,3,13],[2,8,2,11],[3,14,3,15]]}
[null,null,null,null,null,null,null,null,null,null,null,null,null,null,null,null,null,null,null,null,null,"NASCONDERE"]
[null,null,null,null,null,null,"Nascondere",null,"Livello di struttura 1:",null,0,"Condizioni"]
[null,null,null,null,null,null,null,null,"Obbligatorio",null,null,null,"Opzionale"]
[null,"Show","SOQ-Nr.",null,null,null,"Descrizione","Unità","Livello di struttura 2",null,"Livello di struttura 3",null,"Livello di struttura 4",null,"Livello di struttura 5",null,"Livello di struttura 6",null,"Aggiungi posizione","E- Box",null,"E-Box"]
[]
[null,{"$f":"IF(SUM(B7:B11)>0,1,0)","v":1},{"$f":"I6","v":"010.000"},null,null,null,{"$f":"J6","v":"Condizioni generali"},null,"010.000","Condizioni generali"]
[null,{"$f":"IF(S7=\"x\",1,IF(ISNUMBER(S7),S7,0))","v":1},{"$f":"K7","v":"011.000"},null,null,null,{"$f":"L7 & IF(T7<>\"\",CHAR(10) & T7,\"\")","v":"Termini, abbreviazioni"},null,null,null,"011.000","Termini, abbreviazioni",null,null,null,null,null,null,"x",null,null,"E000_Termini_abbrevviazioni"]
[null,{"$f":"IF(S8=\"x\",1,IF(ISNUMBER(S8),S8,0))","v":1},{"$f":"K8","v":"012.000"},null,null,null,{"$f":"L8& IF(T8<>\"\",CHAR(10) & T8,\"\")","v":"Norme\nCaratteristiche: \nNorme SIA\nPrescrizione della protezione antincendio AICAA\nDocumenti sullo stato della tecnica\nDocumenti di settore AES\nDocumenti sullo stato della tecnica\nDocumenti di settore AES\nLEne: Legge sull'energia\nOIBT: Ordinanza sugli impianti a bassa tensione\nDocumenti di settore AES"},null,null,null,"012.000","Norme",null,null,null,null,null,null,"x","Caratteristiche: \nNorme SIA\nPrescrizione della protezione antincendio AICAA\nDocumenti sullo stato della tecnica\nDocumenti di settore AES\nDocumenti sullo stato della tecnica\nDocumenti di settore AES\nLEne: Legge sull'energia\nOIBT: Ordinanza sugli impianti a bassa tensione\nDocumenti di settore AES",null,"E000_Norme"]
[null,{"$f":"IF(S9=\"x\",1,IF(SUM(B10:B11)>0,1,0))","v":1},"013.000",null,null,null,{"$f":"L9& IF(T9<>\"\",CHAR(10) & T9,\"\")","v":"Permessi, condizioni"},null,null,null,"013.000","Permessi, condizioni"]
[null,{"$f":"IF(S10=\"x\",1,IF(ISNUMBER(S10),S10,0))","v":1},null,{"$f":"M10","v":"013.100"},null,null,{"$f":"N10& IF(T10<>\"\",CHAR(10) & T10,\"\")","v":"Permesso di costruzione"},null,null,null,null,null,"013.100","Permesso di costruzione",null,null,null,null,"x"]
[null,{"$f":"IF(S11=\"x\",1,IF(ISNUMBER(S11),S11,0))","v":0},null,{"$f":"M11","v":"013.200"},null,null,{"$f":"N11& IF(T11<>\"\",CHAR(10) & T11,\"\")","v":"Requisiti richiesti dall'autorità"},null,null,null,null,null,"013.200","Requisiti richiesti dall'autorità"]
[null,{"$f":"B6","v":1}]
[null,{"$f":"IF(SUM(B14:B22)>0,1,0)","v":1},{"$f":"I13","v":"020.000"},null,null,null,{"$f":"J13","v":"Organizzazione"},null,"020.000","Organizzazione"]
[null,{"$f":"IF(S14=\"x\",1,IF(ISNUMBER(S14),S14,0))","v":1},{"$f":"K14","v":"021.000"},null,null,null,{"$f":"L14& IF(T14<>\"\",CHAR(10) & T14,\"\")","v":"Committente"},null,null,null,"021.000","Committente",null,null,null,null,null,null,"x"]
[null,1,{"$f":"K15","v":"022.000"},null,null,null,"Architetto",null,null,null,"022.000","Architetto",null,null,null,null,null,null,"x"]
[null,1,"023.000",null,null,null,"Direzione lavori",null,null,null,"023.000","Direzione lavori",null,null,null,null,null,null,"x"]
[null,1,"024.000",null,null,null,"Progettista fotovoltaico",null,null,null,"024.000","Progettista fotovoltaico",null,null,null,null,null,null,"x"]
[null,{"$f":"IF(S18=\"x\",1,IF(SUM(B19:B21)>0,1,0))","v":1},"025.000",null,null,null,"Altri progettisti",null,null,null,"025.000","Altri progettisti"]
[null,1,null,{"$f":"M19","v":"025.100"},null,null,{"$f":"N19& IF(T19<>\"\",CHAR(10) & T19,\"\")","v":"Progettista elettrico"},null,null,null,null,null,"025.100","Progettista elettrico",null,null,null,null,"x"]
[null,0,null,{"$f":"M20","v":"025.200"},null,null,"Ingegnere civile/statica dell'edificio",null,null,null,null,null,"025.200","Ingegnere civile/statica dell'edificio"]
[null,0,null,{"$f":"M21","v":"025.300"},null,null,"Progettista RCVS",null,null,null,null,null,"025.300","Progettista RCVS"]
[null,0,{"$f":"K22","v":"026.000"},null,null,null,{"$f":"L22& IF(T22<>\"\",CHAR(10) & T22,\"\")","v":"Consulente"},null,null,null,"026.000","Consulente"]
[null,{"$f":"B13","v":1}]
[null,{"$f":"IF(SUM(B25:B105)>0,1,0)","v":1},{"$f":"I24","v":"030.000"},null,null,null,{"$f":"J24","v":"Criteri della gara d'appalto"},null,"030.000","Criteri della gara d'appalto"]
[null,{"$f":"IF(S25=\"x\",1,IF(SUM(B26:B29)>0,1,0))","v":1},{"$f":"K25","v":"031.000"},null,null,null,{"$f":"L25& IF(T25<>\"\",CHAR(10) & T25,\"\")","v":"Tipo di gara d'appalto"},null,null,null,"031.000","Tipo di gara d'appalto"]
[null,{"$f":"IF(S26=\"x\",1,IF(ISNUMBER(S26),S26,0))","v":0},null,{"$f":"M26","v":"031.100"},null,null,{"$f":"N26& IF(T26<>\"\",CHAR(10) & T26,\"\")","v":"Procedura libera"},null,null,null,null,null,"031.100","Procedura libera"]
[null,{"$f":"IF(S27=\"x\",1,IF(ISNUMBER(S27),S27,0))","v":0},null,{"$f":"M27","v":"031.200"},null,null,"Procedura selettiva (a due fasi, con pre-qualifica)",null,null,null,null,null,"031.200","Procedura selettiva (a due fasi, con pre-qualifica)"]
[null,{"$f":"IF(S28=\"x\",1,IF(ISNUMBER(S28),S28,0))","v":1},null,{"$f":"M28","v":"031.300"},null,null,"Procedura ad invito",null,null,null,null,null,"031.300","Procedura ad invito",null,null,null,null,"x"]
[null,{"$f":"IF(S29=\"x\",1,IF(ISNUMBER(S29),S29,0))","v":0},null,{"$f":"M29","v":"031.400"},null,null,"Incarico diretto",null,null,null,null,null,"031.400","Incarico diretto"]
[null,{"$f":"IF(S30=\"x\",1,IF(SUM(B31:B39)>0,1,0))","v":1},{"$f":"K30","v":"032.000"},null,null,null,{"$f":"L30& IF(T30<>\"\",CHAR(10) & T30,\"\")","v":"Offerta"},null,null,null,"032.000","Offerta"]
[null,{"$f":"IF(S31=\"x\",1,IF(SUM(B32:B34)>0,1,0))","v":1},null,{"$f":"M31","v":"032.100"},null,null,{"$f":"N31& IF(T31<>\"\",CHAR(10) & T31,\"\")","v":"Forma dell'offerta"},null,null,null,null,null,"032.100","Forma dell'offerta"]
[null,{"$f":"IF(S32=\"x\",1,IF(ISNUMBER(S32),S32,0))","v":0},null,null,{"$f":"O32","v":"032.110"},null,{"$f":"P32& IF(T32<>\"\",CHAR(10) & T32,\"\")","v":"Su misura"},null,null,null,null,null,null,null,"032.110","Su misura"]
[null,1,null,null,{"$f":"O33","v":"032.120"},null,{"$f":"P33& IF(T33<>\"\",CHAR(10) & T33,\"\")","v":"Tetto di spesa"},null,null,null,null,null,null,null,"032.120","Tetto di spesa",null,null,"x"]
[null,0,null,null,{"$f":"O34","v":"032.130"},null,"Importo forfettario",null,null,null,null,null,null,null,"032.130","Importo forfettario"]
[null,0,null,{"$f":"M35","v":"032.200"},null,null,{"$f":"N35& IF(T35<>\"\",CHAR(10) & T35,\"\")","v":"Offerte parziali"},null,null,null,null,null,"032.200","Offerte parziali"]
[null,1,null,{"$f":"M36","v":"032.300"},null,null,"Varianti",null,null,null,null,null,"032.300","Varianti",null,null,null,null,"x"]
[null,0,null,{"$f":"M37","v":"032.400"},null,null,"Subappaltatori",null,null,null,null,null,"032.400","Subappaltatori"]
[null,0,null,{"$f":"M38","v":"032.500"},null,null,"Consorzio, gruppo di lavoro",null,null,null,null,null,"032.500","Consorzio, gruppo di lavoro"]
[null,0,null,{"$f":"M39","v":"032.600"},null,null,"Validità dell'offerta",null,null,null,null,null,"032.600","Validità dell'offerta"]
[null,{"$f":"IF(S40=\"x\",1,IF(SUM(B41:B46)>0,1,0))","v":1},{"$f":"K40","v":"033.000"},null,null,null,{"$f":"L40& IF(T40<>\"\",CHAR(10) & T40,\"\")","v":"Criteri, riserve"},null,null,null,"033.000","Criteri, riserve"]
[null,{"$f":"IF(S41=\"x\",1,IF(SUM(B42:B46)>0,1,0))","v":1},null,{"$f":"M41","v":"033.100"},null,null,{"$f":"N41& IF(T41<>\"\",CHAR(10) & T41,\"\")","v":"Criteri di idoneità dell'azienda"},null,null,null,null,null,"033.100","Criteri di idoneità dell'azienda"]
[null,{"$f":"IF(S42=\"x\",1,IF(ISNUMBER(S42),S42,0))","v":1},null,null,{"$f":"O42","v":"033.110"},null,{"$f":"P42& IF(T42<>\"\",CHAR(10) & T42,\"\")","v":"Autorizzazione ESTI OIBT Art. 9 o Art. 14"},null,null,null,null,null,null,null,"033.110","Autorizzazione ESTI OIBT Art. 9 o Art. 14",null,null,"x"]
[null,{"$f":"IF(S43=\"x\",1,IF(ISNUMBER(S43),S43,0))","v":1},null,null,{"$f":"O43","v":"033.120"},null,"Iscrizione al registro dei Professionisti del solare",null,null,null,null,null,null,null,"033.120","Iscrizione al registro dei Professionisti del solare",null,null,"x"]
[null,{"$f":"IF(S44=\"x\",1,IF(ISNUMBER(S44),S44,0))","v":1},null,null,{"$f":"O44","v":"033.130"},null,"Conformità / dichiarazione CCL",null,null,null,null,null,null,null,"033.130","Conformità / dichiarazione CCL",null,null,"x"]
[null,{"$f":"IF(S45=\"x\",1,IF(ISNUMBER(S45),S45,0))","v":1},null,null,{"$f":"O45","v":"033.140"},null,"Referenze",null,null,null,null,null,null,null,"033.140","Referenze",null,null,"x"]
[null,{"$f":"IF(S46=\"x\",1,IF(ISNUMBER(S46),S46,0))","v":0},null,null,{"$f":"O46","v":"033.150"},null,"Altro",null,null,null,null,null,null,null,"033.150","Altro"]
[null,{"$f":"IF(S47=\"x\",1,IF(SUM(B48:B55)>0,1,0))","v":1},null,{"$f":"M47","v":"033.200"},null,null,{"$f":"N47& IF(T47<>\"\",CHAR(10) & T47,\"\")","v":"Criteri di aggiudicazione"},null,null,null,null,null,"033.200","Criteri di aggiudicazione"]
[null,{"$f":"IF(S48=\"x\",1,IF(ISNUMBER(S48),S48,0))","v":1},null,null,{"$f":"O48","v":"033.210"},null,{"$f":"P48& IF(T48<>\"\",CHAR(10) & T48,\"\")","v":"Prezzo / potenza FV"},null,null,null,null,null,null,null,"033.210","Prezzo / potenza FV",null,null,"x"]
[null,0,null,null,"033.220",null,"Potenza",null,null,null,null,null,null,null,"033.220","Potenza"]
[null,1,null,null,"033.230",null,"Qualità",null,null,null,null,null,null,null,"033.230","Qualità",null,null,"x"]
[null,1,null,null,"033.240",null,"Concetto dell'impianto",null,null,null,null,null,null,null,"033.240","Concetto dell'impianto",null,null,"x"]
[null,0,null,null,"033.250",null,"Manutenzione e servizi",null,null,null,null,null,null,null,"033.250","Manutenzione e servizi"]
[null,0,null,null,"033.260",null,"Referenze",null,null,null,null,null,null,null,"033.260","Referenze"]
[null,0,null,null,"033.270",null,"Azienda",null,null,null,null,null,null,null,"033.270","Azienda"]
[null,0,null,null,"033.280",null,"Altro",null,null,null,null,null,null,null,"033.280","Altro"]
[null,{"$f":"IF(S56=\"x\",1,IF(SUM(B57:B61)>0,1,0))","v":1},null,{"$f":"M56","v":"033.300"},null,null,{"$f":"N56& IF(T56<>\"\",CHAR(10) & T56,\"\")","v":"Criteri di esclusione"},null,null,null,null,null,"033.300","Criteri di esclusione"]
[null,{"$f":"IF(S57=\"x\",1,IF(ISNUMBER(S57),S57,0))","v":1},null,null,{"$f":"O57","v":"033.310"},null,{"$f":"P57& IF(T57<>\"\",CHAR(10) & T57,\"\")","v":"Lista delle prestazioni incompleta"},null,null,null,null,null,null,null,"033.310","Lista delle prestazioni incompleta",null,null,"x"]
[null,{"$f":"IF(S58=\"x\",1,IF(ISNUMBER(S58),S58,0))","v":1},null,null,{"$f":"O58","v":"033.320"},null,"Dati della ditta incompleti",null,null,null,null,null,null,null,"033.320","Dati della ditta incompleti",null,null,"x"]
[null,{"$f":"IF(S59=\"x\",1,IF(ISNUMBER(S59),S59,0))","v":1},null,null,{"$f":"O59","v":"033.330"},null,"Dati sulle referenze incompleti",null,null,null,null,null,null,null,"033.330","Dati sulle referenze incompleti",null,null,"x"]
[null,{"$f":"IF(S60=\"x\",1,IF(ISNUMBER(S60),S60,0))","v":0},null,null,{"$f":"O60","v":"033.340"},null,"Fattibilità e rispetto delle scadenze",null,null,null,null,null,null,null,"033.340","Fattibilità e rispetto delle scadenze"]
[null,{"$f":"IF(S61=\"x\",1,IF(ISNUMBER(S61),S61,0))","v":0},null,null,{"$f":"O61","v":"033.350"},null,"Altro",null,null,null,null,null,null,null,"033.350","Altro"]
[null,{"$f":"IF(S62=\"x\",1,IF(SUM(B63)>0,1,0))","v":1},null,{"$f":"M62","v":"033.400"},null,null,{"$f":"N62& IF(T62<>\"\",CHAR(10) & T62,\"\")","v":"Negoziazioni"},null,null,null,null,null,"033.400","Negoziazioni"]
[null,{"$f":"IF(S63=\"x\",1,IF(ISNUMBER(S63),S63,0))","v":1},null,null,{"$f":"O63","v":"033.410"},null,{"$f":"P63& IF(T63<>\"\",CHAR(10) & T63,\"\")","v":"Offerte"},null,null,null,null,null,null,null,"033.410","Offerte",null,null,"x"]
[null,{"$f":"IF(S64=\"x\",1,IF(SUM(B65:B70)>0,1,0))","v":1},{"$f":"K64","v":"034.000"},null,null,null,{"$f":"L64& IF(T64<>\"\",CHAR(10) & T64,\"\")","v":"Date della gara d'appalto, scadenze"},null,null,null,"034.000","Date della gara d'appalto, scadenze"]
[null,{"$f":"IF(S65=\"x\",1,IF(ISNUMBER(S65),S65,0))","v":0},null,{"$f":"M65","v":"034.100"},null,null,{"$f":"N65& IF(T65<>\"\",CHAR(10) & T65,\"\")","v":"Documentazione di riferimento"},null,null,null,null,null,"034.100","Documentazione di riferimento"]
[null,1,null,"034.200",null,null,"Sopralluogo",null,null,null,null,null,"034.200","Sopralluogo",null,null,null,null,"x"]
[null,1,null,"034.300",null,null,"Domande e risposte",null,null,null,null,null,"034.300","Domande e risposte",null,null,null,null,"x"]
[null,1,null,"034.400",null,null,"Inoltro dell'offerta",null,null,null,null,null,"034.400","Inoltro dell'offerta",null,null,null,null,"x"]
[null,0,null,"034.500",null,null,"Apertura delle offerte, confronto",null,null,null,null,null,"034.500","Apertura delle offerte, confronto"]
[null,0,null,"034.600",null,null,"Attribuzione del mandato",null,null,null,null,null,"034.600","Attribuzione del mandato"]
[null,{"$f":"IF(S71=\"x\",1,IF(SUM(B72:B81)>0,1,0))","v":1},{"$f":"K71","v":"035.000"},null,null,null,{"$f":"L71& IF(T71<>\"\",CHAR(10) & T71,\"\")","v":"Documentazione della gara d'appalto"},null,null,null,"035.000","Documentazione della gara d'appalto"]
[null,{"$f":"IF(S72=\"x\",1,IF(ISNUMBER(S72),S72,0))","v":1},null,{"$f":"M72","v":"035.100"},null,null,{"$f":"N72& IF(T72<>\"\",CHAR(10) & T72,\"\")","v":"Condizioni generali"},null,null,null,null,null,"035.100","Condizioni generali",null,null,null,null,"x"]
[null,{"$f":"IF(S73=\"x\",1,IF(SUM(B74:B79)>0,1,0))","v":1},null,{"$f":"M73","v":"035.200"},null,null,"Piani",null,null,null,null,null,"035.200","Piani"]
[null,1,null,null,{"$f":"O74","v":"035.210"},null,{"$f":"P74& IF(T74<>\"\",CHAR(10) & T74,\"\")","v":"Piano della situazione"},null,null,null,null,null,null,null,"035.210","Piano della situazione",null,null,"x"]
[null,0,null,null,"035.220",null,"Piano della situazione, con misure",null,null,null,null,null,null,null,"035.220","Piano della situazione, con misure"]
[null,1,null,null,"035.230",null,"Vista del tetto",null,null,null,null,null,null,null,"035.230","Vista del tetto",null,null,"x"]
[null,0,null,null,"035.240",null,"Vista del tetto, con misure",null,null,null,null,null,null,null,"035.240","Vista del tetto, con misure"]
[null,1,null,null,"035.250",null,"Vista dell'edificio",null,null,null,null,null,null,null,"035.250","Vista dell'edificio",null,null,"x"]
[null,0,null,null,"035.260",null,"Vista dell'edificio, con misure",null,null,null,null,null,null,null,"035.260","Vista dell'edificio, con misure"]
[null,1,null,{"$f":"M80","v":"035.300"},null,null,{"$f":"N80& IF(T80<>\"\",CHAR(10) & T80,\"\")","v":"Schema di principio"},null,null,null,null,null,"035.300","Schema di principio",null,null,null,null,"x"]
[null,1,null,{"$f":"M81","v":"035.400"},null,null,"Documentazione fotografica",null,null,null,null,null,"035.400","Documentazione fotografica",null,null,null,null,"x"]
[null,{"$f":"IF(S82=\"x\",1,IF(SUM(B83:B97)>0,1,0))","v":1},{"$f":"K82","v":"036.000"},null,null,null,{"$f":"L82& IF(T82<>\"\",CHAR(10) & T82,\"\")","v":"Documentazione di partenza"},null,null,null,"036.000","Documentazione di partenza"]
[null,{"$f":"IF(S83=\"x\",1,IF(SUM(B84:B86)>0,1,0))","v":1},null,{"$f":"M83","v":"036.100"},null,null,{"$f":"N83& IF(T83<>\"\",CHAR(10) & T83,\"\")","v":"Piani"},null,null,null,null,null,"036.100","Piani",null,null,null,null,"x"]
[null,{"$f":"IF(S84=\"x\",1,IF(ISNUMBER(S84),S84,0))","v":0},null,null,{"$f":"O84","v":"036.110"},null,{"$f":"P84& IF(T84<>\"\",CHAR(10) & T84,\"\")","v":"Layout dell'impianto"},null,null,null,null,null,null,null,"036.110","Layout dell'impianto"]
[null,0,null,null,{"$f":"O85","v":"036.120"},null,"Schema del campo di moduli",null,null,null,null,null,null,null,"036.120","Schema del campo di moduli"]
[null,0,null,null,{"$f":"O86","v":"036.130"},null,"Altro",null,null,null,null,null,null,null,"036.130","Altro"]
[null,{"$f":"IF(S87=\"x\",1,IF(SUM(B88:B90)>0,1,0))","v":1},null,{"$f":"M87","v":"036.200"},null,null,{"$f":"N87& IF(T87<>\"\",CHAR(10) & T87,\"\")","v":"Documentazione tecnica"},null,null,null,null,null,"036.200","Documentazione tecnica",null,null,null,null,"x"]
[null,0,null,null,{"$f":"O88","v":"036.210"},null,{"$f":"P88& IF(T88<>\"\",CHAR(10) & T88,\"\")","v":"Schema di principio"},null,null,null,null,null,null,null,"036.210","Schema di principio"]
[null,0,null,null,{"$f":"O89","v":"036.220"},null,"Schede tecniche componenti",null,null,null,null,null,null,null,"036.220","Schede tecniche componenti"]
[null,0,null,null,{"$f":"O90","v":"036.230"},null,"Altro",null,null,null,null,null,null,null,"036.230","Altro"]
[null,0,null,{"$f":"M91","v":"036.300"},null,null,{"$f":"N91& IF(T91<>\"\",CHAR(10) & T91,\"\")","v":"Concetto di sicurezza sul lavoro"},null,null,null,null,null,"036.300","Concetto di sicurezza sul lavoro"]
[null,{"$f":"IF(S92=\"x\",1,IF(SUM(B93:B96)>0,1,0))","v":1},null,{"$f":"M92","v":"036.400"},null,null,"Dati della ditta",null,null,null,null,null,"036.400","Dati della ditta",null,null,null,null,"x"]
[null,0,null,null,{"$f":"O93","v":"036.410"},null,{"$f":"P93& IF(T93<>\"\",CHAR(10) & T93,\"\")","v":"Informazioni sui criteri di idoneità"},null,null,null,null,null,null,null,"036.410","Informazioni sui criteri di idoneità"]
[null,0,null,null,{"$f":"O94","v":"036.420"},null,"Conferma del CCL",null,null,null,null,null,null,null,"036.420","Conferma del CCL"]
[null,0,null,null,{"$f":"O95","v":"036.430"},null,"Conferma assicurazione responsabilità civile",null,null,null,null,null,null,null,"036.430","Conferma assicurazione responsabilità civile"]
[null,0,null,null,{"$f":"O96","v":"036.440"},null,"Altro",null,null,null,null,null,null,null,"036.440","Altro"]
[null,1,null,{"$f":"M97","v":"036.500"},null,null,{"$f":"N97& IF(T97<>\"\",CHAR(10) & T97,\"\")","v":"Contratto di manutenzione"},null,null,null,null,null,"036.500","Contratto di manutenzione",null,null,null,null,"x"]
[null,{"$f":"IF(S98=\"x\",1,IF(SUM(B99:B102)>0,1,0))","v":1},{"$f":"K98","v":"037.000"},null,null,null,{"$f":"L98& IF(T98<>\"\",CHAR(10) & T98,\"\")","v":"Garanzia finanziaria"},null,null,null,"037.000","Garanzia finanziaria"]
[null,{"$f":"IF(S99=\"x\",1,IF(ISNUMBER(S99),S99,0))","v":1},null,{"$f":"M99","v":"037.100"},null,null,{"$f":"N99& IF(T99<>\"\",CHAR(10) & T99,\"\")","v":"Garanzia di buona esecuzione"},null,null,null,null,null,"037.100","Garanzia di buona esecuzione",null,null,null,null,"x"]
[null,{"$f":"IF(S100=\"x\",1,IF(ISNUMBER(S100),S100,0))","v":0},null,{"$f":"M100","v":"037.200"},null,null,"Garanzia di restituzione d'acconto",null,null,null,null,null,"037.200","Garanzia di restituzione d'acconto"]
[null,{"$f":"IF(S101=\"x\",1,IF(ISNUMBER(S101),S101,0))","v":0},null,{"$f":"M101","v":"037.300"},null,null,"Garanzia di buon funzionamento",null,null,null,null,null,"037.300","Garanzia di buon funzionamento"]
[null,{"$f":"IF(S102=\"x\",1,IF(ISNUMBER(S102),S102,0))","v":0},null,{"$f":"M102","v":"037.400"},null,null,"Garanzia di resa",null,null,null,null,null,"037.400","Garanzia di resa"]
[null,{"$f":"IF(S103=\"x\",1,IF(SUM(B104:B105)>0,1,0))","v":1},{"$f":"K103","v":"038.000"},null,null,null,{"$f":"L103& IF(T103<>\"\",CHAR(10) & T103,\"\")","v":"Riserve"},null,null,null,"038.000","Riserve"]
[null,{"$f":"IF(S104=\"x\",1,IF(ISNUMBER(S104),S104,0))","v":1},null,{"$f":"M104","v":"038.100"},null,null,{"$f":"N104& IF(T104<>\"\",CHAR(10) & T104,\"\")","v":"Finanziamenti"},null,null,null,null,null,"038.100","Finanziamenti",null,null,null,null,"x"]
[null,{"$f":"IF(S105=\"x\",1,IF(ISNUMBER(S105),S105,0))","v":0},null,{"$f":"M105","v":"038.200"},null,null,"Autorizzazioni",null,null,null,null,null,"038.200","Autorizzazioni"]
[null,{"$f":"B24","v":1}]
[null,{"$f":"IF(SUM(B108:B135)>0,1,0)","v":1},{"$f":"I107","v":"040.000"},null,null,null,{"$f":"J107","v":"Regole sulla retribuzione"},null,"040.000","Regole sulla retribuzione"]
[null,{"$f":"IF(S108=\"x\",1,IF(SUM(B109:B128)>0,1,0))","v":1},{"$f":"K108","v":"041.000"},null,null,null,{"$f":"L108& IF(T108<>\"\",CHAR(10) & T108,\"\")","v":"Prestazioni incluse / condizioni di base"},null,null,null,"041.000","Prestazioni incluse / condizioni di base"]
[null,{"$f":"IF(S109=\"x\",1,IF(SUM(B110:B112)>0,1,0))","v":1},null,{"$f":"M109","v":"041.100"},null,null,{"$f":"N109& IF(T109<>\"\",CHAR(10) & T109,\"\")","v":"Progettazione"},null,null,null,null,null,"041.100","Progettazione",null,null,null,null,"x"]
[null,{"$f":"IF(S110=\"x\",1,IF(ISNUMBER(S110),S110,0))","v":0},null,null,{"$f":"O110","v":"041.110"},null,{"$f":"P110& IF(T110<>\"\",CHAR(10) & T110,\"\")","v":"Verifica della portata dell'edificio"},null,null,null,null,null,null,null,"041.110","Verifica della portata dell'edificio"]
[null,0,null,null,{"$f":"O111","v":"041.120"},null,"Fornitura della documentazione necessaria ad altre ditte per il funzionamento dell'impianto fotovoltaico",null,null,null,null,null,null,null,"041.120","Fornitura della documentazione necessaria ad altre ditte per il funzionamento dell'impianto fotovoltaico"]
[null,0,null,null,{"$f":"O112","v":"041.130"},null,"Coordinamento di altre ditte per garantire il funzionamento dell'impianto fotovoltaico",null,null,null,null,null,null,null,"041.130","Coordinamento di altre ditte per garantire il funzionamento dell'impianto fotovoltaico"]
[null,{"$f":"IF(S113=\"x\",1,IF(SUM(B114:B116)>0,1,0))","v":1},null,{"$f":"M113","v":"041.200"},null,null,{"$f":"N113& IF(T113<>\"\",CHAR(10) & T113,\"\")","v":"Sistema di montaggio"},null,null,null,null,null,"041.200","Sistema di montaggio",null,null,null,null,"x"]
[null,0,null,null,{"$f":"O114","v":"041.210"},null,{"$f":"P114& IF(T114<>\"\",CHAR(10) & T114,\"\")","v":"Verifica dell'idoneità del sistema di montaggio fotovoltaico"},null,null,null,null,null,null,null,"041.210","Verifica dell'idoneità del sistema di montaggio fotovoltaico"]
[null,0,null,null,{"$f":"O115","v":"041.220"},null,"Il sistema di montaggio è calcolato sulla base del layout del modulo dato. Se il layout viene modificato, il calcolo delle prestazioni può cambiare. L'offerente deve presentare una ricalcolazione plausibile e comprensibile.",null,null,null,null,null,null,null,"041.220","Il sistema di montaggio è calcolato sulla base del layout del modulo dato. Se il layout viene modificato, il calcolo delle prestazioni può cambiare. L'offerente deve presentare una ricalcolazione plausibile e comprensibile."]
[null,0,null,null,{"$f":"O116","v":"041.230"},null,"Tolleranze di costruzione",null,null,null,null,null,null,null,"041.230","Tolleranze di costruzione"]
[null,{"$f":"IF(S117=\"x\",1,IF(SUM(B118:B120)>0,1,0))","v":1},null,{"$f":"M117","v":"041.300"},null,null,{"$f":"N117& IF(T117<>\"\",CHAR(10) & T117,\"\")","v":"Moduli FV"},null,null,null,null,null,"041.300","Moduli FV",null,null,null,null,"x"]
[null,0,null,null,{"$f":"O118","v":"041.310"},null,{"$f":"P118& IF(T118<>\"\",CHAR(10) & T118,\"\")","v":"Garanzie moduli FV: garanzia sul prodotto 10a, garanzia di produzione 80% 25a"},null,null,null,null,null,null,null,"041.310","Garanzie moduli FV: garanzia sul prodotto 10a, garanzia di produzione 80% 25a"]
[null,0,null,null,{"$f":"O119","v":"041.320"},null,"Verifica di idoneità del modulo FV con il sistema di montaggio",null,null,null,null,null,null,null,"041.320","Verifica di idoneità del modulo FV con il sistema di montaggio"]
[null,0,null,null,{"$f":"O120","v":"041.330"},null,"Connettori del modulo FV conformi alle normative",null,null,null,null,null,null,null,"041.330","Connettori del modulo FV conformi alle normative"]
[null,{"$f":"IF(S121=\"x\",1,IF(SUM(B122:B126)>0,1,0))","v":1},null,{"$f":"M121","v":"041.400"},null,null,{"$f":"N121& IF(T121<>\"\",CHAR(10) & T121,\"\")","v":"Costruzione"},null,null,null,null,null,"041.400","Costruzione",null,null,null,null,"x"]
[null,0,null,null,{"$f":"O122","v":"041.410"},null,{"$f":"P122& IF(T122<>\"\",CHAR(10) & T122,\"\")","v":"Sospensioni del lavoro a causa delle condizioni meteorologiche"},null,null,null,null,null,null,null,"041.410","Sospensioni del lavoro a causa delle condizioni meteorologiche"]
[null,0,null,null,{"$f":"O123","v":"041.420"},null,"Protezione contro la sporcizia dei componenti fino alla messa in funzione",null,null,null,null,null,null,null,"041.420","Protezione contro la sporcizia dei componenti fino alla messa in funzione"]
[null,0,null,null,{"$f":"O124","v":"041.430"},null,"Partecipazione alle riunioni di cantiere necessarie",null,null,null,null,null,null,null,"041.430","Partecipazione alle riunioni di cantiere necessarie"]
[null,0,null,null,{"$f":"O125","v":"041.440"},null,"Gli eventuali residui dei materiali offerti devono essere inclusi",null,null,null,null,null,null,null,"041.440","Gli eventuali residui dei materiali offerti devono essere inclusi"]
[null,0,null,null,{"$f":"O126","v":"041.450"},null,"Istruzione unica",null,null,null,null,null,null,null,"041.450","Istruzione unica"]
[null,{"$f":"IF(S127=\"x\",1,IF(SUM(B128)>0,1,0))","v":0},null,{"$f":"M127","v":"041.500"},null,null,{"$f":"N127& IF(T127<>\"\",CHAR(10) & T127,\"\")","v":"Altre prestazioni"},null,null,null,null,null,"041.500","Altre prestazioni"]
[null,0,null,null,{"$f":"O128","v":"041.510"},null,{"$f":"P128& IF(T128<>\"\",CHAR(10) & T128,\"\")","v":"Tasse sui prodotti (p. es. TRA)"},null,null,null,null,null,null,null,"041.510","Tasse sui prodotti (p. es. TRA)"]
[null,{"$f":"IF(S129=\"x\",1,IF(SUM(B130:B131)>0,1,0))","v":1},{"$f":"K129","v":"042.000"},null,null,null,{"$f":"L129& IF(T129<>\"\",CHAR(10) & T129,\"\")","v":"Valuta"},null,null,null,"042.000","Valuta"]
[null,{"$f":"IF(S130=\"x\",1,IF(ISNUMBER(S130),S130,0))","v":1},null,{"$f":"M130","v":"042.100"},null,null,{"$f":"N130& IF(T130<>\"\",CHAR(10) & T130,\"\")","v":"Valuta di riferimento"},null,null,null,null,null,"042.100","Valuta di riferimento",null,null,null,null,"x"]
[null,{"$f":"IF(S131=\"x\",1,IF(ISNUMBER(S131),S131,0))","v":0},null,{"$f":"M131","v":"042.200"},null,null,"Rischio di cambio",null,null,null,null,null,"042.200","Rischio di cambio"]
[null,{"$f":"IF(S132=\"x\",1,IF(SUM(B133:B135)>0,1,0))","v":1},{"$f":"K132","v":"043.000"},null,null,null,{"$f":"L132& IF(T132<>\"\",CHAR(10) & T132,\"\")","v":"Deduzioni sulla costruzione"},null,null,null,"043.000","Deduzioni sulla costruzione",null,null,null,null,null,null,"x"]
[null,{"$f":"IF(S133=\"x\",1,IF(ISNUMBER(S133),S133,0))","v":0},null,{"$f":"M133","v":"043.100"},null,null,{"$f":"N133& IF(T133<>\"\",CHAR(10) & T133,\"\")","v":"Deduzioni generali per spese dell'edificio (acqua, elettricità, pulizia)"},null,null,null,null,null,"043.100","Deduzioni generali per spese dell'edificio (acqua, elettricità, pulizia)"]
[null,{"$f":"IF(S134=\"x\",1,IF(ISNUMBER(S134),S134,0))","v":0},null,{"$f":"M134","v":"043.200"},null,null,"Promozione",null,null,null,null,null,"043.200","Promozione"]
[null,{"$f":"IF(S135=\"x\",1,IF(ISNUMBER(S135),S135,0))","v":0},null,{"$f":"M135","v":"043.300"},null,null,"Assicurazioni",null,null,null,null,null,"043.300","Assicurazioni"]
[null,{"$f":"B107","v":1}]
[null,{"$f":"IF(SUM(B138:B190)>0,1,0)","v":1},{"$f":"I137","v":"050.000"},null,null,null,{"$f":"J137","v":"Informazioni specifiche all'oggetto"},null,"050.000","Informazioni specifiche all'oggetto"]
[null,{"$f":"IF(S138=\"x\",1,IF(SUM(B139:B149)>0,1,0))","v":1},{"$f":"K138","v":"051.000"},null,null,null,{"$f":"L138& IF(T138<>\"\",CHAR(10) & T138,\"\")","v":"Dettagli dell'edificio"},null,null,null,"051.000","Dettagli dell'edificio"]
[null,{"$f":"IF(S139=\"x\",1,IF(ISNUMBER(S139),S139,0))","v":1},null,{"$f":"M139","v":"051.100"},null,null,{"$f":"N139& IF(T139<>\"\",CHAR(10) & T139,\"\")","v":"Indirizzo"},null,null,null,null,null,"051.100","Indirizzo",null,null,null,null,"x"]
[null,1,null,{"$f":"M140","v":"051.200"},null,null,"Altitudine del luogo dell'edificio",null,null,null,null,null,"051.200","Altitudine del luogo dell'edificio",null,null,null,null,"x"]
[null,1,null,{"$f":"M141","v":"051.300"},null,null,"Altezza dell'edificio",null,null,null,null,null,"051.300","Altezza dell'edificio",null,null,null,null,"x"]
[null,0,null,{"$f":"M142","v":"051.400"},null,null,"Dimensioni dell'edificio",null,null,null,null,null,"051.400","Dimensioni dell'edificio"]
[null,{"$f":"IF(S143=\"x\",1,IF(SUM(B144)>0,1,0))","v":1},null,{"$f":"M143","v":"051.500"},null,null,"Struttura del tetto",null,null,null,null,null,"051.500","Struttura del tetto",null,null,null,null,"x"]
[null,1,null,null,{"$f":"O144","v":"051.510"},null,{"$f":"P144& IF(T144<>\"\",CHAR(10) & T144,\"\")","v":"Carico puntuale massimo sul tetto, per tetti piani"},null,null,null,null,null,null,null,"051.510","Carico puntuale massimo sul tetto, per tetti piani",null,null,"x"]
[null,1,null,{"$f":"M145","v":"051.600"},null,null,{"$f":"N145& IF(T145<>\"\",CHAR(10) & T145,\"\")","v":"Inclinazione del tetto"},null,null,null,null,null,"051.600","Inclinazione del tetto",null,null,null,null,"x"]
[null,{"$f":"IF(S146=\"x\",1,IF(SUM(B147:B148)>0,1,0))","v":1},null,{"$f":"M146","v":"051.700"},null,null,"Statica dell'edificio",null,null,null,null,null,"051.700","Statica dell'edificio"]
[null,0,null,null,{"$f":"O147","v":"051.710"},null,{"$f":"P147& IF(T147<>\"\",CHAR(10) & T147,\"\")","v":"Accordo di utilizzo del tetto"},null,null,null,null,null,null,null,"051.710","Accordo di utilizzo del tetto"]
[null,1,null,null,{"$f":"O148","v":"051.720"},null,"Indicazione del carico di riserva del tetto",null,null,null,null,null,null,null,"051.720","Indicazione del carico di riserva del tetto",null,null,"x"]
[null,0,null,{"$f":"M149","v":"051.800"},null,null,{"$f":"N149& IF(T149<>\"\",CHAR(10) & T149,\"\")","v":"Indicazione del carico temporaneo massimo del tetto"},null,null,null,null,null,"051.800","Indicazione del carico temporaneo massimo del tetto"]
[null,{"$f":"IF(S150=\"x\",1,IF(SUM(B151:B165)>0,1,0))","v":1},{"$f":"K150","v":"052.000"},null,null,null,{"$f":"L150& IF(T150<>\"\",CHAR(10) & T150,\"\")","v":"Entità dei lavori"},null,null,null,"052.000","Entità dei lavori",null,null,null,null,null,null,"x"]
[null,1,null,{"$f":"M151","v":"052.100"},null,null,{"$f":"N151& IF(T151<>\"\",CHAR(10) & T151,\"\")","v":"Descrizione impianto FV"},null,null,null,null,null,"052.100","Descrizione impianto FV",null,null,null,null,"x"]
[null,{"$f":"IF(S152=\"x\",1,IF(SUM(B153:B154)>0,1,0))","v":1},null,{"$f":"M152","v":"052.200"},null,null,"Descrizione passaggio dei cavi",null,null,null,null,null,"052.200","Descrizione passaggio dei cavi",null,null,null,null,"x"]
[null,0,null,null,{"$f":"O153","v":"052.210"},null,{"$f":"P153& IF(T153<>\"\",CHAR(10) & T153,\"\")","v":"Percorso del cavo all'interno"},null,null,null,null,null,null,null,"052.210","Percorso del cavo all'interno"]
[null,0,null,null,{"$f":"O154","v":"052.220"},null,"Percorso del cavo all'esterno",null,null,null,null,null,null,null,"052.220","Percorso del cavo all'esterno"]
[null,{"$f":"IF(S155=\"x\",1,IF(SUM(B156:B157)>0,1,0))","v":1},null,{"$f":"M155","v":"052.300"},null,null,{"$f":"N155& IF(T155<>\"\",CHAR(10) & T155,\"\")","v":"Descrizione posizione inverter"},null,null,null,null,null,"052.300","Descrizione posizione inverter"]
[null,0,null,null,{"$f":"O156","v":"052.310"},null,{"$f":"P156& IF(T156<>\"\",CHAR(10) & T156,\"\")","v":"Installazione dell'inverter all'interno"},null,null,null,null,null,null,null,"052.310","Installazione dell'inverter all'interno"]
[null,1,null,null,{"$f":"O157","v":"052.320"},null,"Installazione dell'inverter all'esterno",null,null,null,null,null,null,null,"052.320","Installazione dell'inverter all'esterno",null,null,"x"]
[null,1,null,{"$f":"M158","v":"052.400"},null,null,{"$f":"N158& IF(T158<>\"\",CHAR(10) & T158,\"\")","v":"Descrizione integrazione nella rete"},null,null,null,null,null,"052.400","Descrizione integrazione nella rete",null,null,null,null,"x"]
[null,{"$f":"IF(S159=\"x\",1,IF(SUM(B160:B165)>0,1,0))","v":1},null,{"$f":"M159","v":"052.500"},null,null,{"$f":"N159& IF(T159<>\"\",CHAR(10) & T159,\"\")","v":"Descrizione del concetto di messa a terra, protezione parafulmini e protezione dalle sovratensioni"},null,null,null,null,null,"052.500","Descrizione del concetto di messa a terra, protezione parafulmini e protezione dalle sovratensioni"]
[null,{"$f":"IF(S160=\"x\",1,IF(SUM(B161:B163)>0,1,0))","v":1},null,null,{"$f":"O160","v":"052.510"},null,{"$f":"N160& IF(T160<>\"\",CHAR(10) & T160,\"\")","v":""},null,null,null,null,null,null,null,"052.510","Edificio con parafulmini",null,null,"x"]
[null,0,null,null,null,{"$f":"Q161","v":"052.511"},{"$f":"R161& IF(T161<>\"\",CHAR(10) & T161,\"\")","v":"Edificio con parafulmine classe I"},null,null,null,null,null,null,null,null,null,"052.511","Edificio con parafulmine classe I"]
[null,0,null,null,null,{"$f":"Q162","v":"052.512"},{"$f":"R162& IF(T162<>\"\",CHAR(10) & T162,\"\")","v":"Edificio con parafulmine classe II"},null,null,null,null,null,null,null,null,null,"052.512","Edificio con parafulmine classe II"]
[null,0,null,null,null,{"$f":"Q163","v":"052.513"},"Edificio con parafulmine classe III",null,null,null,null,null,null,null,null,null,"052.513","Edificio con parafulmine classe III"]
[null,0,null,null,{"$f":"O164","v":"052.520"},null,{"$f":"N164& IF(T164<>\"\",CHAR(10) & T164,\"\")","v":""},null,null,null,null,null,null,null,"052.520","Edificio senza parafulmini"]
[null,0,null,null,{"$f":"O165","v":"052.530"},null,"",null,null,null,null,null,null,null,"052.530","Concetto di messa a terra"]
[null,{"$f":"IF(S166=\"x\",1,IF(SUM(B167:B174)>0,1,0))","v":1},{"$f":"K166","v":"053.000"},null,null,null,{"$f":"L166& IF(T166<>\"\",CHAR(10) & T166,\"\")","v":"Infrastruttura"},null,null,null,"053.000","Infrastruttura"]
[null,1,null,{"$f":"M167","v":"053.100"},null,null,{"$f":"N167& IF(T167<>\"\",CHAR(10) & T167,\"\")","v":"Accesso"},null,null,null,null,null,"053.100","Accesso",null,null,null,null,"x"]
[null,1,null,{"$f":"M168","v":"053.200"},null,null,"Parcheggi",null,null,null,null,null,"053.200","Parcheggi",null,null,null,null,"x"]
[null,0,null,{"$f":"M169","v":"053.300"},null,null,"Zone di deposito",null,null,null,null,null,"053.300","Zone di deposito"]
[null,{"$f":"IF(S170=\"x\",1,IF(SUM(B171)>0,1,0))","v":1},null,{"$f":"M170","v":"053.400"},null,null,"Possibilità di sollevamento",null,null,null,null,null,"053.400","Possibilità di sollevamento",null,null,null,null,"x"]
[null,{"$f":"IF(S171=\"x\",1,IF(ISNUMBER(S171),S171,0))","v":0},null,null,{"$f":"O171","v":"053.410"},null,{"$f":"P171& IF(T171<>\"\",CHAR(10) & T171,\"\")","v":"Indicazioni sulla portata del pavimento"},null,null,null,null,null,null,null,"053.410","Indicazioni sulla portata del pavimento"]
[null,0,null,{"$f":"M172","v":"053.500"},null,null,{"$f":"N172& IF(T172<>\"\",CHAR(10) & T172,\"\")","v":"Allacciamento elettrico"},null,null,null,null,null,"053.500","Allacciamento elettrico"]
[null,0,null,{"$f":"M173","v":"053.600"},null,null,"Servizi igienici",null,null,null,null,null,"053.600","Servizi igienici"]
[null,0,null,{"$f":"M174","v":"053.700"},null,null,"Alloggio",null,null,null,null,null,"053.700","Alloggio"]
[null,{"$f":"IF(S175=\"x\",1,IF(SUM(B176:B180)>0,1,0))","v":1},{"$f":"K175","v":"054.000"},null,null,null,{"$f":"L175& IF(T175<>\"\",CHAR(10) & T175,\"\")","v":"Disposizioni particolari di cantiere"},null,null,null,"054.000","Disposizioni particolari di cantiere"]
[null,0,null,{"$f":"M176","v":"054.100"},null,null,{"$f":"N176& IF(T176<>\"\",CHAR(10) & T176,\"\")","v":"Orari di lavoro"},null,null,null,null,null,"054.100","Orari di lavoro"]
[null,0,null,{"$f":"M177","v":"054.200"},null,null,"Controlli di accesso",null,null,null,null,null,"054.200","Controlli di accesso"]
[null,0,null,{"$f":"M178","v":"054.300"},null,null,"Sistema di controllo qualità",null,null,null,null,null,"054.300","Sistema di controllo qualità"]
[null,1,null,{"$f":"M179","v":"054.400"},null,null,"Rifiuti, smaltimento",null,null,null,null,null,"054.400","Rifiuti, smaltimento",null,null,null,null,"x"]
[null,0,null,{"$f":"M180","v":"054.500"},null,null,"Costruzione ecologica, codice etico",null,null,null,null,null,"054.500","Costruzione ecologica, codice etico"]
[null,{"$f":"IF(S181=\"x\",1,IF(SUM(B182:B190)>0,1,0))","v":1},{"$f":"K181","v":"055.000"},null,null,null,{"$f":"L181& IF(T181<>\"\",CHAR(10) & T181,\"\")","v":"Sicurezza"},null,null,null,"055.000","Sicurezza"]
[null,{"$f":"IF(S182=\"x\",1,IF(SUM(B183:B187)>0,1,0))","v":1},null,{"$f":"M182","v":"055.100"},null,null,"Sicurezza sul lavoro temporanea",null,null,null,null,null,"055.100","Sicurezza sul lavoro temporanea"]
[null,1,null,null,{"$f":"O183","v":"055.110"},null,{"$f":"P183& IF(T183<>\"\",CHAR(10) & T183,\"\")","v":"Parapetto a bordo tetto"},null,null,null,null,null,null,null,"055.110","Parapetto a bordo tetto",null,null,"x"]
[null,0,null,null,{"$f":"O184","v":"055.120"},null,"Ponteggi",null,null,null,null,null,null,null,"055.120","Ponteggi"]
[null,0,null,null,{"$f":"O185","v":"055.130"},null,"Recinzioni a zone",null,null,null,null,null,null,null,"055.130","Recinzioni a zone"]
[null,0,null,null,{"$f":"O186","v":"055.140"},null,"Protezione dei lucernari",null,null,null,null,null,null,null,"055.140","Protezione dei lucernari"]
[null,1,null,null,{"$f":"O187","v":"055.150"},null,"Ponteggio a torre",null,null,null,null,null,null,null,"055.150","Ponteggio a torre",null,null,"x"]
[null,{"$f":"IF(S188=\"x\",1,IF(SUM(B189:B190)>0,1,0))","v":0},null,{"$f":"M188","v":"055.200"},null,null,{"$f":"N188& IF(T188<>\"\",CHAR(10) & T188,\"\")","v":"Sicurezza sul lavoro permanente"},null,null,null,null,null,"055.200","Sicurezza sul lavoro permanente"]
[null,0,null,null,{"$f":"O189","v":"055.210"},null,{"$f":"P189& IF(T189<>\"\",CHAR(10) & T189,\"\")","v":"Accesso al tetto"},null,null,null,null,null,null,null,"055.210","Accesso al tetto"]
[null,0,null,null,{"$f":"O190","v":"055.220"},null,"Concetto di sicurezza sul lavoro",null,null,null,null,null,null,null,"055.220","Concetto di sicurezza sul lavoro"]
[null,{"$f":"B137","v":1}]
[null,{"$f":"IF(SUM(B193:B203)>0,1,0)","v":1},{"$f":"I192","v":"060.000"},null,null,null,{"$f":"J192","v":"Procedura di costruzione, scadenze"},null,"060.000","Procedura di costruzione, scadenze"]
[null,{"$f":"IF(SUM(B194:B195)>0,1,0)","v":1},{"$f":"K193","v":"061.000"},null,null,null,{"$f":"L193& IF(T193<>\"\",CHAR(10) & T193,\"\")","v":"Procedura di costruzione"},null,null,null,"061.000","Procedura di costruzione"]
[null,{"$f":"IF(S194=\"x\",1,IF(ISNUMBER(S194),S194,0))","v":1},null,{"$f":"M194","v":"061.100"},null,null,{"$f":"N194& IF(T194<>\"\",CHAR(10) & T194,\"\")","v":"Programma lavori"},null,null,null,null,null,"061.100","Programma lavori",null,null,null,null,"x"]
[null,0,null,{"$f":"M195","v":"061.200"},null,null,"Fasi di costruzione (tappe)",null,null,null,null,null,"061.200","Fasi di costruzione (tappe)"]
[null,{"$f":"IF(SUM(B197:B199)>0,1,0)","v":1},{"$f":"K196","v":"062.000"},null,null,null,{"$f":"L196& IF(T196<>\"\",CHAR(10) & T196,\"\")","v":"Date, scadenze"},null,null,null,"062.000","Date, scadenze"]
[null,1,null,{"$f":"M197","v":"062.100"},null,null,{"$f":"N197& IF(T197<>\"\",CHAR(10) & T197,\"\")","v":"Inizio dei lavori"},null,null,null,null,null,"062.100","Inizio dei lavori",null,null,null,null,"x"]
[null,1,null,{"$f":"M198","v":"062.200"},null,null,"Messa in servizio",null,null,null,null,null,"062.200","Messa in servizio",null,null,null,null,"x"]
[null,0,null,{"$f":"M199","v":"062.300"},null,null,"Collaudo",null,null,null,null,null,"062.300","Collaudo"]
[null,{"$f":"IF(SUM(B201:B203)>0,1,0)","v":1},{"$f":"K200","v":"063.000"},null,null,null,{"$f":"L200& IF(T200<>\"\",CHAR(10) & T200,\"\")","v":"Bonus, sanzioni"},null,null,null,"063.000","Bonus, sanzioni"]
[null,0,null,{"$f":"M201","v":"063.100"},null,null,{"$f":"N201& IF(T201<>\"\",CHAR(10) & T201,\"\")","v":"Bonus"},null,null,null,null,null,"063.100","Bonus"]
[null,1,null,{"$f":"M202","v":"063.200"},null,null,"Sanzioni contrattuali",null,null,null,null,null,"063.200","Sanzioni contrattuali",null,null,null,null,"x"]
[null,0,null,{"$f":"M203","v":"063.300"},null,null,"Risoluzione delle divergenze, mediazione",null,null,null,null,null,"063.300","Risoluzione delle divergenze, mediazione"]
[null,{"$f":"B192","v":1}]
[null,1,{"$f":"I205","v":"070.000"},null,null,null,{"$f":"J205","v":"Interfacce, responsabilità (delimitazione delle responsabilità)"},null,"070.000","Interfacce, responsabilità (delimitazione delle responsabilità)"]
[null,{"$f":"IF(SUM(B207:B210)>0,1,0)","v":1},{"$f":"K206","v":"071.000"},null,null,null,{"$f":"L206& IF(T206<>\"\",CHAR(10) & T206,\"\")","v":"Delimitazioni in ambito elettrico"},null,null,null,"071.000","Delimitazioni in ambito elettrico",null,null,null,null,null,null,"x"]
[null,{"$f":"IF(S207=\"x\",1,IF(ISNUMBER(S207),S207,0))","v":0},null,{"$f":"M207","v":"071.100"},null,null,{"$f":"N207& IF(T207<>\"\",CHAR(10) & T207,\"\")","v":"Fino a e inverter incluso"},null,null,null,null,null,"071.100","Fino a e inverter incluso"]
[null,0,null,{"$f":"M208","v":"071.200"},null,null,"Fino a e con sottodistribuzione solare inclusa",null,null,null,null,null,"071.200","Fino a e con sottodistribuzione solare inclusa"]
[null,1,null,{"$f":"M209","v":"071.300"},null,null,"Integrazione completa della rete",null,null,null,null,null,"071.300","Integrazione completa della rete",null,null,null,null,"x"]
[null,1,null,{"$f":"M210","v":"071.400"},null,null,"Interfaccia di protezione parafulmini",null,null,null,null,null,"071.400","Interfaccia di protezione parafulmini",null,null,null,null,"x"]
[null,1,{"$f":"K211","v":"072.000"},null,null,null,{"$f":"L211& IF(T211<>\"\",CHAR(10) & T211,\"\")","v":"Delimitazioni in ambito meccanico"},null,null,null,"072.000","Delimitazioni in ambito meccanico",null,null,null,null,null,null,"x"]
[null,0,{"$f":"K212","v":"073.000"},null,null,null,"Delimitazioni in ambito amministrativo",null,null,null,"073.000","Delimitazioni in ambito amministrativo"]
[null,{"$f":"B205","v":1}]
[null,{"$f":"IF(SUM(B215:B226)>0,1,0)","v":1},{"$f":"I214","v":"080.000"},null,null,null,{"$f":"J214","v":"Assicurazioni, fatturazione"},null,"080.000","Assicurazioni, fatturazione"]
[null,{"$f":"IF(SUM(B216:B217)>0,1,0)","v":1},{"$f":"K215","v":"081.000"},null,null,null,{"$f":"L215& IF(T215<>\"\",CHAR(10) & T215,\"\")","v":"Assicurazioni del cliente"},null,null,null,"081.000","Assicurazioni del cliente"]
[null,{"$f":"IF(S216=\"x\",1,IF(ISNUMBER(S216),S216,0))","v":0},null,{"$f":"M216","v":"081.100"},null,null,{"$f":"N216& IF(T216<>\"\",CHAR(10) & T216,\"\")","v":"Responsabilità civile del committente"},null,null,null,null,null,"081.100","Responsabilità civile del committente"]
[null,1,null,{"$f":"M217","v":"081.200"},null,null,"Assicurazione per i lavori di costruzione",null,null,null,null,null,"081.200","Assicurazione per i lavori di costruzione",null,null,null,null,"x"]
[null,{"$f":"IF(SUM(B219:B221)>0,1,0)","v":1},{"$f":"K218","v":"082.000"},null,null,null,{"$f":"L218& IF(T218<>\"\",CHAR(10) & T218,\"\")","v":"Assicurazioni della ditta"},null,null,null,"082.000","Assicurazioni della ditta"]
[null,0,null,{"$f":"M219","v":"082.100"},null,null,{"$f":"N219& IF(T219<>\"\",CHAR(10) & T219,\"\")","v":"Assicurazione montaggio "},null,null,null,null,null,"082.100","Assicurazione montaggio "]
[null,1,null,{"$f":"M220","v":"082.200"},null,null,"Responsabilità civile della ditta",null,null,null,null,null,"082.200","Responsabilità civile della ditta",null,null,null,null,"x"]
[null,0,null,{"$f":"M221","v":"082.300"},null,null,"Responsabilità civile per il montaggio",null,null,null,null,null,"082.300","Responsabilità civile per il montaggio"]
[null,{"$f":"IF(SUM(B223:B224)>0,1,0)","v":1},{"$f":"K222","v":"083.000"},null,null,null,{"$f":"L222& IF(T222<>\"\",CHAR(10) & T222,\"\")","v":"Fatturazione"},null,null,null,"083.000","Fatturazione"]
[null,1,null,{"$f":"M223","v":"083.100"},null,null,{"$f":"N223& IF(T223<>\"\",CHAR(10) & T223,\"\")","v":"Programma di pagamento"},null,null,null,null,null,"083.100","Programma di pagamento",null,null,null,null,"x"]
[null,0,null,{"$f":"M224","v":"083.200"},null,null,"Termini di pagamento",null,null,null,null,null,"083.200","Termini di pagamento"]
[null,{"$f":"IF(SUM(B226)>0,1,0)","v":0},{"$f":"K225","v":"084.000"},null,null,null,{"$f":"L225& IF(T225<>\"\",CHAR(10) & T225,\"\")","v":"Lavori a regia"},null,null,null,"084.000","Lavori a regia"]
[null,0,null,{"$f":"M226","v":"084.100"},null,null,{"$f":"N226& IF(T226<>\"\",CHAR(10) & T226,\"\")","v":"Condizioni per lavori a regia"},null,null,null,null,null,"084.100","Condizioni per lavori a regia"]

{"sheet":"E_Box000","index":3,"n_rows":57,"n_cols":4,"rows_kept":57,"cut":false,"hidden":true,"merged":[]}
["Campo di applicazione"]
["Livello di struttura 1",null,"000","000"]
["Livello di struttura 2",null,"010","010"]
["Livello di struttura 3",null,"011","012"]
[]
[null,null,"E000_Termini_abbrevviazioni","E000_Norme"]
["Nr."]
[1,null,"Copertura: strato superiore del tetto a falda esposto direttamente agli agenti atmosferici","Prescrizioni di legge in ambito elettrico"]
[2,null,"Tetto piano: termine generico che comprende i tetti senza o con poca pendenza e impermeabilizzati","Norme SIA"]
[3,null,"Tetto a falde: tetto a una o più falde la cui pendenza permette la posa degli elementi di copertura in vari modi","Prescrizioni della protezione antincendio AEAI (VKF)"]
[4,null,"Struttura portante: insieme organizzato di parti d'opera fra loro collegate, progettato in modo da ottenere una rigidezza adeguata","Documenti sullo stato della tecnica"]
[5,null,"Sottostruttura: strati e parti d'opera del tetto e della facciata posti sotto la copertura o il rivestimento, che non concernono la struttura portante dell'edificio","Documenti di settore AES-VSE"]
[6,null,"Struttura di montaggio FV: struttura di supporto durevole e staticamente efficace per i moduli","OIBT: Ordinanza sugli impianti a bassa tensione"]
[7,null,"Lamiera d'acciaio CrNi: lamiera di acciaio nichel-cromo","OPBT: Ordinanza sui prodotti elettrici a bassa tensione"]
[8,null,"ESTI: Ispettorato Federale degli Impianti a corrente forte","OGOE: Ordinanza sulla garanzia di origine"]
[9,null,"KGV: Assicurazione svizzera degli stabili","LEne: Legge sull'energia"]
[10,null,"Suva: Assicurazione svizzera contro gli infortuni","OEn: Ordinanza sull'energia"]
[11,null,"SIA: Società svizzera degli ingegneri e degli architetti","OPEn: Ordinanza sulla promozione dell'energia"]
[12,null,"Swissolar: Associazione svizzera dei professionisti dell'energia solare"]
[13,null,"AC: Alternating current (corrente alternata)"]
[14,null,"DC: Direct current (corrente continua)"]
[15,null,"AM: Air mass (massa d'aria)"]
[16,null,"GRD: gestore della rete di distribuzione"]
[17,null,"TTPCP: tassa sul traffico pesante commisurata alle prestazioni"]
[18,null,"STC: Standard Test Conditions"]
[19,null,"Azimut: scostamento dell'orientamento del modulo rispetto al nord"]
[20]
[21]
[22]
[23]
[24]
[25]
[26]
[27]
[28]
[29]
[30]
[31]
[32]
[33]
[34]
[35]
[36]
[37]
[38]
[39]
[40]
[41]
[42]
[43]
[44]
[45]
[46]
[47]
[48]
[49]
[50]

{"sheet":"100 Moduli FV","index":4,"n_rows":77,"n_cols":52,"rows_kept":77,"cut":false,"hidden":false,"merged":[[1,6,1,7],[3,6,3,7],[3,8,3,9],[2,6,2,9],[0,19,0,51]]}
[null,null,null,null,null,null,null,null,null,null,null,null,null,null,null,null,null,null,null,"NASCONDERE"]
[null,null,null,null,"Nascondere",null,"Livello di struttura 1:",null,100,"Moduli FV"]
[null,null,null,null,null,null,"Obbligatorio"]
[null,"Show","Fill","SOQ-Nr.","Descrizione","Unità","Livello di struttura 2",null,"Livello di struttura 3",null,"Unità","Aggiungi posizione","E- Box",null,null,null,null,null,null,"E-Box","pz.","moduli","ml","m2","m3","h","mesi","anni","kWp","forfait",null,"Pos1","Pos2","Pos3","Pos4","Pos5","Pos6","Pos7","Pos8","Pos9","Pos10",null,"Pos1","Pos2","Pos3","Pos4","Pos5","Pos6","Pos7","Pos8","Pos9","Pos10"]
[]
[null,{"$f":"IF(SUM(B7:B12)>0,1,0)","v":1},{"$f":"IF(L6=\"x\",1,IF(ISNUMBER(L6),1,0))","v":0},{"$f":"G6","v":"110.000"},{"$f":"H6","v":"Vetro/foglio con cornice, per impianto annesso"},{"$f":"IF(C6=1,K6,\"\")","v":""},"110.000","Vetro/foglio con cornice, per impianto annesso",null,null,null,null,null,null,null,null,null,null,null,null,null,null,null,null,null,null,null,null,null,null,null,{"$f":"\nIF(U6=\"x\",U$4,\nIF(V6=\"x\",V$4,\nIF(W6=\"x\",W$4,\nIF(X6=\"x\",X$4,\nIF(Y6=\"x\",Y$4,\nIF(Z6=\"x\",Z$4,\nIF(AA6=\"x\",AA$4,\nIF(AB6=\"x\",AB$4,\nIF(AC6=\"x\",AC$4,\nIF(AD6=\"x\",AD$4,\n\"\"))))))))))","v":""},{"$f":"\nIF(V6=\"x\",V$4,\nIF(W6=\"x\",W$4,\nIF(X6=\"x\",X$4,\nIF(Y6=\"x\",Y$4,\nIF(Z6=\"x\",Z$4,\nIF(AA6=\"x\",AA$4,\nIF(AB6=\"x\",AB$4,\nIF(AC6=\"x\",AC$4,\nIF(AD6=\"x\",AD$4,\n\"\")))))))))","v":""},{"$f":"\nIF(W6=\"x\",W$4,\nIF(X6=\"x\",X$4,\nIF(Y6=\"x\",Y$4,\nIF(Z6=\"x\",Z$4,\nIF(AA6=\"x\",AA$4,\nIF(AB6=\"x\",AB$4,\nIF(AC6=\"x\",AC$4,\nIF(AD6=\"x\",AD$4,\n\"\"))))))))","v":""},{"$f":"\nIF(X6=\"x\",X$4,\nIF(Y6=\"x\",Y$4,\nIF(Z6=\"x\",Z$4,\nIF(AA6=\"x\",AA$4,\nIF(AB6=\"x\",AB$4,\nIF(AC6=\"x\",AC$4,\nIF(AD6=\"x\",AD$4,\n\"\")))))))","v":""},{"$f":"\nIF(Y6=\"x\",Y$4,\nIF(Z6=\"x\",Z$4,\nIF(AA6=\"x\",AA$4,\nIF(AB6=\"x\",AB$4,\nIF(AC6=\"x\",AC$4,\nIF(AD6=\"x\",AD$4,\n\"\"))))))","v":""},{"$f":"\nIF(Z6=\"x\",Z$4,\nIF(AA6=\"x\",AA$4,\nIF(AB6=\"x\",AB$4,\nIF(AC6=\"x\",AC$4,\nIF(AD6=\"x\",AD$4,\n\"\")))))","v":""},{"$f":"\nIF(AA6=\"x\",AA$4,\nIF(AB6=\"x\",AB$4,\nIF(AC6=\"x\",AC$4,\nIF(AD6=\"x\",AD$4,\n\"\"))))","v":""},{"$f":"\nIF(AB6=\"x\",AB$4,\nIF(AC6=\"x\",AC$4,\nIF(AD6=\"x\",AD$4,\n\"\")))","v":""},{"$f":"\nIF(AC6=\"x\",AC$4,\nIF(AD6=\"x\",AD$4,\n\"\"))","v":""},{"$f":"\nIF(AD6=\"x\",AD$4,\n\"\")","v":""},null,{"$f":"AF6","v":""},{"$f":"IF(AQ6=\"\",\"\",\nIF(AQ6<>$AF6,$AF6,\nIF(AQ6<>$AG6,$AG6,\nIF(AQ6<>$AH6,$AH6,\nIF(AQ6<>$AI6,$AI6,\nIF(AQ6<>$AJ6,$AJ6,\nIF(AQ6<>$AK6,$AK6,\nIF(AQ6<>$AL6,$AL6,\nIF(AQ6<>$AM6,$AM6,\nIF(AQ6<>$AN6,$AN6,\nIF(AQ6<>$AO6,$AO6,\n\"\")))))))))))","v":""},{"$f":"IF(AR6=\"\",\"\",\nIF(AND(AR6<>$AF6,AQ6<>$AF6),$AF6,\nIF(AND(AR6<>$AG6,AQ6<>$AG6),$AG6,\nIF(AND(AR6<>$AH6,AQ6<>$AH6),$AH6,\nIF(AND(AR6<>$AI6,AQ6<>$AI6),$AI6,\nIF(AND(AR6<>$AJ6,AQ6<>$AJ6),$AJ6,\nIF(AND(AR6<>$AK6,AQ6<>$AK6),$AK6,\nIF(AND(AR6<>$AL6,AQ6<>$AL6),$AL6,\nIF(AND(AR6<>$AM6,AQ6<>$AM6),$AM6,\nIF(AND(AR6<>$AN6,AQ6<>$AN6),$AN6,\nIF(AND(AR6<>$AO6,AQ6<>$AO6),$AO6,\n\"\")))))))))))","v":""},{"$f":"IF(AS6=\"\",\"\",\nIF(AND(AQ6<>$AF6,AS6<>$AF6,AR6<>$AF6),$AF6,\nIF(AND(AQ6<>$AG6,AS6<>$AG6,AR6<>$AG6),$AG6,\nIF(AND(AQ6<>$AH6,AS6<>$AH6,AR6<>$AH6),$AH6,\nIF(AND(AQ6<>$AI6,AS6<>$AI6,AR6<>$AI6),$AI6,\nIF(AND(AQ6<>$AJ6,AS6<>$AJ6,AR6<>$AJ6),$AJ6,\nIF(AND(AQ6<>$AK6,AS6<>$AK6,AR6<>$AK6),$AK6,\nIF(AND(AQ6<>$AL6,AS6<>$AL6,AR6<>$AL6),$AL6,\nIF(AND(AQ6<>$AM6,AS6<>$AM6,AR6<>$AM6),$AM6,\nIF(AND(AQ6<>$AN6,AS6<>$AN6,AR6<>$AN6),$AN6,\nIF(AND(AQ6<>$AO6,AS6<>$AO6,AR6<>$AO6),$AO6,\n\"\")))))))))))","v":""},{"$f":"IF(AT6=\"\",\"\",\nIF(AND(AQ6<>$AF6,AR6<>$AF6,AT6<>$AF6,AS6<>$AF6),$AF6,\nIF(AND(AQ6<>$AG6,AR6<>$AG6,AT6<>$AG6,AS6<>$AG6),$AG6,\nIF(AND(AQ6<>$AH6,AR6<>$AH6,AT6<>$AH6,AS6<>$AH6),$AH6,\nIF(AND(AQ6<>$AI6,AR6<>$AI6,AT6<>$AI6,AS6<>$AI6),$AI6,\nIF(AND(AQ6<>$AJ6,AR6<>$AJ6,AT6<>$AJ6,AS6<>$AJ6),$AJ6,\nIF(AND(AQ6<>$AK6,AR6<>$AK6,AT6<>$AK6,AS6<>$AK6),$AK6,\nIF(AND(AQ6<>$AL6,AR6<>$AL6,AT6<>$AL6,AS6<>$AL6),$AL6,\nIF(AND(AQ6<>$AM6,AR6<>$AM6,AT6<>$AM6,AS6<>$AM6),$AM6,\nIF(AND(AQ6<>$AN6,AR6<>$AN6,AT6<>$AN6,AS6<>$AN6),$AN6,\nIF(AND(AQ6<>$AO6,AR6<>$AO6,AT6<>$AO6,AS6<>$AO6),$AO6,\n\"\")))))))))))","v":""},{"$f":"IF(AU6=\"\",\"\",\nIF(AND(AQ6<>$AF6,AR6<>$AF6,AS6<>$AF6,AU6<>$AF6,AT6<>$AF6),$AF6,\nIF(AND(AQ6<>$AG6,AR6<>$AG6,AS6<>$AG6,AU6<>$AG6,AT6<>$AG6),$AG6,\nIF(AND(AQ6<>$AH6,AR6<>$AH6,AS6<>$AH6,AU6<>$AH6,AT6<>$AH6),$AH6,\nIF(AND(AQ6<>$AI6,AR6<>$AI6,AS6<>$AI6,AU6<>$AI6,AT6<>$AI6),$AI6,\nIF(AND(AQ6<>$AJ6,AR6<>$AJ6,AS6<>$AJ6,AU6<>$AJ6,AT6<>$AJ6),$AJ6,\nIF(AND(AQ6<>$AK6,AR6<>$AK6,AS6<>$AK6,AU6<>$AK6,AT6<>$AK6),$AK6,\nIF(AND(AQ6<>$AL6,AR6<>$AL6,AS6<>$AL6,AU6<>$AL6,AT6<>$AL6),$AL6,\nIF(AND(AQ6<>$AM6,AR6<>$AM6,AS6<>$AM6,AU6<>$AM6,AT6<>$AM6),$AM6,\nIF(AND(AQ6<>$AN6,AR6<>$AN6,AS6<>$AN6,AU6<>$AN6,AT6<>$AN6),$AN6,\nIF(AND(AQ6<>$AO6,AR6<>$AO6,AS6<>$AO6,AU6<>$AO6,AT6<>$AO6),$AO6,\n\"\")))))))))))","v":""},{"$f":"IF(AV6=\"\",\"\",\nIF(AND(AQ6<>$AF6,AR6<>$AF6,AS6<>$AF6,AT6<>$AF6,AV6<>$AF6,AU6<>$AF6),$AF6,\nIF(AND(AQ6<>$AG6,AR6<>$AG6,AS6<>$AG6,AT6<>$AG6,AV6<>$AG6,AU6<>$AG6),$AG6,\nIF(AND(AQ6<>$AH6,AR6<>$AH6,AS6<>$AH6,AT6<>$AH6,AV6<>$AH6,AU6<>$AH6),$AH6,\nIF(AND(AQ6<>$AI6,AR6<>$AI6,AS6<>$AI6,AT6<>$AI6,AV6<>$AI6,AU6<>$AI6),$AI6,\nIF(AND(AQ6<>$AJ6,AR6<>$AJ6,AS6<>$AJ6,AT6<>$AJ6,AV6<>$AJ6,AU6<>$AJ6),$AJ6,\nIF(AND(AQ6<>$AK6,AR6<>$AK6,AS6<>$AK6,AT6<>$AK6,AV6<>$AK6,AU6<>$AK6),$AK6,\nIF(AND(AQ6<>$AL6,AR6<>$AL6,AS6<>$AL6,AT6<>$AL6,AV6<>$AL6,AU6<>$AL6),$AL6,\nIF(AND(AQ6<>$AM6,AR6<>$AM6,AS6<>$AM6,AT6<>$AM6,AV6<>$AM6,AU6<>$AM6),$AM6,\nIF(AND(AQ6<>$AN6,AR6<>$AN6,AS6<>$AN6,AT6<>$AN6,AV6<>$AN6,AU6<>$AN6),$AN6,\nIF(AND(AQ6<>$AO6,AR6<>$AO6,AS6<>$AO6,AT6<>$AO6,AV6<>$AO6,AU6<>$AO6),$AO6,\n\"\")))))))))))","v":""},{"$f":"IF(AW6=\"\",\"\",\nIF(AND(AQ6<>$AF6,AR6<>$AF6,AS6<>$AF6,AT6<>$AF6,AU6<>$AF6,AW6<>$AF6,AV6<>$AF6),$AF6,\nIF(AND(AQ6<>$AG6,AR6<>$AG6,AS6<>$AG6,AT6<>$AG6,AU6<>$AG6,AW6<>$AG6,AV6<>$AG6),$AG6,\nIF(AND(AQ6<>$AH6,AR6<>$AH6,AS6<>$AH6,AT6<>$AH6,AU6<>$AH6,AW6<>$AH6,AV6<>$AH6),$AH6,\nIF(AND(AQ6<>$AI6,AR6<>$AI6,AS6<>$AI6,AT6<>$AI6,AU6<>$AI6,AW6<>$AI6,AV6<>$AI6),$AI6,\nIF(AND(AQ6<>$AJ6,AR6<>$AJ6,AS6<>$AJ6,AT6<>$AJ6,AU6<>$AJ6,AW6<>$AJ6,AV6<>$AJ6),$AJ6,\nIF(AND(AQ6<>$AK6,AR6<>$AK6,AS6<>$AK6,AT6<>$AK6,AU6<>$AK6,AW6<>$AK6,AV6<>$AK6),$AK6,\nIF(AND(AQ6<>$AL6,AR6<>$AL6,AS6<>$AL6,AT6<>$AL6,AU6<>$AL6,AW6<>$AL6,AV6<>$AL6),$AL6,\nIF(AND(AQ6<>$AM6,AR6<>$AM6,AS6<>$AM6,AT6<>$AM6,AU6<>$AM6,AW6<>$AM6,AV6<>$AM6),$AM6,\nIF(AND(AQ6<>$AN6,AR6<>$AN6,AS6<>$AN6,AT6<>$AN6,AU6<>$AN6,AW6<>$AN6,AV6<>$AN6),$AN6,\nIF(AND(AQ6<>$AO6,AR6<>$AO6,AS6<>$AO6,AT6<>$AO6,AU6<>$AO6,AW6<>$AO6,AV6<>$AO6),$AO6,\n\"\")))))))))))","v":""},{"$f":"IF(AX6=\"\",\"\",\nIF(AND(AQ6<>$AF6,AR6<>$AF6,AS6<>$AF6,AT6<>$AF6,AU6<>$AF6,AV6<>$AF6,AX6<>$AF6,AW6<>$AF6),$AF6,\nIF(AND(AQ6<>$AG6,AR6<>$AG6,AS6<>$AG6,AT6<>$AG6,AU6<>$AG6,AV6<>$AG6,AX6<>$AG6,AW6<>$AG6),$AG6,\nIF(AND(AQ6<>$AH6,AR6<>$AH6,AS6<>$AH6,AT6<>$AH6,AU6<>$AH6,AV6<>$AH6,AX6<>$AH6,AW6<>$AH6),$AH6,\nIF(AND(AQ6<>$AI6,AR6<>$AI6,AS6<>$AI6,AT6<>$AI6,AU6<>$AI6,AV6<>$AI6,AX6<>$AI6,AW6<>$AI6),$AI6,\nIF(AND(AQ6<>$AJ6,AR6<>$AJ6,AS6<>$AJ6,AT6<>$AJ6,AU6<>$AJ6,AV6<>$AJ6,AX6<>$AJ6,AW6<>$AJ6),$AJ6,\nIF(AND(AQ6<>$AK6,AR6<>$AK6,AS6<>$AK6,AT6<>$AK6,AU6<>$AK6,AV6<>$AK6,AX6<>$AK6,AW6<>$AK6),$AK6,\nIF(AND(AQ6<>$AL6,AR6<>$AL6,AS6<>$AL6,AT6<>$AL6,AU6<>$AL6,AV6<>$AL6,AX6<>$AL6,AW6<>$AL6),$AL6,\nIF(AND(AQ6<>$AM6,AR6<>$AM6,AS6<>$AM6,AT6<>$AM6,AU6<>$AM6,AV6<>$AM6,AX6<>$AM6,AW6<>$AM6),$AM6,\nIF(AND(AQ6<>$AN6,AR6<>$AN6,AS6<>$AN6,AT6<>$AN6,AU6<>$AN6,AV6<>$AN6,AX6<>$AN6,AW6<>$AN6),$AN6,\nIF(AND(AQ6<>$AO6,AR6<>$AO6,AS6<>$AO6,AT6<>$AO6,AU6<>$AO6,AV6<>$AO6,AX6<>$AO6,AW6<>$AO6),$AO6,\n\"\")))))))))))","v":""},{"$f":"IF(AY6=\"\",\"\",\nIF(AND(AQ6<>$AF6,AR6<>$AF6,AS6<>$AF6,AT6<>$AF6,AU6<>$AF6,AV6<>$AF6,AW6<>$AF6,AY6<>$AF6,AX6<>$AF6),$AF6,\nIF(AND(AQ6<>$AG6,AR6<>$AG6,AS6<>$AG6,AT6<>$AG6,AU6<>$AG6,AV6<>$AG6,AW6<>$AG6,AY6<>$AG6,AX6<>$AG6),$AG6,\nIF(AND(AQ6<>$AH6,AR6<>$AH6,AS6<>$AH6,AT6<>$AH6,AU6<>$AH6,AV6<>$AH6,AW6<>$AH6,AY6<>$AH6,AX6<>$AH6),$AH6,\nIF(AND(AQ6<>$AI6,AR6<>$AI6,AS6<>$AI6,AT6<>$AI6,AU6<>$AI6,AV6<>$AI6,AW6<>$AI6,AY6<>$AI6,AX6<>$AI6),$AI6,\nIF(AND(AQ6<>$AJ6,AR6<>$AJ6,AS6<>$AJ6,AT6<>$AJ6,AU6<>$AJ6,AV6<>$AJ6,AW6<>$AJ6,AY6<>$AJ6,AX6<>$AJ6),$AJ6,\nIF(AND(AQ6<>$AK6,AR6<>$AK6,AS6<>$AK6,AT6<>$AK6,AU6<>$AK6,AV6<>$AK6,AW6<>$AK6,AY6<>$AK6,AX6<>$AK6),$AK6,\nIF(AND(AQ6<>$AL6,AR6<>$AL6,AS6<>$AL6,AT6<>$AL6,AU6<>$AL6,AV6<>$AL6,AW6<>$AL6,AY6<>$AL6,AX6<>$AL6),$AL6,\nIF(AND(AQ6<>$AM6,AR6<>$AM6,AS6<>$AM6,AT6<>$AM6,AU6<>$AM6,AV6<>$AM6,AW6<>$AM6,AY6<>$AM6,AX6<>$AM6),$AM6,\nIF(AND(AQ6<>$AN6,AR6<>$AN6,AS6<>$AN6,AT6<>$AN6,AU6<>$AN6,AV6<>$AN6,AW6<>$AN6,AY6<>$AN6,AX6<>$AN6),$AN6,\nIF(AND(AQ6<>$AO6,AR6<>$AO6,AS6<>$AO6,AT6<>$AO6,AU6<>$AO6,AV6<>$AO6,AW6<>$AO6,AY6<>$AO6,AX6<>$AO6),$AO6,\n\"\")))))))))))","v":""}]
[null,{"$f":"IF(L7=\"x\",1,IF(ISNUMBER(L7),L7,0))","v":2},1,{"$f":"I7","v":"111.000"},{"$f":"J7 & IF(M7<>\"\",CHAR(10) & M7,\"\")","v":"Dimensioni standard (1 - 2m2), < 25 kg\nCaratteristiche: \nCornice color argento\nBacksheet bianco\nBacksheet bianco"},{"$f":"IF(C7=1,K7,\"\")","v":"pz."},null,null,"111.000","Dimensioni standard (1 - 2m2), < 25 kg","pz.",2,"Caratteristiche: \nCornice color argento\nBacksheet bianco\nBacksheet bianco",null,null,null,null,null,null,"E100_Moduli_FV","x",null,null,null,null,null,null,null,null,null,null,{"$f":"\nIF(U7=\"x\",U$4,\nIF(V7=\"x\",V$4,\nIF(W7=\"x\",W$4,\nIF(X7=\"x\",X$4,\nIF(Y7=\"x\",Y$4,\nIF(Z7=\"x\",Z$4,\nIF(AA7=\"x\",AA$4,\nIF(AB7=\"x\",AB$4,\nIF(AC7=\"x\",AC$4,\nIF(AD7=\"x\",AD$4,\n\"\"))))))))))","v":"pz."},{"$f":"\nIF(V7=\"x\",V$4,\nIF(W7=\"x\",W$4,\nIF(X7=\"x\",X$4,\nIF(Y7=\"x\",Y$4,\nIF(Z7=\"x\",Z$4,\nIF(AA7=\"x\",AA$4,\nIF(AB7=\"x\",AB$4,\nIF(AC7=\"x\",AC$4,\nIF(AD7=\"x\",AD$4,\n\"\")))))))))","v":""},{"$f":"\nIF(W7=\"x\",W$4,\nIF(X7=\"x\",X$4,\nIF(Y7=\"x\",Y$4,\nIF(Z7=\"x\",Z$4,\nIF(AA7=\"x\",AA$4,\nIF(AB7=\"x\",AB$4,\nIF(AC7=\"x\",AC$4,\nIF(AD7=\"x\",AD$4,\n\"\"))))))))","v":""},{"$f":"\nIF(X7=\"x\",X$4,\nIF(Y7=\"x\",Y$4,\nIF(Z7=\"x\",Z$4,\nIF(AA7=\"x\",AA$4,\nIF(AB7=\"x\",AB$4,\nIF(AC7=\"x\",AC$4,\nIF(AD7=\"x\",AD$4,\n\"\")))))))","v":""},{"$f":"\nIF(Y7=\"x\",Y$4,\nIF(Z7=\"x\",Z$4,\nIF(AA7=\"x\",AA$4,\nIF(AB7=\"x\",AB$4,\nIF(AC7=\"x\",AC$4,\nIF(AD7=\"x\",AD$4,\n\"\"))))))","v":""},{"$f":"\nIF(Z7=\"x\",Z$4,\nIF(AA7=\"x\",AA$4,\nIF(AB7=\"x\",AB$4,\nIF(AC7=\"x\",AC$4,\nIF(AD7=\"x\",AD$4,\n\"\")))))","v":""},{"$f":"\nIF(AA7=\"x\",AA$4,\nIF(AB7=\"x\",AB$4,\nIF(AC7=\"x\",AC$4,\nIF(AD7=\"x\",AD$4,\n\"\"))))","v":""},{"$f":"\nIF(AB7=\"x\",AB$4,\nIF(AC7=\"x\",AC$4,\nIF(AD7=\"x\",AD$4,\n\"\")))","v":""},{"$f":"\nIF(AC7=\"x\",AC$4,\nIF(AD7=\"x\",AD$4,\n\"\"))","v":""},{"$f":"\nIF(AD7=\"x\",AD$4,\n\"\")","v":""},null,{"$f":"AF7","v":"pz."},"",{"$f":"IF(AR7=\"\",\"\",\nIF(AND(AR7<>$AF7,AQ7<>$AF7),$AF7,\nIF(AND(AR7<>$AG7,AQ7<>$AG7),$AG7,\nIF(AND(AR7<>$AH7,AQ7<>$AH7),$AH7,\nIF(AND(AR7<>$AI7,AQ7<>$AI7),$AI7,\nIF(AND(AR7<>$AJ7,AQ7<>$AJ7),$AJ7,\nIF(AND(AR7<>$AK7,AQ7<>$AK7),$AK7,\nIF(AND(AR7<>$AL7,AQ7<>$AL7),$AL7,\nIF(AND(AR7<>$AM7,AQ7<>$AM7),$AM7,\nIF(AND(AR7<>$AN7,AQ7<>$AN7),$AN7,\nIF(AND(AR7<>$AO7,AQ7<>$AO7),$AO7,\n\"\")))))))))))","v":""},{"$f":"IF(AS7=\"\",\"\",\nIF(AND(AQ7<>$AF7,AS7<>$AF7,AR7<>$AF7),$AF7,\nIF(AND(AQ7<>$AG7,AS7<>$AG7,AR7<>$AG7),$AG7,\nIF(AND(AQ7<>$AH7,AS7<>$AH7,AR7<>$AH7),$AH7,\nIF(AND(AQ7<>$AI7,AS7<>$AI7,AR7<>$AI7),$AI7,\nIF(AND(AQ7<>$AJ7,AS7<>$AJ7,AR7<>$AJ7),$AJ7,\nIF(AND(AQ7<>$AK7,AS7<>$AK7,AR7<>$AK7),$AK7,\nIF(AND(AQ7<>$AL7,AS7<>$AL7,AR7<>$AL7),$AL7,\nIF(AND(AQ7<>$AM7,AS7<>$AM7,AR7<>$AM7),$AM7,\nIF(AND(AQ7<>$AN7,AS7<>$AN7,AR7<>$AN7),$AN7,\nIF(AND(AQ7<>$AO7,AS7<>$AO7,AR7<>$AO7),$AO7,\n\"\")))))))))))","v":""},{"$f":"IF(AT7=\"\",\"\",\nIF(AND(AQ7<>$AF7,AR7<>$AF7,AT7<>$AF7,AS7<>$AF7),$AF7,\nIF(AND(AQ7<>$AG7,AR7<>$AG7,AT7<>$AG7,AS7<>$AG7),$AG7,\nIF(AND(AQ7<>$AH7,AR7<>$AH7,AT7<>$AH7,AS7<>$AH7),$AH7,\nIF(AND(AQ7<>$AI7,AR7<>$AI7,AT7<>$AI7,AS7<>$AI7),$AI7,\nIF(AND(AQ7<>$AJ7,AR7<>$AJ7,AT7<>$AJ7,AS7<>$AJ7),$AJ7,\nIF(AND(AQ7<>$AK7,AR7<>$AK7,AT7<>$AK7,AS7<>$AK7),$AK7,\nIF(AND(AQ7<>$AL7,AR7<>$AL7,AT7<>$AL7,AS7<>$AL7),$AL7,\nIF(AND(AQ7<>$AM7,AR7<>$AM7,AT7<>$AM7,AS7<>$AM7),$AM7,\nIF(AND(AQ7<>$AN7,AR7<>$AN7,AT7<>$AN7,AS7<>$AN7),$AN7,\nIF(AND(AQ7<>$AO7,AR7<>$AO7,AT7<>$AO7,AS7<>$AO7),$AO7,\n\"\")))))))))))","v":""},{"$f":"IF(AU7=\"\",\"\",\nIF(AND(AQ7<>$AF7,AR7<>$AF7,AS7<>$AF7,AU7<>$AF7,AT7<>$AF7),$AF7,\nIF(AND(AQ7<>$AG7,AR7<>$AG7,AS7<>$AG7,AU7<>$AG7,AT7<>$AG7),$AG7,\nIF(AND(AQ7<>$AH7,AR7<>$AH7,AS7<>$AH7,AU7<>$AH7,AT7<>$AH7),$AH7,\nIF(AND(AQ7<>$AI7,AR7<>$AI7,AS7<>$AI7,AU7<>$AI7,AT7<>$AI7),$AI7,\nIF(AND(AQ7<>$AJ7,AR7<>$AJ7,AS7<>$AJ7,AU7<>$AJ7,AT7<>$AJ7),$AJ7,\nIF(AND(AQ7<>$AK7,AR7<>$AK7,AS7<>$AK7,AU7<>$AK7,AT7<>$AK7),$AK7,\nIF(AND(AQ7<>$AL7,AR7<>$AL7,AS7<>$AL7,AU7<>$AL7,AT7<>$AL7),$AL7,\nIF(AND(AQ7<>$AM7,AR7<>$AM7,AS7<>$AM7,AU7<>$AM7,AT7<>$AM7),$AM7,\nIF(AND(AQ7<>$AN7,AR7<>$AN7,AS7<>$AN7,AU7<>$AN7,AT7<>$AN7),$AN7,\nIF(AND(AQ7<>$AO7,AR7<>$AO7,AS7<>$AO7,AU7<>$AO7,AT7<>$AO7),$AO7,\n\"\")))))))))))","v":""},{"$f":"IF(AV7=\"\",\"\",\nIF(AND(AQ7<>$AF7,AR7<>$AF7,AS7<>$AF7,AT7<>$AF7,AV7<>$AF7,AU7<>$AF7),$AF7,\nIF(AND(AQ7<>$AG7,AR7<>$AG7,AS7<>$AG7,AT7<>$AG7,AV7<>$AG7,AU7<>$AG7),$AG7,\nIF(AND(AQ7<>$AH7,AR7<>$AH7,AS7<>$AH7,AT7<>$AH7,AV7<>$AH7,AU7<>$AH7),$AH7,\nIF(AND(AQ7<>$AI7,AR7<>$AI7,AS7<>$AI7,AT7<>$AI7,AV7<>$AI7,AU7<>$AI7),$AI7,\nIF(AND(AQ7<>$AJ7,AR7<>$AJ7,AS7<>$AJ7,AT7<>$AJ7,AV7<>$AJ7,AU7<>$AJ7),$AJ7,\nIF(AND(AQ7<>$AK7,AR7<>$AK7,AS7<>$AK7,AT7<>$AK7,AV7<>$AK7,AU7<>$AK7),$AK7,\nIF(AND(AQ7<>$AL7,AR7<>$AL7,AS7<>$AL7,AT7<>$AL7,AV7<>$AL7,AU7<>$AL7),$AL7,\nIF(AND(AQ7<>$AM7,AR7<>$AM7,AS7<>$AM7,AT7<>$AM7,AV7<>$AM7,AU7<>$AM7),$AM7,\nIF(AND(AQ7<>$AN7,AR7<>$AN7,AS7<>$AN7,AT7<>$AN7,AV7<>$AN7,AU7<>$AN7),$AN7,\nIF(AND(AQ7<>$AO7,AR7<>$AO7,AS7<>$AO7,AT7<>$AO7,AV7<>$AO7,AU7<>$AO7),$AO7,\n\"\")))))))))))","v":""},{"$f":"IF(AW7=\"\",\"\",\nIF(AND(AQ7<>$AF7,AR7<>$AF7,AS7<>$AF7,AT7<>$AF7,AU7<>$AF7,AW7<>$AF7,AV7<>$AF7),$AF7,\nIF(AND(AQ7<>$AG7,AR7<>$AG7,AS7<>$AG7,AT7<>$AG7,AU7<>$AG7,AW7<>$AG7,AV7<>$AG7),$AG7,\nIF(AND(AQ7<>$AH7,AR7<>$AH7,AS7<>$AH7,AT7<>$AH7,AU7<>$AH7,AW7<>$AH7,AV7<>$AH7),$AH7,\nIF(AND(AQ7<>$AI7,AR7<>$AI7,AS7<>$AI7,AT7<>$AI7,AU7<>$AI7,AW7<>$AI7,AV7<>$AI7),$AI7,\nIF(AND(AQ7<>$AJ7,AR7<>$AJ7,AS7<>$AJ7,AT7<>$AJ7,AU7<>$AJ7,AW7<>$AJ7,AV7<>$AJ7),$AJ7,\nIF(AND(AQ7<>$AK7,AR7<>$AK7,AS7<>$AK7,AT7<>$AK7,AU7<>$AK7,AW7<>$AK7,AV7<>$AK7),$AK7,\nIF(AND(AQ7<>$AL7,AR7<>$AL7,AS7<>$AL7,AT7<>$AL7,AU7<>$AL7,AW7<>$AL7,AV7<>$AL7),$AL7,\nIF(AND(AQ7<>$AM7,AR7<>$AM7,AS7<>$AM7,AT7<>$AM7,AU7<>$AM7,AW7<>$AM7,AV7<>$AM7),$AM7,\nIF(AND(AQ7<>$AN7,AR7<>$AN7,AS7<>$AN7,AT7<>$AN7,AU7<>$AN7,AW7<>$AN7,AV7<>$AN7),$AN7,\nIF(AND(AQ7<>$AO7,AR7<>$AO7,AS7<>$AO7,AT7<>$AO7,AU7<>$AO7,AW7<>$AO7,AV7<>$AO7),$AO7,\n\"\")))))))))))","v":""},{"$f":"IF(AX7=\"\",\"\",\nIF(AND(AQ7<>$AF7,AR7<>$AF7,AS7<>$AF7,AT7<>$AF7,AU7<>$AF7,AV7<>$AF7,AX7<>$AF7,AW7<>$AF7),$AF7,\nIF(AND(AQ7<>$AG7,AR7<>$AG7,AS7<>$AG7,AT7<>$AG7,AU7<>$AG7,AV7<>$AG7,AX7<>$AG7,AW7<>$AG7),$AG7,\nIF(AND(AQ7<>$AH7,AR7<>$AH7,AS7<>$AH7,AT7<>$AH7,AU7<>$AH7,AV7<>$AH7,AX7<>$AH7,AW7<>$AH7),$AH7,\nIF(AND(AQ7<>$AI7,AR7<>$AI7,AS7<>$AI7,AT7<>$AI7,AU7<>$AI7,AV7<>$AI7,AX7<>$AI7,AW7<>$AI7),$AI7,\nIF(AND(AQ7<>$AJ7,AR7<>$AJ7,AS7<>$AJ7,AT7<>$AJ7,AU7<>$AJ7,AV7<>$AJ7,AX7<>$AJ7,AW7<>$AJ7),$AJ7,\nIF(AND(AQ7<>$AK7,AR7<>$AK7,AS7<>$AK7,AT7<>$AK7,AU7<>$AK7,AV7<>$AK7,AX7<>$AK7,AW7<>$AK7),$AK7,\nIF(AND(AQ7<>$AL7,AR7<>$AL7,AS7<>$AL7,AT7<>$AL7,AU7<>$AL7,AV7<>$AL7,AX7<>$AL7,AW7<>$AL7),$AL7,\nIF(AND(AQ7<>$AM7,AR7<>$AM7,AS7<>$AM7,AT7<>$AM7,AU7<>$AM7,AV7<>$AM7,AX7<>$AM7,AW7<>$AM7),$AM7,\nIF(AND(AQ7<>$AN7,AR7<>$AN7,AS7<>$AN7,AT7<>$AN7,AU7<>$AN7,AV7<>$AN7,AX7<>$AN7,AW7<>$AN7),$AN7,\nIF(AND(AQ7<>$AO7,AR7<>$AO7,AS7<>$AO7,AT7<>$AO7,AU7<>$AO7,AV7<>$AO7,AX7<>$AO7,AW7<>$AO7),$AO7,\n\"\")))))))))))","v":""},{"$f":"IF(AY7=\"\",\"\",\nIF(AND(AQ7<>$AF7,AR7<>$AF7,AS7<>$AF7,AT7<>$AF7,AU7<>$AF7,AV7<>$AF7,AW7<>$AF7,AY7<>$AF7,AX7<>$AF7),$AF7,\nIF(AND(AQ7<>$AG7,AR7<>$AG7,AS7<>$AG7,AT7<>$AG7,AU7<>$AG7,AV7<>$AG7,AW7<>$AG7,AY7<>$AG7,AX7<>$AG7),$AG7,\nIF(AND(AQ7<>$AH7,AR7<>$AH7,AS7<>$AH7,AT7<>$AH7,AU7<>$AH7,AV7<>$AH7,AW7<>$AH7,AY7<>$AH7,AX7<>$AH7),$AH7,\nIF(AND(AQ7<>$AI7,AR7<>$AI7,AS7<>$AI7,AT7<>$AI7,AU7<>$AI7,AV7<>$AI7,AW7<>$AI7,AY7<>$AI7,AX7<>$AI7),$AI7,\nIF(AND(AQ7<>$AJ7,AR7<>$AJ7,AS7<>$AJ7,AT7<>$AJ7,AU7<>$AJ7,AV7<>$AJ7,AW7<>$AJ7,AY7<>$AJ7,AX7<>$AJ7),$AJ7,\nIF(AND(AQ7<>$AK7,AR7<>$AK7,AS7<>$AK7,AT7<>$AK7,AU7<>$AK7,AV7<>$AK7,AW7<>$AK7,AY7<>$AK7,AX7<>$AK7),$AK7,\nIF(AND(AQ7<>$AL7,AR7<>$AL7,AS7<>$AL7,AT7<>$AL7,AU7<>$AL7,AV7<>$AL7,AW7<>$AL7,AY7<>$AL7,AX7<>$AL7),$AL7,\nIF(AND(AQ7<>$AM7,AR7<>$AM7,AS7<>$AM7,AT7<>$AM7,AU7<>$AM7,AV7<>$AM7,AW7<>$AM7,AY7<>$AM7,AX7<>$AM7),$AM7,\nIF(AND(AQ7<>$AN7,AR7<>$AN7,AS7<>$AN7,AT7<>$AN7,AU7<>$AN7,AV7<>$AN7,AW7<>$AN7,AY7<>$AN7,AX7<>$AN7),$AN7,\nIF(AND(AQ7<>$AO7,AR7<>$AO7,AS7<>$AO7,AT7<>$AO7,AU7<>$AO7,AV7<>$AO7,AW7<>$AO7,AY7<>$AO7,AX7<>$AO7),$AO7,\n\"\")))))))))))","v":""}]
[null,1,1,{"$f":"I8","v":"112.000"},{"$f":"J8 & IF(M8<>\"\",CHAR(10) & M8,\"\")","v":"Dimensioni standard (1 - 2m2), > 25 kg\nCaratteristiche: \nCornice nero\nBacksheet nero\nBusbars coperte"},{"$f":"IF(C8=1,K8,\"\")","v":"pz."},null,null,"112.000","Dimensioni standard (1 - 2m2), > 25 kg","pz.","x","Caratteristiche: \nCornice nero\nBacksheet nero\nBusbars coperte",null,null,null,null,null,null,"E100_Moduli_FV","x",null,null,null,null,null,null,null,null,null,null,{"$f":"\nIF(U8=\"x\",U$4,\nIF(V8=\"x\",V$4,\nIF(W8=\"x\",W$4,\nIF(X8=\"x\",X$4,\nIF(Y8=\"x\",Y$4,\nIF(Z8=\"x\",Z$4,\nIF(AA8=\"x\",AA$4,\nIF(AB8=\"x\",AB$4,\nIF(AC8=\"x\",AC$4,\nIF(AD8=\"x\",AD$4,\n\"\"))))))))))","v":"pz."},{"$f":"\nIF(V8=\"x\",V$4,\nIF(W8=\"x\",W$4,\nIF(X8=\"x\",X$4,\nIF(Y8=\"x\",Y$4,\nIF(Z8=\"x\",Z$4,\nIF(AA8=\"x\",AA$4,\nIF(AB8=\"x\",AB$4,\nIF(AC8=\"x\",AC$4,\nIF(AD8=\"x\",AD$4,\n\"\")))))))))","v":""},{"$f":"\nIF(W8=\"x\",W$4,\nIF(X8=\"x\",X$4,\nIF(Y8=\"x\",Y$4,\nIF(Z8=\"x\",Z$4,\nIF(AA8=\"x\",AA$4,\nIF(AB8=\"x\",AB$4,\nIF(AC8=\"x\",AC$4,\nIF(AD8=\"x\",AD$4,\n\"\"))))))))","v":""},{"$f":"\nIF(X8=\"x\",X$4,\nIF(Y8=\"x\",Y$4,\nIF(Z8=\"x\",Z$4,\nIF(AA8=\"x\",AA$4,\nIF(AB8=\"x\",AB$4,\nIF(AC8=\"x\",AC$4,\nIF(AD8=\"x\",AD$4,\n\"\")))))))","v":""},{"$f":"\nIF(Y8=\"x\",Y$4,\nIF(Z8=\"x\",Z$4,\nIF(AA8=\"x\",AA$4,\nIF(AB8=\"x\",AB$4,\nIF(AC8=\"x\",AC$4,\nIF(AD8=\"x\",AD$4,\n\"\"))))))","v":""},{"$f":"\nIF(Z8=\"x\",Z$4,\nIF(AA8=\"x\",AA$4,\nIF(AB8=\"x\",AB$4,\nIF(AC8=\"x\",AC$4,\nIF(AD8=\"x\",AD$4,\n\"\")))))","v":""},{"$f":"\nIF(AA8=\"x\",AA$4,\nIF(AB8=\"x\",AB$4,\nIF(AC8=\"x\",AC$4,\nIF(AD8=\"x\",AD$4,\n\"\"))))","v":""},{"$f":"\nIF(AB8=\"x\",AB$4,\nIF(AC8=\"x\",AC$4,\nIF(AD8=\"x\",AD$4,\n\"\")))","v":""},{"$f":"\nIF(AC8=\"x\",AC$4,\nIF(AD8=\"x\",AD$4,\n\"\"))","v":""},{"$f":"\nIF(AD8=\"x\",AD$4,\n\"\")","v":""},null,{"$f":"AF8","v":"pz."},"",{"$f":"IF(AR8=\"\",\"\",\nIF(AND(AR8<>$AF8,AQ8<>$AF8),$AF8,\nIF(AND(AR8<>$AG8,AQ8<>$AG8),$AG8,\nIF(AND(AR8<>$AH8,AQ8<>$AH8),$AH8,\nIF(AND(AR8<>$AI8,AQ8<>$AI8),$AI8,\nIF(AND(AR8<>$AJ8,AQ8<>$AJ8),$AJ8,\nIF(AND(AR8<>$AK8,AQ8<>$AK8),$AK8,\nIF(AND(AR8<>$AL8,AQ8<>$AL8),$AL8,\nIF(AND(AR8<>$AM8,AQ8<>$AM8),$AM8,\nIF(AND(AR8<>$AN8,AQ8<>$AN8),$AN8,\nIF(AND(AR8<>$AO8,AQ8<>$AO8),$AO8,\n\"\")))))))))))","v":""},{"$f":"IF(AS8=\"\",\"\",\nIF(AND(AQ8<>$AF8,AS8<>$AF8,AR8<>$AF8),$AF8,\nIF(AND(AQ8<>$AG8,AS8<>$AG8,AR8<>$AG8),$AG8,\nIF(AND(AQ8<>$AH8,AS8<>$AH8,AR8<>$AH8),$AH8,\nIF(AND(AQ8<>$AI8,AS8<>$AI8,AR8<>$AI8),$AI8,\nIF(AND(AQ8<>$AJ8,AS8<>$AJ8,AR8<>$AJ8),$AJ8,\nIF(AND(AQ8<>$AK8,AS8<>$AK8,AR8<>$AK8),$AK8,\nIF(AND(AQ8<>$AL8,AS8<>$AL8,AR8<>$AL8),$AL8,\nIF(AND(AQ8<>$AM8,AS8<>$AM8,AR8<>$AM8),$AM8,\nIF(AND(AQ8<>$AN8,AS8<>$AN8,AR8<>$AN8),$AN8,\nIF(AND(AQ8<>$AO8,AS8<>$AO8,AR8<>$AO8),$AO8,\n\"\")))))))))))","v":""},{"$f":"IF(AT8=\"\",\"\",\nIF(AND(AQ8<>$AF8,AR8<>$AF8,AT8<>$AF8,AS8<>$AF8),$AF8,\nIF(AND(AQ8<>$AG8,AR8<>$AG8,AT8<>$AG8,AS8<>$AG8),$AG8,\nIF(AND(AQ8<>$AH8,AR8<>$AH8,AT8<>$AH8,AS8<>$AH8),$AH8,\nIF(AND(AQ8<>$AI8,AR8<>$AI8,AT8<>$AI8,AS8<>$AI8),$AI8,\nIF(AND(AQ8<>$AJ8,AR8<>$AJ8,AT8<>$AJ8,AS8<>$AJ8),$AJ8,\nIF(AND(AQ8<>$AK8,AR8<>$AK8,AT8<>$AK8,AS8<>$AK8),$AK8,\nIF(AND(AQ8<>$AL8,AR8<>$AL8,AT8<>$AL8,AS8<>$AL8),$AL8,\nIF(AND(AQ8<>$AM8,AR8<>$AM8,AT8<>$AM8,AS8<>$AM8),$AM8,\nIF(AND(AQ8<>$AN8,AR8<>$AN8,AT8<>$AN8,AS8<>$AN8),$AN8,\nIF(AND(AQ8<>$AO8,AR8<>$AO8,AT8<>$AO8,AS8<>$AO8),$AO8,\n\"\")))))))))))","v":""},{"$f":"IF(AU8=\"\",\"\",\nIF(AND(AQ8<>$AF8,AR8<>$AF8,AS8<>$AF8,AU8<>$AF8,AT8<>$AF8),$AF8,\nIF(AND(AQ8<>$AG8,AR8<>$AG8,AS8<>$AG8,AU8<>$AG8,AT8<>$AG8),$AG8,\nIF(AND(AQ8<>$AH8,AR8<>$AH8,AS8<>$AH8,AU8<>$AH8,AT8<>$AH8),$AH8,\nIF(AND(AQ8<>$AI8,AR8<>$AI8,AS8<>$AI8,AU8<>$AI8,AT8<>$AI8),$AI8,\nIF(AND(AQ8<>$AJ8,AR8<>$AJ8,AS8<>$AJ8,AU8<>$AJ8,AT8<>$AJ8),$AJ8,\nIF(AND(AQ8<>$AK8,AR8<>$AK8,AS8<>$AK8,AU8<>$AK8,AT8<>$AK8),$AK8,\nIF(AND(AQ8<>$AL8,AR8<>$AL8,AS8<>$AL8,AU8<>$AL8,AT8<>$AL8),$AL8,\nIF(AND(AQ8<>$AM8,AR8<>$AM8,AS8<>$AM8,AU8<>$AM8,AT8<>$AM8),$AM8,\nIF(AND(AQ8<>$AN8,AR8<>$AN8,AS8<>$AN8,AU8<>$AN8,AT8<>$AN8),$AN8,\nIF(AND(AQ8<>$AO8,AR8<>$AO8,AS8<>$AO8,AU8<>$AO8,AT8<>$AO8),$AO8,\n\"\")))))))))))","v":""},{"$f":"IF(AV8=\"\",\"\",\nIF(AND(AQ8<>$AF8,AR8<>$AF8,AS8<>$AF8,AT8<>$AF8,AV8<>$AF8,AU8<>$AF8),$AF8,\nIF(AND(AQ8<>$AG8,AR8<>$AG8,AS8<>$AG8,AT8<>$AG8,AV8<>$AG8,AU8<>$AG8),$AG8,\nIF(AND(AQ8<>$AH8,AR8<>$AH8,AS8<>$AH8,AT8<>$AH8,AV8<>$AH8,AU8<>$AH8),$AH8,\nIF(AND(AQ8<>$AI8,AR8<>$AI8,AS8<>$AI8,AT8<>$AI8,AV8<>$AI8,AU8<>$AI8),$AI8,\nIF(AND(AQ8<>$AJ8,AR8<>$AJ8,AS8<>$AJ8,AT8<>$AJ8,AV8<>$AJ8,AU8<>$AJ8),$AJ8,\nIF(AND(AQ8<>$AK8,AR8<>$AK8,AS8<>$AK8,AT8<>$AK8,AV8<>$AK8,AU8<>$AK8),$AK8,\nIF(AND(AQ8<>$AL8,AR8<>$AL8,AS8<>$AL8,AT8<>$AL8,AV8<>$AL8,AU8<>$AL8),$AL8,\nIF(AND(AQ8<>$AM8,AR8<>$AM8,AS8<>$AM8,AT8<>$AM8,AV8<>$AM8,AU8<>$AM8),$AM8,\nIF(AND(AQ8<>$AN8,AR8<>$AN8,AS8<>$AN8,AT8<>$AN8,AV8<>$AN8,AU8<>$AN8),$AN8,\nIF(AND(AQ8<>$AO8,AR8<>$AO8,AS8<>$AO8,AT8<>$AO8,AV8<>$AO8,AU8<>$AO8),$AO8,\n\"\")))))))))))","v":""},{"$f":"IF(AW8=\"\",\"\",\nIF(AND(AQ8<>$AF8,AR8<>$AF8,AS8<>$AF8,AT8<>$AF8,AU8<>$AF8,AW8<>$AF8,AV8<>$AF8),$AF8,\nIF(AND(AQ8<>$AG8,AR8<>$AG8,AS8<>$AG8,AT8<>$AG8,AU8<>$AG8,AW8<>$AG8,AV8<>$AG8),$AG8,\nIF(AND(AQ8<>$AH8,AR8<>$AH8,AS8<>$AH8,AT8<>$AH8,AU8<>$AH8,AW8<>$AH8,AV8<>$AH8),$AH8,\nIF(AND(AQ8<>$AI8,AR8<>$AI8,AS8<>$AI8,AT8<>$AI8,AU8<>$AI8,AW8<>$AI8,AV8<>$AI8),$AI8,\nIF(AND(AQ8<>$AJ8,AR8<>$AJ8,AS8<>$AJ8,AT8<>$AJ8,AU8<>$AJ8,AW8<>$AJ8,AV8<>$AJ8),$AJ8,\nIF(AND(AQ8<>$AK8,AR8<>$AK8,AS8<>$AK8,AT8<>$AK8,AU8<>$AK8,AW8<>$AK8,AV8<>$AK8),$AK8,\nIF(AND(AQ8<>$AL8,AR8<>$AL8,AS8<>$AL8,AT8<>$AL8,AU8<>$AL8,AW8<>$AL8,AV8<>$AL8),$AL8,\nIF(AND(AQ8<>$AM8,AR8<>$AM8,AS8<>$AM8,AT8<>$AM8,AU8<>$AM8,AW8<>$AM8,AV8<>$AM8),$AM8,\nIF(AND(AQ8<>$AN8,AR8<>$AN8,AS8<>$AN8,AT8<>$AN8,AU8<>$AN8,AW8<>$AN8,AV8<>$AN8),$AN8,\nIF(AND(AQ8<>$AO8,AR8<>$AO8,AS8<>$AO8,AT8<>$AO8,AU8<>$AO8,AW8<>$AO8,AV8<>$AO8),$AO8,\n\"\")))))))))))","v":""},{"$f":"IF(AX8=\"\",\"\",\nIF(AND(AQ8<>$AF8,AR8<>$AF8,AS8<>$AF8,AT8<>$AF8,AU8<>$AF8,AV8<>$AF8,AX8<>$AF8,AW8<>$AF8),$AF8,\nIF(AND(AQ8<>$AG8,AR8<>$AG8,AS8<>$AG8,AT8<>$AG8,AU8<>$AG8,AV8<>$AG8,AX8<>$AG8,AW8<>$AG8),$AG8,\nIF(AND(AQ8<>$AH8,AR8<>$AH8,AS8<>$AH8,AT8<>$AH8,AU8<>$AH8,AV8<>$AH8,AX8<>$AH8,AW8<>$AH8),$AH8,\nIF(AND(AQ8<>$AI8,AR8<>$AI8,AS8<>$AI8,AT8<>$AI8,AU8<>$AI8,AV8<>$AI8,AX8<>$AI8,AW8<>$AI8),$AI8,\nIF(AND(AQ8<>$AJ8,AR8<>$AJ8,AS8<>$AJ8,AT8<>$AJ8,AU8<>$AJ8,AV8<>$AJ8,AX8<>$AJ8,AW8<>$AJ8),$AJ8,\nIF(AND(AQ8<>$AK8,AR8<>$AK8,AS8<>$AK8,AT8<>$AK8,AU8<>$AK8,AV8<>$AK8,AX8<>$AK8,AW8<>$AK8),$AK8,\nIF(AND(AQ8<>$AL8,AR8<>$AL8,AS8<>$AL8,AT8<>$AL8,AU8<>$AL8,AV8<>$AL8,AX8<>$AL8,AW8<>$AL8),$AL8,\nIF(AND(AQ8<>$AM8,AR8<>$AM8,AS8<>$AM8,AT8<>$AM8,AU8<>$AM8,AV8<>$AM8,AX8<>$AM8,AW8<>$AM8),$AM8,\nIF(AND(AQ8<>$AN8,AR8<>$AN8,AS8<>$AN8,AT8<>$AN8,AU8<>$AN8,AV8<>$AN8,AX8<>$AN8,AW8<>$AN8),$AN8,\nIF(AND(AQ8<>$AO8,AR8<>$AO8,AS8<>$AO8,AT8<>$AO8,AU8<>$AO8,AV8<>$AO8,AX8<>$AO8,AW8<>$AO8),$AO8,\n\"\")))))))))))","v":""},{"$f":"IF(AY8=\"\",\"\",\nIF(AND(AQ8<>$AF8,AR8<>$AF8,AS8<>$AF8,AT8<>$AF8,AU8<>$AF8,AV8<>$AF8,AW8<>$AF8,AY8<>$AF8,AX8<>$AF8),$AF8,\nIF(AND(AQ8<>$AG8,AR8<>$AG8,AS8<>$AG8,AT8<>$AG8,AU8<>$AG8,AV8<>$AG8,AW8<>$AG8,AY8<>$AG8,AX8<>$AG8),$AG8,\nIF(AND(AQ8<>$AH8,AR8<>$AH8,AS8<>$AH8,AT8<>$AH8,AU8<>$AH8,AV8<>$AH8,AW8<>$AH8,AY8<>$AH8,AX8<>$AH8),$AH8,\nIF(AND(AQ8<>$AI8,AR8<>$AI8,AS8<>$AI8,AT8<>$AI8,AU8<>$AI8,AV8<>$AI8,AW8<>$AI8,AY8<>$AI8,AX8<>$AI8),$AI8,\nIF(AND(AQ8<>$AJ8,AR8<>$AJ8,AS8<>$AJ8,AT8<>$AJ8,AU8<>$AJ8,AV8<>$AJ8,AW8<>$AJ8,AY8<>$AJ8,AX8<>$AJ8),$AJ8,\nIF(AND(AQ8<>$AK8,AR8<>$AK8,AS8<>$AK8,AT8<>$AK8,AU8<>$AK8,AV8<>$AK8,AW8<>$AK8,AY8<>$AK8,AX8<>$AK8),$AK8,\nIF(AND(AQ8<>$AL8,AR8<>$AL8,AS8<>$AL8,AT8<>$AL8,AU8<>$AL8,AV8<>$AL8,AW8<>$AL8,AY8<>$AL8,AX8<>$AL8),$AL8,\nIF(AND(AQ8<>$AM8,AR8<>$AM8,AS8<>$AM8,AT8<>$AM8,AU8<>$AM8,AV8<>$AM8,AW8<>$AM8,AY8<>$AM8,AX8<>$AM8),$AM8,\nIF(AND(AQ8<>$AN8,AR8<>$AN8,AS8<>$AN8,AT8<>$AN8,AU8<>$AN8,AV8<>$AN8,AW8<>$AN8,AY8<>$AN8,AX8<>$AN8),$AN8,\nIF(AND(AQ8<>$AO8,AR8<>$AO8,AS8<>$AO8,AT8<>$AO8,AU8<>$AO8,AV8<>$AO8,AW8<>$AO8,AY8<>$AO8,AX8<>$AO8),$AO8,\n\"\")))))))))))","v":""}]
[null,0,0,"113.000",{"$f":"J9 & IF(M9<>\"\",CHAR(10) & M9,\"\")","v":"Formato superiore (> 2 m2) < 25 kg"},"",null,null,"113.000","Formato superiore (> 2 m2) < 25 kg","pz.",null,null,null,null,null,null,null,null,"E100_Moduli_FV","x",null,null,null,null,null,null,null,null,null,null,"pz.","","","","","","","","","",null,"pz.","","","","","","","","",""]
[null,0,0,"114.000","Formato superiore (> 2 m2) > 25 kg","",null,null,"114.000","Formato superiore (> 2 m2) > 25 kg","pz.",null,null,null,null,null,null,null,null,"E100_Moduli_FV","x",null,null,null,null,null,null,null,null,null,null,"pz.","","","","","","","","","",null,"pz.","",{"$f":"IF(AR10=\"\",\"\",\nIF(AND(AR10<>$AF10,AQ10<>$AF10),$AF10,\nIF(AND(AR10<>$AG10,AQ10<>$AG10),$AG10,\nIF(AND(AR10<>$AH10,AQ10<>$AH10),$AH10,\nIF(AND(AR10<>$AI10,AQ10<>$AI10),$AI10,\nIF(AND(AR10<>$AJ10,AQ10<>$AJ10),$AJ10,\nIF(AND(AR10<>$AK10,AQ10<>$AK10),$AK10,\nIF(AND(AR10<>$AL10,AQ10<>$AL10),$AL10,\nIF(AND(AR10<>$AM10,AQ10<>$AM10),$AM10,\nIF(AND(AR10<>$AN10,AQ10<>$AN10),$AN10,\nIF(AND(AR10<>$AO10,AQ10<>$AO10),$AO10,\n\"\")))))))))))","v":""},{"$f":"IF(AS10=\"\",\"\",\nIF(AND(AQ10<>$AF10,AS10<>$AF10,AR10<>$AF10),$AF10,\nIF(AND(AQ10<>$AG10,AS10<>$AG10,AR10<>$AG10),$AG10,\nIF(AND(AQ10<>$AH10,AS10<>$AH10,AR10<>$AH10),$AH10,\nIF(AND(AQ10<>$AI10,AS10<>$AI10,AR10<>$AI10),$AI10,\nIF(AND(AQ10<>$AJ10,AS10<>$AJ10,AR10<>$AJ10),$AJ10,\nIF(AND(AQ10<>$AK10,AS10<>$AK10,AR10<>$AK10),$AK10,\nIF(AND(AQ10<>$AL10,AS10<>$AL10,AR10<>$AL10),$AL10,\nIF(AND(AQ10<>$AM10,AS10<>$AM10,AR10<>$AM10),$AM10,\nIF(AND(AQ10<>$AN10,AS10<>$AN10,AR10<>$AN10),$AN10,\nIF(AND(AQ10<>$AO10,AS10<>$AO10,AR10<>$AO10),$AO10,\n\"\")))))))))))","v":""},{"$f":"IF(AT10=\"\",\"\",\nIF(AND(AQ10<>$AF10,AR10<>$AF10,AT10<>$AF10,AS10<>$AF10),$AF10,\nIF(AND(AQ10<>$AG10,AR10<>$AG10,AT10<>$AG10,AS10<>$AG10),$AG10,\nIF(AND(AQ10<>$AH10,AR10<>$AH10,AT10<>$AH10,AS10<>$AH10),$AH10,\nIF(AND(AQ10<>$AI10,AR10<>$AI10,AT10<>$AI10,AS10<>$AI10),$AI10,\nIF(AND(AQ10<>$AJ10,AR10<>$AJ10,AT10<>$AJ10,AS10<>$AJ10),$AJ10,\nIF(AND(AQ10<>$AK10,AR10<>$AK10,AT10<>$AK10,AS10<>$AK10),$AK10,\nIF(AND(AQ10<>$AL10,AR10<>$AL10,AT10<>$AL10,AS10<>$AL10),$AL10,\nIF(AND(AQ10<>$AM10,AR10<>$AM10,AT10<>$AM10,AS10<>$AM10),$AM10,\nIF(AND(AQ10<>$AN10,AR10<>$AN10,AT10<>$AN10,AS10<>$AN10),$AN10,\nIF(AND(AQ10<>$AO10,AR10<>$AO10,AT10<>$AO10,AS10<>$AO10),$AO10,\n\"\")))))))))))","v":""},{"$f":"IF(AU10=\"\",\"\",\nIF(AND(AQ10<>$AF10,AR10<>$AF10,AS10<>$AF10,AU10<>$AF10,AT10<>$AF10),$AF10,\nIF(AND(AQ10<>$AG10,AR10<>$AG10,AS10<>$AG10,AU10<>$AG10,AT10<>$AG10),$AG10,\nIF(AND(AQ10<>$AH10,AR10<>$AH10,AS10<>$AH10,AU10<>$AH10,AT10<>$AH10),$AH10,\nIF(AND(AQ10<>$AI10,AR10<>$AI10,AS10<>$AI10,AU10<>$AI10,AT10<>$AI10),$AI10,\nIF(AND(AQ10<>$AJ10,AR10<>$AJ10,AS10<>$AJ10,AU10<>$AJ10,AT10<>$AJ10),$AJ10,\nIF(AND(AQ10<>$AK10,AR10<>$AK10,AS10<>$AK10,AU10<>$AK10,AT10<>$AK10),$AK10,\nIF(AND(AQ10<>$AL10,AR10<>$AL10,AS10<>$AL10,AU10<>$AL10,AT10<>$AL10),$AL10,\nIF(AND(AQ10<>$AM10,AR10<>$AM10,AS10<>$AM10,AU10<>$AM10,AT10<>$AM10),$AM10,\nIF(AND(AQ10<>$AN10,AR10<>$AN10,AS10<>$AN10,AU10<>$AN10,AT10<>$AN10),$AN10,\nIF(AND(AQ10<>$AO10,AR10<>$AO10,AS10<>$AO10,AU10<>$AO10,AT10<>$AO10),$AO10,\n\"\")))))))))))","v":""},{"$f":"IF(AV10=\"\",\"\",\nIF(AND(AQ10<>$AF10,AR10<>$AF10,AS10<>$AF10,AT10<>$AF10,AV10<>$AF10,AU10<>$AF10),$AF10,\nIF(AND(AQ10<>$AG10,AR10<>$AG10,AS10<>$AG10,AT10<>$AG10,AV10<>$AG10,AU10<>$AG10),$AG10,\nIF(AND(AQ10<>$AH10,AR10<>$AH10,AS10<>$AH10,AT10<>$AH10,AV10<>$AH10,AU10<>$AH10),$AH10,\nIF(AND(AQ10<>$AI10,AR10<>$AI10,AS10<>$AI10,AT10<>$AI10,AV10<>$AI10,AU10<>$AI10),$AI10,\nIF(AND(AQ10<>$AJ10,AR10<>$AJ10,AS10<>$AJ10,AT10<>$AJ10,AV10<>$AJ10,AU10<>$AJ10),$AJ10,\nIF(AND(AQ10<>$AK10,AR10<>$AK10,AS10<>$AK10,AT10<>$AK10,AV10<>$AK10,AU10<>$AK10),$AK10,\nIF(AND(AQ10<>$AL10,AR10<>$AL10,AS10<>$AL10,AT10<>$AL10,AV10<>$AL10,AU10<>$AL10),$AL10,\nIF(AND(AQ10<>$AM10,AR10<>$AM10,AS10<>$AM10,AT10<>$AM10,AV10<>$AM10,AU10<>$AM10),$AM10,\nIF(AND(AQ10<>$AN10,AR10<>$AN10,AS10<>$AN10,AT10<>$AN10,AV10<>$AN10,AU10<>$AN10),$AN10,\nIF(AND(AQ10<>$AO10,AR10<>$AO10,AS10<>$AO10,AT10<>$AO10,AV10<>$AO10,AU10<>$AO10),$AO10,\n\"\")))))))))))","v":""},{"$f":"IF(AW10=\"\",\"\",\nIF(AND(AQ10<>$AF10,AR10<>$AF10,AS10<>$AF10,AT10<>$AF10,AU10<>$AF10,AW10<>$AF10,AV10<>$AF10),$AF10,\nIF(AND(AQ10<>$AG10,AR10<>$AG10,AS10<>$AG10,AT10<>$AG10,AU10<>$AG10,AW10<>$AG10,AV10<>$AG10),$AG10,\nIF(AND(AQ10<>$AH10,AR10<>$AH10,AS10<>$AH10,AT10<>$AH10,AU10<>$AH10,AW10<>$AH10,AV10<>$AH10),$AH10,\nIF(AND(AQ10<>$AI10,AR10<>$AI10,AS10<>$AI10,AT10<>$AI10,AU10<>$AI10,AW10<>$AI10,AV10<>$AI10),$AI10,\nIF(AND(AQ10<>$AJ10,AR10<>$AJ10,AS10<>$AJ10,AT10<>$AJ10,AU10<>$AJ10,AW10<>$AJ10,AV10<>$AJ10),$AJ10,\nIF(AND(AQ10<>$AK10,AR10<>$AK10,AS10<>$AK10,AT10<>$AK10,AU10<>$AK10,AW10<>$AK10,AV10<>$AK10),$AK10,\nIF(AND(AQ10<>$AL10,AR10<>$AL10,AS10<>$AL10,AT10<>$AL10,AU10<>$AL10,AW10<>$AL10,AV10<>$AL10),$AL10,\nIF(AND(AQ10<>$AM10,AR10<>$AM10,AS10<>$AM10,AT10<>$AM10,AU10<>$AM10,AW10<>$AM10,AV10<>$AM10),$AM10,\nIF(AND(AQ10<>$AN10,AR10<>$AN10,AS10<>$AN10,AT10<>$AN10,AU10<>$AN10,AW10<>$AN10,AV10<>$AN10),$AN10,\nIF(AND(AQ10<>$AO10,AR10<>$AO10,AS10<>$AO10,AT10<>$AO10,AU10<>$AO10,AW10<>$AO10,AV10<>$AO10),$AO10,\n\"\")))))))))))","v":""},{"$f":"IF(AX10=\"\",\"\",\nIF(AND(AQ10<>$AF10,AR10<>$AF10,AS10<>$AF10,AT10<>$AF10,AU10<>$AF10,AV10<>$AF10,AX10<>$AF10,AW10<>$AF10),$AF10,\nIF(AND(AQ10<>$AG10,AR10<>$AG10,AS10<>$AG10,AT10<>$AG10,AU10<>$AG10,AV10<>$AG10,AX10<>$AG10,AW10<>$AG10),$AG10,\nIF(AND(AQ10<>$AH10,AR10<>$AH10,AS10<>$AH10,AT10<>$AH10,AU10<>$AH10,AV10<>$AH10,AX10<>$AH10,AW10<>$AH10),$AH10,\nIF(AND(AQ10<>$AI10,AR10<>$AI10,AS10<>$AI10,AT10<>$AI10,AU10<>$AI10,AV10<>$AI10,AX10<>$AI10,AW10<>$AI10),$AI10,\nIF(AND(AQ10<>$AJ10,AR10<>$AJ10,AS10<>$AJ10,AT10<>$AJ10,AU10<>$AJ10,AV10<>$AJ10,AX10<>$AJ10,AW10<>$AJ10),$AJ10,\nIF(AND(AQ10<>$AK10,AR10<>$AK10,AS10<>$AK10,AT10<>$AK10,AU10<>$AK10,AV10<>$AK10,AX10<>$AK10,AW10<>$AK10),$AK10,\nIF(AND(AQ10<>$AL10,AR10<>$AL10,AS10<>$AL10,AT10<>$AL10,AU10<>$AL10,AV10<>$AL10,AX10<>$AL10,AW10<>$AL10),$AL10,\nIF(AND(AQ10<>$AM10,AR10<>$AM10,AS10<>$AM10,AT10<>$AM10,AU10<>$AM10,AV10<>$AM10,AX10<>$AM10,AW10<>$AM10),$AM10,\nIF(AND(AQ10<>$AN10,AR10<>$AN10,AS10<>$AN10,AT10<>$AN10,AU10<>$AN10,AV10<>$AN10,AX10<>$AN10,AW10<>$AN10),$AN10,\nIF(AND(AQ10<>$AO10,AR10<>$AO10,AS10<>$AO10,AT10<>$AO10,AU10<>$AO10,AV10<>$AO10,AX10<>$AO10,AW10<>$AO10),$AO10,\n\"\")))))))))))","v":""},{"$f":"IF(AY10=\"\",\"\",\nIF(AND(AQ10<>$AF10,AR10<>$AF10,AS10<>$AF10,AT10<>$AF10,AU10<>$AF10,AV10<>$AF10,AW10<>$AF10,AY10<>$AF10,AX10<>$AF10),$AF10,\nIF(AND(AQ10<>$AG10,AR10<>$AG10,AS10<>$AG10,AT10<>$AG10,AU10<>$AG10,AV10<>$AG10,AW10<>$AG10,AY10<>$AG10,AX10<>$AG10),$AG10,\nIF(AND(AQ10<>$AH10,AR10<>$AH10,AS10<>$AH10,AT10<>$AH10,AU10<>$AH10,AV10<>$AH10,AW10<>$AH10,AY10<>$AH10,AX10<>$AH10),$AH10,\nIF(AND(AQ10<>$AI10,AR10<>$AI10,AS10<>$AI10,AT10<>$AI10,AU10<>$AI10,AV10<>$AI10,AW10<>$AI10,AY10<>$AI10,AX10<>$AI10),$AI10,\nIF(AND(AQ10<>$AJ10,AR10<>$AJ10,AS10<>$AJ10,AT10<>$AJ10,AU10<>$AJ10,AV10<>$AJ10,AW10<>$AJ10,AY10<>$AJ10,AX10<>$AJ10),$AJ10,\nIF(AND(AQ10<>$AK10,AR10<>$AK10,AS10<>$AK10,AT10<>$AK10,AU10<>$AK10,AV10<>$AK10,AW10<>$AK10,AY10<>$AK10,AX10<>$AK10),$AK10,\nIF(AND(AQ10<>$AL10,AR10<>$AL10,AS10<>$AL10,AT10<>$AL10,AU10<>$AL10,AV10<>$AL10,AW10<>$AL10,AY10<>$AL10,AX10<>$AL10),$AL10,\nIF(AND(AQ10<>$AM10,AR10<>$AM10,AS10<>$AM10,AT10<>$AM10,AU10<>$AM10,AV10<>$AM10,AW10<>$AM10,AY10<>$AM10,AX10<>$AM10),$AM10,\nIF(AND(AQ10<>$AN10,AR10<>$AN10,AS10<>$AN10,AT10<>$AN10,AU10<>$AN10,AV10<>$AN10,AW10<>$AN10,AY10<>$AN10,AX10<>$AN10),$AN10,\nIF(AND(AQ10<>$AO10,AR10<>$AO10,AS10<>$AO10,AT10<>$AO10,AU10<>$AO10,AV10<>$AO10,AW10<>$AO10,AY10<>$AO10,AX10<>$AO10),$AO10,\n\"\")))))))))))","v":""}]
[null,0,0,"115.000","Tegole FV (< 1 m2); < 25 kg","",null,null,"115.000","Tegole FV (< 1 m2); < 25 kg","pz.",null,null,null,null,null,null,null,null,"E100_Moduli_FV","x",null,null,null,null,null,null,null,null,null,null,"pz.","","","","","","","","","",null,"pz.","","","","","","","","",""]
[null,0,0,"116.000","Tegole FV (< 1 m2); > 25 kg","",null,null,"116.000","Tegole FV (< 1 m2); > 25 kg","pz.",null,null,null,null,null,null,null,null,"E100_Moduli_FV","x",null,null,null,null,null,null,null,null,null,null,"pz.","","","","","","","","","",null,"pz.","","","","","","","","",""]
[null,{"$f":"B6","v":1},0,null,null,"",null,null,null,null,null,null,null,null,null,null,null,null,null,null,null,null,null,null,null,null,null,null,null,null,null,"","","","","","","","","","",null,"","","","","","","","","",""]
[null,{"$f":"IF(SUM(B15:B20)>0,1,0)","v":0},0,{"$f":"G14","v":"120.000"},{"$f":"H14","v":"Vetro/foglio senza cornice, per impianto annesso"},"","120.000","Vetro/foglio senza cornice, per impianto annesso",null,null,null,null,null,null,null,null,null,null,null,"E100_Moduli_FV_senza_telaio",null,null,null,null,null,null,null,null,null,null,null,"","","","","","","","","","",null,"","","","","","","","","",""]
[null,{"$f":"IF(L15=\"x\",1,IF(ISNUMBER(L15),L15,0))","v":0},0,{"$f":"I15","v":"121.000"},{"$f":"J15 & IF(M15<>\"\",CHAR(10) & M15,\"\")","v":"Dimensioni standard (1 - 2m2), < 25 kg"},"",null,null,"121.000","Dimensioni standard (1 - 2m2), < 25 kg","pz.",null,null,null,null,null,null,null,null,"E100_Moduli_FV_senza_telaio","x",null,null,null,null,null,null,null,null,null,null,"pz.","","","","","","","","","",null,"pz.","","","","","","","","",""]
[null,0,0,{"$f":"I16","v":"122.000"},"Dimensioni standard (1 - 2m2), > 25 kg","",null,null,"122.000","Dimensioni standard (1 - 2m2), > 25 kg","pz.",null,null,null,null,null,null,null,null,"E100_Moduli_FV_senza_telaio","x",null,null,null,null,null,null,null,null,null,null,"pz.","","","","","","","","","",null,"pz.","","","","","","","","",""]
[null,0,0,"123.000","Formato superiore (> 2 m2) < 25 kg","",null,null,"123.000","Formato superiore (> 2 m2) < 25 kg","pz.",null,null,null,null,null,null,null,null,"E100_Moduli_FV_senza_telaio","x",null,null,null,null,null,null,null,null,null,null,"pz.","","","","","","","","","",null,"pz.","","","","","","","","",""]
[null,0,0,"124.000","Formato superiore (> 2 m2) > 25 kg","",null,null,"124.000","Formato superiore (> 2 m2) > 25 kg","pz.",null,null,null,null,null,null,null,null,"E100_Moduli_FV_senza_telaio","x",null,null,null,null,null,null,null,null,null,null,"pz.","","","","","","","","","",null,"pz.","","","","","","","","",""]
[null,0,0,"125.000","Tegole FV (< 1 m2); < 25 kg","",null,null,"125.000","Tegole FV (< 1 m2); < 25 kg","pz.",null,null,null,null,null,null,null,null,"E100_Moduli_FV_senza_telaio","x",null,null,null,null,null,null,null,null,null,null,"pz.","","","","","","","","","",null,"pz.","","","","","","","","",""]
[null,0,0,"126.000","Tegole FV (< 1 m2); > 25 kg","",null,null,"126.000","Tegole FV (< 1 m2); > 25 kg","pz.",null,null,null,null,null,null,null,null,"E100_Moduli_FV_senza_telaio","x",null,null,null,null,null,null,null,null,null,null,"pz.","","","","","","","","","",null,"pz.","","","","","","","","",""]
[null,{"$f":"B14","v":0},0,null,null,"",null,null,null,null,null,null,null,null,null,null,null,null,null,null,null,null,null,null,null,null,null,null,null,null,null,"","","","","","","","","","",null,"","","","","","","","","",""]
[null,{"$f":"IF(SUM(B23:B28)>0,1,0)","v":0},0,{"$f":"G22","v":"130.000"},{"$f":"H22","v":"Vetro/vetro con cornice, per impianto annesso"},"","130.000","Vetro/vetro con cornice, per impianto annesso",null,null,null,null,null,null,null,null,null,null,null,null,null,null,null,null,null,null,null,null,null,null,null,"","","","","","","","","","",null,"","","","","","","","","",""]
[null,{"$f":"IF(L23=\"x\",1,IF(ISNUMBER(L23),L23,0))","v":0},0,{"$f":"I23","v":"131.000"},{"$f":"J23 & IF(M23<>\"\",CHAR(10) & M23,\"\")","v":"Dimensioni standard (1 - 2m2), < 25 kg"},"",null,null,"131.000","Dimensioni standard (1 - 2m2), < 25 kg","pz.",null,null,null,null,null,null,null,null,"E100_Moduli_FV","x",null,null,null,null,null,null,null,null,null,null,"pz.","","","","","","","","","",null,"pz.","","","","","","","","",""]
[null,0,0,{"$f":"I24","v":"132.000"},"Dimensioni standard (1 - 2m2), > 25 kg","",null,null,"132.000","Dimensioni standard (1 - 2m2), > 25 kg","pz.",null,null,null,null,null,null,null,null,"E100_Moduli_FV","x",null,null,null,null,null,null,null,null,null,null,"pz.","","","","","","","","","",null,"pz.","","","","","","","","",""]
[null,0,0,"133.000","Formato superiore (> 2 m2) < 25 kg","",null,null,"133.000","Formato superiore (> 2 m2) < 25 kg","pz.",null,null,null,null,null,null,null,null,"E100_Moduli_FV","x",null,null,null,null,null,null,null,null,null,null,"pz.","","","","","","","","","",null,"pz.","","","","","","","","",""]
[null,0,0,"134.000","Formato superiore (> 2 m2) > 25 kg","",null,null,"134.000","Formato superiore (> 2 m2) > 25 kg","pz.",null,null,null,null,null,null,null,null,"E100_Moduli_FV","x",null,null,null,null,null,null,null,null,null,null,"pz.","","","","","","","","","",null,"pz.","","","","","","","","",""]
[null,0,0,"135.000","Tegole FV (< 1 m2); < 25 kg","",null,null,"135.000","Tegole FV (< 1 m2); < 25 kg","pz.",null,null,null,null,null,null,null,null,"E100_Moduli_FV","x",null,null,null,null,null,null,null,null,null,null,"pz.","","","","","","","","","",null,"pz.","","","","","","","","",""]
[null,0,0,"136.000","Tegole FV (< 1 m2); > 25 kg","",null,null,"136.000","Tegole FV (< 1 m2); > 25 kg","pz.",null,null,null,null,null,null,null,null,"E100_Moduli_FV","x",null,null,null,null,null,null,null,null,null,null,"pz.","","","","","","","","","",null,"pz.","","","","","","","","",""]
[null,{"$f":"B22","v":0},0,null,null,"",null,null,null,null,null,null,null,null,null,null,null,null,null,null,null,null,null,null,null,null,null,null,null,null,null,"","","","","","","","","","",null,"","","","","","","","","",""]
[null,{"$f":"IF(SUM(B31:B36)>0,1,0)","v":0},0,{"$f":"G30","v":"140.000"},{"$f":"H30","v":"Vetro/vetro senza cornice, per impianto annesso"},"","140.000","Vetro/vetro senza cornice, per impianto annesso",null,null,null,null,null,null,null,null,null,null,null,"E100_Moduli_FV_senza_telaio",null,null,null,null,null,null,null,null,null,null,null,"","","","","","","","","","",null,"","","","","","","","","",""]
[null,{"$f":"IF(L31=\"x\",1,IF(ISNUMBER(L31),L31,0))","v":0},0,{"$f":"I31","v":"141.000"},{"$f":"J31 & IF(M31<>\"\",CHAR(10) & M31,\"\")","v":"Dimensioni standard (1 - 2m2), < 25 kg"},"",null,null,"141.000","Dimensioni standard (1 - 2m2), < 25 kg","pz.",null,null,null,null,null,null,null,null,"E100_Moduli_FV_senza_telaio","x",null,null,null,null,null,null,null,null,null,null,"pz.","","","","","","","","","",null,"pz.","","","","","","","","",""]
[null,0,0,{"$f":"I32","v":"142.000"},"Dimensioni standard (1 - 2m2), > 25 kg","",null,null,"142.000","Dimensioni standard (1 - 2m2), > 25 kg","pz.",null,null,null,null,null,null,null,null,"E100_Moduli_FV_senza_telaio","x",null,null,null,null,null,null,null,null,null,null,"pz.","","","","","","","","","",null,"pz.","","","","","","","","",""]
[null,0,0,"143.000","Formato superiore (> 2 m2) < 25 kg","",null,null,"143.000","Formato superiore (> 2 m2) < 25 kg","pz.",null,null,null,null,null,null,null,null,"E100_Moduli_FV_senza_telaio","x",null,null,null,null,null,null,null,null,null,null,"pz.","","","","","","","","","",null,"pz.","","","","","","","","",""]
[null,0,0,"144.000","Formato superiore (> 2 m2) > 25 kg","",null,null,"144.000","Formato superiore (> 2 m2) > 25 kg","pz.",null,null,null,null,null,null,null,null,"E100_Moduli_FV_senza_telaio","x",null,null,null,null,null,null,null,null,null,null,"pz.","","","","","","","","","",null,"pz.","","","","","","","","",""]
[null,0,0,"145.000","Tegole FV (< 1 m2); < 25 kg","",null,null,"145.000","Tegole FV (< 1 m2); < 25 kg","pz.",null,null,null,null,null,null,null,null,"E100_Moduli_FV_senza_telaio","x",null,null,null,null,null,null,null,null,null,null,"pz.","","","","","","","","","",null,"pz.","","","","","","","","",""]
[null,0,0,"146.000","Tegole FV (< 1 m2); > 25 kg","",null,null,"146.000","Tegole FV (< 1 m2); > 25 kg","pz.",null,null,null,null,null,null,null,null,"E100_Moduli_FV_senza_telaio","x",null,null,null,null,null,null,null,null,null,null,"pz.","","","","","","","","","",null,"pz.","","","","","","","","",""]
[null,{"$f":"B30","v":0},0,null,null,"",null,null,null,null,null,null,null,null,null,null,null,null,null,null,null,null,null,null,null,null,null,null,null,null,null,"","","","","","","","","","",null,"","","","","","","","","",""]
[null,{"$f":"IF(SUM(B39:B44)>0,1,0)","v":0},{"$f":"IF(L38=\"x\",1,IF(ISNUMBER(L38),1,0))","v":0},{"$f":"G38","v":"150.000"},{"$f":"H38","v":"Vetro/foglio con cornice, per impianto integrato"},"","150.000","Vetro/foglio con cornice, per impianto integrato",null,null,null,null,null,null,null,null,null,null,null,"E100_Moduli_FV",null,null,null,null,null,null,null,null,null,null,null,"","","","","","","","","","",null,"",{"$f":"IF(AQ38=\"\",\"\",\nIF(AQ38<>$AF38,$AF38,\nIF(AQ38<>$AG38,$AG38,\nIF(AQ38<>$AH38,$AH38,\nIF(AQ38<>$AI38,$AI38,\nIF(AQ38<>$AJ38,$AJ38,\nIF(AQ38<>$AK38,$AK38,\nIF(AQ38<>$AL38,$AL38,\nIF(AQ38<>$AM38,$AM38,\nIF(AQ38<>$AN38,$AN38,\nIF(AQ38<>$AO38,$AO38,\n\"\")))))))))))","v":""},"","","","","","","",""]
[null,{"$f":"IF(L39=\"x\",1,IF(ISNUMBER(L39),L39,0))","v":0},0,{"$f":"I39","v":"151.000"},{"$f":"J39 & IF(M39<>\"\",CHAR(10) & M39,\"\")","v":"Dimensioni standard (1 - 2m2), < 25 kg"},"",null,null,"151.000","Dimensioni standard (1 - 2m2), < 25 kg","pz.",null,null,null,null,null,null,null,null,"E100_Moduli_FV","x",null,null,"x",null,null,null,null,null,null,null,"pz.","m2","m2","m2","","","","","","",null,"pz.","m2","","","","","","","",""]
[null,0,0,{"$f":"I40","v":"152.000"},"Dimensioni standard (1 - 2m2), > 25 kg","",null,null,"152.000","Dimensioni standard (1 - 2m2), > 25 kg","pz.",null,null,null,null,null,null,null,null,"E100_Moduli_FV","x",null,null,"x",null,null,null,null,null,null,null,"pz.","m2","m2","m2","","","","","","",null,"pz.","m2","","","","","","","",""]
[null,0,0,"153.000","Formato superiore (> 2 m2) < 25 kg","",null,null,"153.000","Formato superiore (> 2 m2) < 25 kg","pz.",null,null,null,null,null,null,null,null,"E100_Moduli_FV","x",null,null,"x",null,null,null,null,null,null,null,"pz.","m2","m2","m2","","","","","","",null,"pz.","m2","","","","","","","",""]
[null,0,0,"154.000","Formato superiore (> 2 m2) > 25 kg","",null,null,"154.000","Formato superiore (> 2 m2) > 25 kg","pz.",null,null,null,null,null,null,null,null,"E100_Moduli_FV","x",null,null,"x",null,null,null,null,null,null,null,"pz.","m2","m2","m2","","","","","","",null,"pz.","m2",{"$f":"IF(AR42=\"\",\"\",\nIF(AND(AR42<>$AF42,AQ42<>$AF42),$AF42,\nIF(AND(AR42<>$AG42,AQ42<>$AG42),$AG42,\nIF(AND(AR42<>$AH42,AQ42<>$AH42),$AH42,\nIF(AND(AR42<>$AI42,AQ42<>$AI42),$AI42,\nIF(AND(AR42<>$AJ42,AQ42<>$AJ42),$AJ42,\nIF(AND(AR42<>$AK42,AQ42<>$AK42),$AK42,\nIF(AND(AR42<>$AL42,AQ42<>$AL42),$AL42,\nIF(AND(AR42<>$AM42,AQ42<>$AM42),$AM42,\nIF(AND(AR42<>$AN42,AQ42<>$AN42),$AN42,\nIF(AND(AR42<>$AO42,AQ42<>$AO42),$AO42,\n\"\")))))))))))","v":""},{"$f":"IF(AS42=\"\",\"\",\nIF(AND(AQ42<>$AF42,AS42<>$AF42,AR42<>$AF42),$AF42,\nIF(AND(AQ42<>$AG42,AS42<>$AG42,AR42<>$AG42),$AG42,\nIF(AND(AQ42<>$AH42,AS42<>$AH42,AR42<>$AH42),$AH42,\nIF(AND(AQ42<>$AI42,AS42<>$AI42,AR42<>$AI42),$AI42,\nIF(AND(AQ42<>$AJ42,AS42<>$AJ42,AR42<>$AJ42),$AJ42,\nIF(AND(AQ42<>$AK42,AS42<>$AK42,AR42<>$AK42),$AK42,\nIF(AND(AQ42<>$AL42,AS42<>$AL42,AR42<>$AL42),$AL42,\nIF(AND(AQ42<>$AM42,AS42<>$AM42,AR42<>$AM42),$AM42,\nIF(AND(AQ42<>$AN42,AS42<>$AN42,AR42<>$AN42),$AN42,\nIF(AND(AQ42<>$AO42,AS42<>$AO42,AR42<>$AO42),$AO42,\n\"\")))))))))))","v":""},{"$f":"IF(AT42=\"\",\"\",\nIF(AND(AQ42<>$AF42,AR42<>$AF42,AT42<>$AF42,AS42<>$AF42),$AF42,\nIF(AND(AQ42<>$AG42,AR42<>$AG42,AT42<>$AG42,AS42<>$AG42),$AG42,\nIF(AND(AQ42<>$AH42,AR42<>$AH42,AT42<>$AH42,AS42<>$AH42),$AH42,\nIF(AND(AQ42<>$AI42,AR42<>$AI42,AT42<>$AI42,AS42<>$AI42),$AI42,\nIF(AND(AQ42<>$AJ42,AR42<>$AJ42,AT42<>$AJ42,AS42<>$AJ42),$AJ42,\nIF(AND(AQ42<>$AK42,AR42<>$AK42,AT42<>$AK42,AS42<>$AK42),$AK42,\nIF(AND(AQ42<>$AL42,AR42<>$AL42,AT42<>$AL42,AS42<>$AL42),$AL42,\nIF(AND(AQ42<>$AM42,AR42<>$AM42,AT42<>$AM42,AS42<>$AM42),$AM42,\nIF(AND(AQ42<>$AN42,AR42<>$AN42,AT42<>$AN42,AS42<>$AN42),$AN42,\nIF(AND(AQ42<>$AO42,AR42<>$AO42,AT42<>$AO42,AS42<>$AO42),$AO42,\n\"\")))))))))))","v":""},{"$f":"IF(AU42=\"\",\"\",\nIF(AND(AQ42<>$AF42,AR42<>$AF42,AS42<>$AF42,AU42<>$AF42,AT42<>$AF42),$AF42,\nIF(AND(AQ42<>$AG42,AR42<>$AG42,AS42<>$AG42,AU42<>$AG42,AT42<>$AG42),$AG42,\nIF(AND(AQ42<>$AH42,AR42<>$AH42,AS42<>$AH42,AU42<>$AH42,AT42<>$AH42),$AH42,\nIF(AND(AQ42<>$AI42,AR42<>$AI42,AS42<>$AI42,AU42<>$AI42,AT42<>$AI42),$AI42,\nIF(AND(AQ42<>$AJ42,AR42<>$AJ42,AS42<>$AJ42,AU42<>$AJ42,AT42<>$AJ42),$AJ42,\nIF(AND(AQ42<>$AK42,AR42<>$AK42,AS42<>$AK42,AU42<>$AK42,AT42<>$AK42),$AK42,\nIF(AND(AQ42<>$AL42,AR42<>$AL42,AS42<>$AL42,AU42<>$AL42,AT42<>$AL42),$AL42,\nIF(AND(AQ42<>$AM42,AR42<>$AM42,AS42<>$AM42,AU42<>$AM42,AT42<>$AM42),$AM42,\nIF(AND(AQ42<>$AN42,AR42<>$AN42,AS42<>$AN42,AU42<>$AN42,AT42<>$AN42),$AN42,\nIF(AND(AQ42<>$AO42,AR42<>$AO42,AS42<>$AO42,AU42<>$AO42,AT42<>$AO42),$AO42,\n\"\")))))))))))","v":""},{"$f":"IF(AV42=\"\",\"\",\nIF(AND(AQ42<>$AF42,AR42<>$AF42,AS42<>$AF42,AT42<>$AF42,AV42<>$AF42,AU42<>$AF42),$AF42,\nIF(AND(AQ42<>$AG42,AR42<>$AG42,AS42<>$AG42,AT42<>$AG42,AV42<>$AG42,AU42<>$AG42),$AG42,\nIF(AND(AQ42<>$AH42,AR42<>$AH42,AS42<>$AH42,AT42<>$AH42,AV42<>$AH42,AU42<>$AH42),$AH42,\nIF(AND(AQ42<>$AI42,AR42<>$AI42,AS42<>$AI42,AT42<>$AI42,AV42<>$AI42,AU42<>$AI42),$AI42,\nIF(AND(AQ42<>$AJ42,AR42<>$AJ42,AS42<>$AJ42,AT42<>$AJ42,AV42<>$AJ42,AU42<>$AJ42),$AJ42,\nIF(AND(AQ42<>$AK42,AR42<>$AK42,AS42<>$AK42,AT42<>$AK42,AV42<>$AK42,AU42<>$AK42),$AK42,\nIF(AND(AQ42<>$AL42,AR42<>$AL42,AS42<>$AL42,AT42<>$AL42,AV42<>$AL42,AU42<>$AL42),$AL42,\nIF(AND(AQ42<>$AM42,AR42<>$AM42,AS42<>$AM42,AT42<>$AM42,AV42<>$AM42,AU42<>$AM42),$AM42,\nIF(AND(AQ42<>$AN42,AR42<>$AN42,AS42<>$AN42,AT42<>$AN42,AV42<>$AN42,AU42<>$AN42),$AN42,\nIF(AND(AQ42<>$AO42,AR42<>$AO42,AS42<>$AO42,AT42<>$AO42,AV42<>$AO42,AU42<>$AO42),$AO42,\n\"\")))))))))))","v":""},{"$f":"IF(AW42=\"\",\"\",\nIF(AND(AQ42<>$AF42,AR42<>$AF42,AS42<>$AF42,AT42<>$AF42,AU42<>$AF42,AW42<>$AF42,AV42<>$AF42),$AF42,\nIF(AND(AQ42<>$AG42,AR42<>$AG42,AS42<>$AG42,AT42<>$AG42,AU42<>$AG42,AW42<>$AG42,AV42<>$AG42),$AG42,\nIF(AND(AQ42<>$AH42,AR42<>$AH42,AS42<>$AH42,AT42<>$AH42,AU42<>$AH42,AW42<>$AH42,AV42<>$AH42),$AH42,\nIF(AND(AQ42<>$AI42,AR42<>$AI42,AS42<>$AI42,AT42<>$AI42,AU42<>$AI42,AW42<>$AI42,AV42<>$AI42),$AI42,\nIF(AND(AQ42<>$AJ42,AR42<>$AJ42,AS42<>$AJ42,AT42<>$AJ42,AU42<>$AJ42,AW42<>$AJ42,AV42<>$AJ42),$AJ42,\nIF(AND(AQ42<>$AK42,AR42<>$AK42,AS42<>$AK42,AT42<>$AK42,AU42<>$AK42,AW42<>$AK42,AV42<>$AK42),$AK42,\nIF(AND(AQ42<>$AL42,AR42<>$AL42,AS42<>$AL42,AT42<>$AL42,AU42<>$AL42,AW42<>$AL42,AV42<>$AL42),$AL42,\nIF(AND(AQ42<>$AM42,AR42<>$AM42,AS42<>$AM42,AT42<>$AM42,AU42<>$AM42,AW42<>$AM42,AV42<>$AM42),$AM42,\nIF(AND(AQ42<>$AN42,AR42<>$AN42,AS42<>$AN42,AT42<>$AN42,AU42<>$AN42,AW42<>$AN42,AV42<>$AN42),$AN42,\nIF(AND(AQ42<>$AO42,AR42<>$AO42,AS42<>$AO42,AT42<>$AO42,AU42<>$AO42,AW42<>$AO42,AV42<>$AO42),$AO42,\n\"\")))))))))))","v":""},{"$f":"IF(AX42=\"\",\"\",\nIF(AND(AQ42<>$AF42,AR42<>$AF42,AS42<>$AF42,AT42<>$AF42,AU42<>$AF42,AV42<>$AF42,AX42<>$AF42,AW42<>$AF42),$AF42,\nIF(AND(AQ42<>$AG42,AR42<>$AG42,AS42<>$AG42,AT42<>$AG42,AU42<>$AG42,AV42<>$AG42,AX42<>$AG42,AW42<>$AG42),$AG42,\nIF(AND(AQ42<>$AH42,AR42<>$AH42,AS42<>$AH42,AT42<>$AH42,AU42<>$AH42,AV42<>$AH42,AX42<>$AH42,AW42<>$AH42),$AH42,\nIF(AND(AQ42<>$AI42,AR42<>$AI42,AS42<>$AI42,AT42<>$AI42,AU42<>$AI42,AV42<>$AI42,AX42<>$AI42,AW42<>$AI42),$AI42,\nIF(AND(AQ42<>$AJ42,AR42<>$AJ42,AS42<>$AJ42,AT42<>$AJ42,AU42<>$AJ42,AV42<>$AJ42,AX42<>$AJ42,AW42<>$AJ42),$AJ42,\nIF(AND(AQ42<>$AK42,AR42<>$AK42,AS42<>$AK42,AT42<>$AK42,AU42<>$AK42,AV42<>$AK42,AX42<>$AK42,AW42<>$AK42),$AK42,\nIF(AND(AQ42<>$AL42,AR42<>$AL42,AS42<>$AL42,AT42<>$AL42,AU42<>$AL42,AV42<>$AL42,AX42<>$AL42,AW42<>$AL42),$AL42,\nIF(AND(AQ42<>$AM42,AR42<>$AM42,AS42<>$AM42,AT42<>$AM42,AU42<>$AM42,AV42<>$AM42,AX42<>$AM42,AW42<>$AM42),$AM42,\nIF(AND(AQ42<>$AN42,AR42<>$AN42,AS42<>$AN42,AT42<>$AN42,AU42<>$AN42,AV42<>$AN42,AX42<>$AN42,AW42<>$AN42),$AN42,\nIF(AND(AQ42<>$AO42,AR42<>$AO42,AS42<>$AO42,AT42<>$AO42,AU42<>$AO42,AV42<>$AO42,AX42<>$AO42,AW42<>$AO42),$AO42,\n\"\")))))))))))","v":""},{"$f":"IF(AY42=\"\",\"\",\nIF(AND(AQ42<>$AF42,AR42<>$AF42,AS42<>$AF42,AT42<>$AF42,AU42<>$AF42,AV42<>$AF42,AW42<>$AF42,AY42<>$AF42,AX42<>$AF42),$AF42,\nIF(AND(AQ42<>$AG42,AR42<>$AG42,AS42<>$AG42,AT42<>$AG42,AU42<>$AG42,AV42<>$AG42,AW42<>$AG42,AY42<>$AG42,AX42<>$AG42),$AG42,\nIF(AND(AQ42<>$AH42,AR42<>$AH42,AS42<>$AH42,AT42<>$AH42,AU42<>$AH42,AV42<>$AH42,AW42<>$AH42,AY42<>$AH42,AX42<>$AH42),$AH42,\nIF(AND(AQ42<>$AI42,AR42<>$AI42,AS42<>$AI42,AT42<>$AI42,AU42<>$AI42,AV42<>$AI42,AW42<>$AI42,AY42<>$AI42,AX42<>$AI42),$AI42,\nIF(AND(AQ42<>$AJ42,AR42<>$AJ42,AS42<>$AJ42,AT42<>$AJ42,AU42<>$AJ42,AV42<>$AJ42,AW42<>$AJ42,AY42<>$AJ42,AX42<>$AJ42),$AJ42,\nIF(AND(AQ42<>$AK42,AR42<>$AK42,AS42<>$AK42,AT42<>$AK42,AU42<>$AK42,AV42<>$AK42,AW42<>$AK42,AY42<>$AK42,AX42<>$AK42),$AK42,\nIF(AND(AQ42<>$AL42,AR42<>$AL42,AS42<>$AL42,AT42<>$AL42,AU42<>$AL42,AV42<>$AL42,AW42<>$AL42,AY42<>$AL42,AX42<>$AL42),$AL42,\nIF(AND(AQ42<>$AM42,AR42<>$AM42,AS42<>$AM42,AT42<>$AM42,AU42<>$AM42,AV42<>$AM42,AW42<>$AM42,AY42<>$AM42,AX42<>$AM42),$AM42,\nIF(AND(AQ42<>$AN42,AR42<>$AN42,AS42<>$AN42,AT42<>$AN42,AU42<>$AN42,AV42<>$AN42,AW42<>$AN42,AY42<>$AN42,AX42<>$AN42),$AN42,\nIF(AND(AQ42<>$AO42,AR42<>$AO42,AS42<>$AO42,AT42<>$AO42,AU42<>$AO42,AV42<>$AO42,AW42<>$AO42,AY42<>$AO42,AX42<>$AO42),$AO42,\n\"\")))))))))))","v":""}]
[null,0,0,"155.000","Tegole FV (< 1 m2); < 25 kg","",null,null,"155.000","Tegole FV (< 1 m2); < 25 kg","pz.",null,null,null,null,null,null,null,null,"E100_Moduli_FV","x",null,null,"x",null,null,null,null,null,null,null,"pz.","m2","m2","m2","","","","","","",null,"pz.","m2","","","","","","","",""]
[null,0,0,"156.000","Tegole FV (< 1 m2); > 25 kg","",null,null,"156.000","Tegole FV (< 1 m2); > 25 kg","pz.",null,null,null,null,null,null,null,null,"E100_Moduli_FV","x",null,null,"x",null,null,null,null,null,null,null,"pz.","m2","m2","m2","","","","","","",null,"pz.","m2","","","","","","","",""]
[null,{"$f":"B38","v":0},0,null,null,"",null,null,null,null,null,null,null,null,null,null,null,null,null,null,null,null,null,null,null,null,null,null,null,null,null,"","","","","","","","","","",null,"","","","","","","","","",""]
[null,{"$f":"IF(SUM(B47:B52)>0,1,0)","v":0},0,{"$f":"G46","v":"160.000"},{"$f":"H46","v":"Vetro/foglio senza cornice, per impianto integrato"},"","160.000","Vetro/foglio senza cornice, per impianto integrato",null,null,null,null,null,null,null,null,null,null,null,"E100_Moduli_FV_senza_telaio",null,null,null,null,null,null,null,null,null,null,null,"","","","","","","","","","",null,"","","","","","","","","",""]
[null,{"$f":"IF(L47=\"x\",1,IF(ISNUMBER(L47),L47,0))","v":0},0,{"$f":"I47","v":"161.000"},{"$f":"J47 & IF(M47<>\"\",CHAR(10) & M47,\"\")","v":"Dimensioni standard (1 - 2m2), < 25 kg"},"",null,null,"161.000","Dimensioni standard (1 - 2m2), < 25 kg","pz.",null,null,null,null,null,null,null,null,"E100_Moduli_FV_senza_telaio","x",null,null,"x",null,null,null,null,null,null,null,"pz.","m2","m2","m2","","","","","","",null,"pz.","m2","","","","","","","",""]
[null,0,0,{"$f":"I48","v":"162.000"},"Dimensioni standard (1 - 2m2), > 25 kg","",null,null,"162.000","Dimensioni standard (1 - 2m2), > 25 kg","pz.",null,null,null,null,null,null,null,null,"E100_Moduli_FV_senza_telaio","x",null,null,"x",null,null,null,null,null,null,null,"pz.","m2","m2","m2","","","","","","",null,"pz.","m2","","","","","","","",""]
[null,0,0,"163.000","Formato superiore (> 2 m2) < 25 kg","",null,null,"163.000","Formato superiore (> 2 m2) < 25 kg","pz.",null,null,null,null,null,null,null,null,"E100_Moduli_FV_senza_telaio","x",null,null,"x",null,null,null,null,null,null,null,"pz.","m2","m2","m2","","","","","","",null,"pz.","m2","","","","","","","",""]
[null,0,0,"164.000","Formato superiore (> 2 m2) > 25 kg","",null,null,"164.000","Formato superiore (> 2 m2) > 25 kg","pz.",null,null,null,null,null,null,null,null,"E100_Moduli_FV_senza_telaio","x",null,null,"x",null,null,null,null,null,null,null,"pz.","m2","m2","m2","","","","","","",null,"pz.","m2","","","","","","","",""]
[null,0,0,165,"Tegole FV (< 1 m2); < 25 kg","",null,null,165,"Tegole FV (< 1 m2); < 25 kg","pz.",null,null,null,null,null,null,null,null,"E100_Moduli_FV_senza_telaio","x",null,null,"x",null,null,null,null,null,null,null,"pz.","m2","m2","m2","","","","","","",null,"pz.","m2","","","","","","","",""]
[null,0,0,"166.000","Tegole FV (< 1 m2); > 25 kg","",null,null,"166.000","Tegole FV (< 1 m2); > 25 kg","pz.",null,null,null,null,null,null,null,null,"E100_Moduli_FV_senza_telaio","x",null,null,"x",null,null,null,null,null,null,null,"pz.","m2","m2","m2","","","","","","",null,"pz.","m2","","","","","","","",""]
[null,{"$f":"B46","v":0},0,null,null,"",null,null,null,null,null,null,null,null,null,null,null,null,null,null,null,null,null,null,null,null,null,null,null,null,null,"","","","","","","","","","",null,"","","","","","","","","",""]
[null,{"$f":"IF(SUM(B55:B60)>0,1,0)","v":0},0,{"$f":"G54","v":"170.000"},{"$f":"H54","v":"Vetro/vetro con cornice, per impianto integrato"},"","170.000","Vetro/vetro con cornice, per impianto integrato",null,null,null,null,null,null,null,null,null,null,null,null,null,null,null,null,null,null,null,null,null,null,null,"","","","","","","","","","",null,"","","","","","","","","",""]
[null,{"$f":"IF(L55=\"x\",1,IF(ISNUMBER(L55),L55,0))","v":0},0,{"$f":"I55","v":"171.000"},{"$f":"J55 & IF(M55<>\"\",CHAR(10) & M55,\"\")","v":"Dimensioni standard (1 - 2m2), < 25 kg"},"",null,null,"171.000","Dimensioni standard (1 - 2m2), < 25 kg","pz.",null,null,null,null,null,null,null,null,"E100_Moduli_FV","x",null,null,"x",null,null,null,null,null,null,null,"pz.","m2","m2","m2","","","","","","",null,"pz.","m2","","","","","","","",""]
[null,0,0,{"$f":"I56","v":"172.000"},"Dimensioni standard (1 - 2m2), > 25 kg","",null,null,"172.000","Dimensioni standard (1 - 2m2), > 25 kg","pz.",null,null,null,null,null,null,null,null,"E100_Moduli_FV","x",null,null,"x",null,null,null,null,null,null,null,"pz.","m2","m2","m2","","","","","","",null,"pz.","m2","","","","","","","",""]
[null,0,0,"173.000","Formato superiore (> 2 m2) < 25 kg","",null,null,"173.000","Formato superiore (> 2 m2) < 25 kg","pz.",null,null,null,null,null,null,null,null,"E100_Moduli_FV","x",null,null,"x",null,null,null,null,null,null,null,"pz.","m2","m2","m2","","","","","","",null,"pz.","m2","","","","","","","",""]
[null,0,0,"174.000","Formato superiore (> 2 m2) > 25 kg","",null,null,"174.000","Formato superiore (> 2 m2) > 25 kg","pz.",null,null,null,null,null,null,null,null,"E100_Moduli_FV","x",null,null,"x",null,null,null,null,null,null,null,"pz.","m2","m2","m2","","","","","","",null,"pz.","m2","","","","","","","",""]
[null,0,0,"175.000","Tegole FV (< 1 m2); < 25 kg","",null,null,"175.000","Tegole FV (< 1 m2); < 25 kg","pz.",null,null,null,null,null,null,null,null,"E100_Moduli_FV","x",null,null,"x",null,null,null,null,null,null,null,"pz.","m2","m2","m2","","","","","","",null,"pz.","m2","","","","","","","",""]
[null,0,0,"176.000","Tegole FV (< 1 m2); > 25 kg","",null,null,"176.000","Tegole FV (< 1 m2); > 25 kg","pz.",null,null,null,null,null,null,null,null,"E100_Moduli_FV","x",null,null,"x",null,null,null,null,null,null,null,"pz.","m2","m2","m2","","","","","","",null,"pz.","m2","","","","","","","",""]
[null,{"$f":"B54","v":0},0,null,null,"",null,null,null,null,null,null,null,null,null,null,null,null,null,null,null,null,null,null,null,null,null,null,null,null,null,"","","","","","","","","","",null,"","","","","","","","","",""]
[null,{"$f":"IF(SUM(B63:B68)>0,1,0)","v":1},0,{"$f":"G62","v":"180.000"},{"$f":"H62","v":"Vetro/vetro senza cornice, per impianto integrato"},"","180.000","Vetro/vetro senza cornice, per impianto integrato",null,null,null,null,null,null,null,null,null,null,null,null,null,null,null,null,null,null,null,null,null,null,null,"","","","","","","","","","",null,"","","","","","","","","",""]
[null,{"$f":"IF(L63=\"x\",1,IF(ISNUMBER(L63),L63,0))","v":1},1,{"$f":"I63","v":"181.000"},{"$f":"J63 & IF(M63<>\"\",CHAR(10) & M63,\"\")","v":"Dimensioni standard (1 - 2m2), < 25 kg"},"pz.",null,null,"181.000","Dimensioni standard (1 - 2m2), < 25 kg","pz.","x",null,null,null,null,null,null,null,"E100_Moduli_FV_senza_telaio","x",null,null,"x",null,null,null,null,null,null,null,"pz.","m2","m2","m2","","","","","","",null,"pz.","m2","","","","","","","",""]
[null,0,0,{"$f":"I64","v":"182.000"},"Dimensioni standard (1 - 2m2), > 25 kg","",null,null,"182.000","Dimensioni standard (1 - 2m2), > 25 kg","pz.",null,null,null,null,null,null,null,null,"E100_Moduli_FV_senza_telaio","x",null,null,"x",null,null,null,null,null,null,null,"pz.","m2","m2","m2","","","","","","",null,"pz.","m2","","","","","","","",""]
[null,0,0,"183.000","Formato superiore (> 2 m2) < 25 kg","",null,null,"183.000","Formato superiore (> 2 m2) < 25 kg","pz.",null,null,null,null,null,null,null,null,"E100_Moduli_FV_senza_telaio","x",null,null,"x",null,null,null,null,null,null,null,"pz.","m2","m2","m2","","","","","","",null,"pz.","m2","","","","","","","",""]
[null,0,0,"184.000","Formato superiore (> 2 m2) > 25 kg","",null,null,"184.000","Formato superiore (> 2 m2) > 25 kg","pz.",null,null,null,null,null,null,null,null,"E100_Moduli_FV_senza_telaio","x",null,null,"x",null,null,null,null,null,null,null,"pz.","m2","m2","m2","","","","","","",null,"pz.","m2","","","","","","","",""]
[null,0,0,"185.000","Tegole FV (< 1 m2); < 25 kg","",null,null,"185.000","Tegole FV (< 1 m2); < 25 kg","pz.",null,null,null,null,null,null,null,null,"E100_Moduli_FV_senza_telaio","x",null,null,"x",null,null,null,null,null,null,null,"pz.","m2","m2","m2","","","","","","",null,"pz.","m2","","","","","","","",""]
[null,0,0,"186.000","Tegole FV (< 1 m2); > 25 kg","",null,null,"186.000","Tegole FV (< 1 m2); > 25 kg","pz.",null,null,null,null,null,null,null,null,"E100_Moduli_FV_senza_telaio","x",null,null,"x",null,null,null,null,null,null,null,"pz.","m2","m2","m2","","","","","","",null,"pz.",{"$f":"IF(AQ68=\"\",\"\",\nIF(AQ68<>$AF68,$AF68,\nIF(AQ68<>$AG68,$AG68,\nIF(AQ68<>$AH68,$AH68,\nIF(AQ68<>$AI68,$AI68,\nIF(AQ68<>$AJ68,$AJ68,\nIF(AQ68<>$AK68,$AK68,\nIF(AQ68<>$AL68,$AL68,\nIF(AQ68<>$AM68,$AM68,\nIF(AQ68<>$AN68,$AN68,\nIF(AQ68<>$AO68,$AO68,\n\"\")))))))))))","v":"m2"},"","","","","","","",""]
[null,{"$f":"B62","v":1},0,null,null,"",null,null,null,null,null,null,null,null,null,null,null,null,null,null,null,null,null,null,null,null,null,null,null,null,null,"","","","","","","","","","",null,"","","","","","","","","",""]
[null,{"$f":"IF(SUM(B71:B77)>0,1,0)","v":0},{"$f":"IF(L70=\"x\",1,IF(ISNUMBER(L70),1,0))","v":0},{"$f":"G70","v":"190.000"},{"$f":"H70","v":"Moduli speciali"},"","190.000","Moduli speciali",null,null,null,null,null,null,null,null,null,null,null,null,null,null,null,null,null,null,null,null,null,null,null,"","","","","","","","","","",null,"","",{"$f":"IF(AR70=\"\",\"\",\nIF(AND(AR70<>$AF70,AQ70<>$AF70),$AF70,\nIF(AND(AR70<>$AG70,AQ70<>$AG70),$AG70,\nIF(AND(AR70<>$AH70,AQ70<>$AH70),$AH70,\nIF(AND(AR70<>$AI70,AQ70<>$AI70),$AI70,\nIF(AND(AR70<>$AJ70,AQ70<>$AJ70),$AJ70,\nIF(AND(AR70<>$AK70,AQ70<>$AK70),$AK70,\nIF(AND(AR70<>$AL70,AQ70<>$AL70),$AL70,\nIF(AND(AR70<>$AM70,AQ70<>$AM70),$AM70,\nIF(AND(AR70<>$AN70,AQ70<>$AN70),$AN70,\nIF(AND(AR70<>$AO70,AQ70<>$AO70),$AO70,\n\"\")))))))))))","v":""},{"$f":"IF(AS70=\"\",\"\",\nIF(AND(AQ70<>$AF70,AS70<>$AF70,AR70<>$AF70),$AF70,\nIF(AND(AQ70<>$AG70,AS70<>$AG70,AR70<>$AG70),$AG70,\nIF(AND(AQ70<>$AH70,AS70<>$AH70,AR70<>$AH70),$AH70,\nIF(AND(AQ70<>$AI70,AS70<>$AI70,AR70<>$AI70),$AI70,\nIF(AND(AQ70<>$AJ70,AS70<>$AJ70,AR70<>$AJ70),$AJ70,\nIF(AND(AQ70<>$AK70,AS70<>$AK70,AR70<>$AK70),$AK70,\nIF(AND(AQ70<>$AL70,AS70<>$AL70,AR70<>$AL70),$AL70,\nIF(AND(AQ70<>$AM70,AS70<>$AM70,AR70<>$AM70),$AM70,\nIF(AND(AQ70<>$AN70,AS70<>$AN70,AR70<>$AN70),$AN70,\nIF(AND(AQ70<>$AO70,AS70<>$AO70,AR70<>$AO70),$AO70,\n\"\")))))))))))","v":""},{"$f":"IF(AT70=\"\",\"\",\nIF(AND(AQ70<>$AF70,AR70<>$AF70,AT70<>$AF70,AS70<>$AF70),$AF70,\nIF(AND(AQ70<>$AG70,AR70<>$AG70,AT70<>$AG70,AS70<>$AG70),$AG70,\nIF(AND(AQ70<>$AH70,AR70<>$AH70,AT70<>$AH70,AS70<>$AH70),$AH70,\nIF(AND(AQ70<>$AI70,AR70<>$AI70,AT70<>$AI70,AS70<>$AI70),$AI70,\nIF(AND(AQ70<>$AJ70,AR70<>$AJ70,AT70<>$AJ70,AS70<>$AJ70),$AJ70,\nIF(AND(AQ70<>$AK70,AR70<>$AK70,AT70<>$AK70,AS70<>$AK70),$AK70,\nIF(AND(AQ70<>$AL70,AR70<>$AL70,AT70<>$AL70,AS70<>$AL70),$AL70,\nIF(AND(AQ70<>$AM70,AR70<>$AM70,AT70<>$AM70,AS70<>$AM70),$AM70,\nIF(AND(AQ70<>$AN70,AR70<>$AN70,AT70<>$AN70,AS70<>$AN70),$AN70,\nIF(AND(AQ70<>$AO70,AR70<>$AO70,AT70<>$AO70,AS70<>$AO70),$AO70,\n\"\")))))))))))","v":""},{"$f":"IF(AU70=\"\",\"\",\nIF(AND(AQ70<>$AF70,AR70<>$AF70,AS70<>$AF70,AU70<>$AF70,AT70<>$AF70),$AF70,\nIF(AND(AQ70<>$AG70,AR70<>$AG70,AS70<>$AG70,AU70<>$AG70,AT70<>$AG70),$AG70,\nIF(AND(AQ70<>$AH70,AR70<>$AH70,AS70<>$AH70,AU70<>$AH70,AT70<>$AH70),$AH70,\nIF(AND(AQ70<>$AI70,AR70<>$AI70,AS70<>$AI70,AU70<>$AI70,AT70<>$AI70),$AI70,\nIF(AND(AQ70<>$AJ70,AR70<>$AJ70,AS70<>$AJ70,AU70<>$AJ70,AT70<>$AJ70),$AJ70,\nIF(AND(AQ70<>$AK70,AR70<>$AK70,AS70<>$AK70,AU70<>$AK70,AT70<>$AK70),$AK70,\nIF(AND(AQ70<>$AL70,AR70<>$AL70,AS70<>$AL70,AU70<>$AL70,AT70<>$AL70),$AL70,\nIF(AND(AQ70<>$AM70,AR70<>$AM70,AS70<>$AM70,AU70<>$AM70,AT70<>$AM70),$AM70,\nIF(AND(AQ70<>$AN70,AR70<>$AN70,AS70<>$AN70,AU70<>$AN70,AT70<>$AN70),$AN70,\nIF(AND(AQ70<>$AO70,AR70<>$AO70,AS70<>$AO70,AU70<>$AO70,AT70<>$AO70),$AO70,\n\"\")))))))))))","v":""},{"$f":"IF(AV70=\"\",\"\",\nIF(AND(AQ70<>$AF70,AR70<>$AF70,AS70<>$AF70,AT70<>$AF70,AV70<>$AF70,AU70<>$AF70),$AF70,\nIF(AND(AQ70<>$AG70,AR70<>$AG70,AS70<>$AG70,AT70<>$AG70,AV70<>$AG70,AU70<>$AG70),$AG70,\nIF(AND(AQ70<>$AH70,AR70<>$AH70,AS70<>$AH70,AT70<>$AH70,AV70<>$AH70,AU70<>$AH70),$AH70,\nIF(AND(AQ70<>$AI70,AR70<>$AI70,AS70<>$AI70,AT70<>$AI70,AV70<>$AI70,AU70<>$AI70),$AI70,\nIF(AND(AQ70<>$AJ70,AR70<>$AJ70,AS70<>$AJ70,AT70<>$AJ70,AV70<>$AJ70,AU70<>$AJ70),$AJ70,\nIF(AND(AQ70<>$AK70,AR70<>$AK70,AS70<>$AK70,AT70<>$AK70,AV70<>$AK70,AU70<>$AK70),$AK70,\nIF(AND(AQ70<>$AL70,AR70<>$AL70,AS70<>$AL70,AT70<>$AL70,AV70<>$AL70,AU70<>$AL70),$AL70,\nIF(AND(AQ70<>$AM70,AR70<>$AM70,AS70<>$AM70,AT70<>$AM70,AV70<>$AM70,AU70<>$AM70),$AM70,\nIF(AND(AQ70<>$AN70,AR70<>$AN70,AS70<>$AN70,AT70<>$AN70,AV70<>$AN70,AU70<>$AN70),$AN70,\nIF(AND(AQ70<>$AO70,AR70<>$AO70,AS70<>$AO70,AT70<>$AO70,AV70<>$AO70,AU70<>$AO70),$AO70,\n\"\")))))))))))","v":""},{"$f":"IF(AW70=\"\",\"\",\nIF(AND(AQ70<>$AF70,AR70<>$AF70,AS70<>$AF70,AT70<>$AF70,AU70<>$AF70,AW70<>$AF70,AV70<>$AF70),$AF70,\nIF(AND(AQ70<>$AG70,AR70<>$AG70,AS70<>$AG70,AT70<>$AG70,AU70<>$AG70,AW70<>$AG70,AV70<>$AG70),$AG70,\nIF(AND(AQ70<>$AH70,AR70<>$AH70,AS70<>$AH70,AT70<>$AH70,AU70<>$AH70,AW70<>$AH70,AV70<>$AH70),$AH70,\nIF(AND(AQ70<>$AI70,AR70<>$AI70,AS70<>$AI70,AT70<>$AI70,AU70<>$AI70,AW70<>$AI70,AV70<>$AI70),$AI70,\nIF(AND(AQ70<>$AJ70,AR70<>$AJ70,AS70<>$AJ70,AT70<>$AJ70,AU70<>$AJ70,AW70<>$AJ70,AV70<>$AJ70),$AJ70,\nIF(AND(AQ70<>$AK70,AR70<>$AK70,AS70<>$AK70,AT70<>$AK70,AU70<>$AK70,AW70<>$AK70,AV70<>$AK70),$AK70,\nIF(AND(AQ70<>$AL70,AR70<>$AL70,AS70<>$AL70,AT70<>$AL70,AU70<>$AL70,AW70<>$AL70,AV70<>$AL70),$AL70,\nIF(AND(AQ70<>$AM70,AR70<>$AM70,AS70<>$AM70,AT70<>$AM70,AU70<>$AM70,AW70<>$AM70,AV70<>$AM70),$AM70,\nIF(AND(AQ70<>$AN70,AR70<>$AN70,AS70<>$AN70,AT70<>$AN70,AU70<>$AN70,AW70<>$AN70,AV70<>$AN70),$AN70,\nIF(AND(AQ70<>$AO70,AR70<>$AO70,AS70<>$AO70,AT70<>$AO70,AU70<>$AO70,AW70<>$AO70,AV70<>$AO70),$AO70,\n\"\")))))))))))","v":""},{"$f":"IF(AX70=\"\",\"\",\nIF(AND(AQ70<>$AF70,AR70<>$AF70,AS70<>$AF70,AT70<>$AF70,AU70<>$AF70,AV70<>$AF70,AX70<>$AF70,AW70<>$AF70),$AF70,\nIF(AND(AQ70<>$AG70,AR70<>$AG70,AS70<>$AG70,AT70<>$AG70,AU70<>$AG70,AV70<>$AG70,AX70<>$AG70,AW70<>$AG70),$AG70,\nIF(AND(AQ70<>$AH70,AR70<>$AH70,AS70<>$AH70,AT70<>$AH70,AU70<>$AH70,AV70<>$AH70,AX70<>$AH70,AW70<>$AH70),$AH70,\nIF(AND(AQ70<>$AI70,AR70<>$AI70,AS70<>$AI70,AT70<>$AI70,AU70<>$AI70,AV70<>$AI70,AX70<>$AI70,AW70<>$AI70),$AI70,\nIF(AND(AQ70<>$AJ70,AR70<>$AJ70,AS70<>$AJ70,AT70<>$AJ70,AU70<>$AJ70,AV70<>$AJ70,AX70<>$AJ70,AW70<>$AJ70),$AJ70,\nIF(AND(AQ70<>$AK70,AR70<>$AK70,AS70<>$AK70,AT70<>$AK70,AU70<>$AK70,AV70<>$AK70,AX70<>$AK70,AW70<>$AK70),$AK70,\nIF(AND(AQ70<>$AL70,AR70<>$AL70,AS70<>$AL70,AT70<>$AL70,AU70<>$AL70,AV70<>$AL70,AX70<>$AL70,AW70<>$AL70),$AL70,\nIF(AND(AQ70<>$AM70,AR70<>$AM70,AS70<>$AM70,AT70<>$AM70,AU70<>$AM70,AV70<>$AM70,AX70<>$AM70,AW70<>$AM70),$AM70,\nIF(AND(AQ70<>$AN70,AR70<>$AN70,AS70<>$AN70,AT70<>$AN70,AU70<>$AN70,AV70<>$AN70,AX70<>$AN70,AW70<>$AN70),$AN70,\nIF(AND(AQ70<>$AO70,AR70<>$AO70,AS70<>$AO70,AT70<>$AO70,AU70<>$AO70,AV70<>$AO70,AX70<>$AO70,AW70<>$AO70),$AO70,\n\"\")))))))))))","v":""},{"$f":"IF(AY70=\"\",\"\",\nIF(AND(AQ70<>$AF70,AR70<>$AF70,AS70<>$AF70,AT70<>$AF70,AU70<>$AF70,AV70<>$AF70,AW70<>$AF70,AY70<>$AF70,AX70<>$AF70),$AF70,\nIF(AND(AQ70<>$AG70,AR70<>$AG70,AS70<>$AG70,AT70<>$AG70,AU70<>$AG70,AV70<>$AG70,AW70<>$AG70,AY70<>$AG70,AX70<>$AG70),$AG70,\nIF(AND(AQ70<>$AH70,AR70<>$AH70,AS70<>$AH70,AT70<>$AH70,AU70<>$AH70,AV70<>$AH70,AW70<>$AH70,AY70<>$AH70,AX70<>$AH70),$AH70,\nIF(AND(AQ70<>$AI70,AR70<>$AI70,AS70<>$AI70,AT70<>$AI70,AU70<>$AI70,AV70<>$AI70,AW70<>$AI70,AY70<>$AI70,AX70<>$AI70),$AI70,\nIF(AND(AQ70<>$AJ70,AR70<>$AJ70,AS70<>$AJ70,AT70<>$AJ70,AU70<>$AJ70,AV70<>$AJ70,AW70<>$AJ70,AY70<>$AJ70,AX70<>$AJ70),$AJ70,\nIF(AND(AQ70<>$AK70,AR70<>$AK70,AS70<>$AK70,AT70<>$AK70,AU70<>$AK70,AV70<>$AK70,AW70<>$AK70,AY70<>$AK70,AX70<>$AK70),$AK70,\nIF(AND(AQ70<>$AL70,AR70<>$AL70,AS70<>$AL70,AT70<>$AL70,AU70<>$AL70,AV70<>$AL70,AW70<>$AL70,AY70<>$AL70,AX70<>$AL70),$AL70,\nIF(AND(AQ70<>$AM70,AR70<>$AM70,AS70<>$AM70,AT70<>$AM70,AU70<>$AM70,AV70<>$AM70,AW70<>$AM70,AY70<>$AM70,AX70<>$AM70),$AM70,\nIF(AND(AQ70<>$AN70,AR70<>$AN70,AS70<>$AN70,AT70<>$AN70,AU70<>$AN70,AV70<>$AN70,AW70<>$AN70,AY70<>$AN70,AX70<>$AN70),$AN70,\nIF(AND(AQ70<>$AO70,AR70<>$AO70,AS70<>$AO70,AT70<>$AO70,AU70<>$AO70,AV70<>$AO70,AW70<>$AO70,AY70<>$AO70,AX70<>$AO70),$AO70,\n\"\")))))))))))","v":""}]
[null,{"$f":"IF(L71=\"x\",1,IF(ISNUMBER(L71),L71,0))","v":0},0,{"$f":"I71","v":"191.000"},{"$f":"J71 & IF(M71<>\"\",CHAR(10) & M71,\"\")","v":"Vetro ricurvo"},"",null,null,"191.000","Vetro ricurvo","pz.",null,null,null,null,null,null,null,null,"E100_Moduli_FV","x",null,null,"x",null,null,null,null,null,null,null,"pz.","m2","m2","m2","","","","","","",null,"pz.","m2","","","","","","","",""]
[null,0,0,{"$f":"I72","v":"192.000"},"Plexiglas",{"$f":"IF(C72=1,K72,\"\")","v":""},null,null,"192.000","Plexiglas","pz.",null,null,null,null,null,null,null,null,"E100_Moduli_FV","x",null,null,"x",null,null,null,null,null,null,null,{"$f":"\nIF(U72=\"x\",U$4,\nIF(V72=\"x\",V$4,\nIF(W72=\"x\",W$4,\nIF(X72=\"x\",X$4,\nIF(Y72=\"x\",Y$4,\nIF(Z72=\"x\",Z$4,\nIF(AA72=\"x\",AA$4,\nIF(AB72=\"x\",AB$4,\nIF(AC72=\"x\",AC$4,\nIF(AD72=\"x\",AD$4,\n\"\"))))))))))","v":"pz."},{"$f":"\nIF(V72=\"x\",V$4,\nIF(W72=\"x\",W$4,\nIF(X72=\"x\",X$4,\nIF(Y72=\"x\",Y$4,\nIF(Z72=\"x\",Z$4,\nIF(AA72=\"x\",AA$4,\nIF(AB72=\"x\",AB$4,\nIF(AC72=\"x\",AC$4,\nIF(AD72=\"x\",AD$4,\n\"\")))))))))","v":"m2"},{"$f":"\nIF(W72=\"x\",W$4,\nIF(X72=\"x\",X$4,\nIF(Y72=\"x\",Y$4,\nIF(Z72=\"x\",Z$4,\nIF(AA72=\"x\",AA$4,\nIF(AB72=\"x\",AB$4,\nIF(AC72=\"x\",AC$4,\nIF(AD72=\"x\",AD$4,\n\"\"))))))))","v":"m2"},{"$f":"\nIF(X72=\"x\",X$4,\nIF(Y72=\"x\",Y$4,\nIF(Z72=\"x\",Z$4,\nIF(AA72=\"x\",AA$4,\nIF(AB72=\"x\",AB$4,\nIF(AC72=\"x\",AC$4,\nIF(AD72=\"x\",AD$4,\n\"\")))))))","v":"m2"},{"$f":"\nIF(Y72=\"x\",Y$4,\nIF(Z72=\"x\",Z$4,\nIF(AA72=\"x\",AA$4,\nIF(AB72=\"x\",AB$4,\nIF(AC72=\"x\",AC$4,\nIF(AD72=\"x\",AD$4,\n\"\"))))))","v":""},{"$f":"\nIF(Z72=\"x\",Z$4,\nIF(AA72=\"x\",AA$4,\nIF(AB72=\"x\",AB$4,\nIF(AC72=\"x\",AC$4,\nIF(AD72=\"x\",AD$4,\n\"\")))))","v":""},{"$f":"\nIF(AA72=\"x\",AA$4,\nIF(AB72=\"x\",AB$4,\nIF(AC72=\"x\",AC$4,\nIF(AD72=\"x\",AD$4,\n\"\"))))","v":""},{"$f":"\nIF(AB72=\"x\",AB$4,\nIF(AC72=\"x\",AC$4,\nIF(AD72=\"x\",AD$4,\n\"\")))","v":""},{"$f":"\nIF(AC72=\"x\",AC$4,\nIF(AD72=\"x\",AD$4,\n\"\"))","v":""},{"$f":"\nIF(AD72=\"x\",AD$4,\n\"\")","v":""},null,{"$f":"AF72","v":"pz."},"m2","","","","","","","",""]
[null,0,0,"193.000","Foglio flessibile","",null,null,"193.000","Foglio flessibile","m2",null,null,null,null,null,null,null,null,"E100_Moduli_FV","x",null,null,"x",null,null,null,null,null,null,null,"pz.","m2","m2","m2","","","","","","",null,"pz.","m2","","","","","","","",""]
[null,0,0,"194.000","Moduli ciechi con cornice","",null,null,"194.000","Moduli ciechi con cornice","pz.",null,null,null,null,null,null,null,null,"E100_Moduli_ciechi","x",null,null,"x",null,null,null,null,null,null,null,"pz.","m2","m2","m2","","","","","","",null,"pz.","m2","","","","","","","",""]
[null,0,0,"195.000","Moduli ciechi per la posa di laminati","",null,null,"195.000","Moduli ciechi per la posa di laminati","pz.",null,null,null,null,null,null,null,null,"E100_Moduli_ciechi","x",null,null,"x",null,null,null,null,null,null,null,"pz.","m2","m2","m2","","","","","","",null,"pz.","m2","","","","","","","",""]
[null,0,0,"196.000","Moduli ciechi per facciate","",null,null,"196.000","Moduli ciechi per facciate","pz.",null,null,null,null,null,null,null,null,"E100_Moduli_ciechi","x",null,null,"x",null,null,null,null,null,null,null,"pz.","m2","m2","m2","","","","","","",null,"pz.","m2","","","","","","","",""]
[null,0,0,{"$f":"I77","v":"197.000"},{"$f":"J77","v":"Moduli ibridi PVT"},"",null,null,"197.000","Moduli ibridi PVT","pz.",null,null,null,null,null,null,null,null,null,"x",null,null,"x",null,null,null,null,null,null,null,"pz.","m2","m2","m2","","","","","","",null,"pz.","m2","","","","","","","",""]

{"sheet":"E_Box100","index":5,"n_rows":57,"n_cols":5,"rows_kept":57,"cut":false,"hidden":true,"merged":[]}
["Campo di applicazione"]
["Livello di struttura 1",null,100,100]
["Livello di struttura 2",null,"110, 120, 130, 140, 150, 160, 170, 180, 190",190]
["Livello di struttura 3",null,"111 - 193","194-196"]
[]
[null,null,"E100_Moduli_FV","E100_Moduli_ciechi","E100_Moduli_FV_senza_telaio"]
["Nr."]
[1,null,"Cornice color argento","Pannello composito in alluminio","Backsheet bianco"]
[2,null,"Cornice nera","Vetro","Backsheet nero"]
[3,null,"Cornice colorata","Metallo","Backsheet trasparente"]
[4,null,"Backsheet bianco","Colore","Busbars coperte"]
[5,null,"Backsheet nero","Spessore","Vetro anteriore stampato"]
[6,null,"Backsheet trasparente","Taglio","Stampa su vetro: colorazione interna omogenea"]
[7,null,"Busbars coperte",null,"Stampa su vetro: colorazione interna da modello"]
[8,null,"Vetro anteriore stampato",null,"Stampa su vetro: rivestimento esterno"]
[9,null,"Stampa su vetro: colorazione interna omogenea",null,"Stampa su vetro: colorazione esterna omogenea"]
[10,null,"Stampa su vetro: colorazione interna da modello",null,"Celle a contatto posteriore"]
[11,null,"Stampa su vetro: rivestimento esterno",null,"monocristallino"]
[12,null,"Stampa su vetro: colorazione esterna omogenea",null,"policristallino"]
[13,null,"Celle a contatto posteriore",null,"CIGS"]
[14,null,"monocristallino",null,"Silicio amorfo"]
[15,null,"policristallino",null,"Celle organiche"]
[16,null,"CIGS",null,"CdTe"]
[17,null,"Silicio amorfo",null,"Tipo di vetro anteriore"]
[18,null,"Celle organiche",null,"Tipo di vetro posteriore"]
[19,null,"CdTe",null,"Spessore vetro anteriore"]
[20,null,"Tipo di vetro anteriore",null,"Spessore vetro posteriore"]
[21,null,"Tipo di vetro posteriore",null,"Ottimizzatore"]
[22,null,"Spessore vetro anteriore",null,"Semi celle"]
[23,null,"Spessore vetro posteriore",null,"Celle in scala"]
[24,null,"Ottimizzatore",null,"Scatola di giunzione"]
[25,null,"Semi celle",null,"Connettore FV"]
[26,null,"Celle in scala",null,"Potenza min. Wp"]
[27,null,"Scatola di giunzione",null,"Efficienza della superficie"]
[28,null,"Connettore FV",null,"Lunghezza"]
[29,null,"Potenza min. Wp",null,"Larghezza"]
[30,null,"Efficienza rispetto alla superficie",null,"Altezza"]
[31,null,"Lunghezza",null,"Bifacciale"]
[32,null,"Larghezza",null,"Diodi di by-pass (numero)"]
[33,null,"Altezza",null,"Lunghezza cavo di collegamento"]
[34,null,"Bifacciale"]
[35,null,"Diodi di by-pass (numero)"]
[36,null,"Lunghezza cavo di collegamento"]
[37]
[38]
[39]
[40]
[41]
[42]
[43]
[44]
[45]
[46]
[47]
[48]
[49]
[50]

{"sheet":"200 Sist. mont. FV","index":6,"n_rows":64,"n_cols":52,"rows_kept":64,"cut":false,"hidden":false,"merged":[[1,6,1,7],[3,6,3,7],[3,8,3,9],[2,6,2,9],[0,19,0,51]]}
[null,null,null,null,null,null,null,null,null,null,null,null,null,null,null,null,null,null,null,"NASCONDERE"]
[null,null,null,null,"Nascondere",null,"Livello di struttura 1:",null,200,"Sistema di montaggio FV"]
[null,null,null,null,null,null,"Obbligatorio"]
[null,"Show","Fill","SOQ-Nr.","Descrizione","Unità","Livello di struttura 2",null,"Livello di struttura 3",null,"Unità","Aggiungi posizione","E- Box",null,null,null,null,null,null,"E-Box","pz.","moduli","ml","m2","m3","h","mesi","anni","kWp","forfait",null,"Pos1","Pos2","Pos3","Pos4","Pos5","Pos6","Pos7","Pos8","Pos9","Pos10",null,"Pos1","Pos2","Pos3","Pos4","Pos5","Pos6","Pos7","Pos8","Pos9","Pos10"]
[]
[null,{"$f":"IF(SUM(B7:B13)>0,1,0)","v":0},{"$f":"IF(L6=\"x\",1,IF(ISNUMBER(L6),1,0))","v":0},{"$f":"G6","v":"210.000"},{"$f":"H6 & IF(M6<>\"\",CHAR(10) & M6,\"\")","v":"Tetto a falda, impianto annesso, complanare al tetto"},{"$f":"IF(C6=1,K6,\"\")","v":""},"210.000","Tetto a falda, impianto annesso, complanare al tetto",null,null,null,null,null,null,null,null,null,null,null,null,null,null,null,null,null,null,null,null,null,null,null,{"$f":"\nIF(U6=\"x\",U$4,\nIF(V6=\"x\",V$4,\nIF(W6=\"x\",W$4,\nIF(X6=\"x\",X$4,\nIF(Y6=\"x\",Y$4,\nIF(Z6=\"x\",Z$4,\nIF(AA6=\"x\",AA$4,\nIF(AB6=\"x\",AB$4,\nIF(AC6=\"x\",AC$4,\nIF(AD6=\"x\",AD$4,\n\"\"))))))))))","v":""},{"$f":"\nIF(V6=\"x\",V$4,\nIF(W6=\"x\",W$4,\nIF(X6=\"x\",X$4,\nIF(Y6=\"x\",Y$4,\nIF(Z6=\"x\",Z$4,\nIF(AA6=\"x\",AA$4,\nIF(AB6=\"x\",AB$4,\nIF(AC6=\"x\",AC$4,\nIF(AD6=\"x\",AD$4,\n\"\")))))))))","v":""},{"$f":"\nIF(W6=\"x\",W$4,\nIF(X6=\"x\",X$4,\nIF(Y6=\"x\",Y$4,\nIF(Z6=\"x\",Z$4,\nIF(AA6=\"x\",AA$4,\nIF(AB6=\"x\",AB$4,\nIF(AC6=\"x\",AC$4,\nIF(AD6=\"x\",AD$4,\n\"\"))))))))","v":""},{"$f":"\nIF(X6=\"x\",X$4,\nIF(Y6=\"x\",Y$4,\nIF(Z6=\"x\",Z$4,\nIF(AA6=\"x\",AA$4,\nIF(AB6=\"x\",AB$4,\nIF(AC6=\"x\",AC$4,\nIF(AD6=\"x\",AD$4,\n\"\")))))))","v":""},{"$f":"\nIF(Y6=\"x\",Y$4,\nIF(Z6=\"x\",Z$4,\nIF(AA6=\"x\",AA$4,\nIF(AB6=\"x\",AB$4,\nIF(AC6=\"x\",AC$4,\nIF(AD6=\"x\",AD$4,\n\"\"))))))","v":""},{"$f":"\nIF(Z6=\"x\",Z$4,\nIF(AA6=\"x\",AA$4,\nIF(AB6=\"x\",AB$4,\nIF(AC6=\"x\",AC$4,\nIF(AD6=\"x\",AD$4,\n\"\")))))","v":""},{"$f":"\nIF(AA6=\"x\",AA$4,\nIF(AB6=\"x\",AB$4,\nIF(AC6=\"x\",AC$4,\nIF(AD6=\"x\",AD$4,\n\"\"))))","v":""},{"$f":"\nIF(AB6=\"x\",AB$4,\nIF(AC6=\"x\",AC$4,\nIF(AD6=\"x\",AD$4,\n\"\")))","v":""},{"$f":"\nIF(AC6=\"x\",AC$4,\nIF(AD6=\"x\",AD$4,\n\"\"))","v":""},{"$f":"\nIF(AD6=\"x\",AD$4,\n\"\")","v":""},null,{"$f":"AF6","v":""},{"$f":"IF(AQ6=\"\",\"\",\nIF(AQ6<>$AF6,$AF6,\nIF(AQ6<>$AG6,$AG6,\nIF(AQ6<>$AH6,$AH6,\nIF(AQ6<>$AI6,$AI6,\nIF(AQ6<>$AJ6,$AJ6,\nIF(AQ6<>$AK6,$AK6,\nIF(AQ6<>$AL6,$AL6,\nIF(AQ6<>$AM6,$AM6,\nIF(AQ6<>$AN6,$AN6,\nIF(AQ6<>$AO6,$AO6,\n\"\")))))))))))","v":""},{"$f":"IF(AR6=\"\",\"\",\nIF(AND(AR6<>$AF6,AQ6<>$AF6),$AF6,\nIF(AND(AR6<>$AG6,AQ6<>$AG6),$AG6,\nIF(AND(AR6<>$AH6,AQ6<>$AH6),$AH6,\nIF(AND(AR6<>$AI6,AQ6<>$AI6),$AI6,\nIF(AND(AR6<>$AJ6,AQ6<>$AJ6),$AJ6,\nIF(AND(AR6<>$AK6,AQ6<>$AK6),$AK6,\nIF(AND(AR6<>$AL6,AQ6<>$AL6),$AL6,\nIF(AND(AR6<>$AM6,AQ6<>$AM6),$AM6,\nIF(AND(AR6<>$AN6,AQ6<>$AN6),$AN6,\nIF(AND(AR6<>$AO6,AQ6<>$AO6),$AO6,\n\"\")))))))))))","v":""},{"$f":"IF(AS6=\"\",\"\",\nIF(AND(AQ6<>$AF6,AS6<>$AF6,AR6<>$AF6),$AF6,\nIF(AND(AQ6<>$AG6,AS6<>$AG6,AR6<>$AG6),$AG6,\nIF(AND(AQ6<>$AH6,AS6<>$AH6,AR6<>$AH6),$AH6,\nIF(AND(AQ6<>$AI6,AS6<>$AI6,AR6<>$AI6),$AI6,\nIF(AND(AQ6<>$AJ6,AS6<>$AJ6,AR6<>$AJ6),$AJ6,\nIF(AND(AQ6<>$AK6,AS6<>$AK6,AR6<>$AK6),$AK6,\nIF(AND(AQ6<>$AL6,AS6<>$AL6,AR6<>$AL6),$AL6,\nIF(AND(AQ6<>$AM6,AS6<>$AM6,AR6<>$AM6),$AM6,\nIF(AND(AQ6<>$AN6,AS6<>$AN6,AR6<>$AN6),$AN6,\nIF(AND(AQ6<>$AO6,AS6<>$AO6,AR6<>$AO6),$AO6,\n\"\")))))))))))","v":""},{"$f":"IF(AT6=\"\",\"\",\nIF(AND(AQ6<>$AF6,AR6<>$AF6,AT6<>$AF6,AS6<>$AF6),$AF6,\nIF(AND(AQ6<>$AG6,AR6<>$AG6,AT6<>$AG6,AS6<>$AG6),$AG6,\nIF(AND(AQ6<>$AH6,AR6<>$AH6,AT6<>$AH6,AS6<>$AH6),$AH6,\nIF(AND(AQ6<>$AI6,AR6<>$AI6,AT6<>$AI6,AS6<>$AI6),$AI6,\nIF(AND(AQ6<>$AJ6,AR6<>$AJ6,AT6<>$AJ6,AS6<>$AJ6),$AJ6,\nIF(AND(AQ6<>$AK6,AR6<>$AK6,AT6<>$AK6,AS6<>$AK6),$AK6,\nIF(AND(AQ6<>$AL6,AR6<>$AL6,AT6<>$AL6,AS6<>$AL6),$AL6,\nIF(AND(AQ6<>$AM6,AR6<>$AM6,AT6<>$AM6,AS6<>$AM6),$AM6,\nIF(AND(AQ6<>$AN6,AR6<>$AN6,AT6<>$AN6,AS6<>$AN6),$AN6,\nIF(AND(AQ6<>$AO6,AR6<>$AO6,AT6<>$AO6,AS6<>$AO6),$AO6,\n\"\")))))))))))","v":""},{"$f":"IF(AU6=\"\",\"\",\nIF(AND(AQ6<>$AF6,AR6<>$AF6,AS6<>$AF6,AU6<>$AF6,AT6<>$AF6),$AF6,\nIF(AND(AQ6<>$AG6,AR6<>$AG6,AS6<>$AG6,AU6<>$AG6,AT6<>$AG6),$AG6,\nIF(AND(AQ6<>$AH6,AR6<>$AH6,AS6<>$AH6,AU6<>$AH6,AT6<>$AH6),$AH6,\nIF(AND(AQ6<>$AI6,AR6<>$AI6,AS6<>$AI6,AU6<>$AI6,AT6<>$AI6),$AI6,\nIF(AND(AQ6<>$AJ6,AR6<>$AJ6,AS6<>$AJ6,AU6<>$AJ6,AT6<>$AJ6),$AJ6,\nIF(AND(AQ6<>$AK6,AR6<>$AK6,AS6<>$AK6,AU6<>$AK6,AT6<>$AK6),$AK6,\nIF(AND(AQ6<>$AL6,AR6<>$AL6,AS6<>$AL6,AU6<>$AL6,AT6<>$AL6),$AL6,\nIF(AND(AQ6<>$AM6,AR6<>$AM6,AS6<>$AM6,AU6<>$AM6,AT6<>$AM6),$AM6,\nIF(AND(AQ6<>$AN6,AR6<>$AN6,AS6<>$AN6,AU6<>$AN6,AT6<>$AN6),$AN6,\nIF(AND(AQ6<>$AO6,AR6<>$AO6,AS6<>$AO6,AU6<>$AO6,AT6<>$AO6),$AO6,\n\"\")))))))))))","v":""},{"$f":"IF(AV6=\"\",\"\",\nIF(AND(AQ6<>$AF6,AR6<>$AF6,AS6<>$AF6,AT6<>$AF6,AV6<>$AF6,AU6<>$AF6),$AF6,\nIF(AND(AQ6<>$AG6,AR6<>$AG6,AS6<>$AG6,AT6<>$AG6,AV6<>$AG6,AU6<>$AG6),$AG6,\nIF(AND(AQ6<>$AH6,AR6<>$AH6,AS6<>$AH6,AT6<>$AH6,AV6<>$AH6,AU6<>$AH6),$AH6,\nIF(AND(AQ6<>$AI6,AR6<>$AI6,AS6<>$AI6,AT6<>$AI6,AV6<>$AI6,AU6<>$AI6),$AI6,\nIF(AND(AQ6<>$AJ6,AR6<>$AJ6,AS6<>$AJ6,AT6<>$AJ6,AV6<>$AJ6,AU6<>$AJ6),$AJ6,\nIF(AND(AQ6<>$AK6,AR6<>$AK6,AS6<>$AK6,AT6<>$AK6,AV6<>$AK6,AU6<>$AK6),$AK6,\nIF(AND(AQ6<>$AL6,AR6<>$AL6,AS6<>$AL6,AT6<>$AL6,AV6<>$AL6,AU6<>$AL6),$AL6,\nIF(AND(AQ6<>$AM6,AR6<>$AM6,AS6<>$AM6,AT6<>$AM6,AV6<>$AM6,AU6<>$AM6),$AM6,\nIF(AND(AQ6<>$AN6,AR6<>$AN6,AS6<>$AN6,AT6<>$AN6,AV6<>$AN6,AU6<>$AN6),$AN6,\nIF(AND(AQ6<>$AO6,AR6<>$AO6,AS6<>$AO6,AT6<>$AO6,AV6<>$AO6,AU6<>$AO6),$AO6,\n\"\")))))))))))","v":""},{"$f":"IF(AW6=\"\",\"\",\nIF(AND(AQ6<>$AF6,AR6<>$AF6,AS6<>$AF6,AT6<>$AF6,AU6<>$AF6,AW6<>$AF6,AV6<>$AF6),$AF6,\nIF(AND(AQ6<>$AG6,AR6<>$AG6,AS6<>$AG6,AT6<>$AG6,AU6<>$AG6,AW6<>$AG6,AV6<>$AG6),$AG6,\nIF(AND(AQ6<>$AH6,AR6<>$AH6,AS6<>$AH6,AT6<>$AH6,AU6<>$AH6,AW6<>$AH6,AV6<>$AH6),$AH6,\nIF(AND(AQ6<>$AI6,AR6<>$AI6,AS6<>$AI6,AT6<>$AI6,AU6<>$AI6,AW6<>$AI6,AV6<>$AI6),$AI6,\nIF(AND(AQ6<>$AJ6,AR6<>$AJ6,AS6<>$AJ6,AT6<>$AJ6,AU6<>$AJ6,AW6<>$AJ6,AV6<>$AJ6),$AJ6,\nIF(AND(AQ6<>$AK6,AR6<>$AK6,AS6<>$AK6,AT6<>$AK6,AU6<>$AK6,AW6<>$AK6,AV6<>$AK6),$AK6,\nIF(AND(AQ6<>$AL6,AR6<>$AL6,AS6<>$AL6,AT6<>$AL6,AU6<>$AL6,AW6<>$AL6,AV6<>$AL6),$AL6,\nIF(AND(AQ6<>$AM6,AR6<>$AM6,AS6<>$AM6,AT6<>$AM6,AU6<>$AM6,AW6<>$AM6,AV6<>$AM6),$AM6,\nIF(AND(AQ6<>$AN6,AR6<>$AN6,AS6<>$AN6,AT6<>$AN6,AU6<>$AN6,AW6<>$AN6,AV6<>$AN6),$AN6,\nIF(AND(AQ6<>$AO6,AR6<>$AO6,AS6<>$AO6,AT6<>$AO6,AU6<>$AO6,AW6<>$AO6,AV6<>$AO6),$AO6,\n\"\")))))))))))","v":""},{"$f":"IF(AX6=\"\",\"\",\nIF(AND(AQ6<>$AF6,AR6<>$AF6,AS6<>$AF6,AT6<>$AF6,AU6<>$AF6,AV6<>$AF6,AX6<>$AF6,AW6<>$AF6),$AF6,\nIF(AND(AQ6<>$AG6,AR6<>$AG6,AS6<>$AG6,AT6<>$AG6,AU6<>$AG6,AV6<>$AG6,AX6<>$AG6,AW6<>$AG6),$AG6,\nIF(AND(AQ6<>$AH6,AR6<>$AH6,AS6<>$AH6,AT6<>$AH6,AU6<>$AH6,AV6<>$AH6,AX6<>$AH6,AW6<>$AH6),$AH6,\nIF(AND(AQ6<>$AI6,AR6<>$AI6,AS6<>$AI6,AT6<>$AI6,AU6<>$AI6,AV6<>$AI6,AX6<>$AI6,AW6<>$AI6),$AI6,\nIF(AND(AQ6<>$AJ6,AR6<>$AJ6,AS6<>$AJ6,AT6<>$AJ6,AU6<>$AJ6,AV6<>$AJ6,AX6<>$AJ6,AW6<>$AJ6),$AJ6,\nIF(AND(AQ6<>$AK6,AR6<>$AK6,AS6<>$AK6,AT6<>$AK6,AU6<>$AK6,AV6<>$AK6,AX6<>$AK6,AW6<>$AK6),$AK6,\nIF(AND(AQ6<>$AL6,AR6<>$AL6,AS6<>$AL6,AT6<>$AL6,AU6<>$AL6,AV6<>$AL6,AX6<>$AL6,AW6<>$AL6),$AL6,\nIF(AND(AQ6<>$AM6,AR6<>$AM6,AS6<>$AM6,AT6<>$AM6,AU6<>$AM6,AV6<>$AM6,AX6<>$AM6,AW6<>$AM6),$AM6,\nIF(AND(AQ6<>$AN6,AR6<>$AN6,AS6<>$AN6,AT6<>$AN6,AU6<>$AN6,AV6<>$AN6,AX6<>$AN6,AW6<>$AN6),$AN6,\nIF(AND(AQ6<>$AO6,AR6<>$AO6,AS6<>$AO6,AT6<>$AO6,AU6<>$AO6,AV6<>$AO6,AX6<>$AO6,AW6<>$AO6),$AO6,\n\"\")))))))))))","v":""},{"$f":"IF(AY6=\"\",\"\",\nIF(AND(AQ6<>$AF6,AR6<>$AF6,AS6<>$AF6,AT6<>$AF6,AU6<>$AF6,AV6<>$AF6,AW6<>$AF6,AY6<>$AF6,AX6<>$AF6),$AF6,\nIF(AND(AQ6<>$AG6,AR6<>$AG6,AS6<>$AG6,AT6<>$AG6,AU6<>$AG6,AV6<>$AG6,AW6<>$AG6,AY6<>$AG6,AX6<>$AG6),$AG6,\nIF(AND(AQ6<>$AH6,AR6<>$AH6,AS6<>$AH6,AT6<>$AH6,AU6<>$AH6,AV6<>$AH6,AW6<>$AH6,AY6<>$AH6,AX6<>$AH6),$AH6,\nIF(AND(AQ6<>$AI6,AR6<>$AI6,AS6<>$AI6,AT6<>$AI6,AU6<>$AI6,AV6<>$AI6,AW6<>$AI6,AY6<>$AI6,AX6<>$AI6),$AI6,\nIF(AND(AQ6<>$AJ6,AR6<>$AJ6,AS6<>$AJ6,AT6<>$AJ6,AU6<>$AJ6,AV6<>$AJ6,AW6<>$AJ6,AY6<>$AJ6,AX6<>$AJ6),$AJ6,\nIF(AND(AQ6<>$AK6,AR6<>$AK6,AS6<>$AK6,AT6<>$AK6,AU6<>$AK6,AV6<>$AK6,AW6<>$AK6,AY6<>$AK6,AX6<>$AK6),$AK6,\nIF(AND(AQ6<>$AL6,AR6<>$AL6,AS6<>$AL6,AT6<>$AL6,AU6<>$AL6,AV6<>$AL6,AW6<>$AL6,AY6<>$AL6,AX6<>$AL6),$AL6,\nIF(AND(AQ6<>$AM6,AR6<>$AM6,AS6<>$AM6,AT6<>$AM6,AU6<>$AM6,AV6<>$AM6,AW6<>$AM6,AY6<>$AM6,AX6<>$AM6),$AM6,\nIF(AND(AQ6<>$AN6,AR6<>$AN6,AS6<>$AN6,AT6<>$AN6,AU6<>$AN6,AV6<>$AN6,AW6<>$AN6,AY6<>$AN6,AX6<>$AN6),$AN6,\nIF(AND(AQ6<>$AO6,AR6<>$AO6,AS6<>$AO6,AT6<>$AO6,AU6<>$AO6,AV6<>$AO6,AW6<>$AO6,AY6<>$AO6,AX6<>$AO6),$AO6,\n\"\")))))))))))","v":""}]
[null,{"$f":"IF(L7=\"x\",1,IF(ISNUMBER(L7),L7,0))","v":0},{"$f":"IF(L7=\"x\",1,IF(ISNUMBER(L7),1,0))","v":0},{"$f":"I7","v":"211.000"},{"$f":"J7 & IF(M7<>\"\",CHAR(10) & M7,\"\")","v":"Tegole, fissaggio alle travi"},{"$f":"IF(C7=1,K7,\"\")","v":""},null,null,"211.000","Tegole, fissaggio alle travi","moduli",null,null,null,null,null,null,null,null,"E200_Tipo_di_montaggio_FV",null,"x",null,null,null,null,null,null,null,null,null,{"$f":"\nIF(U7=\"x\",U$4,\nIF(V7=\"x\",V$4,\nIF(W7=\"x\",W$4,\nIF(X7=\"x\",X$4,\nIF(Y7=\"x\",Y$4,\nIF(Z7=\"x\",Z$4,\nIF(AA7=\"x\",AA$4,\nIF(AB7=\"x\",AB$4,\nIF(AC7=\"x\",AC$4,\nIF(AD7=\"x\",AD$4,\n\"\"))))))))))","v":"moduli"},{"$f":"\nIF(V7=\"x\",V$4,\nIF(W7=\"x\",W$4,\nIF(X7=\"x\",X$4,\nIF(Y7=\"x\",Y$4,\nIF(Z7=\"x\",Z$4,\nIF(AA7=\"x\",AA$4,\nIF(AB7=\"x\",AB$4,\nIF(AC7=\"x\",AC$4,\nIF(AD7=\"x\",AD$4,\n\"\")))))))))","v":"moduli"},{"$f":"\nIF(W7=\"x\",W$4,\nIF(X7=\"x\",X$4,\nIF(Y7=\"x\",Y$4,\nIF(Z7=\"x\",Z$4,\nIF(AA7=\"x\",AA$4,\nIF(AB7=\"x\",AB$4,\nIF(AC7=\"x\",AC$4,\nIF(AD7=\"x\",AD$4,\n\"\"))))))))","v":""},{"$f":"\nIF(X7=\"x\",X$4,\nIF(Y7=\"x\",Y$4,\nIF(Z7=\"x\",Z$4,\nIF(AA7=\"x\",AA$4,\nIF(AB7=\"x\",AB$4,\nIF(AC7=\"x\",AC$4,\nIF(AD7=\"x\",AD$4,\n\"\")))))))","v":""},{"$f":"\nIF(Y7=\"x\",Y$4,\nIF(Z7=\"x\",Z$4,\nIF(AA7=\"x\",AA$4,\nIF(AB7=\"x\",AB$4,\nIF(AC7=\"x\",AC$4,\nIF(AD7=\"x\",AD$4,\n\"\"))))))","v":""},{"$f":"\nIF(Z7=\"x\",Z$4,\nIF(AA7=\"x\",AA$4,\nIF(AB7=\"x\",AB$4,\nIF(AC7=\"x\",AC$4,\nIF(AD7=\"x\",AD$4,\n\"\")))))","v":""},{"$f":"\nIF(AA7=\"x\",AA$4,\nIF(AB7=\"x\",AB$4,\nIF(AC7=\"x\",AC$4,\nIF(AD7=\"x\",AD$4,\n\"\"))))","v":""},{"$f":"\nIF(AB7=\"x\",AB$4,\nIF(AC7=\"x\",AC$4,\nIF(AD7=\"x\",AD$4,\n\"\")))","v":""},{"$f":"\nIF(AC7=\"x\",AC$4,\nIF(AD7=\"x\",AD$4,\n\"\"))","v":""},{"$f":"\nIF(AD7=\"x\",AD$4,\n\"\")","v":""},null,{"$f":"AF7","v":"moduli"},"",{"$f":"IF(AR7=\"\",\"\",\nIF(AND(AR7<>$AF7,AQ7<>$AF7),$AF7,\nIF(AND(AR7<>$AG7,AQ7<>$AG7),$AG7,\nIF(AND(AR7<>$AH7,AQ7<>$AH7),$AH7,\nIF(AND(AR7<>$AI7,AQ7<>$AI7),$AI7,\nIF(AND(AR7<>$AJ7,AQ7<>$AJ7),$AJ7,\nIF(AND(AR7<>$AK7,AQ7<>$AK7),$AK7,\nIF(AND(AR7<>$AL7,AQ7<>$AL7),$AL7,\nIF(AND(AR7<>$AM7,AQ7<>$AM7),$AM7,\nIF(AND(AR7<>$AN7,AQ7<>$AN7),$AN7,\nIF(AND(AR7<>$AO7,AQ7<>$AO7),$AO7,\n\"\")))))))))))","v":""},{"$f":"IF(AS7=\"\",\"\",\nIF(AND(AQ7<>$AF7,AS7<>$AF7,AR7<>$AF7),$AF7,\nIF(AND(AQ7<>$AG7,AS7<>$AG7,AR7<>$AG7),$AG7,\nIF(AND(AQ7<>$AH7,AS7<>$AH7,AR7<>$AH7),$AH7,\nIF(AND(AQ7<>$AI7,AS7<>$AI7,AR7<>$AI7),$AI7,\nIF(AND(AQ7<>$AJ7,AS7<>$AJ7,AR7<>$AJ7),$AJ7,\nIF(AND(AQ7<>$AK7,AS7<>$AK7,AR7<>$AK7),$AK7,\nIF(AND(AQ7<>$AL7,AS7<>$AL7,AR7<>$AL7),$AL7,\nIF(AND(AQ7<>$AM7,AS7<>$AM7,AR7<>$AM7),$AM7,\nIF(AND(AQ7<>$AN7,AS7<>$AN7,AR7<>$AN7),$AN7,\nIF(AND(AQ7<>$AO7,AS7<>$AO7,AR7<>$AO7),$AO7,\n\"\")))))))))))","v":""},{"$f":"IF(AT7=\"\",\"\",\nIF(AND(AQ7<>$AF7,AR7<>$AF7,AT7<>$AF7,AS7<>$AF7),$AF7,\nIF(AND(AQ7<>$AG7,AR7<>$AG7,AT7<>$AG7,AS7<>$AG7),$AG7,\nIF(AND(AQ7<>$AH7,AR7<>$AH7,AT7<>$AH7,AS7<>$AH7),$AH7,\nIF(AND(AQ7<>$AI7,AR7<>$AI7,AT7<>$AI7,AS7<>$AI7),$AI7,\nIF(AND(AQ7<>$AJ7,AR7<>$AJ7,AT7<>$AJ7,AS7<>$AJ7),$AJ7,\nIF(AND(AQ7<>$AK7,AR7<>$AK7,AT7<>$AK7,AS7<>$AK7),$AK7,\nIF(AND(AQ7<>$AL7,AR7<>$AL7,AT7<>$AL7,AS7<>$AL7),$AL7,\nIF(AND(AQ7<>$AM7,AR7<>$AM7,AT7<>$AM7,AS7<>$AM7),$AM7,\nIF(AND(AQ7<>$AN7,AR7<>$AN7,AT7<>$AN7,AS7<>$AN7),$AN7,\nIF(AND(AQ7<>$AO7,AR7<>$AO7,AT7<>$AO7,AS7<>$AO7),$AO7,\n\"\")))))))))))","v":""},{"$f":"IF(AU7=\"\",\"\",\nIF(AND(AQ7<>$AF7,AR7<>$AF7,AS7<>$AF7,AU7<>$AF7,AT7<>$AF7),$AF7,\nIF(AND(AQ7<>$AG7,AR7<>$AG7,AS7<>$AG7,AU7<>$AG7,AT7<>$AG7),$AG7,\nIF(AND(AQ7<>$AH7,AR7<>$AH7,AS7<>$AH7,AU7<>$AH7,AT7<>$AH7),$AH7,\nIF(AND(AQ7<>$AI7,AR7<>$AI7,AS7<>$AI7,AU7<>$AI7,AT7<>$AI7),$AI7,\nIF(AND(AQ7<>$AJ7,AR7<>$AJ7,AS7<>$AJ7,AU7<>$AJ7,AT7<>$AJ7),$AJ7,\nIF(AND(AQ7<>$AK7,AR7<>$AK7,AS7<>$AK7,AU7<>$AK7,AT7<>$AK7),$AK7,\nIF(AND(AQ7<>$AL7,AR7<>$AL7,AS7<>$AL7,AU7<>$AL7,AT7<>$AL7),$AL7,\nIF(AND(AQ7<>$AM7,AR7<>$AM7,AS7<>$AM7,AU7<>$AM7,AT7<>$AM7),$AM7,\nIF(AND(AQ7<>$AN7,AR7<>$AN7,AS7<>$AN7,AU7<>$AN7,AT7<>$AN7),$AN7,\nIF(AND(AQ7<>$AO7,AR7<>$AO7,AS7<>$AO7,AU7<>$AO7,AT7<>$AO7),$AO7,\n\"\")))))))))))","v":""},{"$f":"IF(AV7=\"\",\"\",\nIF(AND(AQ7<>$AF7,AR7<>$AF7,AS7<>$AF7,AT7<>$AF7,AV7<>$AF7,AU7<>$AF7),$AF7,\nIF(AND(AQ7<>$AG7,AR7<>$AG7,AS7<>$AG7,AT7<>$AG7,AV7<>$AG7,AU7<>$AG7),$AG7,\nIF(AND(AQ7<>$AH7,AR7<>$AH7,AS7<>$AH7,AT7<>$AH7,AV7<>$AH7,AU7<>$AH7),$AH7,\nIF(AND(AQ7<>$AI7,AR7<>$AI7,AS7<>$AI7,AT7<>$AI7,AV7<>$AI7,AU7<>$AI7),$AI7,\nIF(AND(AQ7<>$AJ7,AR7<>$AJ7,AS7<>$AJ7,AT7<>$AJ7,AV7<>$AJ7,AU7<>$AJ7),$AJ7,\nIF(AND(AQ7<>$AK7,AR7<>$AK7,AS7<>$AK7,AT7<>$AK7,AV7<>$AK7,AU7<>$AK7),$AK7,\nIF(AND(AQ7<>$AL7,AR7<>$AL7,AS7<>$AL7,AT7<>$AL7,AV7<>$AL7,AU7<>$AL7),$AL7,\nIF(AND(AQ7<>$AM7,AR7<>$AM7,AS7<>$AM7,AT7<>$AM7,AV7<>$AM7,AU7<>$AM7),$AM7,\nIF(AND(AQ7<>$AN7,AR7<>$AN7,AS7<>$AN7,AT7<>$AN7,AV7<>$AN7,AU7<>$AN7),$AN7,\nIF(AND(AQ7<>$AO7,AR7<>$AO7,AS7<>$AO7,AT7<>$AO7,AV7<>$AO7,AU7<>$AO7),$AO7,\n\"\")))))))))))","v":""},{"$f":"IF(AW7=\"\",\"\",\nIF(AND(AQ7<>$AF7,AR7<>$AF7,AS7<>$AF7,AT7<>$AF7,AU7<>$AF7,AW7<>$AF7,AV7<>$AF7),$AF7,\nIF(AND(AQ7<>$AG7,AR7<>$AG7,AS7<>$AG7,AT7<>$AG7,AU7<>$AG7,AW7<>$AG7,AV7<>$AG7),$AG7,\nIF(AND(AQ7<>$AH7,AR7<>$AH7,AS7<>$AH7,AT7<>$AH7,AU7<>$AH7,AW7<>$AH7,AV7<>$AH7),$AH7,\nIF(AND(AQ7<>$AI7,AR7<>$AI7,AS7<>$AI7,AT7<>$AI7,AU7<>$AI7,AW7<>$AI7,AV7<>$AI7),$AI7,\nIF(AND(AQ7<>$AJ7,AR7<>$AJ7,AS7<>$AJ7,AT7<>$AJ7,AU7<>$AJ7,AW7<>$AJ7,AV7<>$AJ7),$AJ7,\nIF(AND(AQ7<>$AK7,AR7<>$AK7,AS7<>$AK7,AT7<>$AK7,AU7<>$AK7,AW7<>$AK7,AV7<>$AK7),$AK7,\nIF(AND(AQ7<>$AL7,AR7<>$AL7,AS7<>$AL7,AT7<>$AL7,AU7<>$AL7,AW7<>$AL7,AV7<>$AL7),$AL7,\nIF(AND(AQ7<>$AM7,AR7<>$AM7,AS7<>$AM7,AT7<>$AM7,AU7<>$AM7,AW7<>$AM7,AV7<>$AM7),$AM7,\nIF(AND(AQ7<>$AN7,AR7<>$AN7,AS7<>$AN7,AT7<>$AN7,AU7<>$AN7,AW7<>$AN7,AV7<>$AN7),$AN7,\nIF(AND(AQ7<>$AO7,AR7<>$AO7,AS7<>$AO7,AT7<>$AO7,AU7<>$AO7,AW7<>$AO7,AV7<>$AO7),$AO7,\n\"\")))))))))))","v":""},{"$f":"IF(AX7=\"\",\"\",\nIF(AND(AQ7<>$AF7,AR7<>$AF7,AS7<>$AF7,AT7<>$AF7,AU7<>$AF7,AV7<>$AF7,AX7<>$AF7,AW7<>$AF7),$AF7,\nIF(AND(AQ7<>$AG7,AR7<>$AG7,AS7<>$AG7,AT7<>$AG7,AU7<>$AG7,AV7<>$AG7,AX7<>$AG7,AW7<>$AG7),$AG7,\nIF(AND(AQ7<>$AH7,AR7<>$AH7,AS7<>$AH7,AT7<>$AH7,AU7<>$AH7,AV7<>$AH7,AX7<>$AH7,AW7<>$AH7),$AH7,\nIF(AND(AQ7<>$AI7,AR7<>$AI7,AS7<>$AI7,AT7<>$AI7,AU7<>$AI7,AV7<>$AI7,AX7<>$AI7,AW7<>$AI7),$AI7,\nIF(AND(AQ7<>$AJ7,AR7<>$AJ7,AS7<>$AJ7,AT7<>$AJ7,AU7<>$AJ7,AV7<>$AJ7,AX7<>$AJ7,AW7<>$AJ7),$AJ7,\nIF(AND(AQ7<>$AK7,AR7<>$AK7,AS7<>$AK7,AT7<>$AK7,AU7<>$AK7,AV7<>$AK7,AX7<>$AK7,AW7<>$AK7),$AK7,\nIF(AND(AQ7<>$AL7,AR7<>$AL7,AS7<>$AL7,AT7<>$AL7,AU7<>$AL7,AV7<>$AL7,AX7<>$AL7,AW7<>$AL7),$AL7,\nIF(AND(AQ7<>$AM7,AR7<>$AM7,AS7<>$AM7,AT7<>$AM7,AU7<>$AM7,AV7<>$AM7,AX7<>$AM7,AW7<>$AM7),$AM7,\nIF(AND(AQ7<>$AN7,AR7<>$AN7,AS7<>$AN7,AT7<>$AN7,AU7<>$AN7,AV7<>$AN7,AX7<>$AN7,AW7<>$AN7),$AN7,\nIF(AND(AQ7<>$AO7,AR7<>$AO7,AS7<>$AO7,AT7<>$AO7,AU7<>$AO7,AV7<>$AO7,AX7<>$AO7,AW7<>$AO7),$AO7,\n\"\")))))))))))","v":""},{"$f":"IF(AY7=\"\",\"\",\nIF(AND(AQ7<>$AF7,AR7<>$AF7,AS7<>$AF7,AT7<>$AF7,AU7<>$AF7,AV7<>$AF7,AW7<>$AF7,AY7<>$AF7,AX7<>$AF7),$AF7,\nIF(AND(AQ7<>$AG7,AR7<>$AG7,AS7<>$AG7,AT7<>$AG7,AU7<>$AG7,AV7<>$AG7,AW7<>$AG7,AY7<>$AG7,AX7<>$AG7),$AG7,\nIF(AND(AQ7<>$AH7,AR7<>$AH7,AS7<>$AH7,AT7<>$AH7,AU7<>$AH7,AV7<>$AH7,AW7<>$AH7,AY7<>$AH7,AX7<>$AH7),$AH7,\nIF(AND(AQ7<>$AI7,AR7<>$AI7,AS7<>$AI7,AT7<>$AI7,AU7<>$AI7,AV7<>$AI7,AW7<>$AI7,AY7<>$AI7,AX7<>$AI7),$AI7,\nIF(AND(AQ7<>$AJ7,AR7<>$AJ7,AS7<>$AJ7,AT7<>$AJ7,AU7<>$AJ7,AV7<>$AJ7,AW7<>$AJ7,AY7<>$AJ7,AX7<>$AJ7),$AJ7,\nIF(AND(AQ7<>$AK7,AR7<>$AK7,AS7<>$AK7,AT7<>$AK7,AU7<>$AK7,AV7<>$AK7,AW7<>$AK7,AY7<>$AK7,AX7<>$AK7),$AK7,\nIF(AND(AQ7<>$AL7,AR7<>$AL7,AS7<>$AL7,AT7<>$AL7,AU7<>$AL7,AV7<>$AL7,AW7<>$AL7,AY7<>$AL7,AX7<>$AL7),$AL7,\nIF(AND(AQ7<>$AM7,AR7<>$AM7,AS7<>$AM7,AT7<>$AM7,AU7<>$AM7,AV7<>$AM7,AW7<>$AM7,AY7<>$AM7,AX7<>$AM7),$AM7,\nIF(AND(AQ7<>$AN7,AR7<>$AN7,AS7<>$AN7,AT7<>$AN7,AU7<>$AN7,AV7<>$AN7,AW7<>$AN7,AY7<>$AN7,AX7<>$AN7),$AN7,\nIF(AND(AQ7<>$AO7,AR7<>$AO7,AS7<>$AO7,AT7<>$AO7,AU7<>$AO7,AV7<>$AO7,AW7<>$AO7,AY7<>$AO7,AX7<>$AO7),$AO7,\n\"\")))))))))))","v":""}]
[null,0,{"$f":"IF(L8=\"x\",1,IF(ISNUMBER(L8),1,0))","v":0},{"$f":"I8","v":"212.000"},{"$f":"J8 & IF(M8<>\"\",CHAR(10) & M8,\"\")","v":"Tegole piane (p.es. embrice), fissaggio alle travi"},{"$f":"IF(C8=1,K8,\"\")","v":""},null,null,"212.000","Tegole piane (p.es. embrice), fissaggio alle travi","moduli",null,null,null,null,null,null,null,null,"E200_Tipo_di_montaggio_FV",null,"x",null,null,null,null,null,null,null,null,null,{"$f":"\nIF(U8=\"x\",U$4,\nIF(V8=\"x\",V$4,\nIF(W8=\"x\",W$4,\nIF(X8=\"x\",X$4,\nIF(Y8=\"x\",Y$4,\nIF(Z8=\"x\",Z$4,\nIF(AA8=\"x\",AA$4,\nIF(AB8=\"x\",AB$4,\nIF(AC8=\"x\",AC$4,\nIF(AD8=\"x\",AD$4,\n\"\"))))))))))","v":"moduli"},{"$f":"\nIF(V8=\"x\",V$4,\nIF(W8=\"x\",W$4,\nIF(X8=\"x\",X$4,\nIF(Y8=\"x\",Y$4,\nIF(Z8=\"x\",Z$4,\nIF(AA8=\"x\",AA$4,\nIF(AB8=\"x\",AB$4,\nIF(AC8=\"x\",AC$4,\nIF(AD8=\"x\",AD$4,\n\"\")))))))))","v":"moduli"},{"$f":"\nIF(W8=\"x\",W$4,\nIF(X8=\"x\",X$4,\nIF(Y8=\"x\",Y$4,\nIF(Z8=\"x\",Z$4,\nIF(AA8=\"x\",AA$4,\nIF(AB8=\"x\",AB$4,\nIF(AC8=\"x\",AC$4,\nIF(AD8=\"x\",AD$4,\n\"\"))))))))","v":""},{"$f":"\nIF(X8=\"x\",X$4,\nIF(Y8=\"x\",Y$4,\nIF(Z8=\"x\",Z$4,\nIF(AA8=\"x\",AA$4,\nIF(AB8=\"x\",AB$4,\nIF(AC8=\"x\",AC$4,\nIF(AD8=\"x\",AD$4,\n\"\")))))))","v":""},{"$f":"\nIF(Y8=\"x\",Y$4,\nIF(Z8=\"x\",Z$4,\nIF(AA8=\"x\",AA$4,\nIF(AB8=\"x\",AB$4,\nIF(AC8=\"x\",AC$4,\nIF(AD8=\"x\",AD$4,\n\"\"))))))","v":""},{"$f":"\nIF(Z8=\"x\",Z$4,\nIF(AA8=\"x\",AA$4,\nIF(AB8=\"x\",AB$4,\nIF(AC8=\"x\",AC$4,\nIF(AD8=\"x\",AD$4,\n\"\")))))","v":""},{"$f":"\nIF(AA8=\"x\",AA$4,\nIF(AB8=\"x\",AB$4,\nIF(AC8=\"x\",AC$4,\nIF(AD8=\"x\",AD$4,\n\"\"))))","v":""},{"$f":"\nIF(AB8=\"x\",AB$4,\nIF(AC8=\"x\",AC$4,\nIF(AD8=\"x\",AD$4,\n\"\")))","v":""},{"$f":"\nIF(AC8=\"x\",AC$4,\nIF(AD8=\"x\",AD$4,\n\"\"))","v":""},{"$f":"\nIF(AD8=\"x\",AD$4,\n\"\")","v":""},null,{"$f":"AF8","v":"moduli"},"",{"$f":"IF(AR8=\"\",\"\",\nIF(AND(AR8<>$AF8,AQ8<>$AF8),$AF8,\nIF(AND(AR8<>$AG8,AQ8<>$AG8),$AG8,\nIF(AND(AR8<>$AH8,AQ8<>$AH8),$AH8,\nIF(AND(AR8<>$AI8,AQ8<>$AI8),$AI8,\nIF(AND(AR8<>$AJ8,AQ8<>$AJ8),$AJ8,\nIF(AND(AR8<>$AK8,AQ8<>$AK8),$AK8,\nIF(AND(AR8<>$AL8,AQ8<>$AL8),$AL8,\nIF(AND(AR8<>$AM8,AQ8<>$AM8),$AM8,\nIF(AND(AR8<>$AN8,AQ8<>$AN8),$AN8,\nIF(AND(AR8<>$AO8,AQ8<>$AO8),$AO8,\n\"\")))))))))))","v":""},{"$f":"IF(AS8=\"\",\"\",\nIF(AND(AQ8<>$AF8,AS8<>$AF8,AR8<>$AF8),$AF8,\nIF(AND(AQ8<>$AG8,AS8<>$AG8,AR8<>$AG8),$AG8,\nIF(AND(AQ8<>$AH8,AS8<>$AH8,AR8<>$AH8),$AH8,\nIF(AND(AQ8<>$AI8,AS8<>$AI8,AR8<>$AI8),$AI8,\nIF(AND(AQ8<>$AJ8,AS8<>$AJ8,AR8<>$AJ8),$AJ8,\nIF(AND(AQ8<>$AK8,AS8<>$AK8,AR8<>$AK8),$AK8,\nIF(AND(AQ8<>$AL8,AS8<>$AL8,AR8<>$AL8),$AL8,\nIF(AND(AQ8<>$AM8,AS8<>$AM8,AR8<>$AM8),$AM8,\nIF(AND(AQ8<>$AN8,AS8<>$AN8,AR8<>$AN8),$AN8,\nIF(AND(AQ8<>$AO8,AS8<>$AO8,AR8<>$AO8),$AO8,\n\"\")))))))))))","v":""},{"$f":"IF(AT8=\"\",\"\",\nIF(AND(AQ8<>$AF8,AR8<>$AF8,AT8<>$AF8,AS8<>$AF8),$AF8,\nIF(AND(AQ8<>$AG8,AR8<>$AG8,AT8<>$AG8,AS8<>$AG8),$AG8,\nIF(AND(AQ8<>$AH8,AR8<>$AH8,AT8<>$AH8,AS8<>$AH8),$AH8,\nIF(AND(AQ8<>$AI8,AR8<>$AI8,AT8<>$AI8,AS8<>$AI8),$AI8,\nIF(AND(AQ8<>$AJ8,AR8<>$AJ8,AT8<>$AJ8,AS8<>$AJ8),$AJ8,\nIF(AND(AQ8<>$AK8,AR8<>$AK8,AT8<>$AK8,AS8<>$AK8),$AK8,\nIF(AND(AQ8<>$AL8,AR8<>$AL8,AT8<>$AL8,AS8<>$AL8),$AL8,\nIF(AND(AQ8<>$AM8,AR8<>$AM8,AT8<>$AM8,AS8<>$AM8),$AM8,\nIF(AND(AQ8<>$AN8,AR8<>$AN8,AT8<>$AN8,AS8<>$AN8),$AN8,\nIF(AND(AQ8<>$AO8,AR8<>$AO8,AT8<>$AO8,AS8<>$AO8),$AO8,\n\"\")))))))))))","v":""},{"$f":"IF(AU8=\"\",\"\",\nIF(AND(AQ8<>$AF8,AR8<>$AF8,AS8<>$AF8,AU8<>$AF8,AT8<>$AF8),$AF8,\nIF(AND(AQ8<>$AG8,AR8<>$AG8,AS8<>$AG8,AU8<>$AG8,AT8<>$AG8),$AG8,\nIF(AND(AQ8<>$AH8,AR8<>$AH8,AS8<>$AH8,AU8<>$AH8,AT8<>$AH8),$AH8,\nIF(AND(AQ8<>$AI8,AR8<>$AI8,AS8<>$AI8,AU8<>$AI8,AT8<>$AI8),$AI8,\nIF(AND(AQ8<>$AJ8,AR8<>$AJ8,AS8<>$AJ8,AU8<>$AJ8,AT8<>$AJ8),$AJ8,\nIF(AND(AQ8<>$AK8,AR8<>$AK8,AS8<>$AK8,AU8<>$AK8,AT8<>$AK8),$AK8,\nIF(AND(AQ8<>$AL8,AR8<>$AL8,AS8<>$AL8,AU8<>$AL8,AT8<>$AL8),$AL8,\nIF(AND(AQ8<>$AM8,AR8<>$AM8,AS8<>$AM8,AU8<>$AM8,AT8<>$AM8),$AM8,\nIF(AND(AQ8<>$AN8,AR8<>$AN8,AS8<>$AN8,AU8<>$AN8,AT8<>$AN8),$AN8,\nIF(AND(AQ8<>$AO8,AR8<>$AO8,AS8<>$AO8,AU8<>$AO8,AT8<>$AO8),$AO8,\n\"\")))))))))))","v":""},{"$f":"IF(AV8=\"\",\"\",\nIF(AND(AQ8<>$AF8,AR8<>$AF8,AS8<>$AF8,AT8<>$AF8,AV8<>$AF8,AU8<>$AF8),$AF8,\nIF(AND(AQ8<>$AG8,AR8<>$AG8,AS8<>$AG8,AT8<>$AG8,AV8<>$AG8,AU8<>$AG8),$AG8,\nIF(AND(AQ8<>$AH8,AR8<>$AH8,AS8<>$AH8,AT8<>$AH8,AV8<>$AH8,AU8<>$AH8),$AH8,\nIF(AND(AQ8<>$AI8,AR8<>$AI8,AS8<>$AI8,AT8<>$AI8,AV8<>$AI8,AU8<>$AI8),$AI8,\nIF(AND(AQ8<>$AJ8,AR8<>$AJ8,AS8<>$AJ8,AT8<>$AJ8,AV8<>$AJ8,AU8<>$AJ8),$AJ8,\nIF(AND(AQ8<>$AK8,AR8<>$AK8,AS8<>$AK8,AT8<>$AK8,AV8<>$AK8,AU8<>$AK8),$AK8,\nIF(AND(AQ8<>$AL8,AR8<>$AL8,AS8<>$AL8,AT8<>$AL8,AV8<>$AL8,AU8<>$AL8),$AL8,\nIF(AND(AQ8<>$AM8,AR8<>$AM8,AS8<>$AM8,AT8<>$AM8,AV8<>$AM8,AU8<>$AM8),$AM8,\nIF(AND(AQ8<>$AN8,AR8<>$AN8,AS8<>$AN8,AT8<>$AN8,AV8<>$AN8,AU8<>$AN8),$AN8,\nIF(AND(AQ8<>$AO8,AR8<>$AO8,AS8<>$AO8,AT8<>$AO8,AV8<>$AO8,AU8<>$AO8),$AO8,\n\"\")))))))))))","v":""},{"$f":"IF(AW8=\"\",\"\",\nIF(AND(AQ8<>$AF8,AR8<>$AF8,AS8<>$AF8,AT8<>$AF8,AU8<>$AF8,AW8<>$AF8,AV8<>$AF8),$AF8,\nIF(AND(AQ8<>$AG8,AR8<>$AG8,AS8<>$AG8,AT8<>$AG8,AU8<>$AG8,AW8<>$AG8,AV8<>$AG8),$AG8,\nIF(AND(AQ8<>$AH8,AR8<>$AH8,AS8<>$AH8,AT8<>$AH8,AU8<>$AH8,AW8<>$AH8,AV8<>$AH8),$AH8,\nIF(AND(AQ8<>$AI8,AR8<>$AI8,AS8<>$AI8,AT8<>$AI8,AU8<>$AI8,AW8<>$AI8,AV8<>$AI8),$AI8,\nIF(AND(AQ8<>$AJ8,AR8<>$AJ8,AS8<>$AJ8,AT8<>$AJ8,AU8<>$AJ8,AW8<>$AJ8,AV8<>$AJ8),$AJ8,\nIF(AND(AQ8<>$AK8,AR8<>$AK8,AS8<>$AK8,AT8<>$AK8,AU8<>$AK8,AW8<>$AK8,AV8<>$AK8),$AK8,\nIF(AND(AQ8<>$AL8,AR8<>$AL8,AS8<>$AL8,AT8<>$AL8,AU8<>$AL8,AW8<>$AL8,AV8<>$AL8),$AL8,\nIF(AND(AQ8<>$AM8,AR8<>$AM8,AS8<>$AM8,AT8<>$AM8,AU8<>$AM8,AW8<>$AM8,AV8<>$AM8),$AM8,\nIF(AND(AQ8<>$AN8,AR8<>$AN8,AS8<>$AN8,AT8<>$AN8,AU8<>$AN8,AW8<>$AN8,AV8<>$AN8),$AN8,\nIF(AND(AQ8<>$AO8,AR8<>$AO8,AS8<>$AO8,AT8<>$AO8,AU8<>$AO8,AW8<>$AO8,AV8<>$AO8),$AO8,\n\"\")))))))))))","v":""},{"$f":"IF(AX8=\"\",\"\",\nIF(AND(AQ8<>$AF8,AR8<>$AF8,AS8<>$AF8,AT8<>$AF8,AU8<>$AF8,AV8<>$AF8,AX8<>$AF8,AW8<>$AF8),$AF8,\nIF(AND(AQ8<>$AG8,AR8<>$AG8,AS8<>$AG8,AT8<>$AG8,AU8<>$AG8,AV8<>$AG8,AX8<>$AG8,AW8<>$AG8),$AG8,\nIF(AND(AQ8<>$AH8,AR8<>$AH8,AS8<>$AH8,AT8<>$AH8,AU8<>$AH8,AV8<>$AH8,AX8<>$AH8,AW8<>$AH8),$AH8,\nIF(AND(AQ8<>$AI8,AR8<>$AI8,AS8<>$AI8,AT8<>$AI8,AU8<>$AI8,AV8<>$AI8,AX8<>$AI8,AW8<>$AI8),$AI8,\nIF(AND(AQ8<>$AJ8,AR8<>$AJ8,AS8<>$AJ8,AT8<>$AJ8,AU8<>$AJ8,AV8<>$AJ8,AX8<>$AJ8,AW8<>$AJ8),$AJ8,\nIF(AND(AQ8<>$AK8,AR8<>$AK8,AS8<>$AK8,AT8<>$AK8,AU8<>$AK8,AV8<>$AK8,AX8<>$AK8,AW8<>$AK8),$AK8,\nIF(AND(AQ8<>$AL8,AR8<>$AL8,AS8<>$AL8,AT8<>$AL8,AU8<>$AL8,AV8<>$AL8,AX8<>$AL8,AW8<>$AL8),$AL8,\nIF(AND(AQ8<>$AM8,AR8<>$AM8,AS8<>$AM8,AT8<>$AM8,AU8<>$AM8,AV8<>$AM8,AX8<>$AM8,AW8<>$AM8),$AM8,\nIF(AND(AQ8<>$AN8,AR8<>$AN8,AS8<>$AN8,AT8<>$AN8,AU8<>$AN8,AV8<>$AN8,AX8<>$AN8,AW8<>$AN8),$AN8,\nIF(AND(AQ8<>$AO8,AR8<>$AO8,AS8<>$AO8,AT8<>$AO8,AU8<>$AO8,AV8<>$AO8,AX8<>$AO8,AW8<>$AO8),$AO8,\n\"\")))))))))))","v":""},{"$f":"IF(AY8=\"\",\"\",\nIF(AND(AQ8<>$AF8,AR8<>$AF8,AS8<>$AF8,AT8<>$AF8,AU8<>$AF8,AV8<>$AF8,AW8<>$AF8,AY8<>$AF8,AX8<>$AF8),$AF8,\nIF(AND(AQ8<>$AG8,AR8<>$AG8,AS8<>$AG8,AT8<>$AG8,AU8<>$AG8,AV8<>$AG8,AW8<>$AG8,AY8<>$AG8,AX8<>$AG8),$AG8,\nIF(AND(AQ8<>$AH8,AR8<>$AH8,AS8<>$AH8,AT8<>$AH8,AU8<>$AH8,AV8<>$AH8,AW8<>$AH8,AY8<>$AH8,AX8<>$AH8),$AH8,\nIF(AND(AQ8<>$AI8,AR8<>$AI8,AS8<>$AI8,AT8<>$AI8,AU8<>$AI8,AV8<>$AI8,AW8<>$AI8,AY8<>$AI8,AX8<>$AI8),$AI8,\nIF(AND(AQ8<>$AJ8,AR8<>$AJ8,AS8<>$AJ8,AT8<>$AJ8,AU8<>$AJ8,AV8<>$AJ8,AW8<>$AJ8,AY8<>$AJ8,AX8<>$AJ8),$AJ8,\nIF(AND(AQ8<>$AK8,AR8<>$AK8,AS8<>$AK8,AT8<>$AK8,AU8<>$AK8,AV8<>$AK8,AW8<>$AK8,AY8<>$AK8,AX8<>$AK8),$AK8,\nIF(AND(AQ8<>$AL8,AR8<>$AL8,AS8<>$AL8,AT8<>$AL8,AU8<>$AL8,AV8<>$AL8,AW8<>$AL8,AY8<>$AL8,AX8<>$AL8),$AL8,\nIF(AND(AQ8<>$AM8,AR8<>$AM8,AS8<>$AM8,AT8<>$AM8,AU8<>$AM8,AV8<>$AM8,AW8<>$AM8,AY8<>$AM8,AX8<>$AM8),$AM8,\nIF(AND(AQ8<>$AN8,AR8<>$AN8,AS8<>$AN8,AT8<>$AN8,AU8<>$AN8,AV8<>$AN8,AW8<>$AN8,AY8<>$AN8,AX8<>$AN8),$AN8,\nIF(AND(AQ8<>$AO8,AR8<>$AO8,AS8<>$AO8,AT8<>$AO8,AU8<>$AO8,AV8<>$AO8,AW8<>$AO8,AY8<>$AO8,AX8<>$AO8),$AO8,\n\"\")))))))))))","v":""}]
[null,0,0,"213.000","Lastre, fissaggio alle travi attraverso il rivestimento del tetto\nCaratteristiche: \n","",null,null,"213.000","Lastre, fissaggio alle travi attraverso il rivestimento del tetto","moduli",null,"Caratteristiche: \n",null,null,null,null,null,null,"E200_Tipo_di_montaggio_FV",null,"x",null,null,null,null,null,null,null,null,null,"moduli","moduli","","","","","","","","",null,"moduli","","","","","","","","",""]
[null,0,0,"214.000","Lastre di grandi dimensioni ondulate o profilate, fissaggio agli arcarecci attraverso il rivestimento del tetto (p.es. eternit ondulato)","",null,null,"214.000","Lastre di grandi dimensioni ondulate o profilate, fissaggio agli arcarecci attraverso il rivestimento del tetto (p.es. eternit ondulato)","moduli",null,null,null,null,null,null,null,null,"E200_Tipo_di_montaggio_FV",null,"x",null,null,null,null,null,null,null,null,null,"moduli","moduli","","","","","","","","",null,"moduli","",{"$f":"IF(AR10=\"\",\"\",\nIF(AND(AR10<>$AF10,AQ10<>$AF10),$AF10,\nIF(AND(AR10<>$AG10,AQ10<>$AG10),$AG10,\nIF(AND(AR10<>$AH10,AQ10<>$AH10),$AH10,\nIF(AND(AR10<>$AI10,AQ10<>$AI10),$AI10,\nIF(AND(AR10<>$AJ10,AQ10<>$AJ10),$AJ10,\nIF(AND(AR10<>$AK10,AQ10<>$AK10),$AK10,\nIF(AND(AR10<>$AL10,AQ10<>$AL10),$AL10,\nIF(AND(AR10<>$AM10,AQ10<>$AM10),$AM10,\nIF(AND(AR10<>$AN10,AQ10<>$AN10),$AN10,\nIF(AND(AR10<>$AO10,AQ10<>$AO10),$AO10,\n\"\")))))))))))","v":""},{"$f":"IF(AS10=\"\",\"\",\nIF(AND(AQ10<>$AF10,AS10<>$AF10,AR10<>$AF10),$AF10,\nIF(AND(AQ10<>$AG10,AS10<>$AG10,AR10<>$AG10),$AG10,\nIF(AND(AQ10<>$AH10,AS10<>$AH10,AR10<>$AH10),$AH10,\nIF(AND(AQ10<>$AI10,AS10<>$AI10,AR10<>$AI10),$AI10,\nIF(AND(AQ10<>$AJ10,AS10<>$AJ10,AR10<>$AJ10),$AJ10,\nIF(AND(AQ10<>$AK10,AS10<>$AK10,AR10<>$AK10),$AK10,\nIF(AND(AQ10<>$AL10,AS10<>$AL10,AR10<>$AL10),$AL10,\nIF(AND(AQ10<>$AM10,AS10<>$AM10,AR10<>$AM10),$AM10,\nIF(AND(AQ10<>$AN10,AS10<>$AN10,AR10<>$AN10),$AN10,\nIF(AND(AQ10<>$AO10,AS10<>$AO10,AR10<>$AO10),$AO10,\n\"\")))))))))))","v":""},{"$f":"IF(AT10=\"\",\"\",\nIF(AND(AQ10<>$AF10,AR10<>$AF10,AT10<>$AF10,AS10<>$AF10),$AF10,\nIF(AND(AQ10<>$AG10,AR10<>$AG10,AT10<>$AG10,AS10<>$AG10),$AG10,\nIF(AND(AQ10<>$AH10,AR10<>$AH10,AT10<>$AH10,AS10<>$AH10),$AH10,\nIF(AND(AQ10<>$AI10,AR10<>$AI10,AT10<>$AI10,AS10<>$AI10),$AI10,\nIF(AND(AQ10<>$AJ10,AR10<>$AJ10,AT10<>$AJ10,AS10<>$AJ10),$AJ10,\nIF(AND(AQ10<>$AK10,AR10<>$AK10,AT10<>$AK10,AS10<>$AK10),$AK10,\nIF(AND(AQ10<>$AL10,AR10<>$AL10,AT10<>$AL10,AS10<>$AL10),$AL10,\nIF(AND(AQ10<>$AM10,AR10<>$AM10,AT10<>$AM10,AS10<>$AM10),$AM10,\nIF(AND(AQ10<>$AN10,AR10<>$AN10,AT10<>$AN10,AS10<>$AN10),$AN10,\nIF(AND(AQ10<>$AO10,AR10<>$AO10,AT10<>$AO10,AS10<>$AO10),$AO10,\n\"\")))))))))))","v":""},{"$f":"IF(AU10=\"\",\"\",\nIF(AND(AQ10<>$AF10,AR10<>$AF10,AS10<>$AF10,AU10<>$AF10,AT10<>$AF10),$AF10,\nIF(AND(AQ10<>$AG10,AR10<>$AG10,AS10<>$AG10,AU10<>$AG10,AT10<>$AG10),$AG10,\nIF(AND(AQ10<>$AH10,AR10<>$AH10,AS10<>$AH10,AU10<>$AH10,AT10<>$AH10),$AH10,\nIF(AND(AQ10<>$AI10,AR10<>$AI10,AS10<>$AI10,AU10<>$AI10,AT10<>$AI10),$AI10,\nIF(AND(AQ10<>$AJ10,AR10<>$AJ10,AS10<>$AJ10,AU10<>$AJ10,AT10<>$AJ10),$AJ10,\nIF(AND(AQ10<>$AK10,AR10<>$AK10,AS10<>$AK10,AU10<>$AK10,AT10<>$AK10),$AK10,\nIF(AND(AQ10<>$AL10,AR10<>$AL10,AS10<>$AL10,AU10<>$AL10,AT10<>$AL10),$AL10,\nIF(AND(AQ10<>$AM10,AR10<>$AM10,AS10<>$AM10,AU10<>$AM10,AT10<>$AM10),$AM10,\nIF(AND(AQ10<>$AN10,AR10<>$AN10,AS10<>$AN10,AU10<>$AN10,AT10<>$AN10),$AN10,\nIF(AND(AQ10<>$AO10,AR10<>$AO10,AS10<>$AO10,AU10<>$AO10,AT10<>$AO10),$AO10,\n\"\")))))))))))","v":""},{"$f":"IF(AV10=\"\",\"\",\nIF(AND(AQ10<>$AF10,AR10<>$AF10,AS10<>$AF10,AT10<>$AF10,AV10<>$AF10,AU10<>$AF10),$AF10,\nIF(AND(AQ10<>$AG10,AR10<>$AG10,AS10<>$AG10,AT10<>$AG10,AV10<>$AG10,AU10<>$AG10),$AG10,\nIF(AND(AQ10<>$AH10,AR10<>$AH10,AS10<>$AH10,AT10<>$AH10,AV10<>$AH10,AU10<>$AH10),$AH10,\nIF(AND(AQ10<>$AI10,AR10<>$AI10,AS10<>$AI10,AT10<>$AI10,AV10<>$AI10,AU10<>$AI10),$AI10,\nIF(AND(AQ10<>$AJ10,AR10<>$AJ10,AS10<>$AJ10,AT10<>$AJ10,AV10<>$AJ10,AU10<>$AJ10),$AJ10,\nIF(AND(AQ10<>$AK10,AR10<>$AK10,AS10<>$AK10,AT10<>$AK10,AV10<>$AK10,AU10<>$AK10),$AK10,\nIF(AND(AQ10<>$AL10,AR10<>$AL10,AS10<>$AL10,AT10<>$AL10,AV10<>$AL10,AU10<>$AL10),$AL10,\nIF(AND(AQ10<>$AM10,AR10<>$AM10,AS10<>$AM10,AT10<>$AM10,AV10<>$AM10,AU10<>$AM10),$AM10,\nIF(AND(AQ10<>$AN10,AR10<>$AN10,AS10<>$AN10,AT10<>$AN10,AV10<>$AN10,AU10<>$AN10),$AN10,\nIF(AND(AQ10<>$AO10,AR10<>$AO10,AS10<>$AO10,AT10<>$AO10,AV10<>$AO10,AU10<>$AO10),$AO10,\n\"\")))))))))))","v":""},{"$f":"IF(AW10=\"\",\"\",\nIF(AND(AQ10<>$AF10,AR10<>$AF10,AS10<>$AF10,AT10<>$AF10,AU10<>$AF10,AW10<>$AF10,AV10<>$AF10),$AF10,\nIF(AND(AQ10<>$AG10,AR10<>$AG10,AS10<>$AG10,AT10<>$AG10,AU10<>$AG10,AW10<>$AG10,AV10<>$AG10),$AG10,\nIF(AND(AQ10<>$AH10,AR10<>$AH10,AS10<>$AH10,AT10<>$AH10,AU10<>$AH10,AW10<>$AH10,AV10<>$AH10),$AH10,\nIF(AND(AQ10<>$AI10,AR10<>$AI10,AS10<>$AI10,AT10<>$AI10,AU10<>$AI10,AW10<>$AI10,AV10<>$AI10),$AI10,\nIF(AND(AQ10<>$AJ10,AR10<>$AJ10,AS10<>$AJ10,AT10<>$AJ10,AU10<>$AJ10,AW10<>$AJ10,AV10<>$AJ10),$AJ10,\nIF(AND(AQ10<>$AK10,AR10<>$AK10,AS10<>$AK10,AT10<>$AK10,AU10<>$AK10,AW10<>$AK10,AV10<>$AK10),$AK10,\nIF(AND(AQ10<>$AL10,AR10<>$AL10,AS10<>$AL10,AT10<>$AL10,AU10<>$AL10,AW10<>$AL10,AV10<>$AL10),$AL10,\nIF(AND(AQ10<>$AM10,AR10<>$AM10,AS10<>$AM10,AT10<>$AM10,AU10<>$AM10,AW10<>$AM10,AV10<>$AM10),$AM10,\nIF(AND(AQ10<>$AN10,AR10<>$AN10,AS10<>$AN10,AT10<>$AN10,AU10<>$AN10,AW10<>$AN10,AV10<>$AN10),$AN10,\nIF(AND(AQ10<>$AO10,AR10<>$AO10,AS10<>$AO10,AT10<>$AO10,AU10<>$AO10,AW10<>$AO10,AV10<>$AO10),$AO10,\n\"\")))))))))))","v":""},{"$f":"IF(AX10=\"\",\"\",\nIF(AND(AQ10<>$AF10,AR10<>$AF10,AS10<>$AF10,AT10<>$AF10,AU10<>$AF10,AV10<>$AF10,AX10<>$AF10,AW10<>$AF10),$AF10,\nIF(AND(AQ10<>$AG10,AR10<>$AG10,AS10<>$AG10,AT10<>$AG10,AU10<>$AG10,AV10<>$AG10,AX10<>$AG10,AW10<>$AG10),$AG10,\nIF(AND(AQ10<>$AH10,AR10<>$AH10,AS10<>$AH10,AT10<>$AH10,AU10<>$AH10,AV10<>$AH10,AX10<>$AH10,AW10<>$AH10),$AH10,\nIF(AND(AQ10<>$AI10,AR10<>$AI10,AS10<>$AI10,AT10<>$AI10,AU10<>$AI10,AV10<>$AI10,AX10<>$AI10,AW10<>$AI10),$AI10,\nIF(AND(AQ10<>$AJ10,AR10<>$AJ10,AS10<>$AJ10,AT10<>$AJ10,AU10<>$AJ10,AV10<>$AJ10,AX10<>$AJ10,AW10<>$AJ10),$AJ10,\nIF(AND(AQ10<>$AK10,AR10<>$AK10,AS10<>$AK10,AT10<>$AK10,AU10<>$AK10,AV10<>$AK10,AX10<>$AK10,AW10<>$AK10),$AK10,\nIF(AND(AQ10<>$AL10,AR10<>$AL10,AS10<>$AL10,AT10<>$AL10,AU10<>$AL10,AV10<>$AL10,AX10<>$AL10,AW10<>$AL10),$AL10,\nIF(AND(AQ10<>$AM10,AR10<>$AM10,AS10<>$AM10,AT10<>$AM10,AU10<>$AM10,AV10<>$AM10,AX10<>$AM10,AW10<>$AM10),$AM10,\nIF(AND(AQ10<>$AN10,AR10<>$AN10,AS10<>$AN10,AT10<>$AN10,AU10<>$AN10,AV10<>$AN10,AX10<>$AN10,AW10<>$AN10),$AN10,\nIF(AND(AQ10<>$AO10,AR10<>$AO10,AS10<>$AO10,AT10<>$AO10,AU10<>$AO10,AV10<>$AO10,AX10<>$AO10,AW10<>$AO10),$AO10,\n\"\")))))))))))","v":""},{"$f":"IF(AY10=\"\",\"\",\nIF(AND(AQ10<>$AF10,AR10<>$AF10,AS10<>$AF10,AT10<>$AF10,AU10<>$AF10,AV10<>$AF10,AW10<>$AF10,AY10<>$AF10,AX10<>$AF10),$AF10,\nIF(AND(AQ10<>$AG10,AR10<>$AG10,AS10<>$AG10,AT10<>$AG10,AU10<>$AG10,AV10<>$AG10,AW10<>$AG10,AY10<>$AG10,AX10<>$AG10),$AG10,\nIF(AND(AQ10<>$AH10,AR10<>$AH10,AS10<>$AH10,AT10<>$AH10,AU10<>$AH10,AV10<>$AH10,AW10<>$AH10,AY10<>$AH10,AX10<>$AH10),$AH10,\nIF(AND(AQ10<>$AI10,AR10<>$AI10,AS10<>$AI10,AT10<>$AI10,AU10<>$AI10,AV10<>$AI10,AW10<>$AI10,AY10<>$AI10,AX10<>$AI10),$AI10,\nIF(AND(AQ10<>$AJ10,AR10<>$AJ10,AS10<>$AJ10,AT10<>$AJ10,AU10<>$AJ10,AV10<>$AJ10,AW10<>$AJ10,AY10<>$AJ10,AX10<>$AJ10),$AJ10,\nIF(AND(AQ10<>$AK10,AR10<>$AK10,AS10<>$AK10,AT10<>$AK10,AU10<>$AK10,AV10<>$AK10,AW10<>$AK10,AY10<>$AK10,AX10<>$AK10),$AK10,\nIF(AND(AQ10<>$AL10,AR10<>$AL10,AS10<>$AL10,AT10<>$AL10,AU10<>$AL10,AV10<>$AL10,AW10<>$AL10,AY10<>$AL10,AX10<>$AL10),$AL10,\nIF(AND(AQ10<>$AM10,AR10<>$AM10,AS10<>$AM10,AT10<>$AM10,AU10<>$AM10,AV10<>$AM10,AW10<>$AM10,AY10<>$AM10,AX10<>$AM10),$AM10,\nIF(AND(AQ10<>$AN10,AR10<>$AN10,AS10<>$AN10,AT10<>$AN10,AU10<>$AN10,AV10<>$AN10,AW10<>$AN10,AY10<>$AN10,AX10<>$AN10),$AN10,\nIF(AND(AQ10<>$AO10,AR10<>$AO10,AS10<>$AO10,AT10<>$AO10,AU10<>$AO10,AV10<>$AO10,AW10<>$AO10,AY10<>$AO10,AX10<>$AO10),$AO10,\n\"\")))))))))))","v":""}]
[null,0,0,"215.000","Lastre di grandi dimensioni ondulate o profilate, fissaggio al rivestimento del tetto (p. es. lamiera trapezoidale)","",null,null,"215.000","Lastre di grandi dimensioni ondulate o profilate, fissaggio al rivestimento del tetto (p. es. lamiera trapezoidale)","moduli",null,null,null,null,null,null,null,null,"E200_Tipo_di_montaggio_FV",null,"x",null,null,null,null,null,null,null,null,null,"moduli","moduli","","","","","","","","",null,"moduli","","","","","","","","",""]
[null,0,0,"216.000","Lamiera aggraffata, fissaggio al rivestimento del tetto","",null,null,"216.000","Lamiera aggraffata, fissaggio al rivestimento del tetto","moduli",null,null,null,null,null,null,null,null,"E200_Tipo_di_montaggio_FV",null,"x",null,null,null,null,null,null,null,null,null,"moduli","moduli","","","","","","","","",null,"moduli","","","","","","","","",""]
[null,0,0,{"$f":"I13","v":"217.000"},"Altro","",null,null,"217.000","Altro","moduli",null,null,null,null,null,null,null,null,"E200_Tipo_di_montaggio_FV",null,"x",null,null,null,null,null,null,null,null,null,"moduli","moduli","","","","","","","","",null,"moduli","","","","","","","","",""]
[null,{"$f":"B6","v":0},0,null,null,"",null,null,null,null,null,null,null,null,null,null,null,null,null,null,null,null,null,null,null,null,null,null,null,null,null,"","","","","","","","","","",null,"","","","","","","","","",""]
[null,{"$f":"IF(SUM(B16:B20)>0,1,0)","v":0},0,{"$f":"G15","v":"220.000"},{"$f":"H15 & IF(M15<>\"\",CHAR(10) & M15,\"\")","v":"Tetto a falda, impianto integrato, complanare al tetto"},"","220.000","Tetto a falda, impianto integrato, complanare al tetto",null,null,null,null,null,null,null,null,null,null,null,null,null,null,null,null,null,null,null,null,null,null,null,"","","","","","","","","","",null,"","","","","","","","","",""]
[null,{"$f":"IF(L16=\"x\",1,IF(ISNUMBER(L16),L16,0))","v":0},0,{"$f":"I16","v":"221.000"},{"$f":"J16 & IF(M16<>\"\",CHAR(10) & M16,\"\")","v":"Fissaggio alla controlistonatura"},"",null,null,"221.000","Fissaggio alla controlistonatura","moduli",null,null,null,null,null,null,null,null,"E200_Tipo_di_montaggio_FV",null,"x",null,"x",null,null,null,null,null,null,null,"moduli","moduli","m2","m2","","","","","","",null,"moduli","m2","","","","","","","",""]
[null,{"$f":"IF(L17=\"x\",1,IF(ISNUMBER(L17),L17,0))","v":0},0,{"$f":"I17","v":"222.000"},"Fissaggio alla listonatura","",null,null,"222.000","Fissaggio alla listonatura","moduli",null,null,null,null,null,null,null,null,"E200_Tipo_di_montaggio_FV",null,"x",null,"x",null,null,null,null,null,null,null,"moduli","moduli","m2","m2","","","","","","",null,"moduli","m2","","","","","","","",""]
[null,{"$f":"IF(L18=\"x\",1,IF(ISNUMBER(L18),L18,0))","v":0},0,{"$f":"I18","v":"223.000"},"Fissaggio alle travi","",null,null,"223.000","Fissaggio alle travi","moduli",null,null,null,null,null,null,null,null,"E200_Tipo_di_montaggio_FV",null,"x",null,"x",null,null,null,null,null,null,null,"moduli","moduli","m2","m2","","","","","","",null,"moduli","m2","","","","","","","",""]
[null,{"$f":"IF(L19=\"x\",1,IF(ISNUMBER(L19),L19,0))","v":0},0,"224.000","Fissaggio alle terzere","",null,null,"224.000","Fissaggio alle terzere","moduli",null,null,null,null,null,null,null,null,"E200_Tipo_di_montaggio_FV",null,"x",null,"x",null,null,null,null,null,null,null,"moduli","moduli","m2","m2","","","","","","",null,"moduli","m2","","","","","","","",""]
[null,{"$f":"IF(L20=\"x\",1,IF(ISNUMBER(L20),L20,0))","v":0},0,"225.000","Fissaggio a elementi del proprio sistema","",null,null,"225.000","Fissaggio a elementi del proprio sistema","moduli",null,null,null,null,null,null,null,null,"E200_Tipo_di_montaggio_FV",null,null,null,null,null,null,null,null,null,null,null,"","","","","","","","","","",null,"","","","","","","","","",""]
[null,{"$f":"B15","v":0},0,null,null,"",null,null,null,null,null,null,null,null,null,null,null,null,null,null,null,null,null,null,null,null,null,null,null,null,null,"","","","","","","","","","",null,"","","","","","","","","",""]
[null,{"$f":"IF(SUM(B23:B29)>0,1,0)","v":1},0,{"$f":"G22","v":"230.000"},{"$f":"H22 & IF(M22<>\"\",CHAR(10) & M22,\"\")","v":"Tetto piano (senza attraversamento del tetto) Sistema di montaggio con due orientamenti opposti (est-ovest)"},"","230.000","Tetto piano (senza attraversamento del tetto) Sistema di montaggio con due orientamenti opposti (est-ovest)",null,null,null,null,null,null,null,null,null,null,null,null,null,null,null,null,null,null,null,null,null,null,null,"","","","","","","","","","",null,"","","","","","","","","",""]
[null,{"$f":"IF(L23=\"x\",1,IF(ISNUMBER(L23),L23,0))","v":0},0,{"$f":"I23","v":"231.000"},{"$f":"J23 & IF(M23<>\"\",CHAR(10) & M23,\"\")","v":"Su tetto piano senza strato protettivo"},"",null,null,"231.000","Su tetto piano senza strato protettivo","moduli",null,null,null,null,null,null,null,null,"E200_Tipo_di_montaggio_FV",null,"x",null,null,null,null,null,null,null,null,null,"moduli","moduli","","","","","","","","",null,"moduli","","","","","","","","",""]
[null,1,1,{"$f":"I24","v":"232.000"},"Sotto la ghiaia\nCaratteristiche: \nSistema di aggancio","moduli",null,null,"232.000","Sotto la ghiaia","moduli","x","Caratteristiche: \nSistema di aggancio",null,null,null,null,null,null,"E200_Tipo_di_montaggio_FV",null,"x",null,null,null,null,null,null,null,null,null,"moduli","moduli","","","","","","","","",null,"moduli","","","","","","","","",""]
[null,0,0,{"$f":"I25","v":"233.000"},"Sopra la ghiaia","",null,null,"233.000","Sopra la ghiaia","moduli",null,null,null,null,null,null,null,null,"E200_Tipo_di_montaggio_FV",null,"x",null,null,null,null,null,null,null,null,null,"moduli","moduli","","","","","","","","",null,"moduli","","","","","","","","",""]
[null,0,0,"234.000","Sotto strato verde, costruzione rialzata","",null,null,"234.000","Sotto strato verde, costruzione rialzata","moduli",null,null,null,null,null,null,null,null,"E200_Tipo_di_montaggio_FV",null,"x",null,null,null,null,null,null,null,null,null,"moduli","moduli","","","","","","","","",null,"moduli","","","","","","","","",""]
[null,0,0,"235.000","Sopra strato verde, costruzione rialzata","",null,null,"235.000","Sopra strato verde, costruzione rialzata","moduli",null,null,null,null,null,null,null,null,"E200_Tipo_di_montaggio_FV",null,"x",null,null,null,null,null,null,null,null,null,"moduli","moduli","","","","","","","","",null,"moduli","","","","","","","","",""]
[null,0,0,"236.000","Montato su lastre praticabili","",null,null,"236.000","Montato su lastre praticabili","moduli",null,null,null,null,null,null,null,null,"E200_Tipo_di_montaggio_FV",null,"x",null,null,null,null,null,null,null,null,null,"moduli","moduli","","","","","","","","",null,"moduli","","","","","","","","",""]
[null,0,0,"237.000","Altro","",null,null,"237.000","Altro","moduli",null,null,null,null,null,null,null,null,"E200_Tipo_di_montaggio_FV",null,"x",null,null,null,null,null,null,null,null,null,"moduli","moduli","","","","","","","","",null,"moduli","","","","","","","","",""]
[null,{"$f":"B22","v":1},0,null,null,"",null,null,null,null,null,null,null,null,null,null,null,null,null,null,null,null,null,null,null,null,null,null,null,null,null,"","","","","","","","","","",null,"","","","","","","","","",""]
[null,{"$f":"IF(SUM(B32:B37)>0,1,0)","v":0},0,{"$f":"G31","v":"240.000"},{"$f":"H31 & IF(M31<>\"\",CHAR(10) & M31,\"\")","v":"Tetto piano (senza attraversamento del tetto) Sistema di montaggio con un unico orientamento (sud)"},"","240.000","Tetto piano (senza attraversamento del tetto) Sistema di montaggio con un unico orientamento (sud)",null,null,null,null,null,null,null,null,null,null,null,null,null,null,null,null,null,null,null,null,null,null,null,"","","","","","","","","","",null,"","","","","","","","","",""]
[null,{"$f":"IF(L32=\"x\",1,IF(ISNUMBER(L32),L32,0))","v":0},0,{"$f":"I32","v":"241.000"},{"$f":"J32 & IF(M32<>\"\",CHAR(10) & M32,\"\")","v":"Su tetto piano senza strato protettivo"},"",null,null,"241.000","Su tetto piano senza strato protettivo","moduli",null,null,null,null,null,null,null,null,"E200_Tipo_di_montaggio_FV",null,"x",null,null,null,null,null,null,null,null,null,"moduli","moduli","","","","","","","","",null,"moduli","","","","","","","","",""]
[null,0,0,{"$f":"I33","v":"242.000"},"Sotto la ghiaia","",null,null,"242.000","Sotto la ghiaia","moduli",null,null,null,null,null,null,null,null,"E200_Tipo_di_montaggio_FV",null,"x",null,null,null,null,null,null,null,null,null,"moduli","moduli","","","","","","","","",null,"moduli","","","","","","","","",""]
[null,0,0,{"$f":"I34","v":"243.000"},"Sopra la ghiaia","",null,null,"243.000","Sopra la ghiaia","moduli",null,null,null,null,null,null,null,null,"E200_Tipo_di_montaggio_FV",null,"x",null,null,null,null,null,null,null,null,null,"moduli","moduli","","","","","","","","",null,"moduli","","","","","","","","",""]
[null,0,0,"244.000","Sotto strato verde, costruzione rialzata","",null,null,"244.000","Sotto strato verde, costruzione rialzata","moduli",null,null,null,null,null,null,null,null,"E200_Tipo_di_montaggio_FV",null,"x",null,null,null,null,null,null,null,null,null,"moduli","moduli","","","","","","","","",null,"moduli","","","","","","","","",""]
[null,0,0,"245.000","Sopra strato verde, costruzione rialzata","",null,null,"245.000","Sopra strato verde, costruzione rialzata","moduli",null,null,null,null,null,null,null,null,"E200_Tipo_di_montaggio_FV",null,"x",null,null,null,null,null,null,null,null,null,"moduli","moduli","","","","","","","","",null,"moduli","","","","","","","","",""]
[null,0,0,"246.000","Montato su lastre praticabili","",null,null,"246.000","Montato su lastre praticabili","moduli",null,null,null,null,null,null,null,null,"E200_Tipo_di_montaggio_FV",null,"x",null,null,null,null,null,null,null,null,null,"moduli","moduli","","","","","","","","",null,"moduli","","","","","","","","",""]
[null,{"$f":"B31","v":0},0,null,null,"",null,null,null,null,null,null,null,null,null,null,null,null,null,null,null,null,null,null,null,null,null,null,null,null,null,"","","","","","","","","","",null,"",{"$f":"IF(AQ38=\"\",\"\",\nIF(AQ38<>$AF38,$AF38,\nIF(AQ38<>$AG38,$AG38,\nIF(AQ38<>$AH38,$AH38,\nIF(AQ38<>$AI38,$AI38,\nIF(AQ38<>$AJ38,$AJ38,\nIF(AQ38<>$AK38,$AK38,\nIF(AQ38<>$AL38,$AL38,\nIF(AQ38<>$AM38,$AM38,\nIF(AQ38<>$AN38,$AN38,\nIF(AQ38<>$AO38,$AO38,\n\"\")))))))))))","v":""},"","","","","","","",""]
[null,{"$f":"IF(SUM(B40:B46)>0,1,0)","v":0},0,{"$f":"G39","v":"250.000"},{"$f":"H39 & IF(M39<>\"\",CHAR(10) & M39,\"\")","v":"Facciata"},"","250.000","Facciata",null,null,null,null,null,null,null,null,null,null,null,null,null,null,null,null,null,null,null,null,null,null,null,"","","","","","","","","","",null,"","","","","","","","","",""]
[null,{"$f":"IF(L40=\"x\",1,IF(ISNUMBER(L40),L40,0))","v":0},0,{"$f":"I40","v":"251.000"},{"$f":"J40 & IF(M40<>\"\",CHAR(10) & M40,\"\")","v":"Modulo standard, integrato, complanare"},"",null,null,"251.000","Modulo standard, integrato, complanare","moduli",null,null,null,null,null,null,null,null,"E200_Tipo_di_montaggio_FV",null,"x",null,"x",null,null,null,null,null,null,null,"moduli","moduli","m2","m2","","","","","","",null,"moduli","m2","","","","","","","",""]
[null,0,0,{"$f":"I41","v":"252.000"},"Modulo di dimensioni speciali, integrato, complanare","",null,null,"252.000","Modulo di dimensioni speciali, integrato, complanare","moduli",null,null,null,null,null,null,null,null,"E200_Tipo_di_montaggio_FV",null,"x",null,"x",null,null,null,null,null,null,null,"moduli","moduli","m2","m2","","","","","","",null,"moduli","m2","","","","","","","",""]
[null,0,0,{"$f":"I42","v":"253.000"},"Modulo standard, annesso, complanare","",null,null,"253.000","Modulo standard, annesso, complanare","moduli",null,null,null,null,null,null,null,null,"E200_Tipo_di_montaggio_FV",null,"x",null,"x",null,null,null,null,null,null,null,"moduli","moduli","m2","m2","","","","","","",null,"moduli","m2",{"$f":"IF(AR42=\"\",\"\",\nIF(AND(AR42<>$AF42,AQ42<>$AF42),$AF42,\nIF(AND(AR42<>$AG42,AQ42<>$AG42),$AG42,\nIF(AND(AR42<>$AH42,AQ42<>$AH42),$AH42,\nIF(AND(AR42<>$AI42,AQ42<>$AI42),$AI42,\nIF(AND(AR42<>$AJ42,AQ42<>$AJ42),$AJ42,\nIF(AND(AR42<>$AK42,AQ42<>$AK42),$AK42,\nIF(AND(AR42<>$AL42,AQ42<>$AL42),$AL42,\nIF(AND(AR42<>$AM42,AQ42<>$AM42),$AM42,\nIF(AND(AR42<>$AN42,AQ42<>$AN42),$AN42,\nIF(AND(AR42<>$AO42,AQ42<>$AO42),$AO42,\n\"\")))))))))))","v":""},{"$f":"IF(AS42=\"\",\"\",\nIF(AND(AQ42<>$AF42,AS42<>$AF42,AR42<>$AF42),$AF42,\nIF(AND(AQ42<>$AG42,AS42<>$AG42,AR42<>$AG42),$AG42,\nIF(AND(AQ42<>$AH42,AS42<>$AH42,AR42<>$AH42),$AH42,\nIF(AND(AQ42<>$AI42,AS42<>$AI42,AR42<>$AI42),$AI42,\nIF(AND(AQ42<>$AJ42,AS42<>$AJ42,AR42<>$AJ42),$AJ42,\nIF(AND(AQ42<>$AK42,AS42<>$AK42,AR42<>$AK42),$AK42,\nIF(AND(AQ42<>$AL42,AS42<>$AL42,AR42<>$AL42),$AL42,\nIF(AND(AQ42<>$AM42,AS42<>$AM42,AR42<>$AM42),$AM42,\nIF(AND(AQ42<>$AN42,AS42<>$AN42,AR42<>$AN42),$AN42,\nIF(AND(AQ42<>$AO42,AS42<>$AO42,AR42<>$AO42),$AO42,\n\"\")))))))))))","v":""},{"$f":"IF(AT42=\"\",\"\",\nIF(AND(AQ42<>$AF42,AR42<>$AF42,AT42<>$AF42,AS42<>$AF42),$AF42,\nIF(AND(AQ42<>$AG42,AR42<>$AG42,AT42<>$AG42,AS42<>$AG42),$AG42,\nIF(AND(AQ42<>$AH42,AR42<>$AH42,AT42<>$AH42,AS42<>$AH42),$AH42,\nIF(AND(AQ42<>$AI42,AR42<>$AI42,AT42<>$AI42,AS42<>$AI42),$AI42,\nIF(AND(AQ42<>$AJ42,AR42<>$AJ42,AT42<>$AJ42,AS42<>$AJ42),$AJ42,\nIF(AND(AQ42<>$AK42,AR42<>$AK42,AT42<>$AK42,AS42<>$AK42),$AK42,\nIF(AND(AQ42<>$AL42,AR42<>$AL42,AT42<>$AL42,AS42<>$AL42),$AL42,\nIF(AND(AQ42<>$AM42,AR42<>$AM42,AT42<>$AM42,AS42<>$AM42),$AM42,\nIF(AND(AQ42<>$AN42,AR42<>$AN42,AT42<>$AN42,AS42<>$AN42),$AN42,\nIF(AND(AQ42<>$AO42,AR42<>$AO42,AT42<>$AO42,AS42<>$AO42),$AO42,\n\"\")))))))))))","v":""},{"$f":"IF(AU42=\"\",\"\",\nIF(AND(AQ42<>$AF42,AR42<>$AF42,AS42<>$AF42,AU42<>$AF42,AT42<>$AF42),$AF42,\nIF(AND(AQ42<>$AG42,AR42<>$AG42,AS42<>$AG42,AU42<>$AG42,AT42<>$AG42),$AG42,\nIF(AND(AQ42<>$AH42,AR42<>$AH42,AS42<>$AH42,AU42<>$AH42,AT42<>$AH42),$AH42,\nIF(AND(AQ42<>$AI42,AR42<>$AI42,AS42<>$AI42,AU42<>$AI42,AT42<>$AI42),$AI42,\nIF(AND(AQ42<>$AJ42,AR42<>$AJ42,AS42<>$AJ42,AU42<>$AJ42,AT42<>$AJ42),$AJ42,\nIF(AND(AQ42<>$AK42,AR42<>$AK42,AS42<>$AK42,AU42<>$AK42,AT42<>$AK42),$AK42,\nIF(AND(AQ42<>$AL42,AR42<>$AL42,AS42<>$AL42,AU42<>$AL42,AT42<>$AL42),$AL42,\nIF(AND(AQ42<>$AM42,AR42<>$AM42,AS42<>$AM42,AU42<>$AM42,AT42<>$AM42),$AM42,\nIF(AND(AQ42<>$AN42,AR42<>$AN42,AS42<>$AN42,AU42<>$AN42,AT42<>$AN42),$AN42,\nIF(AND(AQ42<>$AO42,AR42<>$AO42,AS42<>$AO42,AU42<>$AO42,AT42<>$AO42),$AO42,\n\"\")))))))))))","v":""},{"$f":"IF(AV42=\"\",\"\",\nIF(AND(AQ42<>$AF42,AR42<>$AF42,AS42<>$AF42,AT42<>$AF42,AV42<>$AF42,AU42<>$AF42),$AF42,\nIF(AND(AQ42<>$AG42,AR42<>$AG42,AS42<>$AG42,AT42<>$AG42,AV42<>$AG42,AU42<>$AG42),$AG42,\nIF(AND(AQ42<>$AH42,AR42<>$AH42,AS42<>$AH42,AT42<>$AH42,AV42<>$AH42,AU42<>$AH42),$AH42,\nIF(AND(AQ42<>$AI42,AR42<>$AI42,AS42<>$AI42,AT42<>$AI42,AV42<>$AI42,AU42<>$AI42),$AI42,\nIF(AND(AQ42<>$AJ42,AR42<>$AJ42,AS42<>$AJ42,AT42<>$AJ42,AV42<>$AJ42,AU42<>$AJ42),$AJ42,\nIF(AND(AQ42<>$AK42,AR42<>$AK42,AS42<>$AK42,AT42<>$AK42,AV42<>$AK42,AU42<>$AK42),$AK42,\nIF(AND(AQ42<>$AL42,AR42<>$AL42,AS42<>$AL42,AT42<>$AL42,AV42<>$AL42,AU42<>$AL42),$AL42,\nIF(AND(AQ42<>$AM42,AR42<>$AM42,AS42<>$AM42,AT42<>$AM42,AV42<>$AM42,AU42<>$AM42),$AM42,\nIF(AND(AQ42<>$AN42,AR42<>$AN42,AS42<>$AN42,AT42<>$AN42,AV42<>$AN42,AU42<>$AN42),$AN42,\nIF(AND(AQ42<>$AO42,AR42<>$AO42,AS42<>$AO42,AT42<>$AO42,AV42<>$AO42,AU42<>$AO42),$AO42,\n\"\")))))))))))","v":""},{"$f":"IF(AW42=\"\",\"\",\nIF(AND(AQ42<>$AF42,AR42<>$AF42,AS42<>$AF42,AT42<>$AF42,AU42<>$AF42,AW42<>$AF42,AV42<>$AF42),$AF42,\nIF(AND(AQ42<>$AG42,AR42<>$AG42,AS42<>$AG42,AT42<>$AG42,AU42<>$AG42,AW42<>$AG42,AV42<>$AG42),$AG42,\nIF(AND(AQ42<>$AH42,AR42<>$AH42,AS42<>$AH42,AT42<>$AH42,AU42<>$AH42,AW42<>$AH42,AV42<>$AH42),$AH42,\nIF(AND(AQ42<>$AI42,AR42<>$AI42,AS42<>$AI42,AT42<>$AI42,AU42<>$AI42,AW42<>$AI42,AV42<>$AI42),$AI42,\nIF(AND(AQ42<>$AJ42,AR42<>$AJ42,AS42<>$AJ42,AT42<>$AJ42,AU42<>$AJ42,AW42<>$AJ42,AV42<>$AJ42),$AJ42,\nIF(AND(AQ42<>$AK42,AR42<>$AK42,AS42<>$AK42,AT42<>$AK42,AU42<>$AK42,AW42<>$AK42,AV42<>$AK42),$AK42,\nIF(AND(AQ42<>$AL42,AR42<>$AL42,AS42<>$AL42,AT42<>$AL42,AU42<>$AL42,AW42<>$AL42,AV42<>$AL42),$AL42,\nIF(AND(AQ42<>$AM42,AR42<>$AM42,AS42<>$AM42,AT42<>$AM42,AU42<>$AM42,AW42<>$AM42,AV42<>$AM42),$AM42,\nIF(AND(AQ42<>$AN42,AR42<>$AN42,AS42<>$AN42,AT42<>$AN42,AU42<>$AN42,AW42<>$AN42,AV42<>$AN42),$AN42,\nIF(AND(AQ42<>$AO42,AR42<>$AO42,AS42<>$AO42,AT42<>$AO42,AU42<>$AO42,AW42<>$AO42,AV42<>$AO42),$AO42,\n\"\")))))))))))","v":""},{"$f":"IF(AX42=\"\",\"\",\nIF(AND(AQ42<>$AF42,AR42<>$AF42,AS42<>$AF42,AT42<>$AF42,AU42<>$AF42,AV42<>$AF42,AX42<>$AF42,AW42<>$AF42),$AF42,\nIF(AND(AQ42<>$AG42,AR42<>$AG42,AS42<>$AG42,AT42<>$AG42,AU42<>$AG42,AV42<>$AG42,AX42<>$AG42,AW42<>$AG42),$AG42,\nIF(AND(AQ42<>$AH42,AR42<>$AH42,AS42<>$AH42,AT42<>$AH42,AU42<>$AH42,AV42<>$AH42,AX42<>$AH42,AW42<>$AH42),$AH42,\nIF(AND(AQ42<>$AI42,AR42<>$AI42,AS42<>$AI42,AT42<>$AI42,AU42<>$AI42,AV42<>$AI42,AX42<>$AI42,AW42<>$AI42),$AI42,\nIF(AND(AQ42<>$AJ42,AR42<>$AJ42,AS42<>$AJ42,AT42<>$AJ42,AU42<>$AJ42,AV42<>$AJ42,AX42<>$AJ42,AW42<>$AJ42),$AJ42,\nIF(AND(AQ42<>$AK42,AR42<>$AK42,AS42<>$AK42,AT42<>$AK42,AU42<>$AK42,AV42<>$AK42,AX42<>$AK42,AW42<>$AK42),$AK42,\nIF(AND(AQ42<>$AL42,AR42<>$AL42,AS42<>$AL42,AT42<>$AL42,AU42<>$AL42,AV42<>$AL42,AX42<>$AL42,AW42<>$AL42),$AL42,\nIF(AND(AQ42<>$AM42,AR42<>$AM42,AS42<>$AM42,AT42<>$AM42,AU42<>$AM42,AV42<>$AM42,AX42<>$AM42,AW42<>$AM42),$AM42,\nIF(AND(AQ42<>$AN42,AR42<>$AN42,AS42<>$AN42,AT42<>$AN42,AU42<>$AN42,AV42<>$AN42,AX42<>$AN42,AW42<>$AN42),$AN42,\nIF(AND(AQ42<>$AO42,AR42<>$AO42,AS42<>$AO42,AT42<>$AO42,AU42<>$AO42,AV42<>$AO42,AX42<>$AO42,AW42<>$AO42),$AO42,\n\"\")))))))))))","v":""},{"$f":"IF(AY42=\"\",\"\",\nIF(AND(AQ42<>$AF42,AR42<>$AF42,AS42<>$AF42,AT42<>$AF42,AU42<>$AF42,AV42<>$AF42,AW42<>$AF42,AY42<>$AF42,AX42<>$AF42),$AF42,\nIF(AND(AQ42<>$AG42,AR42<>$AG42,AS42<>$AG42,AT42<>$AG42,AU42<>$AG42,AV42<>$AG42,AW42<>$AG42,AY42<>$AG42,AX42<>$AG42),$AG42,\nIF(AND(AQ42<>$AH42,AR42<>$AH42,AS42<>$AH42,AT42<>$AH42,AU42<>$AH42,AV42<>$AH42,AW42<>$AH42,AY42<>$AH42,AX42<>$AH42),$AH42,\nIF(AND(AQ42<>$AI42,AR42<>$AI42,AS42<>$AI42,AT42<>$AI42,AU42<>$AI42,AV42<>$AI42,AW42<>$AI42,AY42<>$AI42,AX42<>$AI42),$AI42,\nIF(AND(AQ42<>$AJ42,AR42<>$AJ42,AS42<>$AJ42,AT42<>$AJ42,AU42<>$AJ42,AV42<>$AJ42,AW42<>$AJ42,AY42<>$AJ42,AX42<>$AJ42),$AJ42,\nIF(AND(AQ42<>$AK42,AR42<>$AK42,AS42<>$AK42,AT42<>$AK42,AU42<>$AK42,AV42<>$AK42,AW42<>$AK42,AY42<>$AK42,AX42<>$AK42),$AK42,\nIF(AND(AQ42<>$AL42,AR42<>$AL42,AS42<>$AL42,AT42<>$AL42,AU42<>$AL42,AV42<>$AL42,AW42<>$AL42,AY42<>$AL42,AX42<>$AL42),$AL42,\nIF(AND(AQ42<>$AM42,AR42<>$AM42,AS42<>$AM42,AT42<>$AM42,AU42<>$AM42,AV42<>$AM42,AW42<>$AM42,AY42<>$AM42,AX42<>$AM42),$AM42,\nIF(AND(AQ42<>$AN42,AR42<>$AN42,AS42<>$AN42,AT42<>$AN42,AU42<>$AN42,AV42<>$AN42,AW42<>$AN42,AY42<>$AN42,AX42<>$AN42),$AN42,\nIF(AND(AQ42<>$AO42,AR42<>$AO42,AS42<>$AO42,AT42<>$AO42,AU42<>$AO42,AV42<>$AO42,AW42<>$AO42,AY42<>$AO42,AX42<>$AO42),$AO42,\n\"\")))))))))))","v":""}]
[null,0,0,"254.000","Modulo di dimensioni speciali, annesso, complanare","",null,null,"254.000","Modulo di dimensioni speciali, annesso, complanare","moduli",null,null,null,null,null,null,null,null,"E200_Tipo_di_montaggio_FV",null,"x",null,"x",null,null,null,null,null,null,null,"moduli","moduli","m2","m2","","","","","","",null,"moduli","m2","","","","","","","",""]
[null,0,0,"255.000","Modulo standard, annesso, obliquo","",null,null,"255.000","Modulo standard, annesso, obliquo","moduli",null,null,null,null,null,null,null,null,"E200_Tipo_di_montaggio_FV",null,"x",null,"x",null,null,null,null,null,null,null,"moduli","moduli","m2","m2","","","","","","",null,"moduli","m2","","","","","","","",""]
[null,0,0,"256.000","Modulo di dimensioni speciali, annesso, obliquo","",null,null,"256.000","Modulo di dimensioni speciali, annesso, obliquo","moduli",null,null,null,null,null,null,null,null,"E200_Tipo_di_montaggio_FV",null,"x",null,"x",null,null,null,null,null,null,null,"moduli","moduli","m2","m2","","","","","","",null,"moduli","m2","","","","","","","",""]
[null,0,0,"257.000","Moduli sfalsati","",null,null,"257.000","Moduli sfalsati","moduli",null,null,null,null,null,null,null,null,"E200_Tipo_di_montaggio_FV",null,"x",null,"x",null,null,null,null,null,null,null,"moduli","moduli","m2","m2","","","","","","",null,"moduli","m2","","","","","","","",""]
[null,{"$f":"B39","v":0},0,null,null,"",null,null,null,null,null,null,null,null,null,null,null,null,null,null,null,null,null,null,null,null,null,null,null,null,null,"","","","","","","","","","",null,"","","","","","","","","",""]
[null,{"$f":"IF(SUM(B49:B53)>0,1,0)","v":0},0,{"$f":"G48","v":"260.000"},{"$f":"H48 & IF(M48<>\"\",CHAR(10) & M48,\"\")","v":"Campo libero"},"","260.000","Campo libero",null,null,null,null,null,null,null,null,null,null,null,null,null,null,null,null,null,null,null,null,null,null,null,"","","","","","","","","","",null,"","","","","","","","","",""]
[null,{"$f":"IF(L49=\"x\",1,IF(ISNUMBER(L49),L49,0))","v":0},0,{"$f":"I49","v":"261.000"},{"$f":"J49 & IF(M49<>\"\",CHAR(10) & M49,\"\")","v":"Posato su pali interrati"},"",null,null,"261.000","Posato su pali interrati","moduli",null,null,null,null,null,null,null,null,"E200_Tipo_di_montaggio_FV",null,"x",null,"x",null,null,null,null,null,null,null,"moduli","moduli","m2","m2","","","","","","",null,"moduli","m2","","","","","","","",""]
[null,{"$f":"IF(L50=\"x\",1,IF(ISNUMBER(L50),L50,0))","v":0},0,{"$f":"I50","v":"262.000"},"Posato su un terreno solido","",null,null,"262.000","Posato su un terreno solido","moduli",null,null,null,null,null,null,null,null,"E200_Tipo_di_montaggio_FV",null,"x",null,"x",null,null,null,null,null,null,null,"moduli","moduli","m2","m2","","","","","","",null,"moduli","m2","","","","","","","",""]
[null,{"$f":"IF(L51=\"x\",1,IF(ISNUMBER(L51),L51,0))","v":0},0,{"$f":"I51","v":"263.000"},"Pensilina (carport)","",null,null,"263.000","Pensilina (carport)","moduli",null,null,null,null,null,null,null,null,"E200_Tipo_di_montaggio_FV",null,"x",null,"x",null,null,null,null,null,null,null,"moduli","moduli","m2","m2","","","","","","",null,"moduli","m2","","","","","","","",""]
[null,{"$f":"IF(L52=\"x\",1,IF(ISNUMBER(L52),L52,0))","v":0},0,"264.000","Pensilina per biciclette (bikeport)","",null,null,"264.000","Pensilina per biciclette (bikeport)","moduli",null,null,null,null,null,null,null,null,"E200_Tipo_di_montaggio_FV",null,"x",null,"x",null,null,null,null,null,null,null,"moduli","moduli","m2","m2","","","","","","",null,"moduli","m2","","","","","","","",""]
[null,{"$f":"IF(L53=\"x\",1,IF(ISNUMBER(L53),L53,0))","v":0},0,"265.000","Galleggiante (floating PV)","",null,null,"265.000","Galleggiante (floating PV)","moduli",null,null,null,null,null,null,null,null,"E200_Tipo_di_montaggio_FV",null,null,null,null,null,null,null,null,null,null,null,"","","","","","","","","","",null,"","","","","","","","","",""]
[null,{"$f":"B48","v":0},0,null,null,"",null,null,null,null,null,null,null,null,null,null,null,null,null,null,null,null,null,null,null,null,null,null,null,null,null,"","","","","","","","","","",null,"","","","","","","","","",""]
[null,{"$f":"IF(SUM(B56)>0,1,0)","v":0},0,{"$f":"G55","v":"270.000"},{"$f":"H55 & IF(M55<>\"\",CHAR(10) & M55,\"\")","v":"Altro"},"","270.000","Altro",null,null,null,null,null,null,null,null,null,null,null,null,null,null,null,null,null,null,null,null,null,null,null,"","","","","","","","","","",null,"","","","","","","","","",""]
[null,{"$f":"IF(L56=\"x\",1,IF(ISNUMBER(L56),L56,0))","v":0},0,{"$f":"I56","v":"271.000"},{"$f":"J56 & IF(M56<>\"\",CHAR(10) & M56,\"\")","v":"Su tetto a falda, sist. montaggio sopraelevato"},"",null,null,"271.000","Su tetto a falda, sist. montaggio sopraelevato","moduli",null,null,null,null,null,null,null,null,"E200_Tipo_di_montaggio_FV",null,"x",null,null,null,null,null,null,null,null,null,"moduli","moduli","","","","","","","","",null,"moduli","","","","","","","","",""]
[null,{"$f":"B55","v":0},0,null,null,"",null,null,null,null,null,null,null,null,null,null,null,null,null,null,null,null,null,null,null,null,null,null,null,null,null,"","","","","","","","","","",null,"","","","","","","","","",""]
[null,{"$f":"IF(SUM(B59:B64)>0,1,0)","v":0},0,{"$f":"G58","v":"280.000"},{"$f":"H58 & IF(M58<>\"\",CHAR(10) & M58,\"\")","v":"Materiale aggiuntivo"},"","280.000","Materiale aggiuntivo",null,null,null,null,null,null,null,null,null,null,null,null,null,null,null,null,null,null,null,null,null,null,null,"","","","","","","","","","",null,"","","","","","","","","",""]
[null,{"$f":"IF(L59=\"x\",1,IF(ISNUMBER(L59),L59,0))","v":0},0,{"$f":"I59","v":"281.000"},{"$f":"J59 & IF(M59<>\"\",CHAR(10) & M59,\"\")","v":"Stuoia antivegetazione (resistente ai raggi UV)"},"",null,null,"281.000","Stuoia antivegetazione (resistente ai raggi UV)","m2",null,null,null,null,null,null,null,null,"E200_Stuoia_antivegetativa",null,null,null,"x",null,null,null,null,null,null,null,"m2","m2","m2","m2","","","","","","",null,"m2","","","","","","","","",""]
[null,0,0,{"$f":"I60","v":"282.000"},"Connessioni per tetto a falda, integrato","",null,null,"282.000","Connessioni per tetto a falda, integrato","ml",null,null,null,null,null,null,null,null,"E200_Connessioni_integrate_tetto_a_falde",null,null,"x",null,null,null,null,null,null,"x",null,"ml","ml","ml","forfait","forfait","forfait","forfait","forfait","forfait","forfait",null,"ml","forfait","","","","","","","",""]
[null,0,0,"283.000",{"$f":"J61","v":"Paraneve"},"",null,null,"283.000","Paraneve","ml",null,null,null,null,null,null,null,null,null,null,null,"x",null,null,null,null,null,null,"x",null,"ml","ml","ml","forfait","forfait","forfait","forfait","forfait","forfait","forfait",null,"ml","forfait","","","","","","","",""]
[null,0,0,"284.000","Fermaneve","",null,null,"284.000","Fermaneve","pz.",null,null,null,null,null,null,null,null,null,"x",null,null,null,null,null,null,null,null,"x",null,"pz.","forfait","forfait","forfait","forfait","forfait","forfait","forfait","forfait","forfait",null,"pz.","forfait","","","","","","","",""]
[null,0,0,"285.000","Lucernario per tetto con impianto integrato","",null,null,"285.000","Lucernario per tetto con impianto integrato","pz.",null,null,null,null,null,null,null,null,null,"x",null,null,null,null,null,null,null,null,"x",null,"pz.","forfait","forfait","forfait","forfait","forfait","forfait","forfait","forfait","forfait",null,"pz.","forfait","","","","","","","",""]
[null,0,0,"286.000","Collettore solare termico per impianto integrato","",null,null,"286.000","Collettore solare termico per impianto integrato","pz.",null,null,null,null,null,null,null,null,null,"x",null,"x",null,null,null,null,null,null,"x",null,"pz.","ml","ml","forfait","forfait","forfait","forfait","forfait","forfait","forfait",null,"pz.","ml","forfait","","","","","","",""]

{"sheet":"E_Box200","index":7,"n_rows":57,"n_cols":5,"rows_kept":57,"cut":false,"hidden":true,"merged":[]}
["Campo di applicazione"]
["Livello di struttura 1",null,200,200,200]
["Livello di struttura 2",null,"210, 220, 230, 240, 250, 260, 270",280,280]
["Livello di struttura 3",null,"211 -279",281,282]
[]
[null,null,"E200_Tipo_di_montaggio_FV","E200_Stuoia_antivegetativa","E200_Connessioni_integrate_tetto_a_falde"]
["Nr."]
[1,null,"Sistema di inserimento","Spessore <3mm","Alle tegole"]
[2,null,"Sistema di bloccaggio","Spessore 4-5mm","Alle tegole a coda di castoro"]
[3,null,"Avvitatura alla cornice del modulo","Spessore 6-7mm","All'ardesia o alle lastre"]
[4,null,"Incollato al modulo","Spessore 8-9mm","A lastre ondulate di grandi dimensioni"]
[5,null,"Alluminio","Spessore >10mm","A lastre profilate di grandi dimensioni"]
[6,null,"Acciaio inossidabile","Permeabilità all'acqua"]
[7,null,"Acciaio zincato","Aderenza"]
[8,null,"Legno","Sovrapposizione"]
[9,null,"Durata della garanzia","Durata della garanzia"]
[10,null,"Fabbricante","Resistenza ai raggi UV"]
[11,null,"Rinforzo"]
[12,null,"Sottocampi"]
[13,null,"Colore"]
[14,null,"Numero di profili (2/3/4)"]
[15,null,"Sistema ad incrocio"]
[16,null,"Colore delle parti visibili"]
[17,null,"Zavorramento con ghiaia/substrato"]
[18,null,"Sottostruttura leggera (pietre/tubi)"]
[19,null,"Incollato"]
[20]
[21]
[22]
[23]
[24]
[25]
[26]
[27]
[28]
[29]
[30]
[31]
[32]
[33]
[34]
[35]
[36]
[37]
[38]
[39]
[40]
[41]
[42]
[43]
[44]
[45]
[46]
[47]
[48]
[49]
[50]

{"sheet":"300 Disp. di allacciamento","index":8,"n_rows":61,"n_cols":52,"rows_kept":61,"cut":false,"hidden":false,"merged":[[1,6,1,7],[3,6,3,7],[3,8,3,9],[2,6,2,9],[0,19,0,51]]}
[null,null,null,null,null,null,null,null,null,null,null,null,null,null,null,null,null,null,null,"NASCONDERE"]
[null,null,null,null,"Nascondere",null,"Livello di struttura 1:",null,300,"Dispositivi di allacciamento"]
[null,null,null,null,null,null,"Obbligatorio"]
[null,"Show","Fill","SOQ-Nr.","Descrizione","Unità","Livello di struttura 2",null,"Livello di struttura 3",null,"Unità","Aggiungi posizione","E- Box",null,null,null,null,null,null,"E-Box","pz.","moduli","ml","m2","m3","h","mesi","anni","kWp","forfait",null,"Pos1","Pos2","Pos3","Pos4","Pos5","Pos6","Pos7","Pos8","Pos9","Pos10",null,"Pos1","Pos2","Pos3","Pos4","Pos5","Pos6","Pos7","Pos8","Pos9","Pos10"]
[]
[null,{"$f":"IF(SUM(B7:B10)>0,1,0)","v":1},{"$f":"IF(L6=\"x\",1,IF(ISNUMBER(L6),1,0))","v":0},{"$f":"G6","v":"310.000"},{"$f":"H6","v":"Ondulatore di stringa allacciato alla rete"},{"$f":"IF(C6=1,K6,\"\")","v":""},"310.000","Ondulatore di stringa allacciato alla rete",null,null,null,null,null,null,null,null,null,null,null,null,null,null,null,null,null,null,null,null,null,null,null,{"$f":"\nIF(U6=\"x\",U$4,\nIF(V6=\"x\",V$4,\nIF(W6=\"x\",W$4,\nIF(X6=\"x\",X$4,\nIF(Y6=\"x\",Y$4,\nIF(Z6=\"x\",Z$4,\nIF(AA6=\"x\",AA$4,\nIF(AB6=\"x\",AB$4,\nIF(AC6=\"x\",AC$4,\nIF(AD6=\"x\",AD$4,\n\"\"))))))))))","v":""},{"$f":"\nIF(V6=\"x\",V$4,\nIF(W6=\"x\",W$4,\nIF(X6=\"x\",X$4,\nIF(Y6=\"x\",Y$4,\nIF(Z6=\"x\",Z$4,\nIF(AA6=\"x\",AA$4,\nIF(AB6=\"x\",AB$4,\nIF(AC6=\"x\",AC$4,\nIF(AD6=\"x\",AD$4,\n\"\")))))))))","v":""},{"$f":"\nIF(W6=\"x\",W$4,\nIF(X6=\"x\",X$4,\nIF(Y6=\"x\",Y$4,\nIF(Z6=\"x\",Z$4,\nIF(AA6=\"x\",AA$4,\nIF(AB6=\"x\",AB$4,\nIF(AC6=\"x\",AC$4,\nIF(AD6=\"x\",AD$4,\n\"\"))))))))","v":""},{"$f":"\nIF(X6=\"x\",X$4,\nIF(Y6=\"x\",Y$4,\nIF(Z6=\"x\",Z$4,\nIF(AA6=\"x\",AA$4,\nIF(AB6=\"x\",AB$4,\nIF(AC6=\"x\",AC$4,\nIF(AD6=\"x\",AD$4,\n\"\")))))))","v":""},{"$f":"\nIF(Y6=\"x\",Y$4,\nIF(Z6=\"x\",Z$4,\nIF(AA6=\"x\",AA$4,\nIF(AB6=\"x\",AB$4,\nIF(AC6=\"x\",AC$4,\nIF(AD6=\"x\",AD$4,\n\"\"))))))","v":""},{"$f":"\nIF(Z6=\"x\",Z$4,\nIF(AA6=\"x\",AA$4,\nIF(AB6=\"x\",AB$4,\nIF(AC6=\"x\",AC$4,\nIF(AD6=\"x\",AD$4,\n\"\")))))","v":""},{"$f":"\nIF(AA6=\"x\",AA$4,\nIF(AB6=\"x\",AB$4,\nIF(AC6=\"x\",AC$4,\nIF(AD6=\"x\",AD$4,\n\"\"))))","v":""},{"$f":"\nIF(AB6=\"x\",AB$4,\nIF(AC6=\"x\",AC$4,\nIF(AD6=\"x\",AD$4,\n\"\")))","v":""},{"$f":"\nIF(AC6=\"x\",AC$4,\nIF(AD6=\"x\",AD$4,\n\"\"))","v":""},{"$f":"\nIF(AD6=\"x\",AD$4,\n\"\")","v":""},null,{"$f":"AF6","v":""},{"$f":"IF(AQ6=\"\",\"\",\nIF(AQ6<>$AF6,$AF6,\nIF(AQ6<>$AG6,$AG6,\nIF(AQ6<>$AH6,$AH6,\nIF(AQ6<>$AI6,$AI6,\nIF(AQ6<>$AJ6,$AJ6,\nIF(AQ6<>$AK6,$AK6,\nIF(AQ6<>$AL6,$AL6,\nIF(AQ6<>$AM6,$AM6,\nIF(AQ6<>$AN6,$AN6,\nIF(AQ6<>$AO6,$AO6,\n\"\")))))))))))","v":""},{"$f":"IF(AR6=\"\",\"\",\nIF(AND(AR6<>$AF6,AQ6<>$AF6),$AF6,\nIF(AND(AR6<>$AG6,AQ6<>$AG6),$AG6,\nIF(AND(AR6<>$AH6,AQ6<>$AH6),$AH6,\nIF(AND(AR6<>$AI6,AQ6<>$AI6),$AI6,\nIF(AND(AR6<>$AJ6,AQ6<>$AJ6),$AJ6,\nIF(AND(AR6<>$AK6,AQ6<>$AK6),$AK6,\nIF(AND(AR6<>$AL6,AQ6<>$AL6),$AL6,\nIF(AND(AR6<>$AM6,AQ6<>$AM6),$AM6,\nIF(AND(AR6<>$AN6,AQ6<>$AN6),$AN6,\nIF(AND(AR6<>$AO6,AQ6<>$AO6),$AO6,\n\"\")))))))))))","v":""},{"$f":"IF(AS6=\"\",\"\",\nIF(AND(AQ6<>$AF6,AS6<>$AF6,AR6<>$AF6),$AF6,\nIF(AND(AQ6<>$AG6,AS6<>$AG6,AR6<>$AG6),$AG6,\nIF(AND(AQ6<>$AH6,AS6<>$AH6,AR6<>$AH6),$AH6,\nIF(AND(AQ6<>$AI6,AS6<>$AI6,AR6<>$AI6),$AI6,\nIF(AND(AQ6<>$AJ6,AS6<>$AJ6,AR6<>$AJ6),$AJ6,\nIF(AND(AQ6<>$AK6,AS6<>$AK6,AR6<>$AK6),$AK6,\nIF(AND(AQ6<>$AL6,AS6<>$AL6,AR6<>$AL6),$AL6,\nIF(AND(AQ6<>$AM6,AS6<>$AM6,AR6<>$AM6),$AM6,\nIF(AND(AQ6<>$AN6,AS6<>$AN6,AR6<>$AN6),$AN6,\nIF(AND(AQ6<>$AO6,AS6<>$AO6,AR6<>$AO6),$AO6,\n\"\")))))))))))","v":""},{"$f":"IF(AT6=\"\",\"\",\nIF(AND(AQ6<>$AF6,AR6<>$AF6,AT6<>$AF6,AS6<>$AF6),$AF6,\nIF(AND(AQ6<>$AG6,AR6<>$AG6,AT6<>$AG6,AS6<>$AG6),$AG6,\nIF(AND(AQ6<>$AH6,AR6<>$AH6,AT6<>$AH6,AS6<>$AH6),$AH6,\nIF(AND(AQ6<>$AI6,AR6<>$AI6,AT6<>$AI6,AS6<>$AI6),$AI6,\nIF(AND(AQ6<>$AJ6,AR6<>$AJ6,AT6<>$AJ6,AS6<>$AJ6),$AJ6,\nIF(AND(AQ6<>$AK6,AR6<>$AK6,AT6<>$AK6,AS6<>$AK6),$AK6,\nIF(AND(AQ6<>$AL6,AR6<>$AL6,AT6<>$AL6,AS6<>$AL6),$AL6,\nIF(AND(AQ6<>$AM6,AR6<>$AM6,AT6<>$AM6,AS6<>$AM6),$AM6,\nIF(AND(AQ6<>$AN6,AR6<>$AN6,AT6<>$AN6,AS6<>$AN6),$AN6,\nIF(AND(AQ6<>$AO6,AR6<>$AO6,AT6<>$AO6,AS6<>$AO6),$AO6,\n\"\")))))))))))","v":""},{"$f":"IF(AU6=\"\",\"\",\nIF(AND(AQ6<>$AF6,AR6<>$AF6,AS6<>$AF6,AU6<>$AF6,AT6<>$AF6),$AF6,\nIF(AND(AQ6<>$AG6,AR6<>$AG6,AS6<>$AG6,AU6<>$AG6,AT6<>$AG6),$AG6,\nIF(AND(AQ6<>$AH6,AR6<>$AH6,AS6<>$AH6,AU6<>$AH6,AT6<>$AH6),$AH6,\nIF(AND(AQ6<>$AI6,AR6<>$AI6,AS6<>$AI6,AU6<>$AI6,AT6<>$AI6),$AI6,\nIF(AND(AQ6<>$AJ6,AR6<>$AJ6,AS6<>$AJ6,AU6<>$AJ6,AT6<>$AJ6),$AJ6,\nIF(AND(AQ6<>$AK6,AR6<>$AK6,AS6<>$AK6,AU6<>$AK6,AT6<>$AK6),$AK6,\nIF(AND(AQ6<>$AL6,AR6<>$AL6,AS6<>$AL6,AU6<>$AL6,AT6<>$AL6),$AL6,\nIF(AND(AQ6<>$AM6,AR6<>$AM6,AS6<>$AM6,AU6<>$AM6,AT6<>$AM6),$AM6,\nIF(AND(AQ6<>$AN6,AR6<>$AN6,AS6<>$AN6,AU6<>$AN6,AT6<>$AN6),$AN6,\nIF(AND(AQ6<>$AO6,AR6<>$AO6,AS6<>$AO6,AU6<>$AO6,AT6<>$AO6),$AO6,\n\"\")))))))))))","v":""},{"$f":"IF(AV6=\"\",\"\",\nIF(AND(AQ6<>$AF6,AR6<>$AF6,AS6<>$AF6,AT6<>$AF6,AV6<>$AF6,AU6<>$AF6),$AF6,\nIF(AND(AQ6<>$AG6,AR6<>$AG6,AS6<>$AG6,AT6<>$AG6,AV6<>$AG6,AU6<>$AG6),$AG6,\nIF(AND(AQ6<>$AH6,AR6<>$AH6,AS6<>$AH6,AT6<>$AH6,AV6<>$AH6,AU6<>$AH6),$AH6,\nIF(AND(AQ6<>$AI6,AR6<>$AI6,AS6<>$AI6,AT6<>$AI6,AV6<>$AI6,AU6<>$AI6),$AI6,\nIF(AND(AQ6<>$AJ6,AR6<>$AJ6,AS6<>$AJ6,AT6<>$AJ6,AV6<>$AJ6,AU6<>$AJ6),$AJ6,\nIF(AND(AQ6<>$AK6,AR6<>$AK6,AS6<>$AK6,AT6<>$AK6,AV6<>$AK6,AU6<>$AK6),$AK6,\nIF(AND(AQ6<>$AL6,AR6<>$AL6,AS6<>$AL6,AT6<>$AL6,AV6<>$AL6,AU6<>$AL6),$AL6,\nIF(AND(AQ6<>$AM6,AR6<>$AM6,AS6<>$AM6,AT6<>$AM6,AV6<>$AM6,AU6<>$AM6),$AM6,\nIF(AND(AQ6<>$AN6,AR6<>$AN6,AS6<>$AN6,AT6<>$AN6,AV6<>$AN6,AU6<>$AN6),$AN6,\nIF(AND(AQ6<>$AO6,AR6<>$AO6,AS6<>$AO6,AT6<>$AO6,AV6<>$AO6,AU6<>$AO6),$AO6,\n\"\")))))))))))","v":""},{"$f":"IF(AW6=\"\",\"\",\nIF(AND(AQ6<>$AF6,AR6<>$AF6,AS6<>$AF6,AT6<>$AF6,AU6<>$AF6,AW6<>$AF6,AV6<>$AF6),$AF6,\nIF(AND(AQ6<>$AG6,AR6<>$AG6,AS6<>$AG6,AT6<>$AG6,AU6<>$AG6,AW6<>$AG6,AV6<>$AG6),$AG6,\nIF(AND(AQ6<>$AH6,AR6<>$AH6,AS6<>$AH6,AT6<>$AH6,AU6<>$AH6,AW6<>$AH6,AV6<>$AH6),$AH6,\nIF(AND(AQ6<>$AI6,AR6<>$AI6,AS6<>$AI6,AT6<>$AI6,AU6<>$AI6,AW6<>$AI6,AV6<>$AI6),$AI6,\nIF(AND(AQ6<>$AJ6,AR6<>$AJ6,AS6<>$AJ6,AT6<>$AJ6,AU6<>$AJ6,AW6<>$AJ6,AV6<>$AJ6),$AJ6,\nIF(AND(AQ6<>$AK6,AR6<>$AK6,AS6<>$AK6,AT6<>$AK6,AU6<>$AK6,AW6<>$AK6,AV6<>$AK6),$AK6,\nIF(AND(AQ6<>$AL6,AR6<>$AL6,AS6<>$AL6,AT6<>$AL6,AU6<>$AL6,AW6<>$AL6,AV6<>$AL6),$AL6,\nIF(AND(AQ6<>$AM6,AR6<>$AM6,AS6<>$AM6,AT6<>$AM6,AU6<>$AM6,AW6<>$AM6,AV6<>$AM6),$AM6,\nIF(AND(AQ6<>$AN6,AR6<>$AN6,AS6<>$AN6,AT6<>$AN6,AU6<>$AN6,AW6<>$AN6,AV6<>$AN6),$AN6,\nIF(AND(AQ6<>$AO6,AR6<>$AO6,AS6<>$AO6,AT6<>$AO6,AU6<>$AO6,AW6<>$AO6,AV6<>$AO6),$AO6,\n\"\")))))))))))","v":""},{"$f":"IF(AX6=\"\",\"\",\nIF(AND(AQ6<>$AF6,AR6<>$AF6,AS6<>$AF6,AT6<>$AF6,AU6<>$AF6,AV6<>$AF6,AX6<>$AF6,AW6<>$AF6),$AF6,\nIF(AND(AQ6<>$AG6,AR6<>$AG6,AS6<>$AG6,AT6<>$AG6,AU6<>$AG6,AV6<>$AG6,AX6<>$AG6,AW6<>$AG6),$AG6,\nIF(AND(AQ6<>$AH6,AR6<>$AH6,AS6<>$AH6,AT6<>$AH6,AU6<>$AH6,AV6<>$AH6,AX6<>$AH6,AW6<>$AH6),$AH6,\nIF(AND(AQ6<>$AI6,AR6<>$AI6,AS6<>$AI6,AT6<>$AI6,AU6<>$AI6,AV6<>$AI6,AX6<>$AI6,AW6<>$AI6),$AI6,\nIF(AND(AQ6<>$AJ6,AR6<>$AJ6,AS6<>$AJ6,AT6<>$AJ6,AU6<>$AJ6,AV6<>$AJ6,AX6<>$AJ6,AW6<>$AJ6),$AJ6,\nIF(AND(AQ6<>$AK6,AR6<>$AK6,AS6<>$AK6,AT6<>$AK6,AU6<>$AK6,AV6<>$AK6,AX6<>$AK6,AW6<>$AK6),$AK6,\nIF(AND(AQ6<>$AL6,AR6<>$AL6,AS6<>$AL6,AT6<>$AL6,AU6<>$AL6,AV6<>$AL6,AX6<>$AL6,AW6<>$AL6),$AL6,\nIF(AND(AQ6<>$AM6,AR6<>$AM6,AS6<>$AM6,AT6<>$AM6,AU6<>$AM6,AV6<>$AM6,AX6<>$AM6,AW6<>$AM6),$AM6,\nIF(AND(AQ6<>$AN6,AR6<>$AN6,AS6<>$AN6,AT6<>$AN6,AU6<>$AN6,AV6<>$AN6,AX6<>$AN6,AW6<>$AN6),$AN6,\nIF(AND(AQ6<>$AO6,AR6<>$AO6,AS6<>$AO6,AT6<>$AO6,AU6<>$AO6,AV6<>$AO6,AX6<>$AO6,AW6<>$AO6),$AO6,\n\"\")))))))))))","v":""},{"$f":"IF(AY6=\"\",\"\",\nIF(AND(AQ6<>$AF6,AR6<>$AF6,AS6<>$AF6,AT6<>$AF6,AU6<>$AF6,AV6<>$AF6,AW6<>$AF6,AY6<>$AF6,AX6<>$AF6),$AF6,\nIF(AND(AQ6<>$AG6,AR6<>$AG6,AS6<>$AG6,AT6<>$AG6,AU6<>$AG6,AV6<>$AG6,AW6<>$AG6,AY6<>$AG6,AX6<>$AG6),$AG6,\nIF(AND(AQ6<>$AH6,AR6<>$AH6,AS6<>$AH6,AT6<>$AH6,AU6<>$AH6,AV6<>$AH6,AW6<>$AH6,AY6<>$AH6,AX6<>$AH6),$AH6,\nIF(AND(AQ6<>$AI6,AR6<>$AI6,AS6<>$AI6,AT6<>$AI6,AU6<>$AI6,AV6<>$AI6,AW6<>$AI6,AY6<>$AI6,AX6<>$AI6),$AI6,\nIF(AND(AQ6<>$AJ6,AR6<>$AJ6,AS6<>$AJ6,AT6<>$AJ6,AU6<>$AJ6,AV6<>$AJ6,AW6<>$AJ6,AY6<>$AJ6,AX6<>$AJ6),$AJ6,\nIF(AND(AQ6<>$AK6,AR6<>$AK6,AS6<>$AK6,AT6<>$AK6,AU6<>$AK6,AV6<>$AK6,AW6<>$AK6,AY6<>$AK6,AX6<>$AK6),$AK6,\nIF(AND(AQ6<>$AL6,AR6<>$AL6,AS6<>$AL6,AT6<>$AL6,AU6<>$AL6,AV6<>$AL6,AW6<>$AL6,AY6<>$AL6,AX6<>$AL6),$AL6,\nIF(AND(AQ6<>$AM6,AR6<>$AM6,AS6<>$AM6,AT6<>$AM6,AU6<>$AM6,AV6<>$AM6,AW6<>$AM6,AY6<>$AM6,AX6<>$AM6),$AM6,\nIF(AND(AQ6<>$AN6,AR6<>$AN6,AS6<>$AN6,AT6<>$AN6,AU6<>$AN6,AV6<>$AN6,AW6<>$AN6,AY6<>$AN6,AX6<>$AN6),$AN6,\nIF(AND(AQ6<>$AO6,AR6<>$AO6,AS6<>$AO6,AT6<>$AO6,AU6<>$AO6,AV6<>$AO6,AW6<>$AO6,AY6<>$AO6,AX6<>$AO6),$AO6,\n\"\")))))))))))","v":""}]
[null,{"$f":"IF(L7=\"x\",1,IF(ISNUMBER(L7),L7,0))","v":1},{"$f":"IF(L7=\"x\",1,IF(ISNUMBER(L7),1,0))","v":1},{"$f":"I7","v":"311.000"},{"$f":"J7 & IF(M7<>\"\",CHAR(10) & M7,\"\")","v":"Ondulatore di stringa in BT senza funzione ibrida\nCaratteristiche: \nNumero MPPT\nProtezione IP\nSeparazione DC"},{"$f":"IF(C7=1,K7,\"\")","v":"pz."},null,null,"311.000","Ondulatore di stringa in BT senza funzione ibrida","pz.","x","Caratteristiche: \nNumero MPPT\nProtezione IP\nSeparazione DC",null,null,null,null,null,null,"E300_Ondulatore_di_stringa","x",null,null,null,null,null,null,null,null,null,null,{"$f":"\nIF(U7=\"x\",U$4,\nIF(V7=\"x\",V$4,\nIF(W7=\"x\",W$4,\nIF(X7=\"x\",X$4,\nIF(Y7=\"x\",Y$4,\nIF(Z7=\"x\",Z$4,\nIF(AA7=\"x\",AA$4,\nIF(AB7=\"x\",AB$4,\nIF(AC7=\"x\",AC$4,\nIF(AD7=\"x\",AD$4,\n\"\"))))))))))","v":"pz."},{"$f":"\nIF(V7=\"x\",V$4,\nIF(W7=\"x\",W$4,\nIF(X7=\"x\",X$4,\nIF(Y7=\"x\",Y$4,\nIF(Z7=\"x\",Z$4,\nIF(AA7=\"x\",AA$4,\nIF(AB7=\"x\",AB$4,\nIF(AC7=\"x\",AC$4,\nIF(AD7=\"x\",AD$4,\n\"\")))))))))","v":""},{"$f":"\nIF(W7=\"x\",W$4,\nIF(X7=\"x\",X$4,\nIF(Y7=\"x\",Y$4,\nIF(Z7=\"x\",Z$4,\nIF(AA7=\"x\",AA$4,\nIF(AB7=\"x\",AB$4,\nIF(AC7=\"x\",AC$4,\nIF(AD7=\"x\",AD$4,\n\"\"))))))))","v":""},{"$f":"\nIF(X7=\"x\",X$4,\nIF(Y7=\"x\",Y$4,\nIF(Z7=\"x\",Z$4,\nIF(AA7=\"x\",AA$4,\nIF(AB7=\"x\",AB$4,\nIF(AC7=\"x\",AC$4,\nIF(AD7=\"x\",AD$4,\n\"\")))))))","v":""},{"$f":"\nIF(Y7=\"x\",Y$4,\nIF(Z7=\"x\",Z$4,\nIF(AA7=\"x\",AA$4,\nIF(AB7=\"x\",AB$4,\nIF(AC7=\"x\",AC$4,\nIF(AD7=\"x\",AD$4,\n\"\"))))))","v":""},{"$f":"\nIF(Z7=\"x\",Z$4,\nIF(AA7=\"x\",AA$4,\nIF(AB7=\"x\",AB$4,\nIF(AC7=\"x\",AC$4,\nIF(AD7=\"x\",AD$4,\n\"\")))))","v":""},{"$f":"\nIF(AA7=\"x\",AA$4,\nIF(AB7=\"x\",AB$4,\nIF(AC7=\"x\",AC$4,\nIF(AD7=\"x\",AD$4,\n\"\"))))","v":""},{"$f":"\nIF(AB7=\"x\",AB$4,\nIF(AC7=\"x\",AC$4,\nIF(AD7=\"x\",AD$4,\n\"\")))","v":""},{"$f":"\nIF(AC7=\"x\",AC$4,\nIF(AD7=\"x\",AD$4,\n\"\"))","v":""},{"$f":"\nIF(AD7=\"x\",AD$4,\n\"\")","v":""},null,{"$f":"AF7","v":"pz."},"",{"$f":"IF(AR7=\"\",\"\",\nIF(AND(AR7<>$AF7,AQ7<>$AF7),$AF7,\nIF(AND(AR7<>$AG7,AQ7<>$AG7),$AG7,\nIF(AND(AR7<>$AH7,AQ7<>$AH7),$AH7,\nIF(AND(AR7<>$AI7,AQ7<>$AI7),$AI7,\nIF(AND(AR7<>$AJ7,AQ7<>$AJ7),$AJ7,\nIF(AND(AR7<>$AK7,AQ7<>$AK7),$AK7,\nIF(AND(AR7<>$AL7,AQ7<>$AL7),$AL7,\nIF(AND(AR7<>$AM7,AQ7<>$AM7),$AM7,\nIF(AND(AR7<>$AN7,AQ7<>$AN7),$AN7,\nIF(AND(AR7<>$AO7,AQ7<>$AO7),$AO7,\n\"\")))))))))))","v":""},{"$f":"IF(AS7=\"\",\"\",\nIF(AND(AQ7<>$AF7,AS7<>$AF7,AR7<>$AF7),$AF7,\nIF(AND(AQ7<>$AG7,AS7<>$AG7,AR7<>$AG7),$AG7,\nIF(AND(AQ7<>$AH7,AS7<>$AH7,AR7<>$AH7),$AH7,\nIF(AND(AQ7<>$AI7,AS7<>$AI7,AR7<>$AI7),$AI7,\nIF(AND(AQ7<>$AJ7,AS7<>$AJ7,AR7<>$AJ7),$AJ7,\nIF(AND(AQ7<>$AK7,AS7<>$AK7,AR7<>$AK7),$AK7,\nIF(AND(AQ7<>$AL7,AS7<>$AL7,AR7<>$AL7),$AL7,\nIF(AND(AQ7<>$AM7,AS7<>$AM7,AR7<>$AM7),$AM7,\nIF(AND(AQ7<>$AN7,AS7<>$AN7,AR7<>$AN7),$AN7,\nIF(AND(AQ7<>$AO7,AS7<>$AO7,AR7<>$AO7),$AO7,\n\"\")))))))))))","v":""},{"$f":"IF(AT7=\"\",\"\",\nIF(AND(AQ7<>$AF7,AR7<>$AF7,AT7<>$AF7,AS7<>$AF7),$AF7,\nIF(AND(AQ7<>$AG7,AR7<>$AG7,AT7<>$AG7,AS7<>$AG7),$AG7,\nIF(AND(AQ7<>$AH7,AR7<>$AH7,AT7<>$AH7,AS7<>$AH7),$AH7,\nIF(AND(AQ7<>$AI7,AR7<>$AI7,AT7<>$AI7,AS7<>$AI7),$AI7,\nIF(AND(AQ7<>$AJ7,AR7<>$AJ7,AT7<>$AJ7,AS7<>$AJ7),$AJ7,\nIF(AND(AQ7<>$AK7,AR7<>$AK7,AT7<>$AK7,AS7<>$AK7),$AK7,\nIF(AND(AQ7<>$AL7,AR7<>$AL7,AT7<>$AL7,AS7<>$AL7),$AL7,\nIF(AND(AQ7<>$AM7,AR7<>$AM7,AT7<>$AM7,AS7<>$AM7),$AM7,\nIF(AND(AQ7<>$AN7,AR7<>$AN7,AT7<>$AN7,AS7<>$AN7),$AN7,\nIF(AND(AQ7<>$AO7,AR7<>$AO7,AT7<>$AO7,AS7<>$AO7),$AO7,\n\"\")))))))))))","v":""},{"$f":"IF(AU7=\"\",\"\",\nIF(AND(AQ7<>$AF7,AR7<>$AF7,AS7<>$AF7,AU7<>$AF7,AT7<>$AF7),$AF7,\nIF(AND(AQ7<>$AG7,AR7<>$AG7,AS7<>$AG7,AU7<>$AG7,AT7<>$AG7),$AG7,\nIF(AND(AQ7<>$AH7,AR7<>$AH7,AS7<>$AH7,AU7<>$AH7,AT7<>$AH7),$AH7,\nIF(AND(AQ7<>$AI7,AR7<>$AI7,AS7<>$AI7,AU7<>$AI7,AT7<>$AI7),$AI7,\nIF(AND(AQ7<>$AJ7,AR7<>$AJ7,AS7<>$AJ7,AU7<>$AJ7,AT7<>$AJ7),$AJ7,\nIF(AND(AQ7<>$AK7,AR7<>$AK7,AS7<>$AK7,AU7<>$AK7,AT7<>$AK7),$AK7,\nIF(AND(AQ7<>$AL7,AR7<>$AL7,AS7<>$AL7,AU7<>$AL7,AT7<>$AL7),$AL7,\nIF(AND(AQ7<>$AM7,AR7<>$AM7,AS7<>$AM7,AU7<>$AM7,AT7<>$AM7),$AM7,\nIF(AND(AQ7<>$AN7,AR7<>$AN7,AS7<>$AN7,AU7<>$AN7,AT7<>$AN7),$AN7,\nIF(AND(AQ7<>$AO7,AR7<>$AO7,AS7<>$AO7,AU7<>$AO7,AT7<>$AO7),$AO7,\n\"\")))))))))))","v":""},{"$f":"IF(AV7=\"\",\"\",\nIF(AND(AQ7<>$AF7,AR7<>$AF7,AS7<>$AF7,AT7<>$AF7,AV7<>$AF7,AU7<>$AF7),$AF7,\nIF(AND(AQ7<>$AG7,AR7<>$AG7,AS7<>$AG7,AT7<>$AG7,AV7<>$AG7,AU7<>$AG7),$AG7,\nIF(AND(AQ7<>$AH7,AR7<>$AH7,AS7<>$AH7,AT7<>$AH7,AV7<>$AH7,AU7<>$AH7),$AH7,\nIF(AND(AQ7<>$AI7,AR7<>$AI7,AS7<>$AI7,AT7<>$AI7,AV7<>$AI7,AU7<>$AI7),$AI7,\nIF(AND(AQ7<>$AJ7,AR7<>$AJ7,AS7<>$AJ7,AT7<>$AJ7,AV7<>$AJ7,AU7<>$AJ7),$AJ7,\nIF(AND(AQ7<>$AK7,AR7<>$AK7,AS7<>$AK7,AT7<>$AK7,AV7<>$AK7,AU7<>$AK7),$AK7,\nIF(AND(AQ7<>$AL7,AR7<>$AL7,AS7<>$AL7,AT7<>$AL7,AV7<>$AL7,AU7<>$AL7),$AL7,\nIF(AND(AQ7<>$AM7,AR7<>$AM7,AS7<>$AM7,AT7<>$AM7,AV7<>$AM7,AU7<>$AM7),$AM7,\nIF(AND(AQ7<>$AN7,AR7<>$AN7,AS7<>$AN7,AT7<>$AN7,AV7<>$AN7,AU7<>$AN7),$AN7,\nIF(AND(AQ7<>$AO7,AR7<>$AO7,AS7<>$AO7,AT7<>$AO7,AV7<>$AO7,AU7<>$AO7),$AO7,\n\"\")))))))))))","v":""},{"$f":"IF(AW7=\"\",\"\",\nIF(AND(AQ7<>$AF7,AR7<>$AF7,AS7<>$AF7,AT7<>$AF7,AU7<>$AF7,AW7<>$AF7,AV7<>$AF7),$AF7,\nIF(AND(AQ7<>$AG7,AR7<>$AG7,AS7<>$AG7,AT7<>$AG7,AU7<>$AG7,AW7<>$AG7,AV7<>$AG7),$AG7,\nIF(AND(AQ7<>$AH7,AR7<>$AH7,AS7<>$AH7,AT7<>$AH7,AU7<>$AH7,AW7<>$AH7,AV7<>$AH7),$AH7,\nIF(AND(AQ7<>$AI7,AR7<>$AI7,AS7<>$AI7,AT7<>$AI7,AU7<>$AI7,AW7<>$AI7,AV7<>$AI7),$AI7,\nIF(AND(AQ7<>$AJ7,AR7<>$AJ7,AS7<>$AJ7,AT7<>$AJ7,AU7<>$AJ7,AW7<>$AJ7,AV7<>$AJ7),$AJ7,\nIF(AND(AQ7<>$AK7,AR7<>$AK7,AS7<>$AK7,AT7<>$AK7,AU7<>$AK7,AW7<>$AK7,AV7<>$AK7),$AK7,\nIF(AND(AQ7<>$AL7,AR7<>$AL7,AS7<>$AL7,AT7<>$AL7,AU7<>$AL7,AW7<>$AL7,AV7<>$AL7),$AL7,\nIF(AND(AQ7<>$AM7,AR7<>$AM7,AS7<>$AM7,AT7<>$AM7,AU7<>$AM7,AW7<>$AM7,AV7<>$AM7),$AM7,\nIF(AND(AQ7<>$AN7,AR7<>$AN7,AS7<>$AN7,AT7<>$AN7,AU7<>$AN7,AW7<>$AN7,AV7<>$AN7),$AN7,\nIF(AND(AQ7<>$AO7,AR7<>$AO7,AS7<>$AO7,AT7<>$AO7,AU7<>$AO7,AW7<>$AO7,AV7<>$AO7),$AO7,\n\"\")))))))))))","v":""},{"$f":"IF(AX7=\"\",\"\",\nIF(AND(AQ7<>$AF7,AR7<>$AF7,AS7<>$AF7,AT7<>$AF7,AU7<>$AF7,AV7<>$AF7,AX7<>$AF7,AW7<>$AF7),$AF7,\nIF(AND(AQ7<>$AG7,AR7<>$AG7,AS7<>$AG7,AT7<>$AG7,AU7<>$AG7,AV7<>$AG7,AX7<>$AG7,AW7<>$AG7),$AG7,\nIF(AND(AQ7<>$AH7,AR7<>$AH7,AS7<>$AH7,AT7<>$AH7,AU7<>$AH7,AV7<>$AH7,AX7<>$AH7,AW7<>$AH7),$AH7,\nIF(AND(AQ7<>$AI7,AR7<>$AI7,AS7<>$AI7,AT7<>$AI7,AU7<>$AI7,AV7<>$AI7,AX7<>$AI7,AW7<>$AI7),$AI7,\nIF(AND(AQ7<>$AJ7,AR7<>$AJ7,AS7<>$AJ7,AT7<>$AJ7,AU7<>$AJ7,AV7<>$AJ7,AX7<>$AJ7,AW7<>$AJ7),$AJ7,\nIF(AND(AQ7<>$AK7,AR7<>$AK7,AS7<>$AK7,AT7<>$AK7,AU7<>$AK7,AV7<>$AK7,AX7<>$AK7,AW7<>$AK7),$AK7,\nIF(AND(AQ7<>$AL7,AR7<>$AL7,AS7<>$AL7,AT7<>$AL7,AU7<>$AL7,AV7<>$AL7,AX7<>$AL7,AW7<>$AL7),$AL7,\nIF(AND(AQ7<>$AM7,AR7<>$AM7,AS7<>$AM7,AT7<>$AM7,AU7<>$AM7,AV7<>$AM7,AX7<>$AM7,AW7<>$AM7),$AM7,\nIF(AND(AQ7<>$AN7,AR7<>$AN7,AS7<>$AN7,AT7<>$AN7,AU7<>$AN7,AV7<>$AN7,AX7<>$AN7,AW7<>$AN7),$AN7,\nIF(AND(AQ7<>$AO7,AR7<>$AO7,AS7<>$AO7,AT7<>$AO7,AU7<>$AO7,AV7<>$AO7,AX7<>$AO7,AW7<>$AO7),$AO7,\n\"\")))))))))))","v":""},{"$f":"IF(AY7=\"\",\"\",\nIF(AND(AQ7<>$AF7,AR7<>$AF7,AS7<>$AF7,AT7<>$AF7,AU7<>$AF7,AV7<>$AF7,AW7<>$AF7,AY7<>$AF7,AX7<>$AF7),$AF7,\nIF(AND(AQ7<>$AG7,AR7<>$AG7,AS7<>$AG7,AT7<>$AG7,AU7<>$AG7,AV7<>$AG7,AW7<>$AG7,AY7<>$AG7,AX7<>$AG7),$AG7,\nIF(AND(AQ7<>$AH7,AR7<>$AH7,AS7<>$AH7,AT7<>$AH7,AU7<>$AH7,AV7<>$AH7,AW7<>$AH7,AY7<>$AH7,AX7<>$AH7),$AH7,\nIF(AND(AQ7<>$AI7,AR7<>$AI7,AS7<>$AI7,AT7<>$AI7,AU7<>$AI7,AV7<>$AI7,AW7<>$AI7,AY7<>$AI7,AX7<>$AI7),$AI7,\nIF(AND(AQ7<>$AJ7,AR7<>$AJ7,AS7<>$AJ7,AT7<>$AJ7,AU7<>$AJ7,AV7<>$AJ7,AW7<>$AJ7,AY7<>$AJ7,AX7<>$AJ7),$AJ7,\nIF(AND(AQ7<>$AK7,AR7<>$AK7,AS7<>$AK7,AT7<>$AK7,AU7<>$AK7,AV7<>$AK7,AW7<>$AK7,AY7<>$AK7,AX7<>$AK7),$AK7,\nIF(AND(AQ7<>$AL7,AR7<>$AL7,AS7<>$AL7,AT7<>$AL7,AU7<>$AL7,AV7<>$AL7,AW7<>$AL7,AY7<>$AL7,AX7<>$AL7),$AL7,\nIF(AND(AQ7<>$AM7,AR7<>$AM7,AS7<>$AM7,AT7<>$AM7,AU7<>$AM7,AV7<>$AM7,AW7<>$AM7,AY7<>$AM7,AX7<>$AM7),$AM7,\nIF(AND(AQ7<>$AN7,AR7<>$AN7,AS7<>$AN7,AT7<>$AN7,AU7<>$AN7,AV7<>$AN7,AW7<>$AN7,AY7<>$AN7,AX7<>$AN7),$AN7,\nIF(AND(AQ7<>$AO7,AR7<>$AO7,AS7<>$AO7,AT7<>$AO7,AU7<>$AO7,AV7<>$AO7,AW7<>$AO7,AY7<>$AO7,AX7<>$AO7),$AO7,\n\"\")))))))))))","v":""}]
[null,{"$f":"IF(L8=\"x\",1,IF(ISNUMBER(L8),L8,0))","v":0},{"$f":"IF(L8=\"x\",1,IF(ISNUMBER(L8),1,0))","v":0},{"$f":"I8","v":"312.000"},{"$f":"J8 & IF(M8<>\"\",CHAR(10) & M8,\"\")","v":"Ondulatore di stringa in BT con funzione ibrida"},{"$f":"IF(C8=1,K8,\"\")","v":""},null,null,"312.000","Ondulatore di stringa in BT con funzione ibrida","pz.",null,null,null,null,null,null,null,null,"E300_Ondulatore_di_stringa","x",null,null,null,null,null,null,null,null,null,null,{"$f":"\nIF(U8=\"x\",U$4,\nIF(V8=\"x\",V$4,\nIF(W8=\"x\",W$4,\nIF(X8=\"x\",X$4,\nIF(Y8=\"x\",Y$4,\nIF(Z8=\"x\",Z$4,\nIF(AA8=\"x\",AA$4,\nIF(AB8=\"x\",AB$4,\nIF(AC8=\"x\",AC$4,\nIF(AD8=\"x\",AD$4,\n\"\"))))))))))","v":"pz."},{"$f":"\nIF(V8=\"x\",V$4,\nIF(W8=\"x\",W$4,\nIF(X8=\"x\",X$4,\nIF(Y8=\"x\",Y$4,\nIF(Z8=\"x\",Z$4,\nIF(AA8=\"x\",AA$4,\nIF(AB8=\"x\",AB$4,\nIF(AC8=\"x\",AC$4,\nIF(AD8=\"x\",AD$4,\n\"\")))))))))","v":""},{"$f":"\nIF(W8=\"x\",W$4,\nIF(X8=\"x\",X$4,\nIF(Y8=\"x\",Y$4,\nIF(Z8=\"x\",Z$4,\nIF(AA8=\"x\",AA$4,\nIF(AB8=\"x\",AB$4,\nIF(AC8=\"x\",AC$4,\nIF(AD8=\"x\",AD$4,\n\"\"))))))))","v":""},{"$f":"\nIF(X8=\"x\",X$4,\nIF(Y8=\"x\",Y$4,\nIF(Z8=\"x\",Z$4,\nIF(AA8=\"x\",AA$4,\nIF(AB8=\"x\",AB$4,\nIF(AC8=\"x\",AC$4,\nIF(AD8=\"x\",AD$4,\n\"\")))))))","v":""},{"$f":"\nIF(Y8=\"x\",Y$4,\nIF(Z8=\"x\",Z$4,\nIF(AA8=\"x\",AA$4,\nIF(AB8=\"x\",AB$4,\nIF(AC8=\"x\",AC$4,\nIF(AD8=\"x\",AD$4,\n\"\"))))))","v":""},{"$f":"\nIF(Z8=\"x\",Z$4,\nIF(AA8=\"x\",AA$4,\nIF(AB8=\"x\",AB$4,\nIF(AC8=\"x\",AC$4,\nIF(AD8=\"x\",AD$4,\n\"\")))))","v":""},{"$f":"\nIF(AA8=\"x\",AA$4,\nIF(AB8=\"x\",AB$4,\nIF(AC8=\"x\",AC$4,\nIF(AD8=\"x\",AD$4,\n\"\"))))","v":""},{"$f":"\nIF(AB8=\"x\",AB$4,\nIF(AC8=\"x\",AC$4,\nIF(AD8=\"x\",AD$4,\n\"\")))","v":""},{"$f":"\nIF(AC8=\"x\",AC$4,\nIF(AD8=\"x\",AD$4,\n\"\"))","v":""},{"$f":"\nIF(AD8=\"x\",AD$4,\n\"\")","v":""},null,{"$f":"AF8","v":"pz."},"",{"$f":"IF(AR8=\"\",\"\",\nIF(AND(AR8<>$AF8,AQ8<>$AF8),$AF8,\nIF(AND(AR8<>$AG8,AQ8<>$AG8),$AG8,\nIF(AND(AR8<>$AH8,AQ8<>$AH8),$AH8,\nIF(AND(AR8<>$AI8,AQ8<>$AI8),$AI8,\nIF(AND(AR8<>$AJ8,AQ8<>$AJ8),$AJ8,\nIF(AND(AR8<>$AK8,AQ8<>$AK8),$AK8,\nIF(AND(AR8<>$AL8,AQ8<>$AL8),$AL8,\nIF(AND(AR8<>$AM8,AQ8<>$AM8),$AM8,\nIF(AND(AR8<>$AN8,AQ8<>$AN8),$AN8,\nIF(AND(AR8<>$AO8,AQ8<>$AO8),$AO8,\n\"\")))))))))))","v":""},{"$f":"IF(AS8=\"\",\"\",\nIF(AND(AQ8<>$AF8,AS8<>$AF8,AR8<>$AF8),$AF8,\nIF(AND(AQ8<>$AG8,AS8<>$AG8,AR8<>$AG8),$AG8,\nIF(AND(AQ8<>$AH8,AS8<>$AH8,AR8<>$AH8),$AH8,\nIF(AND(AQ8<>$AI8,AS8<>$AI8,AR8<>$AI8),$AI8,\nIF(AND(AQ8<>$AJ8,AS8<>$AJ8,AR8<>$AJ8),$AJ8,\nIF(AND(AQ8<>$AK8,AS8<>$AK8,AR8<>$AK8),$AK8,\nIF(AND(AQ8<>$AL8,AS8<>$AL8,AR8<>$AL8),$AL8,\nIF(AND(AQ8<>$AM8,AS8<>$AM8,AR8<>$AM8),$AM8,\nIF(AND(AQ8<>$AN8,AS8<>$AN8,AR8<>$AN8),$AN8,\nIF(AND(AQ8<>$AO8,AS8<>$AO8,AR8<>$AO8),$AO8,\n\"\")))))))))))","v":""},{"$f":"IF(AT8=\"\",\"\",\nIF(AND(AQ8<>$AF8,AR8<>$AF8,AT8<>$AF8,AS8<>$AF8),$AF8,\nIF(AND(AQ8<>$AG8,AR8<>$AG8,AT8<>$AG8,AS8<>$AG8),$AG8,\nIF(AND(AQ8<>$AH8,AR8<>$AH8,AT8<>$AH8,AS8<>$AH8),$AH8,\nIF(AND(AQ8<>$AI8,AR8<>$AI8,AT8<>$AI8,AS8<>$AI8),$AI8,\nIF(AND(AQ8<>$AJ8,AR8<>$AJ8,AT8<>$AJ8,AS8<>$AJ8),$AJ8,\nIF(AND(AQ8<>$AK8,AR8<>$AK8,AT8<>$AK8,AS8<>$AK8),$AK8,\nIF(AND(AQ8<>$AL8,AR8<>$AL8,AT8<>$AL8,AS8<>$AL8),$AL8,\nIF(AND(AQ8<>$AM8,AR8<>$AM8,AT8<>$AM8,AS8<>$AM8),$AM8,\nIF(AND(AQ8<>$AN8,AR8<>$AN8,AT8<>$AN8,AS8<>$AN8),$AN8,\nIF(AND(AQ8<>$AO8,AR8<>$AO8,AT8<>$AO8,AS8<>$AO8),$AO8,\n\"\")))))))))))","v":""},{"$f":"IF(AU8=\"\",\"\",\nIF(AND(AQ8<>$AF8,AR8<>$AF8,AS8<>$AF8,AU8<>$AF8,AT8<>$AF8),$AF8,\nIF(AND(AQ8<>$AG8,AR8<>$AG8,AS8<>$AG8,AU8<>$AG8,AT8<>$AG8),$AG8,\nIF(AND(AQ8<>$AH8,AR8<>$AH8,AS8<>$AH8,AU8<>$AH8,AT8<>$AH8),$AH8,\nIF(AND(AQ8<>$AI8,AR8<>$AI8,AS8<>$AI8,AU8<>$AI8,AT8<>$AI8),$AI8,\nIF(AND(AQ8<>$AJ8,AR8<>$AJ8,AS8<>$AJ8,AU8<>$AJ8,AT8<>$AJ8),$AJ8,\nIF(AND(AQ8<>$AK8,AR8<>$AK8,AS8<>$AK8,AU8<>$AK8,AT8<>$AK8),$AK8,\nIF(AND(AQ8<>$AL8,AR8<>$AL8,AS8<>$AL8,AU8<>$AL8,AT8<>$AL8),$AL8,\nIF(AND(AQ8<>$AM8,AR8<>$AM8,AS8<>$AM8,AU8<>$AM8,AT8<>$AM8),$AM8,\nIF(AND(AQ8<>$AN8,AR8<>$AN8,AS8<>$AN8,AU8<>$AN8,AT8<>$AN8),$AN8,\nIF(AND(AQ8<>$AO8,AR8<>$AO8,AS8<>$AO8,AU8<>$AO8,AT8<>$AO8),$AO8,\n\"\")))))))))))","v":""},{"$f":"IF(AV8=\"\",\"\",\nIF(AND(AQ8<>$AF8,AR8<>$AF8,AS8<>$AF8,AT8<>$AF8,AV8<>$AF8,AU8<>$AF8),$AF8,\nIF(AND(AQ8<>$AG8,AR8<>$AG8,AS8<>$AG8,AT8<>$AG8,AV8<>$AG8,AU8<>$AG8),$AG8,\nIF(AND(AQ8<>$AH8,AR8<>$AH8,AS8<>$AH8,AT8<>$AH8,AV8<>$AH8,AU8<>$AH8),$AH8,\nIF(AND(AQ8<>$AI8,AR8<>$AI8,AS8<>$AI8,AT8<>$AI8,AV8<>$AI8,AU8<>$AI8),$AI8,\nIF(AND(AQ8<>$AJ8,AR8<>$AJ8,AS8<>$AJ8,AT8<>$AJ8,AV8<>$AJ8,AU8<>$AJ8),$AJ8,\nIF(AND(AQ8<>$AK8,AR8<>$AK8,AS8<>$AK8,AT8<>$AK8,AV8<>$AK8,AU8<>$AK8),$AK8,\nIF(AND(AQ8<>$AL8,AR8<>$AL8,AS8<>$AL8,AT8<>$AL8,AV8<>$AL8,AU8<>$AL8),$AL8,\nIF(AND(AQ8<>$AM8,AR8<>$AM8,AS8<>$AM8,AT8<>$AM8,AV8<>$AM8,AU8<>$AM8),$AM8,\nIF(AND(AQ8<>$AN8,AR8<>$AN8,AS8<>$AN8,AT8<>$AN8,AV8<>$AN8,AU8<>$AN8),$AN8,\nIF(AND(AQ8<>$AO8,AR8<>$AO8,AS8<>$AO8,AT8<>$AO8,AV8<>$AO8,AU8<>$AO8),$AO8,\n\"\")))))))))))","v":""},{"$f":"IF(AW8=\"\",\"\",\nIF(AND(AQ8<>$AF8,AR8<>$AF8,AS8<>$AF8,AT8<>$AF8,AU8<>$AF8,AW8<>$AF8,AV8<>$AF8),$AF8,\nIF(AND(AQ8<>$AG8,AR8<>$AG8,AS8<>$AG8,AT8<>$AG8,AU8<>$AG8,AW8<>$AG8,AV8<>$AG8),$AG8,\nIF(AND(AQ8<>$AH8,AR8<>$AH8,AS8<>$AH8,AT8<>$AH8,AU8<>$AH8,AW8<>$AH8,AV8<>$AH8),$AH8,\nIF(AND(AQ8<>$AI8,AR8<>$AI8,AS8<>$AI8,AT8<>$AI8,AU8<>$AI8,AW8<>$AI8,AV8<>$AI8),$AI8,\nIF(AND(AQ8<>$AJ8,AR8<>$AJ8,AS8<>$AJ8,AT8<>$AJ8,AU8<>$AJ8,AW8<>$AJ8,AV8<>$AJ8),$AJ8,\nIF(AND(AQ8<>$AK8,AR8<>$AK8,AS8<>$AK8,AT8<>$AK8,AU8<>$AK8,AW8<>$AK8,AV8<>$AK8),$AK8,\nIF(AND(AQ8<>$AL8,AR8<>$AL8,AS8<>$AL8,AT8<>$AL8,AU8<>$AL8,AW8<>$AL8,AV8<>$AL8),$AL8,\nIF(AND(AQ8<>$AM8,AR8<>$AM8,AS8<>$AM8,AT8<>$AM8,AU8<>$AM8,AW8<>$AM8,AV8<>$AM8),$AM8,\nIF(AND(AQ8<>$AN8,AR8<>$AN8,AS8<>$AN8,AT8<>$AN8,AU8<>$AN8,AW8<>$AN8,AV8<>$AN8),$AN8,\nIF(AND(AQ8<>$AO8,AR8<>$AO8,AS8<>$AO8,AT8<>$AO8,AU8<>$AO8,AW8<>$AO8,AV8<>$AO8),$AO8,\n\"\")))))))))))","v":""},{"$f":"IF(AX8=\"\",\"\",\nIF(AND(AQ8<>$AF8,AR8<>$AF8,AS8<>$AF8,AT8<>$AF8,AU8<>$AF8,AV8<>$AF8,AX8<>$AF8,AW8<>$AF8),$AF8,\nIF(AND(AQ8<>$AG8,AR8<>$AG8,AS8<>$AG8,AT8<>$AG8,AU8<>$AG8,AV8<>$AG8,AX8<>$AG8,AW8<>$AG8),$AG8,\nIF(AND(AQ8<>$AH8,AR8<>$AH8,AS8<>$AH8,AT8<>$AH8,AU8<>$AH8,AV8<>$AH8,AX8<>$AH8,AW8<>$AH8),$AH8,\nIF(AND(AQ8<>$AI8,AR8<>$AI8,AS8<>$AI8,AT8<>$AI8,AU8<>$AI8,AV8<>$AI8,AX8<>$AI8,AW8<>$AI8),$AI8,\nIF(AND(AQ8<>$AJ8,AR8<>$AJ8,AS8<>$AJ8,AT8<>$AJ8,AU8<>$AJ8,AV8<>$AJ8,AX8<>$AJ8,AW8<>$AJ8),$AJ8,\nIF(AND(AQ8<>$AK8,AR8<>$AK8,AS8<>$AK8,AT8<>$AK8,AU8<>$AK8,AV8<>$AK8,AX8<>$AK8,AW8<>$AK8),$AK8,\nIF(AND(AQ8<>$AL8,AR8<>$AL8,AS8<>$AL8,AT8<>$AL8,AU8<>$AL8,AV8<>$AL8,AX8<>$AL8,AW8<>$AL8),$AL8,\nIF(AND(AQ8<>$AM8,AR8<>$AM8,AS8<>$AM8,AT8<>$AM8,AU8<>$AM8,AV8<>$AM8,AX8<>$AM8,AW8<>$AM8),$AM8,\nIF(AND(AQ8<>$AN8,AR8<>$AN8,AS8<>$AN8,AT8<>$AN8,AU8<>$AN8,AV8<>$AN8,AX8<>$AN8,AW8<>$AN8),$AN8,\nIF(AND(AQ8<>$AO8,AR8<>$AO8,AS8<>$AO8,AT8<>$AO8,AU8<>$AO8,AV8<>$AO8,AX8<>$AO8,AW8<>$AO8),$AO8,\n\"\")))))))))))","v":""},{"$f":"IF(AY8=\"\",\"\",\nIF(AND(AQ8<>$AF8,AR8<>$AF8,AS8<>$AF8,AT8<>$AF8,AU8<>$AF8,AV8<>$AF8,AW8<>$AF8,AY8<>$AF8,AX8<>$AF8),$AF8,\nIF(AND(AQ8<>$AG8,AR8<>$AG8,AS8<>$AG8,AT8<>$AG8,AU8<>$AG8,AV8<>$AG8,AW8<>$AG8,AY8<>$AG8,AX8<>$AG8),$AG8,\nIF(AND(AQ8<>$AH8,AR8<>$AH8,AS8<>$AH8,AT8<>$AH8,AU8<>$AH8,AV8<>$AH8,AW8<>$AH8,AY8<>$AH8,AX8<>$AH8),$AH8,\nIF(AND(AQ8<>$AI8,AR8<>$AI8,AS8<>$AI8,AT8<>$AI8,AU8<>$AI8,AV8<>$AI8,AW8<>$AI8,AY8<>$AI8,AX8<>$AI8),$AI8,\nIF(AND(AQ8<>$AJ8,AR8<>$AJ8,AS8<>$AJ8,AT8<>$AJ8,AU8<>$AJ8,AV8<>$AJ8,AW8<>$AJ8,AY8<>$AJ8,AX8<>$AJ8),$AJ8,\nIF(AND(AQ8<>$AK8,AR8<>$AK8,AS8<>$AK8,AT8<>$AK8,AU8<>$AK8,AV8<>$AK8,AW8<>$AK8,AY8<>$AK8,AX8<>$AK8),$AK8,\nIF(AND(AQ8<>$AL8,AR8<>$AL8,AS8<>$AL8,AT8<>$AL8,AU8<>$AL8,AV8<>$AL8,AW8<>$AL8,AY8<>$AL8,AX8<>$AL8),$AL8,\nIF(AND(AQ8<>$AM8,AR8<>$AM8,AS8<>$AM8,AT8<>$AM8,AU8<>$AM8,AV8<>$AM8,AW8<>$AM8,AY8<>$AM8,AX8<>$AM8),$AM8,\nIF(AND(AQ8<>$AN8,AR8<>$AN8,AS8<>$AN8,AT8<>$AN8,AU8<>$AN8,AV8<>$AN8,AW8<>$AN8,AY8<>$AN8,AX8<>$AN8),$AN8,\nIF(AND(AQ8<>$AO8,AR8<>$AO8,AS8<>$AO8,AT8<>$AO8,AU8<>$AO8,AV8<>$AO8,AW8<>$AO8,AY8<>$AO8,AX8<>$AO8),$AO8,\n\"\")))))))))))","v":""}]
[null,{"$f":"IF(L9=\"x\",1,IF(ISNUMBER(L9),L9,0))","v":0},0,{"$f":"I9","v":"313.000"},"Ondulatore di stringa per tensioni speciali","",null,null,"313.000","Ondulatore di stringa per tensioni speciali","pz.",null,null,null,null,null,null,null,null,"E300_Ondulatore_di_stringa","x",null,null,null,null,null,null,null,null,null,null,"pz.","","","","","","","","","",null,"pz.","","","","","","","","",""]
[null,{"$f":"IF(L10=\"x\",1,IF(ISNUMBER(L10),L10,0))","v":0},0,"314.000","Ondulatore di modulo","",null,null,"314.000","Ondulatore di modulo","pz.",null,null,null,null,null,null,null,null,"E300_Ondulatore_di_stringa","x",null,null,null,null,null,null,null,null,null,null,"pz.","","","","","","","","","",null,"pz.","",{"$f":"IF(AR10=\"\",\"\",\nIF(AND(AR10<>$AF10,AQ10<>$AF10),$AF10,\nIF(AND(AR10<>$AG10,AQ10<>$AG10),$AG10,\nIF(AND(AR10<>$AH10,AQ10<>$AH10),$AH10,\nIF(AND(AR10<>$AI10,AQ10<>$AI10),$AI10,\nIF(AND(AR10<>$AJ10,AQ10<>$AJ10),$AJ10,\nIF(AND(AR10<>$AK10,AQ10<>$AK10),$AK10,\nIF(AND(AR10<>$AL10,AQ10<>$AL10),$AL10,\nIF(AND(AR10<>$AM10,AQ10<>$AM10),$AM10,\nIF(AND(AR10<>$AN10,AQ10<>$AN10),$AN10,\nIF(AND(AR10<>$AO10,AQ10<>$AO10),$AO10,\n\"\")))))))))))","v":""},{"$f":"IF(AS10=\"\",\"\",\nIF(AND(AQ10<>$AF10,AS10<>$AF10,AR10<>$AF10),$AF10,\nIF(AND(AQ10<>$AG10,AS10<>$AG10,AR10<>$AG10),$AG10,\nIF(AND(AQ10<>$AH10,AS10<>$AH10,AR10<>$AH10),$AH10,\nIF(AND(AQ10<>$AI10,AS10<>$AI10,AR10<>$AI10),$AI10,\nIF(AND(AQ10<>$AJ10,AS10<>$AJ10,AR10<>$AJ10),$AJ10,\nIF(AND(AQ10<>$AK10,AS10<>$AK10,AR10<>$AK10),$AK10,\nIF(AND(AQ10<>$AL10,AS10<>$AL10,AR10<>$AL10),$AL10,\nIF(AND(AQ10<>$AM10,AS10<>$AM10,AR10<>$AM10),$AM10,\nIF(AND(AQ10<>$AN10,AS10<>$AN10,AR10<>$AN10),$AN10,\nIF(AND(AQ10<>$AO10,AS10<>$AO10,AR10<>$AO10),$AO10,\n\"\")))))))))))","v":""},{"$f":"IF(AT10=\"\",\"\",\nIF(AND(AQ10<>$AF10,AR10<>$AF10,AT10<>$AF10,AS10<>$AF10),$AF10,\nIF(AND(AQ10<>$AG10,AR10<>$AG10,AT10<>$AG10,AS10<>$AG10),$AG10,\nIF(AND(AQ10<>$AH10,AR10<>$AH10,AT10<>$AH10,AS10<>$AH10),$AH10,\nIF(AND(AQ10<>$AI10,AR10<>$AI10,AT10<>$AI10,AS10<>$AI10),$AI10,\nIF(AND(AQ10<>$AJ10,AR10<>$AJ10,AT10<>$AJ10,AS10<>$AJ10),$AJ10,\nIF(AND(AQ10<>$AK10,AR10<>$AK10,AT10<>$AK10,AS10<>$AK10),$AK10,\nIF(AND(AQ10<>$AL10,AR10<>$AL10,AT10<>$AL10,AS10<>$AL10),$AL10,\nIF(AND(AQ10<>$AM10,AR10<>$AM10,AT10<>$AM10,AS10<>$AM10),$AM10,\nIF(AND(AQ10<>$AN10,AR10<>$AN10,AT10<>$AN10,AS10<>$AN10),$AN10,\nIF(AND(AQ10<>$AO10,AR10<>$AO10,AT10<>$AO10,AS10<>$AO10),$AO10,\n\"\")))))))))))","v":""},{"$f":"IF(AU10=\"\",\"\",\nIF(AND(AQ10<>$AF10,AR10<>$AF10,AS10<>$AF10,AU10<>$AF10,AT10<>$AF10),$AF10,\nIF(AND(AQ10<>$AG10,AR10<>$AG10,AS10<>$AG10,AU10<>$AG10,AT10<>$AG10),$AG10,\nIF(AND(AQ10<>$AH10,AR10<>$AH10,AS10<>$AH10,AU10<>$AH10,AT10<>$AH10),$AH10,\nIF(AND(AQ10<>$AI10,AR10<>$AI10,AS10<>$AI10,AU10<>$AI10,AT10<>$AI10),$AI10,\nIF(AND(AQ10<>$AJ10,AR10<>$AJ10,AS10<>$AJ10,AU10<>$AJ10,AT10<>$AJ10),$AJ10,\nIF(AND(AQ10<>$AK10,AR10<>$AK10,AS10<>$AK10,AU10<>$AK10,AT10<>$AK10),$AK10,\nIF(AND(AQ10<>$AL10,AR10<>$AL10,AS10<>$AL10,AU10<>$AL10,AT10<>$AL10),$AL10,\nIF(AND(AQ10<>$AM10,AR10<>$AM10,AS10<>$AM10,AU10<>$AM10,AT10<>$AM10),$AM10,\nIF(AND(AQ10<>$AN10,AR10<>$AN10,AS10<>$AN10,AU10<>$AN10,AT10<>$AN10),$AN10,\nIF(AND(AQ10<>$AO10,AR10<>$AO10,AS10<>$AO10,AU10<>$AO10,AT10<>$AO10),$AO10,\n\"\")))))))))))","v":""},{"$f":"IF(AV10=\"\",\"\",\nIF(AND(AQ10<>$AF10,AR10<>$AF10,AS10<>$AF10,AT10<>$AF10,AV10<>$AF10,AU10<>$AF10),$AF10,\nIF(AND(AQ10<>$AG10,AR10<>$AG10,AS10<>$AG10,AT10<>$AG10,AV10<>$AG10,AU10<>$AG10),$AG10,\nIF(AND(AQ10<>$AH10,AR10<>$AH10,AS10<>$AH10,AT10<>$AH10,AV10<>$AH10,AU10<>$AH10),$AH10,\nIF(AND(AQ10<>$AI10,AR10<>$AI10,AS10<>$AI10,AT10<>$AI10,AV10<>$AI10,AU10<>$AI10),$AI10,\nIF(AND(AQ10<>$AJ10,AR10<>$AJ10,AS10<>$AJ10,AT10<>$AJ10,AV10<>$AJ10,AU10<>$AJ10),$AJ10,\nIF(AND(AQ10<>$AK10,AR10<>$AK10,AS10<>$AK10,AT10<>$AK10,AV10<>$AK10,AU10<>$AK10),$AK10,\nIF(AND(AQ10<>$AL10,AR10<>$AL10,AS10<>$AL10,AT10<>$AL10,AV10<>$AL10,AU10<>$AL10),$AL10,\nIF(AND(AQ10<>$AM10,AR10<>$AM10,AS10<>$AM10,AT10<>$AM10,AV10<>$AM10,AU10<>$AM10),$AM10,\nIF(AND(AQ10<>$AN10,AR10<>$AN10,AS10<>$AN10,AT10<>$AN10,AV10<>$AN10,AU10<>$AN10),$AN10,\nIF(AND(AQ10<>$AO10,AR10<>$AO10,AS10<>$AO10,AT10<>$AO10,AV10<>$AO10,AU10<>$AO10),$AO10,\n\"\")))))))))))","v":""},{"$f":"IF(AW10=\"\",\"\",\nIF(AND(AQ10<>$AF10,AR10<>$AF10,AS10<>$AF10,AT10<>$AF10,AU10<>$AF10,AW10<>$AF10,AV10<>$AF10),$AF10,\nIF(AND(AQ10<>$AG10,AR10<>$AG10,AS10<>$AG10,AT10<>$AG10,AU10<>$AG10,AW10<>$AG10,AV10<>$AG10),$AG10,\nIF(AND(AQ10<>$AH10,AR10<>$AH10,AS10<>$AH10,AT10<>$AH10,AU10<>$AH10,AW10<>$AH10,AV10<>$AH10),$AH10,\nIF(AND(AQ10<>$AI10,AR10<>$AI10,AS10<>$AI10,AT10<>$AI10,AU10<>$AI10,AW10<>$AI10,AV10<>$AI10),$AI10,\nIF(AND(AQ10<>$AJ10,AR10<>$AJ10,AS10<>$AJ10,AT10<>$AJ10,AU10<>$AJ10,AW10<>$AJ10,AV10<>$AJ10),$AJ10,\nIF(AND(AQ10<>$AK10,AR10<>$AK10,AS10<>$AK10,AT10<>$AK10,AU10<>$AK10,AW10<>$AK10,AV10<>$AK10),$AK10,\nIF(AND(AQ10<>$AL10,AR10<>$AL10,AS10<>$AL10,AT10<>$AL10,AU10<>$AL10,AW10<>$AL10,AV10<>$AL10),$AL10,\nIF(AND(AQ10<>$AM10,AR10<>$AM10,AS10<>$AM10,AT10<>$AM10,AU10<>$AM10,AW10<>$AM10,AV10<>$AM10),$AM10,\nIF(AND(AQ10<>$AN10,AR10<>$AN10,AS10<>$AN10,AT10<>$AN10,AU10<>$AN10,AW10<>$AN10,AV10<>$AN10),$AN10,\nIF(AND(AQ10<>$AO10,AR10<>$AO10,AS10<>$AO10,AT10<>$AO10,AU10<>$AO10,AW10<>$AO10,AV10<>$AO10),$AO10,\n\"\")))))))))))","v":""},{"$f":"IF(AX10=\"\",\"\",\nIF(AND(AQ10<>$AF10,AR10<>$AF10,AS10<>$AF10,AT10<>$AF10,AU10<>$AF10,AV10<>$AF10,AX10<>$AF10,AW10<>$AF10),$AF10,\nIF(AND(AQ10<>$AG10,AR10<>$AG10,AS10<>$AG10,AT10<>$AG10,AU10<>$AG10,AV10<>$AG10,AX10<>$AG10,AW10<>$AG10),$AG10,\nIF(AND(AQ10<>$AH10,AR10<>$AH10,AS10<>$AH10,AT10<>$AH10,AU10<>$AH10,AV10<>$AH10,AX10<>$AH10,AW10<>$AH10),$AH10,\nIF(AND(AQ10<>$AI10,AR10<>$AI10,AS10<>$AI10,AT10<>$AI10,AU10<>$AI10,AV10<>$AI10,AX10<>$AI10,AW10<>$AI10),$AI10,\nIF(AND(AQ10<>$AJ10,AR10<>$AJ10,AS10<>$AJ10,AT10<>$AJ10,AU10<>$AJ10,AV10<>$AJ10,AX10<>$AJ10,AW10<>$AJ10),$AJ10,\nIF(AND(AQ10<>$AK10,AR10<>$AK10,AS10<>$AK10,AT10<>$AK10,AU10<>$AK10,AV10<>$AK10,AX10<>$AK10,AW10<>$AK10),$AK10,\nIF(AND(AQ10<>$AL10,AR10<>$AL10,AS10<>$AL10,AT10<>$AL10,AU10<>$AL10,AV10<>$AL10,AX10<>$AL10,AW10<>$AL10),$AL10,\nIF(AND(AQ10<>$AM10,AR10<>$AM10,AS10<>$AM10,AT10<>$AM10,AU10<>$AM10,AV10<>$AM10,AX10<>$AM10,AW10<>$AM10),$AM10,\nIF(AND(AQ10<>$AN10,AR10<>$AN10,AS10<>$AN10,AT10<>$AN10,AU10<>$AN10,AV10<>$AN10,AX10<>$AN10,AW10<>$AN10),$AN10,\nIF(AND(AQ10<>$AO10,AR10<>$AO10,AS10<>$AO10,AT10<>$AO10,AU10<>$AO10,AV10<>$AO10,AX10<>$AO10,AW10<>$AO10),$AO10,\n\"\")))))))))))","v":""},{"$f":"IF(AY10=\"\",\"\",\nIF(AND(AQ10<>$AF10,AR10<>$AF10,AS10<>$AF10,AT10<>$AF10,AU10<>$AF10,AV10<>$AF10,AW10<>$AF10,AY10<>$AF10,AX10<>$AF10),$AF10,\nIF(AND(AQ10<>$AG10,AR10<>$AG10,AS10<>$AG10,AT10<>$AG10,AU10<>$AG10,AV10<>$AG10,AW10<>$AG10,AY10<>$AG10,AX10<>$AG10),$AG10,\nIF(AND(AQ10<>$AH10,AR10<>$AH10,AS10<>$AH10,AT10<>$AH10,AU10<>$AH10,AV10<>$AH10,AW10<>$AH10,AY10<>$AH10,AX10<>$AH10),$AH10,\nIF(AND(AQ10<>$AI10,AR10<>$AI10,AS10<>$AI10,AT10<>$AI10,AU10<>$AI10,AV10<>$AI10,AW10<>$AI10,AY10<>$AI10,AX10<>$AI10),$AI10,\nIF(AND(AQ10<>$AJ10,AR10<>$AJ10,AS10<>$AJ10,AT10<>$AJ10,AU10<>$AJ10,AV10<>$AJ10,AW10<>$AJ10,AY10<>$AJ10,AX10<>$AJ10),$AJ10,\nIF(AND(AQ10<>$AK10,AR10<>$AK10,AS10<>$AK10,AT10<>$AK10,AU10<>$AK10,AV10<>$AK10,AW10<>$AK10,AY10<>$AK10,AX10<>$AK10),$AK10,\nIF(AND(AQ10<>$AL10,AR10<>$AL10,AS10<>$AL10,AT10<>$AL10,AU10<>$AL10,AV10<>$AL10,AW10<>$AL10,AY10<>$AL10,AX10<>$AL10),$AL10,\nIF(AND(AQ10<>$AM10,AR10<>$AM10,AS10<>$AM10,AT10<>$AM10,AU10<>$AM10,AV10<>$AM10,AW10<>$AM10,AY10<>$AM10,AX10<>$AM10),$AM10,\nIF(AND(AQ10<>$AN10,AR10<>$AN10,AS10<>$AN10,AT10<>$AN10,AU10<>$AN10,AV10<>$AN10,AW10<>$AN10,AY10<>$AN10,AX10<>$AN10),$AN10,\nIF(AND(AQ10<>$AO10,AR10<>$AO10,AS10<>$AO10,AT10<>$AO10,AU10<>$AO10,AV10<>$AO10,AW10<>$AO10,AY10<>$AO10,AX10<>$AO10),$AO10,\n\"\")))))))))))","v":""}]
[null,{"$f":"B6","v":1},0,null,null,"",null,null,null,null,null,null,null,null,null,null,null,null,null,null,null,null,null,null,null,null,null,null,null,null,null,"","","","","","","","","","",null,"","","","","","","","","",""]
[null,{"$f":"IF(SUM(B13:B14)>0,1,0)","v":0},0,{"$f":"G12","v":"320.000"},{"$f":"H12","v":"Ondulatore centrale allacciato alla rete"},"","320.000","Ondulatore centrale allacciato alla rete",null,null,null,null,null,null,null,null,null,null,null,null,null,null,null,null,null,null,null,null,null,null,null,"","","","","","","","","","",null,"","","","","","","","","",""]
[null,{"$f":"IF(L13=\"x\",1,IF(ISNUMBER(L13),L13,0))","v":0},0,{"$f":"I13","v":"321.000"},{"$f":"J13 & IF(M13<>\"\",CHAR(10) & M13,\"\")","v":"Ondulatore centrale in BT"},"",null,null,"321.000","Ondulatore centrale in BT","pz.",null,null,null,null,null,null,null,null,"E300_Ondulatore_centrale","x",null,null,null,null,null,null,null,null,null,null,"pz.","","","","","","","","","",null,"pz.","","","","","","","","",""]
[null,{"$f":"IF(L14=\"x\",1,IF(ISNUMBER(L14),L14,0))","v":0},0,{"$f":"I14","v":"322.000"},"Ondulatore centrale per tensioni speciali","",null,null,"322.000","Ondulatore centrale per tensioni speciali","pz.",null,null,null,null,null,null,null,null,"E300_Ondulatore_centrale","x",null,null,null,null,null,null,null,null,null,null,"pz.","","","","","","","","","",null,"pz.","","","","","","","","",""]
[null,{"$f":"B12","v":0},0,null,null,"",null,null,null,null,null,null,null,null,null,null,null,null,null,null,null,null,null,null,null,null,null,null,null,null,null,"","","","","","","","","","",null,"","","","","","","","","",""]
[null,{"$f":"IF(SUM(B17:B24)>0,1,0)","v":1},0,{"$f":"G16","v":"330.000"},{"$f":"H16","v":"Scatola di giunzione del generatore"},"","330.000","Scatola di giunzione del generatore",null,null,null,null,null,null,null,null,null,null,null,null,"x",null,null,null,null,null,null,null,null,null,null,"pz.","","","","","","","","","",null,"pz.","","","","","","","","",""]
[null,{"$f":"IF(L17=\"x\",1,IF(ISNUMBER(L17),L17,0))","v":0},0,{"$f":"I17","v":"331.000"},{"$f":"J17 & IF(M17<>\"\",CHAR(10) & M17,\"\")","v":"senza SPD, senza sezionatore"},"",null,null,"331.000","senza SPD, senza sezionatore","pz.",null,null,null,null,null,null,null,null,"E300_Scatola_di_giunzione","x",null,null,null,null,null,null,null,null,null,null,"pz.","","","","","","","","","",null,"pz.","","","","","","","","",""]
[null,0,0,{"$f":"I18","v":"332.000"},"senza SPD, con sezionatore","",null,null,"332.000","senza SPD, con sezionatore","pz.",null,null,null,null,null,null,null,null,"E300_Scatola_di_giunzione","x",null,null,null,null,null,null,null,null,null,null,"pz.","","","","","","","","","",null,"pz.","","","","","","","","",""]
[null,0,0,"333.000","con SPD 2, senza sezionatore","",null,null,"333.000","con SPD 2, senza sezionatore","pz.",null,null,null,null,null,null,null,null,"E300_Scatola_di_giunzione","x",null,null,null,null,null,null,null,null,null,null,"pz.","","","","","","","","","",null,"pz.","","","","","","","","",""]
[null,0,0,"334.000","con SPD 2, con sezionatore","",null,null,"334.000","con SPD 2, con sezionatore","pz.",null,null,null,null,null,null,null,null,"E300_Scatola_di_giunzione","x",null,null,null,null,null,null,null,null,null,null,"pz.","","","","","","","","","",null,"pz.","","","","","","","","",""]
[null,1,1,{"$f":"I21","v":"335.000"},"con SPD 1+ 2, senza sezionatore\nCaratteristiche: \nNumero MPPT\nTipo di scatola metallo/plastica","pz.",null,null,"335.000","con SPD 1+ 2, senza sezionatore","pz.","x","Caratteristiche: \nNumero MPPT\nTipo di scatola metallo/plastica",null,null,null,null,null,null,"E300_Scatola_di_giunzione","x",null,null,null,null,null,null,null,null,null,null,"pz.","","","","","","","","","",null,"pz.","","","","","","","","",""]
[null,0,0,"336.000","con SPD 1+ 2, con sezionatore","",null,null,"336.000","con SPD 1+ 2, con sezionatore","pz.",null,null,null,null,null,null,null,null,"E300_Scatola_di_giunzione","x",null,null,null,null,null,null,null,null,null,null,"pz.","","","","","","","","","",null,"pz.","","","","","","","","",""]
[null,0,0,"337.000","Fusibili DC","",null,null,"337.000","Fusibili DC","pz.",null,null,null,null,null,null,null,null,"E300_Scatola_di_giunzione","x",null,null,null,null,null,null,null,null,null,null,"pz.","","","","","","","","","",null,"pz.","","","","","","","","",""]
[null,0,0,"338.000","Cartucce per protezioni contro le sovratensioni","",null,null,"338.000","Cartucce per protezioni contro le sovratensioni","pz.",null,null,null,null,null,null,null,null,"E300_Scatola_di_giunzione","x",null,null,null,null,null,null,null,null,null,null,"pz.","","","","","","","","","",null,"pz.","","","","","","","","",""]
[null,{"$f":"B16","v":1},0,null,null,"",null,null,null,null,null,null,null,null,null,null,null,null,null,null,null,null,null,null,null,null,null,null,null,null,null,"","","","","","","","","","",null,"","","","","","","","","",""]
[null,{"$f":"IF(SUM(B27:B31)>0,1,0)","v":0},0,{"$f":"G26","v":"340.000"},{"$f":"H26","v":"Sistema di accumulo a batteria, in DC"},"","340.000","Sistema di accumulo a batteria, in DC",null,null,null,null,null,null,null,null,null,null,null,null,null,null,null,null,null,null,null,null,null,null,null,"","","","","","","","","","",null,"","","","","","","","","",""]
[null,{"$f":"IF(L27=\"x\",1,IF(ISNUMBER(L27),L27,0))","v":0},0,{"$f":"I27","v":"341.000"},{"$f":"J27 & IF(M27<>\"\",CHAR(10) & M27,\"\")","v":"Modulo di accumulo completo (per applicazioni all'esterno)"},"",null,null,"341.000","Modulo di accumulo completo (per applicazioni all'esterno)","pz.",null,null,null,null,null,null,null,null,"E300_Batteria","x",null,null,null,null,null,null,null,null,null,null,"pz.","","","","","","","","","",null,"pz.","","","","","","","","",""]
[null,{"$f":"IF(L28=\"x\",1,IF(ISNUMBER(L28),L28,0))","v":0},0,{"$f":"I28","v":"342.000"},"Sistema di accumulo a batteria (incl. ondulatore e regolatore di carica)","",null,null,"342.000","Sistema di accumulo a batteria (incl. ondulatore e regolatore di carica)","pz.",null,null,null,null,null,null,null,null,"E300_Batteria","x",null,null,null,null,null,null,null,null,null,null,"pz.","","","","","","","","","",null,"pz.","","","","","","","","",""]
[null,{"$f":"IF(L29=\"x\",1,IF(ISNUMBER(L29),L29,0))","v":0},0,"343.000","Sistema di accumulo a batteria (senza ondulatore e regolatore di carica)","",null,null,"343.000","Sistema di accumulo a batteria (senza ondulatore e regolatore di carica)","pz.",null,null,null,null,null,null,null,null,"E300_Batteria","x",null,null,null,null,null,null,null,null,null,null,"pz.","","","","","","","","","",null,"pz.","","","","","","","","",""]
[null,{"$f":"IF(L30=\"x\",1,IF(ISNUMBER(L30),L30,0))","v":0},0,"344.000","Regolatore di carica della batteria","",null,null,"344.000","Regolatore di carica della batteria","pz.",null,null,null,null,null,null,null,null,"E300_Batteria","x",null,null,null,null,null,null,null,null,null,null,"pz.","","","","","","","","","",null,"pz.","","","","","","","","",""]
[null,{"$f":"IF(L31=\"x\",1,IF(ISNUMBER(L31),L31,0))","v":0},0,"345.000","Armadio batterie","",null,null,"345.000","Armadio batterie","pz.",null,null,null,null,null,null,null,null,"E300_Batteria",null,null,null,null,null,null,null,null,null,null,null,"","","","","","","","","","",null,"","","","","","","","","",""]
[null,{"$f":"B26","v":0},0,null,null,"",null,null,null,null,null,null,null,null,null,null,null,null,null,null,null,null,null,null,null,null,null,null,null,null,null,"","","","","","","","","","",null,"","","","","","","","","",""]
[null,{"$f":"IF(SUM(B34:B36)>0,1,0)","v":0},0,{"$f":"G33","v":"350.000"},{"$f":"H33","v":"Sistema di accumulo a batteria, in AC"},"","350.000","Sistema di accumulo a batteria, in AC",null,null,null,null,null,null,null,null,null,null,null,null,null,null,null,null,null,null,null,null,null,null,null,"","","","","","","","","","",null,"","","","","","","","","",""]
[null,{"$f":"IF(L34=\"x\",1,IF(ISNUMBER(L34),L34,0))","v":0},0,{"$f":"I34","v":"351.000"},{"$f":"J34 & IF(M34<>\"\",CHAR(10) & M34,\"\")","v":"Modulo di accumulo completo (per applicazioni all'esterno)"},"",null,null,"351.000","Modulo di accumulo completo (per applicazioni all'esterno)","pz.",null,null,null,null,null,null,null,null,"E300_Batteria","x",null,null,null,null,null,null,null,null,null,null,"pz.","","","","","","","","","",null,"pz.","","","","","","","","",""]
[null,{"$f":"IF(L35=\"x\",1,IF(ISNUMBER(L35),L35,0))","v":0},0,{"$f":"I35","v":"352.000"},"Sistema di accumulo a batteria (incl. ondulatore)","",null,null,"352.000","Sistema di accumulo a batteria (incl. ondulatore)","pz.",null,null,null,null,null,null,null,null,"E300_Batteria","x",null,null,null,null,null,null,null,null,null,null,"pz.","","","","","","","","","",null,"pz.","","","","","","","","",""]
[null,{"$f":"IF(L36=\"x\",1,IF(ISNUMBER(L36),L36,0))","v":0},0,{"$f":"I36","v":"353.000"},"Modulo batteria","",null,null,"353.000","Modulo batteria","pz.",null,null,null,null,null,null,null,null,"E300_Batteria","x",null,null,null,null,null,null,null,null,null,null,"pz.","","","","","","","","","",null,"pz.","","","","","","","","",""]
[null,null,0,null,null,"",null,null,null,null,null,null,null,null,null,null,null,null,null,null,null,null,null,null,null,null,null,null,null,null,null,"","","","","","","","","","",null,"","","","","","","","","",""]
[null,{"$f":"IF(SUM(B39:B46)>0,1,0)","v":1},0,{"$f":"G38","v":"360.000"},{"$f":"H38","v":"Periferiche ondulatore/batteria"},"","360.000","Periferiche ondulatore/batteria",null,null,null,null,null,null,null,null,null,null,null,null,null,null,null,null,null,null,null,null,null,null,null,"","","","","","","","","","",null,"",{"$f":"IF(AQ38=\"\",\"\",\nIF(AQ38<>$AF38,$AF38,\nIF(AQ38<>$AG38,$AG38,\nIF(AQ38<>$AH38,$AH38,\nIF(AQ38<>$AI38,$AI38,\nIF(AQ38<>$AJ38,$AJ38,\nIF(AQ38<>$AK38,$AK38,\nIF(AQ38<>$AL38,$AL38,\nIF(AQ38<>$AM38,$AM38,\nIF(AQ38<>$AN38,$AN38,\nIF(AQ38<>$AO38,$AO38,\n\"\")))))))))))","v":""},"","","","","","","",""]
[null,{"$f":"IF(L39=\"x\",1,IF(ISNUMBER(L39),L39,0))","v":0},0,{"$f":"I39","v":"361.000"},{"$f":"J39 & IF(M39<>\"\",CHAR(10) & M39,\"\")","v":"Ottimizzatore di modulo"},"",null,null,"361.000","Ottimizzatore di modulo","pz.",null,null,null,null,null,null,null,null,"E300_Ottimizzatore_di_modulo","x",null,null,null,null,null,null,null,null,null,null,"pz.","","","","","","","","","",null,"pz.","","","","","","","","",""]
[null,0,0,{"$f":"I40","v":"362.000"},"Ottimizzatore di stringa","",null,null,"362.000","Ottimizzatore di stringa","pz.",null,null,null,null,null,null,null,null,"E300_Ottimizzatore_di_stringa","x",null,null,null,null,null,null,null,null,null,null,"pz.","","","","","","","","","",null,"pz.","","","","","","","","",""]
[null,0,0,{"$f":"I41","v":"363.000"},"Datalogger","",null,null,"363.000","Datalogger","pz.",null,null,null,null,null,null,null,null,"E300_Datalogger","x",null,null,null,null,null,null,null,null,null,null,"pz.","","","","","","","","","",null,"pz.","","","","","","","","",""]
[null,0,0,"364.000","Sensori meteo","",null,null,"364.000","Sensori meteo","pz.",null,null,null,null,null,null,null,null,"E300_Sensori_meteo","x",null,null,null,null,null,null,null,null,null,null,"pz.","","","","","","","","","",null,"pz.","",{"$f":"IF(AR42=\"\",\"\",\nIF(AND(AR42<>$AF42,AQ42<>$AF42),$AF42,\nIF(AND(AR42<>$AG42,AQ42<>$AG42),$AG42,\nIF(AND(AR42<>$AH42,AQ42<>$AH42),$AH42,\nIF(AND(AR42<>$AI42,AQ42<>$AI42),$AI42,\nIF(AND(AR42<>$AJ42,AQ42<>$AJ42),$AJ42,\nIF(AND(AR42<>$AK42,AQ42<>$AK42),$AK42,\nIF(AND(AR42<>$AL42,AQ42<>$AL42),$AL42,\nIF(AND(AR42<>$AM42,AQ42<>$AM42),$AM42,\nIF(AND(AR42<>$AN42,AQ42<>$AN42),$AN42,\nIF(AND(AR42<>$AO42,AQ42<>$AO42),$AO42,\n\"\")))))))))))","v":""},{"$f":"IF(AS42=\"\",\"\",\nIF(AND(AQ42<>$AF42,AS42<>$AF42,AR42<>$AF42),$AF42,\nIF(AND(AQ42<>$AG42,AS42<>$AG42,AR42<>$AG42),$AG42,\nIF(AND(AQ42<>$AH42,AS42<>$AH42,AR42<>$AH42),$AH42,\nIF(AND(AQ42<>$AI42,AS42<>$AI42,AR42<>$AI42),$AI42,\nIF(AND(AQ42<>$AJ42,AS42<>$AJ42,AR42<>$AJ42),$AJ42,\nIF(AND(AQ42<>$AK42,AS42<>$AK42,AR42<>$AK42),$AK42,\nIF(AND(AQ42<>$AL42,AS42<>$AL42,AR42<>$AL42),$AL42,\nIF(AND(AQ42<>$AM42,AS42<>$AM42,AR42<>$AM42),$AM42,\nIF(AND(AQ42<>$AN42,AS42<>$AN42,AR42<>$AN42),$AN42,\nIF(AND(AQ42<>$AO42,AS42<>$AO42,AR42<>$AO42),$AO42,\n\"\")))))))))))","v":""},{"$f":"IF(AT42=\"\",\"\",\nIF(AND(AQ42<>$AF42,AR42<>$AF42,AT42<>$AF42,AS42<>$AF42),$AF42,\nIF(AND(AQ42<>$AG42,AR42<>$AG42,AT42<>$AG42,AS42<>$AG42),$AG42,\nIF(AND(AQ42<>$AH42,AR42<>$AH42,AT42<>$AH42,AS42<>$AH42),$AH42,\nIF(AND(AQ42<>$AI42,AR42<>$AI42,AT42<>$AI42,AS42<>$AI42),$AI42,\nIF(AND(AQ42<>$AJ42,AR42<>$AJ42,AT42<>$AJ42,AS42<>$AJ42),$AJ42,\nIF(AND(AQ42<>$AK42,AR42<>$AK42,AT42<>$AK42,AS42<>$AK42),$AK42,\nIF(AND(AQ42<>$AL42,AR42<>$AL42,AT42<>$AL42,AS42<>$AL42),$AL42,\nIF(AND(AQ42<>$AM42,AR42<>$AM42,AT42<>$AM42,AS42<>$AM42),$AM42,\nIF(AND(AQ42<>$AN42,AR42<>$AN42,AT42<>$AN42,AS42<>$AN42),$AN42,\nIF(AND(AQ42<>$AO42,AR42<>$AO42,AT42<>$AO42,AS42<>$AO42),$AO42,\n\"\")))))))))))","v":""},{"$f":"IF(AU42=\"\",\"\",\nIF(AND(AQ42<>$AF42,AR42<>$AF42,AS42<>$AF42,AU42<>$AF42,AT42<>$AF42),$AF42,\nIF(AND(AQ42<>$AG42,AR42<>$AG42,AS42<>$AG42,AU42<>$AG42,AT42<>$AG42),$AG42,\nIF(AND(AQ42<>$AH42,AR42<>$AH42,AS42<>$AH42,AU42<>$AH42,AT42<>$AH42),$AH42,\nIF(AND(AQ42<>$AI42,AR42<>$AI42,AS42<>$AI42,AU42<>$AI42,AT42<>$AI42),$AI42,\nIF(AND(AQ42<>$AJ42,AR42<>$AJ42,AS42<>$AJ42,AU42<>$AJ42,AT42<>$AJ42),$AJ42,\nIF(AND(AQ42<>$AK42,AR42<>$AK42,AS42<>$AK42,AU42<>$AK42,AT42<>$AK42),$AK42,\nIF(AND(AQ42<>$AL42,AR42<>$AL42,AS42<>$AL42,AU42<>$AL42,AT42<>$AL42),$AL42,\nIF(AND(AQ42<>$AM42,AR42<>$AM42,AS42<>$AM42,AU42<>$AM42,AT42<>$AM42),$AM42,\nIF(AND(AQ42<>$AN42,AR42<>$AN42,AS42<>$AN42,AU42<>$AN42,AT42<>$AN42),$AN42,\nIF(AND(AQ42<>$AO42,AR42<>$AO42,AS42<>$AO42,AU42<>$AO42,AT42<>$AO42),$AO42,\n\"\")))))))))))","v":""},{"$f":"IF(AV42=\"\",\"\",\nIF(AND(AQ42<>$AF42,AR42<>$AF42,AS42<>$AF42,AT42<>$AF42,AV42<>$AF42,AU42<>$AF42),$AF42,\nIF(AND(AQ42<>$AG42,AR42<>$AG42,AS42<>$AG42,AT42<>$AG42,AV42<>$AG42,AU42<>$AG42),$AG42,\nIF(AND(AQ42<>$AH42,AR42<>$AH42,AS42<>$AH42,AT42<>$AH42,AV42<>$AH42,AU42<>$AH42),$AH42,\nIF(AND(AQ42<>$AI42,AR42<>$AI42,AS42<>$AI42,AT42<>$AI42,AV42<>$AI42,AU42<>$AI42),$AI42,\nIF(AND(AQ42<>$AJ42,AR42<>$AJ42,AS42<>$AJ42,AT42<>$AJ42,AV42<>$AJ42,AU42<>$AJ42),$AJ42,\nIF(AND(AQ42<>$AK42,AR42<>$AK42,AS42<>$AK42,AT42<>$AK42,AV42<>$AK42,AU42<>$AK42),$AK42,\nIF(AND(AQ42<>$AL42,AR42<>$AL42,AS42<>$AL42,AT42<>$AL42,AV42<>$AL42,AU42<>$AL42),$AL42,\nIF(AND(AQ42<>$AM42,AR42<>$AM42,AS42<>$AM42,AT42<>$AM42,AV42<>$AM42,AU42<>$AM42),$AM42,\nIF(AND(AQ42<>$AN42,AR42<>$AN42,AS42<>$AN42,AT42<>$AN42,AV42<>$AN42,AU42<>$AN42),$AN42,\nIF(AND(AQ42<>$AO42,AR42<>$AO42,AS42<>$AO42,AT42<>$AO42,AV42<>$AO42,AU42<>$AO42),$AO42,\n\"\")))))))))))","v":""},{"$f":"IF(AW42=\"\",\"\",\nIF(AND(AQ42<>$AF42,AR42<>$AF42,AS42<>$AF42,AT42<>$AF42,AU42<>$AF42,AW42<>$AF42,AV42<>$AF42),$AF42,\nIF(AND(AQ42<>$AG42,AR42<>$AG42,AS42<>$AG42,AT42<>$AG42,AU42<>$AG42,AW42<>$AG42,AV42<>$AG42),$AG42,\nIF(AND(AQ42<>$AH42,AR42<>$AH42,AS42<>$AH42,AT42<>$AH42,AU42<>$AH42,AW42<>$AH42,AV42<>$AH42),$AH42,\nIF(AND(AQ42<>$AI42,AR42<>$AI42,AS42<>$AI42,AT42<>$AI42,AU42<>$AI42,AW42<>$AI42,AV42<>$AI42),$AI42,\nIF(AND(AQ42<>$AJ42,AR42<>$AJ42,AS42<>$AJ42,AT42<>$AJ42,AU42<>$AJ42,AW42<>$AJ42,AV42<>$AJ42),$AJ42,\nIF(AND(AQ42<>$AK42,AR42<>$AK42,AS42<>$AK42,AT42<>$AK42,AU42<>$AK42,AW42<>$AK42,AV42<>$AK42),$AK42,\nIF(AND(AQ42<>$AL42,AR42<>$AL42,AS42<>$AL42,AT42<>$AL42,AU42<>$AL42,AW42<>$AL42,AV42<>$AL42),$AL42,\nIF(AND(AQ42<>$AM42,AR42<>$AM42,AS42<>$AM42,AT42<>$AM42,AU42<>$AM42,AW42<>$AM42,AV42<>$AM42),$AM42,\nIF(AND(AQ42<>$AN42,AR42<>$AN42,AS42<>$AN42,AT42<>$AN42,AU42<>$AN42,AW42<>$AN42,AV42<>$AN42),$AN42,\nIF(AND(AQ42<>$AO42,AR42<>$AO42,AS42<>$AO42,AT42<>$AO42,AU42<>$AO42,AW42<>$AO42,AV42<>$AO42),$AO42,\n\"\")))))))))))","v":""},{"$f":"IF(AX42=\"\",\"\",\nIF(AND(AQ42<>$AF42,AR42<>$AF42,AS42<>$AF42,AT42<>$AF42,AU42<>$AF42,AV42<>$AF42,AX42<>$AF42,AW42<>$AF42),$AF42,\nIF(AND(AQ42<>$AG42,AR42<>$AG42,AS42<>$AG42,AT42<>$AG42,AU42<>$AG42,AV42<>$AG42,AX42<>$AG42,AW42<>$AG42),$AG42,\nIF(AND(AQ42<>$AH42,AR42<>$AH42,AS42<>$AH42,AT42<>$AH42,AU42<>$AH42,AV42<>$AH42,AX42<>$AH42,AW42<>$AH42),$AH42,\nIF(AND(AQ42<>$AI42,AR42<>$AI42,AS42<>$AI42,AT42<>$AI42,AU42<>$AI42,AV42<>$AI42,AX42<>$AI42,AW42<>$AI42),$AI42,\nIF(AND(AQ42<>$AJ42,AR42<>$AJ42,AS42<>$AJ42,AT42<>$AJ42,AU42<>$AJ42,AV42<>$AJ42,AX42<>$AJ42,AW42<>$AJ42),$AJ42,\nIF(AND(AQ42<>$AK42,AR42<>$AK42,AS42<>$AK42,AT42<>$AK42,AU42<>$AK42,AV42<>$AK42,AX42<>$AK42,AW42<>$AK42),$AK42,\nIF(AND(AQ42<>$AL42,AR42<>$AL42,AS42<>$AL42,AT42<>$AL42,AU42<>$AL42,AV42<>$AL42,AX42<>$AL42,AW42<>$AL42),$AL42,\nIF(AND(AQ42<>$AM42,AR42<>$AM42,AS42<>$AM42,AT42<>$AM42,AU42<>$AM42,AV42<>$AM42,AX42<>$AM42,AW42<>$AM42),$AM42,\nIF(AND(AQ42<>$AN42,AR42<>$AN42,AS42<>$AN42,AT42<>$AN42,AU42<>$AN42,AV42<>$AN42,AX42<>$AN42,AW42<>$AN42),$AN42,\nIF(AND(AQ42<>$AO42,AR42<>$AO42,AS42<>$AO42,AT42<>$AO42,AU42<>$AO42,AV42<>$AO42,AX42<>$AO42,AW42<>$AO42),$AO42,\n\"\")))))))))))","v":""},{"$f":"IF(AY42=\"\",\"\",\nIF(AND(AQ42<>$AF42,AR42<>$AF42,AS42<>$AF42,AT42<>$AF42,AU42<>$AF42,AV42<>$AF42,AW42<>$AF42,AY42<>$AF42,AX42<>$AF42),$AF42,\nIF(AND(AQ42<>$AG42,AR42<>$AG42,AS42<>$AG42,AT42<>$AG42,AU42<>$AG42,AV42<>$AG42,AW42<>$AG42,AY42<>$AG42,AX42<>$AG42),$AG42,\nIF(AND(AQ42<>$AH42,AR42<>$AH42,AS42<>$AH42,AT42<>$AH42,AU42<>$AH42,AV42<>$AH42,AW42<>$AH42,AY42<>$AH42,AX42<>$AH42),$AH42,\nIF(AND(AQ42<>$AI42,AR42<>$AI42,AS42<>$AI42,AT42<>$AI42,AU42<>$AI42,AV42<>$AI42,AW42<>$AI42,AY42<>$AI42,AX42<>$AI42),$AI42,\nIF(AND(AQ42<>$AJ42,AR42<>$AJ42,AS42<>$AJ42,AT42<>$AJ42,AU42<>$AJ42,AV42<>$AJ42,AW42<>$AJ42,AY42<>$AJ42,AX42<>$AJ42),$AJ42,\nIF(AND(AQ42<>$AK42,AR42<>$AK42,AS42<>$AK42,AT42<>$AK42,AU42<>$AK42,AV42<>$AK42,AW42<>$AK42,AY42<>$AK42,AX42<>$AK42),$AK42,\nIF(AND(AQ42<>$AL42,AR42<>$AL42,AS42<>$AL42,AT42<>$AL42,AU42<>$AL42,AV42<>$AL42,AW42<>$AL42,AY42<>$AL42,AX42<>$AL42),$AL42,\nIF(AND(AQ42<>$AM42,AR42<>$AM42,AS42<>$AM42,AT42<>$AM42,AU42<>$AM42,AV42<>$AM42,AW42<>$AM42,AY42<>$AM42,AX42<>$AM42),$AM42,\nIF(AND(AQ42<>$AN42,AR42<>$AN42,AS42<>$AN42,AT42<>$AN42,AU42<>$AN42,AV42<>$AN42,AW42<>$AN42,AY42<>$AN42,AX42<>$AN42),$AN42,\nIF(AND(AQ42<>$AO42,AR42<>$AO42,AS42<>$AO42,AT42<>$AO42,AU42<>$AO42,AV42<>$AO42,AW42<>$AO42,AY42<>$AO42,AX42<>$AO42),$AO42,\n\"\")))))))))))","v":""}]
[null,1,1,"365.000","Smart Meter\nCaratteristiche: \nTrifase\nMisurazione diretta","pz.",null,null,"365.000","Smart Meter","pz.","x","Caratteristiche: \nTrifase\nMisurazione diretta",null,null,null,null,null,null,"E300_Smart_Meter","x",null,null,null,null,null,null,null,null,null,null,"pz.","","","","","","","","","",null,"pz.","","","","","","","","",""]
[null,1,1,"366.000","Controllo dei consumatori (p. es. cartucce elettriche o stazione di ricarica elettrica)\nCaratteristiche: \nNumero di contatti liberi da potenziale","pz.",null,null,"366.000","Controllo dei consumatori (p. es. cartucce elettriche o stazione di ricarica elettrica)","pz.","x","Caratteristiche: \nNumero di contatti liberi da potenziale",null,null,null,null,null,null,"E300_Controllo_consumatori","x",null,null,null,null,null,null,null,null,"x",null,"pz.","forfait","forfait","forfait","forfait","forfait","forfait","forfait","forfait","forfait",null,"pz.","forfait","","","","","","","",""]
[null,1,1,"367.000",{"$f":"J45","v":"Router SIM"},"pz.",null,null,"367.000","Router SIM","pz.","x",null,null,null,null,null,null,null,null,"x",null,null,null,null,null,null,null,null,null,null,"pz.","","","","","","","","","",null,"pz.","","","","","","","","",""]
[null,0,0,"368.000","Visualizzazione","",null,null,"368.000","Visualizzazione","pz.",null,null,null,null,null,null,null,null,"E300_Visualizzazione","x",null,null,null,null,null,null,null,null,"x",null,"pz.","forfait","forfait","forfait","forfait","forfait","forfait","forfait","forfait","forfait",null,"pz.","forfait","","","","","","","",""]
[null,{"$f":"B38","v":1},0,null,null,"",null,null,null,null,null,null,null,null,null,null,null,null,null,null,null,null,null,null,null,null,null,null,null,null,null,"","","","","","","","","","",null,"","","","","","","","","",""]
[null,{"$f":"IF(SUM(B49:B51)>0,1,0)","v":1},0,{"$f":"G48","v":"370.000"},{"$f":"H48","v":"Controllo consumatori/Smart Energy"},"","370.000","Controllo consumatori/Smart Energy",null,null,null,null,null,null,null,null,null,null,null,null,null,null,null,null,null,null,null,null,null,null,null,"","","","","","","","","","",null,"","","","","","","","","",""]
[null,{"$f":"IF(L49=\"x\",1,IF(ISNUMBER(L49),L49,0))","v":1},1,{"$f":"I49","v":"371.000"},{"$f":"J49 & IF(M49<>\"\",CHAR(10) & M49,\"\")","v":"Stazione di ricarica elettrica \nCaratteristiche: \nTipo di presa (tipo 1, tipo 2, CCS, CHAdeMO)"},"pz.",null,null,"371.000","Stazione di ricarica elettrica ","pz.","x","Caratteristiche: \nTipo di presa (tipo 1, tipo 2, CCS, CHAdeMO)",null,null,null,null,null,null,"E300_Stazione_di_ricarica","x",null,null,null,null,null,null,null,null,null,null,"pz.","","","","","","","","","",null,"pz.","","","","","","","","",""]
[null,{"$f":"IF(L50=\"x\",1,IF(ISNUMBER(L50),L50,0))","v":0},0,{"$f":"I50","v":"372.000"},"Generatore di calore","",null,null,"372.000","Generatore di calore","pz.",null,null,null,null,null,null,null,null,"E300_Generatori_di_calore","x",null,null,null,null,null,null,null,null,null,null,"pz.","","","","","","","","","",null,"pz.","","","","","","","","",""]
[null,{"$f":"IF(L51=\"x\",1,IF(ISNUMBER(L51),L51,0))","v":0},0,{"$f":"I51","v":"373.000"},"Dispositivi Smart Energy","",null,null,"373.000","Dispositivi Smart Energy","pz.",null,null,null,null,null,null,null,null,"E300_Smart_Energy","x",null,null,null,null,null,null,null,null,null,null,"pz.","","","","","","","","","",null,"pz.","","","","","","","","",""]
[null,{"$f":"B48","v":1},0,null,null,"",null,null,null,null,null,null,null,null,null,null,null,null,null,null,null,null,null,null,null,null,null,null,null,null,null,"","","","","","","","","","",null,"","","","","","","","","",""]
[null,{"$f":"IF(SUM(B54:B60)>0,1,0)","v":0},0,{"$f":"G53","v":"380.000"},{"$f":"H53","v":"Componenti in isola"},"","380.000","Componenti in isola",null,null,null,null,null,null,null,null,null,null,null,null,null,null,null,null,null,null,null,null,null,null,null,"","","","","","","","","","",null,"","","","","","","","","",""]
[null,{"$f":"IF(L54=\"x\",1,IF(ISNUMBER(L54),L54,0))","v":0},0,{"$f":"I54","v":"381.000"},{"$f":"J54 & IF(M54<>\"\",CHAR(10) & M54,\"\")","v":"Ondulatore in isola"},"",null,null,"381.000","Ondulatore in isola","pz.",null,null,null,null,null,null,null,null,"E300_Ondulatore_in_isola","x",null,null,null,null,null,null,null,null,null,null,"pz.","","","","","","","","","",null,"pz.","","","","","","","","",""]
[null,0,0,{"$f":"I55","v":"382.000"},{"$f":"J55","v":"Regolatori di carica solare"},"",null,null,"382.000","Regolatori di carica solare","pz.",null,null,null,null,null,null,null,null,null,"x",null,null,null,null,null,null,null,null,null,null,"pz.","","","","","","","","","",null,"pz.","","","","","","","","",""]
[null,0,0,{"$f":"I56","v":"383.000"},{"$f":"J56","v":"Batteria in isola"},"",null,null,"383.000","Batteria in isola","pz.",null,null,null,null,null,null,null,null,null,"x",null,null,null,null,null,null,null,null,null,null,"pz.","","","","","","","","","",null,"pz.","","","","","","","","",""]
[null,0,0,"384.000","Inserto elettrico in DC per produzione calore (allacciamento diretto al generatore FV)","",null,null,"384.000","Inserto elettrico in DC per produzione calore (allacciamento diretto al generatore FV)","pz.",null,null,null,null,null,null,null,null,null,"x",null,null,null,null,null,null,null,null,null,null,"pz.","","","","","","","","","",null,"pz.","","","","","","","","",""]
[null,0,0,"385.000","Sistema di illuminazione DC","",null,null,"385.000","Sistema di illuminazione DC","pz.",null,null,null,null,null,null,null,null,null,"x",null,null,null,null,null,null,null,null,"x",null,"pz.","forfait","forfait","forfait","forfait","forfait","forfait","forfait","forfait","forfait",null,"pz.","forfait","","","","","","","",""]
[null,0,0,"386.000","Frigorifero DC","",null,null,"386.000","Frigorifero DC","pz.",null,null,null,null,null,null,null,null,null,"x",null,null,null,null,null,null,null,null,"x",null,"pz.","forfait","forfait","forfait","forfait","forfait","forfait","forfait","forfait","forfait",null,"pz.","forfait","","","","","","","",""]
[null,0,0,"387.000","Altro","",null,null,"387.000","Altro","pz.",null,null,null,null,null,null,null,null,null,"x",null,null,null,null,null,null,null,null,"x",null,"pz.","forfait","forfait","forfait","forfait","forfait","forfait","forfait","forfait","forfait",null,"pz.","forfait","","","","","","","",""]
[null,null,null,null,null,""]

{"sheet":"E_Box300","index":9,"n_rows":57,"n_cols":17,"rows_kept":57,"cut":false,"hidden":true,"merged":[]}
["Campo di applicazione"]
["Livello di struttura 1",null,300,300,300,300,300,300,300,300,300,300,300,300,300,300,300]
["Livello di struttura 2",null,310,320,330,"340-350",360,360,360,360,360,360,360,370,370,370,380]
["Livello di struttura 3",null,"311-319","321-329","331-339","341-359",361,362,363,364,365,366,368,371,372,373,381]
[]
[null,null,"E300_Ondulatore_di_stringa","E300_Ondulatore_centrale","E300_Scatola_di_giunzione","E300_Batteria","E300_Ottimizzatore_di_modulo","E300_Ottimizzatore_di_stringa","E300_Datalogger","E300_Sensori_meteo","E300_Smart_Meter","E300_Controllo_consumatori","E300_Visualizzazione","E300_Stazione_di_ricarica","E300_Generatori_di_calore","E300_Smart_Energy","E300_Ondulatore_in_isola"]
["Nr."]
[1,null,"Rapporto potenza nominale","Rapporto potenza nominale","Numero MPPT","Ioni di litio","Potenza del modulo max. collegabile","Potenza del modulo max. collegabile","Protezione IP","Cella di riferimento","Monofase","Numero di contatti liberi da potenziale","Protezione IP","Stazione di ricarica per trasporto pubblico","Boiler elettrico","Presa di comando","Connettore di controllo"]
[2,null,"Numero MPPT","Numero MPPT","Numero di entrate per MPPT","Litio ferro fosfato","Numero max. di moduli collegabili","Numero max. di moduli collegabili","Portale","Piranometro","Trifase","Numero di entrate digitali","Tipo di fissaggio","Stazione di ricarica per biciclette","Boiler PdC","Portale","Numero di MPPT"]
[3,null,"Tensione d'entrata DC","Tensione d'entrata DC","Entrata del sistema di raccordo","Piombo","Tipo di comunicazione (p. es. Powerline)","Tipo di comunicazione (p. es. Powerline)","Tipo di fissaggio","Sensore di temperatura","Misurazione diretta","Numero di uscite analogiche","Luogo","AC","Riscaldamento a 1 step (on/off)","App","Tensione d'entrata DC"]
[4,null,"Tensione di rete AC","Tensione di rete AC","Uscita del sistema di raccordo","Sale","Tensione a circuito aperto (p. es. 1V)","Tensione a circuito aperto (p. es. 1V)","Tensione di alimentazione (12/24/230V)","Sensore di precipitazione","Misura del trasformatore","Numero di entrate analogiche","Tensione di alimentazione (12/24/230V)","DC","Riscaldamento a 2 step (2 o 3 fasi)","SmartHome","Protezione IP"]
[5,null,"Protezione IP","Protezione IP","Sistema di raccordo POT","Acqua salata","Tensione max. del sistema (p.es. 1000/1500V)","Tensione max. del sistema (p.es. 1000/1500V)","Numero di entrate dell'ondulatore con diversi protocolli","Protezione IP","Con funzione di spegnimento","Numero di entrate per elementi di temperatura","Visualizzazione (LED, display)","Tipo di presa (tipo 1, tipo 2, CCS, CHAdeMO)","Riscaldamento progressivo","Interfaccia","Topologia del dispositivo (con/senza trafo)"]
[6,null,"Topologia del dispositivo (con/senza trafo)","Topologia del dispositivo (con/senza trafo)","Protezione IP","Redox","Tipo di fissaggio","Tipo di fissaggio","Numero di uscite (p. es. contatto libero da potenziale)","Tipo di fissaggio","Tipo di fissaggio (p. es. profilo DIN)","Numero max. stazioni di ricarica regolabili","Connessione al portale","Potenza di carica AC","Potenza elettrica","Protocollo","Topologia del dispositivo (con/senza trafo)"]
[7,null,"Separazione AC","Separazione AC","Tipo di fissaggio","Capacità","Funzione di sicurezza in caso di spegnimento","Funzione di sicurezza in caso di spegnimento","Interfaccia S0","Misurazione del vento","Corrente max. collegamento diretto","Incl. monitoraggio dell'ondulatore",null,"Potenza di carica DC","Tensione in entrata (230/400V)","Dispositivo di controllo dinamico","Separazione DC"]
[8,null,"Separazione DC","Separazione DC","Tipo di scatola metallo/plastica","Potenza","Monitoraggio per ottimizzatore","Monitoraggio per ottimizzatore","Protocolli (p. es. Sunspect)","Misurazione dell'insolazione","Corrente max. con trasformatore","Incl. gestione dell'ondulatore della batteria",null,"Tensione di carica AC (230/400V)",null,null,"SPD DC tipo 2"]
[9,null,"Configurazioni specifiche al paese","Configurazioni specifiche al paese","Fusibile di stringa","Estendibile",null,null,"Integrato nel sistema di gestione dell'edificio","Misurazione della temperatura","Certificazione (p. es. MID, nessuna)","Portale",null,"Tensione di carica DC (p. es. 400/800V)",null,null,"SPD DC tipo 1+2"]
[10,null,"Parametri di rete","Parametri di rete","Rilevamento dell'arco","Non estendibile",null,null,"Contatto di segnalazione SPD",null,"Protocollo","Protocollo",null,"Display",null,null,"Peso"]
[11,null,"Portale","Portale",null,"Collegabile a cascata",null,null,null,null,"Compatibilità","Compatibilità",null,"Pannello di pagamento / modalità di pagamento",null,null,"Tipo di fissaggio"]
[12,null,"SPD DC tipo 2","SPD DC tipo 2",null,"Funzione di alimentazione  di emergenza",null,null,null,null,null,"Modalità di taglio (continua, a 1 livello, a 2 livelli)",null,"Portale"]
[13,null,"SPD DC tipo 1+2","SPD DC tipo 1+2",null,"Stabilità del ciclo",null,null,null,null,null,"Potenza di taglio",null,"Blocco possibile (con carta, chip, App)"]
[14,null,"SPD AC tipo 2","SPD AC tipo 2",null,null,null,null,null,null,null,null,null,"Controllo impianto FV possibile"]
[15,null,"SPD AC tipo 1+2","SPD AC tipo 1+2",null,null,null,null,null,null,null,null,null,"Protocollo"]
[16,null,"Opzione di rilevamento dell'arco","Opzione di rilevamento dell'arco",null,null,null,null,null,null,null,null,null,"Carica progressiva (p. es. in base all'eccedenza) possibile"]
[17,null,"Opzione SPD retrocompatibile","Opzione SPD retrocompatibile"]
[18,null,"Opzione ottimizzatore (dello stesso fabbricante)","Peso"]
[19,null,"Peso","Tipo di fissaggio"]
[20,null,"Tipo di fissaggio"]
[21,null,"Con fusibile di stringa"]
[22,null,"Con monitoraggio delle stringhe"]
[23]
[24]
[25]
[26]
[27]
[28]
[29]
[30]
[31]
[32]
[33]
[34]
[35]
[36]
[37]
[38]
[39]
[40]
[41]
[42]
[43]
[44]
[45]
[46]
[47]
[48]
[49]
[50]

{"sheet":"400 Installazione DC","index":10,"n_rows":52,"n_cols":52,"rows_kept":52,"cut":false,"hidden":false,"merged":[[1,6,1,7],[3,6,3,7],[3,8,3,9],[2,6,2,9],[0,19,0,51]]}
[null,null,null,null,null,null,null,null,null,null,null,null,null,null,null,null,null,null,null,"NASCONDERE"]
[null,null,null,null,"Nascondere",null,"Livello di struttura 1 Obbligatorio:",null,400,"Installazione DC"]
[null,null,null,null,null,null,"Opzionale"]
[null,"Show","Fill","SOQ-Nr.","Descrizione","Unità","Livello di struttura 2",null,"Livello di struttura 3",null,"Unità","Aggiungi posizione","E- Box",null,null,null,null,null,null,"E-Box","pz.","moduli","ml","m2","m3","h","mesi","anni","kWp","forfait",null,"Pos1","Pos2","Pos3","Pos4","Pos5","Pos6","Pos7","Pos8","Pos9","Pos10",null,"Pos1","Pos2","Pos3","Pos4","Pos5","Pos6","Pos7","Pos8","Pos9","Pos10"]
[]
[null,{"$f":"IF(L6=\"x\",1,0)","v":0},{"$f":"IF(L6=\"x\",1,IF(ISNUMBER(L6),1,0))","v":0},{"$f":"G6","v":"400.000"},{"$f":"H6","v":"Installazione DC"},{"$f":"IF(C6=1,K6,\"\")","v":""},"400.000","Installazione DC",null,null,"forfait",null,null,null,null,null,null,null,null,"E400_Installazione_DC",null,null,null,null,null,null,null,null,null,"x",null,{"$f":"\nIF(U6=\"x\",U$4,\nIF(V6=\"x\",V$4,\nIF(W6=\"x\",W$4,\nIF(X6=\"x\",X$4,\nIF(Y6=\"x\",Y$4,\nIF(Z6=\"x\",Z$4,\nIF(AA6=\"x\",AA$4,\nIF(AB6=\"x\",AB$4,\nIF(AC6=\"x\",AC$4,\nIF(AD6=\"x\",AD$4,\n\"\"))))))))))","v":"forfait"},{"$f":"\nIF(V6=\"x\",V$4,\nIF(W6=\"x\",W$4,\nIF(X6=\"x\",X$4,\nIF(Y6=\"x\",Y$4,\nIF(Z6=\"x\",Z$4,\nIF(AA6=\"x\",AA$4,\nIF(AB6=\"x\",AB$4,\nIF(AC6=\"x\",AC$4,\nIF(AD6=\"x\",AD$4,\n\"\")))))))))","v":"forfait"},{"$f":"\nIF(W6=\"x\",W$4,\nIF(X6=\"x\",X$4,\nIF(Y6=\"x\",Y$4,\nIF(Z6=\"x\",Z$4,\nIF(AA6=\"x\",AA$4,\nIF(AB6=\"x\",AB$4,\nIF(AC6=\"x\",AC$4,\nIF(AD6=\"x\",AD$4,\n\"\"))))))))","v":"forfait"},{"$f":"\nIF(X6=\"x\",X$4,\nIF(Y6=\"x\",Y$4,\nIF(Z6=\"x\",Z$4,\nIF(AA6=\"x\",AA$4,\nIF(AB6=\"x\",AB$4,\nIF(AC6=\"x\",AC$4,\nIF(AD6=\"x\",AD$4,\n\"\")))))))","v":"forfait"},{"$f":"\nIF(Y6=\"x\",Y$4,\nIF(Z6=\"x\",Z$4,\nIF(AA6=\"x\",AA$4,\nIF(AB6=\"x\",AB$4,\nIF(AC6=\"x\",AC$4,\nIF(AD6=\"x\",AD$4,\n\"\"))))))","v":"forfait"},{"$f":"\nIF(Z6=\"x\",Z$4,\nIF(AA6=\"x\",AA$4,\nIF(AB6=\"x\",AB$4,\nIF(AC6=\"x\",AC$4,\nIF(AD6=\"x\",AD$4,\n\"\")))))","v":"forfait"},{"$f":"\nIF(AA6=\"x\",AA$4,\nIF(AB6=\"x\",AB$4,\nIF(AC6=\"x\",AC$4,\nIF(AD6=\"x\",AD$4,\n\"\"))))","v":"forfait"},{"$f":"\nIF(AB6=\"x\",AB$4,\nIF(AC6=\"x\",AC$4,\nIF(AD6=\"x\",AD$4,\n\"\")))","v":"forfait"},{"$f":"\nIF(AC6=\"x\",AC$4,\nIF(AD6=\"x\",AD$4,\n\"\"))","v":"forfait"},{"$f":"\nIF(AD6=\"x\",AD$4,\n\"\")","v":"forfait"},null,{"$f":"AF6","v":"forfait"},{"$f":"IF(AQ6=\"\",\"\",\nIF(AQ6<>$AF6,$AF6,\nIF(AQ6<>$AG6,$AG6,\nIF(AQ6<>$AH6,$AH6,\nIF(AQ6<>$AI6,$AI6,\nIF(AQ6<>$AJ6,$AJ6,\nIF(AQ6<>$AK6,$AK6,\nIF(AQ6<>$AL6,$AL6,\nIF(AQ6<>$AM6,$AM6,\nIF(AQ6<>$AN6,$AN6,\nIF(AQ6<>$AO6,$AO6,\n\"\")))))))))))","v":""},{"$f":"IF(AR6=\"\",\"\",\nIF(AND(AR6<>$AF6,AQ6<>$AF6),$AF6,\nIF(AND(AR6<>$AG6,AQ6<>$AG6),$AG6,\nIF(AND(AR6<>$AH6,AQ6<>$AH6),$AH6,\nIF(AND(AR6<>$AI6,AQ6<>$AI6),$AI6,\nIF(AND(AR6<>$AJ6,AQ6<>$AJ6),$AJ6,\nIF(AND(AR6<>$AK6,AQ6<>$AK6),$AK6,\nIF(AND(AR6<>$AL6,AQ6<>$AL6),$AL6,\nIF(AND(AR6<>$AM6,AQ6<>$AM6),$AM6,\nIF(AND(AR6<>$AN6,AQ6<>$AN6),$AN6,\nIF(AND(AR6<>$AO6,AQ6<>$AO6),$AO6,\n\"\")))))))))))","v":""},{"$f":"IF(AS6=\"\",\"\",\nIF(AND(AQ6<>$AF6,AS6<>$AF6,AR6<>$AF6),$AF6,\nIF(AND(AQ6<>$AG6,AS6<>$AG6,AR6<>$AG6),$AG6,\nIF(AND(AQ6<>$AH6,AS6<>$AH6,AR6<>$AH6),$AH6,\nIF(AND(AQ6<>$AI6,AS6<>$AI6,AR6<>$AI6),$AI6,\nIF(AND(AQ6<>$AJ6,AS6<>$AJ6,AR6<>$AJ6),$AJ6,\nIF(AND(AQ6<>$AK6,AS6<>$AK6,AR6<>$AK6),$AK6,\nIF(AND(AQ6<>$AL6,AS6<>$AL6,AR6<>$AL6),$AL6,\nIF(AND(AQ6<>$AM6,AS6<>$AM6,AR6<>$AM6),$AM6,\nIF(AND(AQ6<>$AN6,AS6<>$AN6,AR6<>$AN6),$AN6,\nIF(AND(AQ6<>$AO6,AS6<>$AO6,AR6<>$AO6),$AO6,\n\"\")))))))))))","v":""},{"$f":"IF(AT6=\"\",\"\",\nIF(AND(AQ6<>$AF6,AR6<>$AF6,AT6<>$AF6,AS6<>$AF6),$AF6,\nIF(AND(AQ6<>$AG6,AR6<>$AG6,AT6<>$AG6,AS6<>$AG6),$AG6,\nIF(AND(AQ6<>$AH6,AR6<>$AH6,AT6<>$AH6,AS6<>$AH6),$AH6,\nIF(AND(AQ6<>$AI6,AR6<>$AI6,AT6<>$AI6,AS6<>$AI6),$AI6,\nIF(AND(AQ6<>$AJ6,AR6<>$AJ6,AT6<>$AJ6,AS6<>$AJ6),$AJ6,\nIF(AND(AQ6<>$AK6,AR6<>$AK6,AT6<>$AK6,AS6<>$AK6),$AK6,\nIF(AND(AQ6<>$AL6,AR6<>$AL6,AT6<>$AL6,AS6<>$AL6),$AL6,\nIF(AND(AQ6<>$AM6,AR6<>$AM6,AT6<>$AM6,AS6<>$AM6),$AM6,\nIF(AND(AQ6<>$AN6,AR6<>$AN6,AT6<>$AN6,AS6<>$AN6),$AN6,\nIF(AND(AQ6<>$AO6,AR6<>$AO6,AT6<>$AO6,AS6<>$AO6),$AO6,\n\"\")))))))))))","v":""},{"$f":"IF(AU6=\"\",\"\",\nIF(AND(AQ6<>$AF6,AR6<>$AF6,AS6<>$AF6,AU6<>$AF6,AT6<>$AF6),$AF6,\nIF(AND(AQ6<>$AG6,AR6<>$AG6,AS6<>$AG6,AU6<>$AG6,AT6<>$AG6),$AG6,\nIF(AND(AQ6<>$AH6,AR6<>$AH6,AS6<>$AH6,AU6<>$AH6,AT6<>$AH6),$AH6,\nIF(AND(AQ6<>$AI6,AR6<>$AI6,AS6<>$AI6,AU6<>$AI6,AT6<>$AI6),$AI6,\nIF(AND(AQ6<>$AJ6,AR6<>$AJ6,AS6<>$AJ6,AU6<>$AJ6,AT6<>$AJ6),$AJ6,\nIF(AND(AQ6<>$AK6,AR6<>$AK6,AS6<>$AK6,AU6<>$AK6,AT6<>$AK6),$AK6,\nIF(AND(AQ6<>$AL6,AR6<>$AL6,AS6<>$AL6,AU6<>$AL6,AT6<>$AL6),$AL6,\nIF(AND(AQ6<>$AM6,AR6<>$AM6,AS6<>$AM6,AU6<>$AM6,AT6<>$AM6),$AM6,\nIF(AND(AQ6<>$AN6,AR6<>$AN6,AS6<>$AN6,AU6<>$AN6,AT6<>$AN6),$AN6,\nIF(AND(AQ6<>$AO6,AR6<>$AO6,AS6<>$AO6,AU6<>$AO6,AT6<>$AO6),$AO6,\n\"\")))))))))))","v":""},{"$f":"IF(AV6=\"\",\"\",\nIF(AND(AQ6<>$AF6,AR6<>$AF6,AS6<>$AF6,AT6<>$AF6,AV6<>$AF6,AU6<>$AF6),$AF6,\nIF(AND(AQ6<>$AG6,AR6<>$AG6,AS6<>$AG6,AT6<>$AG6,AV6<>$AG6,AU6<>$AG6),$AG6,\nIF(AND(AQ6<>$AH6,AR6<>$AH6,AS6<>$AH6,AT6<>$AH6,AV6<>$AH6,AU6<>$AH6),$AH6,\nIF(AND(AQ6<>$AI6,AR6<>$AI6,AS6<>$AI6,AT6<>$AI6,AV6<>$AI6,AU6<>$AI6),$AI6,\nIF(AND(AQ6<>$AJ6,AR6<>$AJ6,AS6<>$AJ6,AT6<>$AJ6,AV6<>$AJ6,AU6<>$AJ6),$AJ6,\nIF(AND(AQ6<>$AK6,AR6<>$AK6,AS6<>$AK6,AT6<>$AK6,AV6<>$AK6,AU6<>$AK6),$AK6,\nIF(AND(AQ6<>$AL6,AR6<>$AL6,AS6<>$AL6,AT6<>$AL6,AV6<>$AL6,AU6<>$AL6),$AL6,\nIF(AND(AQ6<>$AM6,AR6<>$AM6,AS6<>$AM6,AT6<>$AM6,AV6<>$AM6,AU6<>$AM6),$AM6,\nIF(AND(AQ6<>$AN6,AR6<>$AN6,AS6<>$AN6,AT6<>$AN6,AV6<>$AN6,AU6<>$AN6),$AN6,\nIF(AND(AQ6<>$AO6,AR6<>$AO6,AS6<>$AO6,AT6<>$AO6,AV6<>$AO6,AU6<>$AO6),$AO6,\n\"\")))))))))))","v":""},{"$f":"IF(AW6=\"\",\"\",\nIF(AND(AQ6<>$AF6,AR6<>$AF6,AS6<>$AF6,AT6<>$AF6,AU6<>$AF6,AW6<>$AF6,AV6<>$AF6),$AF6,\nIF(AND(AQ6<>$AG6,AR6<>$AG6,AS6<>$AG6,AT6<>$AG6,AU6<>$AG6,AW6<>$AG6,AV6<>$AG6),$AG6,\nIF(AND(AQ6<>$AH6,AR6<>$AH6,AS6<>$AH6,AT6<>$AH6,AU6<>$AH6,AW6<>$AH6,AV6<>$AH6),$AH6,\nIF(AND(AQ6<>$AI6,AR6<>$AI6,AS6<>$AI6,AT6<>$AI6,AU6<>$AI6,AW6<>$AI6,AV6<>$AI6),$AI6,\nIF(AND(AQ6<>$AJ6,AR6<>$AJ6,AS6<>$AJ6,AT6<>$AJ6,AU6<>$AJ6,AW6<>$AJ6,AV6<>$AJ6),$AJ6,\nIF(AND(AQ6<>$AK6,AR6<>$AK6,AS6<>$AK6,AT6<>$AK6,AU6<>$AK6,AW6<>$AK6,AV6<>$AK6),$AK6,\nIF(AND(AQ6<>$AL6,AR6<>$AL6,AS6<>$AL6,AT6<>$AL6,AU6<>$AL6,AW6<>$AL6,AV6<>$AL6),$AL6,\nIF(AND(AQ6<>$AM6,AR6<>$AM6,AS6<>$AM6,AT6<>$AM6,AU6<>$AM6,AW6<>$AM6,AV6<>$AM6),$AM6,\nIF(AND(AQ6<>$AN6,AR6<>$AN6,AS6<>$AN6,AT6<>$AN6,AU6<>$AN6,AW6<>$AN6,AV6<>$AN6),$AN6,\nIF(AND(AQ6<>$AO6,AR6<>$AO6,AS6<>$AO6,AT6<>$AO6,AU6<>$AO6,AW6<>$AO6,AV6<>$AO6),$AO6,\n\"\")))))))))))","v":""},{"$f":"IF(AX6=\"\",\"\",\nIF(AND(AQ6<>$AF6,AR6<>$AF6,AS6<>$AF6,AT6<>$AF6,AU6<>$AF6,AV6<>$AF6,AX6<>$AF6,AW6<>$AF6),$AF6,\nIF(AND(AQ6<>$AG6,AR6<>$AG6,AS6<>$AG6,AT6<>$AG6,AU6<>$AG6,AV6<>$AG6,AX6<>$AG6,AW6<>$AG6),$AG6,\nIF(AND(AQ6<>$AH6,AR6<>$AH6,AS6<>$AH6,AT6<>$AH6,AU6<>$AH6,AV6<>$AH6,AX6<>$AH6,AW6<>$AH6),$AH6,\nIF(AND(AQ6<>$AI6,AR6<>$AI6,AS6<>$AI6,AT6<>$AI6,AU6<>$AI6,AV6<>$AI6,AX6<>$AI6,AW6<>$AI6),$AI6,\nIF(AND(AQ6<>$AJ6,AR6<>$AJ6,AS6<>$AJ6,AT6<>$AJ6,AU6<>$AJ6,AV6<>$AJ6,AX6<>$AJ6,AW6<>$AJ6),$AJ6,\nIF(AND(AQ6<>$AK6,AR6<>$AK6,AS6<>$AK6,AT6<>$AK6,AU6<>$AK6,AV6<>$AK6,AX6<>$AK6,AW6<>$AK6),$AK6,\nIF(AND(AQ6<>$AL6,AR6<>$AL6,AS6<>$AL6,AT6<>$AL6,AU6<>$AL6,AV6<>$AL6,AX6<>$AL6,AW6<>$AL6),$AL6,\nIF(AND(AQ6<>$AM6,AR6<>$AM6,AS6<>$AM6,AT6<>$AM6,AU6<>$AM6,AV6<>$AM6,AX6<>$AM6,AW6<>$AM6),$AM6,\nIF(AND(AQ6<>$AN6,AR6<>$AN6,AS6<>$AN6,AT6<>$AN6,AU6<>$AN6,AV6<>$AN6,AX6<>$AN6,AW6<>$AN6),$AN6,\nIF(AND(AQ6<>$AO6,AR6<>$AO6,AS6<>$AO6,AT6<>$AO6,AU6<>$AO6,AV6<>$AO6,AX6<>$AO6,AW6<>$AO6),$AO6,\n\"\")))))))))))","v":""},{"$f":"IF(AY6=\"\",\"\",\nIF(AND(AQ6<>$AF6,AR6<>$AF6,AS6<>$AF6,AT6<>$AF6,AU6<>$AF6,AV6<>$AF6,AW6<>$AF6,AY6<>$AF6,AX6<>$AF6),$AF6,\nIF(AND(AQ6<>$AG6,AR6<>$AG6,AS6<>$AG6,AT6<>$AG6,AU6<>$AG6,AV6<>$AG6,AW6<>$AG6,AY6<>$AG6,AX6<>$AG6),$AG6,\nIF(AND(AQ6<>$AH6,AR6<>$AH6,AS6<>$AH6,AT6<>$AH6,AU6<>$AH6,AV6<>$AH6,AW6<>$AH6,AY6<>$AH6,AX6<>$AH6),$AH6,\nIF(AND(AQ6<>$AI6,AR6<>$AI6,AS6<>$AI6,AT6<>$AI6,AU6<>$AI6,AV6<>$AI6,AW6<>$AI6,AY6<>$AI6,AX6<>$AI6),$AI6,\nIF(AND(AQ6<>$AJ6,AR6<>$AJ6,AS6<>$AJ6,AT6<>$AJ6,AU6<>$AJ6,AV6<>$AJ6,AW6<>$AJ6,AY6<>$AJ6,AX6<>$AJ6),$AJ6,\nIF(AND(AQ6<>$AK6,AR6<>$AK6,AS6<>$AK6,AT6<>$AK6,AU6<>$AK6,AV6<>$AK6,AW6<>$AK6,AY6<>$AK6,AX6<>$AK6),$AK6,\nIF(AND(AQ6<>$AL6,AR6<>$AL6,AS6<>$AL6,AT6<>$AL6,AU6<>$AL6,AV6<>$AL6,AW6<>$AL6,AY6<>$AL6,AX6<>$AL6),$AL6,\nIF(AND(AQ6<>$AM6,AR6<>$AM6,AS6<>$AM6,AT6<>$AM6,AU6<>$AM6,AV6<>$AM6,AW6<>$AM6,AY6<>$AM6,AX6<>$AM6),$AM6,\nIF(AND(AQ6<>$AN6,AR6<>$AN6,AS6<>$AN6,AT6<>$AN6,AU6<>$AN6,AV6<>$AN6,AW6<>$AN6,AY6<>$AN6,AX6<>$AN6),$AN6,\nIF(AND(AQ6<>$AO6,AR6<>$AO6,AS6<>$AO6,AT6<>$AO6,AU6<>$AO6,AV6<>$AO6,AW6<>$AO6,AY6<>$AO6,AX6<>$AO6),$AO6,\n\"\")))))))))))","v":""}]
[null,{"$f":"IF(E7=\"\",0,1)","v":0},0,null,{"$f":"IF(M6<>\"\",M6,\"\")","v":""},{"$f":"IF(C7=1,K7,\"\")","v":""}]
[null,{"$f":"B6","v":0},0,null,null,"",null,null,null,null,null,null,null,null,null,null,null,null,null,null,null,null,null,null,null,null,null,null,null,null,null,{"$f":"\nIF(U8=\"x\",U$4,\nIF(V8=\"x\",V$4,\nIF(W8=\"x\",W$4,\nIF(X8=\"x\",X$4,\nIF(Y8=\"x\",Y$4,\nIF(Z8=\"x\",Z$4,\nIF(AA8=\"x\",AA$4,\nIF(AB8=\"x\",AB$4,\nIF(AC8=\"x\",AC$4,\nIF(AD8=\"x\",AD$4,\n\"\"))))))))))","v":""},{"$f":"\nIF(V8=\"x\",V$4,\nIF(W8=\"x\",W$4,\nIF(X8=\"x\",X$4,\nIF(Y8=\"x\",Y$4,\nIF(Z8=\"x\",Z$4,\nIF(AA8=\"x\",AA$4,\nIF(AB8=\"x\",AB$4,\nIF(AC8=\"x\",AC$4,\nIF(AD8=\"x\",AD$4,\n\"\")))))))))","v":""},{"$f":"\nIF(W8=\"x\",W$4,\nIF(X8=\"x\",X$4,\nIF(Y8=\"x\",Y$4,\nIF(Z8=\"x\",Z$4,\nIF(AA8=\"x\",AA$4,\nIF(AB8=\"x\",AB$4,\nIF(AC8=\"x\",AC$4,\nIF(AD8=\"x\",AD$4,\n\"\"))))))))","v":""},{"$f":"\nIF(X8=\"x\",X$4,\nIF(Y8=\"x\",Y$4,\nIF(Z8=\"x\",Z$4,\nIF(AA8=\"x\",AA$4,\nIF(AB8=\"x\",AB$4,\nIF(AC8=\"x\",AC$4,\nIF(AD8=\"x\",AD$4,\n\"\")))))))","v":""},{"$f":"\nIF(Y8=\"x\",Y$4,\nIF(Z8=\"x\",Z$4,\nIF(AA8=\"x\",AA$4,\nIF(AB8=\"x\",AB$4,\nIF(AC8=\"x\",AC$4,\nIF(AD8=\"x\",AD$4,\n\"\"))))))","v":""},{"$f":"\nIF(Z8=\"x\",Z$4,\nIF(AA8=\"x\",AA$4,\nIF(AB8=\"x\",AB$4,\nIF(AC8=\"x\",AC$4,\nIF(AD8=\"x\",AD$4,\n\"\")))))","v":""},{"$f":"\nIF(AA8=\"x\",AA$4,\nIF(AB8=\"x\",AB$4,\nIF(AC8=\"x\",AC$4,\nIF(AD8=\"x\",AD$4,\n\"\"))))","v":""},{"$f":"\nIF(AB8=\"x\",AB$4,\nIF(AC8=\"x\",AC$4,\nIF(AD8=\"x\",AD$4,\n\"\")))","v":""},{"$f":"\nIF(AC8=\"x\",AC$4,\nIF(AD8=\"x\",AD$4,\n\"\"))","v":""},{"$f":"\nIF(AD8=\"x\",AD$4,\n\"\")","v":""},null,{"$f":"AF8","v":""},"",{"$f":"IF(AR8=\"\",\"\",\nIF(AND(AR8<>$AF8,AQ8<>$AF8),$AF8,\nIF(AND(AR8<>$AG8,AQ8<>$AG8),$AG8,\nIF(AND(AR8<>$AH8,AQ8<>$AH8),$AH8,\nIF(AND(AR8<>$AI8,AQ8<>$AI8),$AI8,\nIF(AND(AR8<>$AJ8,AQ8<>$AJ8),$AJ8,\nIF(AND(AR8<>$AK8,AQ8<>$AK8),$AK8,\nIF(AND(AR8<>$AL8,AQ8<>$AL8),$AL8,\nIF(AND(AR8<>$AM8,AQ8<>$AM8),$AM8,\nIF(AND(AR8<>$AN8,AQ8<>$AN8),$AN8,\nIF(AND(AR8<>$AO8,AQ8<>$AO8),$AO8,\n\"\")))))))))))","v":""},{"$f":"IF(AS8=\"\",\"\",\nIF(AND(AQ8<>$AF8,AS8<>$AF8,AR8<>$AF8),$AF8,\nIF(AND(AQ8<>$AG8,AS8<>$AG8,AR8<>$AG8),$AG8,\nIF(AND(AQ8<>$AH8,AS8<>$AH8,AR8<>$AH8),$AH8,\nIF(AND(AQ8<>$AI8,AS8<>$AI8,AR8<>$AI8),$AI8,\nIF(AND(AQ8<>$AJ8,AS8<>$AJ8,AR8<>$AJ8),$AJ8,\nIF(AND(AQ8<>$AK8,AS8<>$AK8,AR8<>$AK8),$AK8,\nIF(AND(AQ8<>$AL8,AS8<>$AL8,AR8<>$AL8),$AL8,\nIF(AND(AQ8<>$AM8,AS8<>$AM8,AR8<>$AM8),$AM8,\nIF(AND(AQ8<>$AN8,AS8<>$AN8,AR8<>$AN8),$AN8,\nIF(AND(AQ8<>$AO8,AS8<>$AO8,AR8<>$AO8),$AO8,\n\"\")))))))))))","v":""},{"$f":"IF(AT8=\"\",\"\",\nIF(AND(AQ8<>$AF8,AR8<>$AF8,AT8<>$AF8,AS8<>$AF8),$AF8,\nIF(AND(AQ8<>$AG8,AR8<>$AG8,AT8<>$AG8,AS8<>$AG8),$AG8,\nIF(AND(AQ8<>$AH8,AR8<>$AH8,AT8<>$AH8,AS8<>$AH8),$AH8,\nIF(AND(AQ8<>$AI8,AR8<>$AI8,AT8<>$AI8,AS8<>$AI8),$AI8,\nIF(AND(AQ8<>$AJ8,AR8<>$AJ8,AT8<>$AJ8,AS8<>$AJ8),$AJ8,\nIF(AND(AQ8<>$AK8,AR8<>$AK8,AT8<>$AK8,AS8<>$AK8),$AK8,\nIF(AND(AQ8<>$AL8,AR8<>$AL8,AT8<>$AL8,AS8<>$AL8),$AL8,\nIF(AND(AQ8<>$AM8,AR8<>$AM8,AT8<>$AM8,AS8<>$AM8),$AM8,\nIF(AND(AQ8<>$AN8,AR8<>$AN8,AT8<>$AN8,AS8<>$AN8),$AN8,\nIF(AND(AQ8<>$AO8,AR8<>$AO8,AT8<>$AO8,AS8<>$AO8),$AO8,\n\"\")))))))))))","v":""},{"$f":"IF(AU8=\"\",\"\",\nIF(AND(AQ8<>$AF8,AR8<>$AF8,AS8<>$AF8,AU8<>$AF8,AT8<>$AF8),$AF8,\nIF(AND(AQ8<>$AG8,AR8<>$AG8,AS8<>$AG8,AU8<>$AG8,AT8<>$AG8),$AG8,\nIF(AND(AQ8<>$AH8,AR8<>$AH8,AS8<>$AH8,AU8<>$AH8,AT8<>$AH8),$AH8,\nIF(AND(AQ8<>$AI8,AR8<>$AI8,AS8<>$AI8,AU8<>$AI8,AT8<>$AI8),$AI8,\nIF(AND(AQ8<>$AJ8,AR8<>$AJ8,AS8<>$AJ8,AU8<>$AJ8,AT8<>$AJ8),$AJ8,\nIF(AND(AQ8<>$AK8,AR8<>$AK8,AS8<>$AK8,AU8<>$AK8,AT8<>$AK8),$AK8,\nIF(AND(AQ8<>$AL8,AR8<>$AL8,AS8<>$AL8,AU8<>$AL8,AT8<>$AL8),$AL8,\nIF(AND(AQ8<>$AM8,AR8<>$AM8,AS8<>$AM8,AU8<>$AM8,AT8<>$AM8),$AM8,\nIF(AND(AQ8<>$AN8,AR8<>$AN8,AS8<>$AN8,AU8<>$AN8,AT8<>$AN8),$AN8,\nIF(AND(AQ8<>$AO8,AR8<>$AO8,AS8<>$AO8,AU8<>$AO8,AT8<>$AO8),$AO8,\n\"\")))))))))))","v":""},{"$f":"IF(AV8=\"\",\"\",\nIF(AND(AQ8<>$AF8,AR8<>$AF8,AS8<>$AF8,AT8<>$AF8,AV8<>$AF8,AU8<>$AF8),$AF8,\nIF(AND(AQ8<>$AG8,AR8<>$AG8,AS8<>$AG8,AT8<>$AG8,AV8<>$AG8,AU8<>$AG8),$AG8,\nIF(AND(AQ8<>$AH8,AR8<>$AH8,AS8<>$AH8,AT8<>$AH8,AV8<>$AH8,AU8<>$AH8),$AH8,\nIF(AND(AQ8<>$AI8,AR8<>$AI8,AS8<>$AI8,AT8<>$AI8,AV8<>$AI8,AU8<>$AI8),$AI8,\nIF(AND(AQ8<>$AJ8,AR8<>$AJ8,AS8<>$AJ8,AT8<>$AJ8,AV8<>$AJ8,AU8<>$AJ8),$AJ8,\nIF(AND(AQ8<>$AK8,AR8<>$AK8,AS8<>$AK8,AT8<>$AK8,AV8<>$AK8,AU8<>$AK8),$AK8,\nIF(AND(AQ8<>$AL8,AR8<>$AL8,AS8<>$AL8,AT8<>$AL8,AV8<>$AL8,AU8<>$AL8),$AL8,\nIF(AND(AQ8<>$AM8,AR8<>$AM8,AS8<>$AM8,AT8<>$AM8,AV8<>$AM8,AU8<>$AM8),$AM8,\nIF(AND(AQ8<>$AN8,AR8<>$AN8,AS8<>$AN8,AT8<>$AN8,AV8<>$AN8,AU8<>$AN8),$AN8,\nIF(AND(AQ8<>$AO8,AR8<>$AO8,AS8<>$AO8,AT8<>$AO8,AV8<>$AO8,AU8<>$AO8),$AO8,\n\"\")))))))))))","v":""},{"$f":"IF(AW8=\"\",\"\",\nIF(AND(AQ8<>$AF8,AR8<>$AF8,AS8<>$AF8,AT8<>$AF8,AU8<>$AF8,AW8<>$AF8,AV8<>$AF8),$AF8,\nIF(AND(AQ8<>$AG8,AR8<>$AG8,AS8<>$AG8,AT8<>$AG8,AU8<>$AG8,AW8<>$AG8,AV8<>$AG8),$AG8,\nIF(AND(AQ8<>$AH8,AR8<>$AH8,AS8<>$AH8,AT8<>$AH8,AU8<>$AH8,AW8<>$AH8,AV8<>$AH8),$AH8,\nIF(AND(AQ8<>$AI8,AR8<>$AI8,AS8<>$AI8,AT8<>$AI8,AU8<>$AI8,AW8<>$AI8,AV8<>$AI8),$AI8,\nIF(AND(AQ8<>$AJ8,AR8<>$AJ8,AS8<>$AJ8,AT8<>$AJ8,AU8<>$AJ8,AW8<>$AJ8,AV8<>$AJ8),$AJ8,\nIF(AND(AQ8<>$AK8,AR8<>$AK8,AS8<>$AK8,AT8<>$AK8,AU8<>$AK8,AW8<>$AK8,AV8<>$AK8),$AK8,\nIF(AND(AQ8<>$AL8,AR8<>$AL8,AS8<>$AL8,AT8<>$AL8,AU8<>$AL8,AW8<>$AL8,AV8<>$AL8),$AL8,\nIF(AND(AQ8<>$AM8,AR8<>$AM8,AS8<>$AM8,AT8<>$AM8,AU8<>$AM8,AW8<>$AM8,AV8<>$AM8),$AM8,\nIF(AND(AQ8<>$AN8,AR8<>$AN8,AS8<>$AN8,AT8<>$AN8,AU8<>$AN8,AW8<>$AN8,AV8<>$AN8),$AN8,\nIF(AND(AQ8<>$AO8,AR8<>$AO8,AS8<>$AO8,AT8<>$AO8,AU8<>$AO8,AW8<>$AO8,AV8<>$AO8),$AO8,\n\"\")))))))))))","v":""},{"$f":"IF(AX8=\"\",\"\",\nIF(AND(AQ8<>$AF8,AR8<>$AF8,AS8<>$AF8,AT8<>$AF8,AU8<>$AF8,AV8<>$AF8,AX8<>$AF8,AW8<>$AF8),$AF8,\nIF(AND(AQ8<>$AG8,AR8<>$AG8,AS8<>$AG8,AT8<>$AG8,AU8<>$AG8,AV8<>$AG8,AX8<>$AG8,AW8<>$AG8),$AG8,\nIF(AND(AQ8<>$AH8,AR8<>$AH8,AS8<>$AH8,AT8<>$AH8,AU8<>$AH8,AV8<>$AH8,AX8<>$AH8,AW8<>$AH8),$AH8,\nIF(AND(AQ8<>$AI8,AR8<>$AI8,AS8<>$AI8,AT8<>$AI8,AU8<>$AI8,AV8<>$AI8,AX8<>$AI8,AW8<>$AI8),$AI8,\nIF(AND(AQ8<>$AJ8,AR8<>$AJ8,AS8<>$AJ8,AT8<>$AJ8,AU8<>$AJ8,AV8<>$AJ8,AX8<>$AJ8,AW8<>$AJ8),$AJ8,\nIF(AND(AQ8<>$AK8,AR8<>$AK8,AS8<>$AK8,AT8<>$AK8,AU8<>$AK8,AV8<>$AK8,AX8<>$AK8,AW8<>$AK8),$AK8,\nIF(AND(AQ8<>$AL8,AR8<>$AL8,AS8<>$AL8,AT8<>$AL8,AU8<>$AL8,AV8<>$AL8,AX8<>$AL8,AW8<>$AL8),$AL8,\nIF(AND(AQ8<>$AM8,AR8<>$AM8,AS8<>$AM8,AT8<>$AM8,AU8<>$AM8,AV8<>$AM8,AX8<>$AM8,AW8<>$AM8),$AM8,\nIF(AND(AQ8<>$AN8,AR8<>$AN8,AS8<>$AN8,AT8<>$AN8,AU8<>$AN8,AV8<>$AN8,AX8<>$AN8,AW8<>$AN8),$AN8,\nIF(AND(AQ8<>$AO8,AR8<>$AO8,AS8<>$AO8,AT8<>$AO8,AU8<>$AO8,AV8<>$AO8,AX8<>$AO8,AW8<>$AO8),$AO8,\n\"\")))))))))))","v":""},{"$f":"IF(AY8=\"\",\"\",\nIF(AND(AQ8<>$AF8,AR8<>$AF8,AS8<>$AF8,AT8<>$AF8,AU8<>$AF8,AV8<>$AF8,AW8<>$AF8,AY8<>$AF8,AX8<>$AF8),$AF8,\nIF(AND(AQ8<>$AG8,AR8<>$AG8,AS8<>$AG8,AT8<>$AG8,AU8<>$AG8,AV8<>$AG8,AW8<>$AG8,AY8<>$AG8,AX8<>$AG8),$AG8,\nIF(AND(AQ8<>$AH8,AR8<>$AH8,AS8<>$AH8,AT8<>$AH8,AU8<>$AH8,AV8<>$AH8,AW8<>$AH8,AY8<>$AH8,AX8<>$AH8),$AH8,\nIF(AND(AQ8<>$AI8,AR8<>$AI8,AS8<>$AI8,AT8<>$AI8,AU8<>$AI8,AV8<>$AI8,AW8<>$AI8,AY8<>$AI8,AX8<>$AI8),$AI8,\nIF(AND(AQ8<>$AJ8,AR8<>$AJ8,AS8<>$AJ8,AT8<>$AJ8,AU8<>$AJ8,AV8<>$AJ8,AW8<>$AJ8,AY8<>$AJ8,AX8<>$AJ8),$AJ8,\nIF(AND(AQ8<>$AK8,AR8<>$AK8,AS8<>$AK8,AT8<>$AK8,AU8<>$AK8,AV8<>$AK8,AW8<>$AK8,AY8<>$AK8,AX8<>$AK8),$AK8,\nIF(AND(AQ8<>$AL8,AR8<>$AL8,AS8<>$AL8,AT8<>$AL8,AU8<>$AL8,AV8<>$AL8,AW8<>$AL8,AY8<>$AL8,AX8<>$AL8),$AL8,\nIF(AND(AQ8<>$AM8,AR8<>$AM8,AS8<>$AM8,AT8<>$AM8,AU8<>$AM8,AV8<>$AM8,AW8<>$AM8,AY8<>$AM8,AX8<>$AM8),$AM8,\nIF(AND(AQ8<>$AN8,AR8<>$AN8,AS8<>$AN8,AT8<>$AN8,AU8<>$AN8,AV8<>$AN8,AW8<>$AN8,AY8<>$AN8,AX8<>$AN8),$AN8,\nIF(AND(AQ8<>$AO8,AR8<>$AO8,AS8<>$AO8,AT8<>$AO8,AU8<>$AO8,AV8<>$AO8,AW8<>$AO8,AY8<>$AO8,AX8<>$AO8),$AO8,\n\"\")))))))))))","v":""}]
[null,{"$f":"IF(L9=\"x\",1,IF(SUM(B11:B18)>0,1,0))","v":1},1,{"$f":"G9","v":"410.000"},{"$f":"H9","v":"Linee solari DC"},"forfait","410.000","Linee solari DC",null,null,"forfait","x","Caratteristiche: \nSezione\nResistente ai raggi UV",null,null,null,null,null,null,"E400_Linee_solari",null,null,null,null,null,null,null,null,null,"x",null,{"$f":"\nIF(U9=\"x\",U$4,\nIF(V9=\"x\",V$4,\nIF(W9=\"x\",W$4,\nIF(X9=\"x\",X$4,\nIF(Y9=\"x\",Y$4,\nIF(Z9=\"x\",Z$4,\nIF(AA9=\"x\",AA$4,\nIF(AB9=\"x\",AB$4,\nIF(AC9=\"x\",AC$4,\nIF(AD9=\"x\",AD$4,\n\"\"))))))))))","v":"forfait"},{"$f":"\nIF(V9=\"x\",V$4,\nIF(W9=\"x\",W$4,\nIF(X9=\"x\",X$4,\nIF(Y9=\"x\",Y$4,\nIF(Z9=\"x\",Z$4,\nIF(AA9=\"x\",AA$4,\nIF(AB9=\"x\",AB$4,\nIF(AC9=\"x\",AC$4,\nIF(AD9=\"x\",AD$4,\n\"\")))))))))","v":"forfait"},{"$f":"\nIF(W9=\"x\",W$4,\nIF(X9=\"x\",X$4,\nIF(Y9=\"x\",Y$4,\nIF(Z9=\"x\",Z$4,\nIF(AA9=\"x\",AA$4,\nIF(AB9=\"x\",AB$4,\nIF(AC9=\"x\",AC$4,\nIF(AD9=\"x\",AD$4,\n\"\"))))))))","v":"forfait"},{"$f":"\nIF(X9=\"x\",X$4,\nIF(Y9=\"x\",Y$4,\nIF(Z9=\"x\",Z$4,\nIF(AA9=\"x\",AA$4,\nIF(AB9=\"x\",AB$4,\nIF(AC9=\"x\",AC$4,\nIF(AD9=\"x\",AD$4,\n\"\")))))))","v":"forfait"},{"$f":"\nIF(Y9=\"x\",Y$4,\nIF(Z9=\"x\",Z$4,\nIF(AA9=\"x\",AA$4,\nIF(AB9=\"x\",AB$4,\nIF(AC9=\"x\",AC$4,\nIF(AD9=\"x\",AD$4,\n\"\"))))))","v":"forfait"},{"$f":"\nIF(Z9=\"x\",Z$4,\nIF(AA9=\"x\",AA$4,\nIF(AB9=\"x\",AB$4,\nIF(AC9=\"x\",AC$4,\nIF(AD9=\"x\",AD$4,\n\"\")))))","v":"forfait"},{"$f":"\nIF(AA9=\"x\",AA$4,\nIF(AB9=\"x\",AB$4,\nIF(AC9=\"x\",AC$4,\nIF(AD9=\"x\",AD$4,\n\"\"))))","v":"forfait"},{"$f":"\nIF(AB9=\"x\",AB$4,\nIF(AC9=\"x\",AC$4,\nIF(AD9=\"x\",AD$4,\n\"\")))","v":"forfait"},{"$f":"\nIF(AC9=\"x\",AC$4,\nIF(AD9=\"x\",AD$4,\n\"\"))","v":"forfait"},{"$f":"\nIF(AD9=\"x\",AD$4,\n\"\")","v":"forfait"},null,{"$f":"AF9","v":"forfait"},"",{"$f":"IF(AR9=\"\",\"\",\nIF(AND(AR9<>$AF9,AQ9<>$AF9),$AF9,\nIF(AND(AR9<>$AG9,AQ9<>$AG9),$AG9,\nIF(AND(AR9<>$AH9,AQ9<>$AH9),$AH9,\nIF(AND(AR9<>$AI9,AQ9<>$AI9),$AI9,\nIF(AND(AR9<>$AJ9,AQ9<>$AJ9),$AJ9,\nIF(AND(AR9<>$AK9,AQ9<>$AK9),$AK9,\nIF(AND(AR9<>$AL9,AQ9<>$AL9),$AL9,\nIF(AND(AR9<>$AM9,AQ9<>$AM9),$AM9,\nIF(AND(AR9<>$AN9,AQ9<>$AN9),$AN9,\nIF(AND(AR9<>$AO9,AQ9<>$AO9),$AO9,\n\"\")))))))))))","v":""},{"$f":"IF(AS9=\"\",\"\",\nIF(AND(AQ9<>$AF9,AS9<>$AF9,AR9<>$AF9),$AF9,\nIF(AND(AQ9<>$AG9,AS9<>$AG9,AR9<>$AG9),$AG9,\nIF(AND(AQ9<>$AH9,AS9<>$AH9,AR9<>$AH9),$AH9,\nIF(AND(AQ9<>$AI9,AS9<>$AI9,AR9<>$AI9),$AI9,\nIF(AND(AQ9<>$AJ9,AS9<>$AJ9,AR9<>$AJ9),$AJ9,\nIF(AND(AQ9<>$AK9,AS9<>$AK9,AR9<>$AK9),$AK9,\nIF(AND(AQ9<>$AL9,AS9<>$AL9,AR9<>$AL9),$AL9,\nIF(AND(AQ9<>$AM9,AS9<>$AM9,AR9<>$AM9),$AM9,\nIF(AND(AQ9<>$AN9,AS9<>$AN9,AR9<>$AN9),$AN9,\nIF(AND(AQ9<>$AO9,AS9<>$AO9,AR9<>$AO9),$AO9,\n\"\")))))))))))","v":""},{"$f":"IF(AT9=\"\",\"\",\nIF(AND(AQ9<>$AF9,AR9<>$AF9,AT9<>$AF9,AS9<>$AF9),$AF9,\nIF(AND(AQ9<>$AG9,AR9<>$AG9,AT9<>$AG9,AS9<>$AG9),$AG9,\nIF(AND(AQ9<>$AH9,AR9<>$AH9,AT9<>$AH9,AS9<>$AH9),$AH9,\nIF(AND(AQ9<>$AI9,AR9<>$AI9,AT9<>$AI9,AS9<>$AI9),$AI9,\nIF(AND(AQ9<>$AJ9,AR9<>$AJ9,AT9<>$AJ9,AS9<>$AJ9),$AJ9,\nIF(AND(AQ9<>$AK9,AR9<>$AK9,AT9<>$AK9,AS9<>$AK9),$AK9,\nIF(AND(AQ9<>$AL9,AR9<>$AL9,AT9<>$AL9,AS9<>$AL9),$AL9,\nIF(AND(AQ9<>$AM9,AR9<>$AM9,AT9<>$AM9,AS9<>$AM9),$AM9,\nIF(AND(AQ9<>$AN9,AR9<>$AN9,AT9<>$AN9,AS9<>$AN9),$AN9,\nIF(AND(AQ9<>$AO9,AR9<>$AO9,AT9<>$AO9,AS9<>$AO9),$AO9,\n\"\")))))))))))","v":""},{"$f":"IF(AU9=\"\",\"\",\nIF(AND(AQ9<>$AF9,AR9<>$AF9,AS9<>$AF9,AU9<>$AF9,AT9<>$AF9),$AF9,\nIF(AND(AQ9<>$AG9,AR9<>$AG9,AS9<>$AG9,AU9<>$AG9,AT9<>$AG9),$AG9,\nIF(AND(AQ9<>$AH9,AR9<>$AH9,AS9<>$AH9,AU9<>$AH9,AT9<>$AH9),$AH9,\nIF(AND(AQ9<>$AI9,AR9<>$AI9,AS9<>$AI9,AU9<>$AI9,AT9<>$AI9),$AI9,\nIF(AND(AQ9<>$AJ9,AR9<>$AJ9,AS9<>$AJ9,AU9<>$AJ9,AT9<>$AJ9),$AJ9,\nIF(AND(AQ9<>$AK9,AR9<>$AK9,AS9<>$AK9,AU9<>$AK9,AT9<>$AK9),$AK9,\nIF(AND(AQ9<>$AL9,AR9<>$AL9,AS9<>$AL9,AU9<>$AL9,AT9<>$AL9),$AL9,\nIF(AND(AQ9<>$AM9,AR9<>$AM9,AS9<>$AM9,AU9<>$AM9,AT9<>$AM9),$AM9,\nIF(AND(AQ9<>$AN9,AR9<>$AN9,AS9<>$AN9,AU9<>$AN9,AT9<>$AN9),$AN9,\nIF(AND(AQ9<>$AO9,AR9<>$AO9,AS9<>$AO9,AU9<>$AO9,AT9<>$AO9),$AO9,\n\"\")))))))))))","v":""},{"$f":"IF(AV9=\"\",\"\",\nIF(AND(AQ9<>$AF9,AR9<>$AF9,AS9<>$AF9,AT9<>$AF9,AV9<>$AF9,AU9<>$AF9),$AF9,\nIF(AND(AQ9<>$AG9,AR9<>$AG9,AS9<>$AG9,AT9<>$AG9,AV9<>$AG9,AU9<>$AG9),$AG9,\nIF(AND(AQ9<>$AH9,AR9<>$AH9,AS9<>$AH9,AT9<>$AH9,AV9<>$AH9,AU9<>$AH9),$AH9,\nIF(AND(AQ9<>$AI9,AR9<>$AI9,AS9<>$AI9,AT9<>$AI9,AV9<>$AI9,AU9<>$AI9),$AI9,\nIF(AND(AQ9<>$AJ9,AR9<>$AJ9,AS9<>$AJ9,AT9<>$AJ9,AV9<>$AJ9,AU9<>$AJ9),$AJ9,\nIF(AND(AQ9<>$AK9,AR9<>$AK9,AS9<>$AK9,AT9<>$AK9,AV9<>$AK9,AU9<>$AK9),$AK9,\nIF(AND(AQ9<>$AL9,AR9<>$AL9,AS9<>$AL9,AT9<>$AL9,AV9<>$AL9,AU9<>$AL9),$AL9,\nIF(AND(AQ9<>$AM9,AR9<>$AM9,AS9<>$AM9,AT9<>$AM9,AV9<>$AM9,AU9<>$AM9),$AM9,\nIF(AND(AQ9<>$AN9,AR9<>$AN9,AS9<>$AN9,AT9<>$AN9,AV9<>$AN9,AU9<>$AN9),$AN9,\nIF(AND(AQ9<>$AO9,AR9<>$AO9,AS9<>$AO9,AT9<>$AO9,AV9<>$AO9,AU9<>$AO9),$AO9,\n\"\")))))))))))","v":""},{"$f":"IF(AW9=\"\",\"\",\nIF(AND(AQ9<>$AF9,AR9<>$AF9,AS9<>$AF9,AT9<>$AF9,AU9<>$AF9,AW9<>$AF9,AV9<>$AF9),$AF9,\nIF(AND(AQ9<>$AG9,AR9<>$AG9,AS9<>$AG9,AT9<>$AG9,AU9<>$AG9,AW9<>$AG9,AV9<>$AG9),$AG9,\nIF(AND(AQ9<>$AH9,AR9<>$AH9,AS9<>$AH9,AT9<>$AH9,AU9<>$AH9,AW9<>$AH9,AV9<>$AH9),$AH9,\nIF(AND(AQ9<>$AI9,AR9<>$AI9,AS9<>$AI9,AT9<>$AI9,AU9<>$AI9,AW9<>$AI9,AV9<>$AI9),$AI9,\nIF(AND(AQ9<>$AJ9,AR9<>$AJ9,AS9<>$AJ9,AT9<>$AJ9,AU9<>$AJ9,AW9<>$AJ9,AV9<>$AJ9),$AJ9,\nIF(AND(AQ9<>$AK9,AR9<>$AK9,AS9<>$AK9,AT9<>$AK9,AU9<>$AK9,AW9<>$AK9,AV9<>$AK9),$AK9,\nIF(AND(AQ9<>$AL9,AR9<>$AL9,AS9<>$AL9,AT9<>$AL9,AU9<>$AL9,AW9<>$AL9,AV9<>$AL9),$AL9,\nIF(AND(AQ9<>$AM9,AR9<>$AM9,AS9<>$AM9,AT9<>$AM9,AU9<>$AM9,AW9<>$AM9,AV9<>$AM9),$AM9,\nIF(AND(AQ9<>$AN9,AR9<>$AN9,AS9<>$AN9,AT9<>$AN9,AU9<>$AN9,AW9<>$AN9,AV9<>$AN9),$AN9,\nIF(AND(AQ9<>$AO9,AR9<>$AO9,AS9<>$AO9,AT9<>$AO9,AU9<>$AO9,AW9<>$AO9,AV9<>$AO9),$AO9,\n\"\")))))))))))","v":""},{"$f":"IF(AX9=\"\",\"\",\nIF(AND(AQ9<>$AF9,AR9<>$AF9,AS9<>$AF9,AT9<>$AF9,AU9<>$AF9,AV9<>$AF9,AX9<>$AF9,AW9<>$AF9),$AF9,\nIF(AND(AQ9<>$AG9,AR9<>$AG9,AS9<>$AG9,AT9<>$AG9,AU9<>$AG9,AV9<>$AG9,AX9<>$AG9,AW9<>$AG9),$AG9,\nIF(AND(AQ9<>$AH9,AR9<>$AH9,AS9<>$AH9,AT9<>$AH9,AU9<>$AH9,AV9<>$AH9,AX9<>$AH9,AW9<>$AH9),$AH9,\nIF(AND(AQ9<>$AI9,AR9<>$AI9,AS9<>$AI9,AT9<>$AI9,AU9<>$AI9,AV9<>$AI9,AX9<>$AI9,AW9<>$AI9),$AI9,\nIF(AND(AQ9<>$AJ9,AR9<>$AJ9,AS9<>$AJ9,AT9<>$AJ9,AU9<>$AJ9,AV9<>$AJ9,AX9<>$AJ9,AW9<>$AJ9),$AJ9,\nIF(AND(AQ9<>$AK9,AR9<>$AK9,AS9<>$AK9,AT9<>$AK9,AU9<>$AK9,AV9<>$AK9,AX9<>$AK9,AW9<>$AK9),$AK9,\nIF(AND(AQ9<>$AL9,AR9<>$AL9,AS9<>$AL9,AT9<>$AL9,AU9<>$AL9,AV9<>$AL9,AX9<>$AL9,AW9<>$AL9),$AL9,\nIF(AND(AQ9<>$AM9,AR9<>$AM9,AS9<>$AM9,AT9<>$AM9,AU9<>$AM9,AV9<>$AM9,AX9<>$AM9,AW9<>$AM9),$AM9,\nIF(AND(AQ9<>$AN9,AR9<>$AN9,AS9<>$AN9,AT9<>$AN9,AU9<>$AN9,AV9<>$AN9,AX9<>$AN9,AW9<>$AN9),$AN9,\nIF(AND(AQ9<>$AO9,AR9<>$AO9,AS9<>$AO9,AT9<>$AO9,AU9<>$AO9,AV9<>$AO9,AX9<>$AO9,AW9<>$AO9),$AO9,\n\"\")))))))))))","v":""},{"$f":"IF(AY9=\"\",\"\",\nIF(AND(AQ9<>$AF9,AR9<>$AF9,AS9<>$AF9,AT9<>$AF9,AU9<>$AF9,AV9<>$AF9,AW9<>$AF9,AY9<>$AF9,AX9<>$AF9),$AF9,\nIF(AND(AQ9<>$AG9,AR9<>$AG9,AS9<>$AG9,AT9<>$AG9,AU9<>$AG9,AV9<>$AG9,AW9<>$AG9,AY9<>$AG9,AX9<>$AG9),$AG9,\nIF(AND(AQ9<>$AH9,AR9<>$AH9,AS9<>$AH9,AT9<>$AH9,AU9<>$AH9,AV9<>$AH9,AW9<>$AH9,AY9<>$AH9,AX9<>$AH9),$AH9,\nIF(AND(AQ9<>$AI9,AR9<>$AI9,AS9<>$AI9,AT9<>$AI9,AU9<>$AI9,AV9<>$AI9,AW9<>$AI9,AY9<>$AI9,AX9<>$AI9),$AI9,\nIF(AND(AQ9<>$AJ9,AR9<>$AJ9,AS9<>$AJ9,AT9<>$AJ9,AU9<>$AJ9,AV9<>$AJ9,AW9<>$AJ9,AY9<>$AJ9,AX9<>$AJ9),$AJ9,\nIF(AND(AQ9<>$AK9,AR9<>$AK9,AS9<>$AK9,AT9<>$AK9,AU9<>$AK9,AV9<>$AK9,AW9<>$AK9,AY9<>$AK9,AX9<>$AK9),$AK9,\nIF(AND(AQ9<>$AL9,AR9<>$AL9,AS9<>$AL9,AT9<>$AL9,AU9<>$AL9,AV9<>$AL9,AW9<>$AL9,AY9<>$AL9,AX9<>$AL9),$AL9,\nIF(AND(AQ9<>$AM9,AR9<>$AM9,AS9<>$AM9,AT9<>$AM9,AU9<>$AM9,AV9<>$AM9,AW9<>$AM9,AY9<>$AM9,AX9<>$AM9),$AM9,\nIF(AND(AQ9<>$AN9,AR9<>$AN9,AS9<>$AN9,AT9<>$AN9,AU9<>$AN9,AV9<>$AN9,AW9<>$AN9,AY9<>$AN9,AX9<>$AN9),$AN9,\nIF(AND(AQ9<>$AO9,AR9<>$AO9,AS9<>$AO9,AT9<>$AO9,AU9<>$AO9,AV9<>$AO9,AW9<>$AO9,AY9<>$AO9,AX9<>$AO9),$AO9,\n\"\")))))))))))","v":""}]
[null,{"$f":"IF(E10=\"\",0,1)","v":1},0,null,{"$f":"IF(M9<>\"\",M9,\"\")","v":"Caratteristiche: \nSezione\nResistente ai raggi UV"},""]
[null,{"$f":"IF(L11=\"x\",1,IF(ISNUMBER(L11),L11,0))","v":0},{"$f":"IF(L11=\"x\",1,IF(ISNUMBER(L11),1,0))","v":0},{"$f":"I11","v":"411.000"},{"$f":"J11 & IF(M11<>\"\",CHAR(10) & M11,\"\")","v":"Cu 4 mm2"},"",null,null,"411.000","Cu 4 mm2","ml",null,null,null,null,null,null,null,null,"E400_Linee_solari",null,null,"x",null,null,null,null,null,null,"x",null,"ml","ml","ml","forfait","forfait","forfait","forfait","forfait","forfait","forfait",null,"ml","forfait","","","","","","","",""]
[null,0,{"$f":"IF(L12=\"x\",1,IF(ISNUMBER(L12),1,0))","v":0},{"$f":"I12","v":"412.000"},{"$f":"J12 & IF(M12<>\"\",CHAR(10) & M12,\"\")","v":"Cu 6 mm2"},"",null,null,"412.000","Cu 6 mm2","ml",null,null,null,null,null,null,null,null,"E400_Linee_solari",null,null,"x",null,null,null,null,null,null,"x",null,"ml","ml","ml","forfait","forfait","forfait","forfait","forfait","forfait","forfait",null,"ml","forfait",{"$f":"IF(AR12=\"\",\"\",\nIF(AND(AR12<>$AF12,AQ12<>$AF12),$AF12,\nIF(AND(AR12<>$AG12,AQ12<>$AG12),$AG12,\nIF(AND(AR12<>$AH12,AQ12<>$AH12),$AH12,\nIF(AND(AR12<>$AI12,AQ12<>$AI12),$AI12,\nIF(AND(AR12<>$AJ12,AQ12<>$AJ12),$AJ12,\nIF(AND(AR12<>$AK12,AQ12<>$AK12),$AK12,\nIF(AND(AR12<>$AL12,AQ12<>$AL12),$AL12,\nIF(AND(AR12<>$AM12,AQ12<>$AM12),$AM12,\nIF(AND(AR12<>$AN12,AQ12<>$AN12),$AN12,\nIF(AND(AR12<>$AO12,AQ12<>$AO12),$AO12,\n\"\")))))))))))","v":""},{"$f":"IF(AS12=\"\",\"\",\nIF(AND(AQ12<>$AF12,AS12<>$AF12,AR12<>$AF12),$AF12,\nIF(AND(AQ12<>$AG12,AS12<>$AG12,AR12<>$AG12),$AG12,\nIF(AND(AQ12<>$AH12,AS12<>$AH12,AR12<>$AH12),$AH12,\nIF(AND(AQ12<>$AI12,AS12<>$AI12,AR12<>$AI12),$AI12,\nIF(AND(AQ12<>$AJ12,AS12<>$AJ12,AR12<>$AJ12),$AJ12,\nIF(AND(AQ12<>$AK12,AS12<>$AK12,AR12<>$AK12),$AK12,\nIF(AND(AQ12<>$AL12,AS12<>$AL12,AR12<>$AL12),$AL12,\nIF(AND(AQ12<>$AM12,AS12<>$AM12,AR12<>$AM12),$AM12,\nIF(AND(AQ12<>$AN12,AS12<>$AN12,AR12<>$AN12),$AN12,\nIF(AND(AQ12<>$AO12,AS12<>$AO12,AR12<>$AO12),$AO12,\n\"\")))))))))))","v":""},{"$f":"IF(AT12=\"\",\"\",\nIF(AND(AQ12<>$AF12,AR12<>$AF12,AT12<>$AF12,AS12<>$AF12),$AF12,\nIF(AND(AQ12<>$AG12,AR12<>$AG12,AT12<>$AG12,AS12<>$AG12),$AG12,\nIF(AND(AQ12<>$AH12,AR12<>$AH12,AT12<>$AH12,AS12<>$AH12),$AH12,\nIF(AND(AQ12<>$AI12,AR12<>$AI12,AT12<>$AI12,AS12<>$AI12),$AI12,\nIF(AND(AQ12<>$AJ12,AR12<>$AJ12,AT12<>$AJ12,AS12<>$AJ12),$AJ12,\nIF(AND(AQ12<>$AK12,AR12<>$AK12,AT12<>$AK12,AS12<>$AK12),$AK12,\nIF(AND(AQ12<>$AL12,AR12<>$AL12,AT12<>$AL12,AS12<>$AL12),$AL12,\nIF(AND(AQ12<>$AM12,AR12<>$AM12,AT12<>$AM12,AS12<>$AM12),$AM12,\nIF(AND(AQ12<>$AN12,AR12<>$AN12,AT12<>$AN12,AS12<>$AN12),$AN12,\nIF(AND(AQ12<>$AO12,AR12<>$AO12,AT12<>$AO12,AS12<>$AO12),$AO12,\n\"\")))))))))))","v":""},{"$f":"IF(AU12=\"\",\"\",\nIF(AND(AQ12<>$AF12,AR12<>$AF12,AS12<>$AF12,AU12<>$AF12,AT12<>$AF12),$AF12,\nIF(AND(AQ12<>$AG12,AR12<>$AG12,AS12<>$AG12,AU12<>$AG12,AT12<>$AG12),$AG12,\nIF(AND(AQ12<>$AH12,AR12<>$AH12,AS12<>$AH12,AU12<>$AH12,AT12<>$AH12),$AH12,\nIF(AND(AQ12<>$AI12,AR12<>$AI12,AS12<>$AI12,AU12<>$AI12,AT12<>$AI12),$AI12,\nIF(AND(AQ12<>$AJ12,AR12<>$AJ12,AS12<>$AJ12,AU12<>$AJ12,AT12<>$AJ12),$AJ12,\nIF(AND(AQ12<>$AK12,AR12<>$AK12,AS12<>$AK12,AU12<>$AK12,AT12<>$AK12),$AK12,\nIF(AND(AQ12<>$AL12,AR12<>$AL12,AS12<>$AL12,AU12<>$AL12,AT12<>$AL12),$AL12,\nIF(AND(AQ12<>$AM12,AR12<>$AM12,AS12<>$AM12,AU12<>$AM12,AT12<>$AM12),$AM12,\nIF(AND(AQ12<>$AN12,AR12<>$AN12,AS12<>$AN12,AU12<>$AN12,AT12<>$AN12),$AN12,\nIF(AND(AQ12<>$AO12,AR12<>$AO12,AS12<>$AO12,AU12<>$AO12,AT12<>$AO12),$AO12,\n\"\")))))))))))","v":""},{"$f":"IF(AV12=\"\",\"\",\nIF(AND(AQ12<>$AF12,AR12<>$AF12,AS12<>$AF12,AT12<>$AF12,AV12<>$AF12,AU12<>$AF12),$AF12,\nIF(AND(AQ12<>$AG12,AR12<>$AG12,AS12<>$AG12,AT12<>$AG12,AV12<>$AG12,AU12<>$AG12),$AG12,\nIF(AND(AQ12<>$AH12,AR12<>$AH12,AS12<>$AH12,AT12<>$AH12,AV12<>$AH12,AU12<>$AH12),$AH12,\nIF(AND(AQ12<>$AI12,AR12<>$AI12,AS12<>$AI12,AT12<>$AI12,AV12<>$AI12,AU12<>$AI12),$AI12,\nIF(AND(AQ12<>$AJ12,AR12<>$AJ12,AS12<>$AJ12,AT12<>$AJ12,AV12<>$AJ12,AU12<>$AJ12),$AJ12,\nIF(AND(AQ12<>$AK12,AR12<>$AK12,AS12<>$AK12,AT12<>$AK12,AV12<>$AK12,AU12<>$AK12),$AK12,\nIF(AND(AQ12<>$AL12,AR12<>$AL12,AS12<>$AL12,AT12<>$AL12,AV12<>$AL12,AU12<>$AL12),$AL12,\nIF(AND(AQ12<>$AM12,AR12<>$AM12,AS12<>$AM12,AT12<>$AM12,AV12<>$AM12,AU12<>$AM12),$AM12,\nIF(AND(AQ12<>$AN12,AR12<>$AN12,AS12<>$AN12,AT12<>$AN12,AV12<>$AN12,AU12<>$AN12),$AN12,\nIF(AND(AQ12<>$AO12,AR12<>$AO12,AS12<>$AO12,AT12<>$AO12,AV12<>$AO12,AU12<>$AO12),$AO12,\n\"\")))))))))))","v":""},{"$f":"IF(AW12=\"\",\"\",\nIF(AND(AQ12<>$AF12,AR12<>$AF12,AS12<>$AF12,AT12<>$AF12,AU12<>$AF12,AW12<>$AF12,AV12<>$AF12),$AF12,\nIF(AND(AQ12<>$AG12,AR12<>$AG12,AS12<>$AG12,AT12<>$AG12,AU12<>$AG12,AW12<>$AG12,AV12<>$AG12),$AG12,\nIF(AND(AQ12<>$AH12,AR12<>$AH12,AS12<>$AH12,AT12<>$AH12,AU12<>$AH12,AW12<>$AH12,AV12<>$AH12),$AH12,\nIF(AND(AQ12<>$AI12,AR12<>$AI12,AS12<>$AI12,AT12<>$AI12,AU12<>$AI12,AW12<>$AI12,AV12<>$AI12),$AI12,\nIF(AND(AQ12<>$AJ12,AR12<>$AJ12,AS12<>$AJ12,AT12<>$AJ12,AU12<>$AJ12,AW12<>$AJ12,AV12<>$AJ12),$AJ12,\nIF(AND(AQ12<>$AK12,AR12<>$AK12,AS12<>$AK12,AT12<>$AK12,AU12<>$AK12,AW12<>$AK12,AV12<>$AK12),$AK12,\nIF(AND(AQ12<>$AL12,AR12<>$AL12,AS12<>$AL12,AT12<>$AL12,AU12<>$AL12,AW12<>$AL12,AV12<>$AL12),$AL12,\nIF(AND(AQ12<>$AM12,AR12<>$AM12,AS12<>$AM12,AT12<>$AM12,AU12<>$AM12,AW12<>$AM12,AV12<>$AM12),$AM12,\nIF(AND(AQ12<>$AN12,AR12<>$AN12,AS12<>$AN12,AT12<>$AN12,AU12<>$AN12,AW12<>$AN12,AV12<>$AN12),$AN12,\nIF(AND(AQ12<>$AO12,AR12<>$AO12,AS12<>$AO12,AT12<>$AO12,AU12<>$AO12,AW12<>$AO12,AV12<>$AO12),$AO12,\n\"\")))))))))))","v":""},{"$f":"IF(AX12=\"\",\"\",\nIF(AND(AQ12<>$AF12,AR12<>$AF12,AS12<>$AF12,AT12<>$AF12,AU12<>$AF12,AV12<>$AF12,AX12<>$AF12,AW12<>$AF12),$AF12,\nIF(AND(AQ12<>$AG12,AR12<>$AG12,AS12<>$AG12,AT12<>$AG12,AU12<>$AG12,AV12<>$AG12,AX12<>$AG12,AW12<>$AG12),$AG12,\nIF(AND(AQ12<>$AH12,AR12<>$AH12,AS12<>$AH12,AT12<>$AH12,AU12<>$AH12,AV12<>$AH12,AX12<>$AH12,AW12<>$AH12),$AH12,\nIF(AND(AQ12<>$AI12,AR12<>$AI12,AS12<>$AI12,AT12<>$AI12,AU12<>$AI12,AV12<>$AI12,AX12<>$AI12,AW12<>$AI12),$AI12,\nIF(AND(AQ12<>$AJ12,AR12<>$AJ12,AS12<>$AJ12,AT12<>$AJ12,AU12<>$AJ12,AV12<>$AJ12,AX12<>$AJ12,AW12<>$AJ12),$AJ12,\nIF(AND(AQ12<>$AK12,AR12<>$AK12,AS12<>$AK12,AT12<>$AK12,AU12<>$AK12,AV12<>$AK12,AX12<>$AK12,AW12<>$AK12),$AK12,\nIF(AND(AQ12<>$AL12,AR12<>$AL12,AS12<>$AL12,AT12<>$AL12,AU12<>$AL12,AV12<>$AL12,AX12<>$AL12,AW12<>$AL12),$AL12,\nIF(AND(AQ12<>$AM12,AR12<>$AM12,AS12<>$AM12,AT12<>$AM12,AU12<>$AM12,AV12<>$AM12,AX12<>$AM12,AW12<>$AM12),$AM12,\nIF(AND(AQ12<>$AN12,AR12<>$AN12,AS12<>$AN12,AT12<>$AN12,AU12<>$AN12,AV12<>$AN12,AX12<>$AN12,AW12<>$AN12),$AN12,\nIF(AND(AQ12<>$AO12,AR12<>$AO12,AS12<>$AO12,AT12<>$AO12,AU12<>$AO12,AV12<>$AO12,AX12<>$AO12,AW12<>$AO12),$AO12,\n\"\")))))))))))","v":""},{"$f":"IF(AY12=\"\",\"\",\nIF(AND(AQ12<>$AF12,AR12<>$AF12,AS12<>$AF12,AT12<>$AF12,AU12<>$AF12,AV12<>$AF12,AW12<>$AF12,AY12<>$AF12,AX12<>$AF12),$AF12,\nIF(AND(AQ12<>$AG12,AR12<>$AG12,AS12<>$AG12,AT12<>$AG12,AU12<>$AG12,AV12<>$AG12,AW12<>$AG12,AY12<>$AG12,AX12<>$AG12),$AG12,\nIF(AND(AQ12<>$AH12,AR12<>$AH12,AS12<>$AH12,AT12<>$AH12,AU12<>$AH12,AV12<>$AH12,AW12<>$AH12,AY12<>$AH12,AX12<>$AH12),$AH12,\nIF(AND(AQ12<>$AI12,AR12<>$AI12,AS12<>$AI12,AT12<>$AI12,AU12<>$AI12,AV12<>$AI12,AW12<>$AI12,AY12<>$AI12,AX12<>$AI12),$AI12,\nIF(AND(AQ12<>$AJ12,AR12<>$AJ12,AS12<>$AJ12,AT12<>$AJ12,AU12<>$AJ12,AV12<>$AJ12,AW12<>$AJ12,AY12<>$AJ12,AX12<>$AJ12),$AJ12,\nIF(AND(AQ12<>$AK12,AR12<>$AK12,AS12<>$AK12,AT12<>$AK12,AU12<>$AK12,AV12<>$AK12,AW12<>$AK12,AY12<>$AK12,AX12<>$AK12),$AK12,\nIF(AND(AQ12<>$AL12,AR12<>$AL12,AS12<>$AL12,AT12<>$AL12,AU12<>$AL12,AV12<>$AL12,AW12<>$AL12,AY12<>$AL12,AX12<>$AL12),$AL12,\nIF(AND(AQ12<>$AM12,AR12<>$AM12,AS12<>$AM12,AT12<>$AM12,AU12<>$AM12,AV12<>$AM12,AW12<>$AM12,AY12<>$AM12,AX12<>$AM12),$AM12,\nIF(AND(AQ12<>$AN12,AR12<>$AN12,AS12<>$AN12,AT12<>$AN12,AU12<>$AN12,AV12<>$AN12,AW12<>$AN12,AY12<>$AN12,AX12<>$AN12),$AN12,\nIF(AND(AQ12<>$AO12,AR12<>$AO12,AS12<>$AO12,AT12<>$AO12,AU12<>$AO12,AV12<>$AO12,AW12<>$AO12,AY12<>$AO12,AX12<>$AO12),$AO12,\n\"\")))))))))))","v":""}]
[null,0,0,"413.000","Cu 10 mm2","",null,null,"413.000","Cu 10 mm2","ml",null,null,null,null,null,null,null,null,"E400_Linee_solari",null,null,"x",null,null,null,null,null,null,"x",null,"ml","ml","ml","forfait","forfait","forfait","forfait","forfait","forfait","forfait",null,"ml","forfait","","","","","","","",""]
[null,0,0,"414.000","Cu 16 mm2","",null,null,"414.000","Cu 16 mm2","ml",null,null,null,null,null,null,null,null,"E400_Linee_solari",null,null,"x",null,null,null,null,null,null,"x",null,"ml","ml","ml","forfait","forfait","forfait","forfait","forfait","forfait","forfait",null,"ml","forfait","","","","","","","",""]
[null,0,0,"415.000","Cu 25 mm2","",null,null,"415.000","Cu 25 mm2","ml",null,null,null,null,null,null,null,null,"E400_Linee_solari",null,null,"x",null,null,null,null,null,null,"x",null,"ml","ml","ml","forfait","forfait","forfait","forfait","forfait","forfait","forfait",null,"ml","forfait","","","","","","","",""]
[null,0,0,"416.000","Cu 35 mm2","",null,null,"416.000","Cu 35 mm2","ml",null,null,null,null,null,null,null,null,"E400_Linee_solari",null,null,"x",null,null,null,null,null,null,"x",null,"ml","ml","ml","forfait","forfait","forfait","forfait","forfait","forfait","forfait",null,"ml","forfait","","","","","","","",""]
[null,0,0,"417.000","Cu 50 mm2","",null,null,"417.000","Cu 50 mm2","ml",null,null,null,null,null,null,null,null,"E400_Linee_solari",null,null,"x",null,null,null,null,null,null,"x",null,"ml","ml","ml","forfait","forfait","forfait","forfait","forfait","forfait","forfait",null,"ml","forfait","","","","","","","",""]
[null,0,0,"418.000","Al","",null,null,"418.000","Al","ml",null,null,null,null,null,null,null,null,"E400_Linee_solari",null,null,"x",null,null,null,null,null,null,"x",null,"ml","ml","ml","forfait","forfait","forfait","forfait","forfait","forfait","forfait",null,"ml","forfait","","","","","","","",""]
[null,{"$f":"B9","v":1},0,null,null,"",null,null,null,null,null,null,null,null,null,null,null,null,null,null,null,null,null,null,null,null,null,null,null,null,null,"","","","","","","","","","",null,"","","","","","","","","",""]
[null,{"$f":"IF(L20=\"x\",1,IF(SUM(B22:B25)>0,1,0))","v":1},1,{"$f":"G20","v":"420.000"},{"$f":"H20","v":"Connettori solari "},"forfait","420.000","Connettori solari ",null,null,"forfait","x","Caratteristiche: \nConnettore originale del fabbricante (secondo NIBT)",null,null,null,null,null,null,"E400_Connettori_solari",null,null,null,null,null,null,null,null,null,"x",null,"forfait","forfait","forfait","forfait","forfait","forfait","forfait","forfait","forfait","forfait",null,"forfait","","","","","","","","",""]
[null,{"$f":"IF(E21=\"\",0,1)","v":1},0,null,{"$f":"IF(M20<>\"\",M20,\"\")","v":"Caratteristiche: \nConnettore originale del fabbricante (secondo NIBT)"},""]
[null,{"$f":"IF(L22=\"x\",1,IF(ISNUMBER(L22),L22,0))","v":0},0,{"$f":"I22","v":"421.000"},{"$f":"J22 & IF(M22<>\"\",CHAR(10) & M22,\"\")","v":"4 mm2"},"",null,null,"421.000","4 mm2","pz.",null,null,null,null,null,null,null,null,"E400_Connettori_solari","x",null,null,null,null,null,null,null,null,"x",null,"pz.","forfait","forfait","forfait","forfait","forfait","forfait","forfait","forfait","forfait",null,"pz.","forfait","","","","","","","",""]
[null,{"$f":"IF(L23=\"x\",1,IF(ISNUMBER(L23),L23,0))","v":0},0,{"$f":"I23","v":"422.000"},"6 mm2","",null,null,"422.000","6 mm2","pz.",null,null,null,null,null,null,null,null,"E400_Connettori_solari","x",null,null,null,null,null,null,null,null,"x",null,"pz.","forfait","forfait","forfait","forfait","forfait","forfait","forfait","forfait","forfait",null,"pz.","forfait","","","","","","","",""]
[null,{"$f":"IF(L24=\"x\",1,IF(ISNUMBER(L24),L24,0))","v":0},0,"423.000","10 mm2","",null,null,"423.000","10 mm2","pz.",null,null,null,null,null,null,null,null,"E400_Connettori_solari","x",null,null,null,null,null,null,null,null,"x",null,"pz.","forfait","forfait","forfait","forfait","forfait","forfait","forfait","forfait","forfait",null,"pz.","forfait","","","","","","","",""]
[null,{"$f":"IF(L25=\"x\",1,IF(ISNUMBER(L25),L25,0))","v":0},0,{"$f":"I25","v":"424.000"},"Connettore a Y","",null,null,"424.000","Connettore a Y","pz.",null,null,null,null,null,null,null,null,"E400_Connettori_solari","x",null,null,null,null,null,null,null,null,null,null,"pz.","","","","","","","","","",null,"pz.","","","","","","","","",""]
[null,{"$f":"B20","v":1},0,null,null,"",null,null,null,null,null,null,null,null,null,null,null,null,null,null,null,null,null,null,null,null,null,null,null,null,null,"","","","","","","","","","",null,"","","","","","","","","",""]
[null,{"$f":"IF(L27=\"x\",1,IF(SUM(B29:B34)>0,1,0))","v":1},0,{"$f":"G27","v":"430.000"},{"$f":"H27","v":"Protezione dei cavi/passaggio dei cavi"},"","430.000","Protezione dei cavi/passaggio dei cavi",null,null,null,null,null,null,null,null,null,null,null,"E400_Protezione_cavi_DC",null,null,null,null,null,null,null,null,null,"x",null,"forfait","forfait","forfait","forfait","forfait","forfait","forfait","forfait","forfait","forfait",null,"forfait","","","","","","","","",""]
[null,{"$f":"IF(E28=\"\",0,1)","v":0},0,null,{"$f":"IF(M27<>\"\",M27,\"\")","v":""},""]
[null,{"$f":"IF(L29=\"x\",1,IF(ISNUMBER(L29),L29,0))","v":1},1,{"$f":"I29","v":"431.000"},{"$f":"J29 & IF(M29<>\"\",CHAR(10) & M29,\"\")","v":"Portacavi\nCaratteristiche: \nCon copertura\nZincato a caldo"},"ml",null,null,"431.000","Portacavi","ml","x","Caratteristiche: \nCon copertura\nZincato a caldo",null,null,null,null,null,null,"E400_Protezione_cavi_DC",null,null,"x",null,null,null,null,null,null,"x",null,"ml","ml","ml","forfait","forfait","forfait","forfait","forfait","forfait","forfait",null,"ml","forfait","","","","","","","",""]
[null,0,0,{"$f":"I30","v":"432.000"},"Canaline","",null,null,"432.000","Canaline","ml",null,null,null,null,null,null,null,null,"E400_Protezione_cavi_DC",null,null,"x",null,null,null,null,null,null,"x",null,"ml","ml","ml","forfait","forfait","forfait","forfait","forfait","forfait","forfait",null,"ml","forfait","","","","","","","",""]
[null,0,0,"433.000","Tubi","",null,null,"433.000","Tubi","ml",null,null,null,null,null,null,null,null,"E400_Protezione_cavi_DC","x",null,null,null,null,null,null,null,null,"x",null,"pz.","forfait","forfait","forfait","forfait","forfait","forfait","forfait","forfait","forfait",null,"pz.","forfait","","","","","","","",""]
[null,0,0,{"$f":"I32","v":"434.000"},"Tubi flessibili","",null,null,"434.000","Tubi flessibili","ml",null,null,null,null,null,null,null,null,"E400_Protezione_cavi_DC",null,null,"x",null,null,null,null,null,null,"x ",null,"ml","ml","ml","","","","","","","",null,"ml","","","","","","","","",""]
[null,0,0,"435.000","Lastre di pietra (lastre da giardino)","",null,null,"435.000","Lastre di pietra (lastre da giardino)","pz.",null,null,null,null,null,null,null,null,"E400_Protezione_cavi_DC","x",null,null,"x",null,null,null,null,null,"x",null,"pz.","m2","m2","m2","forfait","forfait","forfait","forfait","forfait","forfait",null,"pz.","m2","forfait","","","","","","",""]
[null,0,0,"436.000","Protezione degli spigoli","",null,null,"436.000","Protezione degli spigoli","ml",null,null,null,null,null,null,null,null,"E400_Protezione_cavi_DC",null,null,"x",null,null,null,null,null,null,"x",null,"ml","ml","ml","forfait","forfait","forfait","forfait","forfait","forfait","forfait",null,"ml","forfait","","","","","","","",""]
[null,{"$f":"B27","v":1},0,null,null,"",null,null,null,null,null,null,null,null,null,null,null,null,null,null,null,null,null,null,null,null,null,null,null,null,null,"","","","","","","","","","",null,"","","","","","","","","",""]
[null,{"$f":"IF(L36=\"x\",1,IF(SUM(B38:B39)>0,1,0))","v":1},0,{"$f":"G36","v":"440.000"},{"$f":"H36","v":"Materiale di consumo"},"","440.000","Materiale di consumo",null,null,null,null,null,null,null,null,null,null,null,"E400_Materiale_di_consumo_DC",null,null,null,null,null,null,null,null,null,"x",null,"forfait","forfait","forfait","forfait","forfait","forfait","forfait","forfait","forfait","forfait",null,"forfait","","","","","","","","",""]
[null,{"$f":"IF(E37=\"\",0,1)","v":0},0,null,{"$f":"IF(M36<>\"\",M36,\"\")","v":""},""]
[null,{"$f":"IF(L38=\"x\",1,IF(ISNUMBER(L38),L38,0))","v":1},1,{"$f":"I38","v":"441.000"},{"$f":"J38 & IF(M38<>\"\",CHAR(10) & M38,\"\")","v":"Etichettatura dei cavi\nCaratteristiche: \nResistente ai raggi UV"},"pz.",null,null,"441.000","Etichettatura dei cavi","pz.","x","Caratteristiche: \nResistente ai raggi UV",null,null,null,null,null,null,"E400_Materiale_di_consumo_DC","x",null,null,null,null,null,null,null,null,"x",null,"pz.","forfait","forfait","forfait","forfait","forfait","forfait","forfait","forfait","forfait",null,"pz.","forfait","","","","","","","",""]
[null,{"$f":"IF(L39=\"x\",1,IF(ISNUMBER(L39),L39,0))","v":1},1,{"$f":"I39","v":"442.000"},"Materiale di fissaggio dei cavi\nCaratteristiche: \nResistente ai raggi UV","pz.",null,null,"442.000","Materiale di fissaggio dei cavi","pz.","x","Caratteristiche: \nResistente ai raggi UV",null,null,null,null,null,null,"E400_Materiale_di_consumo_DC","x",null,null,null,null,null,null,null,null,"x",null,"pz.","forfait","forfait","forfait","forfait","forfait","forfait","forfait","forfait","forfait",null,"pz.","forfait","","","","","","","",""]
[null,{"$f":"B36","v":1},0,null,null,"",null,null,null,null,null,null,null,null,null,null,null,null,null,null,null,null,null,null,null,null,null,null,null,null,null,"","","","","","","","","","",null,"","","","","","","","","",""]
[null,{"$f":"IF(L41=\"x\",1,IF(SUM(B43:B46)>0,1,0))","v":1},0,{"$f":"G41","v":"450.000"},{"$f":"H41","v":"Collegamento equipotenziale"},"","450.000","Collegamento equipotenziale",null,null,null,null,null,null,null,null,null,null,null,"E400_Collegamento_equipotenziale_DC",null,null,null,null,null,null,null,null,null,"x",null,"forfait","forfait","forfait","forfait","forfait","forfait","forfait","forfait","forfait","forfait",null,"forfait","","","","","","","","",""]
[null,{"$f":"IF(E42=\"\",0,1)","v":0},0,null,{"$f":"IF(M41<>\"\",M41,\"\")","v":""},""]
[null,{"$f":"IF(L43=\"x\",1,IF(ISNUMBER(L43),L43,0))","v":1},1,{"$f":"I43","v":"451.000"},{"$f":"J43 & IF(M43<>\"\",CHAR(10) & M43,\"\")","v":"Conduttore\nCaratteristiche: \n16 mm2"},"ml",null,null,"451.000","Conduttore","ml","x","Caratteristiche: \n16 mm2",null,null,null,null,null,null,"E400_Collegamento_equipotenziale_DC",null,null,"x",null,null,null,null,null,null,"x",null,"ml","ml","ml","forfait","forfait","forfait","forfait","forfait","forfait","forfait",null,"ml","forfait","","","","","","","",""]
[null,{"$f":"IF(L44=\"x\",1,IF(ISNUMBER(L44),L44,0))","v":1},1,{"$f":"I44","v":"452.000"},"Morsetti\nCaratteristiche: \nInossidabile","pz.",null,null,"452.000","Morsetti","pz.","x","Caratteristiche: \nInossidabile",null,null,null,null,null,null,"E400_Collegamento_equipotenziale_DC","x",null,null,null,null,null,null,null,null,"x",null,"pz.","forfait","forfait","forfait","forfait","forfait","forfait","forfait","forfait","forfait",null,"pz.","forfait","","","","","","","",""]
[null,{"$f":"IF(L45=\"x\",1,IF(ISNUMBER(L45),L45,0))","v":0},0,"453.000","Capicorda","",null,null,"453.000","Capicorda","pz.",null,null,null,null,null,null,null,null,"E400_Collegamento_equipotenziale_DC","x",null,null,null,null,null,null,null,null,"x",null,"pz.","forfait","forfait","forfait","forfait","forfait","forfait","forfait","forfait","forfait",null,"pz.","forfait","","","","","","","",""]
[null,{"$f":"IF(L46=\"x\",1,IF(ISNUMBER(L46),L46,0))","v":1},1,{"$f":"I46","v":"454.000"},"Barra equipotenziale","pz.",null,null,"454.000","Barra equipotenziale","pz.","x",null,null,null,null,null,null,null,"E400_Collegamento_equipotenziale_DC","x",null,null,null,null,null,null,null,null,null,null,"pz.","","","","","","","","","",null,"pz.","","","","","","","","",""]
[null,{"$f":"B41","v":1},0,null,null,"",null,null,null,null,null,null,null,null,null,null,null,null,null,null,null,null,null,null,null,null,null,null,null,null,null,"","","","","","","","","","",null,"","","","","","","","","",""]
[null,{"$f":"IF(L48=\"x\",1,IF(SUM(B50:B52)>0,1,0))","v":1},0,{"$f":"G48","v":"460.000"},{"$f":"H48","v":"Connessione alla protezione scariche atmosferiche esistente"},"","460.000","Connessione alla protezione scariche atmosferiche esistente",null,null,null,null,null,null,null,null,null,null,null,"E400_Collegamento_antifulmine_esistente",null,null,null,null,null,null,null,null,null,"x",null,"forfait","forfait","forfait","forfait","forfait","forfait","forfait","forfait","forfait","forfait",null,"forfait","","","","","","","","",""]
[null,{"$f":"IF(E49=\"\",0,1)","v":0},0,null,{"$f":"IF(M48<>\"\",M48,\"\")","v":""},""]
[null,{"$f":"IF(L50=\"x\",1,IF(ISNUMBER(L50),L50,0))","v":1},1,{"$f":"I50","v":"461.000"},{"$f":"J50","v":"Filo"},"ml",null,null,"461.000","Filo","ml","x",null,null,null,null,null,null,null,null,null,null,"x",null,null,null,null,null,null,"x",null,"ml","ml","ml","forfait","forfait","forfait","forfait","forfait","forfait","forfait",null,"ml","forfait","","","","","","","",""]
[null,{"$f":"IF(L51=\"x\",1,IF(ISNUMBER(L51),L51,0))","v":1},1,{"$f":"I51","v":"462.000"},"Morsetti","pz.",null,null,"462.000","Morsetti","pz.","x",null,null,null,null,null,null,null,null,"x",null,null,null,null,null,null,null,null,"x",null,"pz.","forfait","forfait","forfait","forfait","forfait","forfait","forfait","forfait","forfait",null,"pz.","forfait","","","","","","","",""]
[null,{"$f":"IF(L52=\"x\",1,IF(ISNUMBER(L52),L52,0))","v":0},0,"463.000","Supporti per conduttori","",null,null,"463.000","Supporti per conduttori","pz.",null,null,null,null,null,null,null,null,null,"x",null,null,null,null,null,null,null,null,null,null,"pz.","","","","","","","","","",null,"pz.","","","","","","","","",""]

{"sheet":"E_Box400","index":11,"n_rows":57,"n_cols":9,"rows_kept":57,"cut":false,"hidden":true,"merged":[]}
["Campo di applicazione"]
["Livello di struttura 1",null,400,400,400,400,400,400,400]
["Livello di struttura 2",null,"400",410,420,430,440,450,460]
["Livello di struttura 3",null,"400","411-419","421-429","431-435","441-442","451-453","461-463"]
[]
[null,null,"E400_Installazione_DC","E400_Linee_solari","E400_Connettori_solari","E400_Protezione_cavi_DC","E400_Materiale_di_consumo_DC","E400_Collegamento_equipotenziale_DC","E400_Collegamento_antifulmine_esistente"]
["Nr."]
[1,null,"Testato 1500V","Testato 1500V","Connettore originale del fabbricante (secondo NIBT)","Montaggio su pietra","Resistente ai raggi UV","Caratteristiche del materiale (alluminio, rame, acciaio al cromo)","Caratteristiche del materiale (alluminio, rame, acciaio al cromo)"]
[2,null,"Secondo la norma …","Secondo la norma …","Testato 1500V","Montaggio a muro","Durevole","Inossidabile","Larghezza delle maglie"]
[3,null,"Sezione","Sezione","Secondo la norma …","Montaggio sul soffitto","Privo di alogeni","V2A"]
[4,null,"Resistente ai raggi UV","Resistente ai raggi UV",null,"Senza copertura",null,"V4A"]
[5,null,"Connettore originale del fabbricante (secondo NIBT)","Guaina",null,"Con copertura",null,"Privo di alogeni"]
[6,null,"Privo di alogeni",null,null,"Canalina a campata larga",null,"Giallo-verde"]
[7,null,"Durevole",null,null,"Blu zincato",null,"Cavetto"]
[8,null,"Canalina in acciaio inossidabile (min. V2A, alluminio)",null,null,"Zincato a bagno",null,"Cavo"]
[9,null,"Canalina in acciaio inossidabile V4A",null,null,"Acciaio inossidabile (min. V2A, alluminio)",null,"6mm2"]
[10,null,"Canalina zincata a bagno",null,null,"Acciaio inossidabile V4A",null,"10mm2"]
[11,null,"Canalina blu zincata",null,null,"Resistente ai raggi UV",null,"16mm2"]
[12,null,"Canaline perforate",null,null,"M20",null,"25mm2"]
[13,null,"Canalina chiusa",null,null,"M25",null,"35mm2"]
[14,null,"Classe di protezione antincendio",null,null,"M32",null,"50mm2"]
[15,null,null,null,null,"M40",null,"Filo circolare"]
[16,null,null,null,null,"M50",null,"Nastro"]
[17,null,null,null,null,"M63",null,"Diametro di 8mm"]
[18,null,null,null,null,"Canalina perforata",null,"Diametro di 10mm "]
[19,null,null,null,null,"Canalina chiusa",null,"Dimensioni lungh.x largh."]
[20,null,null,null,null,"Privo di alogeni",null,"Protetto contro l'auto allentamento"]
[21,null,null,null,null,"Larghezza canalina"]
[22,null,null,null,null,"Altezza canalina"]
[23,null,null,null,null,"Colore"]
[24,null,null,null,null,"Diametro tubo"]
[25,null,null,null,null,"Rame"]
[26,null,null,null,null,"Alluminio"]
[27,null,null,null,null,"Classe di protezione antincendio"]
[28,null,null,null,null,"Guaina"]
[29,null,null,null,null,"Tubo flessibile 2 elementi"]
[30]
[31]
[32]
[33]
[34]
[35]
[36]
[37]
[38]
[39]
[40]
[41]
[42]
[43]
[44]
[45]
[46]
[47]
[48]
[49]
[50]

{"sheet":"500 Installazione AC","index":12,"n_rows":53,"n_cols":52,"rows_kept":53,"cut":false,"hidden":false,"merged":[[0,19,0,51],[1,6,1,7],[3,6,3,7],[3,8,3,9],[2,6,2,7],[2,8,2,9]]}
[null,null,null,null,null,null,null,null,null,null,null,null,null,null,null,null,null,null,null,"NASCONDERE"]
[null,null,null,null,"Nascondere",null,"Livello di struttura 1:",null,500,"Installazione AC"]
[null,null,null,null,null,null,"Obbligatorio",null,"Opzionale"]
[null,"Show","Fill","SOQ-Nr.","Descrizione","Unità","Livello di struttura 2",null,"Livello di struttura 3",null,"Unità","Aggiungi posizione","E- Box",null,null,null,null,null,null,"E-Box","pz.","moduli","ml","m2","m3","h","mesi","anni","kWp","forfait",null,"Pos1","Pos2","Pos3","Pos4","Pos5","Pos6","Pos7","Pos8","Pos9","Pos10",null,"Pos1","Pos2","Pos3","Pos4","Pos5","Pos6","Pos7","Pos8","Pos9","Pos10"]
[]
[null,{"$f":"IF(L6=\"x\",1,IF(SUM(B8:B10)>0,1,0))","v":1},{"$f":"IF(L6=\"x\",1,IF(ISNUMBER(L6),1,0))","v":1},{"$f":"G6","v":"510.000"},{"$f":"H6","v":"Installazione AC"},{"$f":"IF(C6=1,K6,\"\")","v":"forfait"},"510.000","Installazione AC",null,null,"forfait","x","Caratteristiche: \nSezione\n6mm2\nCavo Pur",null,null,null,null,null,null,"E500_Linee_AC",null,null,null,null,null,null,null,null,null,"x",null,{"$f":"\nIF(U6=\"x\",U$4,\nIF(V6=\"x\",V$4,\nIF(W6=\"x\",W$4,\nIF(X6=\"x\",X$4,\nIF(Y6=\"x\",Y$4,\nIF(Z6=\"x\",Z$4,\nIF(AA6=\"x\",AA$4,\nIF(AB6=\"x\",AB$4,\nIF(AC6=\"x\",AC$4,\nIF(AD6=\"x\",AD$4,\n\"\"))))))))))","v":"forfait"},{"$f":"\nIF(V6=\"x\",V$4,\nIF(W6=\"x\",W$4,\nIF(X6=\"x\",X$4,\nIF(Y6=\"x\",Y$4,\nIF(Z6=\"x\",Z$4,\nIF(AA6=\"x\",AA$4,\nIF(AB6=\"x\",AB$4,\nIF(AC6=\"x\",AC$4,\nIF(AD6=\"x\",AD$4,\n\"\")))))))))","v":"forfait"},{"$f":"\nIF(W6=\"x\",W$4,\nIF(X6=\"x\",X$4,\nIF(Y6=\"x\",Y$4,\nIF(Z6=\"x\",Z$4,\nIF(AA6=\"x\",AA$4,\nIF(AB6=\"x\",AB$4,\nIF(AC6=\"x\",AC$4,\nIF(AD6=\"x\",AD$4,\n\"\"))))))))","v":"forfait"},{"$f":"\nIF(X6=\"x\",X$4,\nIF(Y6=\"x\",Y$4,\nIF(Z6=\"x\",Z$4,\nIF(AA6=\"x\",AA$4,\nIF(AB6=\"x\",AB$4,\nIF(AC6=\"x\",AC$4,\nIF(AD6=\"x\",AD$4,\n\"\")))))))","v":"forfait"},{"$f":"\nIF(Y6=\"x\",Y$4,\nIF(Z6=\"x\",Z$4,\nIF(AA6=\"x\",AA$4,\nIF(AB6=\"x\",AB$4,\nIF(AC6=\"x\",AC$4,\nIF(AD6=\"x\",AD$4,\n\"\"))))))","v":"forfait"},{"$f":"\nIF(Z6=\"x\",Z$4,\nIF(AA6=\"x\",AA$4,\nIF(AB6=\"x\",AB$4,\nIF(AC6=\"x\",AC$4,\nIF(AD6=\"x\",AD$4,\n\"\")))))","v":"forfait"},{"$f":"\nIF(AA6=\"x\",AA$4,\nIF(AB6=\"x\",AB$4,\nIF(AC6=\"x\",AC$4,\nIF(AD6=\"x\",AD$4,\n\"\"))))","v":"forfait"},{"$f":"\nIF(AB6=\"x\",AB$4,\nIF(AC6=\"x\",AC$4,\nIF(AD6=\"x\",AD$4,\n\"\")))","v":"forfait"},{"$f":"\nIF(AC6=\"x\",AC$4,\nIF(AD6=\"x\",AD$4,\n\"\"))","v":"forfait"},{"$f":"\nIF(AD6=\"x\",AD$4,\n\"\")","v":"forfait"},null,{"$f":"AF6","v":"forfait"},{"$f":"IF(AQ6=\"\",\"\",\nIF(AQ6<>$AF6,$AF6,\nIF(AQ6<>$AG6,$AG6,\nIF(AQ6<>$AH6,$AH6,\nIF(AQ6<>$AI6,$AI6,\nIF(AQ6<>$AJ6,$AJ6,\nIF(AQ6<>$AK6,$AK6,\nIF(AQ6<>$AL6,$AL6,\nIF(AQ6<>$AM6,$AM6,\nIF(AQ6<>$AN6,$AN6,\nIF(AQ6<>$AO6,$AO6,\n\"\")))))))))))","v":""},{"$f":"IF(AR6=\"\",\"\",\nIF(AND(AR6<>$AF6,AQ6<>$AF6),$AF6,\nIF(AND(AR6<>$AG6,AQ6<>$AG6),$AG6,\nIF(AND(AR6<>$AH6,AQ6<>$AH6),$AH6,\nIF(AND(AR6<>$AI6,AQ6<>$AI6),$AI6,\nIF(AND(AR6<>$AJ6,AQ6<>$AJ6),$AJ6,\nIF(AND(AR6<>$AK6,AQ6<>$AK6),$AK6,\nIF(AND(AR6<>$AL6,AQ6<>$AL6),$AL6,\nIF(AND(AR6<>$AM6,AQ6<>$AM6),$AM6,\nIF(AND(AR6<>$AN6,AQ6<>$AN6),$AN6,\nIF(AND(AR6<>$AO6,AQ6<>$AO6),$AO6,\n\"\")))))))))))","v":""},{"$f":"IF(AS6=\"\",\"\",\nIF(AND(AQ6<>$AF6,AS6<>$AF6,AR6<>$AF6),$AF6,\nIF(AND(AQ6<>$AG6,AS6<>$AG6,AR6<>$AG6),$AG6,\nIF(AND(AQ6<>$AH6,AS6<>$AH6,AR6<>$AH6),$AH6,\nIF(AND(AQ6<>$AI6,AS6<>$AI6,AR6<>$AI6),$AI6,\nIF(AND(AQ6<>$AJ6,AS6<>$AJ6,AR6<>$AJ6),$AJ6,\nIF(AND(AQ6<>$AK6,AS6<>$AK6,AR6<>$AK6),$AK6,\nIF(AND(AQ6<>$AL6,AS6<>$AL6,AR6<>$AL6),$AL6,\nIF(AND(AQ6<>$AM6,AS6<>$AM6,AR6<>$AM6),$AM6,\nIF(AND(AQ6<>$AN6,AS6<>$AN6,AR6<>$AN6),$AN6,\nIF(AND(AQ6<>$AO6,AS6<>$AO6,AR6<>$AO6),$AO6,\n\"\")))))))))))","v":""},{"$f":"IF(AT6=\"\",\"\",\nIF(AND(AQ6<>$AF6,AR6<>$AF6,AT6<>$AF6,AS6<>$AF6),$AF6,\nIF(AND(AQ6<>$AG6,AR6<>$AG6,AT6<>$AG6,AS6<>$AG6),$AG6,\nIF(AND(AQ6<>$AH6,AR6<>$AH6,AT6<>$AH6,AS6<>$AH6),$AH6,\nIF(AND(AQ6<>$AI6,AR6<>$AI6,AT6<>$AI6,AS6<>$AI6),$AI6,\nIF(AND(AQ6<>$AJ6,AR6<>$AJ6,AT6<>$AJ6,AS6<>$AJ6),$AJ6,\nIF(AND(AQ6<>$AK6,AR6<>$AK6,AT6<>$AK6,AS6<>$AK6),$AK6,\nIF(AND(AQ6<>$AL6,AR6<>$AL6,AT6<>$AL6,AS6<>$AL6),$AL6,\nIF(AND(AQ6<>$AM6,AR6<>$AM6,AT6<>$AM6,AS6<>$AM6),$AM6,\nIF(AND(AQ6<>$AN6,AR6<>$AN6,AT6<>$AN6,AS6<>$AN6),$AN6,\nIF(AND(AQ6<>$AO6,AR6<>$AO6,AT6<>$AO6,AS6<>$AO6),$AO6,\n\"\")))))))))))","v":""},{"$f":"IF(AU6=\"\",\"\",\nIF(AND(AQ6<>$AF6,AR6<>$AF6,AS6<>$AF6,AU6<>$AF6,AT6<>$AF6),$AF6,\nIF(AND(AQ6<>$AG6,AR6<>$AG6,AS6<>$AG6,AU6<>$AG6,AT6<>$AG6),$AG6,\nIF(AND(AQ6<>$AH6,AR6<>$AH6,AS6<>$AH6,AU6<>$AH6,AT6<>$AH6),$AH6,\nIF(AND(AQ6<>$AI6,AR6<>$AI6,AS6<>$AI6,AU6<>$AI6,AT6<>$AI6),$AI6,\nIF(AND(AQ6<>$AJ6,AR6<>$AJ6,AS6<>$AJ6,AU6<>$AJ6,AT6<>$AJ6),$AJ6,\nIF(AND(AQ6<>$AK6,AR6<>$AK6,AS6<>$AK6,AU6<>$AK6,AT6<>$AK6),$AK6,\nIF(AND(AQ6<>$AL6,AR6<>$AL6,AS6<>$AL6,AU6<>$AL6,AT6<>$AL6),$AL6,\nIF(AND(AQ6<>$AM6,AR6<>$AM6,AS6<>$AM6,AU6<>$AM6,AT6<>$AM6),$AM6,\nIF(AND(AQ6<>$AN6,AR6<>$AN6,AS6<>$AN6,AU6<>$AN6,AT6<>$AN6),$AN6,\nIF(AND(AQ6<>$AO6,AR6<>$AO6,AS6<>$AO6,AU6<>$AO6,AT6<>$AO6),$AO6,\n\"\")))))))))))","v":""},{"$f":"IF(AV6=\"\",\"\",\nIF(AND(AQ6<>$AF6,AR6<>$AF6,AS6<>$AF6,AT6<>$AF6,AV6<>$AF6,AU6<>$AF6),$AF6,\nIF(AND(AQ6<>$AG6,AR6<>$AG6,AS6<>$AG6,AT6<>$AG6,AV6<>$AG6,AU6<>$AG6),$AG6,\nIF(AND(AQ6<>$AH6,AR6<>$AH6,AS6<>$AH6,AT6<>$AH6,AV6<>$AH6,AU6<>$AH6),$AH6,\nIF(AND(AQ6<>$AI6,AR6<>$AI6,AS6<>$AI6,AT6<>$AI6,AV6<>$AI6,AU6<>$AI6),$AI6,\nIF(AND(AQ6<>$AJ6,AR6<>$AJ6,AS6<>$AJ6,AT6<>$AJ6,AV6<>$AJ6,AU6<>$AJ6),$AJ6,\nIF(AND(AQ6<>$AK6,AR6<>$AK6,AS6<>$AK6,AT6<>$AK6,AV6<>$AK6,AU6<>$AK6),$AK6,\nIF(AND(AQ6<>$AL6,AR6<>$AL6,AS6<>$AL6,AT6<>$AL6,AV6<>$AL6,AU6<>$AL6),$AL6,\nIF(AND(AQ6<>$AM6,AR6<>$AM6,AS6<>$AM6,AT6<>$AM6,AV6<>$AM6,AU6<>$AM6),$AM6,\nIF(AND(AQ6<>$AN6,AR6<>$AN6,AS6<>$AN6,AT6<>$AN6,AV6<>$AN6,AU6<>$AN6),$AN6,\nIF(AND(AQ6<>$AO6,AR6<>$AO6,AS6<>$AO6,AT6<>$AO6,AV6<>$AO6,AU6<>$AO6),$AO6,\n\"\")))))))))))","v":""},{"$f":"IF(AW6=\"\",\"\",\nIF(AND(AQ6<>$AF6,AR6<>$AF6,AS6<>$AF6,AT6<>$AF6,AU6<>$AF6,AW6<>$AF6,AV6<>$AF6),$AF6,\nIF(AND(AQ6<>$AG6,AR6<>$AG6,AS6<>$AG6,AT6<>$AG6,AU6<>$AG6,AW6<>$AG6,AV6<>$AG6),$AG6,\nIF(AND(AQ6<>$AH6,AR6<>$AH6,AS6<>$AH6,AT6<>$AH6,AU6<>$AH6,AW6<>$AH6,AV6<>$AH6),$AH6,\nIF(AND(AQ6<>$AI6,AR6<>$AI6,AS6<>$AI6,AT6<>$AI6,AU6<>$AI6,AW6<>$AI6,AV6<>$AI6),$AI6,\nIF(AND(AQ6<>$AJ6,AR6<>$AJ6,AS6<>$AJ6,AT6<>$AJ6,AU6<>$AJ6,AW6<>$AJ6,AV6<>$AJ6),$AJ6,\nIF(AND(AQ6<>$AK6,AR6<>$AK6,AS6<>$AK6,AT6<>$AK6,AU6<>$AK6,AW6<>$AK6,AV6<>$AK6),$AK6,\nIF(AND(AQ6<>$AL6,AR6<>$AL6,AS6<>$AL6,AT6<>$AL6,AU6<>$AL6,AW6<>$AL6,AV6<>$AL6),$AL6,\nIF(AND(AQ6<>$AM6,AR6<>$AM6,AS6<>$AM6,AT6<>$AM6,AU6<>$AM6,AW6<>$AM6,AV6<>$AM6),$AM6,\nIF(AND(AQ6<>$AN6,AR6<>$AN6,AS6<>$AN6,AT6<>$AN6,AU6<>$AN6,AW6<>$AN6,AV6<>$AN6),$AN6,\nIF(AND(AQ6<>$AO6,AR6<>$AO6,AS6<>$AO6,AT6<>$AO6,AU6<>$AO6,AW6<>$AO6,AV6<>$AO6),$AO6,\n\"\")))))))))))","v":""},{"$f":"IF(AX6=\"\",\"\",\nIF(AND(AQ6<>$AF6,AR6<>$AF6,AS6<>$AF6,AT6<>$AF6,AU6<>$AF6,AV6<>$AF6,AX6<>$AF6,AW6<>$AF6),$AF6,\nIF(AND(AQ6<>$AG6,AR6<>$AG6,AS6<>$AG6,AT6<>$AG6,AU6<>$AG6,AV6<>$AG6,AX6<>$AG6,AW6<>$AG6),$AG6,\nIF(AND(AQ6<>$AH6,AR6<>$AH6,AS6<>$AH6,AT6<>$AH6,AU6<>$AH6,AV6<>$AH6,AX6<>$AH6,AW6<>$AH6),$AH6,\nIF(AND(AQ6<>$AI6,AR6<>$AI6,AS6<>$AI6,AT6<>$AI6,AU6<>$AI6,AV6<>$AI6,AX6<>$AI6,AW6<>$AI6),$AI6,\nIF(AND(AQ6<>$AJ6,AR6<>$AJ6,AS6<>$AJ6,AT6<>$AJ6,AU6<>$AJ6,AV6<>$AJ6,AX6<>$AJ6,AW6<>$AJ6),$AJ6,\nIF(AND(AQ6<>$AK6,AR6<>$AK6,AS6<>$AK6,AT6<>$AK6,AU6<>$AK6,AV6<>$AK6,AX6<>$AK6,AW6<>$AK6),$AK6,\nIF(AND(AQ6<>$AL6,AR6<>$AL6,AS6<>$AL6,AT6<>$AL6,AU6<>$AL6,AV6<>$AL6,AX6<>$AL6,AW6<>$AL6),$AL6,\nIF(AND(AQ6<>$AM6,AR6<>$AM6,AS6<>$AM6,AT6<>$AM6,AU6<>$AM6,AV6<>$AM6,AX6<>$AM6,AW6<>$AM6),$AM6,\nIF(AND(AQ6<>$AN6,AR6<>$AN6,AS6<>$AN6,AT6<>$AN6,AU6<>$AN6,AV6<>$AN6,AX6<>$AN6,AW6<>$AN6),$AN6,\nIF(AND(AQ6<>$AO6,AR6<>$AO6,AS6<>$AO6,AT6<>$AO6,AU6<>$AO6,AV6<>$AO6,AX6<>$AO6,AW6<>$AO6),$AO6,\n\"\")))))))))))","v":""},{"$f":"IF(AY6=\"\",\"\",\nIF(AND(AQ6<>$AF6,AR6<>$AF6,AS6<>$AF6,AT6<>$AF6,AU6<>$AF6,AV6<>$AF6,AW6<>$AF6,AY6<>$AF6,AX6<>$AF6),$AF6,\nIF(AND(AQ6<>$AG6,AR6<>$AG6,AS6<>$AG6,AT6<>$AG6,AU6<>$AG6,AV6<>$AG6,AW6<>$AG6,AY6<>$AG6,AX6<>$AG6),$AG6,\nIF(AND(AQ6<>$AH6,AR6<>$AH6,AS6<>$AH6,AT6<>$AH6,AU6<>$AH6,AV6<>$AH6,AW6<>$AH6,AY6<>$AH6,AX6<>$AH6),$AH6,\nIF(AND(AQ6<>$AI6,AR6<>$AI6,AS6<>$AI6,AT6<>$AI6,AU6<>$AI6,AV6<>$AI6,AW6<>$AI6,AY6<>$AI6,AX6<>$AI6),$AI6,\nIF(AND(AQ6<>$AJ6,AR6<>$AJ6,AS6<>$AJ6,AT6<>$AJ6,AU6<>$AJ6,AV6<>$AJ6,AW6<>$AJ6,AY6<>$AJ6,AX6<>$AJ6),$AJ6,\nIF(AND(AQ6<>$AK6,AR6<>$AK6,AS6<>$AK6,AT6<>$AK6,AU6<>$AK6,AV6<>$AK6,AW6<>$AK6,AY6<>$AK6,AX6<>$AK6),$AK6,\nIF(AND(AQ6<>$AL6,AR6<>$AL6,AS6<>$AL6,AT6<>$AL6,AU6<>$AL6,AV6<>$AL6,AW6<>$AL6,AY6<>$AL6,AX6<>$AL6),$AL6,\nIF(AND(AQ6<>$AM6,AR6<>$AM6,AS6<>$AM6,AT6<>$AM6,AU6<>$AM6,AV6<>$AM6,AW6<>$AM6,AY6<>$AM6,AX6<>$AM6),$AM6,\nIF(AND(AQ6<>$AN6,AR6<>$AN6,AS6<>$AN6,AT6<>$AN6,AU6<>$AN6,AV6<>$AN6,AW6<>$AN6,AY6<>$AN6,AX6<>$AN6),$AN6,\nIF(AND(AQ6<>$AO6,AR6<>$AO6,AS6<>$AO6,AT6<>$AO6,AU6<>$AO6,AV6<>$AO6,AW6<>$AO6,AY6<>$AO6,AX6<>$AO6),$AO6,\n\"\")))))))))))","v":""}]
[null,{"$f":"IF(E7=\"\",0,1)","v":1},0,null,{"$f":"IF(M6<>\"\",M6,\"\")","v":"Caratteristiche: \nSezione\n6mm2\nCavo Pur"}]
[null,{"$f":"IF(L8=\"x\",1,IF(ISNUMBER(L8),L8,0))","v":0},0,{"$f":"I8","v":"511.000"},{"$f":"J8 & IF(M8<>\"\",CHAR(10) & M8,\"\")","v":"Cavo per esterno (installazioni all'esterno)"},{"$f":"IF(C8=1,K8,\"\")","v":""},null,null,"511.000","Cavo per esterno (installazioni all'esterno)","ml",null,null,null,null,null,null,null,null,"E500_Linee_AC",null,null,"x",null,null,null,null,null,null,"x",null,{"$f":"\nIF(U8=\"x\",U$4,\nIF(V8=\"x\",V$4,\nIF(W8=\"x\",W$4,\nIF(X8=\"x\",X$4,\nIF(Y8=\"x\",Y$4,\nIF(Z8=\"x\",Z$4,\nIF(AA8=\"x\",AA$4,\nIF(AB8=\"x\",AB$4,\nIF(AC8=\"x\",AC$4,\nIF(AD8=\"x\",AD$4,\n\"\"))))))))))","v":"ml"},{"$f":"\nIF(V8=\"x\",V$4,\nIF(W8=\"x\",W$4,\nIF(X8=\"x\",X$4,\nIF(Y8=\"x\",Y$4,\nIF(Z8=\"x\",Z$4,\nIF(AA8=\"x\",AA$4,\nIF(AB8=\"x\",AB$4,\nIF(AC8=\"x\",AC$4,\nIF(AD8=\"x\",AD$4,\n\"\")))))))))","v":"ml"},{"$f":"\nIF(W8=\"x\",W$4,\nIF(X8=\"x\",X$4,\nIF(Y8=\"x\",Y$4,\nIF(Z8=\"x\",Z$4,\nIF(AA8=\"x\",AA$4,\nIF(AB8=\"x\",AB$4,\nIF(AC8=\"x\",AC$4,\nIF(AD8=\"x\",AD$4,\n\"\"))))))))","v":"ml"},{"$f":"\nIF(X8=\"x\",X$4,\nIF(Y8=\"x\",Y$4,\nIF(Z8=\"x\",Z$4,\nIF(AA8=\"x\",AA$4,\nIF(AB8=\"x\",AB$4,\nIF(AC8=\"x\",AC$4,\nIF(AD8=\"x\",AD$4,\n\"\")))))))","v":"forfait"},{"$f":"\nIF(Y8=\"x\",Y$4,\nIF(Z8=\"x\",Z$4,\nIF(AA8=\"x\",AA$4,\nIF(AB8=\"x\",AB$4,\nIF(AC8=\"x\",AC$4,\nIF(AD8=\"x\",AD$4,\n\"\"))))))","v":"forfait"},{"$f":"\nIF(Z8=\"x\",Z$4,\nIF(AA8=\"x\",AA$4,\nIF(AB8=\"x\",AB$4,\nIF(AC8=\"x\",AC$4,\nIF(AD8=\"x\",AD$4,\n\"\")))))","v":"forfait"},{"$f":"\nIF(AA8=\"x\",AA$4,\nIF(AB8=\"x\",AB$4,\nIF(AC8=\"x\",AC$4,\nIF(AD8=\"x\",AD$4,\n\"\"))))","v":"forfait"},{"$f":"\nIF(AB8=\"x\",AB$4,\nIF(AC8=\"x\",AC$4,\nIF(AD8=\"x\",AD$4,\n\"\")))","v":"forfait"},{"$f":"\nIF(AC8=\"x\",AC$4,\nIF(AD8=\"x\",AD$4,\n\"\"))","v":"forfait"},{"$f":"\nIF(AD8=\"x\",AD$4,\n\"\")","v":"forfait"},null,{"$f":"AF8","v":"ml"},"forfait",{"$f":"IF(AR8=\"\",\"\",\nIF(AND(AR8<>$AF8,AQ8<>$AF8),$AF8,\nIF(AND(AR8<>$AG8,AQ8<>$AG8),$AG8,\nIF(AND(AR8<>$AH8,AQ8<>$AH8),$AH8,\nIF(AND(AR8<>$AI8,AQ8<>$AI8),$AI8,\nIF(AND(AR8<>$AJ8,AQ8<>$AJ8),$AJ8,\nIF(AND(AR8<>$AK8,AQ8<>$AK8),$AK8,\nIF(AND(AR8<>$AL8,AQ8<>$AL8),$AL8,\nIF(AND(AR8<>$AM8,AQ8<>$AM8),$AM8,\nIF(AND(AR8<>$AN8,AQ8<>$AN8),$AN8,\nIF(AND(AR8<>$AO8,AQ8<>$AO8),$AO8,\n\"\")))))))))))","v":""},{"$f":"IF(AS8=\"\",\"\",\nIF(AND(AQ8<>$AF8,AS8<>$AF8,AR8<>$AF8),$AF8,\nIF(AND(AQ8<>$AG8,AS8<>$AG8,AR8<>$AG8),$AG8,\nIF(AND(AQ8<>$AH8,AS8<>$AH8,AR8<>$AH8),$AH8,\nIF(AND(AQ8<>$AI8,AS8<>$AI8,AR8<>$AI8),$AI8,\nIF(AND(AQ8<>$AJ8,AS8<>$AJ8,AR8<>$AJ8),$AJ8,\nIF(AND(AQ8<>$AK8,AS8<>$AK8,AR8<>$AK8),$AK8,\nIF(AND(AQ8<>$AL8,AS8<>$AL8,AR8<>$AL8),$AL8,\nIF(AND(AQ8<>$AM8,AS8<>$AM8,AR8<>$AM8),$AM8,\nIF(AND(AQ8<>$AN8,AS8<>$AN8,AR8<>$AN8),$AN8,\nIF(AND(AQ8<>$AO8,AS8<>$AO8,AR8<>$AO8),$AO8,\n\"\")))))))))))","v":""},{"$f":"IF(AT8=\"\",\"\",\nIF(AND(AQ8<>$AF8,AR8<>$AF8,AT8<>$AF8,AS8<>$AF8),$AF8,\nIF(AND(AQ8<>$AG8,AR8<>$AG8,AT8<>$AG8,AS8<>$AG8),$AG8,\nIF(AND(AQ8<>$AH8,AR8<>$AH8,AT8<>$AH8,AS8<>$AH8),$AH8,\nIF(AND(AQ8<>$AI8,AR8<>$AI8,AT8<>$AI8,AS8<>$AI8),$AI8,\nIF(AND(AQ8<>$AJ8,AR8<>$AJ8,AT8<>$AJ8,AS8<>$AJ8),$AJ8,\nIF(AND(AQ8<>$AK8,AR8<>$AK8,AT8<>$AK8,AS8<>$AK8),$AK8,\nIF(AND(AQ8<>$AL8,AR8<>$AL8,AT8<>$AL8,AS8<>$AL8),$AL8,\nIF(AND(AQ8<>$AM8,AR8<>$AM8,AT8<>$AM8,AS8<>$AM8),$AM8,\nIF(AND(AQ8<>$AN8,AR8<>$AN8,AT8<>$AN8,AS8<>$AN8),$AN8,\nIF(AND(AQ8<>$AO8,AR8<>$AO8,AT8<>$AO8,AS8<>$AO8),$AO8,\n\"\")))))))))))","v":""},{"$f":"IF(AU8=\"\",\"\",\nIF(AND(AQ8<>$AF8,AR8<>$AF8,AS8<>$AF8,AU8<>$AF8,AT8<>$AF8),$AF8,\nIF(AND(AQ8<>$AG8,AR8<>$AG8,AS8<>$AG8,AU8<>$AG8,AT8<>$AG8),$AG8,\nIF(AND(AQ8<>$AH8,AR8<>$AH8,AS8<>$AH8,AU8<>$AH8,AT8<>$AH8),$AH8,\nIF(AND(AQ8<>$AI8,AR8<>$AI8,AS8<>$AI8,AU8<>$AI8,AT8<>$AI8),$AI8,\nIF(AND(AQ8<>$AJ8,AR8<>$AJ8,AS8<>$AJ8,AU8<>$AJ8,AT8<>$AJ8),$AJ8,\nIF(AND(AQ8<>$AK8,AR8<>$AK8,AS8<>$AK8,AU8<>$AK8,AT8<>$AK8),$AK8,\nIF(AND(AQ8<>$AL8,AR8<>$AL8,AS8<>$AL8,AU8<>$AL8,AT8<>$AL8),$AL8,\nIF(AND(AQ8<>$AM8,AR8<>$AM8,AS8<>$AM8,AU8<>$AM8,AT8<>$AM8),$AM8,\nIF(AND(AQ8<>$AN8,AR8<>$AN8,AS8<>$AN8,AU8<>$AN8,AT8<>$AN8),$AN8,\nIF(AND(AQ8<>$AO8,AR8<>$AO8,AS8<>$AO8,AU8<>$AO8,AT8<>$AO8),$AO8,\n\"\")))))))))))","v":""},{"$f":"IF(AV8=\"\",\"\",\nIF(AND(AQ8<>$AF8,AR8<>$AF8,AS8<>$AF8,AT8<>$AF8,AV8<>$AF8,AU8<>$AF8),$AF8,\nIF(AND(AQ8<>$AG8,AR8<>$AG8,AS8<>$AG8,AT8<>$AG8,AV8<>$AG8,AU8<>$AG8),$AG8,\nIF(AND(AQ8<>$AH8,AR8<>$AH8,AS8<>$AH8,AT8<>$AH8,AV8<>$AH8,AU8<>$AH8),$AH8,\nIF(AND(AQ8<>$AI8,AR8<>$AI8,AS8<>$AI8,AT8<>$AI8,AV8<>$AI8,AU8<>$AI8),$AI8,\nIF(AND(AQ8<>$AJ8,AR8<>$AJ8,AS8<>$AJ8,AT8<>$AJ8,AV8<>$AJ8,AU8<>$AJ8),$AJ8,\nIF(AND(AQ8<>$AK8,AR8<>$AK8,AS8<>$AK8,AT8<>$AK8,AV8<>$AK8,AU8<>$AK8),$AK8,\nIF(AND(AQ8<>$AL8,AR8<>$AL8,AS8<>$AL8,AT8<>$AL8,AV8<>$AL8,AU8<>$AL8),$AL8,\nIF(AND(AQ8<>$AM8,AR8<>$AM8,AS8<>$AM8,AT8<>$AM8,AV8<>$AM8,AU8<>$AM8),$AM8,\nIF(AND(AQ8<>$AN8,AR8<>$AN8,AS8<>$AN8,AT8<>$AN8,AV8<>$AN8,AU8<>$AN8),$AN8,\nIF(AND(AQ8<>$AO8,AR8<>$AO8,AS8<>$AO8,AT8<>$AO8,AV8<>$AO8,AU8<>$AO8),$AO8,\n\"\")))))))))))","v":""},{"$f":"IF(AW8=\"\",\"\",\nIF(AND(AQ8<>$AF8,AR8<>$AF8,AS8<>$AF8,AT8<>$AF8,AU8<>$AF8,AW8<>$AF8,AV8<>$AF8),$AF8,\nIF(AND(AQ8<>$AG8,AR8<>$AG8,AS8<>$AG8,AT8<>$AG8,AU8<>$AG8,AW8<>$AG8,AV8<>$AG8),$AG8,\nIF(AND(AQ8<>$AH8,AR8<>$AH8,AS8<>$AH8,AT8<>$AH8,AU8<>$AH8,AW8<>$AH8,AV8<>$AH8),$AH8,\nIF(AND(AQ8<>$AI8,AR8<>$AI8,AS8<>$AI8,AT8<>$AI8,AU8<>$AI8,AW8<>$AI8,AV8<>$AI8),$AI8,\nIF(AND(AQ8<>$AJ8,AR8<>$AJ8,AS8<>$AJ8,AT8<>$AJ8,AU8<>$AJ8,AW8<>$AJ8,AV8<>$AJ8),$AJ8,\nIF(AND(AQ8<>$AK8,AR8<>$AK8,AS8<>$AK8,AT8<>$AK8,AU8<>$AK8,AW8<>$AK8,AV8<>$AK8),$AK8,\nIF(AND(AQ8<>$AL8,AR8<>$AL8,AS8<>$AL8,AT8<>$AL8,AU8<>$AL8,AW8<>$AL8,AV8<>$AL8),$AL8,\nIF(AND(AQ8<>$AM8,AR8<>$AM8,AS8<>$AM8,AT8<>$AM8,AU8<>$AM8,AW8<>$AM8,AV8<>$AM8),$AM8,\nIF(AND(AQ8<>$AN8,AR8<>$AN8,AS8<>$AN8,AT8<>$AN8,AU8<>$AN8,AW8<>$AN8,AV8<>$AN8),$AN8,\nIF(AND(AQ8<>$AO8,AR8<>$AO8,AS8<>$AO8,AT8<>$AO8,AU8<>$AO8,AW8<>$AO8,AV8<>$AO8),$AO8,\n\"\")))))))))))","v":""},{"$f":"IF(AX8=\"\",\"\",\nIF(AND(AQ8<>$AF8,AR8<>$AF8,AS8<>$AF8,AT8<>$AF8,AU8<>$AF8,AV8<>$AF8,AX8<>$AF8,AW8<>$AF8),$AF8,\nIF(AND(AQ8<>$AG8,AR8<>$AG8,AS8<>$AG8,AT8<>$AG8,AU8<>$AG8,AV8<>$AG8,AX8<>$AG8,AW8<>$AG8),$AG8,\nIF(AND(AQ8<>$AH8,AR8<>$AH8,AS8<>$AH8,AT8<>$AH8,AU8<>$AH8,AV8<>$AH8,AX8<>$AH8,AW8<>$AH8),$AH8,\nIF(AND(AQ8<>$AI8,AR8<>$AI8,AS8<>$AI8,AT8<>$AI8,AU8<>$AI8,AV8<>$AI8,AX8<>$AI8,AW8<>$AI8),$AI8,\nIF(AND(AQ8<>$AJ8,AR8<>$AJ8,AS8<>$AJ8,AT8<>$AJ8,AU8<>$AJ8,AV8<>$AJ8,AX8<>$AJ8,AW8<>$AJ8),$AJ8,\nIF(AND(AQ8<>$AK8,AR8<>$AK8,AS8<>$AK8,AT8<>$AK8,AU8<>$AK8,AV8<>$AK8,AX8<>$AK8,AW8<>$AK8),$AK8,\nIF(AND(AQ8<>$AL8,AR8<>$AL8,AS8<>$AL8,AT8<>$AL8,AU8<>$AL8,AV8<>$AL8,AX8<>$AL8,AW8<>$AL8),$AL8,\nIF(AND(AQ8<>$AM8,AR8<>$AM8,AS8<>$AM8,AT8<>$AM8,AU8<>$AM8,AV8<>$AM8,AX8<>$AM8,AW8<>$AM8),$AM8,\nIF(AND(AQ8<>$AN8,AR8<>$AN8,AS8<>$AN8,AT8<>$AN8,AU8<>$AN8,AV8<>$AN8,AX8<>$AN8,AW8<>$AN8),$AN8,\nIF(AND(AQ8<>$AO8,AR8<>$AO8,AS8<>$AO8,AT8<>$AO8,AU8<>$AO8,AV8<>$AO8,AX8<>$AO8,AW8<>$AO8),$AO8,\n\"\")))))))))))","v":""},{"$f":"IF(AY8=\"\",\"\",\nIF(AND(AQ8<>$AF8,AR8<>$AF8,AS8<>$AF8,AT8<>$AF8,AU8<>$AF8,AV8<>$AF8,AW8<>$AF8,AY8<>$AF8,AX8<>$AF8),$AF8,\nIF(AND(AQ8<>$AG8,AR8<>$AG8,AS8<>$AG8,AT8<>$AG8,AU8<>$AG8,AV8<>$AG8,AW8<>$AG8,AY8<>$AG8,AX8<>$AG8),$AG8,\nIF(AND(AQ8<>$AH8,AR8<>$AH8,AS8<>$AH8,AT8<>$AH8,AU8<>$AH8,AV8<>$AH8,AW8<>$AH8,AY8<>$AH8,AX8<>$AH8),$AH8,\nIF(AND(AQ8<>$AI8,AR8<>$AI8,AS8<>$AI8,AT8<>$AI8,AU8<>$AI8,AV8<>$AI8,AW8<>$AI8,AY8<>$AI8,AX8<>$AI8),$AI8,\nIF(AND(AQ8<>$AJ8,AR8<>$AJ8,AS8<>$AJ8,AT8<>$AJ8,AU8<>$AJ8,AV8<>$AJ8,AW8<>$AJ8,AY8<>$AJ8,AX8<>$AJ8),$AJ8,\nIF(AND(AQ8<>$AK8,AR8<>$AK8,AS8<>$AK8,AT8<>$AK8,AU8<>$AK8,AV8<>$AK8,AW8<>$AK8,AY8<>$AK8,AX8<>$AK8),$AK8,\nIF(AND(AQ8<>$AL8,AR8<>$AL8,AS8<>$AL8,AT8<>$AL8,AU8<>$AL8,AV8<>$AL8,AW8<>$AL8,AY8<>$AL8,AX8<>$AL8),$AL8,\nIF(AND(AQ8<>$AM8,AR8<>$AM8,AS8<>$AM8,AT8<>$AM8,AU8<>$AM8,AV8<>$AM8,AW8<>$AM8,AY8<>$AM8,AX8<>$AM8),$AM8,\nIF(AND(AQ8<>$AN8,AR8<>$AN8,AS8<>$AN8,AT8<>$AN8,AU8<>$AN8,AV8<>$AN8,AW8<>$AN8,AY8<>$AN8,AX8<>$AN8),$AN8,\nIF(AND(AQ8<>$AO8,AR8<>$AO8,AS8<>$AO8,AT8<>$AO8,AU8<>$AO8,AV8<>$AO8,AW8<>$AO8,AY8<>$AO8,AX8<>$AO8),$AO8,\n\"\")))))))))))","v":""}]
[null,{"$f":"IF(L9=\"x\",1,IF(ISNUMBER(L9),L9,0))","v":0},0,{"$f":"I9","v":"512.000"},{"$f":"J9 & IF(M9<>\"\",CHAR(10) & M9,\"\")","v":"Cavo per interno (installazioni all'interno)"},"",null,null,"512.000","Cavo per interno (installazioni all'interno)","ml",null,null,null,null,null,null,null,null,"E500_Linee_AC",null,null,"x",null,null,null,null,null,null,"x",null,{"$f":"\nIF(U9=\"x\",U$4,\nIF(V9=\"x\",V$4,\nIF(W9=\"x\",W$4,\nIF(X9=\"x\",X$4,\nIF(Y9=\"x\",Y$4,\nIF(Z9=\"x\",Z$4,\nIF(AA9=\"x\",AA$4,\nIF(AB9=\"x\",AB$4,\nIF(AC9=\"x\",AC$4,\nIF(AD9=\"x\",AD$4,\n\"\"))))))))))","v":"ml"},{"$f":"\nIF(V9=\"x\",V$4,\nIF(W9=\"x\",W$4,\nIF(X9=\"x\",X$4,\nIF(Y9=\"x\",Y$4,\nIF(Z9=\"x\",Z$4,\nIF(AA9=\"x\",AA$4,\nIF(AB9=\"x\",AB$4,\nIF(AC9=\"x\",AC$4,\nIF(AD9=\"x\",AD$4,\n\"\")))))))))","v":"ml"},{"$f":"\nIF(W9=\"x\",W$4,\nIF(X9=\"x\",X$4,\nIF(Y9=\"x\",Y$4,\nIF(Z9=\"x\",Z$4,\nIF(AA9=\"x\",AA$4,\nIF(AB9=\"x\",AB$4,\nIF(AC9=\"x\",AC$4,\nIF(AD9=\"x\",AD$4,\n\"\"))))))))","v":"ml"},{"$f":"\nIF(X9=\"x\",X$4,\nIF(Y9=\"x\",Y$4,\nIF(Z9=\"x\",Z$4,\nIF(AA9=\"x\",AA$4,\nIF(AB9=\"x\",AB$4,\nIF(AC9=\"x\",AC$4,\nIF(AD9=\"x\",AD$4,\n\"\")))))))","v":"forfait"},{"$f":"\nIF(Y9=\"x\",Y$4,\nIF(Z9=\"x\",Z$4,\nIF(AA9=\"x\",AA$4,\nIF(AB9=\"x\",AB$4,\nIF(AC9=\"x\",AC$4,\nIF(AD9=\"x\",AD$4,\n\"\"))))))","v":"forfait"},{"$f":"\nIF(Z9=\"x\",Z$4,\nIF(AA9=\"x\",AA$4,\nIF(AB9=\"x\",AB$4,\nIF(AC9=\"x\",AC$4,\nIF(AD9=\"x\",AD$4,\n\"\")))))","v":"forfait"},{"$f":"\nIF(AA9=\"x\",AA$4,\nIF(AB9=\"x\",AB$4,\nIF(AC9=\"x\",AC$4,\nIF(AD9=\"x\",AD$4,\n\"\"))))","v":"forfait"},{"$f":"\nIF(AB9=\"x\",AB$4,\nIF(AC9=\"x\",AC$4,\nIF(AD9=\"x\",AD$4,\n\"\")))","v":"forfait"},{"$f":"\nIF(AC9=\"x\",AC$4,\nIF(AD9=\"x\",AD$4,\n\"\"))","v":"forfait"},{"$f":"\nIF(AD9=\"x\",AD$4,\n\"\")","v":"forfait"},null,{"$f":"AF9","v":"ml"},"forfait",{"$f":"IF(AR9=\"\",\"\",\nIF(AND(AR9<>$AF9,AQ9<>$AF9),$AF9,\nIF(AND(AR9<>$AG9,AQ9<>$AG9),$AG9,\nIF(AND(AR9<>$AH9,AQ9<>$AH9),$AH9,\nIF(AND(AR9<>$AI9,AQ9<>$AI9),$AI9,\nIF(AND(AR9<>$AJ9,AQ9<>$AJ9),$AJ9,\nIF(AND(AR9<>$AK9,AQ9<>$AK9),$AK9,\nIF(AND(AR9<>$AL9,AQ9<>$AL9),$AL9,\nIF(AND(AR9<>$AM9,AQ9<>$AM9),$AM9,\nIF(AND(AR9<>$AN9,AQ9<>$AN9),$AN9,\nIF(AND(AR9<>$AO9,AQ9<>$AO9),$AO9,\n\"\")))))))))))","v":""},{"$f":"IF(AS9=\"\",\"\",\nIF(AND(AQ9<>$AF9,AS9<>$AF9,AR9<>$AF9),$AF9,\nIF(AND(AQ9<>$AG9,AS9<>$AG9,AR9<>$AG9),$AG9,\nIF(AND(AQ9<>$AH9,AS9<>$AH9,AR9<>$AH9),$AH9,\nIF(AND(AQ9<>$AI9,AS9<>$AI9,AR9<>$AI9),$AI9,\nIF(AND(AQ9<>$AJ9,AS9<>$AJ9,AR9<>$AJ9),$AJ9,\nIF(AND(AQ9<>$AK9,AS9<>$AK9,AR9<>$AK9),$AK9,\nIF(AND(AQ9<>$AL9,AS9<>$AL9,AR9<>$AL9),$AL9,\nIF(AND(AQ9<>$AM9,AS9<>$AM9,AR9<>$AM9),$AM9,\nIF(AND(AQ9<>$AN9,AS9<>$AN9,AR9<>$AN9),$AN9,\nIF(AND(AQ9<>$AO9,AS9<>$AO9,AR9<>$AO9),$AO9,\n\"\")))))))))))","v":""},{"$f":"IF(AT9=\"\",\"\",\nIF(AND(AQ9<>$AF9,AR9<>$AF9,AT9<>$AF9,AS9<>$AF9),$AF9,\nIF(AND(AQ9<>$AG9,AR9<>$AG9,AT9<>$AG9,AS9<>$AG9),$AG9,\nIF(AND(AQ9<>$AH9,AR9<>$AH9,AT9<>$AH9,AS9<>$AH9),$AH9,\nIF(AND(AQ9<>$AI9,AR9<>$AI9,AT9<>$AI9,AS9<>$AI9),$AI9,\nIF(AND(AQ9<>$AJ9,AR9<>$AJ9,AT9<>$AJ9,AS9<>$AJ9),$AJ9,\nIF(AND(AQ9<>$AK9,AR9<>$AK9,AT9<>$AK9,AS9<>$AK9),$AK9,\nIF(AND(AQ9<>$AL9,AR9<>$AL9,AT9<>$AL9,AS9<>$AL9),$AL9,\nIF(AND(AQ9<>$AM9,AR9<>$AM9,AT9<>$AM9,AS9<>$AM9),$AM9,\nIF(AND(AQ9<>$AN9,AR9<>$AN9,AT9<>$AN9,AS9<>$AN9),$AN9,\nIF(AND(AQ9<>$AO9,AR9<>$AO9,AT9<>$AO9,AS9<>$AO9),$AO9,\n\"\")))))))))))","v":""},{"$f":"IF(AU9=\"\",\"\",\nIF(AND(AQ9<>$AF9,AR9<>$AF9,AS9<>$AF9,AU9<>$AF9,AT9<>$AF9),$AF9,\nIF(AND(AQ9<>$AG9,AR9<>$AG9,AS9<>$AG9,AU9<>$AG9,AT9<>$AG9),$AG9,\nIF(AND(AQ9<>$AH9,AR9<>$AH9,AS9<>$AH9,AU9<>$AH9,AT9<>$AH9),$AH9,\nIF(AND(AQ9<>$AI9,AR9<>$AI9,AS9<>$AI9,AU9<>$AI9,AT9<>$AI9),$AI9,\nIF(AND(AQ9<>$AJ9,AR9<>$AJ9,AS9<>$AJ9,AU9<>$AJ9,AT9<>$AJ9),$AJ9,\nIF(AND(AQ9<>$AK9,AR9<>$AK9,AS9<>$AK9,AU9<>$AK9,AT9<>$AK9),$AK9,\nIF(AND(AQ9<>$AL9,AR9<>$AL9,AS9<>$AL9,AU9<>$AL9,AT9<>$AL9),$AL9,\nIF(AND(AQ9<>$AM9,AR9<>$AM9,AS9<>$AM9,AU9<>$AM9,AT9<>$AM9),$AM9,\nIF(AND(AQ9<>$AN9,AR9<>$AN9,AS9<>$AN9,AU9<>$AN9,AT9<>$AN9),$AN9,\nIF(AND(AQ9<>$AO9,AR9<>$AO9,AS9<>$AO9,AU9<>$AO9,AT9<>$AO9),$AO9,\n\"\")))))))))))","v":""},{"$f":"IF(AV9=\"\",\"\",\nIF(AND(AQ9<>$AF9,AR9<>$AF9,AS9<>$AF9,AT9<>$AF9,AV9<>$AF9,AU9<>$AF9),$AF9,\nIF(AND(AQ9<>$AG9,AR9<>$AG9,AS9<>$AG9,AT9<>$AG9,AV9<>$AG9,AU9<>$AG9),$AG9,\nIF(AND(AQ9<>$AH9,AR9<>$AH9,AS9<>$AH9,AT9<>$AH9,AV9<>$AH9,AU9<>$AH9),$AH9,\nIF(AND(AQ9<>$AI9,AR9<>$AI9,AS9<>$AI9,AT9<>$AI9,AV9<>$AI9,AU9<>$AI9),$AI9,\nIF(AND(AQ9<>$AJ9,AR9<>$AJ9,AS9<>$AJ9,AT9<>$AJ9,AV9<>$AJ9,AU9<>$AJ9),$AJ9,\nIF(AND(AQ9<>$AK9,AR9<>$AK9,AS9<>$AK9,AT9<>$AK9,AV9<>$AK9,AU9<>$AK9),$AK9,\nIF(AND(AQ9<>$AL9,AR9<>$AL9,AS9<>$AL9,AT9<>$AL9,AV9<>$AL9,AU9<>$AL9),$AL9,\nIF(AND(AQ9<>$AM9,AR9<>$AM9,AS9<>$AM9,AT9<>$AM9,AV9<>$AM9,AU9<>$AM9),$AM9,\nIF(AND(AQ9<>$AN9,AR9<>$AN9,AS9<>$AN9,AT9<>$AN9,AV9<>$AN9,AU9<>$AN9),$AN9,\nIF(AND(AQ9<>$AO9,AR9<>$AO9,AS9<>$AO9,AT9<>$AO9,AV9<>$AO9,AU9<>$AO9),$AO9,\n\"\")))))))))))","v":""},{"$f":"IF(AW9=\"\",\"\",\nIF(AND(AQ9<>$AF9,AR9<>$AF9,AS9<>$AF9,AT9<>$AF9,AU9<>$AF9,AW9<>$AF9,AV9<>$AF9),$AF9,\nIF(AND(AQ9<>$AG9,AR9<>$AG9,AS9<>$AG9,AT9<>$AG9,AU9<>$AG9,AW9<>$AG9,AV9<>$AG9),$AG9,\nIF(AND(AQ9<>$AH9,AR9<>$AH9,AS9<>$AH9,AT9<>$AH9,AU9<>$AH9,AW9<>$AH9,AV9<>$AH9),$AH9,\nIF(AND(AQ9<>$AI9,AR9<>$AI9,AS9<>$AI9,AT9<>$AI9,AU9<>$AI9,AW9<>$AI9,AV9<>$AI9),$AI9,\nIF(AND(AQ9<>$AJ9,AR9<>$AJ9,AS9<>$AJ9,AT9<>$AJ9,AU9<>$AJ9,AW9<>$AJ9,AV9<>$AJ9),$AJ9,\nIF(AND(AQ9<>$AK9,AR9<>$AK9,AS9<>$AK9,AT9<>$AK9,AU9<>$AK9,AW9<>$AK9,AV9<>$AK9),$AK9,\nIF(AND(AQ9<>$AL9,AR9<>$AL9,AS9<>$AL9,AT9<>$AL9,AU9<>$AL9,AW9<>$AL9,AV9<>$AL9),$AL9,\nIF(AND(AQ9<>$AM9,AR9<>$AM9,AS9<>$AM9,AT9<>$AM9,AU9<>$AM9,AW9<>$AM9,AV9<>$AM9),$AM9,\nIF(AND(AQ9<>$AN9,AR9<>$AN9,AS9<>$AN9,AT9<>$AN9,AU9<>$AN9,AW9<>$AN9,AV9<>$AN9),$AN9,\nIF(AND(AQ9<>$AO9,AR9<>$AO9,AS9<>$AO9,AT9<>$AO9,AU9<>$AO9,AW9<>$AO9,AV9<>$AO9),$AO9,\n\"\")))))))))))","v":""},{"$f":"IF(AX9=\"\",\"\",\nIF(AND(AQ9<>$AF9,AR9<>$AF9,AS9<>$AF9,AT9<>$AF9,AU9<>$AF9,AV9<>$AF9,AX9<>$AF9,AW9<>$AF9),$AF9,\nIF(AND(AQ9<>$AG9,AR9<>$AG9,AS9<>$AG9,AT9<>$AG9,AU9<>$AG9,AV9<>$AG9,AX9<>$AG9,AW9<>$AG9),$AG9,\nIF(AND(AQ9<>$AH9,AR9<>$AH9,AS9<>$AH9,AT9<>$AH9,AU9<>$AH9,AV9<>$AH9,AX9<>$AH9,AW9<>$AH9),$AH9,\nIF(AND(AQ9<>$AI9,AR9<>$AI9,AS9<>$AI9,AT9<>$AI9,AU9<>$AI9,AV9<>$AI9,AX9<>$AI9,AW9<>$AI9),$AI9,\nIF(AND(AQ9<>$AJ9,AR9<>$AJ9,AS9<>$AJ9,AT9<>$AJ9,AU9<>$AJ9,AV9<>$AJ9,AX9<>$AJ9,AW9<>$AJ9),$AJ9,\nIF(AND(AQ9<>$AK9,AR9<>$AK9,AS9<>$AK9,AT9<>$AK9,AU9<>$AK9,AV9<>$AK9,AX9<>$AK9,AW9<>$AK9),$AK9,\nIF(AND(AQ9<>$AL9,AR9<>$AL9,AS9<>$AL9,AT9<>$AL9,AU9<>$AL9,AV9<>$AL9,AX9<>$AL9,AW9<>$AL9),$AL9,\nIF(AND(AQ9<>$AM9,AR9<>$AM9,AS9<>$AM9,AT9<>$AM9,AU9<>$AM9,AV9<>$AM9,AX9<>$AM9,AW9<>$AM9),$AM9,\nIF(AND(AQ9<>$AN9,AR9<>$AN9,AS9<>$AN9,AT9<>$AN9,AU9<>$AN9,AV9<>$AN9,AX9<>$AN9,AW9<>$AN9),$AN9,\nIF(AND(AQ9<>$AO9,AR9<>$AO9,AS9<>$AO9,AT9<>$AO9,AU9<>$AO9,AV9<>$AO9,AX9<>$AO9,AW9<>$AO9),$AO9,\n\"\")))))))))))","v":""},{"$f":"IF(AY9=\"\",\"\",\nIF(AND(AQ9<>$AF9,AR9<>$AF9,AS9<>$AF9,AT9<>$AF9,AU9<>$AF9,AV9<>$AF9,AW9<>$AF9,AY9<>$AF9,AX9<>$AF9),$AF9,\nIF(AND(AQ9<>$AG9,AR9<>$AG9,AS9<>$AG9,AT9<>$AG9,AU9<>$AG9,AV9<>$AG9,AW9<>$AG9,AY9<>$AG9,AX9<>$AG9),$AG9,\nIF(AND(AQ9<>$AH9,AR9<>$AH9,AS9<>$AH9,AT9<>$AH9,AU9<>$AH9,AV9<>$AH9,AW9<>$AH9,AY9<>$AH9,AX9<>$AH9),$AH9,\nIF(AND(AQ9<>$AI9,AR9<>$AI9,AS9<>$AI9,AT9<>$AI9,AU9<>$AI9,AV9<>$AI9,AW9<>$AI9,AY9<>$AI9,AX9<>$AI9),$AI9,\nIF(AND(AQ9<>$AJ9,AR9<>$AJ9,AS9<>$AJ9,AT9<>$AJ9,AU9<>$AJ9,AV9<>$AJ9,AW9<>$AJ9,AY9<>$AJ9,AX9<>$AJ9),$AJ9,\nIF(AND(AQ9<>$AK9,AR9<>$AK9,AS9<>$AK9,AT9<>$AK9,AU9<>$AK9,AV9<>$AK9,AW9<>$AK9,AY9<>$AK9,AX9<>$AK9),$AK9,\nIF(AND(AQ9<>$AL9,AR9<>$AL9,AS9<>$AL9,AT9<>$AL9,AU9<>$AL9,AV9<>$AL9,AW9<>$AL9,AY9<>$AL9,AX9<>$AL9),$AL9,\nIF(AND(AQ9<>$AM9,AR9<>$AM9,AS9<>$AM9,AT9<>$AM9,AU9<>$AM9,AV9<>$AM9,AW9<>$AM9,AY9<>$AM9,AX9<>$AM9),$AM9,\nIF(AND(AQ9<>$AN9,AR9<>$AN9,AS9<>$AN9,AT9<>$AN9,AU9<>$AN9,AV9<>$AN9,AW9<>$AN9,AY9<>$AN9,AX9<>$AN9),$AN9,\nIF(AND(AQ9<>$AO9,AR9<>$AO9,AS9<>$AO9,AT9<>$AO9,AU9<>$AO9,AV9<>$AO9,AW9<>$AO9,AY9<>$AO9,AX9<>$AO9),$AO9,\n\"\")))))))))))","v":""}]
[null,{"$f":"IF(L10=\"x\",1,IF(ISNUMBER(L10),L10,0))","v":0},0,{"$f":"I10","v":"513.000"},"Cavo interrato","",null,null,"513.000","Cavo interrato","ml",null,null,null,null,null,null,null,null,"E500_Linee_AC",null,null,"x",null,null,null,null,null,null,"x",null,"ml","ml","ml","forfait","forfait","forfait","forfait","forfait","forfait","forfait",null,"ml","forfait","","","","","","","",""]
[null,{"$f":"B6","v":1},0,null,null,"",null,null,null,null,null,null,null,null,null,null,null,null,null,null,null,null,null,null,null,null,null,null,null,null,null,"","","","","","","","","","",null,"","",{"$f":"IF(AR11=\"\",\"\",\nIF(AND(AR11<>$AF11,AQ11<>$AF11),$AF11,\nIF(AND(AR11<>$AG11,AQ11<>$AG11),$AG11,\nIF(AND(AR11<>$AH11,AQ11<>$AH11),$AH11,\nIF(AND(AR11<>$AI11,AQ11<>$AI11),$AI11,\nIF(AND(AR11<>$AJ11,AQ11<>$AJ11),$AJ11,\nIF(AND(AR11<>$AK11,AQ11<>$AK11),$AK11,\nIF(AND(AR11<>$AL11,AQ11<>$AL11),$AL11,\nIF(AND(AR11<>$AM11,AQ11<>$AM11),$AM11,\nIF(AND(AR11<>$AN11,AQ11<>$AN11),$AN11,\nIF(AND(AR11<>$AO11,AQ11<>$AO11),$AO11,\n\"\")))))))))))","v":""},{"$f":"IF(AS11=\"\",\"\",\nIF(AND(AQ11<>$AF11,AS11<>$AF11,AR11<>$AF11),$AF11,\nIF(AND(AQ11<>$AG11,AS11<>$AG11,AR11<>$AG11),$AG11,\nIF(AND(AQ11<>$AH11,AS11<>$AH11,AR11<>$AH11),$AH11,\nIF(AND(AQ11<>$AI11,AS11<>$AI11,AR11<>$AI11),$AI11,\nIF(AND(AQ11<>$AJ11,AS11<>$AJ11,AR11<>$AJ11),$AJ11,\nIF(AND(AQ11<>$AK11,AS11<>$AK11,AR11<>$AK11),$AK11,\nIF(AND(AQ11<>$AL11,AS11<>$AL11,AR11<>$AL11),$AL11,\nIF(AND(AQ11<>$AM11,AS11<>$AM11,AR11<>$AM11),$AM11,\nIF(AND(AQ11<>$AN11,AS11<>$AN11,AR11<>$AN11),$AN11,\nIF(AND(AQ11<>$AO11,AS11<>$AO11,AR11<>$AO11),$AO11,\n\"\")))))))))))","v":""},{"$f":"IF(AT11=\"\",\"\",\nIF(AND(AQ11<>$AF11,AR11<>$AF11,AT11<>$AF11,AS11<>$AF11),$AF11,\nIF(AND(AQ11<>$AG11,AR11<>$AG11,AT11<>$AG11,AS11<>$AG11),$AG11,\nIF(AND(AQ11<>$AH11,AR11<>$AH11,AT11<>$AH11,AS11<>$AH11),$AH11,\nIF(AND(AQ11<>$AI11,AR11<>$AI11,AT11<>$AI11,AS11<>$AI11),$AI11,\nIF(AND(AQ11<>$AJ11,AR11<>$AJ11,AT11<>$AJ11,AS11<>$AJ11),$AJ11,\nIF(AND(AQ11<>$AK11,AR11<>$AK11,AT11<>$AK11,AS11<>$AK11),$AK11,\nIF(AND(AQ11<>$AL11,AR11<>$AL11,AT11<>$AL11,AS11<>$AL11),$AL11,\nIF(AND(AQ11<>$AM11,AR11<>$AM11,AT11<>$AM11,AS11<>$AM11),$AM11,\nIF(AND(AQ11<>$AN11,AR11<>$AN11,AT11<>$AN11,AS11<>$AN11),$AN11,\nIF(AND(AQ11<>$AO11,AR11<>$AO11,AT11<>$AO11,AS11<>$AO11),$AO11,\n\"\")))))))))))","v":""},{"$f":"IF(AU11=\"\",\"\",\nIF(AND(AQ11<>$AF11,AR11<>$AF11,AS11<>$AF11,AU11<>$AF11,AT11<>$AF11),$AF11,\nIF(AND(AQ11<>$AG11,AR11<>$AG11,AS11<>$AG11,AU11<>$AG11,AT11<>$AG11),$AG11,\nIF(AND(AQ11<>$AH11,AR11<>$AH11,AS11<>$AH11,AU11<>$AH11,AT11<>$AH11),$AH11,\nIF(AND(AQ11<>$AI11,AR11<>$AI11,AS11<>$AI11,AU11<>$AI11,AT11<>$AI11),$AI11,\nIF(AND(AQ11<>$AJ11,AR11<>$AJ11,AS11<>$AJ11,AU11<>$AJ11,AT11<>$AJ11),$AJ11,\nIF(AND(AQ11<>$AK11,AR11<>$AK11,AS11<>$AK11,AU11<>$AK11,AT11<>$AK11),$AK11,\nIF(AND(AQ11<>$AL11,AR11<>$AL11,AS11<>$AL11,AU11<>$AL11,AT11<>$AL11),$AL11,\nIF(AND(AQ11<>$AM11,AR11<>$AM11,AS11<>$AM11,AU11<>$AM11,AT11<>$AM11),$AM11,\nIF(AND(AQ11<>$AN11,AR11<>$AN11,AS11<>$AN11,AU11<>$AN11,AT11<>$AN11),$AN11,\nIF(AND(AQ11<>$AO11,AR11<>$AO11,AS11<>$AO11,AU11<>$AO11,AT11<>$AO11),$AO11,\n\"\")))))))))))","v":""},{"$f":"IF(AV11=\"\",\"\",\nIF(AND(AQ11<>$AF11,AR11<>$AF11,AS11<>$AF11,AT11<>$AF11,AV11<>$AF11,AU11<>$AF11),$AF11,\nIF(AND(AQ11<>$AG11,AR11<>$AG11,AS11<>$AG11,AT11<>$AG11,AV11<>$AG11,AU11<>$AG11),$AG11,\nIF(AND(AQ11<>$AH11,AR11<>$AH11,AS11<>$AH11,AT11<>$AH11,AV11<>$AH11,AU11<>$AH11),$AH11,\nIF(AND(AQ11<>$AI11,AR11<>$AI11,AS11<>$AI11,AT11<>$AI11,AV11<>$AI11,AU11<>$AI11),$AI11,\nIF(AND(AQ11<>$AJ11,AR11<>$AJ11,AS11<>$AJ11,AT11<>$AJ11,AV11<>$AJ11,AU11<>$AJ11),$AJ11,\nIF(AND(AQ11<>$AK11,AR11<>$AK11,AS11<>$AK11,AT11<>$AK11,AV11<>$AK11,AU11<>$AK11),$AK11,\nIF(AND(AQ11<>$AL11,AR11<>$AL11,AS11<>$AL11,AT11<>$AL11,AV11<>$AL11,AU11<>$AL11),$AL11,\nIF(AND(AQ11<>$AM11,AR11<>$AM11,AS11<>$AM11,AT11<>$AM11,AV11<>$AM11,AU11<>$AM11),$AM11,\nIF(AND(AQ11<>$AN11,AR11<>$AN11,AS11<>$AN11,AT11<>$AN11,AV11<>$AN11,AU11<>$AN11),$AN11,\nIF(AND(AQ11<>$AO11,AR11<>$AO11,AS11<>$AO11,AT11<>$AO11,AV11<>$AO11,AU11<>$AO11),$AO11,\n\"\")))))))))))","v":""},{"$f":"IF(AW11=\"\",\"\",\nIF(AND(AQ11<>$AF11,AR11<>$AF11,AS11<>$AF11,AT11<>$AF11,AU11<>$AF11,AW11<>$AF11,AV11<>$AF11),$AF11,\nIF(AND(AQ11<>$AG11,AR11<>$AG11,AS11<>$AG11,AT11<>$AG11,AU11<>$AG11,AW11<>$AG11,AV11<>$AG11),$AG11,\nIF(AND(AQ11<>$AH11,AR11<>$AH11,AS11<>$AH11,AT11<>$AH11,AU11<>$AH11,AW11<>$AH11,AV11<>$AH11),$AH11,\nIF(AND(AQ11<>$AI11,AR11<>$AI11,AS11<>$AI11,AT11<>$AI11,AU11<>$AI11,AW11<>$AI11,AV11<>$AI11),$AI11,\nIF(AND(AQ11<>$AJ11,AR11<>$AJ11,AS11<>$AJ11,AT11<>$AJ11,AU11<>$AJ11,AW11<>$AJ11,AV11<>$AJ11),$AJ11,\nIF(AND(AQ11<>$AK11,AR11<>$AK11,AS11<>$AK11,AT11<>$AK11,AU11<>$AK11,AW11<>$AK11,AV11<>$AK11),$AK11,\nIF(AND(AQ11<>$AL11,AR11<>$AL11,AS11<>$AL11,AT11<>$AL11,AU11<>$AL11,AW11<>$AL11,AV11<>$AL11),$AL11,\nIF(AND(AQ11<>$AM11,AR11<>$AM11,AS11<>$AM11,AT11<>$AM11,AU11<>$AM11,AW11<>$AM11,AV11<>$AM11),$AM11,\nIF(AND(AQ11<>$AN11,AR11<>$AN11,AS11<>$AN11,AT11<>$AN11,AU11<>$AN11,AW11<>$AN11,AV11<>$AN11),$AN11,\nIF(AND(AQ11<>$AO11,AR11<>$AO11,AS11<>$AO11,AT11<>$AO11,AU11<>$AO11,AW11<>$AO11,AV11<>$AO11),$AO11,\n\"\")))))))))))","v":""},{"$f":"IF(AX11=\"\",\"\",\nIF(AND(AQ11<>$AF11,AR11<>$AF11,AS11<>$AF11,AT11<>$AF11,AU11<>$AF11,AV11<>$AF11,AX11<>$AF11,AW11<>$AF11),$AF11,\nIF(AND(AQ11<>$AG11,AR11<>$AG11,AS11<>$AG11,AT11<>$AG11,AU11<>$AG11,AV11<>$AG11,AX11<>$AG11,AW11<>$AG11),$AG11,\nIF(AND(AQ11<>$AH11,AR11<>$AH11,AS11<>$AH11,AT11<>$AH11,AU11<>$AH11,AV11<>$AH11,AX11<>$AH11,AW11<>$AH11),$AH11,\nIF(AND(AQ11<>$AI11,AR11<>$AI11,AS11<>$AI11,AT11<>$AI11,AU11<>$AI11,AV11<>$AI11,AX11<>$AI11,AW11<>$AI11),$AI11,\nIF(AND(AQ11<>$AJ11,AR11<>$AJ11,AS11<>$AJ11,AT11<>$AJ11,AU11<>$AJ11,AV11<>$AJ11,AX11<>$AJ11,AW11<>$AJ11),$AJ11,\nIF(AND(AQ11<>$AK11,AR11<>$AK11,AS11<>$AK11,AT11<>$AK11,AU11<>$AK11,AV11<>$AK11,AX11<>$AK11,AW11<>$AK11),$AK11,\nIF(AND(AQ11<>$AL11,AR11<>$AL11,AS11<>$AL11,AT11<>$AL11,AU11<>$AL11,AV11<>$AL11,AX11<>$AL11,AW11<>$AL11),$AL11,\nIF(AND(AQ11<>$AM11,AR11<>$AM11,AS11<>$AM11,AT11<>$AM11,AU11<>$AM11,AV11<>$AM11,AX11<>$AM11,AW11<>$AM11),$AM11,\nIF(AND(AQ11<>$AN11,AR11<>$AN11,AS11<>$AN11,AT11<>$AN11,AU11<>$AN11,AV11<>$AN11,AX11<>$AN11,AW11<>$AN11),$AN11,\nIF(AND(AQ11<>$AO11,AR11<>$AO11,AS11<>$AO11,AT11<>$AO11,AU11<>$AO11,AV11<>$AO11,AX11<>$AO11,AW11<>$AO11),$AO11,\n\"\")))))))))))","v":""},{"$f":"IF(AY11=\"\",\"\",\nIF(AND(AQ11<>$AF11,AR11<>$AF11,AS11<>$AF11,AT11<>$AF11,AU11<>$AF11,AV11<>$AF11,AW11<>$AF11,AY11<>$AF11,AX11<>$AF11),$AF11,\nIF(AND(AQ11<>$AG11,AR11<>$AG11,AS11<>$AG11,AT11<>$AG11,AU11<>$AG11,AV11<>$AG11,AW11<>$AG11,AY11<>$AG11,AX11<>$AG11),$AG11,\nIF(AND(AQ11<>$AH11,AR11<>$AH11,AS11<>$AH11,AT11<>$AH11,AU11<>$AH11,AV11<>$AH11,AW11<>$AH11,AY11<>$AH11,AX11<>$AH11),$AH11,\nIF(AND(AQ11<>$AI11,AR11<>$AI11,AS11<>$AI11,AT11<>$AI11,AU11<>$AI11,AV11<>$AI11,AW11<>$AI11,AY11<>$AI11,AX11<>$AI11),$AI11,\nIF(AND(AQ11<>$AJ11,AR11<>$AJ11,AS11<>$AJ11,AT11<>$AJ11,AU11<>$AJ11,AV11<>$AJ11,AW11<>$AJ11,AY11<>$AJ11,AX11<>$AJ11),$AJ11,\nIF(AND(AQ11<>$AK11,AR11<>$AK11,AS11<>$AK11,AT11<>$AK11,AU11<>$AK11,AV11<>$AK11,AW11<>$AK11,AY11<>$AK11,AX11<>$AK11),$AK11,\nIF(AND(AQ11<>$AL11,AR11<>$AL11,AS11<>$AL11,AT11<>$AL11,AU11<>$AL11,AV11<>$AL11,AW11<>$AL11,AY11<>$AL11,AX11<>$AL11),$AL11,\nIF(AND(AQ11<>$AM11,AR11<>$AM11,AS11<>$AM11,AT11<>$AM11,AU11<>$AM11,AV11<>$AM11,AW11<>$AM11,AY11<>$AM11,AX11<>$AM11),$AM11,\nIF(AND(AQ11<>$AN11,AR11<>$AN11,AS11<>$AN11,AT11<>$AN11,AU11<>$AN11,AV11<>$AN11,AW11<>$AN11,AY11<>$AN11,AX11<>$AN11),$AN11,\nIF(AND(AQ11<>$AO11,AR11<>$AO11,AS11<>$AO11,AT11<>$AO11,AU11<>$AO11,AV11<>$AO11,AW11<>$AO11,AY11<>$AO11,AX11<>$AO11),$AO11,\n\"\")))))))))))","v":""}]
[null,{"$f":"IF(L12=\"x\",1,IF(SUM(B13:B19)>0,1,0))","v":1},0,{"$f":"G12","v":"520.000"},{"$f":"H12","v":"Dispositivi di commutazione, protezione e misurazione BT"},"","520.000","Dispositivi di commutazione, protezione e misurazione BT",null,null,"forfait",null,null,null,null,null,null,null,null,null,null,null,null,null,null,null,null,null,null,"x",null,"forfait","forfait","forfait","forfait","forfait","forfait","forfait","forfait","forfait","forfait",null,"forfait","","","","","","","","",""]
[null,{"$f":"IF(L13=\"x\",1,IF(ISNUMBER(L13),L13,0))","v":1},1,{"$f":"I13","v":"521.000"},{"$f":"J13 & IF(M13<>\"\",CHAR(10) & M13,\"\")","v":"Interruttore AC\nCaratteristiche: \nCapacità di carico di corrente"},"pz.",null,null,"521.000","Interruttore AC","pz.","x","Caratteristiche: \nCapacità di carico di corrente",null,null,null,null,null,null,"E500_Interruttore_AC","x",null,null,null,null,null,null,null,null,"x",null,"pz.","forfait","forfait","forfait","forfait","forfait","forfait","forfait","forfait","forfait",null,"pz.","forfait","","","","","","","",""]
[null,0,0,{"$f":"I14","v":"522.000"},"App. assiemate di manovra (distr. BT)","",null,null,"522.000","App. assiemate di manovra (distr. BT)","pz.",null,null,null,null,null,null,null,null,"E500_AAPM_BT","x",null,null,null,null,null,null,null,null,"x",null,"pz.","forfait","forfait","forfait","forfait","forfait","forfait","forfait","forfait","forfait",null,"pz.","forfait","","","","","","","",""]
[null,0,0,"523.000","Fusibile AC","",null,null,"523.000","Fusibile AC","pz.",null,null,null,null,null,null,null,null,"E500_Fusibile_AC","x",null,null,null,null,null,null,null,null,"x",null,"pz.","forfait","forfait","forfait","forfait","forfait","forfait","forfait","forfait","forfait",null,"pz.","forfait","","","","","","","",""]
[null,1,1,{"$f":"I16","v":"524.000"},"Protezione RI\nCaratteristiche: \nIntegrato nell'ondulatore","pz.",null,null,"524.000","Protezione RI","pz.","x","Caratteristiche: \nIntegrato nell'ondulatore",null,null,null,null,null,null,"E500_Protezione_RI_BT","x",null,null,null,null,null,null,null,null,"x",null,"pz.","forfait","forfait","forfait","forfait","forfait","forfait","forfait","forfait","forfait",null,"pz.","forfait","","","","","","","",""]
[null,1,1,"525.000","SPD ","pz.",null,null,"525.000","SPD ","pz.","x",null,null,null,null,null,null,null,"E500_SPD_AC","x",null,null,null,null,null,null,null,null,"x",null,"pz.","forfait","forfait","forfait","forfait","forfait","forfait","forfait","forfait","forfait",null,"pz.","forfait","","","","","","","",""]
[null,1,1,"526.000","Contatore","pz.",null,null,"526.000","Contatore","pz.","x",null,null,null,null,null,null,null,"E500_Contatore_AC","x",null,null,null,null,null,null,null,null,null,null,"pz.","","","","","","","","","",null,"pz.","","","","","","","","",""]
[null,1,1,"527.000","Trasformatore di corrente","pz.",null,null,"527.000","Trasformatore di corrente","pz.","x",null,null,null,null,null,null,null,"E500_Trasformatore_di_corrente","x",null,null,null,null,null,null,null,null,null,null,"pz.","","","","","","","","","",null,"pz.","","","","","","","","",""]
[null,{"$f":"B12","v":1},0,null,null,"",null,null,null,null,null,null,null,null,null,null,null,null,null,null,null,null,null,null,null,null,null,null,null,null,null,"","","","","","","","","","",null,"","","","","","","","","",""]
[null,{"$f":"IF(L21=\"x\",1,IF(SUM(B23:B27)>0,1,0))","v":1},1,{"$f":"G21","v":"530.000"},{"$f":"H21","v":"Protezione dei cavi/passaggio dei cavi"},"forfait","530.000","Protezione dei cavi/passaggio dei cavi",null,null,"forfait","x",null,null,null,null,null,null,null,"E500_Passaggio_cavi_AC",null,null,null,null,null,null,null,null,null,"x",null,"forfait","forfait","forfait","forfait","forfait","forfait","forfait","forfait","forfait","forfait",null,"forfait","","","","","","","","",""]
[null,{"$f":"IF(E22=\"\",0,1)","v":0},0,null,{"$f":"IF(M21<>\"\",M21,\"\")","v":""},""]
[null,{"$f":"IF(L23=\"x\",1,IF(ISNUMBER(L23),L23,0))","v":1},1,{"$f":"I23","v":"531.000"},{"$f":"J23 & IF(M23<>\"\",CHAR(10) & M23,\"\")","v":"Portacavi\nCaratteristiche: \nZincato a bagno"},"ml",null,null,"531.000","Portacavi","ml","x","Caratteristiche: \nZincato a bagno",null,null,null,null,null,null,"E500_Passaggio_cavi_AC","x",null,"x",null,null,null,null,null,null,"x",null,"pz.","ml","ml","forfait","forfait","forfait","forfait","forfait","forfait","forfait",null,"pz.","ml","forfait","","","","","","",""]
[null,{"$f":"IF(L24=\"x\",1,IF(ISNUMBER(L24),L24,0))","v":0},0,{"$f":"I24","v":"532.000"},"Canaline","",null,null,"532.000","Canaline","ml",null,null,null,null,null,null,null,null,"E500_Passaggio_cavi_AC","x",null,"x",null,null,null,null,null,null,"x",null,"pz.","ml","ml","forfait","forfait","forfait","forfait","forfait","forfait","forfait",null,"pz.","ml","forfait","","","","","","",""]
[null,{"$f":"IF(L25=\"x\",1,IF(ISNUMBER(L25),L25,0))","v":0},0,"533.000","Tubi","",null,null,"533.000","Tubi","ml",null,null,null,null,null,null,null,null,"E500_Passaggio_cavi_AC","x",null,"x",null,null,null,null,null,null,"x",null,"pz.","ml","ml","forfait","forfait","forfait","forfait","forfait","forfait","forfait",null,"pz.","ml","forfait","","","","","","",""]
[null,{"$f":"IF(L26=\"x\",1,IF(ISNUMBER(L26),L26,0))","v":0},0,{"$f":"I26","v":"534.000"},"Tubi flessibili","",null,null,"534.000","Tubi flessibili","ml",null,null,null,null,null,null,null,null,"E500_Passaggio_cavi_AC","x",null,"x",null,null,null,null,null,null,"x",null,"pz.","ml","ml","forfait","forfait","forfait","forfait","forfait","forfait","forfait",null,"pz.","ml","forfait","","","","","","",""]
[null,{"$f":"IF(L27=\"x\",1,IF(ISNUMBER(L27),L27,0))","v":0},0,"535.000","Lastre di pietra (lastre da giardino)","",null,null,"535.000","Lastre di pietra (lastre da giardino)","m2",null,null,null,null,null,null,null,null,"E500_Passaggio_cavi_AC","x",null,null,"x",null,null,null,null,null,"x",null,"pz.","m2","m2","m2","forfait","forfait","forfait","forfait","forfait","forfait",null,"pz.","m2","forfait","","","","","","",""]
[null,{"$f":"B21","v":1},0,null,null,"",null,null,null,null,null,null,null,null,null,null,null,null,null,null,null,null,null,null,null,null,null,null,null,null,null,"","","","","","","","","","",null,"","","","","","","","","",""]
[null,{"$f":"IF(L29=\"x\",1,IF(SUM(B31:B34)>0,1,0))","v":1},0,{"$f":"G29","v":"540.000"},{"$f":"H29","v":"Collegamento equipotenziale"},"","540.000","Collegamento equipotenziale",null,null,"forfait",null,null,null,null,null,null,null,null,"E500_Collegamento_equipotenziale_AC",null,null,null,null,null,null,null,null,null,"x",null,"forfait","forfait","forfait","forfait","forfait","forfait","forfait","forfait","forfait","forfait",null,"forfait","","","","","","","","",""]
[null,{"$f":"IF(E30=\"\",0,1)","v":0},0,null,{"$f":"IF(M29<>\"\",M29,\"\")","v":""},""]
[null,{"$f":"IF(L31=\"x\",1,IF(ISNUMBER(L31),L31,0))","v":1},1,{"$f":"I31","v":"541.000"},{"$f":"J31 & IF(M31<>\"\",CHAR(10) & M31,\"\")","v":"Conduttore\nCaratteristiche: \n16mm2"},"ml",null,null,"541.000","Conduttore","ml","x","Caratteristiche: \n16mm2",null,null,null,null,null,null,"E500_Collegamento_equipotenziale_AC",null,null,"x",null,null,null,null,null,null,"x",null,"ml","ml","ml","forfait","forfait","forfait","forfait","forfait","forfait","forfait",null,"ml","forfait","","","","","","","",""]
[null,{"$f":"IF(L32=\"x\",1,IF(ISNUMBER(L32),L32,0))","v":1},1,{"$f":"I32","v":"542.000"},"Morsetti\nCaratteristiche: \nInossidabile","pz.",null,null,"542.000","Morsetti","pz.","x","Caratteristiche: \nInossidabile",null,null,null,null,null,null,"E500_Collegamento_equipotenziale_AC","x",null,null,null,null,null,null,null,null,"x",null,"pz.","forfait","forfait","forfait","forfait","forfait","forfait","forfait","forfait","forfait",null,"pz.","forfait","","","","","","","",""]
[null,{"$f":"IF(L33=\"x\",1,IF(ISNUMBER(L33),L33,0))","v":0},0,"543.000","Capicorda","",null,null,"543.000","Capicorda","pz.",null,null,null,null,null,null,null,null,"E500_Collegamento_equipotenziale_AC","x",null,null,null,null,null,null,null,null,"x",null,"pz.","forfait","forfait","forfait","forfait","forfait","forfait","forfait","forfait","forfait",null,"pz.","forfait","","","","","","","",""]
[null,{"$f":"IF(L34=\"x\",1,IF(ISNUMBER(L34),L34,0))","v":0},0,{"$f":"I34","v":"544.000"},"Barra equipotenziale","",null,null,"544.000","Barra equipotenziale","pz.",null,null,null,null,null,null,null,null,"E500_Collegamento_equipotenziale_AC","x",null,null,null,null,null,null,null,null,"x",null,"pz.","forfait","forfait","forfait","forfait","forfait","forfait","forfait","forfait","forfait",null,"pz.","forfait","","","","","","","",""]
[null,{"$f":"B29","v":1},0,null,null,"",null,null,null,null,null,null,null,null,null,null,null,null,null,null,null,null,null,null,null,null,null,null,null,null,null,"","","","","","","","","","",null,"","","","","","","","","",""]
[null,{"$f":"IF(L36=\"x\",1,IF(SUM(B37:B43)>0,1,0))","v":0},0,{"$f":"G36","v":"550.000"},{"$f":"H36","v":"Installazioni MT"},"","550.000","Installazioni MT",null,null,"forfait",null,null,null,null,null,null,null,null,null,null,null,null,null,null,null,null,null,null,"x",null,"forfait","forfait","forfait","forfait","forfait","forfait","forfait","forfait","forfait","forfait",null,"forfait","","","","","","","","",""]
[null,{"$f":"IF(L37=\"x\",1,IF(ISNUMBER(L37),L37,0))","v":0},0,{"$f":"I37","v":"551.000"},{"$f":"J37 & IF(M37<>\"\",CHAR(10) & M37,\"\")","v":"Trasformatore MT"},"",null,null,"551.000","Trasformatore MT","pz.",null,null,null,null,null,null,null,null,"E500_Trasformatore_MT","x",null,null,null,null,null,null,null,null,null,null,"pz.","","","","","","","","","",null,"pz.","","","","","","","","",""]
[null,0,0,{"$f":"I38","v":"552.000"},"Stazione MT","",null,null,"552.000","Stazione MT","pz.",null,null,null,null,null,null,null,null,"E500_Stazione_MT","x",null,null,null,null,null,null,null,null,null,null,"pz.","","","","","","","","","",null,"pz.","","","","","","","","",""]
[null,0,0,"553.000","Linee MT","",null,null,"553.000","Linee MT","ml",null,null,null,null,null,null,null,null,"E500_Linee_MT",null,null,"x",null,null,null,null,null,null,"x",null,"ml","ml","ml","forfait","forfait","forfait","forfait","forfait","forfait","forfait",null,"ml","forfait","","","","","","","",""]
[null,0,0,{"$f":"I40","v":"554.000"},"Interruttore MT","",null,null,"554.000","Interruttore MT","pz.",null,null,null,null,null,null,null,null,"E500_Interruttore_MT","x",null,null,null,null,null,null,null,null,"x",null,"pz.","forfait","forfait","forfait","forfait","forfait","forfait","forfait","forfait","forfait",null,"pz.","forfait","","","","","","","",""]
[null,0,0,"555.000","Protezione RI","",null,null,"555.000","Protezione RI","pz.",null,null,null,null,null,null,null,null,"E500_Protezione_RI_MT","x",null,null,null,null,null,null,null,null,"x",null,"pz.","forfait","forfait","forfait","forfait","forfait","forfait","forfait","forfait","forfait",null,"pz.","forfait","","","","","","","",""]
[null,0,0,"556.000","SPD","",null,null,"556.000","SPD","pz.",null,null,null,null,null,null,null,null,"E500_SPD_MT","x",null,null,null,null,null,null,null,null,"x",null,"pz.","forfait","forfait","forfait","forfait","forfait","forfait","forfait","forfait","forfait",null,"pz.","forfait","","","","","","","",""]
[null,0,0,"557.000",{"$f":"J43","v":"Tecnica di comando/protezione"},"",null,null,"557.000","Tecnica di comando/protezione","pz.",null,null,null,null,null,null,null,null,null,"x",null,null,null,null,null,null,null,null,"x",null,"pz.","forfait","forfait","forfait","forfait","forfait","forfait","forfait","forfait","forfait",null,"pz.","forfait","","","","","","","",""]
[null,{"$f":"B36","v":0},0,null,null,"",null,null,null,null,null,null,null,null,null,null,null,null,null,null,null,null,null,null,null,null,null,null,null,null,null,"","","","","","","","","","",null,"","","","","","","","","",""]
[null,{"$f":"IF(L45=\"x\",1,IF(SUM(B46:B53)>0,1,0))","v":1},0,{"$f":"G45","v":"560.000"},{"$f":"H45","v":"Installazioni RCP"},"","560.000","Installazioni RCP",null,null,"forfait",null,null,null,null,null,null,null,null,null,null,null,null,null,null,null,null,null,null,"x",null,"forfait","forfait","forfait","forfait","forfait","forfait","forfait","forfait","forfait","forfait",null,"forfait","","","","","","","","",""]
[null,{"$f":"IF(L46=\"x\",1,IF(ISNUMBER(L46),L46,0))","v":1},1,{"$f":"I46","v":"561.000"},{"$f":"J46 & IF(M46<>\"\",CHAR(10) & M46,\"\")","v":"Contatore di elettricità\nCaratteristiche: \nContatore tarato (certificato MID)\nMisurazione diretta"},"pz.",null,null,"561.000","Contatore di elettricità","pz.","x","Caratteristiche: \nContatore tarato (certificato MID)\nMisurazione diretta",null,null,null,null,null,null,"E500_Contatore_RPC","x",null,null,null,null,null,null,null,null,null,null,"pz.","","","","","","","","","",null,"pz.","","","","","","","","",""]
[null,0,0,{"$f":"I47","v":"562.000"},{"$f":"J47","v":"Trasformatore per contatore di elettricità"},"",null,null,"562.000","Trasformatore per contatore di elettricità","pz.",null,null,null,null,null,null,null,null,null,"x",null,null,null,null,null,null,null,null,null,null,"pz.","","","","","","","","","",null,"pz.","","","","","","","","",""]
[null,0,0,"563.000","Contatore acqua fredda","",null,null,"563.000","Contatore acqua fredda","pz.",null,null,null,null,null,null,null,null,null,"x",null,null,null,null,null,null,null,null,null,null,"pz.","","","","","","","","","",null,"pz.","","","","","","","","",""]
[null,0,0,{"$f":"I49","v":"564.000"},{"$f":"J49","v":"Contatore acqua calda"},"",null,null,"564.000","Contatore acqua calda","pz.",null,null,null,null,null,null,null,null,null,"x",null,null,null,null,null,null,null,null,null,null,"pz.","","","","","","","","","",null,"pz.","","","","","","","","",""]
[null,0,0,"565.000","Contatore calore","",null,null,"565.000","Contatore calore","pz.",null,null,null,null,null,null,null,null,null,"x",null,null,null,null,null,null,null,null,null,null,"pz.","","","","","","","","","",null,"pz.","","","","","","","","",""]
[null,1,1,"566.000","Datalogger","pz.",null,null,"566.000","Datalogger","pz.","x",null,null,null,null,null,null,null,null,"x",null,null,null,null,null,null,null,null,null,null,"pz.","","","","","","","","","",null,"pz.","","","","","","","","",""]
[null,1,1,"567.000","Comunicazione/visualizzazione","pz.",null,null,"567.000","Comunicazione/visualizzazione","pz.","x",null,null,null,null,null,null,null,null,"x",null,null,null,null,null,null,null,null,null,null,"pz.","","","","","","","","","",null,"pz.","","","","","","","","",""]
[null,1,1,"568.000","Configurazione","pz.",null,null,"568.000","Configurazione","pz.","x",null,null,null,null,null,null,null,null,"x",null,null,null,null,null,null,null,null,null,null,"pz.","","","","","","","","","",null,"pz.","","","","","","","","",""]

{"sheet":"E_Box500","index":13,"n_rows":57,"n_cols":19,"rows_kept":57,"cut":false,"hidden":true,"merged":[]}
["Campo di applicazione"]
["Livello di struttura 1",null,500,500,500,500,500,500,500,500,500,500,500,500,500,500,500,500,500]
["Livello di struttura 2",null,510,520,520,520,520,520,520,520,530,540,550,550,550,550,550,550,560]
["Livello di struttura 3",null,"511-512",521,522,523,524,525,526,527,"531-535","541-543",551,552,553,554,555,556,561]
[]
[null,null,"E500_Linee_AC","E500_Interruttore_AC","E500_AAPM_BT","E500_Fusibile_AC","E500_Protezione_RI_BT","E500_SPD_AC","E500_Contatore_AC","E500_Trasformatore_di_corrente","E500_Passaggio_cavi_AC","E500_Collegamento_equipotenziale_AC","E500_Trasformatore_MT","E500_Stazione_MT","E500_Linee_MT","E500_Interruttore_MT","E500_Protezione_RI_MT","E500_SPD_MT","E500_Contatore_RPC"]
["Nr."]
[1,null,"Sezione","Resistenza alla corrente di corto circuito","Con interruttore principale","fusibile HPC","Potenza","Tensione","Contatore tarato (certificato MID)","Rapporto del trasformatore","Montaggio su pietra","Inossidabile","Tipo","Tipo","Privo di alogeni","Interruttore magnetotermico","Potenza","Tensione","Contatore tarato (certificato MID)"]
[2,null,"Numero di conduttori","Capacità di carico di corrente","Numero di disgiuntori con capacità nominale","Interruttore magnetotermico","Norma (p. es. secondo VDE-AR-N 4105)","Tipo 1 (protezione sommaria)","Contatore non tarato","Tarato","Montaggio a parete","V2A","Potenza in kVA","Potenza in kVA","Trefolo","Sezionatore","Norma (p. es. secondo VDE-AR-N 4105)","Tipo 1 (protezione grossolana)","Contatore SmartMeter non tarato"]
[3,null,"Cavo TT","Protezione IP","Tipo di protezione da sovratensione","Sezionatore","Esterno","Tipo 2 (protezione media)","Misurazione diretta","Non tarato","Montaggio a soffitto","V4A","Isolamento","Protezione IP","Cavo","Sezionatore neutro","Esterno","Tipo 2 (protezione media)","Misurazione diretta"]
[4,null,"Cavo Pur","Tipo di fissaggio","Numero di prese con protezione FI","Sezionatore neutro","Integrato nell'ondulatore","Tipo 3 (protezione fine)","Misura del trasformatore","Tipo di montaggio (trasformatore pieghevole, trasformatore fisso)","Senza copertura","Privo di alogeni","Lato AT in kV",null,"Colore","Disgiuntore","Integrato nell'ondulatore","Tipo 3 (protezione fine)","Misura tramite trasformatore"]
[5,null,"Resistente ai raggi UV","Luogo di installazione","Classe di protezione IP","Fusibile","Potenza nominale","Tipo di montaggio (p. es. su profili DIN)","Rapporto del trasformatore",null,"Con copertura","Giallo-verde","Lato BT in V",null,"Resistenza dell'isolamento","Selettività","Potenza nominale","Tipo di montaggio (p. es. su profili DIN)","Rapporto del trasformatore"]
[6,null,"Idrorepellente","Installazione nella distribuzione possibile","Spazio per il Datalogger","Fusibile di protezione del dispositivo","Potere di interruzione del carico","Con interruttore di sicurezza","Corrente di misura max.",null,"Canalina a campata larga","Cavetto","Accoppiamento",null,"Luogo di installazione (sottostruttura, installazione domestica, ecc.)","Tensione in V","Potere di rottura del carico",null,"Corrente di misura max."]
[7,null,"Tipo di posa","Corrente nominale in A","Con o senza protezione RI","Disgiuntore di protezione del motore","Contattore","Senza interruttore di sicurezza","Precisione",null,"Zincato blu","Cavo","Tensione di corto circuito Uk in %",null,"1LNPE","Potere di interruzione del carico in A","Contattore",null,"Precisione"]
[8,null,"Rame","Potere di rottura in A","Numero di contatori privati (specificare la corrente max., con o senza trasformatore, tarati)","Relè di protezione del motore","Disgiuntore di protezione del motore",null,"Portale",null,"Zincato a caldo","6mm2","Schermatura tra BT/AT",null,"3LNPE","Corrente di corto circuito in A","Disgiuntore di protezione del motore",null,"Flusso"]
[9,null,"Alluminio","Monitoraggio","Numero di contatori del GRD (specificare la corrente max., con o senza trasformatore)","Disgiuntore","Disgiuntore",null,"Interfaccia",null,"Inossidabile (min. V2A, alluminio)","10mm2","Perdite a vuoto",null,"3LPEN","Corrente nominale in A","Disgiuntore",null,"Protocollo di comunicazione Modbus"]
[10,null,"Privo di alogeni","Controllo a distanza","Resistenza al corto circuito","Ridondanza","Sezionatore",null,"Protocollo",null,"Inossidabile V4A","16mm2","Perdite di carico",null,"1.5mm2",null,"Sezionatore",null,"Protocollo di comunicazione M-Bus"]
[11,null,"Trefolo","Bloccabile","Luogo di installazione","Selettività","Potenza di corto circuito",null,null,null,"Resistente ai raggi UV","25mm2","Protezione del trasformatore integrata",null,"2.5mm2",null,"Potenza di corto circuito",null,"Protocollo di comunicazione KNX"]
[12,null,"Cavo","Protetto contro il contatto accidentale","Protezione IP","Tensione in V","Corrente di corto circuito",null,null,null,"M20","35mm2","Ruote",null,"4mm2",null,"Corrente di corto circuito",null,"Portale"]
[13,null,"Colore","Intervallo di tensione in V","Ventilazione","Capacità di rottura del carico in A","Relè di monitoraggio della tensione",null,null,null,"M25","50mm2","Connettori al lato AT",null,"6mm2",null,"Relè di monitoraggio della tensione",null,"Interfaccia"]
[14,null,"Resistenza dell'isolamento","Commutabile a 3 poli","Riscaldamento","Corrente di corto circuito in A","Un interruttore di accoppiamento",null,null,null,"M32","Filo circolare","Capicorda al lato BT",null,"10mm2",null,"Un interruttore di accoppiamento rete"]
[15,null,"Luogo di installazione (sottostruttura, installazione domestica, ecc.)","Commutabile a 4 poli","Sensore di temperatura","Corrente nominale in A","Due interruttori di accoppiamento",null,null,null,"M40","Nastro","Altitudine di installazione max. (m.s.m.)",null,"16mm2",null,"Due interruttori di accoppiamento rete"]
[16,null,"1LNPE","Colore","Numero di entrate",null,"Tensione max.",null,null,null,"M50","Diametro di 8mm","Posizionamento (interno/esterno)",null,"25mm2",null,"Tensione max."]
[17,null,"3LNPE",null,"Numero di uscite",null,"Con o senza feedback del contatto di attivazione",null,null,null,"M63","Diametro di 10mm ","Peso a vuoto",null,"35mm2"]
[18,null,"3LPEN",null,"Connessione max. in A per ogni entrata",null,null,null,null,null,"Canalina perforata","Dimensioni lungh. x largh.","Peso installato",null,"50mm2"]
[19,null,"1.5mm2",null,"Connessione max. in A per ogni uscita",null,null,null,null,null,"Canalina chiusa","Protetto contro l'auto allentamento","Colore",null,"70mm2"]
[20,null,"2.5mm2",null,"Misurazione della produzione del campo",null,null,null,null,null,"Privo di alogeni","Rame","Protetto contro il contatto accidentale",null,"95mm2"]
[21,null,"4mm2",null,"Misura del trasformatore",null,null,null,null,null,"Larghezza canalina","Alluminio",null,null,"120mm2"]
[22,null,"6mm2",null,"Spazio per il Datalogger",null,null,null,null,null,"Altezza canalina",null,null,null,"150mm2"]
[23,null,"10mm2",null,"Tipo di fusibile (HPC/LS)",null,null,null,null,null,"Colore",null,null,null,"185mm2"]
[24,null,"16mm2",null,"Protezione RI",null,null,null,null,null,"Diametro tubo",null,null,null,"240mm2"]
[25,null,"25mm2",null,"SDP AC",null,"Aba",null,null,null,"Rame",null,null,null,"300mm2"]
[26,null,"35mm2",null,null,null,null,null,null,null,"Alluminio",null,null,null,"400mm2"]
[27,null,"50mm2",null,null,null,null,null,null,null,"Classe di protezione antincendio",null,null,null,"500mm2"]
[28,null,"70mm2",null,null,null,null,null,null,null,"Guaina",null,null,null,"Tensione max. testata"]
[29,null,"95mm2"]
[30,null,"120mm2"]
[31,null,"150mm2"]
[32,null,"185mm2"]
[33,null,"240mm2"]
[34,null,"300mm2"]
[35,null,"400mm2"]
[36,null,"500mm2"]
[37,null,"Tensione max. testata"]
[38]
[39]
[40]
[41]
[42]
[43]
[44]
[45]
[46]
[47]
[48]
[49]
[50]

{"sheet":"600 Prep. e progettazione","index":14,"n_rows":124,"n_cols":54,"rows_kept":124,"cut":false,"hidden":false,"merged":[[0,21,0,53],[1,8,1,9],[2,8,2,9],[3,12,3,13],[3,14,3,15],[2,10,2,15],[3,8,3,9],[3,10,3,11]]}
[null,null,null,null,null,null,null,null,null,null,null,null,null,null,null,null,null,null,null,null,null,"NASCONDERE"]
[null,null,null,null,null,null,"Nascondere",null,"Livello di struttura 1:",null,600,"Preparazione del lavoro e progettazione"]
[null,null,null,null,null,null,null,null,"Obbligatorio",null,"Opzionale"]
[null,"Show","Fill","SOQ-Nr.",null,null,"Descrizione","Unità","Livello di struttura 2",null,"Livello di struttura 3",null,"Livello di struttura 4",null,"Livello di struttura 5",null,"Unità","Aggiungi posizione","E- Box",null,null,"E-Box","pz.","moduli","ml","m2","m3","h","mesi","anni","kWp","forfait",null,"Pos1","Pos2","Pos3","Pos4","Pos5","Pos6","Pos7","Pos8","Pos9","Pos10",null,"Pos1","Pos2","Pos3","Pos4","Pos5","Pos6","Pos7","Pos8","Pos9","Pos10"]
[]
[null,{"$f":"IF(R6=\"x\",1,IF(SUM(B7:B27)>0,1,0))","v":1},{"$f":"IF(R6=\"x\",1,IF(ISNUMBER(R6),1,0))","v":0},{"$f":"I6","v":"610.000"},null,null,{"$f":"J6","v":"Allestimento/logistica del cantiere"},{"$f":"IF(C6=1,Q6,\"\")","v":""},"610.000","Allestimento/logistica del cantiere",null,null,null,null,null,null,"forfait",null,null,null,null,null,null,null,null,null,null,null,null,null,null,"x",null,{"$f":"\nIF(W6=\"x\",W$4,\nIF(X6=\"x\",X$4,\nIF(Y6=\"x\",Y$4,\nIF(Z6=\"x\",Z$4,\nIF(AA6=\"x\",AA$4,\nIF(AB6=\"x\",AB$4,\nIF(AC6=\"x\",AC$4,\nIF(AD6=\"x\",AD$4,\nIF(AE6=\"x\",AE$4,\nIF(AF6=\"x\",AF$4,\n\"\"))))))))))","v":"forfait"},{"$f":"\nIF(X6=\"x\",X$4,\nIF(Y6=\"x\",Y$4,\nIF(Z6=\"x\",Z$4,\nIF(AA6=\"x\",AA$4,\nIF(AB6=\"x\",AB$4,\nIF(AC6=\"x\",AC$4,\nIF(AD6=\"x\",AD$4,\nIF(AE6=\"x\",AE$4,\nIF(AF6=\"x\",AF$4,\n\"\")))))))))","v":"forfait"},{"$f":"\nIF(Y6=\"x\",Y$4,\nIF(Z6=\"x\",Z$4,\nIF(AA6=\"x\",AA$4,\nIF(AB6=\"x\",AB$4,\nIF(AC6=\"x\",AC$4,\nIF(AD6=\"x\",AD$4,\nIF(AE6=\"x\",AE$4,\nIF(AF6=\"x\",AF$4,\n\"\"))))))))","v":"forfait"},{"$f":"\nIF(Z6=\"x\",Z$4,\nIF(AA6=\"x\",AA$4,\nIF(AB6=\"x\",AB$4,\nIF(AC6=\"x\",AC$4,\nIF(AD6=\"x\",AD$4,\nIF(AE6=\"x\",AE$4,\nIF(AF6=\"x\",AF$4,\n\"\")))))))","v":"forfait"},{"$f":"\nIF(AA6=\"x\",AA$4,\nIF(AB6=\"x\",AB$4,\nIF(AC6=\"x\",AC$4,\nIF(AD6=\"x\",AD$4,\nIF(AE6=\"x\",AE$4,\nIF(AF6=\"x\",AF$4,\n\"\"))))))","v":"forfait"},{"$f":"\nIF(AB6=\"x\",AB$4,\nIF(AC6=\"x\",AC$4,\nIF(AD6=\"x\",AD$4,\nIF(AE6=\"x\",AE$4,\nIF(AF6=\"x\",AF$4,\n\"\")))))","v":"forfait"},{"$f":"\nIF(AC6=\"x\",AC$4,\nIF(AD6=\"x\",AD$4,\nIF(AE6=\"x\",AE$4,\nIF(AF6=\"x\",AF$4,\n\"\"))))","v":"forfait"},{"$f":"\nIF(AD6=\"x\",AD$4,\nIF(AE6=\"x\",AE$4,\nIF(AF6=\"x\",AF$4,\n\"\")))","v":"forfait"},{"$f":"\nIF(AE6=\"x\",AE$4,\nIF(AF6=\"x\",AF$4,\n\"\"))","v":"forfait"},{"$f":"\nIF(AF6=\"x\",AF$4,\n\"\")","v":"forfait"},null,{"$f":"AH6","v":"forfait"},{"$f":"IF(AS6=\"\",\"\",\nIF(AS6<>$AH6,$AH6,\nIF(AS6<>$AI6,$AI6,\nIF(AS6<>$AJ6,$AJ6,\nIF(AS6<>$AK6,$AK6,\nIF(AS6<>$AL6,$AL6,\nIF(AS6<>$AM6,$AM6,\nIF(AS6<>$AN6,$AN6,\nIF(AS6<>$AO6,$AO6,\nIF(AS6<>$AP6,$AP6,\nIF(AS6<>$AQ6,$AQ6,\n\"\")))))))))))","v":""},{"$f":"IF(AT6=\"\",\"\",\nIF(AND(AT6<>$AH6,AS6<>$AH6),$AH6,\nIF(AND(AT6<>$AI6,AS6<>$AI6),$AI6,\nIF(AND(AT6<>$AJ6,AS6<>$AJ6),$AJ6,\nIF(AND(AT6<>$AK6,AS6<>$AK6),$AK6,\nIF(AND(AT6<>$AL6,AS6<>$AL6),$AL6,\nIF(AND(AT6<>$AM6,AS6<>$AM6),$AM6,\nIF(AND(AT6<>$AN6,AS6<>$AN6),$AN6,\nIF(AND(AT6<>$AO6,AS6<>$AO6),$AO6,\nIF(AND(AT6<>$AP6,AS6<>$AP6),$AP6,\nIF(AND(AT6<>$AQ6,AS6<>$AQ6),$AQ6,\n\"\")))))))))))","v":""},{"$f":"IF(AU6=\"\",\"\",\nIF(AND(AS6<>$AH6,AU6<>$AH6,AT6<>$AH6),$AH6,\nIF(AND(AS6<>$AI6,AU6<>$AI6,AT6<>$AI6),$AI6,\nIF(AND(AS6<>$AJ6,AU6<>$AJ6,AT6<>$AJ6),$AJ6,\nIF(AND(AS6<>$AK6,AU6<>$AK6,AT6<>$AK6),$AK6,\nIF(AND(AS6<>$AL6,AU6<>$AL6,AT6<>$AL6),$AL6,\nIF(AND(AS6<>$AM6,AU6<>$AM6,AT6<>$AM6),$AM6,\nIF(AND(AS6<>$AN6,AU6<>$AN6,AT6<>$AN6),$AN6,\nIF(AND(AS6<>$AO6,AU6<>$AO6,AT6<>$AO6),$AO6,\nIF(AND(AS6<>$AP6,AU6<>$AP6,AT6<>$AP6),$AP6,\nIF(AND(AS6<>$AQ6,AU6<>$AQ6,AT6<>$AQ6),$AQ6,\n\"\")))))))))))","v":""},{"$f":"IF(AV6=\"\",\"\",\nIF(AND(AS6<>$AH6,AT6<>$AH6,AV6<>$AH6,AU6<>$AH6),$AH6,\nIF(AND(AS6<>$AI6,AT6<>$AI6,AV6<>$AI6,AU6<>$AI6),$AI6,\nIF(AND(AS6<>$AJ6,AT6<>$AJ6,AV6<>$AJ6,AU6<>$AJ6),$AJ6,\nIF(AND(AS6<>$AK6,AT6<>$AK6,AV6<>$AK6,AU6<>$AK6),$AK6,\nIF(AND(AS6<>$AL6,AT6<>$AL6,AV6<>$AL6,AU6<>$AL6),$AL6,\nIF(AND(AS6<>$AM6,AT6<>$AM6,AV6<>$AM6,AU6<>$AM6),$AM6,\nIF(AND(AS6<>$AN6,AT6<>$AN6,AV6<>$AN6,AU6<>$AN6),$AN6,\nIF(AND(AS6<>$AO6,AT6<>$AO6,AV6<>$AO6,AU6<>$AO6),$AO6,\nIF(AND(AS6<>$AP6,AT6<>$AP6,AV6<>$AP6,AU6<>$AP6),$AP6,\nIF(AND(AS6<>$AQ6,AT6<>$AQ6,AV6<>$AQ6,AU6<>$AQ6),$AQ6,\n\"\")))))))))))","v":""},{"$f":"IF(AW6=\"\",\"\",\nIF(AND(AS6<>$AH6,AT6<>$AH6,AU6<>$AH6,AW6<>$AH6,AV6<>$AH6),$AH6,\nIF(AND(AS6<>$AI6,AT6<>$AI6,AU6<>$AI6,AW6<>$AI6,AV6<>$AI6),$AI6,\nIF(AND(AS6<>$AJ6,AT6<>$AJ6,AU6<>$AJ6,AW6<>$AJ6,AV6<>$AJ6),$AJ6,\nIF(AND(AS6<>$AK6,AT6<>$AK6,AU6<>$AK6,AW6<>$AK6,AV6<>$AK6),$AK6,\nIF(AND(AS6<>$AL6,AT6<>$AL6,AU6<>$AL6,AW6<>$AL6,AV6<>$AL6),$AL6,\nIF(AND(AS6<>$AM6,AT6<>$AM6,AU6<>$AM6,AW6<>$AM6,AV6<>$AM6),$AM6,\nIF(AND(AS6<>$AN6,AT6<>$AN6,AU6<>$AN6,AW6<>$AN6,AV6<>$AN6),$AN6,\nIF(AND(AS6<>$AO6,AT6<>$AO6,AU6<>$AO6,AW6<>$AO6,AV6<>$AO6),$AO6,\nIF(AND(AS6<>$AP6,AT6<>$AP6,AU6<>$AP6,AW6<>$AP6,AV6<>$AP6),$AP6,\nIF(AND(AS6<>$AQ6,AT6<>$AQ6,AU6<>$AQ6,AW6<>$AQ6,AV6<>$AQ6),$AQ6,\n\"\")))))))))))","v":""},{"$f":"IF(AX6=\"\",\"\",\nIF(AND(AS6<>$AH6,AT6<>$AH6,AU6<>$AH6,AV6<>$AH6,AX6<>$AH6,AW6<>$AH6),$AH6,\nIF(AND(AS6<>$AI6,AT6<>$AI6,AU6<>$AI6,AV6<>$AI6,AX6<>$AI6,AW6<>$AI6),$AI6,\nIF(AND(AS6<>$AJ6,AT6<>$AJ6,AU6<>$AJ6,AV6<>$AJ6,AX6<>$AJ6,AW6<>$AJ6),$AJ6,\nIF(AND(AS6<>$AK6,AT6<>$AK6,AU6<>$AK6,AV6<>$AK6,AX6<>$AK6,AW6<>$AK6),$AK6,\nIF(AND(AS6<>$AL6,AT6<>$AL6,AU6<>$AL6,AV6<>$AL6,AX6<>$AL6,AW6<>$AL6),$AL6,\nIF(AND(AS6<>$AM6,AT6<>$AM6,AU6<>$AM6,AV6<>$AM6,AX6<>$AM6,AW6<>$AM6),$AM6,\nIF(AND(AS6<>$AN6,AT6<>$AN6,AU6<>$AN6,AV6<>$AN6,AX6<>$AN6,AW6<>$AN6),$AN6,\nIF(AND(AS6<>$AO6,AT6<>$AO6,AU6<>$AO6,AV6<>$AO6,AX6<>$AO6,AW6<>$AO6),$AO6,\nIF(AND(AS6<>$AP6,AT6<>$AP6,AU6<>$AP6,AV6<>$AP6,AX6<>$AP6,AW6<>$AP6),$AP6,\nIF(AND(AS6<>$AQ6,AT6<>$AQ6,AU6<>$AQ6,AV6<>$AQ6,AX6<>$AQ6,AW6<>$AQ6),$AQ6,\n\"\")))))))))))","v":""},{"$f":"IF(AY6=\"\",\"\",\nIF(AND(AS6<>$AH6,AT6<>$AH6,AU6<>$AH6,AV6<>$AH6,AW6<>$AH6,AY6<>$AH6,AX6<>$AH6),$AH6,\nIF(AND(AS6<>$AI6,AT6<>$AI6,AU6<>$AI6,AV6<>$AI6,AW6<>$AI6,AY6<>$AI6,AX6<>$AI6),$AI6,\nIF(AND(AS6<>$AJ6,AT6<>$AJ6,AU6<>$AJ6,AV6<>$AJ6,AW6<>$AJ6,AY6<>$AJ6,AX6<>$AJ6),$AJ6,\nIF(AND(AS6<>$AK6,AT6<>$AK6,AU6<>$AK6,AV6<>$AK6,AW6<>$AK6,AY6<>$AK6,AX6<>$AK6),$AK6,\nIF(AND(AS6<>$AL6,AT6<>$AL6,AU6<>$AL6,AV6<>$AL6,AW6<>$AL6,AY6<>$AL6,AX6<>$AL6),$AL6,\nIF(AND(AS6<>$AM6,AT6<>$AM6,AU6<>$AM6,AV6<>$AM6,AW6<>$AM6,AY6<>$AM6,AX6<>$AM6),$AM6,\nIF(AND(AS6<>$AN6,AT6<>$AN6,AU6<>$AN6,AV6<>$AN6,AW6<>$AN6,AY6<>$AN6,AX6<>$AN6),$AN6,\nIF(AND(AS6<>$AO6,AT6<>$AO6,AU6<>$AO6,AV6<>$AO6,AW6<>$AO6,AY6<>$AO6,AX6<>$AO6),$AO6,\nIF(AND(AS6<>$AP6,AT6<>$AP6,AU6<>$AP6,AV6<>$AP6,AW6<>$AP6,AY6<>$AP6,AX6<>$AP6),$AP6,\nIF(AND(AS6<>$AQ6,AT6<>$AQ6,AU6<>$AQ6,AV6<>$AQ6,AW6<>$AQ6,AY6<>$AQ6,AX6<>$AQ6),$AQ6,\n\"\")))))))))))","v":""},{"$f":"IF(AZ6=\"\",\"\",\nIF(AND(AS6<>$AH6,AT6<>$AH6,AU6<>$AH6,AV6<>$AH6,AW6<>$AH6,AX6<>$AH6,AZ6<>$AH6,AY6<>$AH6),$AH6,\nIF(AND(AS6<>$AI6,AT6<>$AI6,AU6<>$AI6,AV6<>$AI6,AW6<>$AI6,AX6<>$AI6,AZ6<>$AI6,AY6<>$AI6),$AI6,\nIF(AND(AS6<>$AJ6,AT6<>$AJ6,AU6<>$AJ6,AV6<>$AJ6,AW6<>$AJ6,AX6<>$AJ6,AZ6<>$AJ6,AY6<>$AJ6),$AJ6,\nIF(AND(AS6<>$AK6,AT6<>$AK6,AU6<>$AK6,AV6<>$AK6,AW6<>$AK6,AX6<>$AK6,AZ6<>$AK6,AY6<>$AK6),$AK6,\nIF(AND(AS6<>$AL6,AT6<>$AL6,AU6<>$AL6,AV6<>$AL6,AW6<>$AL6,AX6<>$AL6,AZ6<>$AL6,AY6<>$AL6),$AL6,\nIF(AND(AS6<>$AM6,AT6<>$AM6,AU6<>$AM6,AV6<>$AM6,AW6<>$AM6,AX6<>$AM6,AZ6<>$AM6,AY6<>$AM6),$AM6,\nIF(AND(AS6<>$AN6,AT6<>$AN6,AU6<>$AN6,AV6<>$AN6,AW6<>$AN6,AX6<>$AN6,AZ6<>$AN6,AY6<>$AN6),$AN6,\nIF(AND(AS6<>$AO6,AT6<>$AO6,AU6<>$AO6,AV6<>$AO6,AW6<>$AO6,AX6<>$AO6,AZ6<>$AO6,AY6<>$AO6),$AO6,\nIF(AND(AS6<>$AP6,AT6<>$AP6,AU6<>$AP6,AV6<>$AP6,AW6<>$AP6,AX6<>$AP6,AZ6<>$AP6,AY6<>$AP6),$AP6,\nIF(AND(AS6<>$AQ6,AT6<>$AQ6,AU6<>$AQ6,AV6<>$AQ6,AW6<>$AQ6,AX6<>$AQ6,AZ6<>$AQ6,AY6<>$AQ6),$AQ6,\n\"\")))))))))))","v":""},{"$f":"IF(BA6=\"\",\"\",\nIF(AND(AS6<>$AH6,AT6<>$AH6,AU6<>$AH6,AV6<>$AH6,AW6<>$AH6,AX6<>$AH6,AY6<>$AH6,BA6<>$AH6,AZ6<>$AH6),$AH6,\nIF(AND(AS6<>$AI6,AT6<>$AI6,AU6<>$AI6,AV6<>$AI6,AW6<>$AI6,AX6<>$AI6,AY6<>$AI6,BA6<>$AI6,AZ6<>$AI6),$AI6,\nIF(AND(AS6<>$AJ6,AT6<>$AJ6,AU6<>$AJ6,AV6<>$AJ6,AW6<>$AJ6,AX6<>$AJ6,AY6<>$AJ6,BA6<>$AJ6,AZ6<>$AJ6),$AJ6,\nIF(AND(AS6<>$AK6,AT6<>$AK6,AU6<>$AK6,AV6<>$AK6,AW6<>$AK6,AX6<>$AK6,AY6<>$AK6,BA6<>$AK6,AZ6<>$AK6),$AK6,\nIF(AND(AS6<>$AL6,AT6<>$AL6,AU6<>$AL6,AV6<>$AL6,AW6<>$AL6,AX6<>$AL6,AY6<>$AL6,BA6<>$AL6,AZ6<>$AL6),$AL6,\nIF(AND(AS6<>$AM6,AT6<>$AM6,AU6<>$AM6,AV6<>$AM6,AW6<>$AM6,AX6<>$AM6,AY6<>$AM6,BA6<>$AM6,AZ6<>$AM6),$AM6,\nIF(AND(AS6<>$AN6,AT6<>$AN6,AU6<>$AN6,AV6<>$AN6,AW6<>$AN6,AX6<>$AN6,AY6<>$AN6,BA6<>$AN6,AZ6<>$AN6),$AN6,\nIF(AND(AS6<>$AO6,AT6<>$AO6,AU6<>$AO6,AV6<>$AO6,AW6<>$AO6,AX6<>$AO6,AY6<>$AO6,BA6<>$AO6,AZ6<>$AO6),$AO6,\nIF(AND(AS6<>$AP6,AT6<>$AP6,AU6<>$AP6,AV6<>$AP6,AW6<>$AP6,AX6<>$AP6,AY6<>$AP6,BA6<>$AP6,AZ6<>$AP6),$AP6,\nIF(AND(AS6<>$AQ6,AT6<>$AQ6,AU6<>$AQ6,AV6<>$AQ6,AW6<>$AQ6,AX6<>$AQ6,AY6<>$AQ6,BA6<>$AQ6,AZ6<>$AQ6),$AQ6,\n\"\")))))))))))","v":""}]
[null,{"$f":"IF(OR(SUM(B8:B10)>0,R7=\"x\"),1,IF(ISNUMBER(R7),R7,0))","v":1},{"$f":"IF(R7=\"x\",1,IF(ISNUMBER(R7),1,0))","v":1},{"$f":"K7","v":"611.000"},null,null,{"$f":"L7","v":"Allestimento del cantiere"},{"$f":"IF(C7=1,Q7,\"\")","v":"forfait"},null,null,"611.000","Allestimento del cantiere",null,null,null,null,"forfait","x",null,null,null,null,null,null,null,null,null,null,null,null,null,"x",null,{"$f":"\nIF(W7=\"x\",W$4,\nIF(X7=\"x\",X$4,\nIF(Y7=\"x\",Y$4,\nIF(Z7=\"x\",Z$4,\nIF(AA7=\"x\",AA$4,\nIF(AB7=\"x\",AB$4,\nIF(AC7=\"x\",AC$4,\nIF(AD7=\"x\",AD$4,\nIF(AE7=\"x\",AE$4,\nIF(AF7=\"x\",AF$4,\n\"\"))))))))))","v":"forfait"},{"$f":"\nIF(X7=\"x\",X$4,\nIF(Y7=\"x\",Y$4,\nIF(Z7=\"x\",Z$4,\nIF(AA7=\"x\",AA$4,\nIF(AB7=\"x\",AB$4,\nIF(AC7=\"x\",AC$4,\nIF(AD7=\"x\",AD$4,\nIF(AE7=\"x\",AE$4,\nIF(AF7=\"x\",AF$4,\n\"\")))))))))","v":"forfait"},{"$f":"\nIF(Y7=\"x\",Y$4,\nIF(Z7=\"x\",Z$4,\nIF(AA7=\"x\",AA$4,\nIF(AB7=\"x\",AB$4,\nIF(AC7=\"x\",AC$4,\nIF(AD7=\"x\",AD$4,\nIF(AE7=\"x\",AE$4,\nIF(AF7=\"x\",AF$4,\n\"\"))))))))","v":"forfait"},{"$f":"\nIF(Z7=\"x\",Z$4,\nIF(AA7=\"x\",AA$4,\nIF(AB7=\"x\",AB$4,\nIF(AC7=\"x\",AC$4,\nIF(AD7=\"x\",AD$4,\nIF(AE7=\"x\",AE$4,\nIF(AF7=\"x\",AF$4,\n\"\")))))))","v":"forfait"},{"$f":"\nIF(AA7=\"x\",AA$4,\nIF(AB7=\"x\",AB$4,\nIF(AC7=\"x\",AC$4,\nIF(AD7=\"x\",AD$4,\nIF(AE7=\"x\",AE$4,\nIF(AF7=\"x\",AF$4,\n\"\"))))))","v":"forfait"},{"$f":"\nIF(AB7=\"x\",AB$4,\nIF(AC7=\"x\",AC$4,\nIF(AD7=\"x\",AD$4,\nIF(AE7=\"x\",AE$4,\nIF(AF7=\"x\",AF$4,\n\"\")))))","v":"forfait"},{"$f":"\nIF(AC7=\"x\",AC$4,\nIF(AD7=\"x\",AD$4,\nIF(AE7=\"x\",AE$4,\nIF(AF7=\"x\",AF$4,\n\"\"))))","v":"forfait"},{"$f":"\nIF(AD7=\"x\",AD$4,\nIF(AE7=\"x\",AE$4,\nIF(AF7=\"x\",AF$4,\n\"\")))","v":"forfait"},{"$f":"\nIF(AE7=\"x\",AE$4,\nIF(AF7=\"x\",AF$4,\n\"\"))","v":"forfait"},{"$f":"\nIF(AF7=\"x\",AF$4,\n\"\")","v":"forfait"},null,{"$f":"AH7","v":"forfait"},{"$f":"IF(AS7=\"\",\"\",\nIF(AS7<>$AH7,$AH7,\nIF(AS7<>$AI7,$AI7,\nIF(AS7<>$AJ7,$AJ7,\nIF(AS7<>$AK7,$AK7,\nIF(AS7<>$AL7,$AL7,\nIF(AS7<>$AM7,$AM7,\nIF(AS7<>$AN7,$AN7,\nIF(AS7<>$AO7,$AO7,\nIF(AS7<>$AP7,$AP7,\nIF(AS7<>$AQ7,$AQ7,\n\"\")))))))))))","v":""},{"$f":"IF(AT7=\"\",\"\",\nIF(AND(AT7<>$AH7,AS7<>$AH7),$AH7,\nIF(AND(AT7<>$AI7,AS7<>$AI7),$AI7,\nIF(AND(AT7<>$AJ7,AS7<>$AJ7),$AJ7,\nIF(AND(AT7<>$AK7,AS7<>$AK7),$AK7,\nIF(AND(AT7<>$AL7,AS7<>$AL7),$AL7,\nIF(AND(AT7<>$AM7,AS7<>$AM7),$AM7,\nIF(AND(AT7<>$AN7,AS7<>$AN7),$AN7,\nIF(AND(AT7<>$AO7,AS7<>$AO7),$AO7,\nIF(AND(AT7<>$AP7,AS7<>$AP7),$AP7,\nIF(AND(AT7<>$AQ7,AS7<>$AQ7),$AQ7,\n\"\")))))))))))","v":""},{"$f":"IF(AU7=\"\",\"\",\nIF(AND(AS7<>$AH7,AU7<>$AH7,AT7<>$AH7),$AH7,\nIF(AND(AS7<>$AI7,AU7<>$AI7,AT7<>$AI7),$AI7,\nIF(AND(AS7<>$AJ7,AU7<>$AJ7,AT7<>$AJ7),$AJ7,\nIF(AND(AS7<>$AK7,AU7<>$AK7,AT7<>$AK7),$AK7,\nIF(AND(AS7<>$AL7,AU7<>$AL7,AT7<>$AL7),$AL7,\nIF(AND(AS7<>$AM7,AU7<>$AM7,AT7<>$AM7),$AM7,\nIF(AND(AS7<>$AN7,AU7<>$AN7,AT7<>$AN7),$AN7,\nIF(AND(AS7<>$AO7,AU7<>$AO7,AT7<>$AO7),$AO7,\nIF(AND(AS7<>$AP7,AU7<>$AP7,AT7<>$AP7),$AP7,\nIF(AND(AS7<>$AQ7,AU7<>$AQ7,AT7<>$AQ7),$AQ7,\n\"\")))))))))))","v":""},{"$f":"IF(AV7=\"\",\"\",\nIF(AND(AS7<>$AH7,AT7<>$AH7,AV7<>$AH7,AU7<>$AH7),$AH7,\nIF(AND(AS7<>$AI7,AT7<>$AI7,AV7<>$AI7,AU7<>$AI7),$AI7,\nIF(AND(AS7<>$AJ7,AT7<>$AJ7,AV7<>$AJ7,AU7<>$AJ7),$AJ7,\nIF(AND(AS7<>$AK7,AT7<>$AK7,AV7<>$AK7,AU7<>$AK7),$AK7,\nIF(AND(AS7<>$AL7,AT7<>$AL7,AV7<>$AL7,AU7<>$AL7),$AL7,\nIF(AND(AS7<>$AM7,AT7<>$AM7,AV7<>$AM7,AU7<>$AM7),$AM7,\nIF(AND(AS7<>$AN7,AT7<>$AN7,AV7<>$AN7,AU7<>$AN7),$AN7,\nIF(AND(AS7<>$AO7,AT7<>$AO7,AV7<>$AO7,AU7<>$AO7),$AO7,\nIF(AND(AS7<>$AP7,AT7<>$AP7,AV7<>$AP7,AU7<>$AP7),$AP7,\nIF(AND(AS7<>$AQ7,AT7<>$AQ7,AV7<>$AQ7,AU7<>$AQ7),$AQ7,\n\"\")))))))))))","v":""},{"$f":"IF(AW7=\"\",\"\",\nIF(AND(AS7<>$AH7,AT7<>$AH7,AU7<>$AH7,AW7<>$AH7,AV7<>$AH7),$AH7,\nIF(AND(AS7<>$AI7,AT7<>$AI7,AU7<>$AI7,AW7<>$AI7,AV7<>$AI7),$AI7,\nIF(AND(AS7<>$AJ7,AT7<>$AJ7,AU7<>$AJ7,AW7<>$AJ7,AV7<>$AJ7),$AJ7,\nIF(AND(AS7<>$AK7,AT7<>$AK7,AU7<>$AK7,AW7<>$AK7,AV7<>$AK7),$AK7,\nIF(AND(AS7<>$AL7,AT7<>$AL7,AU7<>$AL7,AW7<>$AL7,AV7<>$AL7),$AL7,\nIF(AND(AS7<>$AM7,AT7<>$AM7,AU7<>$AM7,AW7<>$AM7,AV7<>$AM7),$AM7,\nIF(AND(AS7<>$AN7,AT7<>$AN7,AU7<>$AN7,AW7<>$AN7,AV7<>$AN7),$AN7,\nIF(AND(AS7<>$AO7,AT7<>$AO7,AU7<>$AO7,AW7<>$AO7,AV7<>$AO7),$AO7,\nIF(AND(AS7<>$AP7,AT7<>$AP7,AU7<>$AP7,AW7<>$AP7,AV7<>$AP7),$AP7,\nIF(AND(AS7<>$AQ7,AT7<>$AQ7,AU7<>$AQ7,AW7<>$AQ7,AV7<>$AQ7),$AQ7,\n\"\")))))))))))","v":""},{"$f":"IF(AX7=\"\",\"\",\nIF(AND(AS7<>$AH7,AT7<>$AH7,AU7<>$AH7,AV7<>$AH7,AX7<>$AH7,AW7<>$AH7),$AH7,\nIF(AND(AS7<>$AI7,AT7<>$AI7,AU7<>$AI7,AV7<>$AI7,AX7<>$AI7,AW7<>$AI7),$AI7,\nIF(AND(AS7<>$AJ7,AT7<>$AJ7,AU7<>$AJ7,AV7<>$AJ7,AX7<>$AJ7,AW7<>$AJ7),$AJ7,\nIF(AND(AS7<>$AK7,AT7<>$AK7,AU7<>$AK7,AV7<>$AK7,AX7<>$AK7,AW7<>$AK7),$AK7,\nIF(AND(AS7<>$AL7,AT7<>$AL7,AU7<>$AL7,AV7<>$AL7,AX7<>$AL7,AW7<>$AL7),$AL7,\nIF(AND(AS7<>$AM7,AT7<>$AM7,AU7<>$AM7,AV7<>$AM7,AX7<>$AM7,AW7<>$AM7),$AM7,\nIF(AND(AS7<>$AN7,AT7<>$AN7,AU7<>$AN7,AV7<>$AN7,AX7<>$AN7,AW7<>$AN7),$AN7,\nIF(AND(AS7<>$AO7,AT7<>$AO7,AU7<>$AO7,AV7<>$AO7,AX7<>$AO7,AW7<>$AO7),$AO7,\nIF(AND(AS7<>$AP7,AT7<>$AP7,AU7<>$AP7,AV7<>$AP7,AX7<>$AP7,AW7<>$AP7),$AP7,\nIF(AND(AS7<>$AQ7,AT7<>$AQ7,AU7<>$AQ7,AV7<>$AQ7,AX7<>$AQ7,AW7<>$AQ7),$AQ7,\n\"\")))))))))))","v":""},{"$f":"IF(AY7=\"\",\"\",\nIF(AND(AS7<>$AH7,AT7<>$AH7,AU7<>$AH7,AV7<>$AH7,AW7<>$AH7,AY7<>$AH7,AX7<>$AH7),$AH7,\nIF(AND(AS7<>$AI7,AT7<>$AI7,AU7<>$AI7,AV7<>$AI7,AW7<>$AI7,AY7<>$AI7,AX7<>$AI7),$AI7,\nIF(AND(AS7<>$AJ7,AT7<>$AJ7,AU7<>$AJ7,AV7<>$AJ7,AW7<>$AJ7,AY7<>$AJ7,AX7<>$AJ7),$AJ7,\nIF(AND(AS7<>$AK7,AT7<>$AK7,AU7<>$AK7,AV7<>$AK7,AW7<>$AK7,AY7<>$AK7,AX7<>$AK7),$AK7,\nIF(AND(AS7<>$AL7,AT7<>$AL7,AU7<>$AL7,AV7<>$AL7,AW7<>$AL7,AY7<>$AL7,AX7<>$AL7),$AL7,\nIF(AND(AS7<>$AM7,AT7<>$AM7,AU7<>$AM7,AV7<>$AM7,AW7<>$AM7,AY7<>$AM7,AX7<>$AM7),$AM7,\nIF(AND(AS7<>$AN7,AT7<>$AN7,AU7<>$AN7,AV7<>$AN7,AW7<>$AN7,AY7<>$AN7,AX7<>$AN7),$AN7,\nIF(AND(AS7<>$AO7,AT7<>$AO7,AU7<>$AO7,AV7<>$AO7,AW7<>$AO7,AY7<>$AO7,AX7<>$AO7),$AO7,\nIF(AND(AS7<>$AP7,AT7<>$AP7,AU7<>$AP7,AV7<>$AP7,AW7<>$AP7,AY7<>$AP7,AX7<>$AP7),$AP7,\nIF(AND(AS7<>$AQ7,AT7<>$AQ7,AU7<>$AQ7,AV7<>$AQ7,AW7<>$AQ7,AY7<>$AQ7,AX7<>$AQ7),$AQ7,\n\"\")))))))))))","v":""},{"$f":"IF(AZ7=\"\",\"\",\nIF(AND(AS7<>$AH7,AT7<>$AH7,AU7<>$AH7,AV7<>$AH7,AW7<>$AH7,AX7<>$AH7,AZ7<>$AH7,AY7<>$AH7),$AH7,\nIF(AND(AS7<>$AI7,AT7<>$AI7,AU7<>$AI7,AV7<>$AI7,AW7<>$AI7,AX7<>$AI7,AZ7<>$AI7,AY7<>$AI7),$AI7,\nIF(AND(AS7<>$AJ7,AT7<>$AJ7,AU7<>$AJ7,AV7<>$AJ7,AW7<>$AJ7,AX7<>$AJ7,AZ7<>$AJ7,AY7<>$AJ7),$AJ7,\nIF(AND(AS7<>$AK7,AT7<>$AK7,AU7<>$AK7,AV7<>$AK7,AW7<>$AK7,AX7<>$AK7,AZ7<>$AK7,AY7<>$AK7),$AK7,\nIF(AND(AS7<>$AL7,AT7<>$AL7,AU7<>$AL7,AV7<>$AL7,AW7<>$AL7,AX7<>$AL7,AZ7<>$AL7,AY7<>$AL7),$AL7,\nIF(AND(AS7<>$AM7,AT7<>$AM7,AU7<>$AM7,AV7<>$AM7,AW7<>$AM7,AX7<>$AM7,AZ7<>$AM7,AY7<>$AM7),$AM7,\nIF(AND(AS7<>$AN7,AT7<>$AN7,AU7<>$AN7,AV7<>$AN7,AW7<>$AN7,AX7<>$AN7,AZ7<>$AN7,AY7<>$AN7),$AN7,\nIF(AND(AS7<>$AO7,AT7<>$AO7,AU7<>$AO7,AV7<>$AO7,AW7<>$AO7,AX7<>$AO7,AZ7<>$AO7,AY7<>$AO7),$AO7,\nIF(AND(AS7<>$AP7,AT7<>$AP7,AU7<>$AP7,AV7<>$AP7,AW7<>$AP7,AX7<>$AP7,AZ7<>$AP7,AY7<>$AP7),$AP7,\nIF(AND(AS7<>$AQ7,AT7<>$AQ7,AU7<>$AQ7,AV7<>$AQ7,AW7<>$AQ7,AX7<>$AQ7,AZ7<>$AQ7,AY7<>$AQ7),$AQ7,\n\"\")))))))))))","v":""},{"$f":"IF(BA7=\"\",\"\",\nIF(AND(AS7<>$AH7,AT7<>$AH7,AU7<>$AH7,AV7<>$AH7,AW7<>$AH7,AX7<>$AH7,AY7<>$AH7,BA7<>$AH7,AZ7<>$AH7),$AH7,\nIF(AND(AS7<>$AI7,AT7<>$AI7,AU7<>$AI7,AV7<>$AI7,AW7<>$AI7,AX7<>$AI7,AY7<>$AI7,BA7<>$AI7,AZ7<>$AI7),$AI7,\nIF(AND(AS7<>$AJ7,AT7<>$AJ7,AU7<>$AJ7,AV7<>$AJ7,AW7<>$AJ7,AX7<>$AJ7,AY7<>$AJ7,BA7<>$AJ7,AZ7<>$AJ7),$AJ7,\nIF(AND(AS7<>$AK7,AT7<>$AK7,AU7<>$AK7,AV7<>$AK7,AW7<>$AK7,AX7<>$AK7,AY7<>$AK7,BA7<>$AK7,AZ7<>$AK7),$AK7,\nIF(AND(AS7<>$AL7,AT7<>$AL7,AU7<>$AL7,AV7<>$AL7,AW7<>$AL7,AX7<>$AL7,AY7<>$AL7,BA7<>$AL7,AZ7<>$AL7),$AL7,\nIF(AND(AS7<>$AM7,AT7<>$AM7,AU7<>$AM7,AV7<>$AM7,AW7<>$AM7,AX7<>$AM7,AY7<>$AM7,BA7<>$AM7,AZ7<>$AM7),$AM7,\nIF(AND(AS7<>$AN7,AT7<>$AN7,AU7<>$AN7,AV7<>$AN7,AW7<>$AN7,AX7<>$AN7,AY7<>$AN7,BA7<>$AN7,AZ7<>$AN7),$AN7,\nIF(AND(AS7<>$AO7,AT7<>$AO7,AU7<>$AO7,AV7<>$AO7,AW7<>$AO7,AX7<>$AO7,AY7<>$AO7,BA7<>$AO7,AZ7<>$AO7),$AO7,\nIF(AND(AS7<>$AP7,AT7<>$AP7,AU7<>$AP7,AV7<>$AP7,AW7<>$AP7,AX7<>$AP7,AY7<>$AP7,BA7<>$AP7,AZ7<>$AP7),$AP7,\nIF(AND(AS7<>$AQ7,AT7<>$AQ7,AU7<>$AQ7,AV7<>$AQ7,AW7<>$AQ7,AX7<>$AQ7,AY7<>$AQ7,BA7<>$AQ7,AZ7<>$AQ7),$AQ7,\n\"\")))))))))))","v":""}]
[null,{"$f":"IF(R8=\"x\",1,IF(ISNUMBER(R8),R8,0))","v":0},{"$f":"IF(R8=\"x\",1,IF(ISNUMBER(R8),1,0))","v":0},null,{"$f":"M8","v":"611.100"},null,{"$f":"N8","v":"Allestimento generale del cantiere"},"",null,null,null,null,"611.100","Allestimento generale del cantiere",null,null,"forfait",null,null,null,null,null,null,null,null,null,null,null,null,null,null,"x",null,"forfait","forfait","forfait","forfait","forfait","forfait","forfait","forfait","forfait","forfait",null,"forfait","","","","","","","","",""]
[null,0,0,null,{"$f":"M9","v":"611.200"},null,{"$f":"N9","v":"Allacciamento elettrico"},"",null,null,null,null,"611.200","Allacciamento elettrico",null,null,"pz.",null,null,null,null,null,"x",null,null,null,null,null,null,null,null,"x",null,"pz.","forfait","forfait","forfait","forfait","forfait","forfait","forfait","forfait","forfait",null,"pz.","forfait","","","","","","","",""]
[null,0,0,null,{"$f":"M10","v":"611.300"},null,"Container","",null,null,null,null,"611.300","Container",null,null,"pz.",null,null,null,null,null,"x",null,null,null,null,null,null,null,null,"x",null,"pz.","forfait","forfait","forfait","forfait","forfait","forfait","forfait","forfait","forfait",null,"pz.","forfait","","","","","","","",""]
[null,1,1,{"$f":"K11","v":"612.000"},null,null,{"$f":"L11","v":"Trasporto fino al cantiere"},"forfait",null,null,"612.000","Trasporto fino al cantiere",null,null,null,null,"forfait","x",null,null,null,null,null,null,null,null,null,null,null,null,null,"x",null,"forfait","forfait","forfait","forfait","forfait","forfait","forfait","forfait","forfait","forfait",null,"forfait","","","","","","","","",""]
[null,{"$f":"IF(OR(SUM(B13:B19)>0,R12=\"x\"),1,IF(ISNUMBER(R12),R12,0))","v":1},1,{"$f":"K12","v":"613.000"},null,null,"Sollevamento","forfait",null,null,"613.000","Sollevamento",null,null,null,null,"forfait","x",null,null,null,null,null,null,null,null,null,null,null,null,null,"x",null,"forfait","forfait","forfait","forfait","forfait","forfait","forfait","forfait","forfait","forfait",null,"forfait","","","","","","","","",""]
[null,{"$f":"IF(OR(SUM(B14)>0,R13=\"x\"),1,IF(ISNUMBER(R13),R13,0))","v":0},0,null,{"$f":"M13","v":"613.100"},null,{"$f":"N13","v":"Gru"},"",null,null,null,null,"613.100","Gru",null,null,"forfait",null,null,null,null,null,null,null,null,null,null,null,null,null,null,"x",null,"forfait","forfait","forfait","forfait","forfait","forfait","forfait","forfait","forfait","forfait",null,"forfait","","","","","","","","",""]
[null,0,0,null,null,{"$f":"O14","v":"613.110"},{"$f":"P14","v":"Gru mobile"},"",null,null,null,null,null,null,"613.110","Gru mobile","forfait",null,null,null,null,null,null,null,null,null,null,null,null,null,null,"x",null,"forfait","forfait","forfait","forfait","forfait","forfait","forfait","forfait","forfait","forfait",null,"forfait","","","","","","","","",""]
[null,0,0,null,{"$f":"M15","v":"613.200"},null,{"$f":"N15","v":"Sollevatore telescopico"},"",null,null,null,null,"613.200","Sollevatore telescopico",null,null,"forfait",null,null,null,null,null,null,null,null,null,null,null,null,null,null,"x",null,"forfait","forfait","forfait","forfait","forfait","forfait","forfait","forfait","forfait","forfait",null,"forfait","","","","","","","","",""]
[null,0,0,null,{"$f":"M16","v":"613.300"},null,"Muletto","",null,null,null,null,"613.300","Muletto",null,null,"forfait",null,null,null,null,null,null,null,null,null,null,null,null,null,null,"x",null,"forfait","forfait","forfait","forfait","forfait","forfait","forfait","forfait","forfait","forfait",null,"forfait","","","","","","","","",""]
[null,0,0,null,{"$f":"M17","v":"613.400"},null,"Gru da camion","",null,null,null,null,"613.400","Gru da camion",null,null,"forfait",null,null,null,null,null,null,null,null,null,null,null,null,null,null,"x",null,"forfait","forfait","forfait","forfait","forfait","forfait","forfait","forfait","forfait","forfait",null,"forfait","","","","","","","","",""]
[null,0,0,null,{"$f":"M18","v":"613.500"},null,"Sollevatore per tetti","",null,null,null,null,"613.500","Sollevatore per tetti",null,null,"forfait",null,null,null,null,null,null,null,null,null,null,null,null,null,null,"x",null,"forfait","forfait","forfait","forfait","forfait","forfait","forfait","forfait","forfait","forfait",null,"forfait","","","","","","","","",""]
[null,0,0,null,{"$f":"M19","v":"613.600"},null,"Elicottero","",null,null,null,null,"613.600","Elicottero",null,null,"forfait",null,null,null,null,null,null,null,null,null,null,null,null,null,null,"x",null,"forfait","forfait","forfait","forfait","forfait","forfait","forfait","forfait","forfait","forfait",null,"forfait","","","","","","","","",""]
[null,{"$f":"IF(OR(SUM(B21:B22)>0,R20=\"x\"),1,IF(ISNUMBER(R20),R20,0))","v":1},1,{"$f":"K20","v":"614.000"},null,null,{"$f":"L20","v":"Smaltimento"},"forfait",null,null,"614.000","Smaltimento",null,null,null,null,"forfait","x",null,null,null,null,null,null,null,null,null,null,null,null,null,"x",null,"forfait","forfait","forfait","forfait","forfait","forfait","forfait","forfait","forfait","forfait",null,"forfait","","","","","","","","",""]
[null,0,0,null,{"$f":"M21","v":"614.100"},null,{"$f":"N21","v":"Benna"},"",null,null,null,null,"614.100","Benna",null,null,"forfait",null,null,null,null,null,null,null,null,null,null,null,null,null,null,"x",null,"forfait","forfait","forfait","forfait","forfait","forfait","forfait","forfait","forfait","forfait",null,"forfait","","","","","","","","",""]
[null,0,0,null,{"$f":"M22","v":"614.200"},null,"Smaltimento rifiuti da cantiere","",null,null,null,null,"614.200","Smaltimento rifiuti da cantiere",null,null,"forfait",null,null,null,null,null,null,null,null,null,null,null,null,null,null,"x",null,"forfait","forfait","forfait","forfait","forfait","forfait","forfait","forfait","forfait","forfait",null,"forfait","","","","","","","","",""]
[null,{"$f":"IF(OR(SUM(B24)>0,R23=\"x\"),1,IF(ISNUMBER(R23),R23,0))","v":0},0,{"$f":"K23","v":"615.000"},null,null,{"$f":"L23","v":"WC, installazioni sanitarie"},"",null,null,"615.000","WC, installazioni sanitarie",null,null,null,null,"forfait",null,null,null,null,null,null,null,null,null,null,null,null,null,null,"x",null,"forfait","forfait","forfait","forfait","forfait","forfait","forfait","forfait","forfait","forfait",null,"forfait","","","","","","","","",""]
[null,0,0,null,{"$f":"M24","v":"615.100"},null,{"$f":"N24","v":"Allacciamento servizi igienici"},"",null,null,null,null,"615.100","Allacciamento servizi igienici",null,null,"forfait",null,null,null,null,null,null,null,null,null,null,null,null,null,null,"x",null,"forfait","forfait","forfait","forfait","forfait","forfait","forfait","forfait","forfait","forfait",null,"forfait","","","","","","","","",""]
[null,0,0,{"$f":"K25","v":"616.000"},null,null,{"$f":"L25","v":"Parcheggi"},"",null,null,"616.000","Parcheggi",null,null,null,null,"forfait",null,null,null,null,null,null,null,null,null,null,null,null,null,null,"x",null,"forfait","forfait","forfait","forfait","forfait","forfait","forfait","forfait","forfait","forfait",null,"forfait","","","","","","","","",""]
[null,0,0,"617.000",null,null,"Punto di consegna","",null,null,"617.000","Punto di consegna",null,null,null,null,"forfait",null,null,null,null,null,null,null,null,null,null,null,null,null,null,"x",null,"forfait","forfait","forfait","forfait","forfait","forfait","forfait","forfait","forfait","forfait",null,"forfait","","","","","","","","",""]
[null,0,0,"618.000",null,null,"Deposito provvisorio","",null,null,"618.000","Deposito provvisorio",null,null,null,null,"forfait",null,null,null,null,null,null,null,null,null,null,null,null,null,null,"x",null,"forfait","forfait","forfait","forfait","forfait","forfait","forfait","forfait","forfait","forfait",null,"forfait","","","","","","","","",""]
[null,{"$f":"B6","v":1},0,null,null,null,null,"",null,null,null,null,null,null,null,null,null,null,null,null,null,null,null,null,null,null,null,null,null,null,null,null,null,"","","","","","","","","","",null,"","","","","","","","","",""]
[null,{"$f":"IF(R29=\"x\",1,IF(SUM(B30:B39)>0,1,0))","v":1},0,{"$f":"I29","v":"620.000"},null,null,{"$f":"J29","v":"Sicurezza sul lavoro temporanea"},"","620.000","Sicurezza sul lavoro temporanea",null,null,null,null,null,null,"forfait",null,null,null,null,null,null,null,null,null,null,null,null,null,null,"x",null,"forfait","forfait","forfait","forfait","forfait","forfait","forfait","forfait","forfait","forfait",null,"forfait","","","","","","","","",""]
[null,{"$f":"IF(R30=\"x\",1,IF(ISNUMBER(R30),R30,0))","v":0},0,{"$f":"K30","v":"621.000"},null,null,{"$f":"L30","v":"Concetto per la sicurezza sul lavoro"},"",null,null,"621.000","Concetto per la sicurezza sul lavoro",null,null,null,null,"forfait",null,null,null,null,null,null,null,null,null,null,null,null,null,null,"x",null,"forfait","forfait","forfait","forfait","forfait","forfait","forfait","forfait","forfait","forfait",null,"forfait","","","","","","","","",""]
[null,{"$f":"IF(OR(SUM(B32:B39)>0,R31=\"x\"),1,IF(ISNUMBER(R31),R31,0))","v":1},0,"622.000",null,null,"Strumenti per la sicurezza sul lavoro","",null,null,"622.000","Strumenti per la sicurezza sul lavoro",null,null,null,null,"forfait",null,null,null,null,null,null,null,null,null,null,null,null,null,null,"x",null,"forfait","forfait","forfait","forfait","forfait","forfait","forfait","forfait","forfait","forfait",null,"forfait","","","","","","","","",""]
[null,1,1,null,{"$f":"M32","v":"622.100"},null,{"$f":"N32","v":"Ponteggio a torre"},"ml",null,null,null,null,"622.100","Ponteggio a torre",null,null,"ml","x",null,null,null,null,null,null,"x",null,null,null,null,null,null,"x",null,"ml","ml","ml","forfait","forfait","forfait","forfait","forfait","forfait","forfait",null,"ml","forfait","","","","","","","",""]
[null,1,1,null,"622.200",null,"Ponteggio con parapetti per tetto piano","m2",null,null,null,null,"622.200","Ponteggio con parapetti per tetto piano",null,null,"m2","x",null,null,null,null,null,null,null,"x",null,null,null,null,null,"x",null,"m2","m2","m2","m2","forfait","forfait","forfait","forfait","forfait","forfait",null,"m2","forfait","","","","","","","",""]
[null,0,0,null,"622.300",null,"Ponteggio con protezione per i bordi del tetto","",null,null,null,null,"622.300","Ponteggio con protezione per i bordi del tetto",null,null,"ml",null,null,null,null,null,null,null,"x",null,null,null,null,null,null,"x",null,"ml","ml","ml","forfait","forfait","forfait","forfait","forfait","forfait","forfait",null,"ml","forfait","","","","","","","",""]
[null,0,0,null,"622.400",null,"Sbarramento a zone","",null,null,null,null,"622.400","Sbarramento a zone",null,null,"ml",null,null,null,null,null,null,null,"x",null,null,null,null,null,null,"x",null,"ml","ml","ml","forfait","forfait","forfait","forfait","forfait","forfait","forfait",null,"ml","forfait","","","","","","","",""]
[null,0,0,null,"622.500",null,"Sicurezza per lucernari","",null,null,null,null,"622.500","Sicurezza per lucernari",null,null,"ml",null,null,null,null,null,null,null,"x",null,null,null,null,null,null,"x",null,"ml","ml","ml","forfait","forfait","forfait","forfait","forfait","forfait","forfait",null,"ml","forfait","","","","","","","",""]
[null,0,0,null,"622.600",null,"Rete di sicurezza sotto il tetto","",null,null,null,null,"622.600","Rete di sicurezza sotto il tetto",null,null,"m2",null,null,null,null,null,null,null,null,"x",null,null,null,null,null,"x",null,"m2","m2","m2","m2","forfait","forfait","forfait","forfait","forfait","forfait",null,"m2","forfait","","","","","","","",""]
[null,0,0,null,"622.700",null,"Dispositivi di sicurezza e protezione (illuminazione, segnalazione, ecc.)","",null,null,null,null,"622.700","Dispositivi di sicurezza e protezione (illuminazione, segnalazione, ecc.)",null,null,"forfait",null,null,null,null,null,null,null,null,null,null,null,null,null,null,"x",null,"forfait","forfait","forfait","forfait","forfait","forfait","forfait","forfait","forfait","forfait",null,"forfait","","","","","","","","",""]
[null,0,0,null,"622.800",null,{"$f":"N39","v":"Messa in sicurezza dei bordi"},"",null,null,null,null,"622.800","Messa in sicurezza dei bordi",null,null,"forfait",null,null,null,null,null,null,null,"x",null,null,null,null,null,null,"x",null,"ml","ml","ml","forfait","forfait","forfait","forfait","forfait","forfait","forfait",null,"ml","forfait","","","","","","","",""]
[null,{"$f":"B29","v":1},0,null,null,null,null,"",null,null,null,null,null,null,null,null,null,null,null,null,null,null,null,null,null,null,null,null,null,null,null,null,null,"","","","","","","","","","",null,"","","","","","","","","",""]
[null,{"$f":"IF(R41=\"x\",1,IF(SUM(B42:B64)>0,1,0))","v":1},0,{"$f":"I41","v":"630.000"},null,null,{"$f":"J41","v":"Sicurezza sul lavoro permanente"},"","630.000","Sicurezza sul lavoro permanente",null,null,null,null,null,null,"forfait",null,null,null,null,null,null,null,null,null,null,null,null,null,null,"x",null,"forfait","forfait","forfait","forfait","forfait","forfait","forfait","forfait","forfait","forfait",null,"forfait","","","","","","","","",""]
[null,{"$f":"IF(OR(SUM(B43:B47)>0,R42=\"x\"),1,IF(ISNUMBER(R42),R42,0))","v":1},0,{"$f":"K42","v":"631.000"},null,null,{"$f":"L42","v":"Punto di arresto singolo"},"",null,null,"631.000","Punto di arresto singolo",null,null,null,null,"pz.",null,null,null,null,"E600_Sicurezza_sul_lavoro_permanente","x",null,null,null,null,null,null,null,null,"x",null,"pz.","forfait","forfait","forfait","forfait","forfait","forfait","forfait","forfait","forfait",null,"pz.","forfait","","","","","","","",""]
[null,{"$f":"IF(R43=\"x\",1,IF(ISNUMBER(R43),R43,0))","v":1},1,null,{"$f":"M43","v":"631.100"},null,{"$f":"N43","v":"Punto di arresto singolo installato nel tetto"},"pz.",null,null,null,null,"631.100","Punto di arresto singolo installato nel tetto",null,null,"pz.","x","Caratteristiche: \nCertificazione",null,null,"E600_Sicurezza_sul_lavoro_permanente","x",null,null,null,null,null,null,null,null,"x",null,"pz.","forfait","forfait","forfait","forfait","forfait","forfait","forfait","forfait","forfait",null,"pz.","forfait","","","","","","","",""]
[null,0,0,null,{"$f":"M44","v":"631.200"},null,"Punto di arresto singolo zavorrato con ghiaia/substrato","",null,null,null,null,"631.200","Punto di arresto singolo zavorrato con ghiaia/substrato",null,null,"pz.",null,null,null,null,"E600_Sicurezza_sul_lavoro_permanente","x",null,null,null,null,null,null,null,null,"x",null,"pz.","forfait","forfait","forfait","forfait","forfait","forfait","forfait","forfait","forfait",null,"pz.","forfait","","","","","","","",""]
[null,0,0,null,{"$f":"M45","v":"631.300"},null,"Punto di arresto singolo zavorrato con elementi in pietra","",null,null,null,null,"631.300","Punto di arresto singolo zavorrato con elementi in pietra",null,null,"pz.",null,null,null,null,"E600_Sicurezza_sul_lavoro_permanente","x",null,null,null,null,null,null,null,null,"x",null,"pz.","forfait","forfait","forfait","forfait","forfait","forfait","forfait","forfait","forfait",null,"pz.","forfait","","","","","","","",""]
[null,0,0,null,{"$f":"M46","v":"631.400"},null,"Punto di arresto singolo fissato sulla sottostruttura","",null,null,null,null,"631.400","Punto di arresto singolo fissato sulla sottostruttura",null,null,"pz.",null,null,null,null,"E600_Sicurezza_sul_lavoro_permanente","x",null,null,null,null,null,null,null,null,"x",null,"pz.","forfait","forfait","forfait","forfait","forfait","forfait","forfait","forfait","forfait",null,"pz.","forfait","","","","","","","",""]
[null,0,0,null,{"$f":"M47","v":"631.500"},null,"Punto di arresto singolo fissato su parete/soffitto","",null,null,null,null,"631.500","Punto di arresto singolo fissato su parete/soffitto",null,null,"ml",null,null,null,null,"E600_Sicurezza_sul_lavoro_permanente","x",null,null,null,null,null,null,null,null,"x",null,"pz.","forfait","forfait","forfait","forfait","forfait","forfait","forfait","forfait","forfait",null,"pz.","forfait","","","","","","","",""]
[null,{"$f":"IF(OR(SUM(B49:B53)>0,R48=\"x\"),1,IF(ISNUMBER(R48),R48,0))","v":1},0,{"$f":"K48","v":"632.000"},null,null,{"$f":"L48","v":"Sistema a fune o a binario"},"",null,null,"632.000","Sistema a fune o a binario",null,null,null,null,"ml",null,null,null,null,"E600_Sicurezza_sul_lavoro_permanente",null,null,"x",null,null,null,null,null,null,"x",null,"ml","ml","ml","forfait","forfait","forfait","forfait","forfait","forfait","forfait",null,"ml","forfait","","","","","","","",""]
[null,1,1,null,{"$f":"M49","v":"632.100"},null,{"$f":"N49","v":"Sistema a fune o a binario installato nel tetto"},"ml",null,null,null,null,"632.100","Sistema a fune o a binario installato nel tetto",null,null,"ml","x",null,null,null,"E600_Sicurezza_sul_lavoro_permanente",null,null,"x",null,null,null,null,null,null,"x",null,"ml","ml","ml","forfait","forfait","forfait","forfait","forfait","forfait","forfait",null,"ml","forfait","","","","","","","",""]
[null,0,0,null,{"$f":"M50","v":"632.200"},null,"Sistema a fune o a binario zavorrato con ghiaia/substrato","",null,null,null,null,"632.200","Sistema a fune o a binario zavorrato con ghiaia/substrato",null,null,"ml",null,null,null,null,"E600_Sicurezza_sul_lavoro_permanente",null,null,"x",null,null,null,null,null,null,"x",null,"ml","ml","ml","forfait","forfait","forfait","forfait","forfait","forfait","forfait",null,"ml","forfait","","","","","","","",""]
[null,0,0,null,{"$f":"M51","v":"632.300"},null,"Sistema a fune o a binario zavorrato con elementi in pietra","",null,null,null,null,"632.300","Sistema a fune o a binario zavorrato con elementi in pietra",null,null,"ml",null,null,null,null,"E600_Sicurezza_sul_lavoro_permanente",null,null,"x",null,null,null,null,null,null,"x",null,"ml","ml","ml","forfait","forfait","forfait","forfait","forfait","forfait","forfait",null,"ml","forfait","","","","","","","",""]
[null,0,0,null,{"$f":"M52","v":"632.400"},null,"Sistema a fune o a binario fissato sulla sottostruttura","",null,null,null,null,"632.400","Sistema a fune o a binario fissato sulla sottostruttura",null,null,"ml",null,null,null,null,"E600_Sicurezza_sul_lavoro_permanente",null,null,"x",null,null,null,null,null,null,"x",null,"ml","ml","ml","forfait","forfait","forfait","forfait","forfait","forfait","forfait",null,"ml","forfait","","","","","","","",""]
[null,0,0,null,{"$f":"M53","v":"632.500"},null,"Sistema a fune o a binario fissato su parete/soffitto","",null,null,null,null,"632.500","Sistema a fune o a binario fissato su parete/soffitto",null,null,"forfait",null,null,null,null,"E600_Sicurezza_sul_lavoro_permanente",null,null,"x",null,null,null,null,null,null,"x",null,"ml","ml","ml","forfait","forfait","forfait","forfait","forfait","forfait","forfait",null,"ml","forfait","","","","","","","",""]
[null,{"$f":"IF(OR(SUM(B55:B57)>0,R54=\"x\"),1,IF(ISNUMBER(R54),R54,0))","v":0},0,{"$f":"K54","v":"633.000"},null,null,{"$f":"L54","v":"Accesso al tetto"},"",null,null,"633.000","Accesso al tetto",null,null,null,null,"forfait",null,null,null,null,"E600_Sicurezza_sul_lavoro_permanente",null,null,null,null,null,null,null,null,null,"x",null,"forfait","forfait","forfait","forfait","forfait","forfait","forfait","forfait","forfait","forfait",null,"forfait","","","","","","","","",""]
[null,0,0,null,{"$f":"M55","v":"633.100"},null,{"$f":"N55","v":"Scala con protezione anticaduta"},"",null,null,null,null,"633.100","Scala con protezione anticaduta",null,null,"forfait",null,null,null,null,"E600_Sicurezza_sul_lavoro_permanente",null,null,null,null,null,null,null,null,null,"x",null,"forfait","forfait","forfait","forfait","forfait","forfait","forfait","forfait","forfait","forfait",null,"forfait","","","","","","","","",""]
[null,0,0,null,{"$f":"M56","v":"633.200"},null,"Uscita sul tetto","",null,null,null,null,"633.200","Uscita sul tetto",null,null,"forfait",null,null,null,null,"E600_Sicurezza_sul_lavoro_permanente",null,null,null,null,null,null,null,null,null,"x",null,"forfait","forfait","forfait","forfait","forfait","forfait","forfait","forfait","forfait","forfait",null,"forfait","","","","","","","","",""]
[null,0,0,null,{"$f":"M57","v":"633.300"},null,"Scala esterna","",null,null,null,null,"633.300","Scala esterna",null,null,"m2",null,null,null,null,"E600_Sicurezza_sul_lavoro_permanente",null,null,null,null,null,null,null,null,null,"x",null,"forfait","forfait","forfait","forfait","forfait","forfait","forfait","forfait","forfait","forfait",null,"forfait","","","","","","","","",""]
[null,{"$f":"IF(OR(SUM(B59:B61)>0,R58=\"x\"),1,IF(ISNUMBER(R58),R58,0))","v":1},0,{"$f":"K58","v":"634.000"},null,null,{"$f":"L58","v":"Protezione anticaduta per il lucernario"},"",null,null,"634.000","Protezione anticaduta per il lucernario",null,null,null,null,"m2",null,null,null,null,"E600_Sicurezza_sul_lavoro_permanente",null,null,null,"x",null,null,null,null,null,"x",null,"m2","m2","m2","m2","forfait","forfait","forfait","forfait","forfait","forfait",null,"m2","forfait","","","","","","","",""]
[null,1,1,null,{"$f":"M59","v":"634.100"},null,{"$f":"N59","v":"Griglia di protezione anticaduta per il lucernario"},"m2",null,null,null,null,"634.100","Griglia di protezione anticaduta per il lucernario",null,null,"m2","x",null,null,null,"E600_Sicurezza_sul_lavoro_permanente",null,null,null,"x",null,null,null,null,null,"x",null,"m2","m2","m2","m2","forfait","forfait","forfait","forfait","forfait","forfait",null,"m2","forfait","","","","","","","",""]
[null,0,0,null,{"$f":"M60","v":"634.200"},null,"Rete di protezione anticaduta per il lucernario","",null,null,null,null,"634.200","Rete di protezione anticaduta per il lucernario",null,null,"ml",null,null,null,null,"E600_Sicurezza_sul_lavoro_permanente",null,null,null,"x",null,null,null,null,null,"x",null,"m2","m2","m2","m2","forfait","forfait","forfait","forfait","forfait","forfait",null,"m2","forfait","","","","","","","",""]
[null,0,0,null,{"$f":"M61","v":"634.300"},null,"Ringhiera di protezione anticaduta per il lucernario","",null,null,null,null,"634.300","Ringhiera di protezione anticaduta per il lucernario",null,null,"ml",null,null,null,null,"E600_Sicurezza_sul_lavoro_permanente",null,null,"x",null,null,null,null,null,null,"x",null,"ml","ml","ml","forfait","forfait","forfait","forfait","forfait","forfait","forfait",null,"ml","forfait","","","","","","","",""]
[null,0,0,{"$f":"K62","v":"635.000"},null,null,{"$f":"L62","v":"Piattaforme (per accesso all'ondulatore, ecc.)"},"",null,null,"635.000","Piattaforme (per accesso all'ondulatore, ecc.)",null,null,null,null,"forfait",null,null,null,null,"E600_Sicurezza_sul_lavoro_permanente",null,null,null,null,null,null,null,null,null,"x",null,"forfait","forfait","forfait","forfait","forfait","forfait","forfait","forfait","forfait","forfait",null,"forfait","","","","","","","","",""]
[null,{"$f":"IF(OR(SUM(B64)>0,R63=\"x\"),1,IF(ISNUMBER(R63),R63,0))","v":0},0,"636.000",null,null,"Parapetto","",null,null,"636.000","Parapetto",null,null,null,null,"ml",null,null,null,null,"E600_Sicurezza_sul_lavoro_permanente",null,null,"x",null,null,null,null,null,null,"x",null,"ml","ml","ml","forfait","forfait","forfait","forfait","forfait","forfait","forfait",null,"ml","forfait","","","","","","","",""]
[null,0,0,null,{"$f":"M64","v":"636.100"},null,{"$f":"N64","v":"Parapetto pieghevole"},"",null,null,null,null,"636.100","Parapetto pieghevole",null,null,"ml",null,null,null,null,"E600_Sicurezza_sul_lavoro_permanente",null,null,"x",null,null,null,null,null,null,"x",null,"ml","ml","ml","forfait","forfait","forfait","forfait","forfait","forfait","forfait",null,"ml","forfait","","","","","","","",""]
[null,{"$f":"B41","v":1},0,null,null,null,null,"",null,null,null,null,null,null,null,null,null,null,null,null,null,null,null,null,null,null,null,null,null,null,null,null,null,"","","","","","","","","","",null,"","","","","","","","","",""]
[null,{"$f":"IF(R66=\"x\",1,IF(SUM(B67:B79)>0,1,0))","v":1},0,{"$f":"I66","v":"640.000"},null,null,{"$f":"J66","v":"Autorizzazioni/richieste di finanziamento"},"","640.000","Autorizzazioni/richieste di finanziamento",null,null,null,null,null,null,"forfait",null,null,null,null,null,null,null,null,null,null,null,null,null,null,"x",null,"forfait","forfait","forfait","forfait","forfait","forfait","forfait","forfait","forfait","forfait",null,"forfait","","","","","","","","",""]
[null,{"$f":"IF(R67=\"x\",1,IF(ISNUMBER(R67),R67,0))","v":0},0,{"$f":"K67","v":"641.000"},null,null,{"$f":"L67","v":"Allestimento, inoltro e finalizzazione richiesta tecnica di allacciamento (RTA)"},"",null,null,"641.000","Allestimento, inoltro e finalizzazione richiesta tecnica di allacciamento (RTA)",null,null,null,null,"h",null,null,null,null,null,"x",null,null,null,null,"x",null,null,null,"x",null,"pz.","h","h","h","h","h","forfait","forfait","forfait","forfait",null,"pz.","h","forfait","","","","","","",""]
[null,1,1,"642.000",null,null,"Allestimento, inoltro e finalizzazione avviso di installazione (AI)","h",null,null,"642.000","Allestimento, inoltro e finalizzazione avviso di installazione (AI)",null,null,null,null,"h","x",null,null,null,null,"x",null,null,null,null,"x",null,null,null,"x",null,"pz.","h","h","h","h","h","forfait","forfait","forfait","forfait",null,"pz.","h","forfait","","","","","","",""]
[null,0,0,"643.000",null,null,"Allestimento, inoltro e finalizzazione domanda di costruzione","",null,null,"643.000","Allestimento, inoltro e finalizzazione domanda di costruzione",null,null,null,null,"h",null,null,null,null,null,"x",null,null,null,null,"x",null,null,null,"x",null,"pz.","h","h","h","h","h","forfait","forfait","forfait","forfait",null,"pz.","h","forfait","","","","","","",""]
[null,1,1,"644.000",null,null,"Allestimento, inoltro e finalizzazione annuncio di costruzione","h",null,null,"644.000","Allestimento, inoltro e finalizzazione annuncio di costruzione",null,null,null,null,"h","x",null,null,null,null,"x",null,null,null,null,"x",null,null,null,"x",null,"pz.","h","h","h","h","h","forfait","forfait","forfait","forfait",null,"pz.","h","forfait","","","","","","",""]
[null,0,0,"645.000",null,null,"Allestimento, inoltro e finalizzazione approvazione dei piani ESTI per il FV",{"$f":"IF(C71=1,Q71,\"\")","v":""},null,null,"645.000","Allestimento, inoltro e finalizzazione approvazione dei piani ESTI per il FV",null,null,null,null,"h",null,null,null,null,null,"x",null,null,null,null,"x",null,null,null,"x",null,{"$f":"\nIF(W71=\"x\",W$4,\nIF(X71=\"x\",X$4,\nIF(Y71=\"x\",Y$4,\nIF(Z71=\"x\",Z$4,\nIF(AA71=\"x\",AA$4,\nIF(AB71=\"x\",AB$4,\nIF(AC71=\"x\",AC$4,\nIF(AD71=\"x\",AD$4,\nIF(AE71=\"x\",AE$4,\nIF(AF71=\"x\",AF$4,\n\"\"))))))))))","v":"pz."},{"$f":"\nIF(X71=\"x\",X$4,\nIF(Y71=\"x\",Y$4,\nIF(Z71=\"x\",Z$4,\nIF(AA71=\"x\",AA$4,\nIF(AB71=\"x\",AB$4,\nIF(AC71=\"x\",AC$4,\nIF(AD71=\"x\",AD$4,\nIF(AE71=\"x\",AE$4,\nIF(AF71=\"x\",AF$4,\n\"\")))))))))","v":"h"},{"$f":"\nIF(Y71=\"x\",Y$4,\nIF(Z71=\"x\",Z$4,\nIF(AA71=\"x\",AA$4,\nIF(AB71=\"x\",AB$4,\nIF(AC71=\"x\",AC$4,\nIF(AD71=\"x\",AD$4,\nIF(AE71=\"x\",AE$4,\nIF(AF71=\"x\",AF$4,\n\"\"))))))))","v":"h"},{"$f":"\nIF(Z71=\"x\",Z$4,\nIF(AA71=\"x\",AA$4,\nIF(AB71=\"x\",AB$4,\nIF(AC71=\"x\",AC$4,\nIF(AD71=\"x\",AD$4,\nIF(AE71=\"x\",AE$4,\nIF(AF71=\"x\",AF$4,\n\"\")))))))","v":"h"},{"$f":"\nIF(AA71=\"x\",AA$4,\nIF(AB71=\"x\",AB$4,\nIF(AC71=\"x\",AC$4,\nIF(AD71=\"x\",AD$4,\nIF(AE71=\"x\",AE$4,\nIF(AF71=\"x\",AF$4,\n\"\"))))))","v":"h"},{"$f":"\nIF(AB71=\"x\",AB$4,\nIF(AC71=\"x\",AC$4,\nIF(AD71=\"x\",AD$4,\nIF(AE71=\"x\",AE$4,\nIF(AF71=\"x\",AF$4,\n\"\")))))","v":"h"},{"$f":"\nIF(AC71=\"x\",AC$4,\nIF(AD71=\"x\",AD$4,\nIF(AE71=\"x\",AE$4,\nIF(AF71=\"x\",AF$4,\n\"\"))))","v":"forfait"},{"$f":"\nIF(AD71=\"x\",AD$4,\nIF(AE71=\"x\",AE$4,\nIF(AF71=\"x\",AF$4,\n\"\")))","v":"forfait"},{"$f":"\nIF(AE71=\"x\",AE$4,\nIF(AF71=\"x\",AF$4,\n\"\"))","v":"forfait"},{"$f":"\nIF(AF71=\"x\",AF$4,\n\"\")","v":"forfait"},null,{"$f":"AH71","v":"pz."},{"$f":"IF(AS71=\"\",\"\",\nIF(AS71<>$AH71,$AH71,\nIF(AS71<>$AI71,$AI71,\nIF(AS71<>$AJ71,$AJ71,\nIF(AS71<>$AK71,$AK71,\nIF(AS71<>$AL71,$AL71,\nIF(AS71<>$AM71,$AM71,\nIF(AS71<>$AN71,$AN71,\nIF(AS71<>$AO71,$AO71,\nIF(AS71<>$AP71,$AP71,\nIF(AS71<>$AQ71,$AQ71,\n\"\")))))))))))","v":"h"},{"$f":"IF(AT71=\"\",\"\",\nIF(AND(AT71<>$AH71,AS71<>$AH71),$AH71,\nIF(AND(AT71<>$AI71,AS71<>$AI71),$AI71,\nIF(AND(AT71<>$AJ71,AS71<>$AJ71),$AJ71,\nIF(AND(AT71<>$AK71,AS71<>$AK71),$AK71,\nIF(AND(AT71<>$AL71,AS71<>$AL71),$AL71,\nIF(AND(AT71<>$AM71,AS71<>$AM71),$AM71,\nIF(AND(AT71<>$AN71,AS71<>$AN71),$AN71,\nIF(AND(AT71<>$AO71,AS71<>$AO71),$AO71,\nIF(AND(AT71<>$AP71,AS71<>$AP71),$AP71,\nIF(AND(AT71<>$AQ71,AS71<>$AQ71),$AQ71,\n\"\")))))))))))","v":"forfait"},{"$f":"IF(AU71=\"\",\"\",\nIF(AND(AS71<>$AH71,AU71<>$AH71,AT71<>$AH71),$AH71,\nIF(AND(AS71<>$AI71,AU71<>$AI71,AT71<>$AI71),$AI71,\nIF(AND(AS71<>$AJ71,AU71<>$AJ71,AT71<>$AJ71),$AJ71,\nIF(AND(AS71<>$AK71,AU71<>$AK71,AT71<>$AK71),$AK71,\nIF(AND(AS71<>$AL71,AU71<>$AL71,AT71<>$AL71),$AL71,\nIF(AND(AS71<>$AM71,AU71<>$AM71,AT71<>$AM71),$AM71,\nIF(AND(AS71<>$AN71,AU71<>$AN71,AT71<>$AN71),$AN71,\nIF(AND(AS71<>$AO71,AU71<>$AO71,AT71<>$AO71),$AO71,\nIF(AND(AS71<>$AP71,AU71<>$AP71,AT71<>$AP71),$AP71,\nIF(AND(AS71<>$AQ71,AU71<>$AQ71,AT71<>$AQ71),$AQ71,\n\"\")))))))))))","v":""},{"$f":"IF(AV71=\"\",\"\",\nIF(AND(AS71<>$AH71,AT71<>$AH71,AV71<>$AH71,AU71<>$AH71),$AH71,\nIF(AND(AS71<>$AI71,AT71<>$AI71,AV71<>$AI71,AU71<>$AI71),$AI71,\nIF(AND(AS71<>$AJ71,AT71<>$AJ71,AV71<>$AJ71,AU71<>$AJ71),$AJ71,\nIF(AND(AS71<>$AK71,AT71<>$AK71,AV71<>$AK71,AU71<>$AK71),$AK71,\nIF(AND(AS71<>$AL71,AT71<>$AL71,AV71<>$AL71,AU71<>$AL71),$AL71,\nIF(AND(AS71<>$AM71,AT71<>$AM71,AV71<>$AM71,AU71<>$AM71),$AM71,\nIF(AND(AS71<>$AN71,AT71<>$AN71,AV71<>$AN71,AU71<>$AN71),$AN71,\nIF(AND(AS71<>$AO71,AT71<>$AO71,AV71<>$AO71,AU71<>$AO71),$AO71,\nIF(AND(AS71<>$AP71,AT71<>$AP71,AV71<>$AP71,AU71<>$AP71),$AP71,\nIF(AND(AS71<>$AQ71,AT71<>$AQ71,AV71<>$AQ71,AU71<>$AQ71),$AQ71,\n\"\")))))))))))","v":""},{"$f":"IF(AW71=\"\",\"\",\nIF(AND(AS71<>$AH71,AT71<>$AH71,AU71<>$AH71,AW71<>$AH71,AV71<>$AH71),$AH71,\nIF(AND(AS71<>$AI71,AT71<>$AI71,AU71<>$AI71,AW71<>$AI71,AV71<>$AI71),$AI71,\nIF(AND(AS71<>$AJ71,AT71<>$AJ71,AU71<>$AJ71,AW71<>$AJ71,AV71<>$AJ71),$AJ71,\nIF(AND(AS71<>$AK71,AT71<>$AK71,AU71<>$AK71,AW71<>$AK71,AV71<>$AK71),$AK71,\nIF(AND(AS71<>$AL71,AT71<>$AL71,AU71<>$AL71,AW71<>$AL71,AV71<>$AL71),$AL71,\nIF(AND(AS71<>$AM71,AT71<>$AM71,AU71<>$AM71,AW71<>$AM71,AV71<>$AM71),$AM71,\nIF(AND(AS71<>$AN71,AT71<>$AN71,AU71<>$AN71,AW71<>$AN71,AV71<>$AN71),$AN71,\nIF(AND(AS71<>$AO71,AT71<>$AO71,AU71<>$AO71,AW71<>$AO71,AV71<>$AO71),$AO71,\nIF(AND(AS71<>$AP71,AT71<>$AP71,AU71<>$AP71,AW71<>$AP71,AV71<>$AP71),$AP71,\nIF(AND(AS71<>$AQ71,AT71<>$AQ71,AU71<>$AQ71,AW71<>$AQ71,AV71<>$AQ71),$AQ71,\n\"\")))))))))))","v":""},{"$f":"IF(AX71=\"\",\"\",\nIF(AND(AS71<>$AH71,AT71<>$AH71,AU71<>$AH71,AV71<>$AH71,AX71<>$AH71,AW71<>$AH71),$AH71,\nIF(AND(AS71<>$AI71,AT71<>$AI71,AU71<>$AI71,AV71<>$AI71,AX71<>$AI71,AW71<>$AI71),$AI71,\nIF(AND(AS71<>$AJ71,AT71<>$AJ71,AU71<>$AJ71,AV71<>$AJ71,AX71<>$AJ71,AW71<>$AJ71),$AJ71,\nIF(AND(AS71<>$AK71,AT71<>$AK71,AU71<>$AK71,AV71<>$AK71,AX71<>$AK71,AW71<>$AK71),$AK71,\nIF(AND(AS71<>$AL71,AT71<>$AL71,AU71<>$AL71,AV71<>$AL71,AX71<>$AL71,AW71<>$AL71),$AL71,\nIF(AND(AS71<>$AM71,AT71<>$AM71,AU71<>$AM71,AV71<>$AM71,AX71<>$AM71,AW71<>$AM71),$AM71,\nIF(AND(AS71<>$AN71,AT71<>$AN71,AU71<>$AN71,AV71<>$AN71,AX71<>$AN71,AW71<>$AN71),$AN71,\nIF(AND(AS71<>$AO71,AT71<>$AO71,AU71<>$AO71,AV71<>$AO71,AX71<>$AO71,AW71<>$AO71),$AO71,\nIF(AND(AS71<>$AP71,AT71<>$AP71,AU71<>$AP71,AV71<>$AP71,AX71<>$AP71,AW71<>$AP71),$AP71,\nIF(AND(AS71<>$AQ71,AT71<>$AQ71,AU71<>$AQ71,AV71<>$AQ71,AX71<>$AQ71,AW71<>$AQ71),$AQ71,\n\"\")))))))))))","v":""},{"$f":"IF(AY71=\"\",\"\",\nIF(AND(AS71<>$AH71,AT71<>$AH71,AU71<>$AH71,AV71<>$AH71,AW71<>$AH71,AY71<>$AH71,AX71<>$AH71),$AH71,\nIF(AND(AS71<>$AI71,AT71<>$AI71,AU71<>$AI71,AV71<>$AI71,AW71<>$AI71,AY71<>$AI71,AX71<>$AI71),$AI71,\nIF(AND(AS71<>$AJ71,AT71<>$AJ71,AU71<>$AJ71,AV71<>$AJ71,AW71<>$AJ71,AY71<>$AJ71,AX71<>$AJ71),$AJ71,\nIF(AND(AS71<>$AK71,AT71<>$AK71,AU71<>$AK71,AV71<>$AK71,AW71<>$AK71,AY71<>$AK71,AX71<>$AK71),$AK71,\nIF(AND(AS71<>$AL71,AT71<>$AL71,AU71<>$AL71,AV71<>$AL71,AW71<>$AL71,AY71<>$AL71,AX71<>$AL71),$AL71,\nIF(AND(AS71<>$AM71,AT71<>$AM71,AU71<>$AM71,AV71<>$AM71,AW71<>$AM71,AY71<>$AM71,AX71<>$AM71),$AM71,\nIF(AND(AS71<>$AN71,AT71<>$AN71,AU71<>$AN71,AV71<>$AN71,AW71<>$AN71,AY71<>$AN71,AX71<>$AN71),$AN71,\nIF(AND(AS71<>$AO71,AT71<>$AO71,AU71<>$AO71,AV71<>$AO71,AW71<>$AO71,AY71<>$AO71,AX71<>$AO71),$AO71,\nIF(AND(AS71<>$AP71,AT71<>$AP71,AU71<>$AP71,AV71<>$AP71,AW71<>$AP71,AY71<>$AP71,AX71<>$AP71),$AP71,\nIF(AND(AS71<>$AQ71,AT71<>$AQ71,AU71<>$AQ71,AV71<>$AQ71,AW71<>$AQ71,AY71<>$AQ71,AX71<>$AQ71),$AQ71,\n\"\")))))))))))","v":""},{"$f":"IF(AZ71=\"\",\"\",\nIF(AND(AS71<>$AH71,AT71<>$AH71,AU71<>$AH71,AV71<>$AH71,AW71<>$AH71,AX71<>$AH71,AZ71<>$AH71,AY71<>$AH71),$AH71,\nIF(AND(AS71<>$AI71,AT71<>$AI71,AU71<>$AI71,AV71<>$AI71,AW71<>$AI71,AX71<>$AI71,AZ71<>$AI71,AY71<>$AI71),$AI71,\nIF(AND(AS71<>$AJ71,AT71<>$AJ71,AU71<>$AJ71,AV71<>$AJ71,AW71<>$AJ71,AX71<>$AJ71,AZ71<>$AJ71,AY71<>$AJ71),$AJ71,\nIF(AND(AS71<>$AK71,AT71<>$AK71,AU71<>$AK71,AV71<>$AK71,AW71<>$AK71,AX71<>$AK71,AZ71<>$AK71,AY71<>$AK71),$AK71,\nIF(AND(AS71<>$AL71,AT71<>$AL71,AU71<>$AL71,AV71<>$AL71,AW71<>$AL71,AX71<>$AL71,AZ71<>$AL71,AY71<>$AL71),$AL71,\nIF(AND(AS71<>$AM71,AT71<>$AM71,AU71<>$AM71,AV71<>$AM71,AW71<>$AM71,AX71<>$AM71,AZ71<>$AM71,AY71<>$AM71),$AM71,\nIF(AND(AS71<>$AN71,AT71<>$AN71,AU71<>$AN71,AV71<>$AN71,AW71<>$AN71,AX71<>$AN71,AZ71<>$AN71,AY71<>$AN71),$AN71,\nIF(AND(AS71<>$AO71,AT71<>$AO71,AU71<>$AO71,AV71<>$AO71,AW71<>$AO71,AX71<>$AO71,AZ71<>$AO71,AY71<>$AO71),$AO71,\nIF(AND(AS71<>$AP71,AT71<>$AP71,AU71<>$AP71,AV71<>$AP71,AW71<>$AP71,AX71<>$AP71,AZ71<>$AP71,AY71<>$AP71),$AP71,\nIF(AND(AS71<>$AQ71,AT71<>$AQ71,AU71<>$AQ71,AV71<>$AQ71,AW71<>$AQ71,AX71<>$AQ71,AZ71<>$AQ71,AY71<>$AQ71),$AQ71,\n\"\")))))))))))","v":""},{"$f":"IF(BA71=\"\",\"\",\nIF(AND(AS71<>$AH71,AT71<>$AH71,AU71<>$AH71,AV71<>$AH71,AW71<>$AH71,AX71<>$AH71,AY71<>$AH71,BA71<>$AH71,AZ71<>$AH71),$AH71,\nIF(AND(AS71<>$AI71,AT71<>$AI71,AU71<>$AI71,AV71<>$AI71,AW71<>$AI71,AX71<>$AI71,AY71<>$AI71,BA71<>$AI71,AZ71<>$AI71),$AI71,\nIF(AND(AS71<>$AJ71,AT71<>$AJ71,AU71<>$AJ71,AV71<>$AJ71,AW71<>$AJ71,AX71<>$AJ71,AY71<>$AJ71,BA71<>$AJ71,AZ71<>$AJ71),$AJ71,\nIF(AND(AS71<>$AK71,AT71<>$AK71,AU71<>$AK71,AV71<>$AK71,AW71<>$AK71,AX71<>$AK71,AY71<>$AK71,BA71<>$AK71,AZ71<>$AK71),$AK71,\nIF(AND(AS71<>$AL71,AT71<>$AL71,AU71<>$AL71,AV71<>$AL71,AW71<>$AL71,AX71<>$AL71,AY71<>$AL71,BA71<>$AL71,AZ71<>$AL71),$AL71,\nIF(AND(AS71<>$AM71,AT71<>$AM71,AU71<>$AM71,AV71<>$AM71,AW71<>$AM71,AX71<>$AM71,AY71<>$AM71,BA71<>$AM71,AZ71<>$AM71),$AM71,\nIF(AND(AS71<>$AN71,AT71<>$AN71,AU71<>$AN71,AV71<>$AN71,AW71<>$AN71,AX71<>$AN71,AY71<>$AN71,BA71<>$AN71,AZ71<>$AN71),$AN71,\nIF(AND(AS71<>$AO71,AT71<>$AO71,AU71<>$AO71,AV71<>$AO71,AW71<>$AO71,AX71<>$AO71,AY71<>$AO71,BA71<>$AO71,AZ71<>$AO71),$AO71,\nIF(AND(AS71<>$AP71,AT71<>$AP71,AU71<>$AP71,AV71<>$AP71,AW71<>$AP71,AX71<>$AP71,AY71<>$AP71,BA71<>$AP71,AZ71<>$AP71),$AP71,\nIF(AND(AS71<>$AQ71,AT71<>$AQ71,AU71<>$AQ71,AV71<>$AQ71,AW71<>$AQ71,AX71<>$AQ71,AY71<>$AQ71,BA71<>$AQ71,AZ71<>$AQ71),$AQ71,\n\"\")))))))))))","v":""}]
[null,0,{"$f":"IF(R72=\"x\",1,IF(ISNUMBER(R72),1,0))","v":0},"646.000",null,null,"Allestimento, inoltro e finalizzazione approvazione dei piani ESTI per la MT","",null,null,"646.000","Allestimento, inoltro e finalizzazione approvazione dei piani ESTI per la MT",null,null,null,null,"h",null,null,null,null,null,"x",null,null,null,null,"x",null,null,null,"x",null,"pz.","h","h","h","h","h","forfait","forfait","forfait","forfait",null,"pz.","h","forfait","","","","","","",""]
[null,{"$f":"IF(OR(SUM(B74:B75)>0,R73=\"x\"),1,IF(ISNUMBER(R73),R73,0))","v":0},0,"647.000",null,null,"Allestimento, inoltro e finalizzazione richiesta di incentivazione","",null,null,"647.000","Allestimento, inoltro e finalizzazione richiesta di incentivazione",null,null,null,null,"h",null,null,null,null,null,"x",null,null,null,null,"x",null,null,null,"x",null,"pz.","h","h","h","h","h","forfait","forfait","forfait","forfait",null,"pz.","h","forfait","","","","","","",""]
[null,0,0,null,{"$f":"M74","v":"647.100"},null,{"$f":"N74","v":"Allestimento, inoltro e finalizzazione annuncio Pronovo"},"",null,null,null,null,"647.100","Allestimento, inoltro e finalizzazione annuncio Pronovo",null,null,"h",null,null,null,null,null,"x",null,null,null,null,"x",null,null,null,"x",null,"pz.","h","h","h","h","h","forfait","forfait","forfait","forfait",null,"pz.","h","forfait","","","","","","",""]
[null,0,0,null,{"$f":"M75","v":"647.200"},null,"Allestimento, inoltro e finalizzazione richiesta di incentivi cantonali e/o comunali","",null,null,null,null,"647.200","Allestimento, inoltro e finalizzazione richiesta di incentivi cantonali e/o comunali",null,null,"h",null,null,null,null,null,"x",null,null,null,null,"x",null,null,null,"x",null,"pz.","h","h","h","h","h","forfait","forfait","forfait","forfait",null,"pz.","h","forfait","","","","","","",""]
[null,{"$f":"IF(OR(SUM(B77:B79)>0,R76=\"x\"),1,IF(ISNUMBER(R76),R76,0))","v":1},0,{"$f":"K76","v":"648.000"},null,null,{"$f":"L76","v":"Tasse"},"",null,null,"648.000","Tasse",null,null,null,null,"pz.",null,null,null,null,null,"x",null,null,null,null,null,null,null,null,"x",null,"pz.","forfait","forfait","forfait","forfait","forfait","forfait","forfait","forfait","forfait",null,"pz.","forfait","","","","","","","",""]
[null,0,0,null,{"$f":"M77","v":"648.100"},null,{"$f":"N77","v":"Tasse per la domanda di costruzione"},"",null,null,null,null,"648.100","Tasse per la domanda di costruzione",null,null,"pz.",null,null,null,null,null,"x",null,null,null,null,null,null,null,null,"x",null,"pz.","forfait","forfait","forfait","forfait","forfait","forfait","forfait","forfait","forfait",null,"pz.","forfait","","","","","","","",""]
[null,0,0,null,{"$f":"M78","v":"648.200"},null,"Tasse GRD","",null,null,null,null,"648.200","Tasse GRD",null,null,"pz.",null,null,null,null,null,"x",null,null,null,null,null,null,null,null,"x",null,"pz.","forfait","forfait","forfait","forfait","forfait","forfait","forfait","forfait","forfait",null,"pz.","forfait","","","","","","","",""]
[null,1,1,null,{"$f":"M79","v":"648.300"},null,"Tasse ESTI","pz.",null,null,null,null,"648.300","Tasse ESTI",null,null,"pz.","x",null,null,null,null,"x",null,null,null,null,null,null,null,null,"x",null,"pz.","forfait","forfait","forfait","forfait","forfait","forfait","forfait","forfait","forfait",null,"pz.","forfait","","","","","","","",""]
[null,{"$f":"B66","v":1},0,null,null,null,null,"",null,null,null,null,null,null,null,null,null,null,null,null,null,null,null,null,null,null,null,null,null,null,null,null,null,"","","","","","","","","","",null,"","","","","","","","","",""]
[null,{"$f":"IF(R81=\"x\",1,IF(SUM(B82:B102)>0,1,0))","v":1},0,{"$f":"I81","v":"650.000"},null,null,{"$f":"J81","v":"Progettazione esecutiva"},"","650.000","Progettazione esecutiva",null,null,null,null,null,null,"forfait",null,null,null,null,null,null,null,null,null,null,"x",null,null,null,"x",null,"h","h","h","h","h","h","forfait","forfait","forfait","forfait",null,"h","forfait","","","","","","","",""]
[null,{"$f":"IF(OR(SUM(B83:B87)>0,R82=\"x\"),1,IF(ISNUMBER(R82),R82,0))","v":0},0,{"$f":"K82","v":"651.000"},null,null,{"$f":"L82","v":"Sicurezza dell'interfaccia"},"",null,null,"651.000","Sicurezza dell'interfaccia",null,null,null,null,"h",null,null,null,null,null,null,null,null,null,null,"x",null,null,null,"x",null,"h","h","h","h","h","h","forfait","forfait","forfait","forfait",null,"h","forfait","","","","","","","",""]
[null,{"$f":"IF(R83=\"x\",1,IF(ISNUMBER(R83),R83,0))","v":0},0,null,{"$f":"M83","v":"651.100"},null,{"$f":"N83","v":"Perizia"},"",null,null,null,null,"651.100","Perizia",null,null,"h",null,null,null,null,null,null,null,null,null,null,"x",null,null,null,"x",null,"h","h","h","h","h","h","forfait","forfait","forfait","forfait",null,"h","forfait","","","","","","","",""]
[null,0,0,null,{"$f":"M84","v":"651.200"},null,"Collaudo","",null,null,null,null,"651.200","Collaudo",null,null,"h",null,null,null,null,null,null,null,null,null,null,"x",null,null,null,"x",null,"h","h","h","h","h","h","forfait","forfait","forfait","forfait",null,"h","forfait","","","","","","","",""]
[null,0,0,null,{"$f":"M85","v":"651.300"},null,"Controllo della situazione","",null,null,null,null,"651.300","Controllo della situazione",null,null,"h",null,null,null,null,null,null,null,null,null,null,"x",null,null,null,"x",null,"h","h","h","h","h","h","forfait","forfait","forfait","forfait",null,"h","forfait","","","","","","","",""]
[null,0,0,null,{"$f":"M86","v":"651.400"},null,"Controllo delle dimensioni sul posto","",null,null,null,null,"651.400","Controllo delle dimensioni sul posto",null,null,"h",null,null,null,null,null,null,null,null,null,null,"x",null,null,null,"x",null,"h","h","h","h","h","h","forfait","forfait","forfait","forfait",null,"h","forfait","","","","","","","",""]
[null,0,0,null,{"$f":"M87","v":"651.500"},null,"Sondaggi","",null,null,null,null,"651.500","Sondaggi",null,null,"h",null,null,null,null,null,null,null,null,null,null,"x",null,null,null,"x",null,"h","h","h","h","h","h","forfait","forfait","forfait","forfait",null,"h","forfait","","","","","","","",""]
[null,{"$f":"IF(OR(SUM(B89:B93)>0,R88=\"x\"),1,IF(ISNUMBER(R88),R88,0))","v":1},1,{"$f":"K88","v":"652.000"},null,null,{"$f":"L88","v":"Allestimento/disegno dei piani esecutivi"},"h",null,null,"652.000","Allestimento/disegno dei piani esecutivi",null,null,null,null,"h","x",null,null,null,null,null,null,null,null,null,"x",null,null,null,"x",null,"h","h","h","h","h","h","forfait","forfait","forfait","forfait",null,"h","forfait","","","","","","","",""]
[null,0,0,null,{"$f":"M89","v":"652.100"},null,{"$f":"N89","v":"Allestimento piano dei moduli"},"",null,null,null,null,"652.100","Allestimento piano dei moduli",null,null,"h",null,null,null,null,null,null,null,null,null,null,"x",null,null,null,"x",null,"h","h","h","h","h","h","forfait","forfait","forfait","forfait",null,"h","forfait","","","","","","","",""]
[null,0,0,null,{"$f":"M90","v":"652.200"},null,"Allestimento piano delle stringhe","",null,null,null,null,"652.200","Allestimento piano delle stringhe",null,null,"h",null,null,null,null,null,null,null,null,null,null,"x",null,null,null,"x",null,"h","h","h","h","h","h","forfait","forfait","forfait","forfait",null,"h","forfait","","","","","","","",""]
[null,0,0,null,{"$f":"M91","v":"652.300"},null,"Allestimento piano logistico","",null,null,null,null,"652.300","Allestimento piano logistico",null,null,"h",null,null,null,null,null,null,null,null,null,null,"x",null,null,null,"x",null,"h","h","h","h","h","h","forfait","forfait","forfait","forfait",null,"h","forfait","","","","","","","",""]
[null,0,0,null,{"$f":"M92","v":"652.400"},null,"Allestimento schema ondulatore","",null,null,null,null,"652.400","Allestimento schema ondulatore",null,null,"h",null,null,null,null,null,null,null,null,null,null,"x",null,null,null,"x",null,"h","h","h","h","h","h","forfait","forfait","forfait","forfait",null,"h","forfait","","","","","","","",""]
[null,0,0,null,{"$f":"M93","v":"652.500"},null,"Allestimento schema sotto distribuzione e distribuzione principale","",null,null,null,null,"652.500","Allestimento schema sotto distribuzione e distribuzione principale",null,null,"forfait",null,null,null,null,null,null,null,null,null,null,"x",null,null,null,"x",null,"h","h","h","h","h","h","forfait","forfait","forfait","forfait",null,"h","forfait","","","","","","","",""]
[null,0,0,{"$f":"K94","v":"653.000"},null,null,{"$f":"L94","v":"Verifica statica edificio"},"",null,null,"653.000","Verifica statica edificio",null,null,null,null,"h",null,null,null,null,null,null,null,null,null,null,"x",null,null,null,"x",null,"h","h","h","h","h","h","forfait","forfait","forfait","forfait",null,"h","forfait","","","","","","","",""]
[null,0,0,{"$f":"K95","v":"654.000"},null,null,{"$f":"L95","v":"Allestimento rapporto di analisi statica della costruzione"},"",null,null,"654.000","Allestimento rapporto di analisi statica della costruzione",null,null,null,null,"h",null,null,null,null,null,null,null,null,null,null,"x",null,null,null,"x",null,"h","h","h","h","h","h","forfait","forfait","forfait","forfait",null,"h","forfait","","","","","","","",""]
[null,0,0,"655.000",null,null,"Allestimento rapporto di analisi statica allestito da una ditta esterna","",null,null,"655.000","Allestimento rapporto di analisi statica allestito da una ditta esterna",null,null,null,null,"forfait",null,null,null,null,null,null,null,null,null,null,"x",null,null,null,"x",null,"h","h","h","h","h","h","forfait","forfait","forfait","forfait",null,"h","forfait","","","","","","","",""]
[null,0,0,"656.000",null,null,"Allestimento concetto di protezione antincendio","",null,null,"656.000","Allestimento concetto di protezione antincendio",null,null,null,null,"h",null,null,null,null,null,null,null,null,null,null,"x",null,null,null,"x",null,"h","h","h","h","h","h","forfait","forfait","forfait","forfait",null,"h","forfait","","","","","","","",""]
[null,0,0,"657.000",null,null,"Allestimento concetto di protezione antifulmine e da sovratensione","",null,null,"657.000","Allestimento concetto di protezione antifulmine e da sovratensione",null,null,null,null,"forfait",null,null,null,null,null,null,null,null,null,null,"x",null,null,null,"x",null,"h","h","h","h","h","h","forfait","forfait","forfait","forfait",null,"h","forfait","","","","","","","",""]
[null,0,0,"658.000",null,null,"Giustificativo selettività","",null,null,"658.000","Giustificativo selettività",null,null,null,null,"h",null,null,null,null,null,null,null,null,null,null,"x",null,null,null,"x",null,"h","h","h","h","h","h","forfait","forfait","forfait","forfait",null,"h","forfait","","","","","","","",""]
[null,{"$f":"IF(OR(SUM(B101:B102)>0,R100=\"x\"),1,IF(ISNUMBER(R100),R100,0))","v":0},0,"659.000",null,null,"Modello","",null,null,"659.000","Modello",null,null,null,null,"h",null,null,null,null,null,null,null,null,null,null,"x",null,null,null,"x",null,"h","h","h","h","h","h","forfait","forfait","forfait","forfait",null,"h","forfait","","","","","","","",""]
[null,0,0,null,{"$f":"M101","v":"659.100"},null,{"$f":"N101","v":"Modello a mano"},"",null,null,null,null,"659.100","Modello a mano",null,null,"pz.",null,null,null,null,null,"x",null,null,null,null,null,null,null,null,"x",null,"pz.","forfait","forfait","forfait","forfait","forfait","forfait","forfait","forfait","forfait",null,"pz.","forfait","","","","","","","",""]
[null,0,0,null,{"$f":"M102","v":"659.200"},null,"Allestimento prototipo (mock-up)","",null,null,null,null,"659.200","Allestimento prototipo (mock-up)",null,null,"forfait",null,null,null,null,null,null,null,null,null,null,null,null,null,null,"x",null,"forfait","forfait","forfait","forfait","forfait","forfait","forfait","forfait","forfait","forfait",null,"forfait","","","","","","","","",""]
[null,{"$f":"B81","v":1},0,null,null,null,null,"",null,null,null,null,null,null,null,null,null,null,null,null,null,null,null,null,null,null,null,null,null,null,null,null,null,"","","","","","","","","","",null,"","","","","","","","","",""]
[null,{"$f":"IF(R104=\"x\",1,IF(SUM(B105:B112)>0,1,0))","v":1},0,{"$f":"I104","v":"660.000"},null,null,{"$f":"J104","v":"Gestione del progetto e del cantiere"},"","660.000","Gestione del progetto e del cantiere",null,null,null,null,null,null,"forfait",null,null,null,null,null,null,null,null,null,null,"x",null,null,null,"x",null,"h","h","h","h","h","h","forfait","forfait","forfait","forfait",null,"h","forfait","","","","","","","",""]
[null,{"$f":"IF(R105=\"x\",1,IF(ISNUMBER(R105),R105,0))","v":1},1,{"$f":"K105","v":"661.000"},null,null,{"$f":"L105","v":"Gestione del progetto"},"h",null,null,"661.000","Gestione del progetto",null,null,null,null,"h","x",null,null,null,null,null,null,null,null,null,"x",null,null,null,"x",null,"h","h","h","h","h","h","forfait","forfait","forfait","forfait",null,"h","forfait","","","","","","","",""]
[null,1,1,"662.000",null,null,"Gestione del cantiere","h",null,null,"662.000","Gestione del cantiere",null,null,null,null,"h","x",null,null,null,null,null,null,null,null,null,"x",null,null,null,"x",null,"h","h","h","h","h","h","forfait","forfait","forfait","forfait",null,"h","forfait","","","","","","","",""]
[null,{"$f":"IF(OR(SUM(B108:B109)>0,R107=\"x.\"),1,IF(ISNUMBER(R107),R107,0))","v":0},1,"663.000",null,null,"Messa in servizio","h",null,null,"663.000","Messa in servizio",null,null,null,null,"h","x",null,null,null,null,null,null,null,null,null,"x",null,null,null,"x",null,"h","h","h","h","h","h","forfait","forfait","forfait","forfait",null,"h","forfait","","","","","","","",""]
[null,0,0,null,{"$f":"M108","v":"663.100"},null,{"$f":"N108","v":"Messa in servizio impianto FV"},"",null,null,null,null,"663.100","Messa in servizio impianto FV",null,null,"h",null,null,null,null,null,null,null,null,null,null,null,null,null,null,null,null,"","","","","","","","","","",null,"","","","","","","","","",""]
[null,0,0,null,{"$f":"M109","v":"663.200"},null,"Programmazione dei sistemi di controllo","",null,null,null,null,"663.200","Programmazione dei sistemi di controllo",null,null,"h",null,null,null,null,null,null,null,null,null,null,null,null,null,null,null,null,"","","","","","","","","","",null,"","","","","","","","","",""]
[null,1,1,{"$f":"K110","v":"664.000"},null,null,{"$f":"L110","v":"Documentazione dell'impianto"},"h",null,null,"664.000","Documentazione dell'impianto",null,null,null,null,"h","x",null,null,null,null,null,null,null,null,null,"x",null,null,null,"x",null,"h","h","h","h","h","h","forfait","forfait","forfait","forfait",null,"h","forfait","","","","","","","",""]
[null,1,1,"665.000",null,null,"Istruzioni","h",null,null,"665.000","Istruzioni",null,null,null,null,"h","x",null,null,null,null,null,null,null,null,null,"x",null,null,null,"x",null,"h","h","h","h","h","h","forfait","forfait","forfait","forfait",null,"h","forfait","","","","","","","",""]
[null,0,0,"666.000",null,null,"Tariffe per lavori a regia","",null,null,"666.000","Tariffe per lavori a regia",null,null,null,null,"h",null,null,null,null,null,null,null,null,null,null,"x",null,null,null,"x",null,"h","h","h","h","h","h","forfait","forfait","forfait","forfait",null,"h","forfait","","","","","","","",""]
[null,{"$f":"B104","v":1},0,null,null,null,null,"",null,null,null,null,null,null,null,null,null,null,null,null,null,null,null,null,null,null,null,null,null,null,null,null,null,"","","","","","","","","","",null,"","","","","","","","","",""]
[null,{"$f":"IF(R114=\"x\",1,IF(SUM(B115:B123)>0,1,0))","v":1},0,{"$f":"I114","v":"670.000"},null,null,{"$f":"J114","v":"Collaudo"},"","670.000","Collaudo",null,null,null,null,null,null,"forfait",null,null,null,null,null,null,null,null,null,null,null,null,null,null,"x",null,"forfait","forfait","forfait","forfait","forfait","forfait","forfait","forfait","forfait","forfait",null,"forfait","","","","","","","","",""]
[null,{"$f":"IF(R115=\"x\",1,IF(ISNUMBER(R115),R115,0))","v":1},1,{"$f":"K115","v":"671.000"},null,null,{"$f":"L115","v":"Collaudo da parte di progettista / installatore / autorità / GRD"},"h",null,null,"671.000","Collaudo da parte di progettista / installatore / autorità / GRD",null,null,null,null,"h","x",null,null,null,null,null,null,null,null,null,"x",null,null,null,"x",null,"h","h","h","h","h","h","forfait","forfait","forfait","forfait",null,"h","forfait","","","","","","","",""]
[null,1,1,"672.000",null,null,"Allestimento RaSi","h",null,null,"672.000","Allestimento RaSi",null,null,null,null,"h","x",null,null,null,null,null,null,null,null,null,"x",null,null,null,"x",null,"h","h","h","h","h","h","forfait","forfait","forfait","forfait",null,"h","forfait","","","","","","","",""]
[null,1,1,"673.000",null,null,"Allestimento PM PV (Protocollo delle misurazioni e delle prove)","h",null,null,"673.000","Allestimento PM PV (Protocollo delle misurazioni e delle prove)",null,null,null,null,"h","x",null,null,null,null,null,null,null,null,null,"x",null,null,null,"x",null,"h","h","h","h","h","h","forfait","forfait","forfait","forfait",null,"h","forfait","","","","","","","",""]
[null,1,1,"674.000",null,null,"Controllo accreditato DC","h",null,null,"674.000","Controllo accreditato DC",null,null,null,null,"h","x",null,null,null,null,null,null,null,null,null,"x",null,null,null,"x",null,"h","h","h","h","h","h","forfait","forfait","forfait","forfait",null,"h","forfait","","","","","","","",""]
[null,1,1,"675.000",null,null,"Controllo indipendente AC","h",null,null,"675.000","Controllo indipendente AC",null,null,null,null,"h","x",null,null,null,null,null,null,null,null,null,"x",null,null,null,"x",null,"h","h","h","h","h","h","forfait","forfait","forfait","forfait",null,"h","forfait","","","","","","","",""]
[null,1,1,"676.000",null,null,"Certificazione e inoltro a Pronovo da parte dell'auditore","h",null,null,"676.000","Certificazione e inoltro a Pronovo da parte dell'auditore",null,null,null,null,"h","x",null,null,null,null,null,null,null,null,null,"x",null,null,null,"x",null,"h","h","h","h","h","h","forfait","forfait","forfait","forfait",null,"h","forfait","","","","","","","",""]
[null,0,0,null,{"$f":"M121","v":"676.100"},null,{"$f":"N121","v":"Certificazione e inoltro a Pronovo da parte dell'auditore, incl. GO"},"",null,null,null,null,"676.100","Certificazione e inoltro a Pronovo da parte dell'auditore, incl. GO",null,null,"h",null,null,null,null,null,null,null,null,null,null,null,null,null,null,"x",null,"forfait","forfait","forfait","forfait","forfait","forfait","forfait","forfait","forfait","forfait",null,"forfait","","","","","","","","",""]
[null,0,0,{"$f":"K122","v":"677.000"},null,null,{"$f":"L122","v":"Collaudo con ESTI sul posto"},"",null,null,"677.000","Collaudo con ESTI sul posto",null,null,null,null,"h",null,null,null,null,null,null,null,null,null,null,"x",null,null,null,"x",null,"h","h","h","h","h","h","forfait","forfait","forfait","forfait",null,"h","forfait","","","","","","","",""]
[null,0,0,"678.000",null,null,"Certificato di protezione antifulmine","",null,null,"678.000","Certificato di protezione antifulmine",null,null,null,null,"h",null,null,null,null,null,null,null,null,null,null,"x",null,null,null,"x",null,"h","h","h","h","h","h","forfait","forfait","forfait","forfait",null,"h","forfait","","","","","","","",""]
[null,{"$f":"B114","v":1},0]

{"sheet":"E_Box600","index":15,"n_rows":57,"n_cols":3,"rows_kept":57,"cut":false,"hidden":true,"merged":[]}
["Campo di applicazione"]
["Livello di struttura 1",null,"600"]
["Livello di struttura 2",null,"630"]
["Livello di struttura 3",null,"631-636"]
[]
[null,null,"E600_Sicurezza_sul_lavoro_permanente"]
["Nr."]
[1,null,"Certificazione"]
[2,null,"Resistente ai raggi UV"]
[3,null,"Conforme alle direttive SUVA"]
[4]
[5]
[6]
[7]
[8]
[9]
[10]
[11]
[12]
[13]
[14]
[15]
[16]
[17]
[18]
[19]
[20]
[21]
[22]
[23]
[24]
[25]
[26]
[27]
[28]
[29]
[30]
[31]
[32]
[33]
[34]
[35]
[36]
[37]
[38]
[39]
[40]
[41]
[42]
[43]
[44]
[45]
[46]
[47]
[48]
[49]
[50]

{"sheet":"700 Opere edili","index":16,"n_rows":101,"n_cols":53,"rows_kept":101,"cut":false,"hidden":false,"merged":[[0,20,0,52],[1,7,1,8],[3,7,3,8],[3,9,3,10],[3,11,3,12],[2,7,2,12]]}
[null,null,null,null,null,null,null,null,null,null,null,null,null,null,null,null,null,null,null,null,"NASCONDERE"]
[null,null,null,null,null,"Nascondere",null,"Livello di struttura 1:",null,700,"Opere edili"]
[null,null,null,null,null,null,null,"Opzionale"]
[null,"Show","Fill","SOQ-Nr.",null,"Descrizione","Unità","Livello di struttura 2",null,"Livello di struttura 3",null,"Livello di struttura 4",null,"Unità","Aggiungi posizione","E- Box",null,null,null,null,"E-Box","pz.","moduli","ml","m2","m3","h","mesi","anni","kWp","forfait",null,"Pos1","Pos2","Pos3","Pos4","Pos5","Pos6","Pos7","Pos8","Pos9","Pos10",null,"Pos1","Pos2","Pos3","Pos4","Pos5","Pos6","Pos7","Pos8","Pos9","Pos10"]
[]
[null,{"$f":"IF(O6=\"x\",1,IF(SUM(B8:B28)>0,1,0))","v":0},{"$f":"IF(O6=\"x\",1,IF(ISNUMBER(O6),1,0))","v":0},{"$f":"H6","v":"710.000"},null,{"$f":"I6","v":"Opere da lattoniere"},{"$f":"IF(C6=1,N6,\"\")","v":""},"710.000","Opere da lattoniere",null,null,null,null,"forfait",null,null,null,null,null,null,"E700_Lavorazioni_in_metallo",null,null,null,null,null,null,null,null,null,"x",null,{"$f":"\nIF(V6=\"x\",V$4,\nIF(W6=\"x\",W$4,\nIF(X6=\"x\",X$4,\nIF(Y6=\"x\",Y$4,\nIF(Z6=\"x\",Z$4,\nIF(AA6=\"x\",AA$4,\nIF(AB6=\"x\",AB$4,\nIF(AC6=\"x\",AC$4,\nIF(AD6=\"x\",AD$4,\nIF(AE6=\"x\",AE$4,\n\"\"))))))))))","v":"forfait"},{"$f":"\nIF(W6=\"x\",W$4,\nIF(X6=\"x\",X$4,\nIF(Y6=\"x\",Y$4,\nIF(Z6=\"x\",Z$4,\nIF(AA6=\"x\",AA$4,\nIF(AB6=\"x\",AB$4,\nIF(AC6=\"x\",AC$4,\nIF(AD6=\"x\",AD$4,\nIF(AE6=\"x\",AE$4,\n\"\")))))))))","v":"forfait"},{"$f":"\nIF(X6=\"x\",X$4,\nIF(Y6=\"x\",Y$4,\nIF(Z6=\"x\",Z$4,\nIF(AA6=\"x\",AA$4,\nIF(AB6=\"x\",AB$4,\nIF(AC6=\"x\",AC$4,\nIF(AD6=\"x\",AD$4,\nIF(AE6=\"x\",AE$4,\n\"\"))))))))","v":"forfait"},{"$f":"\nIF(Y6=\"x\",Y$4,\nIF(Z6=\"x\",Z$4,\nIF(AA6=\"x\",AA$4,\nIF(AB6=\"x\",AB$4,\nIF(AC6=\"x\",AC$4,\nIF(AD6=\"x\",AD$4,\nIF(AE6=\"x\",AE$4,\n\"\")))))))","v":"forfait"},{"$f":"\nIF(Z6=\"x\",Z$4,\nIF(AA6=\"x\",AA$4,\nIF(AB6=\"x\",AB$4,\nIF(AC6=\"x\",AC$4,\nIF(AD6=\"x\",AD$4,\nIF(AE6=\"x\",AE$4,\n\"\"))))))","v":"forfait"},{"$f":"\nIF(AA6=\"x\",AA$4,\nIF(AB6=\"x\",AB$4,\nIF(AC6=\"x\",AC$4,\nIF(AD6=\"x\",AD$4,\nIF(AE6=\"x\",AE$4,\n\"\")))))","v":"forfait"},{"$f":"\nIF(AB6=\"x\",AB$4,\nIF(AC6=\"x\",AC$4,\nIF(AD6=\"x\",AD$4,\nIF(AE6=\"x\",AE$4,\n\"\"))))","v":"forfait"},{"$f":"\nIF(AC6=\"x\",AC$4,\nIF(AD6=\"x\",AD$4,\nIF(AE6=\"x\",AE$4,\n\"\")))","v":"forfait"},{"$f":"\nIF(AD6=\"x\",AD$4,\nIF(AE6=\"x\",AE$4,\n\"\"))","v":"forfait"},{"$f":"\nIF(AE6=\"x\",AE$4,\n\"\")","v":"forfait"},null,{"$f":"AG6","v":"forfait"},{"$f":"IF(AR6=\"\",\"\",\nIF(AR6<>$AG6,$AG6,\nIF(AR6<>$AH6,$AH6,\nIF(AR6<>$AI6,$AI6,\nIF(AR6<>$AJ6,$AJ6,\nIF(AR6<>$AK6,$AK6,\nIF(AR6<>$AL6,$AL6,\nIF(AR6<>$AM6,$AM6,\nIF(AR6<>$AN6,$AN6,\nIF(AR6<>$AO6,$AO6,\nIF(AR6<>$AP6,$AP6,\n\"\")))))))))))","v":""},{"$f":"IF(AS6=\"\",\"\",\nIF(AND(AS6<>$AG6,AR6<>$AG6),$AG6,\nIF(AND(AS6<>$AH6,AR6<>$AH6),$AH6,\nIF(AND(AS6<>$AI6,AR6<>$AI6),$AI6,\nIF(AND(AS6<>$AJ6,AR6<>$AJ6),$AJ6,\nIF(AND(AS6<>$AK6,AR6<>$AK6),$AK6,\nIF(AND(AS6<>$AL6,AR6<>$AL6),$AL6,\nIF(AND(AS6<>$AM6,AR6<>$AM6),$AM6,\nIF(AND(AS6<>$AN6,AR6<>$AN6),$AN6,\nIF(AND(AS6<>$AO6,AR6<>$AO6),$AO6,\nIF(AND(AS6<>$AP6,AR6<>$AP6),$AP6,\n\"\")))))))))))","v":""},{"$f":"IF(AT6=\"\",\"\",\nIF(AND(AR6<>$AG6,AT6<>$AG6,AS6<>$AG6),$AG6,\nIF(AND(AR6<>$AH6,AT6<>$AH6,AS6<>$AH6),$AH6,\nIF(AND(AR6<>$AI6,AT6<>$AI6,AS6<>$AI6),$AI6,\nIF(AND(AR6<>$AJ6,AT6<>$AJ6,AS6<>$AJ6),$AJ6,\nIF(AND(AR6<>$AK6,AT6<>$AK6,AS6<>$AK6),$AK6,\nIF(AND(AR6<>$AL6,AT6<>$AL6,AS6<>$AL6),$AL6,\nIF(AND(AR6<>$AM6,AT6<>$AM6,AS6<>$AM6),$AM6,\nIF(AND(AR6<>$AN6,AT6<>$AN6,AS6<>$AN6),$AN6,\nIF(AND(AR6<>$AO6,AT6<>$AO6,AS6<>$AO6),$AO6,\nIF(AND(AR6<>$AP6,AT6<>$AP6,AS6<>$AP6),$AP6,\n\"\")))))))))))","v":""},{"$f":"IF(AU6=\"\",\"\",\nIF(AND(AR6<>$AG6,AS6<>$AG6,AU6<>$AG6,AT6<>$AG6),$AG6,\nIF(AND(AR6<>$AH6,AS6<>$AH6,AU6<>$AH6,AT6<>$AH6),$AH6,\nIF(AND(AR6<>$AI6,AS6<>$AI6,AU6<>$AI6,AT6<>$AI6),$AI6,\nIF(AND(AR6<>$AJ6,AS6<>$AJ6,AU6<>$AJ6,AT6<>$AJ6),$AJ6,\nIF(AND(AR6<>$AK6,AS6<>$AK6,AU6<>$AK6,AT6<>$AK6),$AK6,\nIF(AND(AR6<>$AL6,AS6<>$AL6,AU6<>$AL6,AT6<>$AL6),$AL6,\nIF(AND(AR6<>$AM6,AS6<>$AM6,AU6<>$AM6,AT6<>$AM6),$AM6,\nIF(AND(AR6<>$AN6,AS6<>$AN6,AU6<>$AN6,AT6<>$AN6),$AN6,\nIF(AND(AR6<>$AO6,AS6<>$AO6,AU6<>$AO6,AT6<>$AO6),$AO6,\nIF(AND(AR6<>$AP6,AS6<>$AP6,AU6<>$AP6,AT6<>$AP6),$AP6,\n\"\")))))))))))","v":""},{"$f":"IF(AV6=\"\",\"\",\nIF(AND(AR6<>$AG6,AS6<>$AG6,AT6<>$AG6,AV6<>$AG6,AU6<>$AG6),$AG6,\nIF(AND(AR6<>$AH6,AS6<>$AH6,AT6<>$AH6,AV6<>$AH6,AU6<>$AH6),$AH6,\nIF(AND(AR6<>$AI6,AS6<>$AI6,AT6<>$AI6,AV6<>$AI6,AU6<>$AI6),$AI6,\nIF(AND(AR6<>$AJ6,AS6<>$AJ6,AT6<>$AJ6,AV6<>$AJ6,AU6<>$AJ6),$AJ6,\nIF(AND(AR6<>$AK6,AS6<>$AK6,AT6<>$AK6,AV6<>$AK6,AU6<>$AK6),$AK6,\nIF(AND(AR6<>$AL6,AS6<>$AL6,AT6<>$AL6,AV6<>$AL6,AU6<>$AL6),$AL6,\nIF(AND(AR6<>$AM6,AS6<>$AM6,AT6<>$AM6,AV6<>$AM6,AU6<>$AM6),$AM6,\nIF(AND(AR6<>$AN6,AS6<>$AN6,AT6<>$AN6,AV6<>$AN6,AU6<>$AN6),$AN6,\nIF(AND(AR6<>$AO6,AS6<>$AO6,AT6<>$AO6,AV6<>$AO6,AU6<>$AO6),$AO6,\nIF(AND(AR6<>$AP6,AS6<>$AP6,AT6<>$AP6,AV6<>$AP6,AU6<>$AP6),$AP6,\n\"\")))))))))))","v":""},{"$f":"IF(AW6=\"\",\"\",\nIF(AND(AR6<>$AG6,AS6<>$AG6,AT6<>$AG6,AU6<>$AG6,AW6<>$AG6,AV6<>$AG6),$AG6,\nIF(AND(AR6<>$AH6,AS6<>$AH6,AT6<>$AH6,AU6<>$AH6,AW6<>$AH6,AV6<>$AH6),$AH6,\nIF(AND(AR6<>$AI6,AS6<>$AI6,AT6<>$AI6,AU6<>$AI6,AW6<>$AI6,AV6<>$AI6),$AI6,\nIF(AND(AR6<>$AJ6,AS6<>$AJ6,AT6<>$AJ6,AU6<>$AJ6,AW6<>$AJ6,AV6<>$AJ6),$AJ6,\nIF(AND(AR6<>$AK6,AS6<>$AK6,AT6<>$AK6,AU6<>$AK6,AW6<>$AK6,AV6<>$AK6),$AK6,\nIF(AND(AR6<>$AL6,AS6<>$AL6,AT6<>$AL6,AU6<>$AL6,AW6<>$AL6,AV6<>$AL6),$AL6,\nIF(AND(AR6<>$AM6,AS6<>$AM6,AT6<>$AM6,AU6<>$AM6,AW6<>$AM6,AV6<>$AM6),$AM6,\nIF(AND(AR6<>$AN6,AS6<>$AN6,AT6<>$AN6,AU6<>$AN6,AW6<>$AN6,AV6<>$AN6),$AN6,\nIF(AND(AR6<>$AO6,AS6<>$AO6,AT6<>$AO6,AU6<>$AO6,AW6<>$AO6,AV6<>$AO6),$AO6,\nIF(AND(AR6<>$AP6,AS6<>$AP6,AT6<>$AP6,AU6<>$AP6,AW6<>$AP6,AV6<>$AP6),$AP6,\n\"\")))))))))))","v":""},{"$f":"IF(AX6=\"\",\"\",\nIF(AND(AR6<>$AG6,AS6<>$AG6,AT6<>$AG6,AU6<>$AG6,AV6<>$AG6,AX6<>$AG6,AW6<>$AG6),$AG6,\nIF(AND(AR6<>$AH6,AS6<>$AH6,AT6<>$AH6,AU6<>$AH6,AV6<>$AH6,AX6<>$AH6,AW6<>$AH6),$AH6,\nIF(AND(AR6<>$AI6,AS6<>$AI6,AT6<>$AI6,AU6<>$AI6,AV6<>$AI6,AX6<>$AI6,AW6<>$AI6),$AI6,\nIF(AND(AR6<>$AJ6,AS6<>$AJ6,AT6<>$AJ6,AU6<>$AJ6,AV6<>$AJ6,AX6<>$AJ6,AW6<>$AJ6),$AJ6,\nIF(AND(AR6<>$AK6,AS6<>$AK6,AT6<>$AK6,AU6<>$AK6,AV6<>$AK6,AX6<>$AK6,AW6<>$AK6),$AK6,\nIF(AND(AR6<>$AL6,AS6<>$AL6,AT6<>$AL6,AU6<>$AL6,AV6<>$AL6,AX6<>$AL6,AW6<>$AL6),$AL6,\nIF(AND(AR6<>$AM6,AS6<>$AM6,AT6<>$AM6,AU6<>$AM6,AV6<>$AM6,AX6<>$AM6,AW6<>$AM6),$AM6,\nIF(AND(AR6<>$AN6,AS6<>$AN6,AT6<>$AN6,AU6<>$AN6,AV6<>$AN6,AX6<>$AN6,AW6<>$AN6),$AN6,\nIF(AND(AR6<>$AO6,AS6<>$AO6,AT6<>$AO6,AU6<>$AO6,AV6<>$AO6,AX6<>$AO6,AW6<>$AO6),$AO6,\nIF(AND(AR6<>$AP6,AS6<>$AP6,AT6<>$AP6,AU6<>$AP6,AV6<>$AP6,AX6<>$AP6,AW6<>$AP6),$AP6,\n\"\")))))))))))","v":""},{"$f":"IF(AY6=\"\",\"\",\nIF(AND(AR6<>$AG6,AS6<>$AG6,AT6<>$AG6,AU6<>$AG6,AV6<>$AG6,AW6<>$AG6,AY6<>$AG6,AX6<>$AG6),$AG6,\nIF(AND(AR6<>$AH6,AS6<>$AH6,AT6<>$AH6,AU6<>$AH6,AV6<>$AH6,AW6<>$AH6,AY6<>$AH6,AX6<>$AH6),$AH6,\nIF(AND(AR6<>$AI6,AS6<>$AI6,AT6<>$AI6,AU6<>$AI6,AV6<>$AI6,AW6<>$AI6,AY6<>$AI6,AX6<>$AI6),$AI6,\nIF(AND(AR6<>$AJ6,AS6<>$AJ6,AT6<>$AJ6,AU6<>$AJ6,AV6<>$AJ6,AW6<>$AJ6,AY6<>$AJ6,AX6<>$AJ6),$AJ6,\nIF(AND(AR6<>$AK6,AS6<>$AK6,AT6<>$AK6,AU6<>$AK6,AV6<>$AK6,AW6<>$AK6,AY6<>$AK6,AX6<>$AK6),$AK6,\nIF(AND(AR6<>$AL6,AS6<>$AL6,AT6<>$AL6,AU6<>$AL6,AV6<>$AL6,AW6<>$AL6,AY6<>$AL6,AX6<>$AL6),$AL6,\nIF(AND(AR6<>$AM6,AS6<>$AM6,AT6<>$AM6,AU6<>$AM6,AV6<>$AM6,AW6<>$AM6,AY6<>$AM6,AX6<>$AM6),$AM6,\nIF(AND(AR6<>$AN6,AS6<>$AN6,AT6<>$AN6,AU6<>$AN6,AV6<>$AN6,AW6<>$AN6,AY6<>$AN6,AX6<>$AN6),$AN6,\nIF(AND(AR6<>$AO6,AS6<>$AO6,AT6<>$AO6,AU6<>$AO6,AV6<>$AO6,AW6<>$AO6,AY6<>$AO6,AX6<>$AO6),$AO6,\nIF(AND(AR6<>$AP6,AS6<>$AP6,AT6<>$AP6,AU6<>$AP6,AV6<>$AP6,AW6<>$AP6,AY6<>$AP6,AX6<>$AP6),$AP6,\n\"\")))))))))))","v":""},{"$f":"IF(AZ6=\"\",\"\",\nIF(AND(AR6<>$AG6,AS6<>$AG6,AT6<>$AG6,AU6<>$AG6,AV6<>$AG6,AW6<>$AG6,AX6<>$AG6,AZ6<>$AG6,AY6<>$AG6),$AG6,\nIF(AND(AR6<>$AH6,AS6<>$AH6,AT6<>$AH6,AU6<>$AH6,AV6<>$AH6,AW6<>$AH6,AX6<>$AH6,AZ6<>$AH6,AY6<>$AH6),$AH6,\nIF(AND(AR6<>$AI6,AS6<>$AI6,AT6<>$AI6,AU6<>$AI6,AV6<>$AI6,AW6<>$AI6,AX6<>$AI6,AZ6<>$AI6,AY6<>$AI6),$AI6,\nIF(AND(AR6<>$AJ6,AS6<>$AJ6,AT6<>$AJ6,AU6<>$AJ6,AV6<>$AJ6,AW6<>$AJ6,AX6<>$AJ6,AZ6<>$AJ6,AY6<>$AJ6),$AJ6,\nIF(AND(AR6<>$AK6,AS6<>$AK6,AT6<>$AK6,AU6<>$AK6,AV6<>$AK6,AW6<>$AK6,AX6<>$AK6,AZ6<>$AK6,AY6<>$AK6),$AK6,\nIF(AND(AR6<>$AL6,AS6<>$AL6,AT6<>$AL6,AU6<>$AL6,AV6<>$AL6,AW6<>$AL6,AX6<>$AL6,AZ6<>$AL6,AY6<>$AL6),$AL6,\nIF(AND(AR6<>$AM6,AS6<>$AM6,AT6<>$AM6,AU6<>$AM6,AV6<>$AM6,AW6<>$AM6,AX6<>$AM6,AZ6<>$AM6,AY6<>$AM6),$AM6,\nIF(AND(AR6<>$AN6,AS6<>$AN6,AT6<>$AN6,AU6<>$AN6,AV6<>$AN6,AW6<>$AN6,AX6<>$AN6,AZ6<>$AN6,AY6<>$AN6),$AN6,\nIF(AND(AR6<>$AO6,AS6<>$AO6,AT6<>$AO6,AU6<>$AO6,AV6<>$AO6,AW6<>$AO6,AX6<>$AO6,AZ6<>$AO6,AY6<>$AO6),$AO6,\nIF(AND(AR6<>$AP6,AS6<>$AP6,AT6<>$AP6,AU6<>$AP6,AV6<>$AP6,AW6<>$AP6,AX6<>$AP6,AZ6<>$AP6,AY6<>$AP6),$AP6,\n\"\")))))))))))","v":""}]
[null,{"$f":"IF(F7=\"\",0,1)","v":0},0,null,null,{"$f":"IF(P6<>\"\",P6,\"\")","v":""}]
[null,{"$f":"IF(OR(SUM(B9:B15)>0,O8=\"x\"),1,IF(ISNUMBER(O8),O8,0))","v":0},{"$f":"IF(O8=\"x\",1,IF(ISNUMBER(O8),1,0))","v":0},{"$f":"J8","v":"711.000"},null,{"$f":"K8 & IF(P8<>\"\",CHAR(10) & P8,\"\")","v":"Opere da lattoniere su tetto a falda"},{"$f":"IF(C8=1,N8,\"\")","v":""},null,null,"711.000","Opere da lattoniere su tetto a falda",null,null,"pz.",null,null,null,null,null,null,"E700_Lavorazioni_in_metallo","x",null,null,null,null,null,null,null,null,"x",null,{"$f":"\nIF(V8=\"x\",V$4,\nIF(W8=\"x\",W$4,\nIF(X8=\"x\",X$4,\nIF(Y8=\"x\",Y$4,\nIF(Z8=\"x\",Z$4,\nIF(AA8=\"x\",AA$4,\nIF(AB8=\"x\",AB$4,\nIF(AC8=\"x\",AC$4,\nIF(AD8=\"x\",AD$4,\nIF(AE8=\"x\",AE$4,\n\"\"))))))))))","v":"pz."},{"$f":"\nIF(W8=\"x\",W$4,\nIF(X8=\"x\",X$4,\nIF(Y8=\"x\",Y$4,\nIF(Z8=\"x\",Z$4,\nIF(AA8=\"x\",AA$4,\nIF(AB8=\"x\",AB$4,\nIF(AC8=\"x\",AC$4,\nIF(AD8=\"x\",AD$4,\nIF(AE8=\"x\",AE$4,\n\"\")))))))))","v":"forfait"},{"$f":"\nIF(X8=\"x\",X$4,\nIF(Y8=\"x\",Y$4,\nIF(Z8=\"x\",Z$4,\nIF(AA8=\"x\",AA$4,\nIF(AB8=\"x\",AB$4,\nIF(AC8=\"x\",AC$4,\nIF(AD8=\"x\",AD$4,\nIF(AE8=\"x\",AE$4,\n\"\"))))))))","v":"forfait"},{"$f":"\nIF(Y8=\"x\",Y$4,\nIF(Z8=\"x\",Z$4,\nIF(AA8=\"x\",AA$4,\nIF(AB8=\"x\",AB$4,\nIF(AC8=\"x\",AC$4,\nIF(AD8=\"x\",AD$4,\nIF(AE8=\"x\",AE$4,\n\"\")))))))","v":"forfait"},{"$f":"\nIF(Z8=\"x\",Z$4,\nIF(AA8=\"x\",AA$4,\nIF(AB8=\"x\",AB$4,\nIF(AC8=\"x\",AC$4,\nIF(AD8=\"x\",AD$4,\nIF(AE8=\"x\",AE$4,\n\"\"))))))","v":"forfait"},{"$f":"\nIF(AA8=\"x\",AA$4,\nIF(AB8=\"x\",AB$4,\nIF(AC8=\"x\",AC$4,\nIF(AD8=\"x\",AD$4,\nIF(AE8=\"x\",AE$4,\n\"\")))))","v":"forfait"},{"$f":"\nIF(AB8=\"x\",AB$4,\nIF(AC8=\"x\",AC$4,\nIF(AD8=\"x\",AD$4,\nIF(AE8=\"x\",AE$4,\n\"\"))))","v":"forfait"},{"$f":"\nIF(AC8=\"x\",AC$4,\nIF(AD8=\"x\",AD$4,\nIF(AE8=\"x\",AE$4,\n\"\")))","v":"forfait"},{"$f":"\nIF(AD8=\"x\",AD$4,\nIF(AE8=\"x\",AE$4,\n\"\"))","v":"forfait"},{"$f":"\nIF(AE8=\"x\",AE$4,\n\"\")","v":"forfait"},null,{"$f":"AG8","v":"pz."},"forfait",{"$f":"IF(AS8=\"\",\"\",\nIF(AND(AS8<>$AG8,AR8<>$AG8),$AG8,\nIF(AND(AS8<>$AH8,AR8<>$AH8),$AH8,\nIF(AND(AS8<>$AI8,AR8<>$AI8),$AI8,\nIF(AND(AS8<>$AJ8,AR8<>$AJ8),$AJ8,\nIF(AND(AS8<>$AK8,AR8<>$AK8),$AK8,\nIF(AND(AS8<>$AL8,AR8<>$AL8),$AL8,\nIF(AND(AS8<>$AM8,AR8<>$AM8),$AM8,\nIF(AND(AS8<>$AN8,AR8<>$AN8),$AN8,\nIF(AND(AS8<>$AO8,AR8<>$AO8),$AO8,\nIF(AND(AS8<>$AP8,AR8<>$AP8),$AP8,\n\"\")))))))))))","v":""},{"$f":"IF(AT8=\"\",\"\",\nIF(AND(AR8<>$AG8,AT8<>$AG8,AS8<>$AG8),$AG8,\nIF(AND(AR8<>$AH8,AT8<>$AH8,AS8<>$AH8),$AH8,\nIF(AND(AR8<>$AI8,AT8<>$AI8,AS8<>$AI8),$AI8,\nIF(AND(AR8<>$AJ8,AT8<>$AJ8,AS8<>$AJ8),$AJ8,\nIF(AND(AR8<>$AK8,AT8<>$AK8,AS8<>$AK8),$AK8,\nIF(AND(AR8<>$AL8,AT8<>$AL8,AS8<>$AL8),$AL8,\nIF(AND(AR8<>$AM8,AT8<>$AM8,AS8<>$AM8),$AM8,\nIF(AND(AR8<>$AN8,AT8<>$AN8,AS8<>$AN8),$AN8,\nIF(AND(AR8<>$AO8,AT8<>$AO8,AS8<>$AO8),$AO8,\nIF(AND(AR8<>$AP8,AT8<>$AP8,AS8<>$AP8),$AP8,\n\"\")))))))))))","v":""},{"$f":"IF(AU8=\"\",\"\",\nIF(AND(AR8<>$AG8,AS8<>$AG8,AU8<>$AG8,AT8<>$AG8),$AG8,\nIF(AND(AR8<>$AH8,AS8<>$AH8,AU8<>$AH8,AT8<>$AH8),$AH8,\nIF(AND(AR8<>$AI8,AS8<>$AI8,AU8<>$AI8,AT8<>$AI8),$AI8,\nIF(AND(AR8<>$AJ8,AS8<>$AJ8,AU8<>$AJ8,AT8<>$AJ8),$AJ8,\nIF(AND(AR8<>$AK8,AS8<>$AK8,AU8<>$AK8,AT8<>$AK8),$AK8,\nIF(AND(AR8<>$AL8,AS8<>$AL8,AU8<>$AL8,AT8<>$AL8),$AL8,\nIF(AND(AR8<>$AM8,AS8<>$AM8,AU8<>$AM8,AT8<>$AM8),$AM8,\nIF(AND(AR8<>$AN8,AS8<>$AN8,AU8<>$AN8,AT8<>$AN8),$AN8,\nIF(AND(AR8<>$AO8,AS8<>$AO8,AU8<>$AO8,AT8<>$AO8),$AO8,\nIF(AND(AR8<>$AP8,AS8<>$AP8,AU8<>$AP8,AT8<>$AP8),$AP8,\n\"\")))))))))))","v":""},{"$f":"IF(AV8=\"\",\"\",\nIF(AND(AR8<>$AG8,AS8<>$AG8,AT8<>$AG8,AV8<>$AG8,AU8<>$AG8),$AG8,\nIF(AND(AR8<>$AH8,AS8<>$AH8,AT8<>$AH8,AV8<>$AH8,AU8<>$AH8),$AH8,\nIF(AND(AR8<>$AI8,AS8<>$AI8,AT8<>$AI8,AV8<>$AI8,AU8<>$AI8),$AI8,\nIF(AND(AR8<>$AJ8,AS8<>$AJ8,AT8<>$AJ8,AV8<>$AJ8,AU8<>$AJ8),$AJ8,\nIF(AND(AR8<>$AK8,AS8<>$AK8,AT8<>$AK8,AV8<>$AK8,AU8<>$AK8),$AK8,\nIF(AND(AR8<>$AL8,AS8<>$AL8,AT8<>$AL8,AV8<>$AL8,AU8<>$AL8),$AL8,\nIF(AND(AR8<>$AM8,AS8<>$AM8,AT8<>$AM8,AV8<>$AM8,AU8<>$AM8),$AM8,\nIF(AND(AR8<>$AN8,AS8<>$AN8,AT8<>$AN8,AV8<>$AN8,AU8<>$AN8),$AN8,\nIF(AND(AR8<>$AO8,AS8<>$AO8,AT8<>$AO8,AV8<>$AO8,AU8<>$AO8),$AO8,\nIF(AND(AR8<>$AP8,AS8<>$AP8,AT8<>$AP8,AV8<>$AP8,AU8<>$AP8),$AP8,\n\"\")))))))))))","v":""},{"$f":"IF(AW8=\"\",\"\",\nIF(AND(AR8<>$AG8,AS8<>$AG8,AT8<>$AG8,AU8<>$AG8,AW8<>$AG8,AV8<>$AG8),$AG8,\nIF(AND(AR8<>$AH8,AS8<>$AH8,AT8<>$AH8,AU8<>$AH8,AW8<>$AH8,AV8<>$AH8),$AH8,\nIF(AND(AR8<>$AI8,AS8<>$AI8,AT8<>$AI8,AU8<>$AI8,AW8<>$AI8,AV8<>$AI8),$AI8,\nIF(AND(AR8<>$AJ8,AS8<>$AJ8,AT8<>$AJ8,AU8<>$AJ8,AW8<>$AJ8,AV8<>$AJ8),$AJ8,\nIF(AND(AR8<>$AK8,AS8<>$AK8,AT8<>$AK8,AU8<>$AK8,AW8<>$AK8,AV8<>$AK8),$AK8,\nIF(AND(AR8<>$AL8,AS8<>$AL8,AT8<>$AL8,AU8<>$AL8,AW8<>$AL8,AV8<>$AL8),$AL8,\nIF(AND(AR8<>$AM8,AS8<>$AM8,AT8<>$AM8,AU8<>$AM8,AW8<>$AM8,AV8<>$AM8),$AM8,\nIF(AND(AR8<>$AN8,AS8<>$AN8,AT8<>$AN8,AU8<>$AN8,AW8<>$AN8,AV8<>$AN8),$AN8,\nIF(AND(AR8<>$AO8,AS8<>$AO8,AT8<>$AO8,AU8<>$AO8,AW8<>$AO8,AV8<>$AO8),$AO8,\nIF(AND(AR8<>$AP8,AS8<>$AP8,AT8<>$AP8,AU8<>$AP8,AW8<>$AP8,AV8<>$AP8),$AP8,\n\"\")))))))))))","v":""},{"$f":"IF(AX8=\"\",\"\",\nIF(AND(AR8<>$AG8,AS8<>$AG8,AT8<>$AG8,AU8<>$AG8,AV8<>$AG8,AX8<>$AG8,AW8<>$AG8),$AG8,\nIF(AND(AR8<>$AH8,AS8<>$AH8,AT8<>$AH8,AU8<>$AH8,AV8<>$AH8,AX8<>$AH8,AW8<>$AH8),$AH8,\nIF(AND(AR8<>$AI8,AS8<>$AI8,AT8<>$AI8,AU8<>$AI8,AV8<>$AI8,AX8<>$AI8,AW8<>$AI8),$AI8,\nIF(AND(AR8<>$AJ8,AS8<>$AJ8,AT8<>$AJ8,AU8<>$AJ8,AV8<>$AJ8,AX8<>$AJ8,AW8<>$AJ8),$AJ8,\nIF(AND(AR8<>$AK8,AS8<>$AK8,AT8<>$AK8,AU8<>$AK8,AV8<>$AK8,AX8<>$AK8,AW8<>$AK8),$AK8,\nIF(AND(AR8<>$AL8,AS8<>$AL8,AT8<>$AL8,AU8<>$AL8,AV8<>$AL8,AX8<>$AL8,AW8<>$AL8),$AL8,\nIF(AND(AR8<>$AM8,AS8<>$AM8,AT8<>$AM8,AU8<>$AM8,AV8<>$AM8,AX8<>$AM8,AW8<>$AM8),$AM8,\nIF(AND(AR8<>$AN8,AS8<>$AN8,AT8<>$AN8,AU8<>$AN8,AV8<>$AN8,AX8<>$AN8,AW8<>$AN8),$AN8,\nIF(AND(AR8<>$AO8,AS8<>$AO8,AT8<>$AO8,AU8<>$AO8,AV8<>$AO8,AX8<>$AO8,AW8<>$AO8),$AO8,\nIF(AND(AR8<>$AP8,AS8<>$AP8,AT8<>$AP8,AU8<>$AP8,AV8<>$AP8,AX8<>$AP8,AW8<>$AP8),$AP8,\n\"\")))))))))))","v":""},{"$f":"IF(AY8=\"\",\"\",\nIF(AND(AR8<>$AG8,AS8<>$AG8,AT8<>$AG8,AU8<>$AG8,AV8<>$AG8,AW8<>$AG8,AY8<>$AG8,AX8<>$AG8),$AG8,\nIF(AND(AR8<>$AH8,AS8<>$AH8,AT8<>$AH8,AU8<>$AH8,AV8<>$AH8,AW8<>$AH8,AY8<>$AH8,AX8<>$AH8),$AH8,\nIF(AND(AR8<>$AI8,AS8<>$AI8,AT8<>$AI8,AU8<>$AI8,AV8<>$AI8,AW8<>$AI8,AY8<>$AI8,AX8<>$AI8),$AI8,\nIF(AND(AR8<>$AJ8,AS8<>$AJ8,AT8<>$AJ8,AU8<>$AJ8,AV8<>$AJ8,AW8<>$AJ8,AY8<>$AJ8,AX8<>$AJ8),$AJ8,\nIF(AND(AR8<>$AK8,AS8<>$AK8,AT8<>$AK8,AU8<>$AK8,AV8<>$AK8,AW8<>$AK8,AY8<>$AK8,AX8<>$AK8),$AK8,\nIF(AND(AR8<>$AL8,AS8<>$AL8,AT8<>$AL8,AU8<>$AL8,AV8<>$AL8,AW8<>$AL8,AY8<>$AL8,AX8<>$AL8),$AL8,\nIF(AND(AR8<>$AM8,AS8<>$AM8,AT8<>$AM8,AU8<>$AM8,AV8<>$AM8,AW8<>$AM8,AY8<>$AM8,AX8<>$AM8),$AM8,\nIF(AND(AR8<>$AN8,AS8<>$AN8,AT8<>$AN8,AU8<>$AN8,AV8<>$AN8,AW8<>$AN8,AY8<>$AN8,AX8<>$AN8),$AN8,\nIF(AND(AR8<>$AO8,AS8<>$AO8,AT8<>$AO8,AU8<>$AO8,AV8<>$AO8,AW8<>$AO8,AY8<>$AO8,AX8<>$AO8),$AO8,\nIF(AND(AR8<>$AP8,AS8<>$AP8,AT8<>$AP8,AU8<>$AP8,AV8<>$AP8,AW8<>$AP8,AY8<>$AP8,AX8<>$AP8),$AP8,\n\"\")))))))))))","v":""},{"$f":"IF(AZ8=\"\",\"\",\nIF(AND(AR8<>$AG8,AS8<>$AG8,AT8<>$AG8,AU8<>$AG8,AV8<>$AG8,AW8<>$AG8,AX8<>$AG8,AZ8<>$AG8,AY8<>$AG8),$AG8,\nIF(AND(AR8<>$AH8,AS8<>$AH8,AT8<>$AH8,AU8<>$AH8,AV8<>$AH8,AW8<>$AH8,AX8<>$AH8,AZ8<>$AH8,AY8<>$AH8),$AH8,\nIF(AND(AR8<>$AI8,AS8<>$AI8,AT8<>$AI8,AU8<>$AI8,AV8<>$AI8,AW8<>$AI8,AX8<>$AI8,AZ8<>$AI8,AY8<>$AI8),$AI8,\nIF(AND(AR8<>$AJ8,AS8<>$AJ8,AT8<>$AJ8,AU8<>$AJ8,AV8<>$AJ8,AW8<>$AJ8,AX8<>$AJ8,AZ8<>$AJ8,AY8<>$AJ8),$AJ8,\nIF(AND(AR8<>$AK8,AS8<>$AK8,AT8<>$AK8,AU8<>$AK8,AV8<>$AK8,AW8<>$AK8,AX8<>$AK8,AZ8<>$AK8,AY8<>$AK8),$AK8,\nIF(AND(AR8<>$AL8,AS8<>$AL8,AT8<>$AL8,AU8<>$AL8,AV8<>$AL8,AW8<>$AL8,AX8<>$AL8,AZ8<>$AL8,AY8<>$AL8),$AL8,\nIF(AND(AR8<>$AM8,AS8<>$AM8,AT8<>$AM8,AU8<>$AM8,AV8<>$AM8,AW8<>$AM8,AX8<>$AM8,AZ8<>$AM8,AY8<>$AM8),$AM8,\nIF(AND(AR8<>$AN8,AS8<>$AN8,AT8<>$AN8,AU8<>$AN8,AV8<>$AN8,AW8<>$AN8,AX8<>$AN8,AZ8<>$AN8,AY8<>$AN8),$AN8,\nIF(AND(AR8<>$AO8,AS8<>$AO8,AT8<>$AO8,AU8<>$AO8,AV8<>$AO8,AW8<>$AO8,AX8<>$AO8,AZ8<>$AO8,AY8<>$AO8),$AO8,\nIF(AND(AR8<>$AP8,AS8<>$AP8,AT8<>$AP8,AU8<>$AP8,AV8<>$AP8,AW8<>$AP8,AX8<>$AP8,AZ8<>$AP8,AY8<>$AP8),$AP8,\n\"\")))))))))))","v":""}]
[null,{"$f":"IF(O9=\"x\",1,IF(ISNUMBER(O9),O9,0))","v":0},{"$f":"IF(O9=\"x\",1,IF(ISNUMBER(O9),1,0))","v":0},null,{"$f":"L9","v":"711.100"},{"$f":"M9 & IF(P9<>\"\",CHAR(10) & P9,\"\")","v":"Conversa di raccordo per lucernari"},"",null,null,null,null,"711.100","Conversa di raccordo per lucernari","pz.",null,null,null,null,null,null,"E700_Lavorazioni_in_metallo","x",null,"x",null,null,null,null,null,null,"x",null,{"$f":"\nIF(V9=\"x\",V$4,\nIF(W9=\"x\",W$4,\nIF(X9=\"x\",X$4,\nIF(Y9=\"x\",Y$4,\nIF(Z9=\"x\",Z$4,\nIF(AA9=\"x\",AA$4,\nIF(AB9=\"x\",AB$4,\nIF(AC9=\"x\",AC$4,\nIF(AD9=\"x\",AD$4,\nIF(AE9=\"x\",AE$4,\n\"\"))))))))))","v":"pz."},{"$f":"\nIF(W9=\"x\",W$4,\nIF(X9=\"x\",X$4,\nIF(Y9=\"x\",Y$4,\nIF(Z9=\"x\",Z$4,\nIF(AA9=\"x\",AA$4,\nIF(AB9=\"x\",AB$4,\nIF(AC9=\"x\",AC$4,\nIF(AD9=\"x\",AD$4,\nIF(AE9=\"x\",AE$4,\n\"\")))))))))","v":"ml"},{"$f":"\nIF(X9=\"x\",X$4,\nIF(Y9=\"x\",Y$4,\nIF(Z9=\"x\",Z$4,\nIF(AA9=\"x\",AA$4,\nIF(AB9=\"x\",AB$4,\nIF(AC9=\"x\",AC$4,\nIF(AD9=\"x\",AD$4,\nIF(AE9=\"x\",AE$4,\n\"\"))))))))","v":"ml"},{"$f":"\nIF(Y9=\"x\",Y$4,\nIF(Z9=\"x\",Z$4,\nIF(AA9=\"x\",AA$4,\nIF(AB9=\"x\",AB$4,\nIF(AC9=\"x\",AC$4,\nIF(AD9=\"x\",AD$4,\nIF(AE9=\"x\",AE$4,\n\"\")))))))","v":"forfait"},{"$f":"\nIF(Z9=\"x\",Z$4,\nIF(AA9=\"x\",AA$4,\nIF(AB9=\"x\",AB$4,\nIF(AC9=\"x\",AC$4,\nIF(AD9=\"x\",AD$4,\nIF(AE9=\"x\",AE$4,\n\"\"))))))","v":"forfait"},{"$f":"\nIF(AA9=\"x\",AA$4,\nIF(AB9=\"x\",AB$4,\nIF(AC9=\"x\",AC$4,\nIF(AD9=\"x\",AD$4,\nIF(AE9=\"x\",AE$4,\n\"\")))))","v":"forfait"},{"$f":"\nIF(AB9=\"x\",AB$4,\nIF(AC9=\"x\",AC$4,\nIF(AD9=\"x\",AD$4,\nIF(AE9=\"x\",AE$4,\n\"\"))))","v":"forfait"},{"$f":"\nIF(AC9=\"x\",AC$4,\nIF(AD9=\"x\",AD$4,\nIF(AE9=\"x\",AE$4,\n\"\")))","v":"forfait"},{"$f":"\nIF(AD9=\"x\",AD$4,\nIF(AE9=\"x\",AE$4,\n\"\"))","v":"forfait"},{"$f":"\nIF(AE9=\"x\",AE$4,\n\"\")","v":"forfait"},null,{"$f":"AG9","v":"pz."},{"$f":"IF(AR9=\"\",\"\",\nIF(AR9<>$AG9,$AG9,\nIF(AR9<>$AH9,$AH9,\nIF(AR9<>$AI9,$AI9,\nIF(AR9<>$AJ9,$AJ9,\nIF(AR9<>$AK9,$AK9,\nIF(AR9<>$AL9,$AL9,\nIF(AR9<>$AM9,$AM9,\nIF(AR9<>$AN9,$AN9,\nIF(AR9<>$AO9,$AO9,\nIF(AR9<>$AP9,$AP9,\n\"\")))))))))))","v":"ml"},{"$f":"IF(AS9=\"\",\"\",\nIF(AND(AS9<>$AG9,AR9<>$AG9),$AG9,\nIF(AND(AS9<>$AH9,AR9<>$AH9),$AH9,\nIF(AND(AS9<>$AI9,AR9<>$AI9),$AI9,\nIF(AND(AS9<>$AJ9,AR9<>$AJ9),$AJ9,\nIF(AND(AS9<>$AK9,AR9<>$AK9),$AK9,\nIF(AND(AS9<>$AL9,AR9<>$AL9),$AL9,\nIF(AND(AS9<>$AM9,AR9<>$AM9),$AM9,\nIF(AND(AS9<>$AN9,AR9<>$AN9),$AN9,\nIF(AND(AS9<>$AO9,AR9<>$AO9),$AO9,\nIF(AND(AS9<>$AP9,AR9<>$AP9),$AP9,\n\"\")))))))))))","v":"forfait"},{"$f":"IF(AT9=\"\",\"\",\nIF(AND(AR9<>$AG9,AT9<>$AG9,AS9<>$AG9),$AG9,\nIF(AND(AR9<>$AH9,AT9<>$AH9,AS9<>$AH9),$AH9,\nIF(AND(AR9<>$AI9,AT9<>$AI9,AS9<>$AI9),$AI9,\nIF(AND(AR9<>$AJ9,AT9<>$AJ9,AS9<>$AJ9),$AJ9,\nIF(AND(AR9<>$AK9,AT9<>$AK9,AS9<>$AK9),$AK9,\nIF(AND(AR9<>$AL9,AT9<>$AL9,AS9<>$AL9),$AL9,\nIF(AND(AR9<>$AM9,AT9<>$AM9,AS9<>$AM9),$AM9,\nIF(AND(AR9<>$AN9,AT9<>$AN9,AS9<>$AN9),$AN9,\nIF(AND(AR9<>$AO9,AT9<>$AO9,AS9<>$AO9),$AO9,\nIF(AND(AR9<>$AP9,AT9<>$AP9,AS9<>$AP9),$AP9,\n\"\")))))))))))","v":""},{"$f":"IF(AU9=\"\",\"\",\nIF(AND(AR9<>$AG9,AS9<>$AG9,AU9<>$AG9,AT9<>$AG9),$AG9,\nIF(AND(AR9<>$AH9,AS9<>$AH9,AU9<>$AH9,AT9<>$AH9),$AH9,\nIF(AND(AR9<>$AI9,AS9<>$AI9,AU9<>$AI9,AT9<>$AI9),$AI9,\nIF(AND(AR9<>$AJ9,AS9<>$AJ9,AU9<>$AJ9,AT9<>$AJ9),$AJ9,\nIF(AND(AR9<>$AK9,AS9<>$AK9,AU9<>$AK9,AT9<>$AK9),$AK9,\nIF(AND(AR9<>$AL9,AS9<>$AL9,AU9<>$AL9,AT9<>$AL9),$AL9,\nIF(AND(AR9<>$AM9,AS9<>$AM9,AU9<>$AM9,AT9<>$AM9),$AM9,\nIF(AND(AR9<>$AN9,AS9<>$AN9,AU9<>$AN9,AT9<>$AN9),$AN9,\nIF(AND(AR9<>$AO9,AS9<>$AO9,AU9<>$AO9,AT9<>$AO9),$AO9,\nIF(AND(AR9<>$AP9,AS9<>$AP9,AU9<>$AP9,AT9<>$AP9),$AP9,\n\"\")))))))))))","v":""},{"$f":"IF(AV9=\"\",\"\",\nIF(AND(AR9<>$AG9,AS9<>$AG9,AT9<>$AG9,AV9<>$AG9,AU9<>$AG9),$AG9,\nIF(AND(AR9<>$AH9,AS9<>$AH9,AT9<>$AH9,AV9<>$AH9,AU9<>$AH9),$AH9,\nIF(AND(AR9<>$AI9,AS9<>$AI9,AT9<>$AI9,AV9<>$AI9,AU9<>$AI9),$AI9,\nIF(AND(AR9<>$AJ9,AS9<>$AJ9,AT9<>$AJ9,AV9<>$AJ9,AU9<>$AJ9),$AJ9,\nIF(AND(AR9<>$AK9,AS9<>$AK9,AT9<>$AK9,AV9<>$AK9,AU9<>$AK9),$AK9,\nIF(AND(AR9<>$AL9,AS9<>$AL9,AT9<>$AL9,AV9<>$AL9,AU9<>$AL9),$AL9,\nIF(AND(AR9<>$AM9,AS9<>$AM9,AT9<>$AM9,AV9<>$AM9,AU9<>$AM9),$AM9,\nIF(AND(AR9<>$AN9,AS9<>$AN9,AT9<>$AN9,AV9<>$AN9,AU9<>$AN9),$AN9,\nIF(AND(AR9<>$AO9,AS9<>$AO9,AT9<>$AO9,AV9<>$AO9,AU9<>$AO9),$AO9,\nIF(AND(AR9<>$AP9,AS9<>$AP9,AT9<>$AP9,AV9<>$AP9,AU9<>$AP9),$AP9,\n\"\")))))))))))","v":""},{"$f":"IF(AW9=\"\",\"\",\nIF(AND(AR9<>$AG9,AS9<>$AG9,AT9<>$AG9,AU9<>$AG9,AW9<>$AG9,AV9<>$AG9),$AG9,\nIF(AND(AR9<>$AH9,AS9<>$AH9,AT9<>$AH9,AU9<>$AH9,AW9<>$AH9,AV9<>$AH9),$AH9,\nIF(AND(AR9<>$AI9,AS9<>$AI9,AT9<>$AI9,AU9<>$AI9,AW9<>$AI9,AV9<>$AI9),$AI9,\nIF(AND(AR9<>$AJ9,AS9<>$AJ9,AT9<>$AJ9,AU9<>$AJ9,AW9<>$AJ9,AV9<>$AJ9),$AJ9,\nIF(AND(AR9<>$AK9,AS9<>$AK9,AT9<>$AK9,AU9<>$AK9,AW9<>$AK9,AV9<>$AK9),$AK9,\nIF(AND(AR9<>$AL9,AS9<>$AL9,AT9<>$AL9,AU9<>$AL9,AW9<>$AL9,AV9<>$AL9),$AL9,\nIF(AND(AR9<>$AM9,AS9<>$AM9,AT9<>$AM9,AU9<>$AM9,AW9<>$AM9,AV9<>$AM9),$AM9,\nIF(AND(AR9<>$AN9,AS9<>$AN9,AT9<>$AN9,AU9<>$AN9,AW9<>$AN9,AV9<>$AN9),$AN9,\nIF(AND(AR9<>$AO9,AS9<>$AO9,AT9<>$AO9,AU9<>$AO9,AW9<>$AO9,AV9<>$AO9),$AO9,\nIF(AND(AR9<>$AP9,AS9<>$AP9,AT9<>$AP9,AU9<>$AP9,AW9<>$AP9,AV9<>$AP9),$AP9,\n\"\")))))))))))","v":""},{"$f":"IF(AX9=\"\",\"\",\nIF(AND(AR9<>$AG9,AS9<>$AG9,AT9<>$AG9,AU9<>$AG9,AV9<>$AG9,AX9<>$AG9,AW9<>$AG9),$AG9,\nIF(AND(AR9<>$AH9,AS9<>$AH9,AT9<>$AH9,AU9<>$AH9,AV9<>$AH9,AX9<>$AH9,AW9<>$AH9),$AH9,\nIF(AND(AR9<>$AI9,AS9<>$AI9,AT9<>$AI9,AU9<>$AI9,AV9<>$AI9,AX9<>$AI9,AW9<>$AI9),$AI9,\nIF(AND(AR9<>$AJ9,AS9<>$AJ9,AT9<>$AJ9,AU9<>$AJ9,AV9<>$AJ9,AX9<>$AJ9,AW9<>$AJ9),$AJ9,\nIF(AND(AR9<>$AK9,AS9<>$AK9,AT9<>$AK9,AU9<>$AK9,AV9<>$AK9,AX9<>$AK9,AW9<>$AK9),$AK9,\nIF(AND(AR9<>$AL9,AS9<>$AL9,AT9<>$AL9,AU9<>$AL9,AV9<>$AL9,AX9<>$AL9,AW9<>$AL9),$AL9,\nIF(AND(AR9<>$AM9,AS9<>$AM9,AT9<>$AM9,AU9<>$AM9,AV9<>$AM9,AX9<>$AM9,AW9<>$AM9),$AM9,\nIF(AND(AR9<>$AN9,AS9<>$AN9,AT9<>$AN9,AU9<>$AN9,AV9<>$AN9,AX9<>$AN9,AW9<>$AN9),$AN9,\nIF(AND(AR9<>$AO9,AS9<>$AO9,AT9<>$AO9,AU9<>$AO9,AV9<>$AO9,AX9<>$AO9,AW9<>$AO9),$AO9,\nIF(AND(AR9<>$AP9,AS9<>$AP9,AT9<>$AP9,AU9<>$AP9,AV9<>$AP9,AX9<>$AP9,AW9<>$AP9),$AP9,\n\"\")))))))))))","v":""},{"$f":"IF(AY9=\"\",\"\",\nIF(AND(AR9<>$AG9,AS9<>$AG9,AT9<>$AG9,AU9<>$AG9,AV9<>$AG9,AW9<>$AG9,AY9<>$AG9,AX9<>$AG9),$AG9,\nIF(AND(AR9<>$AH9,AS9<>$AH9,AT9<>$AH9,AU9<>$AH9,AV9<>$AH9,AW9<>$AH9,AY9<>$AH9,AX9<>$AH9),$AH9,\nIF(AND(AR9<>$AI9,AS9<>$AI9,AT9<>$AI9,AU9<>$AI9,AV9<>$AI9,AW9<>$AI9,AY9<>$AI9,AX9<>$AI9),$AI9,\nIF(AND(AR9<>$AJ9,AS9<>$AJ9,AT9<>$AJ9,AU9<>$AJ9,AV9<>$AJ9,AW9<>$AJ9,AY9<>$AJ9,AX9<>$AJ9),$AJ9,\nIF(AND(AR9<>$AK9,AS9<>$AK9,AT9<>$AK9,AU9<>$AK9,AV9<>$AK9,AW9<>$AK9,AY9<>$AK9,AX9<>$AK9),$AK9,\nIF(AND(AR9<>$AL9,AS9<>$AL9,AT9<>$AL9,AU9<>$AL9,AV9<>$AL9,AW9<>$AL9,AY9<>$AL9,AX9<>$AL9),$AL9,\nIF(AND(AR9<>$AM9,AS9<>$AM9,AT9<>$AM9,AU9<>$AM9,AV9<>$AM9,AW9<>$AM9,AY9<>$AM9,AX9<>$AM9),$AM9,\nIF(AND(AR9<>$AN9,AS9<>$AN9,AT9<>$AN9,AU9<>$AN9,AV9<>$AN9,AW9<>$AN9,AY9<>$AN9,AX9<>$AN9),$AN9,\nIF(AND(AR9<>$AO9,AS9<>$AO9,AT9<>$AO9,AU9<>$AO9,AV9<>$AO9,AW9<>$AO9,AY9<>$AO9,AX9<>$AO9),$AO9,\nIF(AND(AR9<>$AP9,AS9<>$AP9,AT9<>$AP9,AU9<>$AP9,AV9<>$AP9,AW9<>$AP9,AY9<>$AP9,AX9<>$AP9),$AP9,\n\"\")))))))))))","v":""},{"$f":"IF(AZ9=\"\",\"\",\nIF(AND(AR9<>$AG9,AS9<>$AG9,AT9<>$AG9,AU9<>$AG9,AV9<>$AG9,AW9<>$AG9,AX9<>$AG9,AZ9<>$AG9,AY9<>$AG9),$AG9,\nIF(AND(AR9<>$AH9,AS9<>$AH9,AT9<>$AH9,AU9<>$AH9,AV9<>$AH9,AW9<>$AH9,AX9<>$AH9,AZ9<>$AH9,AY9<>$AH9),$AH9,\nIF(AND(AR9<>$AI9,AS9<>$AI9,AT9<>$AI9,AU9<>$AI9,AV9<>$AI9,AW9<>$AI9,AX9<>$AI9,AZ9<>$AI9,AY9<>$AI9),$AI9,\nIF(AND(AR9<>$AJ9,AS9<>$AJ9,AT9<>$AJ9,AU9<>$AJ9,AV9<>$AJ9,AW9<>$AJ9,AX9<>$AJ9,AZ9<>$AJ9,AY9<>$AJ9),$AJ9,\nIF(AND(AR9<>$AK9,AS9<>$AK9,AT9<>$AK9,AU9<>$AK9,AV9<>$AK9,AW9<>$AK9,AX9<>$AK9,AZ9<>$AK9,AY9<>$AK9),$AK9,\nIF(AND(AR9<>$AL9,AS9<>$AL9,AT9<>$AL9,AU9<>$AL9,AV9<>$AL9,AW9<>$AL9,AX9<>$AL9,AZ9<>$AL9,AY9<>$AL9),$AL9,\nIF(AND(AR9<>$AM9,AS9<>$AM9,AT9<>$AM9,AU9<>$AM9,AV9<>$AM9,AW9<>$AM9,AX9<>$AM9,AZ9<>$AM9,AY9<>$AM9),$AM9,\nIF(AND(AR9<>$AN9,AS9<>$AN9,AT9<>$AN9,AU9<>$AN9,AV9<>$AN9,AW9<>$AN9,AX9<>$AN9,AZ9<>$AN9,AY9<>$AN9),$AN9,\nIF(AND(AR9<>$AO9,AS9<>$AO9,AT9<>$AO9,AU9<>$AO9,AV9<>$AO9,AW9<>$AO9,AX9<>$AO9,AZ9<>$AO9,AY9<>$AO9),$AO9,\nIF(AND(AR9<>$AP9,AS9<>$AP9,AT9<>$AP9,AU9<>$AP9,AV9<>$AP9,AW9<>$AP9,AX9<>$AP9,AZ9<>$AP9,AY9<>$AP9),$AP9,\n\"\")))))))))))","v":""}]
[null,{"$f":"IF(O10=\"x\",1,IF(ISNUMBER(O10),O10,0))","v":0},0,null,"711.200",{"$f":"M10 & IF(P10<>\"\",CHAR(10) & P10,\"\")","v":"Conversa di chiusura laterale al frontone"},"",null,null,null,null,"711.200","Conversa di chiusura laterale al frontone","pz.",null,null,null,null,null,null,"E700_Lavorazioni_in_metallo","x",null,"x",null,null,null,null,null,null,"x",null,{"$f":"\nIF(V10=\"x\",V$4,\nIF(W10=\"x\",W$4,\nIF(X10=\"x\",X$4,\nIF(Y10=\"x\",Y$4,\nIF(Z10=\"x\",Z$4,\nIF(AA10=\"x\",AA$4,\nIF(AB10=\"x\",AB$4,\nIF(AC10=\"x\",AC$4,\nIF(AD10=\"x\",AD$4,\nIF(AE10=\"x\",AE$4,\n\"\"))))))))))","v":"pz."},{"$f":"\nIF(W10=\"x\",W$4,\nIF(X10=\"x\",X$4,\nIF(Y10=\"x\",Y$4,\nIF(Z10=\"x\",Z$4,\nIF(AA10=\"x\",AA$4,\nIF(AB10=\"x\",AB$4,\nIF(AC10=\"x\",AC$4,\nIF(AD10=\"x\",AD$4,\nIF(AE10=\"x\",AE$4,\n\"\")))))))))","v":"ml"},{"$f":"\nIF(X10=\"x\",X$4,\nIF(Y10=\"x\",Y$4,\nIF(Z10=\"x\",Z$4,\nIF(AA10=\"x\",AA$4,\nIF(AB10=\"x\",AB$4,\nIF(AC10=\"x\",AC$4,\nIF(AD10=\"x\",AD$4,\nIF(AE10=\"x\",AE$4,\n\"\"))))))))","v":"ml"},{"$f":"\nIF(Y10=\"x\",Y$4,\nIF(Z10=\"x\",Z$4,\nIF(AA10=\"x\",AA$4,\nIF(AB10=\"x\",AB$4,\nIF(AC10=\"x\",AC$4,\nIF(AD10=\"x\",AD$4,\nIF(AE10=\"x\",AE$4,\n\"\")))))))","v":"forfait"},{"$f":"\nIF(Z10=\"x\",Z$4,\nIF(AA10=\"x\",AA$4,\nIF(AB10=\"x\",AB$4,\nIF(AC10=\"x\",AC$4,\nIF(AD10=\"x\",AD$4,\nIF(AE10=\"x\",AE$4,\n\"\"))))))","v":"forfait"},{"$f":"\nIF(AA10=\"x\",AA$4,\nIF(AB10=\"x\",AB$4,\nIF(AC10=\"x\",AC$4,\nIF(AD10=\"x\",AD$4,\nIF(AE10=\"x\",AE$4,\n\"\")))))","v":"forfait"},{"$f":"\nIF(AB10=\"x\",AB$4,\nIF(AC10=\"x\",AC$4,\nIF(AD10=\"x\",AD$4,\nIF(AE10=\"x\",AE$4,\n\"\"))))","v":"forfait"},{"$f":"\nIF(AC10=\"x\",AC$4,\nIF(AD10=\"x\",AD$4,\nIF(AE10=\"x\",AE$4,\n\"\")))","v":"forfait"},{"$f":"\nIF(AD10=\"x\",AD$4,\nIF(AE10=\"x\",AE$4,\n\"\"))","v":"forfait"},{"$f":"\nIF(AE10=\"x\",AE$4,\n\"\")","v":"forfait"},null,{"$f":"AG10","v":"pz."},"ml",{"$f":"IF(AS10=\"\",\"\",\nIF(AND(AS10<>$AG10,AR10<>$AG10),$AG10,\nIF(AND(AS10<>$AH10,AR10<>$AH10),$AH10,\nIF(AND(AS10<>$AI10,AR10<>$AI10),$AI10,\nIF(AND(AS10<>$AJ10,AR10<>$AJ10),$AJ10,\nIF(AND(AS10<>$AK10,AR10<>$AK10),$AK10,\nIF(AND(AS10<>$AL10,AR10<>$AL10),$AL10,\nIF(AND(AS10<>$AM10,AR10<>$AM10),$AM10,\nIF(AND(AS10<>$AN10,AR10<>$AN10),$AN10,\nIF(AND(AS10<>$AO10,AR10<>$AO10),$AO10,\nIF(AND(AS10<>$AP10,AR10<>$AP10),$AP10,\n\"\")))))))))))","v":"forfait"},{"$f":"IF(AT10=\"\",\"\",\nIF(AND(AR10<>$AG10,AT10<>$AG10,AS10<>$AG10),$AG10,\nIF(AND(AR10<>$AH10,AT10<>$AH10,AS10<>$AH10),$AH10,\nIF(AND(AR10<>$AI10,AT10<>$AI10,AS10<>$AI10),$AI10,\nIF(AND(AR10<>$AJ10,AT10<>$AJ10,AS10<>$AJ10),$AJ10,\nIF(AND(AR10<>$AK10,AT10<>$AK10,AS10<>$AK10),$AK10,\nIF(AND(AR10<>$AL10,AT10<>$AL10,AS10<>$AL10),$AL10,\nIF(AND(AR10<>$AM10,AT10<>$AM10,AS10<>$AM10),$AM10,\nIF(AND(AR10<>$AN10,AT10<>$AN10,AS10<>$AN10),$AN10,\nIF(AND(AR10<>$AO10,AT10<>$AO10,AS10<>$AO10),$AO10,\nIF(AND(AR10<>$AP10,AT10<>$AP10,AS10<>$AP10),$AP10,\n\"\")))))))))))","v":""},{"$f":"IF(AU10=\"\",\"\",\nIF(AND(AR10<>$AG10,AS10<>$AG10,AU10<>$AG10,AT10<>$AG10),$AG10,\nIF(AND(AR10<>$AH10,AS10<>$AH10,AU10<>$AH10,AT10<>$AH10),$AH10,\nIF(AND(AR10<>$AI10,AS10<>$AI10,AU10<>$AI10,AT10<>$AI10),$AI10,\nIF(AND(AR10<>$AJ10,AS10<>$AJ10,AU10<>$AJ10,AT10<>$AJ10),$AJ10,\nIF(AND(AR10<>$AK10,AS10<>$AK10,AU10<>$AK10,AT10<>$AK10),$AK10,\nIF(AND(AR10<>$AL10,AS10<>$AL10,AU10<>$AL10,AT10<>$AL10),$AL10,\nIF(AND(AR10<>$AM10,AS10<>$AM10,AU10<>$AM10,AT10<>$AM10),$AM10,\nIF(AND(AR10<>$AN10,AS10<>$AN10,AU10<>$AN10,AT10<>$AN10),$AN10,\nIF(AND(AR10<>$AO10,AS10<>$AO10,AU10<>$AO10,AT10<>$AO10),$AO10,\nIF(AND(AR10<>$AP10,AS10<>$AP10,AU10<>$AP10,AT10<>$AP10),$AP10,\n\"\")))))))))))","v":""},{"$f":"IF(AV10=\"\",\"\",\nIF(AND(AR10<>$AG10,AS10<>$AG10,AT10<>$AG10,AV10<>$AG10,AU10<>$AG10),$AG10,\nIF(AND(AR10<>$AH10,AS10<>$AH10,AT10<>$AH10,AV10<>$AH10,AU10<>$AH10),$AH10,\nIF(AND(AR10<>$AI10,AS10<>$AI10,AT10<>$AI10,AV10<>$AI10,AU10<>$AI10),$AI10,\nIF(AND(AR10<>$AJ10,AS10<>$AJ10,AT10<>$AJ10,AV10<>$AJ10,AU10<>$AJ10),$AJ10,\nIF(AND(AR10<>$AK10,AS10<>$AK10,AT10<>$AK10,AV10<>$AK10,AU10<>$AK10),$AK10,\nIF(AND(AR10<>$AL10,AS10<>$AL10,AT10<>$AL10,AV10<>$AL10,AU10<>$AL10),$AL10,\nIF(AND(AR10<>$AM10,AS10<>$AM10,AT10<>$AM10,AV10<>$AM10,AU10<>$AM10),$AM10,\nIF(AND(AR10<>$AN10,AS10<>$AN10,AT10<>$AN10,AV10<>$AN10,AU10<>$AN10),$AN10,\nIF(AND(AR10<>$AO10,AS10<>$AO10,AT10<>$AO10,AV10<>$AO10,AU10<>$AO10),$AO10,\nIF(AND(AR10<>$AP10,AS10<>$AP10,AT10<>$AP10,AV10<>$AP10,AU10<>$AP10),$AP10,\n\"\")))))))))))","v":""},{"$f":"IF(AW10=\"\",\"\",\nIF(AND(AR10<>$AG10,AS10<>$AG10,AT10<>$AG10,AU10<>$AG10,AW10<>$AG10,AV10<>$AG10),$AG10,\nIF(AND(AR10<>$AH10,AS10<>$AH10,AT10<>$AH10,AU10<>$AH10,AW10<>$AH10,AV10<>$AH10),$AH10,\nIF(AND(AR10<>$AI10,AS10<>$AI10,AT10<>$AI10,AU10<>$AI10,AW10<>$AI10,AV10<>$AI10),$AI10,\nIF(AND(AR10<>$AJ10,AS10<>$AJ10,AT10<>$AJ10,AU10<>$AJ10,AW10<>$AJ10,AV10<>$AJ10),$AJ10,\nIF(AND(AR10<>$AK10,AS10<>$AK10,AT10<>$AK10,AU10<>$AK10,AW10<>$AK10,AV10<>$AK10),$AK10,\nIF(AND(AR10<>$AL10,AS10<>$AL10,AT10<>$AL10,AU10<>$AL10,AW10<>$AL10,AV10<>$AL10),$AL10,\nIF(AND(AR10<>$AM10,AS10<>$AM10,AT10<>$AM10,AU10<>$AM10,AW10<>$AM10,AV10<>$AM10),$AM10,\nIF(AND(AR10<>$AN10,AS10<>$AN10,AT10<>$AN10,AU10<>$AN10,AW10<>$AN10,AV10<>$AN10),$AN10,\nIF(AND(AR10<>$AO10,AS10<>$AO10,AT10<>$AO10,AU10<>$AO10,AW10<>$AO10,AV10<>$AO10),$AO10,\nIF(AND(AR10<>$AP10,AS10<>$AP10,AT10<>$AP10,AU10<>$AP10,AW10<>$AP10,AV10<>$AP10),$AP10,\n\"\")))))))))))","v":""},{"$f":"IF(AX10=\"\",\"\",\nIF(AND(AR10<>$AG10,AS10<>$AG10,AT10<>$AG10,AU10<>$AG10,AV10<>$AG10,AX10<>$AG10,AW10<>$AG10),$AG10,\nIF(AND(AR10<>$AH10,AS10<>$AH10,AT10<>$AH10,AU10<>$AH10,AV10<>$AH10,AX10<>$AH10,AW10<>$AH10),$AH10,\nIF(AND(AR10<>$AI10,AS10<>$AI10,AT10<>$AI10,AU10<>$AI10,AV10<>$AI10,AX10<>$AI10,AW10<>$AI10),$AI10,\nIF(AND(AR10<>$AJ10,AS10<>$AJ10,AT10<>$AJ10,AU10<>$AJ10,AV10<>$AJ10,AX10<>$AJ10,AW10<>$AJ10),$AJ10,\nIF(AND(AR10<>$AK10,AS10<>$AK10,AT10<>$AK10,AU10<>$AK10,AV10<>$AK10,AX10<>$AK10,AW10<>$AK10),$AK10,\nIF(AND(AR10<>$AL10,AS10<>$AL10,AT10<>$AL10,AU10<>$AL10,AV10<>$AL10,AX10<>$AL10,AW10<>$AL10),$AL10,\nIF(AND(AR10<>$AM10,AS10<>$AM10,AT10<>$AM10,AU10<>$AM10,AV10<>$AM10,AX10<>$AM10,AW10<>$AM10),$AM10,\nIF(AND(AR10<>$AN10,AS10<>$AN10,AT10<>$AN10,AU10<>$AN10,AV10<>$AN10,AX10<>$AN10,AW10<>$AN10),$AN10,\nIF(AND(AR10<>$AO10,AS10<>$AO10,AT10<>$AO10,AU10<>$AO10,AV10<>$AO10,AX10<>$AO10,AW10<>$AO10),$AO10,\nIF(AND(AR10<>$AP10,AS10<>$AP10,AT10<>$AP10,AU10<>$AP10,AV10<>$AP10,AX10<>$AP10,AW10<>$AP10),$AP10,\n\"\")))))))))))","v":""},{"$f":"IF(AY10=\"\",\"\",\nIF(AND(AR10<>$AG10,AS10<>$AG10,AT10<>$AG10,AU10<>$AG10,AV10<>$AG10,AW10<>$AG10,AY10<>$AG10,AX10<>$AG10),$AG10,\nIF(AND(AR10<>$AH10,AS10<>$AH10,AT10<>$AH10,AU10<>$AH10,AV10<>$AH10,AW10<>$AH10,AY10<>$AH10,AX10<>$AH10),$AH10,\nIF(AND(AR10<>$AI10,AS10<>$AI10,AT10<>$AI10,AU10<>$AI10,AV10<>$AI10,AW10<>$AI10,AY10<>$AI10,AX10<>$AI10),$AI10,\nIF(AND(AR10<>$AJ10,AS10<>$AJ10,AT10<>$AJ10,AU10<>$AJ10,AV10<>$AJ10,AW10<>$AJ10,AY10<>$AJ10,AX10<>$AJ10),$AJ10,\nIF(AND(AR10<>$AK10,AS10<>$AK10,AT10<>$AK10,AU10<>$AK10,AV10<>$AK10,AW10<>$AK10,AY10<>$AK10,AX10<>$AK10),$AK10,\nIF(AND(AR10<>$AL10,AS10<>$AL10,AT10<>$AL10,AU10<>$AL10,AV10<>$AL10,AW10<>$AL10,AY10<>$AL10,AX10<>$AL10),$AL10,\nIF(AND(AR10<>$AM10,AS10<>$AM10,AT10<>$AM10,AU10<>$AM10,AV10<>$AM10,AW10<>$AM10,AY10<>$AM10,AX10<>$AM10),$AM10,\nIF(AND(AR10<>$AN10,AS10<>$AN10,AT10<>$AN10,AU10<>$AN10,AV10<>$AN10,AW10<>$AN10,AY10<>$AN10,AX10<>$AN10),$AN10,\nIF(AND(AR10<>$AO10,AS10<>$AO10,AT10<>$AO10,AU10<>$AO10,AV10<>$AO10,AW10<>$AO10,AY10<>$AO10,AX10<>$AO10),$AO10,\nIF(AND(AR10<>$AP10,AS10<>$AP10,AT10<>$AP10,AU10<>$AP10,AV10<>$AP10,AW10<>$AP10,AY10<>$AP10,AX10<>$AP10),$AP10,\n\"\")))))))))))","v":""},{"$f":"IF(AZ10=\"\",\"\",\nIF(AND(AR10<>$AG10,AS10<>$AG10,AT10<>$AG10,AU10<>$AG10,AV10<>$AG10,AW10<>$AG10,AX10<>$AG10,AZ10<>$AG10,AY10<>$AG10),$AG10,\nIF(AND(AR10<>$AH10,AS10<>$AH10,AT10<>$AH10,AU10<>$AH10,AV10<>$AH10,AW10<>$AH10,AX10<>$AH10,AZ10<>$AH10,AY10<>$AH10),$AH10,\nIF(AND(AR10<>$AI10,AS10<>$AI10,AT10<>$AI10,AU10<>$AI10,AV10<>$AI10,AW10<>$AI10,AX10<>$AI10,AZ10<>$AI10,AY10<>$AI10),$AI10,\nIF(AND(AR10<>$AJ10,AS10<>$AJ10,AT10<>$AJ10,AU10<>$AJ10,AV10<>$AJ10,AW10<>$AJ10,AX10<>$AJ10,AZ10<>$AJ10,AY10<>$AJ10),$AJ10,\nIF(AND(AR10<>$AK10,AS10<>$AK10,AT10<>$AK10,AU10<>$AK10,AV10<>$AK10,AW10<>$AK10,AX10<>$AK10,AZ10<>$AK10,AY10<>$AK10),$AK10,\nIF(AND(AR10<>$AL10,AS10<>$AL10,AT10<>$AL10,AU10<>$AL10,AV10<>$AL10,AW10<>$AL10,AX10<>$AL10,AZ10<>$AL10,AY10<>$AL10),$AL10,\nIF(AND(AR10<>$AM10,AS10<>$AM10,AT10<>$AM10,AU10<>$AM10,AV10<>$AM10,AW10<>$AM10,AX10<>$AM10,AZ10<>$AM10,AY10<>$AM10),$AM10,\nIF(AND(AR10<>$AN10,AS10<>$AN10,AT10<>$AN10,AU10<>$AN10,AV10<>$AN10,AW10<>$AN10,AX10<>$AN10,AZ10<>$AN10,AY10<>$AN10),$AN10,\nIF(AND(AR10<>$AO10,AS10<>$AO10,AT10<>$AO10,AU10<>$AO10,AV10<>$AO10,AW10<>$AO10,AX10<>$AO10,AZ10<>$AO10,AY10<>$AO10),$AO10,\nIF(AND(AR10<>$AP10,AS10<>$AP10,AT10<>$AP10,AU10<>$AP10,AV10<>$AP10,AW10<>$AP10,AX10<>$AP10,AZ10<>$AP10,AY10<>$AP10),$AP10,\n\"\")))))))))))","v":""}]
[null,{"$f":"IF(O11=\"x\",1,IF(ISNUMBER(O11),O11,0))","v":0},0,null,"711.300","Lamiera di colmo","",null,null,null,null,"711.300","Lamiera di colmo","pz.",null,null,null,null,null,null,"E700_Lavorazioni_in_metallo","x",null,"x",null,null,null,null,null,null,"x",null,"pz.","ml","ml","forfait","forfait","forfait","forfait","forfait","forfait","forfait",null,"pz.","ml","forfait","","","","","","",""]
[null,0,0,null,"711.400","Scossalina di raccordo alla gronda","",null,null,null,null,"711.400","Scossalina di raccordo alla gronda","pz.",null,null,null,null,null,null,"E700_Lavorazioni_in_metallo","x",null,"x",null,null,null,null,null,null,"x",null,{"$f":"\nIF(V12=\"x\",V$4,\nIF(W12=\"x\",W$4,\nIF(X12=\"x\",X$4,\nIF(Y12=\"x\",Y$4,\nIF(Z12=\"x\",Z$4,\nIF(AA12=\"x\",AA$4,\nIF(AB12=\"x\",AB$4,\nIF(AC12=\"x\",AC$4,\nIF(AD12=\"x\",AD$4,\nIF(AE12=\"x\",AE$4,\n\"\"))))))))))","v":"pz."},{"$f":"\nIF(W12=\"x\",W$4,\nIF(X12=\"x\",X$4,\nIF(Y12=\"x\",Y$4,\nIF(Z12=\"x\",Z$4,\nIF(AA12=\"x\",AA$4,\nIF(AB12=\"x\",AB$4,\nIF(AC12=\"x\",AC$4,\nIF(AD12=\"x\",AD$4,\nIF(AE12=\"x\",AE$4,\n\"\")))))))))","v":"ml"},{"$f":"\nIF(X12=\"x\",X$4,\nIF(Y12=\"x\",Y$4,\nIF(Z12=\"x\",Z$4,\nIF(AA12=\"x\",AA$4,\nIF(AB12=\"x\",AB$4,\nIF(AC12=\"x\",AC$4,\nIF(AD12=\"x\",AD$4,\nIF(AE12=\"x\",AE$4,\n\"\"))))))))","v":"ml"},{"$f":"\nIF(Y12=\"x\",Y$4,\nIF(Z12=\"x\",Z$4,\nIF(AA12=\"x\",AA$4,\nIF(AB12=\"x\",AB$4,\nIF(AC12=\"x\",AC$4,\nIF(AD12=\"x\",AD$4,\nIF(AE12=\"x\",AE$4,\n\"\")))))))","v":"forfait"},{"$f":"\nIF(Z12=\"x\",Z$4,\nIF(AA12=\"x\",AA$4,\nIF(AB12=\"x\",AB$4,\nIF(AC12=\"x\",AC$4,\nIF(AD12=\"x\",AD$4,\nIF(AE12=\"x\",AE$4,\n\"\"))))))","v":"forfait"},{"$f":"\nIF(AA12=\"x\",AA$4,\nIF(AB12=\"x\",AB$4,\nIF(AC12=\"x\",AC$4,\nIF(AD12=\"x\",AD$4,\nIF(AE12=\"x\",AE$4,\n\"\")))))","v":"forfait"},{"$f":"\nIF(AB12=\"x\",AB$4,\nIF(AC12=\"x\",AC$4,\nIF(AD12=\"x\",AD$4,\nIF(AE12=\"x\",AE$4,\n\"\"))))","v":"forfait"},{"$f":"\nIF(AC12=\"x\",AC$4,\nIF(AD12=\"x\",AD$4,\nIF(AE12=\"x\",AE$4,\n\"\")))","v":"forfait"},{"$f":"\nIF(AD12=\"x\",AD$4,\nIF(AE12=\"x\",AE$4,\n\"\"))","v":"forfait"},{"$f":"\nIF(AE12=\"x\",AE$4,\n\"\")","v":"forfait"},null,{"$f":"AG12","v":"pz."},"ml",{"$f":"IF(AS12=\"\",\"\",\nIF(AND(AS12<>$AG12,AR12<>$AG12),$AG12,\nIF(AND(AS12<>$AH12,AR12<>$AH12),$AH12,\nIF(AND(AS12<>$AI12,AR12<>$AI12),$AI12,\nIF(AND(AS12<>$AJ12,AR12<>$AJ12),$AJ12,\nIF(AND(AS12<>$AK12,AR12<>$AK12),$AK12,\nIF(AND(AS12<>$AL12,AR12<>$AL12),$AL12,\nIF(AND(AS12<>$AM12,AR12<>$AM12),$AM12,\nIF(AND(AS12<>$AN12,AR12<>$AN12),$AN12,\nIF(AND(AS12<>$AO12,AR12<>$AO12),$AO12,\nIF(AND(AS12<>$AP12,AR12<>$AP12),$AP12,\n\"\")))))))))))","v":"forfait"},{"$f":"IF(AT12=\"\",\"\",\nIF(AND(AR12<>$AG12,AT12<>$AG12,AS12<>$AG12),$AG12,\nIF(AND(AR12<>$AH12,AT12<>$AH12,AS12<>$AH12),$AH12,\nIF(AND(AR12<>$AI12,AT12<>$AI12,AS12<>$AI12),$AI12,\nIF(AND(AR12<>$AJ12,AT12<>$AJ12,AS12<>$AJ12),$AJ12,\nIF(AND(AR12<>$AK12,AT12<>$AK12,AS12<>$AK12),$AK12,\nIF(AND(AR12<>$AL12,AT12<>$AL12,AS12<>$AL12),$AL12,\nIF(AND(AR12<>$AM12,AT12<>$AM12,AS12<>$AM12),$AM12,\nIF(AND(AR12<>$AN12,AT12<>$AN12,AS12<>$AN12),$AN12,\nIF(AND(AR12<>$AO12,AT12<>$AO12,AS12<>$AO12),$AO12,\nIF(AND(AR12<>$AP12,AT12<>$AP12,AS12<>$AP12),$AP12,\n\"\")))))))))))","v":""},{"$f":"IF(AU12=\"\",\"\",\nIF(AND(AR12<>$AG12,AS12<>$AG12,AU12<>$AG12,AT12<>$AG12),$AG12,\nIF(AND(AR12<>$AH12,AS12<>$AH12,AU12<>$AH12,AT12<>$AH12),$AH12,\nIF(AND(AR12<>$AI12,AS12<>$AI12,AU12<>$AI12,AT12<>$AI12),$AI12,\nIF(AND(AR12<>$AJ12,AS12<>$AJ12,AU12<>$AJ12,AT12<>$AJ12),$AJ12,\nIF(AND(AR12<>$AK12,AS12<>$AK12,AU12<>$AK12,AT12<>$AK12),$AK12,\nIF(AND(AR12<>$AL12,AS12<>$AL12,AU12<>$AL12,AT12<>$AL12),$AL12,\nIF(AND(AR12<>$AM12,AS12<>$AM12,AU12<>$AM12,AT12<>$AM12),$AM12,\nIF(AND(AR12<>$AN12,AS12<>$AN12,AU12<>$AN12,AT12<>$AN12),$AN12,\nIF(AND(AR12<>$AO12,AS12<>$AO12,AU12<>$AO12,AT12<>$AO12),$AO12,\nIF(AND(AR12<>$AP12,AS12<>$AP12,AU12<>$AP12,AT12<>$AP12),$AP12,\n\"\")))))))))))","v":""},{"$f":"IF(AV12=\"\",\"\",\nIF(AND(AR12<>$AG12,AS12<>$AG12,AT12<>$AG12,AV12<>$AG12,AU12<>$AG12),$AG12,\nIF(AND(AR12<>$AH12,AS12<>$AH12,AT12<>$AH12,AV12<>$AH12,AU12<>$AH12),$AH12,\nIF(AND(AR12<>$AI12,AS12<>$AI12,AT12<>$AI12,AV12<>$AI12,AU12<>$AI12),$AI12,\nIF(AND(AR12<>$AJ12,AS12<>$AJ12,AT12<>$AJ12,AV12<>$AJ12,AU12<>$AJ12),$AJ12,\nIF(AND(AR12<>$AK12,AS12<>$AK12,AT12<>$AK12,AV12<>$AK12,AU12<>$AK12),$AK12,\nIF(AND(AR12<>$AL12,AS12<>$AL12,AT12<>$AL12,AV12<>$AL12,AU12<>$AL12),$AL12,\nIF(AND(AR12<>$AM12,AS12<>$AM12,AT12<>$AM12,AV12<>$AM12,AU12<>$AM12),$AM12,\nIF(AND(AR12<>$AN12,AS12<>$AN12,AT12<>$AN12,AV12<>$AN12,AU12<>$AN12),$AN12,\nIF(AND(AR12<>$AO12,AS12<>$AO12,AT12<>$AO12,AV12<>$AO12,AU12<>$AO12),$AO12,\nIF(AND(AR12<>$AP12,AS12<>$AP12,AT12<>$AP12,AV12<>$AP12,AU12<>$AP12),$AP12,\n\"\")))))))))))","v":""},{"$f":"IF(AW12=\"\",\"\",\nIF(AND(AR12<>$AG12,AS12<>$AG12,AT12<>$AG12,AU12<>$AG12,AW12<>$AG12,AV12<>$AG12),$AG12,\nIF(AND(AR12<>$AH12,AS12<>$AH12,AT12<>$AH12,AU12<>$AH12,AW12<>$AH12,AV12<>$AH12),$AH12,\nIF(AND(AR12<>$AI12,AS12<>$AI12,AT12<>$AI12,AU12<>$AI12,AW12<>$AI12,AV12<>$AI12),$AI12,\nIF(AND(AR12<>$AJ12,AS12<>$AJ12,AT12<>$AJ12,AU12<>$AJ12,AW12<>$AJ12,AV12<>$AJ12),$AJ12,\nIF(AND(AR12<>$AK12,AS12<>$AK12,AT12<>$AK12,AU12<>$AK12,AW12<>$AK12,AV12<>$AK12),$AK12,\nIF(AND(AR12<>$AL12,AS12<>$AL12,AT12<>$AL12,AU12<>$AL12,AW12<>$AL12,AV12<>$AL12),$AL12,\nIF(AND(AR12<>$AM12,AS12<>$AM12,AT12<>$AM12,AU12<>$AM12,AW12<>$AM12,AV12<>$AM12),$AM12,\nIF(AND(AR12<>$AN12,AS12<>$AN12,AT12<>$AN12,AU12<>$AN12,AW12<>$AN12,AV12<>$AN12),$AN12,\nIF(AND(AR12<>$AO12,AS12<>$AO12,AT12<>$AO12,AU12<>$AO12,AW12<>$AO12,AV12<>$AO12),$AO12,\nIF(AND(AR12<>$AP12,AS12<>$AP12,AT12<>$AP12,AU12<>$AP12,AW12<>$AP12,AV12<>$AP12),$AP12,\n\"\")))))))))))","v":""},{"$f":"IF(AX12=\"\",\"\",\nIF(AND(AR12<>$AG12,AS12<>$AG12,AT12<>$AG12,AU12<>$AG12,AV12<>$AG12,AX12<>$AG12,AW12<>$AG12),$AG12,\nIF(AND(AR12<>$AH12,AS12<>$AH12,AT12<>$AH12,AU12<>$AH12,AV12<>$AH12,AX12<>$AH12,AW12<>$AH12),$AH12,\nIF(AND(AR12<>$AI12,AS12<>$AI12,AT12<>$AI12,AU12<>$AI12,AV12<>$AI12,AX12<>$AI12,AW12<>$AI12),$AI12,\nIF(AND(AR12<>$AJ12,AS12<>$AJ12,AT12<>$AJ12,AU12<>$AJ12,AV12<>$AJ12,AX12<>$AJ12,AW12<>$AJ12),$AJ12,\nIF(AND(AR12<>$AK12,AS12<>$AK12,AT12<>$AK12,AU12<>$AK12,AV12<>$AK12,AX12<>$AK12,AW12<>$AK12),$AK12,\nIF(AND(AR12<>$AL12,AS12<>$AL12,AT12<>$AL12,AU12<>$AL12,AV12<>$AL12,AX12<>$AL12,AW12<>$AL12),$AL12,\nIF(AND(AR12<>$AM12,AS12<>$AM12,AT12<>$AM12,AU12<>$AM12,AV12<>$AM12,AX12<>$AM12,AW12<>$AM12),$AM12,\nIF(AND(AR12<>$AN12,AS12<>$AN12,AT12<>$AN12,AU12<>$AN12,AV12<>$AN12,AX12<>$AN12,AW12<>$AN12),$AN12,\nIF(AND(AR12<>$AO12,AS12<>$AO12,AT12<>$AO12,AU12<>$AO12,AV12<>$AO12,AX12<>$AO12,AW12<>$AO12),$AO12,\nIF(AND(AR12<>$AP12,AS12<>$AP12,AT12<>$AP12,AU12<>$AP12,AV12<>$AP12,AX12<>$AP12,AW12<>$AP12),$AP12,\n\"\")))))))))))","v":""},{"$f":"IF(AY12=\"\",\"\",\nIF(AND(AR12<>$AG12,AS12<>$AG12,AT12<>$AG12,AU12<>$AG12,AV12<>$AG12,AW12<>$AG12,AY12<>$AG12,AX12<>$AG12),$AG12,\nIF(AND(AR12<>$AH12,AS12<>$AH12,AT12<>$AH12,AU12<>$AH12,AV12<>$AH12,AW12<>$AH12,AY12<>$AH12,AX12<>$AH12),$AH12,\nIF(AND(AR12<>$AI12,AS12<>$AI12,AT12<>$AI12,AU12<>$AI12,AV12<>$AI12,AW12<>$AI12,AY12<>$AI12,AX12<>$AI12),$AI12,\nIF(AND(AR12<>$AJ12,AS12<>$AJ12,AT12<>$AJ12,AU12<>$AJ12,AV12<>$AJ12,AW12<>$AJ12,AY12<>$AJ12,AX12<>$AJ12),$AJ12,\nIF(AND(AR12<>$AK12,AS12<>$AK12,AT12<>$AK12,AU12<>$AK12,AV12<>$AK12,AW12<>$AK12,AY12<>$AK12,AX12<>$AK12),$AK12,\nIF(AND(AR12<>$AL12,AS12<>$AL12,AT12<>$AL12,AU12<>$AL12,AV12<>$AL12,AW12<>$AL12,AY12<>$AL12,AX12<>$AL12),$AL12,\nIF(AND(AR12<>$AM12,AS12<>$AM12,AT12<>$AM12,AU12<>$AM12,AV12<>$AM12,AW12<>$AM12,AY12<>$AM12,AX12<>$AM12),$AM12,\nIF(AND(AR12<>$AN12,AS12<>$AN12,AT12<>$AN12,AU12<>$AN12,AV12<>$AN12,AW12<>$AN12,AY12<>$AN12,AX12<>$AN12),$AN12,\nIF(AND(AR12<>$AO12,AS12<>$AO12,AT12<>$AO12,AU12<>$AO12,AV12<>$AO12,AW12<>$AO12,AY12<>$AO12,AX12<>$AO12),$AO12,\nIF(AND(AR12<>$AP12,AS12<>$AP12,AT12<>$AP12,AU12<>$AP12,AV12<>$AP12,AW12<>$AP12,AY12<>$AP12,AX12<>$AP12),$AP12,\n\"\")))))))))))","v":""},{"$f":"IF(AZ12=\"\",\"\",\nIF(AND(AR12<>$AG12,AS12<>$AG12,AT12<>$AG12,AU12<>$AG12,AV12<>$AG12,AW12<>$AG12,AX12<>$AG12,AZ12<>$AG12,AY12<>$AG12),$AG12,\nIF(AND(AR12<>$AH12,AS12<>$AH12,AT12<>$AH12,AU12<>$AH12,AV12<>$AH12,AW12<>$AH12,AX12<>$AH12,AZ12<>$AH12,AY12<>$AH12),$AH12,\nIF(AND(AR12<>$AI12,AS12<>$AI12,AT12<>$AI12,AU12<>$AI12,AV12<>$AI12,AW12<>$AI12,AX12<>$AI12,AZ12<>$AI12,AY12<>$AI12),$AI12,\nIF(AND(AR12<>$AJ12,AS12<>$AJ12,AT12<>$AJ12,AU12<>$AJ12,AV12<>$AJ12,AW12<>$AJ12,AX12<>$AJ12,AZ12<>$AJ12,AY12<>$AJ12),$AJ12,\nIF(AND(AR12<>$AK12,AS12<>$AK12,AT12<>$AK12,AU12<>$AK12,AV12<>$AK12,AW12<>$AK12,AX12<>$AK12,AZ12<>$AK12,AY12<>$AK12),$AK12,\nIF(AND(AR12<>$AL12,AS12<>$AL12,AT12<>$AL12,AU12<>$AL12,AV12<>$AL12,AW12<>$AL12,AX12<>$AL12,AZ12<>$AL12,AY12<>$AL12),$AL12,\nIF(AND(AR12<>$AM12,AS12<>$AM12,AT12<>$AM12,AU12<>$AM12,AV12<>$AM12,AW12<>$AM12,AX12<>$AM12,AZ12<>$AM12,AY12<>$AM12),$AM12,\nIF(AND(AR12<>$AN12,AS12<>$AN12,AT12<>$AN12,AU12<>$AN12,AV12<>$AN12,AW12<>$AN12,AX12<>$AN12,AZ12<>$AN12,AY12<>$AN12),$AN12,\nIF(AND(AR12<>$AO12,AS12<>$AO12,AT12<>$AO12,AU12<>$AO12,AV12<>$AO12,AW12<>$AO12,AX12<>$AO12,AZ12<>$AO12,AY12<>$AO12),$AO12,\nIF(AND(AR12<>$AP12,AS12<>$AP12,AT12<>$AP12,AU12<>$AP12,AV12<>$AP12,AW12<>$AP12,AX12<>$AP12,AZ12<>$AP12,AY12<>$AP12),$AP12,\n\"\")))))))))))","v":""}]
[null,0,0,null,"711.500","Grondaia","",null,null,null,null,"711.500","Grondaia","pz.",null,null,null,null,null,null,"E700_Lavorazioni_in_metallo","x",null,"x",null,null,null,null,null,null,"x",null,"pz.","ml","ml","forfait","forfait","forfait","forfait","forfait","forfait","forfait",null,"pz.","ml","forfait","","","","","","",""]
[null,0,0,null,"711.600","Lamiera forata","",null,null,null,null,"711.600","Lamiera forata","pz.",null,null,null,null,null,null,"E700_Lavorazioni_in_metallo","x",null,"x",null,null,null,null,null,null,"x",null,"pz.","ml","ml","forfait","forfait","forfait","forfait","forfait","forfait","forfait",null,"pz.","ml","forfait","","","","","","",""]
[null,0,0,null,"711.700","Lamiera piegata","",null,null,null,null,"711.700","Lamiera piegata","pz.",null,null,null,null,null,null,"E700_Lavorazioni_in_metallo","x",null,"x",null,null,null,null,null,null,"x",null,"pz.","ml","ml","forfait","forfait","forfait","forfait","forfait","forfait","forfait",null,"pz.","ml","forfait","","","","","","",""]
[null,{"$f":"IF(OR(SUM(B17:B18)>0,O16=\"x\"),1,IF(ISNUMBER(O16),O16,0))","v":0},0,{"$f":"J16","v":"712.000"},null,{"$f":"K16 & IF(P16<>\"\",CHAR(10) & P16,\"\")","v":"Opere da lattoniere su tetto piano"},"",null,null,"712.000","Opere da lattoniere su tetto piano",null,null,"pz.",null,null,null,null,null,null,"E700_Lavorazioni_in_metallo","x",null,null,null,null,null,null,null,null,"x",null,"pz.","forfait","forfait","forfait","forfait","forfait","forfait","forfait","forfait","forfait",null,"pz.","forfait","","","","","","","",""]
[null,{"$f":"IF(O17=\"x\",1,IF(ISNUMBER(O17),O17,0))","v":0},0,null,{"$f":"L17","v":"712.100"},{"$f":"M17 & IF(P17<>\"\",CHAR(10) & P17,\"\")","v":"Conversa a doppio gomito per passaggio cavi"},"",null,null,null,null,"712.100","Conversa a doppio gomito per passaggio cavi","pz.",null,null,null,null,null,null,"E700_Lavorazioni_in_metallo","x",null,null,null,null,null,null,null,null,"x",null,"pz.","forfait","forfait","forfait","forfait","forfait","forfait","forfait","forfait","forfait",null,"pz.","forfait","","","","","","","",""]
[null,0,0,null,{"$f":"L18","v":"712.200"},"Scatola di raccolta cavi sul tetto","",null,null,null,null,"712.200","Scatola di raccolta cavi sul tetto","pz.",null,null,null,null,null,null,"E700_Lavorazioni_in_metallo","x",null,null,null,null,null,null,null,null,"x",null,"pz.","forfait","forfait","forfait","forfait","forfait","forfait","forfait","forfait","forfait",null,"pz.","forfait","","","","","","","",""]
[null,{"$f":"IF(OR(SUM(B20:B28)>0,O19=\"x\"),1,IF(ISNUMBER(O19),O19,0))","v":0},0,{"$f":"J19","v":"713.000"},null,{"$f":"K19 & IF(P19<>\"\",CHAR(10) & P19,\"\")","v":"Opere da lattoniere su facciata"},"",null,null,"713.000","Opere da lattoniere su facciata",null,null,"pz.",null,null,null,null,null,null,"E700_Lavorazioni_in_metallo","x",null,"x",null,null,null,null,null,null,"x",null,"pz.","ml","ml","forfait","forfait","forfait","forfait","forfait","forfait","forfait",null,"pz.","ml","forfait","","","","","","",""]
[null,{"$f":"IF(O20=\"x\",1,IF(ISNUMBER(O20),O20,0))","v":0},0,null,{"$f":"L20","v":"713.100"},{"$f":"M20 & IF(P20<>\"\",CHAR(10) & P20,\"\")","v":"Profilo ad angolo"},"",null,null,null,null,"713.100","Profilo ad angolo","pz.",null,null,null,null,null,null,"E700_Lavorazioni_in_metallo","x",null,"x",null,null,null,null,null,null,"x",null,"pz.","ml","ml","forfait","forfait","forfait","forfait","forfait","forfait","forfait",null,"pz.","ml","forfait","","","","","","",""]
[null,0,0,null,"713.200","Lamiera decorativa","",null,null,null,null,"713.200","Lamiera decorativa","pz.",null,null,null,null,null,null,"E700_Lavorazioni_in_metallo","x",null,"x",null,null,null,null,null,null,"x",null,"pz.","ml","ml","forfait","forfait","forfait","forfait","forfait","forfait","forfait",null,"pz.","ml","forfait","","","","","","",""]
[null,0,0,null,"713.300","Lamiera di bordo tetto/parapetto","",null,null,null,null,"713.300","Lamiera di bordo tetto/parapetto","pz.",null,null,null,null,null,null,"E700_Lavorazioni_in_metallo","x",null,"x",null,null,null,null,null,null,"x",null,"pz.","ml","ml","forfait","forfait","forfait","forfait","forfait","forfait","forfait",null,"pz.","ml","forfait","","","","","","",""]
[null,0,0,null,"713.400","Lamiera di zoccolo","",null,null,null,null,"713.400","Lamiera di zoccolo","pz.",null,null,null,null,null,null,"E700_Lavorazioni_in_metallo","x",null,"x",null,null,null,null,null,null,"x",null,"pz.","ml","ml","forfait","forfait","forfait","forfait","forfait","forfait","forfait",null,"pz.","ml","forfait","","","","","","",""]
[null,0,0,null,"713.500","Telaio","",null,null,null,null,"713.500","Telaio","pz.",null,null,null,null,null,null,"E700_Lavorazioni_in_metallo","x",null,"x",null,null,null,null,null,null,"x",null,"pz.","ml","ml","forfait","forfait","forfait","forfait","forfait","forfait","forfait",null,"pz.","ml","forfait","","","","","","",""]
[null,0,0,null,"713.600","Davanzale","",null,null,null,null,"713.600","Davanzale","pz.",null,null,null,null,null,null,"E700_Lavorazioni_in_metallo","x",null,"x",null,null,null,null,null,null,"x",null,"pz.","ml","ml","forfait","forfait","forfait","forfait","forfait","forfait","forfait",null,"pz.","ml","forfait","","","","","","",""]
[null,0,0,null,"713.700","Lamiera forata","",null,null,null,null,"713.700","Lamiera forata","pz.",null,null,null,null,null,null,"E700_Lavorazioni_in_metallo","x",null,"x",null,null,null,null,null,null,"x",null,"pz.","ml","ml","forfait","forfait","forfait","forfait","forfait","forfait","forfait",null,"pz.","ml","forfait","","","","","","",""]
[null,0,0,null,"713.800","Lamiera piegata","",null,null,null,null,"713.800","Lamiera piegata","pz.",null,null,null,null,null,null,"E700_Lavorazioni_in_metallo","x",null,"x",null,null,null,null,null,null,"x",null,"pz.","ml","ml","forfait","forfait","forfait","forfait","forfait","forfait","forfait",null,"pz.","ml","forfait","","","","","","",""]
[null,0,0,null,"713.900","Facciata ventilata con barriera tagliafuoco","",null,null,null,null,"713.900","Facciata ventilata con barriera tagliafuoco","pz.",null,null,null,null,null,null,"E700_Lavorazioni_in_metallo","x",null,"x",null,null,null,null,null,null,"x",null,"pz.","ml","ml","forfait","forfait","forfait","forfait","forfait","forfait","forfait",null,"pz.","ml","forfait","","","","","","",""]
[null,{"$f":"B6","v":0},0,null,null,null,"",null,null,null,null,null,null,null,null,null,null,null,null,null,null,null,null,null,null,null,null,null,null,null,null,null,"","","","","","","","","","",null,"","","","","","","","","",""]
[null,{"$f":"IF(O30=\"x\",1,IF(SUM(B31:B40)>0,1,0))","v":0},0,{"$f":"H30","v":"720.000"},null,{"$f":"I30","v":"Adattamenti di tetti a falde"},"","720.000","Adattamenti di tetti a falde",null,null,null,null,"forfait",null,null,null,null,null,null,null,null,null,null,null,null,null,null,null,null,"x",null,"forfait","forfait","forfait","forfait","forfait","forfait","forfait","forfait","forfait","forfait",null,"forfait","","","","","","","","",""]
[null,{"$f":"IF(OR(SUM(B32:B34)>0,O31=\"x\"),1,IF(ISNUMBER(O31),O31,0))","v":0},0,{"$f":"J31","v":"721.000"},null,{"$f":"K31 & IF(P31<>\"\",CHAR(10) & P31,\"\")","v":"Tegola"},"",null,null,"721.000","Tegola",null,null,"pz.",null,null,null,null,null,null,"E700_Tegola","x",null,null,"x",null,null,null,null,null,"x",null,"pz.","m2","m2","m2","forfait","forfait","forfait","forfait","forfait","forfait",null,"pz.","m2","forfait","","","","","","",""]
[null,{"$f":"IF(O32=\"x\",1,IF(ISNUMBER(O32),O32,0))","v":0},0,null,{"$f":"L32","v":"721.100"},{"$f":"M32 & IF(P32<>\"\",CHAR(10) & P32,\"\")","v":"Tegola"},"",null,null,null,null,"721.100","Tegola","pz.",null,null,null,null,null,null,"E700_Tegola","x",null,null,"x",null,null,null,null,null,"x",null,"pz.","m2","m2","m2","forfait","forfait","forfait","forfait","forfait","forfait",null,"pz.","m2","forfait","","","","","","",""]
[null,0,0,null,{"$f":"L33","v":"721.200"},"Tegola di colmo","",null,null,null,null,"721.200","Tegola di colmo","pz.",null,null,null,null,null,null,"E700_Tegola","x",null,null,"x",null,null,null,null,null,"x",null,"pz.","m2","m2","m2","forfait","forfait","forfait","forfait","forfait","forfait",null,"pz.","m2","forfait","","","","","","",""]
[null,0,0,null,{"$f":"L34","v":"721.300"},"Tegola laterale","",null,null,null,null,"721.300","Tegola laterale","pz.",null,null,null,null,null,null,"E700_Tegola","x",null,null,"x",null,null,null,null,null,"x",null,"pz.","m2","m2","m2","forfait","forfait","forfait","forfait","forfait","forfait",null,"pz.","m2","forfait","","","","","","",""]
[null,{"$f":"IF(O35=\"x\",1,IF(ISNUMBER(O35),O35,0))","v":0},0,{"$f":"J35","v":"722.000"},null,{"$f":"K35 & IF(P35<>\"\",CHAR(10) & P35,\"\")","v":"Tegola in lamiera"},"",null,null,"722.000","Tegola in lamiera",null,null,"pz.",null,null,null,null,null,null,"E700_Tegola","x",null,null,"x",null,null,null,null,null,"x",null,"pz.","m2","m2","m2","forfait","forfait","forfait","forfait","forfait","forfait",null,"pz.","m2","forfait","","","","","","",""]
[null,{"$f":"IF(O36=\"x\",1,IF(ISNUMBER(O36),O36,0))","v":0},0,{"$f":"J36","v":"723.000"},null,"Listonatura per impianti integrati","",null,null,"723.000","Listonatura per impianti integrati",null,null,"m2",null,null,null,null,null,null,"E700_Legno",null,null,null,"x",null,null,null,null,null,"x",null,"m2","m2","m2","m2","forfait","forfait","forfait","forfait","forfait","forfait",null,"m2","forfait","","","","","","","",""]
[null,0,0,"724.000",null,"Legno squadrato","",null,null,"724.000","Legno squadrato",null,null,"m2",null,null,null,null,null,null,"E700_Legno",null,null,null,"x",null,null,null,null,null,"x",null,"m2","m2","m2","m2","forfait","forfait","forfait","forfait","forfait","forfait",null,"m2","forfait","","","","","","","",""]
[null,0,0,"725.000",null,"Pannello per casseforme","",null,null,"725.000","Pannello per casseforme",null,null,"m2",null,null,null,null,null,null,"E700_Legno",null,null,null,"x",null,null,null,null,null,"x",null,"m2","m2","m2","m2","forfait","forfait","forfait","forfait","forfait","forfait",null,"m2","forfait","","","","","","","",""]
[null,0,0,"726.000",null,{"$f":"K39","v":"Paraneve"},"",null,null,"726.000","Paraneve",null,null,"pz.",null,null,null,null,null,null,null,"x",null,null,"x",null,null,null,null,null,"x",null,"pz.","m2","m2","m2","forfait","forfait","forfait","forfait","forfait","forfait",null,"pz.","m2","forfait","","","","","","",""]
[null,0,0,"727.000",null,"Lucernario","",null,null,"727.000","Lucernario",null,null,"pz.",null,null,null,null,null,null,null,"x",null,null,"x",null,null,null,null,null,"x",null,"pz.","m2","m2","m2","forfait","forfait","forfait","forfait","forfait","forfait",null,"pz.",{"$f":"IF(AR40=\"\",\"\",\nIF(AR40<>$AG40,$AG40,\nIF(AR40<>$AH40,$AH40,\nIF(AR40<>$AI40,$AI40,\nIF(AR40<>$AJ40,$AJ40,\nIF(AR40<>$AK40,$AK40,\nIF(AR40<>$AL40,$AL40,\nIF(AR40<>$AM40,$AM40,\nIF(AR40<>$AN40,$AN40,\nIF(AR40<>$AO40,$AO40,\nIF(AR40<>$AP40,$AP40,\n\"\")))))))))))","v":"m2"},"forfait","","","","","","",""]
[null,{"$f":"B30","v":0},0,null,null,null,"",null,null,null,null,null,null,null,null,null,null,null,null,null,null,null,null,null,null,null,null,null,null,null,null,null,"","","","","","","","","","",null,"","","","","","","","","",""]
[null,{"$f":"IF(O42=\"x\",1,IF(SUM(B43:B58)>0,1,0))","v":1},0,{"$f":"H42","v":"730.000"},null,{"$f":"I42","v":"Adattamenti di tetti piani"},"","730.000","Adattamenti di tetti piani",null,null,null,null,"forfait",null,null,null,null,null,null,null,null,null,null,null,null,null,null,null,null,"x",null,"forfait","forfait","forfait","forfait","forfait","forfait","forfait","forfait","forfait","forfait",null,"forfait","","","","","","","","",""]
[null,{"$f":"IF(OR(SUM(B44:B46)>0,O43=\"x\"),1,IF(ISNUMBER(O43),O43,0))","v":1},0,{"$f":"J43","v":"731.000"},null,{"$f":"K43","v":"Ghiaia"},"",null,null,"731.000","Ghiaia",null,null,"m2",null,null,null,null,null,null,null,null,null,null,"x",null,null,null,null,null,"x",null,"m2","m2","m2","m2","forfait","forfait","forfait","forfait","forfait","forfait",null,"m2","forfait","","","","","","","",""]
[null,{"$f":"IF(O44=\"x\",1,IF(ISNUMBER(O44),O44,0))","v":0},0,null,{"$f":"L44","v":"731.100"},{"$f":"M44","v":"Aspirazione e smaltimento ghiaia"},"",null,null,null,null,"731.100","Aspirazione e smaltimento ghiaia","m2",null,null,null,null,null,null,null,null,null,null,"x",null,null,null,null,null,"x",null,"m2","m2","m2","m2","forfait","forfait","forfait","forfait","forfait","forfait",null,"m2","forfait",{"$f":"IF(AS44=\"\",\"\",\nIF(AND(AS44<>$AG44,AR44<>$AG44),$AG44,\nIF(AND(AS44<>$AH44,AR44<>$AH44),$AH44,\nIF(AND(AS44<>$AI44,AR44<>$AI44),$AI44,\nIF(AND(AS44<>$AJ44,AR44<>$AJ44),$AJ44,\nIF(AND(AS44<>$AK44,AR44<>$AK44),$AK44,\nIF(AND(AS44<>$AL44,AR44<>$AL44),$AL44,\nIF(AND(AS44<>$AM44,AR44<>$AM44),$AM44,\nIF(AND(AS44<>$AN44,AR44<>$AN44),$AN44,\nIF(AND(AS44<>$AO44,AR44<>$AO44),$AO44,\nIF(AND(AS44<>$AP44,AR44<>$AP44),$AP44,\n\"\")))))))))))","v":""},{"$f":"IF(AT44=\"\",\"\",\nIF(AND(AR44<>$AG44,AT44<>$AG44,AS44<>$AG44),$AG44,\nIF(AND(AR44<>$AH44,AT44<>$AH44,AS44<>$AH44),$AH44,\nIF(AND(AR44<>$AI44,AT44<>$AI44,AS44<>$AI44),$AI44,\nIF(AND(AR44<>$AJ44,AT44<>$AJ44,AS44<>$AJ44),$AJ44,\nIF(AND(AR44<>$AK44,AT44<>$AK44,AS44<>$AK44),$AK44,\nIF(AND(AR44<>$AL44,AT44<>$AL44,AS44<>$AL44),$AL44,\nIF(AND(AR44<>$AM44,AT44<>$AM44,AS44<>$AM44),$AM44,\nIF(AND(AR44<>$AN44,AT44<>$AN44,AS44<>$AN44),$AN44,\nIF(AND(AR44<>$AO44,AT44<>$AO44,AS44<>$AO44),$AO44,\nIF(AND(AR44<>$AP44,AT44<>$AP44,AS44<>$AP44),$AP44,\n\"\")))))))))))","v":""},{"$f":"IF(AU44=\"\",\"\",\nIF(AND(AR44<>$AG44,AS44<>$AG44,AU44<>$AG44,AT44<>$AG44),$AG44,\nIF(AND(AR44<>$AH44,AS44<>$AH44,AU44<>$AH44,AT44<>$AH44),$AH44,\nIF(AND(AR44<>$AI44,AS44<>$AI44,AU44<>$AI44,AT44<>$AI44),$AI44,\nIF(AND(AR44<>$AJ44,AS44<>$AJ44,AU44<>$AJ44,AT44<>$AJ44),$AJ44,\nIF(AND(AR44<>$AK44,AS44<>$AK44,AU44<>$AK44,AT44<>$AK44),$AK44,\nIF(AND(AR44<>$AL44,AS44<>$AL44,AU44<>$AL44,AT44<>$AL44),$AL44,\nIF(AND(AR44<>$AM44,AS44<>$AM44,AU44<>$AM44,AT44<>$AM44),$AM44,\nIF(AND(AR44<>$AN44,AS44<>$AN44,AU44<>$AN44,AT44<>$AN44),$AN44,\nIF(AND(AR44<>$AO44,AS44<>$AO44,AU44<>$AO44,AT44<>$AO44),$AO44,\nIF(AND(AR44<>$AP44,AS44<>$AP44,AU44<>$AP44,AT44<>$AP44),$AP44,\n\"\")))))))))))","v":""},{"$f":"IF(AV44=\"\",\"\",\nIF(AND(AR44<>$AG44,AS44<>$AG44,AT44<>$AG44,AV44<>$AG44,AU44<>$AG44),$AG44,\nIF(AND(AR44<>$AH44,AS44<>$AH44,AT44<>$AH44,AV44<>$AH44,AU44<>$AH44),$AH44,\nIF(AND(AR44<>$AI44,AS44<>$AI44,AT44<>$AI44,AV44<>$AI44,AU44<>$AI44),$AI44,\nIF(AND(AR44<>$AJ44,AS44<>$AJ44,AT44<>$AJ44,AV44<>$AJ44,AU44<>$AJ44),$AJ44,\nIF(AND(AR44<>$AK44,AS44<>$AK44,AT44<>$AK44,AV44<>$AK44,AU44<>$AK44),$AK44,\nIF(AND(AR44<>$AL44,AS44<>$AL44,AT44<>$AL44,AV44<>$AL44,AU44<>$AL44),$AL44,\nIF(AND(AR44<>$AM44,AS44<>$AM44,AT44<>$AM44,AV44<>$AM44,AU44<>$AM44),$AM44,\nIF(AND(AR44<>$AN44,AS44<>$AN44,AT44<>$AN44,AV44<>$AN44,AU44<>$AN44),$AN44,\nIF(AND(AR44<>$AO44,AS44<>$AO44,AT44<>$AO44,AV44<>$AO44,AU44<>$AO44),$AO44,\nIF(AND(AR44<>$AP44,AS44<>$AP44,AT44<>$AP44,AV44<>$AP44,AU44<>$AP44),$AP44,\n\"\")))))))))))","v":""},{"$f":"IF(AW44=\"\",\"\",\nIF(AND(AR44<>$AG44,AS44<>$AG44,AT44<>$AG44,AU44<>$AG44,AW44<>$AG44,AV44<>$AG44),$AG44,\nIF(AND(AR44<>$AH44,AS44<>$AH44,AT44<>$AH44,AU44<>$AH44,AW44<>$AH44,AV44<>$AH44),$AH44,\nIF(AND(AR44<>$AI44,AS44<>$AI44,AT44<>$AI44,AU44<>$AI44,AW44<>$AI44,AV44<>$AI44),$AI44,\nIF(AND(AR44<>$AJ44,AS44<>$AJ44,AT44<>$AJ44,AU44<>$AJ44,AW44<>$AJ44,AV44<>$AJ44),$AJ44,\nIF(AND(AR44<>$AK44,AS44<>$AK44,AT44<>$AK44,AU44<>$AK44,AW44<>$AK44,AV44<>$AK44),$AK44,\nIF(AND(AR44<>$AL44,AS44<>$AL44,AT44<>$AL44,AU44<>$AL44,AW44<>$AL44,AV44<>$AL44),$AL44,\nIF(AND(AR44<>$AM44,AS44<>$AM44,AT44<>$AM44,AU44<>$AM44,AW44<>$AM44,AV44<>$AM44),$AM44,\nIF(AND(AR44<>$AN44,AS44<>$AN44,AT44<>$AN44,AU44<>$AN44,AW44<>$AN44,AV44<>$AN44),$AN44,\nIF(AND(AR44<>$AO44,AS44<>$AO44,AT44<>$AO44,AU44<>$AO44,AW44<>$AO44,AV44<>$AO44),$AO44,\nIF(AND(AR44<>$AP44,AS44<>$AP44,AT44<>$AP44,AU44<>$AP44,AW44<>$AP44,AV44<>$AP44),$AP44,\n\"\")))))))))))","v":""},{"$f":"IF(AX44=\"\",\"\",\nIF(AND(AR44<>$AG44,AS44<>$AG44,AT44<>$AG44,AU44<>$AG44,AV44<>$AG44,AX44<>$AG44,AW44<>$AG44),$AG44,\nIF(AND(AR44<>$AH44,AS44<>$AH44,AT44<>$AH44,AU44<>$AH44,AV44<>$AH44,AX44<>$AH44,AW44<>$AH44),$AH44,\nIF(AND(AR44<>$AI44,AS44<>$AI44,AT44<>$AI44,AU44<>$AI44,AV44<>$AI44,AX44<>$AI44,AW44<>$AI44),$AI44,\nIF(AND(AR44<>$AJ44,AS44<>$AJ44,AT44<>$AJ44,AU44<>$AJ44,AV44<>$AJ44,AX44<>$AJ44,AW44<>$AJ44),$AJ44,\nIF(AND(AR44<>$AK44,AS44<>$AK44,AT44<>$AK44,AU44<>$AK44,AV44<>$AK44,AX44<>$AK44,AW44<>$AK44),$AK44,\nIF(AND(AR44<>$AL44,AS44<>$AL44,AT44<>$AL44,AU44<>$AL44,AV44<>$AL44,AX44<>$AL44,AW44<>$AL44),$AL44,\nIF(AND(AR44<>$AM44,AS44<>$AM44,AT44<>$AM44,AU44<>$AM44,AV44<>$AM44,AX44<>$AM44,AW44<>$AM44),$AM44,\nIF(AND(AR44<>$AN44,AS44<>$AN44,AT44<>$AN44,AU44<>$AN44,AV44<>$AN44,AX44<>$AN44,AW44<>$AN44),$AN44,\nIF(AND(AR44<>$AO44,AS44<>$AO44,AT44<>$AO44,AU44<>$AO44,AV44<>$AO44,AX44<>$AO44,AW44<>$AO44),$AO44,\nIF(AND(AR44<>$AP44,AS44<>$AP44,AT44<>$AP44,AU44<>$AP44,AV44<>$AP44,AX44<>$AP44,AW44<>$AP44),$AP44,\n\"\")))))))))))","v":""},{"$f":"IF(AY44=\"\",\"\",\nIF(AND(AR44<>$AG44,AS44<>$AG44,AT44<>$AG44,AU44<>$AG44,AV44<>$AG44,AW44<>$AG44,AY44<>$AG44,AX44<>$AG44),$AG44,\nIF(AND(AR44<>$AH44,AS44<>$AH44,AT44<>$AH44,AU44<>$AH44,AV44<>$AH44,AW44<>$AH44,AY44<>$AH44,AX44<>$AH44),$AH44,\nIF(AND(AR44<>$AI44,AS44<>$AI44,AT44<>$AI44,AU44<>$AI44,AV44<>$AI44,AW44<>$AI44,AY44<>$AI44,AX44<>$AI44),$AI44,\nIF(AND(AR44<>$AJ44,AS44<>$AJ44,AT44<>$AJ44,AU44<>$AJ44,AV44<>$AJ44,AW44<>$AJ44,AY44<>$AJ44,AX44<>$AJ44),$AJ44,\nIF(AND(AR44<>$AK44,AS44<>$AK44,AT44<>$AK44,AU44<>$AK44,AV44<>$AK44,AW44<>$AK44,AY44<>$AK44,AX44<>$AK44),$AK44,\nIF(AND(AR44<>$AL44,AS44<>$AL44,AT44<>$AL44,AU44<>$AL44,AV44<>$AL44,AW44<>$AL44,AY44<>$AL44,AX44<>$AL44),$AL44,\nIF(AND(AR44<>$AM44,AS44<>$AM44,AT44<>$AM44,AU44<>$AM44,AV44<>$AM44,AW44<>$AM44,AY44<>$AM44,AX44<>$AM44),$AM44,\nIF(AND(AR44<>$AN44,AS44<>$AN44,AT44<>$AN44,AU44<>$AN44,AV44<>$AN44,AW44<>$AN44,AY44<>$AN44,AX44<>$AN44),$AN44,\nIF(AND(AR44<>$AO44,AS44<>$AO44,AT44<>$AO44,AU44<>$AO44,AV44<>$AO44,AW44<>$AO44,AY44<>$AO44,AX44<>$AO44),$AO44,\nIF(AND(AR44<>$AP44,AS44<>$AP44,AT44<>$AP44,AU44<>$AP44,AV44<>$AP44,AW44<>$AP44,AY44<>$AP44,AX44<>$AP44),$AP44,\n\"\")))))))))))","v":""},{"$f":"IF(AZ44=\"\",\"\",\nIF(AND(AR44<>$AG44,AS44<>$AG44,AT44<>$AG44,AU44<>$AG44,AV44<>$AG44,AW44<>$AG44,AX44<>$AG44,AZ44<>$AG44,AY44<>$AG44),$AG44,\nIF(AND(AR44<>$AH44,AS44<>$AH44,AT44<>$AH44,AU44<>$AH44,AV44<>$AH44,AW44<>$AH44,AX44<>$AH44,AZ44<>$AH44,AY44<>$AH44),$AH44,\nIF(AND(AR44<>$AI44,AS44<>$AI44,AT44<>$AI44,AU44<>$AI44,AV44<>$AI44,AW44<>$AI44,AX44<>$AI44,AZ44<>$AI44,AY44<>$AI44),$AI44,\nIF(AND(AR44<>$AJ44,AS44<>$AJ44,AT44<>$AJ44,AU44<>$AJ44,AV44<>$AJ44,AW44<>$AJ44,AX44<>$AJ44,AZ44<>$AJ44,AY44<>$AJ44),$AJ44,\nIF(AND(AR44<>$AK44,AS44<>$AK44,AT44<>$AK44,AU44<>$AK44,AV44<>$AK44,AW44<>$AK44,AX44<>$AK44,AZ44<>$AK44,AY44<>$AK44),$AK44,\nIF(AND(AR44<>$AL44,AS44<>$AL44,AT44<>$AL44,AU44<>$AL44,AV44<>$AL44,AW44<>$AL44,AX44<>$AL44,AZ44<>$AL44,AY44<>$AL44),$AL44,\nIF(AND(AR44<>$AM44,AS44<>$AM44,AT44<>$AM44,AU44<>$AM44,AV44<>$AM44,AW44<>$AM44,AX44<>$AM44,AZ44<>$AM44,AY44<>$AM44),$AM44,\nIF(AND(AR44<>$AN44,AS44<>$AN44,AT44<>$AN44,AU44<>$AN44,AV44<>$AN44,AW44<>$AN44,AX44<>$AN44,AZ44<>$AN44,AY44<>$AN44),$AN44,\nIF(AND(AR44<>$AO44,AS44<>$AO44,AT44<>$AO44,AU44<>$AO44,AV44<>$AO44,AW44<>$AO44,AX44<>$AO44,AZ44<>$AO44,AY44<>$AO44),$AO44,\nIF(AND(AR44<>$AP44,AS44<>$AP44,AT44<>$AP44,AU44<>$AP44,AV44<>$AP44,AW44<>$AP44,AX44<>$AP44,AZ44<>$AP44,AY44<>$AP44),$AP44,\n\"\")))))))))))","v":""}]
[null,0,0,null,{"$f":"L45","v":"731.200"},"Soffiaggio ghiaia","",null,null,null,null,"731.200","Soffiaggio ghiaia","m2",null,null,null,null,null,null,null,null,null,null,"x",null,null,null,null,null,"x",null,"m2","m2","m2","m2","forfait","forfait","forfait","forfait","forfait","forfait",null,"m2","forfait","","","","","","","",""]
[null,1,1,null,{"$f":"L46","v":"731.300"},"Spostamento manuale della ghiaia","m2",null,null,null,null,"731.300","Spostamento manuale della ghiaia","m2","x",null,null,null,null,null,null,null,null,null,"x",null,null,null,null,null,"x",null,"m2","m2","m2","m2","forfait","forfait","forfait","forfait","forfait","forfait",null,"m2","forfait","","","","","","","",""]
[null,{"$f":"IF(OR(SUM(B48:B51)>0,O47=\"x\"),1,IF(ISNUMBER(O47),O47,0))","v":0},0,{"$f":"J47","v":"732.000"},null,{"$f":"K47","v":"Inverdimento"},"",null,null,"732.000","Inverdimento",null,null,"m2",null,null,null,null,null,null,null,null,null,null,"x",null,null,null,null,null,"x",null,"m2","m2","m2","m2","forfait","forfait","forfait","forfait","forfait","forfait",null,"m2","forfait","","","","","","","",""]
[null,{"$f":"IF(O48=\"x\",1,IF(ISNUMBER(O48),O48,0))","v":0},0,null,{"$f":"L48","v":"732.100"},{"$f":"M48","v":"Lisciatura / livellamento del substrato (m2)"},"",null,null,null,null,"732.100","Lisciatura / livellamento del substrato (m2)","m2",null,null,null,null,null,null,null,null,null,null,"x",null,null,null,null,null,"x",null,"m2","m2","m2","m2","forfait","forfait","forfait","forfait","forfait","forfait",null,"m2","forfait","","","","","","","",""]
[null,0,0,null,{"$f":"L49","v":"732.200"},"Aspirazione e smaltimento del substrato","",null,null,null,null,"732.200","Aspirazione e smaltimento del substrato","m2",null,null,null,null,null,null,null,null,null,null,"x",null,null,null,null,null,"x",null,"m2","m2","m2","m2","forfait","forfait","forfait","forfait","forfait","forfait",null,"m2","forfait","","","","","","","",""]
[null,0,0,null,{"$f":"L50","v":"732.300"},"Soffiaggio del substrato","",null,null,null,null,"732.300","Soffiaggio del substrato","m2",null,null,null,null,null,null,null,null,null,null,"x",null,null,null,null,null,"x",null,"m2","m2","m2","m2","forfait","forfait","forfait","forfait","forfait","forfait",null,"m2","forfait","","","","","","","",""]
[null,0,0,null,{"$f":"L51","v":"732.400"},"Rimozione e smaltimento vegetazione","",null,null,null,null,"732.400","Rimozione e smaltimento vegetazione","m2",null,null,null,null,null,null,null,null,null,null,"x",null,null,null,null,null,"x",null,"m2","m2","m2","m2","forfait","forfait","forfait","forfait","forfait","forfait",null,"m2","forfait","","","","","","","",""]
[null,{"$f":"IF(O52=\"x\",1,IF(ISNUMBER(O52),O52,0))","v":1},1,{"$f":"J52","v":"733.000"},null,{"$f":"K52","v":"Lastre calpestabili"},"forfait",null,null,"733.000","Lastre calpestabili",null,null,"forfait","x",null,null,null,null,null,null,"x",null,null,"x",null,null,null,null,null,"x",null,"pz.","m2","m2","m2","forfait","forfait","forfait","forfait","forfait","forfait",null,"pz.","m2","forfait","","","","","","",""]
[null,{"$f":"IF(OR(SUM(B54:B56)>0,O53=\"x\"),1,IF(ISNUMBER(O53),O53,0))","v":1},0,{"$f":"J53","v":"734.000"},null,{"$f":"K53 & IF(P53<>\"\",CHAR(10) & P53,\"\")","v":"Strati di protezione"},"",null,null,"734.000","Strati di protezione",null,null,"m2",null,null,null,null,null,null,"E700_Strati_di_protezione",null,null,null,"x",null,null,null,null,null,"x",null,"m2","m2","m2","m2","forfait","forfait","forfait","forfait","forfait","forfait",null,"m2","forfait","","","","","","","",""]
[null,{"$f":"IF(O54=\"x\",1,IF(ISNUMBER(O54),O54,0))","v":1},1,null,{"$f":"L54","v":"734.100"},{"$f":"M54 & IF(P54<>\"\",CHAR(10) & P54,\"\")","v":"Telo in tessuto non tessuto\nCaratteristiche: \nSpessore (mm )"},"m2",null,null,null,null,"734.100","Telo in tessuto non tessuto","m2","x","Caratteristiche: \nSpessore (mm )",null,null,null,null,"E700_Strati_di_protezione",null,null,null,"x",null,null,null,null,null,"x",null,"m2","m2","m2","m2","forfait","forfait","forfait","forfait","forfait","forfait",null,"m2","forfait","","","","","","","",""]
[null,0,0,null,{"$f":"L55","v":"734.200"},"Granulato in gomma riciclata","",null,null,null,null,"734.200","Granulato in gomma riciclata","m2",null,null,null,null,null,null,"E700_Strati_di_protezione",null,null,null,"x",null,null,null,null,null,"x",null,"m2","m2","m2","m2","forfait","forfait","forfait","forfait","forfait","forfait",null,"m2","forfait","","","","","","","",""]
[null,0,0,null,{"$f":"L56","v":"734.300"},"Stuoie di ritenzione","",null,null,null,null,"734.300","Stuoie di ritenzione","m2",null,null,null,null,null,null,"E700_Strati_di_protezione",null,null,null,"x",null,null,null,null,null,"x",null,"m2","m2","m2","m2","forfait","forfait","forfait","forfait","forfait","forfait",null,"m2","forfait","","","","","","","",""]
[null,{"$f":"IF(O57=\"x\",1,IF(ISNUMBER(O57),O57,0))","v":0},0,{"$f":"J57","v":"735.000"},null,{"$f":"K57","v":"Smontaggio dei punti di arresto singoli, incl. opere di sigillatura"},"",null,null,"735.000","Smontaggio dei punti di arresto singoli, incl. opere di sigillatura",null,null,"pz.",null,null,null,null,null,null,null,"x",null,null,null,null,null,null,null,null,"x",null,"pz.","forfait","forfait","forfait","forfait","forfait","forfait","forfait","forfait","forfait",null,"pz.","forfait","","","","","","","",""]
[null,0,0,"736.000",null,"Piegatura tubi di sfiato","",null,null,"736.000","Piegatura tubi di sfiato",null,null,"pz.",null,null,null,null,null,null,null,"x",null,null,null,null,null,null,null,null,"x",null,"pz.","forfait","forfait","forfait","forfait","forfait","forfait","forfait","forfait","forfait",null,"pz.","forfait","","","","","","","",""]
[null,{"$f":"B42","v":1},0,null,null,null,"",null,null,null,null,null,null,null,null,null,null,null,null,null,null,null,null,null,null,null,null,null,null,null,null,null,"","","","","","","","","","",null,"","","","","","","","","",""]
[null,{"$f":"IF(O60=\"x\",1,IF(SUM(B61:B66)>0,1,0))","v":0},0,{"$f":"H60","v":"740.000"},null,{"$f":"I60","v":"Adattamenti di facciate"},"","740.000","Adattamenti di facciate",null,null,null,null,"forfait",null,null,null,null,null,null,null,null,null,null,null,null,null,null,null,null,"x",null,"forfait","forfait","forfait","forfait","forfait","forfait","forfait","forfait","forfait","forfait",null,"forfait","","","","","","","","",""]
[null,{"$f":"IF(O61=\"x\",1,IF(ISNUMBER(O61),O61,0))","v":0},0,{"$f":"J61","v":"741.000"},null,{"$f":"K61","v":"Fresatura di elementi in beton"},"",null,null,"741.000","Fresatura di elementi in beton",null,null,"ml",null,null,null,null,null,null,null,null,null,"x",null,null,null,null,null,null,"x",null,"ml","ml","ml","forfait","forfait","forfait","forfait","forfait","forfait","forfait",null,"ml","forfait","","","","","","","",""]
[null,0,0,"742.000",null,"Aggiustamento sul posto delle lamiere","",null,null,"742.000","Aggiustamento sul posto delle lamiere",null,null,"ml",null,null,null,null,null,null,null,null,null,"x",null,null,null,null,null,null,"x",null,"ml","ml","ml","forfait","forfait","forfait","forfait","forfait","forfait","forfait",null,"ml","forfait","","","","","","","",""]
[null,0,0,"743.000",null,"Intonaco","",null,null,"743.000","Intonaco",null,null,"m2",null,null,null,null,null,null,null,null,null,null,"x",null,null,null,null,null,"x",null,"m2","m2","m2","m2","forfait","forfait","forfait","forfait","forfait","forfait",null,"m2","forfait","","","","","","","",""]
[null,0,0,"744.000",null,"Tavole","",null,null,"744.000","Tavole",null,null,"ml",null,null,null,null,null,null,null,null,null,"x",null,null,null,null,null,null,"x",null,"ml","ml","ml","forfait","forfait","forfait","forfait","forfait","forfait","forfait",null,"ml","forfait","","","","","","","",""]
[null,0,0,"745.000",null,"Listelli","",null,null,"745.000","Listelli",null,null,"ml",null,null,null,null,null,null,null,null,null,"x",null,null,null,null,null,null,"x",null,"ml","ml","ml","forfait","forfait","forfait","forfait","forfait","forfait","forfait",null,"ml","forfait","","","","","","","",""]
[null,0,0,"746.000",null,{"$f":"K66 & IF(P66<>\"\",CHAR(10) & P66,\"\")","v":"Perforazioni"},"",null,null,"746.000","Perforazioni",null,null,"pz.",null,null,null,null,null,null,"E700_Carotaggi","x",null,null,null,null,null,null,null,null,null,null,"pz.","","","","","","","","","",null,"pz.","","","","","","","","",""]
[null,{"$f":"B60","v":0},0,null,null,null,"",null,null,null,null,null,null,null,null,null,null,null,null,null,null,null,null,null,null,null,null,null,null,null,null,null,"","","","","","","","","","",null,"","","","","","","","","",""]
[null,{"$f":"IF(O68=\"x\",1,IF(SUM(B69:B72)>0,1,0))","v":1},0,{"$f":"H68","v":"750.000"},null,{"$f":"I68","v":"Protezione da scariche atmosferiche"},"","750.000","Protezione da scariche atmosferiche",null,null,null,null,"forfait",null,null,null,null,null,null,null,null,null,null,null,null,null,null,null,null,"x",null,"forfait","forfait","forfait","forfait","forfait","forfait","forfait","forfait","forfait","forfait",null,"forfait","","","","","","","","",""]
[null,{"$f":"IF(O69=\"x\",1,IF(ISNUMBER(O69),O69,0))","v":0},0,{"$f":"J69","v":"751.000"},null,{"$f":"K69","v":"Smontaggio e smaltimento parafulmini"},"",null,null,"751.000","Smontaggio e smaltimento parafulmini",null,null,"ml",null,null,null,null,null,null,null,null,null,"x",null,null,null,null,null,null,"x",null,"ml","ml","ml","forfait","forfait","forfait","forfait","forfait","forfait","forfait",null,"ml","forfait","","","","","","","",""]
[null,0,0,"752.000",null,{"$f":"K70 & IF(P70<>\"\",CHAR(10) & P70,\"\")","v":"Protezione antifulmine tetto a falde"},"",null,null,"752.000","Protezione antifulmine tetto a falde",null,null,"ml",null,null,null,null,null,null,"E700_Protezione_antifulmine_Tetto_a_falde",null,null,"x",null,null,null,null,null,null,"x",null,"ml","ml","ml","forfait","forfait","forfait","forfait","forfait","forfait","forfait",null,"ml",{"$f":"IF(AR70=\"\",\"\",\nIF(AR70<>$AG70,$AG70,\nIF(AR70<>$AH70,$AH70,\nIF(AR70<>$AI70,$AI70,\nIF(AR70<>$AJ70,$AJ70,\nIF(AR70<>$AK70,$AK70,\nIF(AR70<>$AL70,$AL70,\nIF(AR70<>$AM70,$AM70,\nIF(AR70<>$AN70,$AN70,\nIF(AR70<>$AO70,$AO70,\nIF(AR70<>$AP70,$AP70,\n\"\")))))))))))","v":"forfait"},"","","","","","","",""]
[null,1,1,"753.000",null,"Protezione antifulmine tetto piano","ml",null,null,"753.000","Protezione antifulmine tetto piano",null,null,"ml","x",null,null,null,null,null,"E700_Protezione_antifulmine_Tetto_piano",null,null,"x",null,null,null,null,null,null,"x",null,"ml","ml","ml","forfait","forfait","forfait","forfait","forfait","forfait","forfait",null,"ml","forfait","","","","","","","",""]
[null,0,0,"754.000",null,"Protezione antifulmine facciata",{"$f":"IF(C72=1,N72,\"\")","v":""},null,null,"754.000","Protezione antifulmine facciata",null,null,"ml",null,null,null,null,null,null,"E700_Protezione_antifulmine_Facciata",null,null,"x",null,null,null,null,null,null,"x",null,{"$f":"\nIF(V72=\"x\",V$4,\nIF(W72=\"x\",W$4,\nIF(X72=\"x\",X$4,\nIF(Y72=\"x\",Y$4,\nIF(Z72=\"x\",Z$4,\nIF(AA72=\"x\",AA$4,\nIF(AB72=\"x\",AB$4,\nIF(AC72=\"x\",AC$4,\nIF(AD72=\"x\",AD$4,\nIF(AE72=\"x\",AE$4,\n\"\"))))))))))","v":"ml"},{"$f":"\nIF(W72=\"x\",W$4,\nIF(X72=\"x\",X$4,\nIF(Y72=\"x\",Y$4,\nIF(Z72=\"x\",Z$4,\nIF(AA72=\"x\",AA$4,\nIF(AB72=\"x\",AB$4,\nIF(AC72=\"x\",AC$4,\nIF(AD72=\"x\",AD$4,\nIF(AE72=\"x\",AE$4,\n\"\")))))))))","v":"ml"},{"$f":"\nIF(X72=\"x\",X$4,\nIF(Y72=\"x\",Y$4,\nIF(Z72=\"x\",Z$4,\nIF(AA72=\"x\",AA$4,\nIF(AB72=\"x\",AB$4,\nIF(AC72=\"x\",AC$4,\nIF(AD72=\"x\",AD$4,\nIF(AE72=\"x\",AE$4,\n\"\"))))))))","v":"ml"},{"$f":"\nIF(Y72=\"x\",Y$4,\nIF(Z72=\"x\",Z$4,\nIF(AA72=\"x\",AA$4,\nIF(AB72=\"x\",AB$4,\nIF(AC72=\"x\",AC$4,\nIF(AD72=\"x\",AD$4,\nIF(AE72=\"x\",AE$4,\n\"\")))))))","v":"forfait"},{"$f":"\nIF(Z72=\"x\",Z$4,\nIF(AA72=\"x\",AA$4,\nIF(AB72=\"x\",AB$4,\nIF(AC72=\"x\",AC$4,\nIF(AD72=\"x\",AD$4,\nIF(AE72=\"x\",AE$4,\n\"\"))))))","v":"forfait"},{"$f":"\nIF(AA72=\"x\",AA$4,\nIF(AB72=\"x\",AB$4,\nIF(AC72=\"x\",AC$4,\nIF(AD72=\"x\",AD$4,\nIF(AE72=\"x\",AE$4,\n\"\")))))","v":"forfait"},{"$f":"\nIF(AB72=\"x\",AB$4,\nIF(AC72=\"x\",AC$4,\nIF(AD72=\"x\",AD$4,\nIF(AE72=\"x\",AE$4,\n\"\"))))","v":"forfait"},{"$f":"\nIF(AC72=\"x\",AC$4,\nIF(AD72=\"x\",AD$4,\nIF(AE72=\"x\",AE$4,\n\"\")))","v":"forfait"},{"$f":"\nIF(AD72=\"x\",AD$4,\nIF(AE72=\"x\",AE$4,\n\"\"))","v":"forfait"},{"$f":"\nIF(AE72=\"x\",AE$4,\n\"\")","v":"forfait"},null,{"$f":"AG72","v":"ml"},"forfait",{"$f":"IF(AS72=\"\",\"\",\nIF(AND(AS72<>$AG72,AR72<>$AG72),$AG72,\nIF(AND(AS72<>$AH72,AR72<>$AH72),$AH72,\nIF(AND(AS72<>$AI72,AR72<>$AI72),$AI72,\nIF(AND(AS72<>$AJ72,AR72<>$AJ72),$AJ72,\nIF(AND(AS72<>$AK72,AR72<>$AK72),$AK72,\nIF(AND(AS72<>$AL72,AR72<>$AL72),$AL72,\nIF(AND(AS72<>$AM72,AR72<>$AM72),$AM72,\nIF(AND(AS72<>$AN72,AR72<>$AN72),$AN72,\nIF(AND(AS72<>$AO72,AR72<>$AO72),$AO72,\nIF(AND(AS72<>$AP72,AR72<>$AP72),$AP72,\n\"\")))))))))))","v":""},{"$f":"IF(AT72=\"\",\"\",\nIF(AND(AR72<>$AG72,AT72<>$AG72,AS72<>$AG72),$AG72,\nIF(AND(AR72<>$AH72,AT72<>$AH72,AS72<>$AH72),$AH72,\nIF(AND(AR72<>$AI72,AT72<>$AI72,AS72<>$AI72),$AI72,\nIF(AND(AR72<>$AJ72,AT72<>$AJ72,AS72<>$AJ72),$AJ72,\nIF(AND(AR72<>$AK72,AT72<>$AK72,AS72<>$AK72),$AK72,\nIF(AND(AR72<>$AL72,AT72<>$AL72,AS72<>$AL72),$AL72,\nIF(AND(AR72<>$AM72,AT72<>$AM72,AS72<>$AM72),$AM72,\nIF(AND(AR72<>$AN72,AT72<>$AN72,AS72<>$AN72),$AN72,\nIF(AND(AR72<>$AO72,AT72<>$AO72,AS72<>$AO72),$AO72,\nIF(AND(AR72<>$AP72,AT72<>$AP72,AS72<>$AP72),$AP72,\n\"\")))))))))))","v":""},{"$f":"IF(AU72=\"\",\"\",\nIF(AND(AR72<>$AG72,AS72<>$AG72,AU72<>$AG72,AT72<>$AG72),$AG72,\nIF(AND(AR72<>$AH72,AS72<>$AH72,AU72<>$AH72,AT72<>$AH72),$AH72,\nIF(AND(AR72<>$AI72,AS72<>$AI72,AU72<>$AI72,AT72<>$AI72),$AI72,\nIF(AND(AR72<>$AJ72,AS72<>$AJ72,AU72<>$AJ72,AT72<>$AJ72),$AJ72,\nIF(AND(AR72<>$AK72,AS72<>$AK72,AU72<>$AK72,AT72<>$AK72),$AK72,\nIF(AND(AR72<>$AL72,AS72<>$AL72,AU72<>$AL72,AT72<>$AL72),$AL72,\nIF(AND(AR72<>$AM72,AS72<>$AM72,AU72<>$AM72,AT72<>$AM72),$AM72,\nIF(AND(AR72<>$AN72,AS72<>$AN72,AU72<>$AN72,AT72<>$AN72),$AN72,\nIF(AND(AR72<>$AO72,AS72<>$AO72,AU72<>$AO72,AT72<>$AO72),$AO72,\nIF(AND(AR72<>$AP72,AS72<>$AP72,AU72<>$AP72,AT72<>$AP72),$AP72,\n\"\")))))))))))","v":""},{"$f":"IF(AV72=\"\",\"\",\nIF(AND(AR72<>$AG72,AS72<>$AG72,AT72<>$AG72,AV72<>$AG72,AU72<>$AG72),$AG72,\nIF(AND(AR72<>$AH72,AS72<>$AH72,AT72<>$AH72,AV72<>$AH72,AU72<>$AH72),$AH72,\nIF(AND(AR72<>$AI72,AS72<>$AI72,AT72<>$AI72,AV72<>$AI72,AU72<>$AI72),$AI72,\nIF(AND(AR72<>$AJ72,AS72<>$AJ72,AT72<>$AJ72,AV72<>$AJ72,AU72<>$AJ72),$AJ72,\nIF(AND(AR72<>$AK72,AS72<>$AK72,AT72<>$AK72,AV72<>$AK72,AU72<>$AK72),$AK72,\nIF(AND(AR72<>$AL72,AS72<>$AL72,AT72<>$AL72,AV72<>$AL72,AU72<>$AL72),$AL72,\nIF(AND(AR72<>$AM72,AS72<>$AM72,AT72<>$AM72,AV72<>$AM72,AU72<>$AM72),$AM72,\nIF(AND(AR72<>$AN72,AS72<>$AN72,AT72<>$AN72,AV72<>$AN72,AU72<>$AN72),$AN72,\nIF(AND(AR72<>$AO72,AS72<>$AO72,AT72<>$AO72,AV72<>$AO72,AU72<>$AO72),$AO72,\nIF(AND(AR72<>$AP72,AS72<>$AP72,AT72<>$AP72,AV72<>$AP72,AU72<>$AP72),$AP72,\n\"\")))))))))))","v":""},{"$f":"IF(AW72=\"\",\"\",\nIF(AND(AR72<>$AG72,AS72<>$AG72,AT72<>$AG72,AU72<>$AG72,AW72<>$AG72,AV72<>$AG72),$AG72,\nIF(AND(AR72<>$AH72,AS72<>$AH72,AT72<>$AH72,AU72<>$AH72,AW72<>$AH72,AV72<>$AH72),$AH72,\nIF(AND(AR72<>$AI72,AS72<>$AI72,AT72<>$AI72,AU72<>$AI72,AW72<>$AI72,AV72<>$AI72),$AI72,\nIF(AND(AR72<>$AJ72,AS72<>$AJ72,AT72<>$AJ72,AU72<>$AJ72,AW72<>$AJ72,AV72<>$AJ72),$AJ72,\nIF(AND(AR72<>$AK72,AS72<>$AK72,AT72<>$AK72,AU72<>$AK72,AW72<>$AK72,AV72<>$AK72),$AK72,\nIF(AND(AR72<>$AL72,AS72<>$AL72,AT72<>$AL72,AU72<>$AL72,AW72<>$AL72,AV72<>$AL72),$AL72,\nIF(AND(AR72<>$AM72,AS72<>$AM72,AT72<>$AM72,AU72<>$AM72,AW72<>$AM72,AV72<>$AM72),$AM72,\nIF(AND(AR72<>$AN72,AS72<>$AN72,AT72<>$AN72,AU72<>$AN72,AW72<>$AN72,AV72<>$AN72),$AN72,\nIF(AND(AR72<>$AO72,AS72<>$AO72,AT72<>$AO72,AU72<>$AO72,AW72<>$AO72,AV72<>$AO72),$AO72,\nIF(AND(AR72<>$AP72,AS72<>$AP72,AT72<>$AP72,AU72<>$AP72,AW72<>$AP72,AV72<>$AP72),$AP72,\n\"\")))))))))))","v":""},{"$f":"IF(AX72=\"\",\"\",\nIF(AND(AR72<>$AG72,AS72<>$AG72,AT72<>$AG72,AU72<>$AG72,AV72<>$AG72,AX72<>$AG72,AW72<>$AG72),$AG72,\nIF(AND(AR72<>$AH72,AS72<>$AH72,AT72<>$AH72,AU72<>$AH72,AV72<>$AH72,AX72<>$AH72,AW72<>$AH72),$AH72,\nIF(AND(AR72<>$AI72,AS72<>$AI72,AT72<>$AI72,AU72<>$AI72,AV72<>$AI72,AX72<>$AI72,AW72<>$AI72),$AI72,\nIF(AND(AR72<>$AJ72,AS72<>$AJ72,AT72<>$AJ72,AU72<>$AJ72,AV72<>$AJ72,AX72<>$AJ72,AW72<>$AJ72),$AJ72,\nIF(AND(AR72<>$AK72,AS72<>$AK72,AT72<>$AK72,AU72<>$AK72,AV72<>$AK72,AX72<>$AK72,AW72<>$AK72),$AK72,\nIF(AND(AR72<>$AL72,AS72<>$AL72,AT72<>$AL72,AU72<>$AL72,AV72<>$AL72,AX72<>$AL72,AW72<>$AL72),$AL72,\nIF(AND(AR72<>$AM72,AS72<>$AM72,AT72<>$AM72,AU72<>$AM72,AV72<>$AM72,AX72<>$AM72,AW72<>$AM72),$AM72,\nIF(AND(AR72<>$AN72,AS72<>$AN72,AT72<>$AN72,AU72<>$AN72,AV72<>$AN72,AX72<>$AN72,AW72<>$AN72),$AN72,\nIF(AND(AR72<>$AO72,AS72<>$AO72,AT72<>$AO72,AU72<>$AO72,AV72<>$AO72,AX72<>$AO72,AW72<>$AO72),$AO72,\nIF(AND(AR72<>$AP72,AS72<>$AP72,AT72<>$AP72,AU72<>$AP72,AV72<>$AP72,AX72<>$AP72,AW72<>$AP72),$AP72,\n\"\")))))))))))","v":""},{"$f":"IF(AY72=\"\",\"\",\nIF(AND(AR72<>$AG72,AS72<>$AG72,AT72<>$AG72,AU72<>$AG72,AV72<>$AG72,AW72<>$AG72,AY72<>$AG72,AX72<>$AG72),$AG72,\nIF(AND(AR72<>$AH72,AS72<>$AH72,AT72<>$AH72,AU72<>$AH72,AV72<>$AH72,AW72<>$AH72,AY72<>$AH72,AX72<>$AH72),$AH72,\nIF(AND(AR72<>$AI72,AS72<>$AI72,AT72<>$AI72,AU72<>$AI72,AV72<>$AI72,AW72<>$AI72,AY72<>$AI72,AX72<>$AI72),$AI72,\nIF(AND(AR72<>$AJ72,AS72<>$AJ72,AT72<>$AJ72,AU72<>$AJ72,AV72<>$AJ72,AW72<>$AJ72,AY72<>$AJ72,AX72<>$AJ72),$AJ72,\nIF(AND(AR72<>$AK72,AS72<>$AK72,AT72<>$AK72,AU72<>$AK72,AV72<>$AK72,AW72<>$AK72,AY72<>$AK72,AX72<>$AK72),$AK72,\nIF(AND(AR72<>$AL72,AS72<>$AL72,AT72<>$AL72,AU72<>$AL72,AV72<>$AL72,AW72<>$AL72,AY72<>$AL72,AX72<>$AL72),$AL72,\nIF(AND(AR72<>$AM72,AS72<>$AM72,AT72<>$AM72,AU72<>$AM72,AV72<>$AM72,AW72<>$AM72,AY72<>$AM72,AX72<>$AM72),$AM72,\nIF(AND(AR72<>$AN72,AS72<>$AN72,AT72<>$AN72,AU72<>$AN72,AV72<>$AN72,AW72<>$AN72,AY72<>$AN72,AX72<>$AN72),$AN72,\nIF(AND(AR72<>$AO72,AS72<>$AO72,AT72<>$AO72,AU72<>$AO72,AV72<>$AO72,AW72<>$AO72,AY72<>$AO72,AX72<>$AO72),$AO72,\nIF(AND(AR72<>$AP72,AS72<>$AP72,AT72<>$AP72,AU72<>$AP72,AV72<>$AP72,AW72<>$AP72,AY72<>$AP72,AX72<>$AP72),$AP72,\n\"\")))))))))))","v":""},{"$f":"IF(AZ72=\"\",\"\",\nIF(AND(AR72<>$AG72,AS72<>$AG72,AT72<>$AG72,AU72<>$AG72,AV72<>$AG72,AW72<>$AG72,AX72<>$AG72,AZ72<>$AG72,AY72<>$AG72),$AG72,\nIF(AND(AR72<>$AH72,AS72<>$AH72,AT72<>$AH72,AU72<>$AH72,AV72<>$AH72,AW72<>$AH72,AX72<>$AH72,AZ72<>$AH72,AY72<>$AH72),$AH72,\nIF(AND(AR72<>$AI72,AS72<>$AI72,AT72<>$AI72,AU72<>$AI72,AV72<>$AI72,AW72<>$AI72,AX72<>$AI72,AZ72<>$AI72,AY72<>$AI72),$AI72,\nIF(AND(AR72<>$AJ72,AS72<>$AJ72,AT72<>$AJ72,AU72<>$AJ72,AV72<>$AJ72,AW72<>$AJ72,AX72<>$AJ72,AZ72<>$AJ72,AY72<>$AJ72),$AJ72,\nIF(AND(AR72<>$AK72,AS72<>$AK72,AT72<>$AK72,AU72<>$AK72,AV72<>$AK72,AW72<>$AK72,AX72<>$AK72,AZ72<>$AK72,AY72<>$AK72),$AK72,\nIF(AND(AR72<>$AL72,AS72<>$AL72,AT72<>$AL72,AU72<>$AL72,AV72<>$AL72,AW72<>$AL72,AX72<>$AL72,AZ72<>$AL72,AY72<>$AL72),$AL72,\nIF(AND(AR72<>$AM72,AS72<>$AM72,AT72<>$AM72,AU72<>$AM72,AV72<>$AM72,AW72<>$AM72,AX72<>$AM72,AZ72<>$AM72,AY72<>$AM72),$AM72,\nIF(AND(AR72<>$AN72,AS72<>$AN72,AT72<>$AN72,AU72<>$AN72,AV72<>$AN72,AW72<>$AN72,AX72<>$AN72,AZ72<>$AN72,AY72<>$AN72),$AN72,\nIF(AND(AR72<>$AO72,AS72<>$AO72,AT72<>$AO72,AU72<>$AO72,AV72<>$AO72,AW72<>$AO72,AX72<>$AO72,AZ72<>$AO72,AY72<>$AO72),$AO72,\nIF(AND(AR72<>$AP72,AS72<>$AP72,AT72<>$AP72,AU72<>$AP72,AV72<>$AP72,AW72<>$AP72,AX72<>$AP72,AZ72<>$AP72,AY72<>$AP72),$AP72,\n\"\")))))))))))","v":""}]
[null,{"$f":"B68","v":1},{"$f":"IF(O73=\"x\",1,IF(ISNUMBER(O73),1,0))","v":0},null,null,null,"",null,null,null,null,null,null,null,null,null,null,null,null,null,null,null,null,null,null,null,null,null,null,null,null,null,"","","","","","","","","","",null,"","","","","","","","","",""]
[null,{"$f":"IF(O74=\"x\",1,IF(SUM(B76:B87)>0,1,0))","v":1},0,{"$f":"H74","v":"760.000"},null,{"$f":"I74","v":"Lavorazione del metallo"},"","760.000","Lavorazione del metallo",null,null,null,null,"forfait",null,null,null,null,null,null,"E700_Lavorazioni_in_metallo",null,null,null,null,null,null,null,null,null,"x",null,"forfait","forfait","forfait","forfait","forfait","forfait","forfait","forfait","forfait","forfait",null,"forfait","","","","","","","","",""]
[null,{"$f":"IF(F75=\"\",0,1)","v":0},0,null,null,{"$f":"IF(P74<>\"\",P74,\"\")","v":""},""]
[null,{"$f":"IF(OR(SUM(B77:B78)>0,O76=\"x\"),1,IF(ISNUMBER(O76),O76,0))","v":1},0,{"$f":"J76","v":"761.000"},null,{"$f":"K76 & IF(P76<>\"\",CHAR(10) & P76,\"\")","v":"Telaio di montaggio"},"",null,null,"761.000","Telaio di montaggio",null,null,"pz.",null,null,null,null,null,null,"E700_Lavorazioni_in_metallo","x",null,null,null,null,null,null,null,null,"x",null,"pz.","forfait","forfait","forfait","forfait","forfait","forfait","forfait","forfait","forfait",null,"pz.","forfait","","","","","","","",""]
[null,{"$f":"IF(O77=\"x\",1,IF(ISNUMBER(O77),O77,0))","v":0},0,null,{"$f":"L77","v":"761.100"},{"$f":"M77 & IF(P77<>\"\",CHAR(10) & P77,\"\")","v":"Telaio di montaggio a parete"},"",null,null,null,null,"761.100","Telaio di montaggio a parete","forfait",null,null,null,null,null,null,"E700_Lavorazioni_in_metallo","x",null,null,null,null,null,null,null,null,"x",null,"pz.","forfait","forfait","forfait","forfait","forfait","forfait","forfait","forfait","forfait",null,"pz.","forfait","","","","","","","",""]
[null,1,1,null,{"$f":"L78","v":"761.200"},"Telaio di montaggio a parete libero e portante","forfait",null,null,null,null,"761.200","Telaio di montaggio a parete libero e portante","forfait","x",null,null,null,null,null,"E700_Lavorazioni_in_metallo","x",null,null,null,null,null,null,null,null,"x",null,"pz.","forfait","forfait","forfait","forfait","forfait","forfait","forfait","forfait","forfait",null,"pz.","forfait","","","","","","","",""]
[null,{"$f":"IF(OR(SUM(B80:B82)>0,O79=\"x\"),1,IF(ISNUMBER(O79),O79,0))","v":1},1,{"$f":"J79","v":"762.000"},null,{"$f":"K79 & IF(P79<>\"\",CHAR(10) & P79,\"\")","v":"Protezione dalle intemperie"},"forfait",null,null,"762.000","Protezione dalle intemperie",null,null,"forfait","x",null,null,null,null,null,"E700_Lavorazioni_in_metallo","x",null,null,null,null,null,null,null,null,"x",null,"pz.","forfait","forfait","forfait","forfait","forfait","forfait","forfait","forfait","forfait",null,"pz.","forfait","","","","","","","",""]
[null,{"$f":"IF(O80=\"x\",1,IF(ISNUMBER(O80),O80,0))","v":0},0,null,{"$f":"L80","v":"762.100"},{"$f":"M80 & IF(P80<>\"\",CHAR(10) & P80,\"\")","v":"Protezione dalle intemperie a griglia, chiudibile a chiave"},"",null,null,null,null,"762.100","Protezione dalle intemperie a griglia, chiudibile a chiave","pz.",null,null,null,null,null,null,"E700_Lavorazioni_in_metallo","x",null,null,null,null,null,null,null,null,"x",null,"pz.","forfait","forfait","forfait","forfait","forfait","forfait","forfait","forfait","forfait",null,"pz.","forfait","","","","","","","",""]
[null,0,0,null,{"$f":"L81","v":"762.200"},"Copertura di protezione dalle intemperie","",null,null,null,null,"762.200","Copertura di protezione dalle intemperie","pz.",null,null,null,null,null,null,"E700_Lavorazioni_in_metallo","x",null,null,null,null,null,null,null,null,"x",null,"pz.","forfait","forfait","forfait","forfait","forfait","forfait","forfait","forfait","forfait",null,"pz.","forfait","","","","","","","",""]
[null,0,0,null,{"$f":"L82","v":"762.300"},"Container di protezione dalle intemperie","",null,null,null,null,"762.300","Container di protezione dalle intemperie","pz.",null,null,null,null,null,null,"E700_Lavorazioni_in_metallo","x",null,null,null,null,null,null,null,null,"x",null,"pz.","forfait","forfait","forfait","forfait","forfait","forfait","forfait","forfait","forfait",null,"pz.","forfait","","","","","","","",""]
[null,{"$f":"IF(O83=\"x\",1,IF(ISNUMBER(O83),O83,0))","v":0},0,{"$f":"J83","v":"763.000"},null,{"$f":"K83 & IF(P83<>\"\",CHAR(10) & P83,\"\")","v":"Protezione contro il contatto (protezione contro vandalismi)"},"",null,null,"763.000","Protezione contro il contatto (protezione contro vandalismi)",null,null,"pz.",null,null,null,null,null,null,"E700_Lavorazioni_in_metallo","x",null,null,null,null,null,null,null,null,"x",null,"pz.","forfait","forfait","forfait","forfait","forfait","forfait","forfait","forfait","forfait",null,"pz.","forfait","","","","","","","",""]
[null,{"$f":"IF(O84=\"x\",1,IF(ISNUMBER(O84),O84,0))","v":0},0,{"$f":"J84","v":"764.000"},null,"Ripiani speciali","",null,null,"764.000","Ripiani speciali",null,null,"pz.",null,null,null,null,null,null,"E700_Lavorazioni_in_metallo","x",null,null,null,null,null,null,null,null,"x",null,"pz.","forfait","forfait","forfait","forfait","forfait","forfait","forfait","forfait","forfait",null,"pz.","forfait","","","","","","","",""]
[null,0,0,"765.000",null,"Tubo quadro saldato","",null,null,"765.000","Tubo quadro saldato",null,null,"pz.",null,null,null,null,null,null,"E700_Lavorazioni_in_metallo","x",null,null,null,null,null,null,null,null,"x",null,"pz.","forfait","forfait","forfait","forfait","forfait","forfait","forfait","forfait","forfait",null,"pz.","forfait","","","","","","","",""]
[null,0,0,"766.000",null,"Lamiera","",null,null,"766.000","Lamiera",null,null,"pz.",null,null,null,null,null,null,"E700_Lavorazioni_in_metallo","x",null,null,null,null,null,null,null,null,"x",null,"pz.","forfait","forfait","forfait","forfait","forfait","forfait","forfait","forfait","forfait",null,"pz.","forfait","","","","","","","",""]
[null,0,0,"767.000",null,"Lamiera piegata","",null,null,"767.000","Lamiera piegata",null,null,"pz.",null,null,null,null,null,null,"E700_Lavorazioni_in_metallo","x",null,null,null,null,null,null,null,null,"x",null,"pz.","forfait","forfait","forfait","forfait","forfait","forfait","forfait","forfait","forfait",null,"pz.","forfait","","","","","","","",""]
[null,{"$f":"B74","v":1},0,null,null,null,"",null,null,null,null,null,null,null,null,null,null,null,null,null,null,null,null,null,null,null,null,null,null,null,null,null,"","","","","","","","","","",null,"","","","","","","","","",""]
[null,{"$f":"IF(O89=\"x\",1,IF(SUM(B90:B93)>0,1,0))","v":1},0,{"$f":"H89","v":"770.000"},null,{"$f":"I89","v":"Aperture/fori"},"","770.000","Aperture/fori",null,null,null,null,"forfait",null,null,null,null,null,null,null,null,null,null,null,null,null,null,null,null,"x",null,"forfait","forfait","forfait","forfait","forfait","forfait","forfait","forfait","forfait","forfait",null,"forfait","","","","","","","","",""]
[null,{"$f":"IF(O90=\"x\",1,IF(ISNUMBER(O90),O90,0))","v":1},1,{"$f":"J90","v":"771.000"},null,{"$f":"K90 & IF(P90<>\"\",CHAR(10) & P90,\"\")","v":"Perforazioni"},"pz.",null,null,"771.000","Perforazioni",null,null,"pz.","x",null,null,null,null,null,"E700_Carotaggi","x",null,null,null,null,null,null,null,null,"x",null,"pz.","forfait","forfait","forfait","forfait","forfait","forfait","forfait","forfait","forfait",null,"pz.","forfait","","","","","","","",""]
[null,0,0,"772.000",null,{"$f":"K91","v":"Fresatura"},"",null,null,"772.000","Fresatura",null,null,"pz.",null,null,null,null,null,null,null,"x",null,null,null,null,null,null,null,null,"x",null,"pz.","forfait","forfait","forfait","forfait","forfait","forfait","forfait","forfait","forfait",null,"pz.","forfait","","","","","","","",""]
[null,0,0,"773.000",null,{"$f":"K92 & IF(P92<>\"\",CHAR(10) & P92,\"\")","v":"Sigillatura"},"",null,null,"773.000","Sigillatura",null,null,"pz.",null,null,null,null,null,null,"E700_Impermeabilizzazione","x",null,null,null,null,null,null,null,null,"x",null,"pz.","forfait","forfait","forfait","forfait","forfait","forfait","forfait","forfait","forfait",null,"pz.","forfait","","","","","","","",""]
[null,1,1,"774.000",null,"Chiusura paratia tagliafuoco","pz.",null,null,"774.000","Chiusura paratia tagliafuoco",null,null,"pz.","x",null,null,null,null,null,null,"x",null,null,null,null,null,null,null,null,"x",null,"pz.","forfait","forfait","forfait","forfait","forfait","forfait","forfait","forfait","forfait",null,"pz.","forfait","","","","","","","",""]
[null,{"$f":"B89","v":1},0,null,null,null,"",null,null,null,null,null,null,null,null,null,null,null,null,null,null,null,null,null,null,null,null,null,null,null,null,null,"","","","","","","","","","",null,"","","","","","","","","",""]
[null,{"$f":"IF(O95=\"x\",1,IF(SUM(B96:B100)>0,1,0))","v":0},0,{"$f":"H95","v":"780.000"},null,{"$f":"I95","v":"Rivestimenti/coperture"},"","780.000","Rivestimenti/coperture",null,null,null,null,"forfait",null,null,null,null,null,null,null,null,null,null,null,null,null,null,null,null,"x",null,"forfait","forfait","forfait","forfait","forfait","forfait","forfait","forfait","forfait","forfait",null,"forfait","","","","","","","","",""]
[null,{"$f":"IF(O96=\"x\",1,IF(ISNUMBER(O96),O96,0))","v":0},0,{"$f":"J96","v":"781.000"},null,{"$f":"K96","v":"Pannello in gessofibra"},"",null,null,"781.000","Pannello in gessofibra",null,null,"pz.",null,null,null,null,null,null,null,"x",null,null,"x",null,null,null,null,null,null,null,"pz.","m2","m2","m2","","","","","","",null,"pz.","m2","","","","","","","",""]
[null,0,0,"782.000",null,"Legno laccato","",null,null,"782.000","Legno laccato",null,null,"pz.",null,null,null,null,null,null,null,"x",null,null,"x",null,null,null,null,null,null,null,"pz.","m2","m2","m2","","","","","","",null,"pz.","m2","","","","","","","",""]
[null,0,0,"783.000",null,"Legno naturale","",null,null,"783.000","Legno naturale",null,null,"pz.",null,null,null,null,null,null,null,"x",null,null,"x",null,null,null,null,null,null,null,"pz.","m2","m2","m2","","","","","","",null,"pz.","m2","","","","","","","",""]
[null,0,0,"784.000",null,{"$f":"K99 & IF(P99<>\"\",CHAR(10) & P99,\"\")","v":"Lamiera"},"",null,null,"784.000","Lamiera",null,null,"pz.",null,null,null,null,null,null,"E700_Lamiera","x",null,null,"x",null,null,null,null,null,null,null,"pz.","m2","m2","m2","","","","","","",null,"pz.","m2","","","","","","","",""]
[null,0,0,"785.000",null,"Pannello in fibrocemento","",null,null,"785.000","Pannello in fibrocemento",null,null,"pz.",null,null,null,null,null,null,null,"x",null,null,"x",null,null,null,null,null,null,null,"pz.","m2","m2","m2","","","","","","",null,"pz.","m2","","","","","","","",""]
[null,{"$f":"B95","v":0},0]

{"sheet":"E_Box700","index":17,"n_rows":57,"n_cols":12,"rows_kept":57,"cut":false,"hidden":true,"merged":[]}
["Campo di applicazione"]
["Livello di struttura 1",null,700,700,700,700,700,700,700,700,700,700]
["Livello di struttura 2",null,710,720,720,730,740,750,750,750,760,770]
["Livello di struttura 3",null,"711-713","721-722","725-727",734,746,752,753,754,"761-766",773]
[]
[null,null,"E700_Lamiera","E700_Tegola","E700_Legno","E700_Strati_di_protezione","E700_Carotaggi","E700_Protezione_antifulmine_Tetto_a_falde","E700_Protezione_antifulmine_Tetto_piano","E700_Protezione_antifulmine_Facciata","E700_Lavorazioni_in_metallo","E700_Impermeabilizzazione"]
["Nr."]
[1,null,"CU","Tipo Jura","Lunghezza","Spessore (mm)","Diametro <20 mm","Rame","Rame","Rame","CU","Guarnizione anulare"]
[2,null,"Alluminio lucido","Tipo coda di castoro","Larghezza","Capacità di carico (g/m2)","Diametro >20mm < 200mm","Rame zincato","Rame zincato","Rame zincato","Alluminio lucido","Plastica liquida"]
[3,null,"Alluminio anodizzato","Tipo tegalit","Spessore",null,"Diametro >200mm","Alluminio","Alluminio","Alluminio","Alluminio anodizzato","Silicone"]
[4,null,"Alluminio verniciato a polvere","Colore","Umidità del legno",null,null,"Maglia 10 m","Maglia 10 m","Maglia 10 m","Alluminio verniciato a polvere","Altro"]
[5,null,"Acciaio",null,"Qualità",null,null,"Maglia 15 m","Maglia 15 m","Maglia 15 m","Acciaio","Diametro"]
[6,null,"Acciaio zincato",null,"Tipo di legno",null,null,"Maglia 20 m","Maglia 20 m","Maglia 20 m","Acciaio zincato","Spessore della parete"]
[7,null,"Acciaio zincato a bagno",null,"FSC",null,null,null,"Aste di captazione",null,"Acciaio zincato a bagno","Materiale della parete"]
[8,null,"Acciaio inossidabile",null,null,null,null,null,null,null,"Acciaio inossidabile"]
[9,null,"Acciaio laccato",null,null,null,null,null,null,null,"Acciaio laccato"]
[10,null,"Colore",null,null,null,null,null,null,null,"Colore"]
[11]
[12]
[13]
[14]
[15]
[16]
[17]
[18]
[19]
[20]
[21]
[22]
[23]
[24]
[25]
[26]
[27]
[28]
[29]
[30]
[31]
[32]
[33]
[34]
[35]
[36]
[37]
[38]
[39]
[40]
[41]
[42]
[43]
[44]
[45]
[46]
[47]
[48]
[49]
[50]

{"sheet":"800 Servizi","index":18,"n_rows":39,"n_cols":53,"rows_kept":39,"cut":false,"hidden":false,"merged":[[0,20,0,52],[1,7,1,8],[3,7,3,8],[3,9,3,10],[3,11,3,12],[2,7,2,12]]}
[null,null,null,null,null,null,null,null,null,null,null,null,null,null,null,null,null,null,null,null,"NASCONDERE"]
[null,null,null,null,null,"Nascondere",null,"Livello di struttura 1:",null,800,"Servizi"]
[null,null,null,null,null,null,null,"Opzionale"]
[null,"Show","Fill","SOQ-Nr.",null,"Descrizione","Unità","Livello di struttura 2",null,"Livello di struttura 3",null,"Livello di struttura 4",null,"Unità","Aggiungi posizione","E- Box",null,null,null,null,"E-Box","pz.","moduli","ml","m2","m3","h","mesi","anni","kWp","forfait",null,"Pos1","Pos2","Pos3","Pos4","Pos5","Pos6","Pos7","Pos8","Pos9","Pos10",null,"Pos1","Pos2","Pos3","Pos4","Pos5","Pos6","Pos7","Pos8","Pos9","Pos10"]
[]
[null,{"$f":"IF(Q6=\"x\",1,IF(SUM(B7:B24)>0,1,0))","v":1},{"$f":"IF(O6=\"x\",1,IF(ISNUMBER(O6),1,0))","v":0},{"$f":"H6","v":"810.000"},null,{"$f":"I6","v":"Manutenzione"},{"$f":"IF(C6=1,N6,\"\")","v":""},"810.000","Manutenzione",null,null,null,null,"forfait",null,null,null,null,null,null,null,null,null,null,null,null,null,null,null,null,"x",null,{"$f":"\nIF(V6=\"x\",V$4,\nIF(W6=\"x\",W$4,\nIF(X6=\"x\",X$4,\nIF(Y6=\"x\",Y$4,\nIF(Z6=\"x\",Z$4,\nIF(AA6=\"x\",AA$4,\nIF(AB6=\"x\",AB$4,\nIF(AC6=\"x\",AC$4,\nIF(AD6=\"x\",AD$4,\nIF(AE6=\"x\",AE$4,\n\"\"))))))))))","v":"forfait"},{"$f":"\nIF(W6=\"x\",W$4,\nIF(X6=\"x\",X$4,\nIF(Y6=\"x\",Y$4,\nIF(Z6=\"x\",Z$4,\nIF(AA6=\"x\",AA$4,\nIF(AB6=\"x\",AB$4,\nIF(AC6=\"x\",AC$4,\nIF(AD6=\"x\",AD$4,\nIF(AE6=\"x\",AE$4,\n\"\")))))))))","v":"forfait"},{"$f":"\nIF(X6=\"x\",X$4,\nIF(Y6=\"x\",Y$4,\nIF(Z6=\"x\",Z$4,\nIF(AA6=\"x\",AA$4,\nIF(AB6=\"x\",AB$4,\nIF(AC6=\"x\",AC$4,\nIF(AD6=\"x\",AD$4,\nIF(AE6=\"x\",AE$4,\n\"\"))))))))","v":"forfait"},{"$f":"\nIF(Y6=\"x\",Y$4,\nIF(Z6=\"x\",Z$4,\nIF(AA6=\"x\",AA$4,\nIF(AB6=\"x\",AB$4,\nIF(AC6=\"x\",AC$4,\nIF(AD6=\"x\",AD$4,\nIF(AE6=\"x\",AE$4,\n\"\")))))))","v":"forfait"},{"$f":"\nIF(Z6=\"x\",Z$4,\nIF(AA6=\"x\",AA$4,\nIF(AB6=\"x\",AB$4,\nIF(AC6=\"x\",AC$4,\nIF(AD6=\"x\",AD$4,\nIF(AE6=\"x\",AE$4,\n\"\"))))))","v":"forfait"},{"$f":"\nIF(AA6=\"x\",AA$4,\nIF(AB6=\"x\",AB$4,\nIF(AC6=\"x\",AC$4,\nIF(AD6=\"x\",AD$4,\nIF(AE6=\"x\",AE$4,\n\"\")))))","v":"forfait"},{"$f":"\nIF(AB6=\"x\",AB$4,\nIF(AC6=\"x\",AC$4,\nIF(AD6=\"x\",AD$4,\nIF(AE6=\"x\",AE$4,\n\"\"))))","v":"forfait"},{"$f":"\nIF(AC6=\"x\",AC$4,\nIF(AD6=\"x\",AD$4,\nIF(AE6=\"x\",AE$4,\n\"\")))","v":"forfait"},{"$f":"\nIF(AD6=\"x\",AD$4,\nIF(AE6=\"x\",AE$4,\n\"\"))","v":"forfait"},{"$f":"\nIF(AE6=\"x\",AE$4,\n\"\")","v":"forfait"},null,{"$f":"AG6","v":"forfait"},{"$f":"IF(AR6=\"\",\"\",\nIF(AR6<>$AG6,$AG6,\nIF(AR6<>$AH6,$AH6,\nIF(AR6<>$AI6,$AI6,\nIF(AR6<>$AJ6,$AJ6,\nIF(AR6<>$AK6,$AK6,\nIF(AR6<>$AL6,$AL6,\nIF(AR6<>$AM6,$AM6,\nIF(AR6<>$AN6,$AN6,\nIF(AR6<>$AO6,$AO6,\nIF(AR6<>$AP6,$AP6,\n\"\")))))))))))","v":""},{"$f":"IF(AS6=\"\",\"\",\nIF(AND(AS6<>$AG6,AR6<>$AG6),$AG6,\nIF(AND(AS6<>$AH6,AR6<>$AH6),$AH6,\nIF(AND(AS6<>$AI6,AR6<>$AI6),$AI6,\nIF(AND(AS6<>$AJ6,AR6<>$AJ6),$AJ6,\nIF(AND(AS6<>$AK6,AR6<>$AK6),$AK6,\nIF(AND(AS6<>$AL6,AR6<>$AL6),$AL6,\nIF(AND(AS6<>$AM6,AR6<>$AM6),$AM6,\nIF(AND(AS6<>$AN6,AR6<>$AN6),$AN6,\nIF(AND(AS6<>$AO6,AR6<>$AO6),$AO6,\nIF(AND(AS6<>$AP6,AR6<>$AP6),$AP6,\n\"\")))))))))))","v":""},{"$f":"IF(AT6=\"\",\"\",\nIF(AND(AR6<>$AG6,AT6<>$AG6,AS6<>$AG6),$AG6,\nIF(AND(AR6<>$AH6,AT6<>$AH6,AS6<>$AH6),$AH6,\nIF(AND(AR6<>$AI6,AT6<>$AI6,AS6<>$AI6),$AI6,\nIF(AND(AR6<>$AJ6,AT6<>$AJ6,AS6<>$AJ6),$AJ6,\nIF(AND(AR6<>$AK6,AT6<>$AK6,AS6<>$AK6),$AK6,\nIF(AND(AR6<>$AL6,AT6<>$AL6,AS6<>$AL6),$AL6,\nIF(AND(AR6<>$AM6,AT6<>$AM6,AS6<>$AM6),$AM6,\nIF(AND(AR6<>$AN6,AT6<>$AN6,AS6<>$AN6),$AN6,\nIF(AND(AR6<>$AO6,AT6<>$AO6,AS6<>$AO6),$AO6,\nIF(AND(AR6<>$AP6,AT6<>$AP6,AS6<>$AP6),$AP6,\n\"\")))))))))))","v":""},{"$f":"IF(AU6=\"\",\"\",\nIF(AND(AR6<>$AG6,AS6<>$AG6,AU6<>$AG6,AT6<>$AG6),$AG6,\nIF(AND(AR6<>$AH6,AS6<>$AH6,AU6<>$AH6,AT6<>$AH6),$AH6,\nIF(AND(AR6<>$AI6,AS6<>$AI6,AU6<>$AI6,AT6<>$AI6),$AI6,\nIF(AND(AR6<>$AJ6,AS6<>$AJ6,AU6<>$AJ6,AT6<>$AJ6),$AJ6,\nIF(AND(AR6<>$AK6,AS6<>$AK6,AU6<>$AK6,AT6<>$AK6),$AK6,\nIF(AND(AR6<>$AL6,AS6<>$AL6,AU6<>$AL6,AT6<>$AL6),$AL6,\nIF(AND(AR6<>$AM6,AS6<>$AM6,AU6<>$AM6,AT6<>$AM6),$AM6,\nIF(AND(AR6<>$AN6,AS6<>$AN6,AU6<>$AN6,AT6<>$AN6),$AN6,\nIF(AND(AR6<>$AO6,AS6<>$AO6,AU6<>$AO6,AT6<>$AO6),$AO6,\nIF(AND(AR6<>$AP6,AS6<>$AP6,AU6<>$AP6,AT6<>$AP6),$AP6,\n\"\")))))))))))","v":""},{"$f":"IF(AV6=\"\",\"\",\nIF(AND(AR6<>$AG6,AS6<>$AG6,AT6<>$AG6,AV6<>$AG6,AU6<>$AG6),$AG6,\nIF(AND(AR6<>$AH6,AS6<>$AH6,AT6<>$AH6,AV6<>$AH6,AU6<>$AH6),$AH6,\nIF(AND(AR6<>$AI6,AS6<>$AI6,AT6<>$AI6,AV6<>$AI6,AU6<>$AI6),$AI6,\nIF(AND(AR6<>$AJ6,AS6<>$AJ6,AT6<>$AJ6,AV6<>$AJ6,AU6<>$AJ6),$AJ6,\nIF(AND(AR6<>$AK6,AS6<>$AK6,AT6<>$AK6,AV6<>$AK6,AU6<>$AK6),$AK6,\nIF(AND(AR6<>$AL6,AS6<>$AL6,AT6<>$AL6,AV6<>$AL6,AU6<>$AL6),$AL6,\nIF(AND(AR6<>$AM6,AS6<>$AM6,AT6<>$AM6,AV6<>$AM6,AU6<>$AM6),$AM6,\nIF(AND(AR6<>$AN6,AS6<>$AN6,AT6<>$AN6,AV6<>$AN6,AU6<>$AN6),$AN6,\nIF(AND(AR6<>$AO6,AS6<>$AO6,AT6<>$AO6,AV6<>$AO6,AU6<>$AO6),$AO6,\nIF(AND(AR6<>$AP6,AS6<>$AP6,AT6<>$AP6,AV6<>$AP6,AU6<>$AP6),$AP6,\n\"\")))))))))))","v":""},{"$f":"IF(AW6=\"\",\"\",\nIF(AND(AR6<>$AG6,AS6<>$AG6,AT6<>$AG6,AU6<>$AG6,AW6<>$AG6,AV6<>$AG6),$AG6,\nIF(AND(AR6<>$AH6,AS6<>$AH6,AT6<>$AH6,AU6<>$AH6,AW6<>$AH6,AV6<>$AH6),$AH6,\nIF(AND(AR6<>$AI6,AS6<>$AI6,AT6<>$AI6,AU6<>$AI6,AW6<>$AI6,AV6<>$AI6),$AI6,\nIF(AND(AR6<>$AJ6,AS6<>$AJ6,AT6<>$AJ6,AU6<>$AJ6,AW6<>$AJ6,AV6<>$AJ6),$AJ6,\nIF(AND(AR6<>$AK6,AS6<>$AK6,AT6<>$AK6,AU6<>$AK6,AW6<>$AK6,AV6<>$AK6),$AK6,\nIF(AND(AR6<>$AL6,AS6<>$AL6,AT6<>$AL6,AU6<>$AL6,AW6<>$AL6,AV6<>$AL6),$AL6,\nIF(AND(AR6<>$AM6,AS6<>$AM6,AT6<>$AM6,AU6<>$AM6,AW6<>$AM6,AV6<>$AM6),$AM6,\nIF(AND(AR6<>$AN6,AS6<>$AN6,AT6<>$AN6,AU6<>$AN6,AW6<>$AN6,AV6<>$AN6),$AN6,\nIF(AND(AR6<>$AO6,AS6<>$AO6,AT6<>$AO6,AU6<>$AO6,AW6<>$AO6,AV6<>$AO6),$AO6,\nIF(AND(AR6<>$AP6,AS6<>$AP6,AT6<>$AP6,AU6<>$AP6,AW6<>$AP6,AV6<>$AP6),$AP6,\n\"\")))))))))))","v":""},{"$f":"IF(AX6=\"\",\"\",\nIF(AND(AR6<>$AG6,AS6<>$AG6,AT6<>$AG6,AU6<>$AG6,AV6<>$AG6,AX6<>$AG6,AW6<>$AG6),$AG6,\nIF(AND(AR6<>$AH6,AS6<>$AH6,AT6<>$AH6,AU6<>$AH6,AV6<>$AH6,AX6<>$AH6,AW6<>$AH6),$AH6,\nIF(AND(AR6<>$AI6,AS6<>$AI6,AT6<>$AI6,AU6<>$AI6,AV6<>$AI6,AX6<>$AI6,AW6<>$AI6),$AI6,\nIF(AND(AR6<>$AJ6,AS6<>$AJ6,AT6<>$AJ6,AU6<>$AJ6,AV6<>$AJ6,AX6<>$AJ6,AW6<>$AJ6),$AJ6,\nIF(AND(AR6<>$AK6,AS6<>$AK6,AT6<>$AK6,AU6<>$AK6,AV6<>$AK6,AX6<>$AK6,AW6<>$AK6),$AK6,\nIF(AND(AR6<>$AL6,AS6<>$AL6,AT6<>$AL6,AU6<>$AL6,AV6<>$AL6,AX6<>$AL6,AW6<>$AL6),$AL6,\nIF(AND(AR6<>$AM6,AS6<>$AM6,AT6<>$AM6,AU6<>$AM6,AV6<>$AM6,AX6<>$AM6,AW6<>$AM6),$AM6,\nIF(AND(AR6<>$AN6,AS6<>$AN6,AT6<>$AN6,AU6<>$AN6,AV6<>$AN6,AX6<>$AN6,AW6<>$AN6),$AN6,\nIF(AND(AR6<>$AO6,AS6<>$AO6,AT6<>$AO6,AU6<>$AO6,AV6<>$AO6,AX6<>$AO6,AW6<>$AO6),$AO6,\nIF(AND(AR6<>$AP6,AS6<>$AP6,AT6<>$AP6,AU6<>$AP6,AV6<>$AP6,AX6<>$AP6,AW6<>$AP6),$AP6,\n\"\")))))))))))","v":""},{"$f":"IF(AY6=\"\",\"\",\nIF(AND(AR6<>$AG6,AS6<>$AG6,AT6<>$AG6,AU6<>$AG6,AV6<>$AG6,AW6<>$AG6,AY6<>$AG6,AX6<>$AG6),$AG6,\nIF(AND(AR6<>$AH6,AS6<>$AH6,AT6<>$AH6,AU6<>$AH6,AV6<>$AH6,AW6<>$AH6,AY6<>$AH6,AX6<>$AH6),$AH6,\nIF(AND(AR6<>$AI6,AS6<>$AI6,AT6<>$AI6,AU6<>$AI6,AV6<>$AI6,AW6<>$AI6,AY6<>$AI6,AX6<>$AI6),$AI6,\nIF(AND(AR6<>$AJ6,AS6<>$AJ6,AT6<>$AJ6,AU6<>$AJ6,AV6<>$AJ6,AW6<>$AJ6,AY6<>$AJ6,AX6<>$AJ6),$AJ6,\nIF(AND(AR6<>$AK6,AS6<>$AK6,AT6<>$AK6,AU6<>$AK6,AV6<>$AK6,AW6<>$AK6,AY6<>$AK6,AX6<>$AK6),$AK6,\nIF(AND(AR6<>$AL6,AS6<>$AL6,AT6<>$AL6,AU6<>$AL6,AV6<>$AL6,AW6<>$AL6,AY6<>$AL6,AX6<>$AL6),$AL6,\nIF(AND(AR6<>$AM6,AS6<>$AM6,AT6<>$AM6,AU6<>$AM6,AV6<>$AM6,AW6<>$AM6,AY6<>$AM6,AX6<>$AM6),$AM6,\nIF(AND(AR6<>$AN6,AS6<>$AN6,AT6<>$AN6,AU6<>$AN6,AV6<>$AN6,AW6<>$AN6,AY6<>$AN6,AX6<>$AN6),$AN6,\nIF(AND(AR6<>$AO6,AS6<>$AO6,AT6<>$AO6,AU6<>$AO6,AV6<>$AO6,AW6<>$AO6,AY6<>$AO6,AX6<>$AO6),$AO6,\nIF(AND(AR6<>$AP6,AS6<>$AP6,AT6<>$AP6,AU6<>$AP6,AV6<>$AP6,AW6<>$AP6,AY6<>$AP6,AX6<>$AP6),$AP6,\n\"\")))))))))))","v":""},{"$f":"IF(AZ6=\"\",\"\",\nIF(AND(AR6<>$AG6,AS6<>$AG6,AT6<>$AG6,AU6<>$AG6,AV6<>$AG6,AW6<>$AG6,AX6<>$AG6,AZ6<>$AG6,AY6<>$AG6),$AG6,\nIF(AND(AR6<>$AH6,AS6<>$AH6,AT6<>$AH6,AU6<>$AH6,AV6<>$AH6,AW6<>$AH6,AX6<>$AH6,AZ6<>$AH6,AY6<>$AH6),$AH6,\nIF(AND(AR6<>$AI6,AS6<>$AI6,AT6<>$AI6,AU6<>$AI6,AV6<>$AI6,AW6<>$AI6,AX6<>$AI6,AZ6<>$AI6,AY6<>$AI6),$AI6,\nIF(AND(AR6<>$AJ6,AS6<>$AJ6,AT6<>$AJ6,AU6<>$AJ6,AV6<>$AJ6,AW6<>$AJ6,AX6<>$AJ6,AZ6<>$AJ6,AY6<>$AJ6),$AJ6,\nIF(AND(AR6<>$AK6,AS6<>$AK6,AT6<>$AK6,AU6<>$AK6,AV6<>$AK6,AW6<>$AK6,AX6<>$AK6,AZ6<>$AK6,AY6<>$AK6),$AK6,\nIF(AND(AR6<>$AL6,AS6<>$AL6,AT6<>$AL6,AU6<>$AL6,AV6<>$AL6,AW6<>$AL6,AX6<>$AL6,AZ6<>$AL6,AY6<>$AL6),$AL6,\nIF(AND(AR6<>$AM6,AS6<>$AM6,AT6<>$AM6,AU6<>$AM6,AV6<>$AM6,AW6<>$AM6,AX6<>$AM6,AZ6<>$AM6,AY6<>$AM6),$AM6,\nIF(AND(AR6<>$AN6,AS6<>$AN6,AT6<>$AN6,AU6<>$AN6,AV6<>$AN6,AW6<>$AN6,AX6<>$AN6,AZ6<>$AN6,AY6<>$AN6),$AN6,\nIF(AND(AR6<>$AO6,AS6<>$AO6,AT6<>$AO6,AU6<>$AO6,AV6<>$AO6,AW6<>$AO6,AX6<>$AO6,AZ6<>$AO6,AY6<>$AO6),$AO6,\nIF(AND(AR6<>$AP6,AS6<>$AP6,AT6<>$AP6,AU6<>$AP6,AV6<>$AP6,AW6<>$AP6,AX6<>$AP6,AZ6<>$AP6,AY6<>$AP6),$AP6,\n\"\")))))))))))","v":""}]
[null,{"$f":"IF(OR(SUM(B8)>0,O7=\"x\"),1,IF(ISNUMBER(O7),O7,0))","v":0},{"$f":"IF(O7=\"x\",1,IF(ISNUMBER(O7),1,0))","v":0},{"$f":"J7","v":"811.000"},null,{"$f":"K7 & IF(P7<>\"\",CHAR(10) & P7,\"\")","v":"Contratto di manutenzione"},{"$f":"IF(C7=1,N7,\"\")","v":""},null,null,"811.000","Contratto di manutenzione",null,null,"forfait",null,null,null,null,null,null,"E800_Contratto_di_manutenzione",null,null,null,null,null,null,null,null,null,"x",null,{"$f":"\nIF(V7=\"x\",V$4,\nIF(W7=\"x\",W$4,\nIF(X7=\"x\",X$4,\nIF(Y7=\"x\",Y$4,\nIF(Z7=\"x\",Z$4,\nIF(AA7=\"x\",AA$4,\nIF(AB7=\"x\",AB$4,\nIF(AC7=\"x\",AC$4,\nIF(AD7=\"x\",AD$4,\nIF(AE7=\"x\",AE$4,\n\"\"))))))))))","v":"forfait"},{"$f":"\nIF(W7=\"x\",W$4,\nIF(X7=\"x\",X$4,\nIF(Y7=\"x\",Y$4,\nIF(Z7=\"x\",Z$4,\nIF(AA7=\"x\",AA$4,\nIF(AB7=\"x\",AB$4,\nIF(AC7=\"x\",AC$4,\nIF(AD7=\"x\",AD$4,\nIF(AE7=\"x\",AE$4,\n\"\")))))))))","v":"forfait"},{"$f":"\nIF(X7=\"x\",X$4,\nIF(Y7=\"x\",Y$4,\nIF(Z7=\"x\",Z$4,\nIF(AA7=\"x\",AA$4,\nIF(AB7=\"x\",AB$4,\nIF(AC7=\"x\",AC$4,\nIF(AD7=\"x\",AD$4,\nIF(AE7=\"x\",AE$4,\n\"\"))))))))","v":"forfait"},{"$f":"\nIF(Y7=\"x\",Y$4,\nIF(Z7=\"x\",Z$4,\nIF(AA7=\"x\",AA$4,\nIF(AB7=\"x\",AB$4,\nIF(AC7=\"x\",AC$4,\nIF(AD7=\"x\",AD$4,\nIF(AE7=\"x\",AE$4,\n\"\")))))))","v":"forfait"},{"$f":"\nIF(Z7=\"x\",Z$4,\nIF(AA7=\"x\",AA$4,\nIF(AB7=\"x\",AB$4,\nIF(AC7=\"x\",AC$4,\nIF(AD7=\"x\",AD$4,\nIF(AE7=\"x\",AE$4,\n\"\"))))))","v":"forfait"},{"$f":"\nIF(AA7=\"x\",AA$4,\nIF(AB7=\"x\",AB$4,\nIF(AC7=\"x\",AC$4,\nIF(AD7=\"x\",AD$4,\nIF(AE7=\"x\",AE$4,\n\"\")))))","v":"forfait"},{"$f":"\nIF(AB7=\"x\",AB$4,\nIF(AC7=\"x\",AC$4,\nIF(AD7=\"x\",AD$4,\nIF(AE7=\"x\",AE$4,\n\"\"))))","v":"forfait"},{"$f":"\nIF(AC7=\"x\",AC$4,\nIF(AD7=\"x\",AD$4,\nIF(AE7=\"x\",AE$4,\n\"\")))","v":"forfait"},{"$f":"\nIF(AD7=\"x\",AD$4,\nIF(AE7=\"x\",AE$4,\n\"\"))","v":"forfait"},{"$f":"\nIF(AE7=\"x\",AE$4,\n\"\")","v":"forfait"},null,{"$f":"AG7","v":"forfait"},"",{"$f":"IF(AS7=\"\",\"\",\nIF(AND(AS7<>$AG7,AR7<>$AG7),$AG7,\nIF(AND(AS7<>$AH7,AR7<>$AH7),$AH7,\nIF(AND(AS7<>$AI7,AR7<>$AI7),$AI7,\nIF(AND(AS7<>$AJ7,AR7<>$AJ7),$AJ7,\nIF(AND(AS7<>$AK7,AR7<>$AK7),$AK7,\nIF(AND(AS7<>$AL7,AR7<>$AL7),$AL7,\nIF(AND(AS7<>$AM7,AR7<>$AM7),$AM7,\nIF(AND(AS7<>$AN7,AR7<>$AN7),$AN7,\nIF(AND(AS7<>$AO7,AR7<>$AO7),$AO7,\nIF(AND(AS7<>$AP7,AR7<>$AP7),$AP7,\n\"\")))))))))))","v":""},{"$f":"IF(AT7=\"\",\"\",\nIF(AND(AR7<>$AG7,AT7<>$AG7,AS7<>$AG7),$AG7,\nIF(AND(AR7<>$AH7,AT7<>$AH7,AS7<>$AH7),$AH7,\nIF(AND(AR7<>$AI7,AT7<>$AI7,AS7<>$AI7),$AI7,\nIF(AND(AR7<>$AJ7,AT7<>$AJ7,AS7<>$AJ7),$AJ7,\nIF(AND(AR7<>$AK7,AT7<>$AK7,AS7<>$AK7),$AK7,\nIF(AND(AR7<>$AL7,AT7<>$AL7,AS7<>$AL7),$AL7,\nIF(AND(AR7<>$AM7,AT7<>$AM7,AS7<>$AM7),$AM7,\nIF(AND(AR7<>$AN7,AT7<>$AN7,AS7<>$AN7),$AN7,\nIF(AND(AR7<>$AO7,AT7<>$AO7,AS7<>$AO7),$AO7,\nIF(AND(AR7<>$AP7,AT7<>$AP7,AS7<>$AP7),$AP7,\n\"\")))))))))))","v":""},{"$f":"IF(AU7=\"\",\"\",\nIF(AND(AR7<>$AG7,AS7<>$AG7,AU7<>$AG7,AT7<>$AG7),$AG7,\nIF(AND(AR7<>$AH7,AS7<>$AH7,AU7<>$AH7,AT7<>$AH7),$AH7,\nIF(AND(AR7<>$AI7,AS7<>$AI7,AU7<>$AI7,AT7<>$AI7),$AI7,\nIF(AND(AR7<>$AJ7,AS7<>$AJ7,AU7<>$AJ7,AT7<>$AJ7),$AJ7,\nIF(AND(AR7<>$AK7,AS7<>$AK7,AU7<>$AK7,AT7<>$AK7),$AK7,\nIF(AND(AR7<>$AL7,AS7<>$AL7,AU7<>$AL7,AT7<>$AL7),$AL7,\nIF(AND(AR7<>$AM7,AS7<>$AM7,AU7<>$AM7,AT7<>$AM7),$AM7,\nIF(AND(AR7<>$AN7,AS7<>$AN7,AU7<>$AN7,AT7<>$AN7),$AN7,\nIF(AND(AR7<>$AO7,AS7<>$AO7,AU7<>$AO7,AT7<>$AO7),$AO7,\nIF(AND(AR7<>$AP7,AS7<>$AP7,AU7<>$AP7,AT7<>$AP7),$AP7,\n\"\")))))))))))","v":""},{"$f":"IF(AV7=\"\",\"\",\nIF(AND(AR7<>$AG7,AS7<>$AG7,AT7<>$AG7,AV7<>$AG7,AU7<>$AG7),$AG7,\nIF(AND(AR7<>$AH7,AS7<>$AH7,AT7<>$AH7,AV7<>$AH7,AU7<>$AH7),$AH7,\nIF(AND(AR7<>$AI7,AS7<>$AI7,AT7<>$AI7,AV7<>$AI7,AU7<>$AI7),$AI7,\nIF(AND(AR7<>$AJ7,AS7<>$AJ7,AT7<>$AJ7,AV7<>$AJ7,AU7<>$AJ7),$AJ7,\nIF(AND(AR7<>$AK7,AS7<>$AK7,AT7<>$AK7,AV7<>$AK7,AU7<>$AK7),$AK7,\nIF(AND(AR7<>$AL7,AS7<>$AL7,AT7<>$AL7,AV7<>$AL7,AU7<>$AL7),$AL7,\nIF(AND(AR7<>$AM7,AS7<>$AM7,AT7<>$AM7,AV7<>$AM7,AU7<>$AM7),$AM7,\nIF(AND(AR7<>$AN7,AS7<>$AN7,AT7<>$AN7,AV7<>$AN7,AU7<>$AN7),$AN7,\nIF(AND(AR7<>$AO7,AS7<>$AO7,AT7<>$AO7,AV7<>$AO7,AU7<>$AO7),$AO7,\nIF(AND(AR7<>$AP7,AS7<>$AP7,AT7<>$AP7,AV7<>$AP7,AU7<>$AP7),$AP7,\n\"\")))))))))))","v":""},{"$f":"IF(AW7=\"\",\"\",\nIF(AND(AR7<>$AG7,AS7<>$AG7,AT7<>$AG7,AU7<>$AG7,AW7<>$AG7,AV7<>$AG7),$AG7,\nIF(AND(AR7<>$AH7,AS7<>$AH7,AT7<>$AH7,AU7<>$AH7,AW7<>$AH7,AV7<>$AH7),$AH7,\nIF(AND(AR7<>$AI7,AS7<>$AI7,AT7<>$AI7,AU7<>$AI7,AW7<>$AI7,AV7<>$AI7),$AI7,\nIF(AND(AR7<>$AJ7,AS7<>$AJ7,AT7<>$AJ7,AU7<>$AJ7,AW7<>$AJ7,AV7<>$AJ7),$AJ7,\nIF(AND(AR7<>$AK7,AS7<>$AK7,AT7<>$AK7,AU7<>$AK7,AW7<>$AK7,AV7<>$AK7),$AK7,\nIF(AND(AR7<>$AL7,AS7<>$AL7,AT7<>$AL7,AU7<>$AL7,AW7<>$AL7,AV7<>$AL7),$AL7,\nIF(AND(AR7<>$AM7,AS7<>$AM7,AT7<>$AM7,AU7<>$AM7,AW7<>$AM7,AV7<>$AM7),$AM7,\nIF(AND(AR7<>$AN7,AS7<>$AN7,AT7<>$AN7,AU7<>$AN7,AW7<>$AN7,AV7<>$AN7),$AN7,\nIF(AND(AR7<>$AO7,AS7<>$AO7,AT7<>$AO7,AU7<>$AO7,AW7<>$AO7,AV7<>$AO7),$AO7,\nIF(AND(AR7<>$AP7,AS7<>$AP7,AT7<>$AP7,AU7<>$AP7,AW7<>$AP7,AV7<>$AP7),$AP7,\n\"\")))))))))))","v":""},{"$f":"IF(AX7=\"\",\"\",\nIF(AND(AR7<>$AG7,AS7<>$AG7,AT7<>$AG7,AU7<>$AG7,AV7<>$AG7,AX7<>$AG7,AW7<>$AG7),$AG7,\nIF(AND(AR7<>$AH7,AS7<>$AH7,AT7<>$AH7,AU7<>$AH7,AV7<>$AH7,AX7<>$AH7,AW7<>$AH7),$AH7,\nIF(AND(AR7<>$AI7,AS7<>$AI7,AT7<>$AI7,AU7<>$AI7,AV7<>$AI7,AX7<>$AI7,AW7<>$AI7),$AI7,\nIF(AND(AR7<>$AJ7,AS7<>$AJ7,AT7<>$AJ7,AU7<>$AJ7,AV7<>$AJ7,AX7<>$AJ7,AW7<>$AJ7),$AJ7,\nIF(AND(AR7<>$AK7,AS7<>$AK7,AT7<>$AK7,AU7<>$AK7,AV7<>$AK7,AX7<>$AK7,AW7<>$AK7),$AK7,\nIF(AND(AR7<>$AL7,AS7<>$AL7,AT7<>$AL7,AU7<>$AL7,AV7<>$AL7,AX7<>$AL7,AW7<>$AL7),$AL7,\nIF(AND(AR7<>$AM7,AS7<>$AM7,AT7<>$AM7,AU7<>$AM7,AV7<>$AM7,AX7<>$AM7,AW7<>$AM7),$AM7,\nIF(AND(AR7<>$AN7,AS7<>$AN7,AT7<>$AN7,AU7<>$AN7,AV7<>$AN7,AX7<>$AN7,AW7<>$AN7),$AN7,\nIF(AND(AR7<>$AO7,AS7<>$AO7,AT7<>$AO7,AU7<>$AO7,AV7<>$AO7,AX7<>$AO7,AW7<>$AO7),$AO7,\nIF(AND(AR7<>$AP7,AS7<>$AP7,AT7<>$AP7,AU7<>$AP7,AV7<>$AP7,AX7<>$AP7,AW7<>$AP7),$AP7,\n\"\")))))))))))","v":""},{"$f":"IF(AY7=\"\",\"\",\nIF(AND(AR7<>$AG7,AS7<>$AG7,AT7<>$AG7,AU7<>$AG7,AV7<>$AG7,AW7<>$AG7,AY7<>$AG7,AX7<>$AG7),$AG7,\nIF(AND(AR7<>$AH7,AS7<>$AH7,AT7<>$AH7,AU7<>$AH7,AV7<>$AH7,AW7<>$AH7,AY7<>$AH7,AX7<>$AH7),$AH7,\nIF(AND(AR7<>$AI7,AS7<>$AI7,AT7<>$AI7,AU7<>$AI7,AV7<>$AI7,AW7<>$AI7,AY7<>$AI7,AX7<>$AI7),$AI7,\nIF(AND(AR7<>$AJ7,AS7<>$AJ7,AT7<>$AJ7,AU7<>$AJ7,AV7<>$AJ7,AW7<>$AJ7,AY7<>$AJ7,AX7<>$AJ7),$AJ7,\nIF(AND(AR7<>$AK7,AS7<>$AK7,AT7<>$AK7,AU7<>$AK7,AV7<>$AK7,AW7<>$AK7,AY7<>$AK7,AX7<>$AK7),$AK7,\nIF(AND(AR7<>$AL7,AS7<>$AL7,AT7<>$AL7,AU7<>$AL7,AV7<>$AL7,AW7<>$AL7,AY7<>$AL7,AX7<>$AL7),$AL7,\nIF(AND(AR7<>$AM7,AS7<>$AM7,AT7<>$AM7,AU7<>$AM7,AV7<>$AM7,AW7<>$AM7,AY7<>$AM7,AX7<>$AM7),$AM7,\nIF(AND(AR7<>$AN7,AS7<>$AN7,AT7<>$AN7,AU7<>$AN7,AV7<>$AN7,AW7<>$AN7,AY7<>$AN7,AX7<>$AN7),$AN7,\nIF(AND(AR7<>$AO7,AS7<>$AO7,AT7<>$AO7,AU7<>$AO7,AV7<>$AO7,AW7<>$AO7,AY7<>$AO7,AX7<>$AO7),$AO7,\nIF(AND(AR7<>$AP7,AS7<>$AP7,AT7<>$AP7,AU7<>$AP7,AV7<>$AP7,AW7<>$AP7,AY7<>$AP7,AX7<>$AP7),$AP7,\n\"\")))))))))))","v":""},{"$f":"IF(AZ7=\"\",\"\",\nIF(AND(AR7<>$AG7,AS7<>$AG7,AT7<>$AG7,AU7<>$AG7,AV7<>$AG7,AW7<>$AG7,AX7<>$AG7,AZ7<>$AG7,AY7<>$AG7),$AG7,\nIF(AND(AR7<>$AH7,AS7<>$AH7,AT7<>$AH7,AU7<>$AH7,AV7<>$AH7,AW7<>$AH7,AX7<>$AH7,AZ7<>$AH7,AY7<>$AH7),$AH7,\nIF(AND(AR7<>$AI7,AS7<>$AI7,AT7<>$AI7,AU7<>$AI7,AV7<>$AI7,AW7<>$AI7,AX7<>$AI7,AZ7<>$AI7,AY7<>$AI7),$AI7,\nIF(AND(AR7<>$AJ7,AS7<>$AJ7,AT7<>$AJ7,AU7<>$AJ7,AV7<>$AJ7,AW7<>$AJ7,AX7<>$AJ7,AZ7<>$AJ7,AY7<>$AJ7),$AJ7,\nIF(AND(AR7<>$AK7,AS7<>$AK7,AT7<>$AK7,AU7<>$AK7,AV7<>$AK7,AW7<>$AK7,AX7<>$AK7,AZ7<>$AK7,AY7<>$AK7),$AK7,\nIF(AND(AR7<>$AL7,AS7<>$AL7,AT7<>$AL7,AU7<>$AL7,AV7<>$AL7,AW7<>$AL7,AX7<>$AL7,AZ7<>$AL7,AY7<>$AL7),$AL7,\nIF(AND(AR7<>$AM7,AS7<>$AM7,AT7<>$AM7,AU7<>$AM7,AV7<>$AM7,AW7<>$AM7,AX7<>$AM7,AZ7<>$AM7,AY7<>$AM7),$AM7,\nIF(AND(AR7<>$AN7,AS7<>$AN7,AT7<>$AN7,AU7<>$AN7,AV7<>$AN7,AW7<>$AN7,AX7<>$AN7,AZ7<>$AN7,AY7<>$AN7),$AN7,\nIF(AND(AR7<>$AO7,AS7<>$AO7,AT7<>$AO7,AU7<>$AO7,AV7<>$AO7,AW7<>$AO7,AX7<>$AO7,AZ7<>$AO7,AY7<>$AO7),$AO7,\nIF(AND(AR7<>$AP7,AS7<>$AP7,AT7<>$AP7,AU7<>$AP7,AV7<>$AP7,AW7<>$AP7,AX7<>$AP7,AZ7<>$AP7,AY7<>$AP7),$AP7,\n\"\")))))))))))","v":""}]
[null,{"$f":"IF(O8=\"x\",1,IF(ISNUMBER(O8),O8,0))","v":0},{"$f":"IF(O8=\"x\",1,IF(ISNUMBER(O8),1,0))","v":0},null,{"$f":"L8","v":"811.100"},{"$f":"M8","v":"Tariffe orarie per lavori di riparazione"},"",null,null,null,null,"811.100","Tariffe orarie per lavori di riparazione","forfait",null,null,null,null,null,null,null,null,null,null,null,null,"x",null,null,null,"x",null,{"$f":"\nIF(V8=\"x\",V$4,\nIF(W8=\"x\",W$4,\nIF(X8=\"x\",X$4,\nIF(Y8=\"x\",Y$4,\nIF(Z8=\"x\",Z$4,\nIF(AA8=\"x\",AA$4,\nIF(AB8=\"x\",AB$4,\nIF(AC8=\"x\",AC$4,\nIF(AD8=\"x\",AD$4,\nIF(AE8=\"x\",AE$4,\n\"\"))))))))))","v":"h"},{"$f":"\nIF(W8=\"x\",W$4,\nIF(X8=\"x\",X$4,\nIF(Y8=\"x\",Y$4,\nIF(Z8=\"x\",Z$4,\nIF(AA8=\"x\",AA$4,\nIF(AB8=\"x\",AB$4,\nIF(AC8=\"x\",AC$4,\nIF(AD8=\"x\",AD$4,\nIF(AE8=\"x\",AE$4,\n\"\")))))))))","v":"h"},{"$f":"\nIF(X8=\"x\",X$4,\nIF(Y8=\"x\",Y$4,\nIF(Z8=\"x\",Z$4,\nIF(AA8=\"x\",AA$4,\nIF(AB8=\"x\",AB$4,\nIF(AC8=\"x\",AC$4,\nIF(AD8=\"x\",AD$4,\nIF(AE8=\"x\",AE$4,\n\"\"))))))))","v":"h"},{"$f":"\nIF(Y8=\"x\",Y$4,\nIF(Z8=\"x\",Z$4,\nIF(AA8=\"x\",AA$4,\nIF(AB8=\"x\",AB$4,\nIF(AC8=\"x\",AC$4,\nIF(AD8=\"x\",AD$4,\nIF(AE8=\"x\",AE$4,\n\"\")))))))","v":"h"},{"$f":"\nIF(Z8=\"x\",Z$4,\nIF(AA8=\"x\",AA$4,\nIF(AB8=\"x\",AB$4,\nIF(AC8=\"x\",AC$4,\nIF(AD8=\"x\",AD$4,\nIF(AE8=\"x\",AE$4,\n\"\"))))))","v":"h"},{"$f":"\nIF(AA8=\"x\",AA$4,\nIF(AB8=\"x\",AB$4,\nIF(AC8=\"x\",AC$4,\nIF(AD8=\"x\",AD$4,\nIF(AE8=\"x\",AE$4,\n\"\")))))","v":"h"},{"$f":"\nIF(AB8=\"x\",AB$4,\nIF(AC8=\"x\",AC$4,\nIF(AD8=\"x\",AD$4,\nIF(AE8=\"x\",AE$4,\n\"\"))))","v":"forfait"},{"$f":"\nIF(AC8=\"x\",AC$4,\nIF(AD8=\"x\",AD$4,\nIF(AE8=\"x\",AE$4,\n\"\")))","v":"forfait"},{"$f":"\nIF(AD8=\"x\",AD$4,\nIF(AE8=\"x\",AE$4,\n\"\"))","v":"forfait"},{"$f":"\nIF(AE8=\"x\",AE$4,\n\"\")","v":"forfait"},null,{"$f":"AG8","v":"h"},"forfait",{"$f":"IF(AS8=\"\",\"\",\nIF(AND(AS8<>$AG8,AR8<>$AG8),$AG8,\nIF(AND(AS8<>$AH8,AR8<>$AH8),$AH8,\nIF(AND(AS8<>$AI8,AR8<>$AI8),$AI8,\nIF(AND(AS8<>$AJ8,AR8<>$AJ8),$AJ8,\nIF(AND(AS8<>$AK8,AR8<>$AK8),$AK8,\nIF(AND(AS8<>$AL8,AR8<>$AL8),$AL8,\nIF(AND(AS8<>$AM8,AR8<>$AM8),$AM8,\nIF(AND(AS8<>$AN8,AR8<>$AN8),$AN8,\nIF(AND(AS8<>$AO8,AR8<>$AO8),$AO8,\nIF(AND(AS8<>$AP8,AR8<>$AP8),$AP8,\n\"\")))))))))))","v":""},{"$f":"IF(AT8=\"\",\"\",\nIF(AND(AR8<>$AG8,AT8<>$AG8,AS8<>$AG8),$AG8,\nIF(AND(AR8<>$AH8,AT8<>$AH8,AS8<>$AH8),$AH8,\nIF(AND(AR8<>$AI8,AT8<>$AI8,AS8<>$AI8),$AI8,\nIF(AND(AR8<>$AJ8,AT8<>$AJ8,AS8<>$AJ8),$AJ8,\nIF(AND(AR8<>$AK8,AT8<>$AK8,AS8<>$AK8),$AK8,\nIF(AND(AR8<>$AL8,AT8<>$AL8,AS8<>$AL8),$AL8,\nIF(AND(AR8<>$AM8,AT8<>$AM8,AS8<>$AM8),$AM8,\nIF(AND(AR8<>$AN8,AT8<>$AN8,AS8<>$AN8),$AN8,\nIF(AND(AR8<>$AO8,AT8<>$AO8,AS8<>$AO8),$AO8,\nIF(AND(AR8<>$AP8,AT8<>$AP8,AS8<>$AP8),$AP8,\n\"\")))))))))))","v":""},{"$f":"IF(AU8=\"\",\"\",\nIF(AND(AR8<>$AG8,AS8<>$AG8,AU8<>$AG8,AT8<>$AG8),$AG8,\nIF(AND(AR8<>$AH8,AS8<>$AH8,AU8<>$AH8,AT8<>$AH8),$AH8,\nIF(AND(AR8<>$AI8,AS8<>$AI8,AU8<>$AI8,AT8<>$AI8),$AI8,\nIF(AND(AR8<>$AJ8,AS8<>$AJ8,AU8<>$AJ8,AT8<>$AJ8),$AJ8,\nIF(AND(AR8<>$AK8,AS8<>$AK8,AU8<>$AK8,AT8<>$AK8),$AK8,\nIF(AND(AR8<>$AL8,AS8<>$AL8,AU8<>$AL8,AT8<>$AL8),$AL8,\nIF(AND(AR8<>$AM8,AS8<>$AM8,AU8<>$AM8,AT8<>$AM8),$AM8,\nIF(AND(AR8<>$AN8,AS8<>$AN8,AU8<>$AN8,AT8<>$AN8),$AN8,\nIF(AND(AR8<>$AO8,AS8<>$AO8,AU8<>$AO8,AT8<>$AO8),$AO8,\nIF(AND(AR8<>$AP8,AS8<>$AP8,AU8<>$AP8,AT8<>$AP8),$AP8,\n\"\")))))))))))","v":""},{"$f":"IF(AV8=\"\",\"\",\nIF(AND(AR8<>$AG8,AS8<>$AG8,AT8<>$AG8,AV8<>$AG8,AU8<>$AG8),$AG8,\nIF(AND(AR8<>$AH8,AS8<>$AH8,AT8<>$AH8,AV8<>$AH8,AU8<>$AH8),$AH8,\nIF(AND(AR8<>$AI8,AS8<>$AI8,AT8<>$AI8,AV8<>$AI8,AU8<>$AI8),$AI8,\nIF(AND(AR8<>$AJ8,AS8<>$AJ8,AT8<>$AJ8,AV8<>$AJ8,AU8<>$AJ8),$AJ8,\nIF(AND(AR8<>$AK8,AS8<>$AK8,AT8<>$AK8,AV8<>$AK8,AU8<>$AK8),$AK8,\nIF(AND(AR8<>$AL8,AS8<>$AL8,AT8<>$AL8,AV8<>$AL8,AU8<>$AL8),$AL8,\nIF(AND(AR8<>$AM8,AS8<>$AM8,AT8<>$AM8,AV8<>$AM8,AU8<>$AM8),$AM8,\nIF(AND(AR8<>$AN8,AS8<>$AN8,AT8<>$AN8,AV8<>$AN8,AU8<>$AN8),$AN8,\nIF(AND(AR8<>$AO8,AS8<>$AO8,AT8<>$AO8,AV8<>$AO8,AU8<>$AO8),$AO8,\nIF(AND(AR8<>$AP8,AS8<>$AP8,AT8<>$AP8,AV8<>$AP8,AU8<>$AP8),$AP8,\n\"\")))))))))))","v":""},{"$f":"IF(AW8=\"\",\"\",\nIF(AND(AR8<>$AG8,AS8<>$AG8,AT8<>$AG8,AU8<>$AG8,AW8<>$AG8,AV8<>$AG8),$AG8,\nIF(AND(AR8<>$AH8,AS8<>$AH8,AT8<>$AH8,AU8<>$AH8,AW8<>$AH8,AV8<>$AH8),$AH8,\nIF(AND(AR8<>$AI8,AS8<>$AI8,AT8<>$AI8,AU8<>$AI8,AW8<>$AI8,AV8<>$AI8),$AI8,\nIF(AND(AR8<>$AJ8,AS8<>$AJ8,AT8<>$AJ8,AU8<>$AJ8,AW8<>$AJ8,AV8<>$AJ8),$AJ8,\nIF(AND(AR8<>$AK8,AS8<>$AK8,AT8<>$AK8,AU8<>$AK8,AW8<>$AK8,AV8<>$AK8),$AK8,\nIF(AND(AR8<>$AL8,AS8<>$AL8,AT8<>$AL8,AU8<>$AL8,AW8<>$AL8,AV8<>$AL8),$AL8,\nIF(AND(AR8<>$AM8,AS8<>$AM8,AT8<>$AM8,AU8<>$AM8,AW8<>$AM8,AV8<>$AM8),$AM8,\nIF(AND(AR8<>$AN8,AS8<>$AN8,AT8<>$AN8,AU8<>$AN8,AW8<>$AN8,AV8<>$AN8),$AN8,\nIF(AND(AR8<>$AO8,AS8<>$AO8,AT8<>$AO8,AU8<>$AO8,AW8<>$AO8,AV8<>$AO8),$AO8,\nIF(AND(AR8<>$AP8,AS8<>$AP8,AT8<>$AP8,AU8<>$AP8,AW8<>$AP8,AV8<>$AP8),$AP8,\n\"\")))))))))))","v":""},{"$f":"IF(AX8=\"\",\"\",\nIF(AND(AR8<>$AG8,AS8<>$AG8,AT8<>$AG8,AU8<>$AG8,AV8<>$AG8,AX8<>$AG8,AW8<>$AG8),$AG8,\nIF(AND(AR8<>$AH8,AS8<>$AH8,AT8<>$AH8,AU8<>$AH8,AV8<>$AH8,AX8<>$AH8,AW8<>$AH8),$AH8,\nIF(AND(AR8<>$AI8,AS8<>$AI8,AT8<>$AI8,AU8<>$AI8,AV8<>$AI8,AX8<>$AI8,AW8<>$AI8),$AI8,\nIF(AND(AR8<>$AJ8,AS8<>$AJ8,AT8<>$AJ8,AU8<>$AJ8,AV8<>$AJ8,AX8<>$AJ8,AW8<>$AJ8),$AJ8,\nIF(AND(AR8<>$AK8,AS8<>$AK8,AT8<>$AK8,AU8<>$AK8,AV8<>$AK8,AX8<>$AK8,AW8<>$AK8),$AK8,\nIF(AND(AR8<>$AL8,AS8<>$AL8,AT8<>$AL8,AU8<>$AL8,AV8<>$AL8,AX8<>$AL8,AW8<>$AL8),$AL8,\nIF(AND(AR8<>$AM8,AS8<>$AM8,AT8<>$AM8,AU8<>$AM8,AV8<>$AM8,AX8<>$AM8,AW8<>$AM8),$AM8,\nIF(AND(AR8<>$AN8,AS8<>$AN8,AT8<>$AN8,AU8<>$AN8,AV8<>$AN8,AX8<>$AN8,AW8<>$AN8),$AN8,\nIF(AND(AR8<>$AO8,AS8<>$AO8,AT8<>$AO8,AU8<>$AO8,AV8<>$AO8,AX8<>$AO8,AW8<>$AO8),$AO8,\nIF(AND(AR8<>$AP8,AS8<>$AP8,AT8<>$AP8,AU8<>$AP8,AV8<>$AP8,AX8<>$AP8,AW8<>$AP8),$AP8,\n\"\")))))))))))","v":""},{"$f":"IF(AY8=\"\",\"\",\nIF(AND(AR8<>$AG8,AS8<>$AG8,AT8<>$AG8,AU8<>$AG8,AV8<>$AG8,AW8<>$AG8,AY8<>$AG8,AX8<>$AG8),$AG8,\nIF(AND(AR8<>$AH8,AS8<>$AH8,AT8<>$AH8,AU8<>$AH8,AV8<>$AH8,AW8<>$AH8,AY8<>$AH8,AX8<>$AH8),$AH8,\nIF(AND(AR8<>$AI8,AS8<>$AI8,AT8<>$AI8,AU8<>$AI8,AV8<>$AI8,AW8<>$AI8,AY8<>$AI8,AX8<>$AI8),$AI8,\nIF(AND(AR8<>$AJ8,AS8<>$AJ8,AT8<>$AJ8,AU8<>$AJ8,AV8<>$AJ8,AW8<>$AJ8,AY8<>$AJ8,AX8<>$AJ8),$AJ8,\nIF(AND(AR8<>$AK8,AS8<>$AK8,AT8<>$AK8,AU8<>$AK8,AV8<>$AK8,AW8<>$AK8,AY8<>$AK8,AX8<>$AK8),$AK8,\nIF(AND(AR8<>$AL8,AS8<>$AL8,AT8<>$AL8,AU8<>$AL8,AV8<>$AL8,AW8<>$AL8,AY8<>$AL8,AX8<>$AL8),$AL8,\nIF(AND(AR8<>$AM8,AS8<>$AM8,AT8<>$AM8,AU8<>$AM8,AV8<>$AM8,AW8<>$AM8,AY8<>$AM8,AX8<>$AM8),$AM8,\nIF(AND(AR8<>$AN8,AS8<>$AN8,AT8<>$AN8,AU8<>$AN8,AV8<>$AN8,AW8<>$AN8,AY8<>$AN8,AX8<>$AN8),$AN8,\nIF(AND(AR8<>$AO8,AS8<>$AO8,AT8<>$AO8,AU8<>$AO8,AV8<>$AO8,AW8<>$AO8,AY8<>$AO8,AX8<>$AO8),$AO8,\nIF(AND(AR8<>$AP8,AS8<>$AP8,AT8<>$AP8,AU8<>$AP8,AV8<>$AP8,AW8<>$AP8,AY8<>$AP8,AX8<>$AP8),$AP8,\n\"\")))))))))))","v":""},{"$f":"IF(AZ8=\"\",\"\",\nIF(AND(AR8<>$AG8,AS8<>$AG8,AT8<>$AG8,AU8<>$AG8,AV8<>$AG8,AW8<>$AG8,AX8<>$AG8,AZ8<>$AG8,AY8<>$AG8),$AG8,\nIF(AND(AR8<>$AH8,AS8<>$AH8,AT8<>$AH8,AU8<>$AH8,AV8<>$AH8,AW8<>$AH8,AX8<>$AH8,AZ8<>$AH8,AY8<>$AH8),$AH8,\nIF(AND(AR8<>$AI8,AS8<>$AI8,AT8<>$AI8,AU8<>$AI8,AV8<>$AI8,AW8<>$AI8,AX8<>$AI8,AZ8<>$AI8,AY8<>$AI8),$AI8,\nIF(AND(AR8<>$AJ8,AS8<>$AJ8,AT8<>$AJ8,AU8<>$AJ8,AV8<>$AJ8,AW8<>$AJ8,AX8<>$AJ8,AZ8<>$AJ8,AY8<>$AJ8),$AJ8,\nIF(AND(AR8<>$AK8,AS8<>$AK8,AT8<>$AK8,AU8<>$AK8,AV8<>$AK8,AW8<>$AK8,AX8<>$AK8,AZ8<>$AK8,AY8<>$AK8),$AK8,\nIF(AND(AR8<>$AL8,AS8<>$AL8,AT8<>$AL8,AU8<>$AL8,AV8<>$AL8,AW8<>$AL8,AX8<>$AL8,AZ8<>$AL8,AY8<>$AL8),$AL8,\nIF(AND(AR8<>$AM8,AS8<>$AM8,AT8<>$AM8,AU8<>$AM8,AV8<>$AM8,AW8<>$AM8,AX8<>$AM8,AZ8<>$AM8,AY8<>$AM8),$AM8,\nIF(AND(AR8<>$AN8,AS8<>$AN8,AT8<>$AN8,AU8<>$AN8,AV8<>$AN8,AW8<>$AN8,AX8<>$AN8,AZ8<>$AN8,AY8<>$AN8),$AN8,\nIF(AND(AR8<>$AO8,AS8<>$AO8,AT8<>$AO8,AU8<>$AO8,AV8<>$AO8,AW8<>$AO8,AX8<>$AO8,AZ8<>$AO8,AY8<>$AO8),$AO8,\nIF(AND(AR8<>$AP8,AS8<>$AP8,AT8<>$AP8,AU8<>$AP8,AV8<>$AP8,AW8<>$AP8,AX8<>$AP8,AZ8<>$AP8,AY8<>$AP8),$AP8,\n\"\")))))))))))","v":""}]
[null,{"$f":"IF(OR(SUM(B10)>0,O9=\"x\"),1,IF(ISNUMBER(O9),O9,0))","v":1},1,{"$f":"J9","v":"812.000"},null,{"$f":"K9","v":"Pulizia"},"forfait",null,null,"812.000","Pulizia",null,null,"forfait","x",null,null,null,null,null,null,null,null,null,null,null,null,null,null,null,"x",null,"forfait","forfait","forfait","forfait","forfait","forfait","forfait","forfait","forfait","forfait",null,"forfait","","","","","","","","",""]
[null,0,0,null,{"$f":"L10","v":"812.100"},{"$f":"M10","v":"Manutenzione del verde"},"",null,null,null,null,"812.100","Manutenzione del verde","forfait",null,null,null,null,null,null,null,null,null,null,"x",null,null,null,null,null,"x",null,"m2","m2","m2","m2","forfait","forfait","forfait","forfait","forfait","forfait",null,"m2","forfait",{"$f":"IF(AS10=\"\",\"\",\nIF(AND(AS10<>$AG10,AR10<>$AG10),$AG10,\nIF(AND(AS10<>$AH10,AR10<>$AH10),$AH10,\nIF(AND(AS10<>$AI10,AR10<>$AI10),$AI10,\nIF(AND(AS10<>$AJ10,AR10<>$AJ10),$AJ10,\nIF(AND(AS10<>$AK10,AR10<>$AK10),$AK10,\nIF(AND(AS10<>$AL10,AR10<>$AL10),$AL10,\nIF(AND(AS10<>$AM10,AR10<>$AM10),$AM10,\nIF(AND(AS10<>$AN10,AR10<>$AN10),$AN10,\nIF(AND(AS10<>$AO10,AR10<>$AO10),$AO10,\nIF(AND(AS10<>$AP10,AR10<>$AP10),$AP10,\n\"\")))))))))))","v":""},{"$f":"IF(AT10=\"\",\"\",\nIF(AND(AR10<>$AG10,AT10<>$AG10,AS10<>$AG10),$AG10,\nIF(AND(AR10<>$AH10,AT10<>$AH10,AS10<>$AH10),$AH10,\nIF(AND(AR10<>$AI10,AT10<>$AI10,AS10<>$AI10),$AI10,\nIF(AND(AR10<>$AJ10,AT10<>$AJ10,AS10<>$AJ10),$AJ10,\nIF(AND(AR10<>$AK10,AT10<>$AK10,AS10<>$AK10),$AK10,\nIF(AND(AR10<>$AL10,AT10<>$AL10,AS10<>$AL10),$AL10,\nIF(AND(AR10<>$AM10,AT10<>$AM10,AS10<>$AM10),$AM10,\nIF(AND(AR10<>$AN10,AT10<>$AN10,AS10<>$AN10),$AN10,\nIF(AND(AR10<>$AO10,AT10<>$AO10,AS10<>$AO10),$AO10,\nIF(AND(AR10<>$AP10,AT10<>$AP10,AS10<>$AP10),$AP10,\n\"\")))))))))))","v":""},{"$f":"IF(AU10=\"\",\"\",\nIF(AND(AR10<>$AG10,AS10<>$AG10,AU10<>$AG10,AT10<>$AG10),$AG10,\nIF(AND(AR10<>$AH10,AS10<>$AH10,AU10<>$AH10,AT10<>$AH10),$AH10,\nIF(AND(AR10<>$AI10,AS10<>$AI10,AU10<>$AI10,AT10<>$AI10),$AI10,\nIF(AND(AR10<>$AJ10,AS10<>$AJ10,AU10<>$AJ10,AT10<>$AJ10),$AJ10,\nIF(AND(AR10<>$AK10,AS10<>$AK10,AU10<>$AK10,AT10<>$AK10),$AK10,\nIF(AND(AR10<>$AL10,AS10<>$AL10,AU10<>$AL10,AT10<>$AL10),$AL10,\nIF(AND(AR10<>$AM10,AS10<>$AM10,AU10<>$AM10,AT10<>$AM10),$AM10,\nIF(AND(AR10<>$AN10,AS10<>$AN10,AU10<>$AN10,AT10<>$AN10),$AN10,\nIF(AND(AR10<>$AO10,AS10<>$AO10,AU10<>$AO10,AT10<>$AO10),$AO10,\nIF(AND(AR10<>$AP10,AS10<>$AP10,AU10<>$AP10,AT10<>$AP10),$AP10,\n\"\")))))))))))","v":""},{"$f":"IF(AV10=\"\",\"\",\nIF(AND(AR10<>$AG10,AS10<>$AG10,AT10<>$AG10,AV10<>$AG10,AU10<>$AG10),$AG10,\nIF(AND(AR10<>$AH10,AS10<>$AH10,AT10<>$AH10,AV10<>$AH10,AU10<>$AH10),$AH10,\nIF(AND(AR10<>$AI10,AS10<>$AI10,AT10<>$AI10,AV10<>$AI10,AU10<>$AI10),$AI10,\nIF(AND(AR10<>$AJ10,AS10<>$AJ10,AT10<>$AJ10,AV10<>$AJ10,AU10<>$AJ10),$AJ10,\nIF(AND(AR10<>$AK10,AS10<>$AK10,AT10<>$AK10,AV10<>$AK10,AU10<>$AK10),$AK10,\nIF(AND(AR10<>$AL10,AS10<>$AL10,AT10<>$AL10,AV10<>$AL10,AU10<>$AL10),$AL10,\nIF(AND(AR10<>$AM10,AS10<>$AM10,AT10<>$AM10,AV10<>$AM10,AU10<>$AM10),$AM10,\nIF(AND(AR10<>$AN10,AS10<>$AN10,AT10<>$AN10,AV10<>$AN10,AU10<>$AN10),$AN10,\nIF(AND(AR10<>$AO10,AS10<>$AO10,AT10<>$AO10,AV10<>$AO10,AU10<>$AO10),$AO10,\nIF(AND(AR10<>$AP10,AS10<>$AP10,AT10<>$AP10,AV10<>$AP10,AU10<>$AP10),$AP10,\n\"\")))))))))))","v":""},{"$f":"IF(AW10=\"\",\"\",\nIF(AND(AR10<>$AG10,AS10<>$AG10,AT10<>$AG10,AU10<>$AG10,AW10<>$AG10,AV10<>$AG10),$AG10,\nIF(AND(AR10<>$AH10,AS10<>$AH10,AT10<>$AH10,AU10<>$AH10,AW10<>$AH10,AV10<>$AH10),$AH10,\nIF(AND(AR10<>$AI10,AS10<>$AI10,AT10<>$AI10,AU10<>$AI10,AW10<>$AI10,AV10<>$AI10),$AI10,\nIF(AND(AR10<>$AJ10,AS10<>$AJ10,AT10<>$AJ10,AU10<>$AJ10,AW10<>$AJ10,AV10<>$AJ10),$AJ10,\nIF(AND(AR10<>$AK10,AS10<>$AK10,AT10<>$AK10,AU10<>$AK10,AW10<>$AK10,AV10<>$AK10),$AK10,\nIF(AND(AR10<>$AL10,AS10<>$AL10,AT10<>$AL10,AU10<>$AL10,AW10<>$AL10,AV10<>$AL10),$AL10,\nIF(AND(AR10<>$AM10,AS10<>$AM10,AT10<>$AM10,AU10<>$AM10,AW10<>$AM10,AV10<>$AM10),$AM10,\nIF(AND(AR10<>$AN10,AS10<>$AN10,AT10<>$AN10,AU10<>$AN10,AW10<>$AN10,AV10<>$AN10),$AN10,\nIF(AND(AR10<>$AO10,AS10<>$AO10,AT10<>$AO10,AU10<>$AO10,AW10<>$AO10,AV10<>$AO10),$AO10,\nIF(AND(AR10<>$AP10,AS10<>$AP10,AT10<>$AP10,AU10<>$AP10,AW10<>$AP10,AV10<>$AP10),$AP10,\n\"\")))))))))))","v":""},{"$f":"IF(AX10=\"\",\"\",\nIF(AND(AR10<>$AG10,AS10<>$AG10,AT10<>$AG10,AU10<>$AG10,AV10<>$AG10,AX10<>$AG10,AW10<>$AG10),$AG10,\nIF(AND(AR10<>$AH10,AS10<>$AH10,AT10<>$AH10,AU10<>$AH10,AV10<>$AH10,AX10<>$AH10,AW10<>$AH10),$AH10,\nIF(AND(AR10<>$AI10,AS10<>$AI10,AT10<>$AI10,AU10<>$AI10,AV10<>$AI10,AX10<>$AI10,AW10<>$AI10),$AI10,\nIF(AND(AR10<>$AJ10,AS10<>$AJ10,AT10<>$AJ10,AU10<>$AJ10,AV10<>$AJ10,AX10<>$AJ10,AW10<>$AJ10),$AJ10,\nIF(AND(AR10<>$AK10,AS10<>$AK10,AT10<>$AK10,AU10<>$AK10,AV10<>$AK10,AX10<>$AK10,AW10<>$AK10),$AK10,\nIF(AND(AR10<>$AL10,AS10<>$AL10,AT10<>$AL10,AU10<>$AL10,AV10<>$AL10,AX10<>$AL10,AW10<>$AL10),$AL10,\nIF(AND(AR10<>$AM10,AS10<>$AM10,AT10<>$AM10,AU10<>$AM10,AV10<>$AM10,AX10<>$AM10,AW10<>$AM10),$AM10,\nIF(AND(AR10<>$AN10,AS10<>$AN10,AT10<>$AN10,AU10<>$AN10,AV10<>$AN10,AX10<>$AN10,AW10<>$AN10),$AN10,\nIF(AND(AR10<>$AO10,AS10<>$AO10,AT10<>$AO10,AU10<>$AO10,AV10<>$AO10,AX10<>$AO10,AW10<>$AO10),$AO10,\nIF(AND(AR10<>$AP10,AS10<>$AP10,AT10<>$AP10,AU10<>$AP10,AV10<>$AP10,AX10<>$AP10,AW10<>$AP10),$AP10,\n\"\")))))))))))","v":""},{"$f":"IF(AY10=\"\",\"\",\nIF(AND(AR10<>$AG10,AS10<>$AG10,AT10<>$AG10,AU10<>$AG10,AV10<>$AG10,AW10<>$AG10,AY10<>$AG10,AX10<>$AG10),$AG10,\nIF(AND(AR10<>$AH10,AS10<>$AH10,AT10<>$AH10,AU10<>$AH10,AV10<>$AH10,AW10<>$AH10,AY10<>$AH10,AX10<>$AH10),$AH10,\nIF(AND(AR10<>$AI10,AS10<>$AI10,AT10<>$AI10,AU10<>$AI10,AV10<>$AI10,AW10<>$AI10,AY10<>$AI10,AX10<>$AI10),$AI10,\nIF(AND(AR10<>$AJ10,AS10<>$AJ10,AT10<>$AJ10,AU10<>$AJ10,AV10<>$AJ10,AW10<>$AJ10,AY10<>$AJ10,AX10<>$AJ10),$AJ10,\nIF(AND(AR10<>$AK10,AS10<>$AK10,AT10<>$AK10,AU10<>$AK10,AV10<>$AK10,AW10<>$AK10,AY10<>$AK10,AX10<>$AK10),$AK10,\nIF(AND(AR10<>$AL10,AS10<>$AL10,AT10<>$AL10,AU10<>$AL10,AV10<>$AL10,AW10<>$AL10,AY10<>$AL10,AX10<>$AL10),$AL10,\nIF(AND(AR10<>$AM10,AS10<>$AM10,AT10<>$AM10,AU10<>$AM10,AV10<>$AM10,AW10<>$AM10,AY10<>$AM10,AX10<>$AM10),$AM10,\nIF(AND(AR10<>$AN10,AS10<>$AN10,AT10<>$AN10,AU10<>$AN10,AV10<>$AN10,AW10<>$AN10,AY10<>$AN10,AX10<>$AN10),$AN10,\nIF(AND(AR10<>$AO10,AS10<>$AO10,AT10<>$AO10,AU10<>$AO10,AV10<>$AO10,AW10<>$AO10,AY10<>$AO10,AX10<>$AO10),$AO10,\nIF(AND(AR10<>$AP10,AS10<>$AP10,AT10<>$AP10,AU10<>$AP10,AV10<>$AP10,AW10<>$AP10,AY10<>$AP10,AX10<>$AP10),$AP10,\n\"\")))))))))))","v":""},{"$f":"IF(AZ10=\"\",\"\",\nIF(AND(AR10<>$AG10,AS10<>$AG10,AT10<>$AG10,AU10<>$AG10,AV10<>$AG10,AW10<>$AG10,AX10<>$AG10,AZ10<>$AG10,AY10<>$AG10),$AG10,\nIF(AND(AR10<>$AH10,AS10<>$AH10,AT10<>$AH10,AU10<>$AH10,AV10<>$AH10,AW10<>$AH10,AX10<>$AH10,AZ10<>$AH10,AY10<>$AH10),$AH10,\nIF(AND(AR10<>$AI10,AS10<>$AI10,AT10<>$AI10,AU10<>$AI10,AV10<>$AI10,AW10<>$AI10,AX10<>$AI10,AZ10<>$AI10,AY10<>$AI10),$AI10,\nIF(AND(AR10<>$AJ10,AS10<>$AJ10,AT10<>$AJ10,AU10<>$AJ10,AV10<>$AJ10,AW10<>$AJ10,AX10<>$AJ10,AZ10<>$AJ10,AY10<>$AJ10),$AJ10,\nIF(AND(AR10<>$AK10,AS10<>$AK10,AT10<>$AK10,AU10<>$AK10,AV10<>$AK10,AW10<>$AK10,AX10<>$AK10,AZ10<>$AK10,AY10<>$AK10),$AK10,\nIF(AND(AR10<>$AL10,AS10<>$AL10,AT10<>$AL10,AU10<>$AL10,AV10<>$AL10,AW10<>$AL10,AX10<>$AL10,AZ10<>$AL10,AY10<>$AL10),$AL10,\nIF(AND(AR10<>$AM10,AS10<>$AM10,AT10<>$AM10,AU10<>$AM10,AV10<>$AM10,AW10<>$AM10,AX10<>$AM10,AZ10<>$AM10,AY10<>$AM10),$AM10,\nIF(AND(AR10<>$AN10,AS10<>$AN10,AT10<>$AN10,AU10<>$AN10,AV10<>$AN10,AW10<>$AN10,AX10<>$AN10,AZ10<>$AN10,AY10<>$AN10),$AN10,\nIF(AND(AR10<>$AO10,AS10<>$AO10,AT10<>$AO10,AU10<>$AO10,AV10<>$AO10,AW10<>$AO10,AX10<>$AO10,AZ10<>$AO10,AY10<>$AO10),$AO10,\nIF(AND(AR10<>$AP10,AS10<>$AP10,AT10<>$AP10,AU10<>$AP10,AV10<>$AP10,AW10<>$AP10,AX10<>$AP10,AZ10<>$AP10,AY10<>$AP10),$AP10,\n\"\")))))))))))","v":""}]
[null,{"$f":"IF(OR(SUM(B12)>0,O11=\"x\"),1,IF(ISNUMBER(O11),O11,0))","v":1},1,{"$f":"J11","v":"813.000"},null,{"$f":"K11","v":"Controllo dell'impianto"},"forfait",null,null,"813.000","Controllo dell'impianto",null,null,"forfait","x",null,null,null,null,null,null,null,null,null,null,null,null,null,null,null,"x",null,"forfait","forfait","forfait","forfait","forfait","forfait","forfait","forfait","forfait","forfait",null,"forfait","","","","","","","","",""]
[null,0,0,null,{"$f":"L12","v":"813.100"},{"$f":"M12","v":"Controllo visivo"},"",null,null,null,null,"813.100","Controllo visivo","forfait",null,null,null,null,null,null,null,null,null,null,null,null,null,null,null,null,"x",null,"forfait","forfait","forfait","forfait","forfait","forfait","forfait","forfait","forfait","forfait",null,"forfait","","","","","","","","",""]
[null,0,0,{"$f":"J13","v":"814.000"},null,{"$f":"K13","v":"Valutazione della produzione/consumo"},"",null,null,"814.000","Valutazione della produzione/consumo",null,null,"forfait",null,null,null,null,null,null,null,null,null,null,null,null,null,null,null,null,"x",null,"forfait","forfait","forfait","forfait","forfait","forfait","forfait","forfait","forfait","forfait",null,"forfait","","","","","","","","",""]
[null,{"$f":"IF(OR(SUM(B15:B19)>0,O14=\"x\"),1,IF(ISNUMBER(O14),O14,0))","v":0},0,"815.000",null,"Misure/rilevamenti","",null,null,"815.000","Misure/rilevamenti",null,null,"forfait",null,null,null,null,null,null,null,null,null,null,null,null,null,null,null,null,"x",null,"forfait","forfait","forfait","forfait","forfait","forfait","forfait","forfait","forfait","forfait",null,"forfait","","","","","","","","",""]
[null,0,0,null,{"$f":"L15","v":"815.100"},{"$f":"M15","v":"Misure I/U"},"",null,null,null,null,"815.100","Misure I/U","forfait",null,null,null,null,null,null,null,null,null,null,null,null,null,null,null,null,"x",null,"forfait","forfait","forfait","forfait","forfait","forfait","forfait","forfait","forfait","forfait",null,"forfait","","","","","","","","",""]
[null,0,0,null,{"$f":"L16","v":"815.200"},"Misure ISO","",null,null,null,null,"815.200","Misure ISO","forfait",null,null,null,null,null,null,null,null,null,null,null,null,null,null,null,null,"x",null,"forfait","forfait","forfait","forfait","forfait","forfait","forfait","forfait","forfait","forfait",null,"forfait","","","","","","","","",""]
[null,0,0,null,{"$f":"L17","v":"815.300"},"Misure delle caratteristiche","",null,null,null,null,"815.300","Misure delle caratteristiche","forfait",null,null,null,null,null,null,null,null,null,null,null,null,null,null,null,null,"x",null,"forfait","forfait","forfait","forfait","forfait","forfait","forfait","forfait","forfait","forfait",null,"forfait","","","","","","","","",""]
[null,0,0,null,{"$f":"L18","v":"815.400"},"Termografia","",null,null,null,null,"815.400","Termografia","forfait",null,null,null,null,null,null,null,null,null,null,null,null,null,null,null,null,"x",null,"forfait","forfait","forfait","forfait","forfait","forfait","forfait","forfait","forfait","forfait",null,"forfait","","","","","","","","",""]
[null,0,0,null,{"$f":"L19","v":"815.500"},"Elettroluminescenza","",null,null,null,null,"815.500","Elettroluminescenza","forfait",null,null,null,null,null,null,null,null,null,null,null,null,null,null,null,null,"x",null,"forfait","forfait","forfait","forfait","forfait","forfait","forfait","forfait","forfait","forfait",null,"forfait","","","","","","","","",""]
[null,{"$f":"IF(OR(SUM(B21:B22)>0,O20=\"x\"),1,IF(ISNUMBER(O20),O20,0))","v":0},0,{"$f":"J20","v":"816.000"},null,{"$f":"K20","v":"Verifiche esterne dei moduli"},"",null,null,"816.000","Verifiche esterne dei moduli",null,null,"forfait",null,null,null,null,null,null,null,null,null,null,null,null,null,null,null,null,"x",null,"forfait","forfait","forfait","forfait","forfait","forfait","forfait","forfait","forfait","forfait",null,"forfait","","","","","","","","",""]
[null,0,0,null,{"$f":"L21","v":"816.100"},{"$f":"M21","v":"Potenza del modulo"},"",null,null,null,null,"816.100","Potenza del modulo","forfait",null,null,null,null,null,null,null,null,null,null,null,null,null,null,null,null,"x",null,"forfait","forfait","forfait","forfait","forfait","forfait","forfait","forfait","forfait","forfait",null,"forfait","","","","","","","","",""]
[null,0,0,null,{"$f":"L22","v":"816.200"},"Elettroluminescenza","",null,null,null,null,"816.200","Elettroluminescenza","forfait",null,null,null,null,null,null,null,null,null,null,null,null,null,null,null,null,"x",null,"forfait","forfait","forfait","forfait","forfait","forfait","forfait","forfait","forfait","forfait",null,"forfait","","","","","","","","",""]
[null,1,1,{"$f":"J23","v":"817.000"},null,{"$f":"K23","v":"Controlli periodici (rinnovo del rapporto di sicurezza)"},"forfait",null,null,"817.000","Controlli periodici (rinnovo del rapporto di sicurezza)",null,null,"forfait","x",null,null,null,null,null,null,null,null,null,null,null,null,null,null,null,"x",null,"forfait","forfait","forfait","forfait","forfait","forfait","forfait","forfait","forfait","forfait",null,"forfait","","","","","","","","",""]
[null,0,0,"818.000",null,"Re-audit Pronovo (> 300 kWp)","",null,null,"818.000","Re-audit Pronovo (> 300 kWp)",null,null,"forfait",null,null,null,null,null,null,null,null,null,null,null,null,null,null,null,null,"x",null,"forfait","forfait","forfait","forfait","forfait","forfait","forfait","forfait","forfait","forfait",null,"forfait","","","","","","","","",""]
[null,{"$f":"B6","v":1},0,null,null,null,"",null,null,null,null,null,null,null,null,null,null,null,null,null,null,null,null,null,null,null,null,null,null,null,null,null,"","","","","","","","","","",null,"","","","","","","","","",""]
[null,{"$f":"IF(Q26=\"x\",1,IF(SUM(B27:B32)>0,1,0))","v":1},0,{"$f":"H26","v":"820.000"},null,{"$f":"I26","v":"Conteggi per l'autoconsumo (RCP)"},"","820.000","Conteggi per l'autoconsumo (RCP)",null,null,null,null,"forfait",null,null,null,null,null,null,null,null,null,null,null,null,null,null,null,null,"x",null,"forfait","forfait","forfait","forfait","forfait","forfait","forfait","forfait","forfait","forfait",null,"forfait","","","","","","","","",""]
[null,{"$f":"IF(O27=\"x\",1,IF(ISNUMBER(O27),O27,0))","v":1},1,{"$f":"J27","v":"821.000"},null,{"$f":"K27","v":"Contreggi RCP"},"forfait",null,null,"821.000","Contreggi RCP",null,null,"forfait","x",null,null,null,null,null,null,null,null,null,null,null,null,null,null,null,"x",null,"forfait","forfait","forfait","forfait","forfait","forfait","forfait","forfait","forfait","forfait",null,"forfait","","","","","","","","",""]
[null,0,0,"822.000",null,"Conteggi GRD","",null,null,"822.000","Conteggi GRD",null,null,"forfait",null,null,null,null,null,null,null,null,null,null,null,null,null,null,null,null,"x",null,"forfait","forfait","forfait","forfait","forfait","forfait","forfait","forfait","forfait","forfait",null,"forfait","","","","","","","","",""]
[null,0,0,"823.000",null,"Conteggi singoli consumatori di energia (circuito secondario)","",null,null,"823.000","Conteggi singoli consumatori di energia (circuito secondario)",null,null,"forfait",null,null,null,null,null,null,null,null,null,null,null,null,null,null,null,null,"x",null,"forfait","forfait","forfait","forfait","forfait","forfait","forfait","forfait","forfait","forfait",null,"forfait","","","","","","","","",""]
[null,0,0,"824.000",null,"Conteggi contatori dell'acqua","",null,null,"824.000","Conteggi contatori dell'acqua",null,null,"forfait",null,null,null,null,null,null,null,null,null,null,null,null,null,null,null,null,"x",null,"forfait","forfait","forfait","forfait","forfait","forfait","forfait","forfait","forfait","forfait",null,"forfait","","","","","","","","",""]
[null,0,0,"825.000",null,"Conteggi contatori di calore","",null,null,"825.000","Conteggi contatori di calore",null,null,"forfait",null,null,null,null,null,null,null,null,null,null,null,null,null,null,null,null,"x",null,"forfait","forfait","forfait","forfait","forfait","forfait","forfait","forfait","forfait","forfait",null,"forfait","","","","","","","","",""]
[null,0,0,"826.000",null,"Prestazioni supplementari","",null,null,"826.000","Prestazioni supplementari",null,null,"forfait",null,null,null,null,null,null,null,null,null,null,null,null,null,null,null,null,"x",null,"forfait","forfait","forfait","forfait","forfait","forfait","forfait","forfait","forfait","forfait",null,"forfait","","","","","","","","",""]
[null,{"$f":"B26","v":1},0,null,null,null,"",null,null,null,null,null,null,null,null,null,null,null,null,null,null,null,null,null,null,null,null,null,null,null,null,null,"","","","","","","","","","",null,"","","","","","","","","",""]
[null,{"$f":"IF(Q34=\"x\",1,IF(SUM(B35:B38)>0,1,0))","v":1},0,{"$f":"H34","v":"830.000"},null,{"$f":"I34","v":"Deposito di garanzia"},"","830.000","Deposito di garanzia",null,null,null,null,"forfait",null,null,null,null,null,null,null,null,null,null,null,null,null,null,null,null,"x",null,"forfait","forfait","forfait","forfait","forfait","forfait","forfait","forfait","forfait","forfait",null,"forfait","","","","","","","","",""]
[null,{"$f":"IF(OR(SUM(B36)>0,O35=\"x\"),1,IF(ISNUMBER(O35),O35,0))","v":1},1,{"$f":"J35","v":"831.000"},null,{"$f":"K35","v":"Garanzia di buona esecuzione"},"forfait",null,null,"831.000","Garanzia di buona esecuzione",null,null,"forfait","x",null,null,null,null,null,null,null,null,null,null,null,null,null,null,null,"x",null,"forfait","forfait","forfait","forfait","forfait","forfait","forfait","forfait","forfait","forfait",null,"forfait","","","","","","","","",""]
[null,{"$f":"IF(O36=\"x\",1,IF(ISNUMBER(O36),O36,0))","v":0},0,null,{"$f":"L36","v":"832.100"},{"$f":"M36","v":"Riassicurazione"},"",null,null,null,null,"832.100","Riassicurazione","forfait",null,null,null,null,null,null,null,null,null,null,null,null,null,null,null,null,"x",null,"forfait","forfait","forfait","forfait","forfait","forfait","forfait","forfait","forfait","forfait",null,"forfait","","","","","","","","",""]
[null,0,0,{"$f":"J37","v":"832.000"},null,{"$f":"K37","v":"Garanzia per difetti"},"",null,null,"832.000","Garanzia per difetti",null,null,"forfait",null,null,null,null,null,null,null,null,null,null,null,null,null,null,null,null,"x",null,"forfait","forfait","forfait","forfait","forfait","forfait","forfait","forfait","forfait","forfait",null,"forfait","","","","","","","","",""]
[null,1,1,"833.000",null,"Garanzia sulla resa","forfait",null,null,"833.000","Garanzia sulla resa",null,null,"forfait","x",null,null,null,null,null,null,null,null,null,null,null,null,null,null,null,"x",null,"forfait","forfait","forfait","forfait","forfait","forfait","forfait","forfait","forfait","forfait",null,"forfait","","","","","","","","",""]
[null,{"$f":"B34","v":1},0]

{"sheet":"E_Box800","index":19,"n_rows":57,"n_cols":3,"rows_kept":57,"cut":false,"hidden":true,"merged":[]}
["Campo di applicazione"]
["Livello di struttura 1",null,800]
["Livello di struttura 2",null,810]
["Livello di struttura 3",null,811]
[]
[null,null,"E800_Contratto_di_manutenzione"]
["Nr."]
[1,null,"Rilevamento annuale della resa"]
[2,null,"Controllo annuale dell'impianto"]
[3,null,"Rilevamento della resa"]
[4,null,"Monitoraggio"]
[5,null,"Reporting"]
[6,null,"Gestione dei guasti"]
[7,null,"Intervallo (p. es. giornaliero, settimanale, mensile, annuale, ogni X anni)"]
[8,null,"Manutenzione"]
[9,null,"Controllo dell'impianto (misure incluse)"]
[10,null,"Misura I/U"]
[11,null,"Misura dell'isolamento"]
[12,null,"Misura della caratteristica"]
[13,null,"Misura delle prestazioni"]
[14,null,"Controllo visivo"]
[15,null,"Controllo visivo con drone"]
[16,null,"Controllo visivo dispositivi anticaduta"]
[17,null,"Controllo ventola inverter"]
[18,null,"Controllo dei moduli con camera infrarossi"]
[19,null,"Pulizia del generatore solare"]
[20]
[21]
[22]
[23]
[24]
[25]
[26]
[27]
[28]
[29]
[30]
[31]
[32]
[33]
[34]
[35]
[36]
[37]
[38]
[39]
[40]
[41]
[42]
[43]
[44]
[45]
[46]
[47]
[48]
[49]
[50]

{"sheet":"Indice generale","index":20,"n_rows":797,"n_cols":11,"rows_kept":797,"cut":false,"hidden":true,"merged":[]}
[1]
[1,null,"Distinta degli articoli"]
[1,null,"Secondo la struttura d'offerta SOQ versione 1.3"]
[1]
[1,null,"Posizione SOQ",null,null,null,"Descrizione","Unità","Quantità","Prezzo unitario","Importo"]
[1]
[1,null,"000.000",null,null,null,"Condizioni"]
[1]
[{"$f":"'000 Condizioni'!B6","v":1},null,{"$f":"'000 Condizioni'!C6","v":"010.000"},null,null,null,{"$f":"'000 Condizioni'!G6","v":"Condizioni generali"},{"$f":"'000 Condizioni'!H6","v":0}]
[{"$f":"'000 Condizioni'!B7","v":1},null,{"$f":"'000 Condizioni'!C7","v":"011.000"},null,null,null,{"$f":"'000 Condizioni'!G7","v":"Termini, abbreviazioni"},{"$f":"'000 Condizioni'!H7","v":0}]
[{"$f":"'000 Condizioni'!B8","v":1},null,{"$f":"'000 Condizioni'!C8","v":"012.000"},null,null,null,{"$f":"'000 Condizioni'!G8","v":"Norme\nCaratteristiche: \nNorme SIA\nPrescrizione della protezione antincendio AICAA\nDocumenti sullo stato della tecnica\nDocumenti di settore AES\nDocumenti sullo stato della tecnica\nDocumenti di settore AES\nLEne: Legge sull'energia\nOIBT: Ordinanza sugli impianti a bassa tensione\nDocumenti di settore AES"},{"$f":"'000 Condizioni'!H8","v":0}]
[{"$f":"'000 Condizioni'!B9","v":1},null,{"$f":"'000 Condizioni'!C9","v":"013.000"},null,null,null,{"$f":"'000 Condizioni'!G9","v":"Permessi, condizioni"},{"$f":"'000 Condizioni'!H9","v":0}]
[{"$f":"'000 Condizioni'!B10","v":1},null,null,{"$f":"'000 Condizioni'!D10","v":"013.100"},null,null,{"$f":"'000 Condizioni'!G10","v":"Permesso di costruzione"},{"$f":"'000 Condizioni'!H10","v":0}]
[{"$f":"'000 Condizioni'!B11","v":0},null,null,{"$f":"'000 Condizioni'!D11","v":"013.200"},null,null,{"$f":"'000 Condizioni'!G11","v":"Requisiti richiesti dall'autorità"},{"$f":"'000 Condizioni'!H11","v":0}]
[{"$f":"'000 Condizioni'!B12","v":1},null,{"$f":"'000 Condizioni'!C12","v":0},null,null,null,{"$f":"'000 Condizioni'!G12","v":0},{"$f":"'000 Condizioni'!H12","v":0}]
[{"$f":"'000 Condizioni'!B13","v":1},null,{"$f":"'000 Condizioni'!C13","v":"020.000"},null,null,null,{"$f":"'000 Condizioni'!G13","v":"Organizzazione"},{"$f":"'000 Condizioni'!H13","v":0}]
[{"$f":"'000 Condizioni'!B14","v":1},null,{"$f":"'000 Condizioni'!C14","v":"021.000"},null,null,null,{"$f":"'000 Condizioni'!G14","v":"Committente"},{"$f":"'000 Condizioni'!H14","v":0}]
[{"$f":"'000 Condizioni'!B15","v":1},null,{"$f":"'000 Condizioni'!C15","v":"022.000"},null,null,null,{"$f":"'000 Condizioni'!G15","v":"Architetto"},{"$f":"'000 Condizioni'!H15","v":0}]
[{"$f":"'000 Condizioni'!B16","v":1},null,{"$f":"'000 Condizioni'!C16","v":"023.000"},null,null,null,{"$f":"'000 Condizioni'!G16","v":"Direzione lavori"},{"$f":"'000 Condizioni'!H16","v":0}]
[{"$f":"'000 Condizioni'!B17","v":1},null,{"$f":"'000 Condizioni'!C17","v":"024.000"},null,null,null,{"$f":"'000 Condizioni'!G17","v":"Progettista fotovoltaico"},{"$f":"'000 Condizioni'!H17","v":0}]
[{"$f":"'000 Condizioni'!B18","v":1},null,{"$f":"'000 Condizioni'!C18","v":"025.000"},null,null,null,{"$f":"'000 Condizioni'!G18","v":"Altri progettisti"},{"$f":"'000 Condizioni'!H18","v":0}]
[{"$f":"'000 Condizioni'!B19","v":1},null,null,{"$f":"'000 Condizioni'!D19","v":"025.100"},null,null,{"$f":"'000 Condizioni'!G19","v":"Progettista elettrico"},{"$f":"'000 Condizioni'!H19","v":0}]
[{"$f":"'000 Condizioni'!B20","v":0},null,null,{"$f":"'000 Condizioni'!D20","v":"025.200"},null,null,{"$f":"'000 Condizioni'!G20","v":"Ingegnere civile/statica dell'edificio"},{"$f":"'000 Condizioni'!H20","v":0}]
[{"$f":"'000 Condizioni'!B21","v":0},null,null,{"$f":"'000 Condizioni'!D21","v":"025.300"},null,null,{"$f":"'000 Condizioni'!G21","v":"Progettista RCVS"},{"$f":"'000 Condizioni'!H21","v":0}]
[{"$f":"'000 Condizioni'!B22","v":0},null,{"$f":"'000 Condizioni'!C22","v":"026.000"},null,null,null,{"$f":"'000 Condizioni'!G22","v":"Consulente"},{"$f":"'000 Condizioni'!H22","v":0}]
[{"$f":"'000 Condizioni'!B23","v":1},null,{"$f":"'000 Condizioni'!C23","v":0},null,null,null,{"$f":"'000 Condizioni'!G23","v":0},{"$f":"'000 Condizioni'!H23","v":0}]
[{"$f":"'000 Condizioni'!B24","v":1},null,{"$f":"'000 Condizioni'!C24","v":"030.000"},null,null,null,{"$f":"'000 Condizioni'!G24","v":"Criteri della gara d'appalto"},{"$f":"'000 Condizioni'!H24","v":0}]
[{"$f":"'000 Condizioni'!B25","v":1},null,{"$f":"'000 Condizioni'!C25","v":"031.000"},null,null,null,{"$f":"'000 Condizioni'!G25","v":"Tipo di gara d'appalto"},{"$f":"'000 Condizioni'!H25","v":0}]
[{"$f":"'000 Condizioni'!B26","v":0},null,null,{"$f":"'000 Condizioni'!D26","v":"031.100"},null,null,{"$f":"'000 Condizioni'!G26","v":"Procedura libera"},{"$f":"'000 Condizioni'!H26","v":0}]
[{"$f":"'000 Condizioni'!B27","v":0},null,null,{"$f":"'000 Condizioni'!D27","v":"031.200"},null,null,{"$f":"'000 Condizioni'!G27","v":"Procedura selettiva (a due fasi, con pre-qualifica)"},{"$f":"'000 Condizioni'!H27","v":0}]
[{"$f":"'000 Condizioni'!B28","v":1},null,null,{"$f":"'000 Condizioni'!D28","v":"031.300"},null,null,{"$f":"'000 Condizioni'!G28","v":"Procedura ad invito"},{"$f":"'000 Condizioni'!H28","v":0}]
[{"$f":"'000 Condizioni'!B29","v":0},null,null,{"$f":"'000 Condizioni'!D29","v":"031.400"},null,null,{"$f":"'000 Condizioni'!G29","v":"Incarico diretto"},{"$f":"'000 Condizioni'!H29","v":0}]
[{"$f":"'000 Condizioni'!B30","v":1},null,{"$f":"'000 Condizioni'!C30","v":"032.000"},null,null,null,{"$f":"'000 Condizioni'!G30","v":"Offerta"},{"$f":"'000 Condizioni'!H30","v":0}]
[{"$f":"'000 Condizioni'!B31","v":1},null,null,{"$f":"'000 Condizioni'!D31","v":"032.100"},null,null,{"$f":"'000 Condizioni'!G31","v":"Forma dell'offerta"},{"$f":"'000 Condizioni'!H31","v":0}]
[{"$f":"'000 Condizioni'!B32","v":0},null,null,null,{"$f":"'000 Condizioni'!E32","v":"032.110"},null,{"$f":"'000 Condizioni'!G32","v":"Su misura"},{"$f":"'000 Condizioni'!H32","v":0}]
[{"$f":"'000 Condizioni'!B33","v":1},null,null,null,{"$f":"'000 Condizioni'!E33","v":"032.120"},null,{"$f":"'000 Condizioni'!G33","v":"Tetto di spesa"},{"$f":"'000 Condizioni'!H33","v":0}]
[{"$f":"'000 Condizioni'!B34","v":0},null,null,null,{"$f":"'000 Condizioni'!E34","v":"032.130"},null,{"$f":"'000 Condizioni'!G34","v":"Importo forfettario"},{"$f":"'000 Condizioni'!H34","v":0}]
[{"$f":"'000 Condizioni'!B35","v":0},null,null,{"$f":"'000 Condizioni'!D35","v":"032.200"},null,null,{"$f":"'000 Condizioni'!G35","v":"Offerte parziali"},{"$f":"'000 Condizioni'!H35","v":0}]
[{"$f":"'000 Condizioni'!B36","v":1},null,null,{"$f":"'000 Condizioni'!D36","v":"032.300"},null,null,{"$f":"'000 Condizioni'!G36","v":"Varianti"},{"$f":"'000 Condizioni'!H36","v":0}]
[{"$f":"'000 Condizioni'!B37","v":0},null,null,{"$f":"'000 Condizioni'!D37","v":"032.400"},null,null,{"$f":"'000 Condizioni'!G37","v":"Subappaltatori"},{"$f":"'000 Condizioni'!H37","v":0}]
[{"$f":"'000 Condizioni'!B38","v":0},null,null,{"$f":"'000 Condizioni'!D38","v":"032.500"},null,null,{"$f":"'000 Condizioni'!G38","v":"Consorzio, gruppo di lavoro"},{"$f":"'000 Condizioni'!H38","v":0}]
[{"$f":"'000 Condizioni'!B39","v":0},null,null,{"$f":"'000 Condizioni'!D39","v":"032.600"},null,null,{"$f":"'000 Condizioni'!G39","v":"Validità dell'offerta"},{"$f":"'000 Condizioni'!H39","v":0}]
[{"$f":"'000 Condizioni'!B40","v":1},null,{"$f":"'000 Condizioni'!C40","v":"033.000"},null,null,null,{"$f":"'000 Condizioni'!G40","v":"Criteri, riserve"},{"$f":"'000 Condizioni'!H40","v":0}]
[{"$f":"'000 Condizioni'!B41","v":1},null,null,{"$f":"'000 Condizioni'!D41","v":"033.100"},null,null,{"$f":"'000 Condizioni'!G41","v":"Criteri di idoneità dell'azienda"},{"$f":"'000 Condizioni'!H41","v":0}]
[{"$f":"'000 Condizioni'!B42","v":1},null,null,null,{"$f":"'000 Condizioni'!E42","v":"033.110"},null,{"$f":"'000 Condizioni'!G42","v":"Autorizzazione ESTI OIBT Art. 9 o Art. 14"},{"$f":"'000 Condizioni'!H42","v":0}]
[{"$f":"'000 Condizioni'!B43","v":1},null,null,null,{"$f":"'000 Condizioni'!E43","v":"033.120"},null,{"$f":"'000 Condizioni'!G43","v":"Iscrizione al registro dei Professionisti del solare"},{"$f":"'000 Condizioni'!H43","v":0}]
[{"$f":"'000 Condizioni'!B44","v":1},null,null,null,{"$f":"'000 Condizioni'!E44","v":"033.130"},null,{"$f":"'000 Condizioni'!G44","v":"Conformità / dichiarazione CCL"},{"$f":"'000 Condizioni'!H44","v":0}]
[{"$f":"'000 Condizioni'!B45","v":1},null,null,null,{"$f":"'000 Condizioni'!E45","v":"033.140"},null,{"$f":"'000 Condizioni'!G45","v":"Referenze"},{"$f":"'000 Condizioni'!H45","v":0}]
[{"$f":"'000 Condizioni'!B46","v":0},null,null,null,{"$f":"'000 Condizioni'!E46","v":"033.150"},null,{"$f":"'000 Condizioni'!G46","v":"Altro"},{"$f":"'000 Condizioni'!H46","v":0}]
[{"$f":"'000 Condizioni'!B47","v":1},null,null,{"$f":"'000 Condizioni'!D47","v":"033.200"},null,null,{"$f":"'000 Condizioni'!G47","v":"Criteri di aggiudicazione"},{"$f":"'000 Condizioni'!H47","v":0}]
[{"$f":"'000 Condizioni'!B48","v":1},null,null,null,{"$f":"'000 Condizioni'!E48","v":"033.210"},null,{"$f":"'000 Condizioni'!G48","v":"Prezzo / potenza FV"},{"$f":"'000 Condizioni'!H48","v":0}]
[{"$f":"'000 Condizioni'!B49","v":0},null,null,null,{"$f":"'000 Condizioni'!E49","v":"033.220"},null,{"$f":"'000 Condizioni'!G49","v":"Potenza"},{"$f":"'000 Condizioni'!H49","v":0}]
[{"$f":"'000 Condizioni'!B50","v":1},null,null,null,{"$f":"'000 Condizioni'!E50","v":"033.230"},null,{"$f":"'000 Condizioni'!G50","v":"Qualità"},{"$f":"'000 Condizioni'!H50","v":0}]
[{"$f":"'000 Condizioni'!B51","v":1},null,null,null,{"$f":"'000 Condizioni'!E51","v":"033.240"},null,{"$f":"'000 Condizioni'!G51","v":"Concetto dell'impianto"},{"$f":"'000 Condizioni'!H51","v":0}]
[{"$f":"'000 Condizioni'!B52","v":0},null,null,null,{"$f":"'000 Condizioni'!E52","v":"033.250"},null,{"$f":"'000 Condizioni'!G52","v":"Manutenzione e servizi"},{"$f":"'000 Condizioni'!H52","v":0}]
[{"$f":"'000 Condizioni'!B53","v":0},null,null,null,{"$f":"'000 Condizioni'!E53","v":"033.260"},null,{"$f":"'000 Condizioni'!G53","v":"Referenze"},{"$f":"'000 Condizioni'!H53","v":0}]
[{"$f":"'000 Condizioni'!B54","v":0},null,null,null,{"$f":"'000 Condizioni'!E54","v":"033.270"},null,{"$f":"'000 Condizioni'!G54","v":"Azienda"},{"$f":"'000 Condizioni'!H54","v":0}]
[{"$f":"'000 Condizioni'!B55","v":0},null,null,null,{"$f":"'000 Condizioni'!E55","v":"033.280"},null,{"$f":"'000 Condizioni'!G55","v":"Altro"},{"$f":"'000 Condizioni'!H55","v":0}]
[{"$f":"'000 Condizioni'!B56","v":1},null,null,{"$f":"'000 Condizioni'!D56","v":"033.300"},null,null,{"$f":"'000 Condizioni'!G56","v":"Criteri di esclusione"},{"$f":"'000 Condizioni'!H56","v":0}]
[{"$f":"'000 Condizioni'!B57","v":1},null,null,null,{"$f":"'000 Condizioni'!E57","v":"033.310"},null,{"$f":"'000 Condizioni'!G57","v":"Lista delle prestazioni incompleta"},{"$f":"'000 Condizioni'!H57","v":0}]
[{"$f":"'000 Condizioni'!B58","v":1},null,null,null,{"$f":"'000 Condizioni'!E58","v":"033.320"},null,{"$f":"'000 Condizioni'!G58","v":"Dati della ditta incompleti"},{"$f":"'000 Condizioni'!H58","v":0}]
[{"$f":"'000 Condizioni'!B59","v":1},null,null,null,{"$f":"'000 Condizioni'!E59","v":"033.330"},null,{"$f":"'000 Condizioni'!G59","v":"Dati sulle referenze incompleti"},{"$f":"'000 Condizioni'!H59","v":0}]
[{"$f":"'000 Condizioni'!B60","v":0},null,null,null,{"$f":"'000 Condizioni'!E60","v":"033.340"},null,{"$f":"'000 Condizioni'!G60","v":"Fattibilità e rispetto delle scadenze"},{"$f":"'000 Condizioni'!H60","v":0}]
[{"$f":"'000 Condizioni'!B61","v":0},null,null,null,{"$f":"'000 Condizioni'!E61","v":"033.350"},null,{"$f":"'000 Condizioni'!G61","v":"Altro"},{"$f":"'000 Condizioni'!H61","v":0}]
[{"$f":"'000 Condizioni'!B62","v":1},null,null,{"$f":"'000 Condizioni'!D62","v":"033.400"},null,null,{"$f":"'000 Condizioni'!G62","v":"Negoziazioni"},{"$f":"'000 Condizioni'!H62","v":0}]
[{"$f":"'000 Condizioni'!B63","v":1},null,null,null,{"$f":"'000 Condizioni'!E63","v":"033.410"},null,{"$f":"'000 Condizioni'!G63","v":"Offerte"},{"$f":"'000 Condizioni'!H63","v":0}]
[{"$f":"'000 Condizioni'!B64","v":1},null,{"$f":"'000 Condizioni'!C64","v":"034.000"},null,null,null,{"$f":"'000 Condizioni'!G64","v":"Date della gara d'appalto, scadenze"},{"$f":"'000 Condizioni'!H64","v":0}]
[{"$f":"'000 Condizioni'!B65","v":0},null,null,{"$f":"'000 Condizioni'!D65","v":"034.100"},null,null,{"$f":"'000 Condizioni'!G65","v":"Documentazione di riferimento"},{"$f":"'000 Condizioni'!H65","v":0}]
[{"$f":"'000 Condizioni'!B66","v":1},null,null,{"$f":"'000 Condizioni'!D66","v":"034.200"},null,null,{"$f":"'000 Condizioni'!G66","v":"Sopralluogo"},{"$f":"'000 Condizioni'!H66","v":0}]
[{"$f":"'000 Condizioni'!B67","v":1},null,null,{"$f":"'000 Condizioni'!D67","v":"034.300"},null,null,{"$f":"'000 Condizioni'!G67","v":"Domande e risposte"},{"$f":"'000 Condizioni'!H67","v":0}]
[{"$f":"'000 Condizioni'!B68","v":1},null,null,{"$f":"'000 Condizioni'!D68","v":"034.400"},null,null,{"$f":"'000 Condizioni'!G68","v":"Inoltro dell'offerta"},{"$f":"'000 Condizioni'!H68","v":0}]
[{"$f":"'000 Condizioni'!B69","v":0},null,null,{"$f":"'000 Condizioni'!D69","v":"034.500"},null,null,{"$f":"'000 Condizioni'!G69","v":"Apertura delle offerte, confronto"},{"$f":"'000 Condizioni'!H69","v":0}]
[{"$f":"'000 Condizioni'!B70","v":0},null,null,{"$f":"'000 Condizioni'!D70","v":"034.600"},null,null,{"$f":"'000 Condizioni'!G70","v":"Attribuzione del mandato"},{"$f":"'000 Condizioni'!H70","v":0}]
[{"$f":"'000 Condizioni'!B71","v":1},null,{"$f":"'000 Condizioni'!C71","v":"035.000"},null,null,null,{"$f":"'000 Condizioni'!G71","v":"Documentazione della gara d'appalto"},{"$f":"'000 Condizioni'!H71","v":0}]
[{"$f":"'000 Condizioni'!B72","v":1},null,null,{"$f":"'000 Condizioni'!D72","v":"035.100"},null,null,{"$f":"'000 Condizioni'!G72","v":"Condizioni generali"},{"$f":"'000 Condizioni'!H72","v":0}]
[{"$f":"'000 Condizioni'!B73","v":1},null,null,{"$f":"'000 Condizioni'!D73","v":"035.200"},null,null,{"$f":"'000 Condizioni'!G73","v":"Piani"},{"$f":"'000 Condizioni'!H73","v":0}]
[{"$f":"'000 Condizioni'!B74","v":1},null,null,null,{"$f":"'000 Condizioni'!E74","v":"035.210"},null,{"$f":"'000 Condizioni'!G74","v":"Piano della situazione"},{"$f":"'000 Condizioni'!H74","v":0}]
[{"$f":"'000 Condizioni'!B75","v":0},null,null,null,{"$f":"'000 Condizioni'!E75","v":"035.220"},null,{"$f":"'000 Condizioni'!G75","v":"Piano della situazione, con misure"},{"$f":"'000 Condizioni'!H75","v":0}]
[{"$f":"'000 Condizioni'!B76","v":1},null,null,null,{"$f":"'000 Condizioni'!E76","v":"035.230"},null,{"$f":"'000 Condizioni'!G76","v":"Vista del tetto"},{"$f":"'000 Condizioni'!H76","v":0}]
[{"$f":"'000 Condizioni'!B77","v":0},null,null,null,{"$f":"'000 Condizioni'!E77","v":"035.240"},null,{"$f":"'000 Condizioni'!G77","v":"Vista del tetto, con misure"},{"$f":"'000 Condizioni'!H77","v":0}]
[{"$f":"'000 Condizioni'!B78","v":1},null,null,null,{"$f":"'000 Condizioni'!E78","v":"035.250"},null,{"$f":"'000 Condizioni'!G78","v":"Vista dell'edificio"},{"$f":"'000 Condizioni'!H78","v":0}]
[{"$f":"'000 Condizioni'!B79","v":0},null,null,null,{"$f":"'000 Condizioni'!E79","v":"035.260"},null,{"$f":"'000 Condizioni'!G79","v":"Vista dell'edificio, con misure"},{"$f":"'000 Condizioni'!H79","v":0}]
[{"$f":"'000 Condizioni'!B80","v":1},null,null,{"$f":"'000 Condizioni'!D80","v":"035.300"},null,null,{"$f":"'000 Condizioni'!G80","v":"Schema di principio"},{"$f":"'000 Condizioni'!H80","v":0}]
[{"$f":"'000 Condizioni'!B81","v":1},null,null,{"$f":"'000 Condizioni'!D81","v":"035.400"},null,null,{"$f":"'000 Condizioni'!G81","v":"Documentazione fotografica"},{"$f":"'000 Condizioni'!H81","v":0}]
[{"$f":"'000 Condizioni'!B82","v":1},null,{"$f":"'000 Condizioni'!C82","v":"036.000"},null,null,null,{"$f":"'000 Condizioni'!G82","v":"Documentazione di partenza"},{"$f":"'000 Condizioni'!H82","v":0}]
[{"$f":"'000 Condizioni'!B83","v":1},null,null,{"$f":"'000 Condizioni'!D83","v":"036.100"},null,null,{"$f":"'000 Condizioni'!G83","v":"Piani"},{"$f":"'000 Condizioni'!H83","v":0}]
[{"$f":"'000 Condizioni'!B84","v":0},null,null,null,{"$f":"'000 Condizioni'!E84","v":"036.110"},null,{"$f":"'000 Condizioni'!G84","v":"Layout dell'impianto"},{"$f":"'000 Condizioni'!H84","v":0}]
[{"$f":"'000 Condizioni'!B85","v":0},null,null,null,{"$f":"'000 Condizioni'!E85","v":"036.120"},null,{"$f":"'000 Condizioni'!G85","v":"Schema del campo di moduli"},{"$f":"'000 Condizioni'!H85","v":0}]
[{"$f":"'000 Condizioni'!B86","v":0},null,null,null,{"$f":"'000 Condizioni'!E86","v":"036.130"},null,{"$f":"'000 Condizioni'!G86","v":"Altro"},{"$f":"'000 Condizioni'!H86","v":0}]
[{"$f":"'000 Condizioni'!B87","v":1},null,null,{"$f":"'000 Condizioni'!D87","v":"036.200"},null,null,{"$f":"'000 Condizioni'!G87","v":"Documentazione tecnica"},{"$f":"'000 Condizioni'!H87","v":0}]
[{"$f":"'000 Condizioni'!B88","v":0},null,null,null,{"$f":"'000 Condizioni'!E88","v":"036.210"},null,{"$f":"'000 Condizioni'!G88","v":"Schema di principio"},{"$f":"'000 Condizioni'!H88","v":0}]
[{"$f":"'000 Condizioni'!B89","v":0},null,null,null,{"$f":"'000 Condizioni'!E89","v":"036.220"},null,{"$f":"'000 Condizioni'!G89","v":"Schede tecniche componenti"},{"$f":"'000 Condizioni'!H89","v":0}]
[{"$f":"'000 Condizioni'!B90","v":0},null,null,null,{"$f":"'000 Condizioni'!E90","v":"036.230"},null,{"$f":"'000 Condizioni'!G90","v":"Altro"},{"$f":"'000 Condizioni'!H90","v":0}]
[{"$f":"'000 Condizioni'!B91","v":0},null,null,{"$f":"'000 Condizioni'!D91","v":"036.300"},null,null,{"$f":"'000 Condizioni'!G91","v":"Concetto di sicurezza sul lavoro"},{"$f":"'000 Condizioni'!H91","v":0}]
[{"$f":"'000 Condizioni'!B92","v":1},null,null,{"$f":"'000 Condizioni'!D92","v":"036.400"},null,null,{"$f":"'000 Condizioni'!G92","v":"Dati della ditta"},{"$f":"'000 Condizioni'!H92","v":0}]
[{"$f":"'000 Condizioni'!B93","v":0},null,null,null,{"$f":"'000 Condizioni'!E93","v":"036.410"},null,{"$f":"'000 Condizioni'!G93","v":"Informazioni sui criteri di idoneità"},{"$f":"'000 Condizioni'!H93","v":0}]
[{"$f":"'000 Condizioni'!B94","v":0},null,null,null,{"$f":"'000 Condizioni'!E94","v":"036.420"},null,{"$f":"'000 Condizioni'!G94","v":"Conferma del CCL"},{"$f":"'000 Condizioni'!H94","v":0}]
[{"$f":"'000 Condizioni'!B95","v":0},null,null,null,{"$f":"'000 Condizioni'!E95","v":"036.430"},null,{"$f":"'000 Condizioni'!G95","v":"Conferma assicurazione responsabilità civile"},{"$f":"'000 Condizioni'!H95","v":0}]
[{"$f":"'000 Condizioni'!B96","v":0},null,null,null,{"$f":"'000 Condizioni'!E96","v":"036.440"},null,{"$f":"'000 Condizioni'!G96","v":"Altro"},{"$f":"'000 Condizioni'!H96","v":0}]
[{"$f":"'000 Condizioni'!B97","v":1},null,null,{"$f":"'000 Condizioni'!D97","v":"036.500"},null,null,{"$f":"'000 Condizioni'!G97","v":"Contratto di manutenzione"},{"$f":"'000 Condizioni'!H97","v":0}]
[{"$f":"'000 Condizioni'!B98","v":1},null,{"$f":"'000 Condizioni'!C98","v":"037.000"},null,null,null,{"$f":"'000 Condizioni'!G98","v":"Garanzia finanziaria"},{"$f":"'000 Condizioni'!H98","v":0}]
[{"$f":"'000 Condizioni'!B99","v":1},null,null,{"$f":"'000 Condizioni'!D99","v":"037.100"},null,null,{"$f":"'000 Condizioni'!G99","v":"Garanzia di buona esecuzione"},{"$f":"'000 Condizioni'!H99","v":0}]
[{"$f":"'000 Condizioni'!B100","v":0},null,null,{"$f":"'000 Condizioni'!D100","v":"037.200"},null,null,{"$f":"'000 Condizioni'!G100","v":"Garanzia di restituzione d'acconto"},{"$f":"'000 Condizioni'!H100","v":0}]
[{"$f":"'000 Condizioni'!B101","v":0},null,null,{"$f":"'000 Condizioni'!D101","v":"037.300"},null,null,{"$f":"'000 Condizioni'!G101","v":"Garanzia di buon funzionamento"},{"$f":"'000 Condizioni'!H101","v":0}]
[{"$f":"'000 Condizioni'!B102","v":0},null,null,{"$f":"'000 Condizioni'!D102","v":"037.400"},null,null,{"$f":"'000 Condizioni'!G102","v":"Garanzia di resa"},{"$f":"'000 Condizioni'!H102","v":0}]
[{"$f":"'000 Condizioni'!B103","v":1},null,{"$f":"'000 Condizioni'!C103","v":"038.000"},null,null,null,{"$f":"'000 Condizioni'!G103","v":"Riserve"},{"$f":"'000 Condizioni'!H103","v":0}]
[{"$f":"'000 Condizioni'!B104","v":1},null,null,{"$f":"'000 Condizioni'!D104","v":"038.100"},null,null,{"$f":"'000 Condizioni'!G104","v":"Finanziamenti"},{"$f":"'000 Condizioni'!H104","v":0}]
[{"$f":"'000 Condizioni'!B105","v":0},null,null,{"$f":"'000 Condizioni'!D105","v":"038.200"},null,null,{"$f":"'000 Condizioni'!G105","v":"Autorizzazioni"},{"$f":"'000 Condizioni'!H105","v":0}]
[{"$f":"'000 Condizioni'!B106","v":1},null,{"$f":"'000 Condizioni'!C106","v":0},null,null,null,{"$f":"'000 Condizioni'!G106","v":0},{"$f":"'000 Condizioni'!H106","v":0}]
[{"$f":"'000 Condizioni'!B107","v":1},null,{"$f":"'000 Condizioni'!C107","v":"040.000"},null,null,null,{"$f":"'000 Condizioni'!G107","v":"Regole sulla retribuzione"},{"$f":"'000 Condizioni'!H107","v":0}]
[{"$f":"'000 Condizioni'!B108","v":1},null,{"$f":"'000 Condizioni'!C108","v":"041.000"},null,null,null,{"$f":"'000 Condizioni'!G108","v":"Prestazioni incluse / condizioni di base"},{"$f":"'000 Condizioni'!H108","v":0}]
[{"$f":"'000 Condizioni'!B109","v":1},null,null,{"$f":"'000 Condizioni'!D109","v":"041.100"},null,null,{"$f":"'000 Condizioni'!G109","v":"Progettazione"},{"$f":"'000 Condizioni'!H109","v":0}]
[{"$f":"'000 Condizioni'!B110","v":0},null,null,null,{"$f":"'000 Condizioni'!E110","v":"041.110"},null,{"$f":"'000 Condizioni'!G110","v":"Verifica della portata dell'edificio"},{"$f":"'000 Condizioni'!H110","v":0}]
[{"$f":"'000 Condizioni'!B111","v":0},null,null,null,{"$f":"'000 Condizioni'!E111","v":"041.120"},null,{"$f":"'000 Condizioni'!G111","v":"Fornitura della documentazione necessaria ad altre ditte per il funzionamento dell'impianto fotovoltaico"},{"$f":"'000 Condizioni'!H111","v":0}]
[{"$f":"'000 Condizioni'!B112","v":0},null,null,null,{"$f":"'000 Condizioni'!E112","v":"041.130"},null,{"$f":"'000 Condizioni'!G112","v":"Coordinamento di altre ditte per garantire il funzionamento dell'impianto fotovoltaico"},{"$f":"'000 Condizioni'!H112","v":0}]
[{"$f":"'000 Condizioni'!B113","v":1},null,null,{"$f":"'000 Condizioni'!D113","v":"041.200"},null,null,{"$f":"'000 Condizioni'!G113","v":"Sistema di montaggio"},{"$f":"'000 Condizioni'!H113","v":0}]
[{"$f":"'000 Condizioni'!B114","v":0},null,null,null,{"$f":"'000 Condizioni'!E114","v":"041.210"},null,{"$f":"'000 Condizioni'!G114","v":"Verifica dell'idoneità del sistema di montaggio fotovoltaico"},{"$f":"'000 Condizioni'!H114","v":0}]
[{"$f":"'000 Condizioni'!B115","v":0},null,null,null,{"$f":"'000 Condizioni'!E115","v":"041.220"},null,{"$f":"'000 Condizioni'!G115","v":"Il sistema di montaggio è calcolato sulla base del layout del modulo dato. Se il layout viene modificato, il calcolo delle prestazioni può cambiare. L'offerente deve presentare una ricalcolazione plausibile e comprensibile."},{"$f":"'000 Condizioni'!H115","v":0}]
[{"$f":"'000 Condizioni'!B116","v":0},null,null,null,{"$f":"'000 Condizioni'!E116","v":"041.230"},null,{"$f":"'000 Condizioni'!G116","v":"Tolleranze di costruzione"},{"$f":"'000 Condizioni'!H116","v":0}]
[{"$f":"'000 Condizioni'!B117","v":1},null,null,{"$f":"'000 Condizioni'!D117","v":"041.300"},null,null,{"$f":"'000 Condizioni'!G117","v":"Moduli FV"},{"$f":"'000 Condizioni'!H117","v":0}]
[{"$f":"'000 Condizioni'!B118","v":0},null,null,null,{"$f":"'000 Condizioni'!E118","v":"041.310"},null,{"$f":"'000 Condizioni'!G118","v":"Garanzie moduli FV: garanzia sul prodotto 10a, garanzia di produzione 80% 25a"},{"$f":"'000 Condizioni'!H118","v":0}]
[{"$f":"'000 Condizioni'!B119","v":0},null,null,null,{"$f":"'000 Condizioni'!E119","v":"041.320"},null,{"$f":"'000 Condizioni'!G119","v":"Verifica di idoneità del modulo FV con il sistema di montaggio"},{"$f":"'000 Condizioni'!H119","v":0}]
[{"$f":"'000 Condizioni'!B120","v":0},null,null,null,{"$f":"'000 Condizioni'!E120","v":"041.330"},null,{"$f":"'000 Condizioni'!G120","v":"Connettori del modulo FV conformi alle normative"},{"$f":"'000 Condizioni'!H120","v":0}]
[{"$f":"'000 Condizioni'!B121","v":1},null,null,{"$f":"'000 Condizioni'!D121","v":"041.400"},null,null,{"$f":"'000 Condizioni'!G121","v":"Costruzione"},{"$f":"'000 Condizioni'!H121","v":0}]
[{"$f":"'000 Condizioni'!B122","v":0},null,null,null,{"$f":"'000 Condizioni'!E122","v":"041.410"},null,{"$f":"'000 Condizioni'!G122","v":"Sospensioni del lavoro a causa delle condizioni meteorologiche"},{"$f":"'000 Condizioni'!H122","v":0}]
[{"$f":"'000 Condizioni'!B123","v":0},null,null,null,{"$f":"'000 Condizioni'!E123","v":"041.420"},null,{"$f":"'000 Condizioni'!G123","v":"Protezione contro la sporcizia dei componenti fino alla messa in funzione"},{"$f":"'000 Condizioni'!H123","v":0}]
[{"$f":"'000 Condizioni'!B124","v":0},null,null,null,{"$f":"'000 Condizioni'!E124","v":"041.430"},null,{"$f":"'000 Condizioni'!G124","v":"Partecipazione alle riunioni di cantiere necessarie"},{"$f":"'000 Condizioni'!H124","v":0}]
[{"$f":"'000 Condizioni'!B125","v":0},null,null,null,{"$f":"'000 Condizioni'!E125","v":"041.440"},null,{"$f":"'000 Condizioni'!G125","v":"Gli eventuali residui dei materiali offerti devono essere inclusi"},{"$f":"'000 Condizioni'!H125","v":0}]
[{"$f":"'000 Condizioni'!B126","v":0},null,null,null,{"$f":"'000 Condizioni'!E126","v":"041.450"},null,{"$f":"'000 Condizioni'!G126","v":"Istruzione unica"},{"$f":"'000 Condizioni'!H126","v":0}]
[{"$f":"'000 Condizioni'!B127","v":0},null,null,{"$f":"'000 Condizioni'!D127","v":"041.500"},null,null,{"$f":"'000 Condizioni'!G127","v":"Altre prestazioni"},{"$f":"'000 Condizioni'!H127","v":0}]
[{"$f":"'000 Condizioni'!B128","v":0},null,null,null,{"$f":"'000 Condizioni'!E128","v":"041.510"},null,{"$f":"'000 Condizioni'!G128","v":"Tasse sui prodotti (p. es. TRA)"},{"$f":"'000 Condizioni'!H128","v":0}]
[{"$f":"'000 Condizioni'!B129","v":1},null,{"$f":"'000 Condizioni'!C129","v":"042.000"},null,null,null,{"$f":"'000 Condizioni'!G129","v":"Valuta"},{"$f":"'000 Condizioni'!H129","v":0}]
[{"$f":"'000 Condizioni'!B130","v":1},null,null,{"$f":"'000 Condizioni'!D130","v":"042.100"},null,null,{"$f":"'000 Condizioni'!G130","v":"Valuta di riferimento"},{"$f":"'000 Condizioni'!H130","v":0}]
[{"$f":"'000 Condizioni'!B131","v":0},null,null,{"$f":"'000 Condizioni'!D131","v":"042.200"},null,null,{"$f":"'000 Condizioni'!G131","v":"Rischio di cambio"},{"$f":"'000 Condizioni'!H131","v":0}]
[{"$f":"'000 Condizioni'!B132","v":1},null,{"$f":"'000 Condizioni'!C132","v":"043.000"},null,null,null,{"$f":"'000 Condizioni'!G132","v":"Deduzioni sulla costruzione"},{"$f":"'000 Condizioni'!H132","v":0}]
[{"$f":"'000 Condizioni'!B133","v":0},null,null,{"$f":"'000 Condizioni'!D133","v":"043.100"},null,null,{"$f":"'000 Condizioni'!G133","v":"Deduzioni generali per spese dell'edificio (acqua, elettricità, pulizia)"},{"$f":"'000 Condizioni'!H133","v":0}]
[{"$f":"'000 Condizioni'!B134","v":0},null,null,{"$f":"'000 Condizioni'!D134","v":"043.200"},null,null,{"$f":"'000 Condizioni'!G134","v":"Promozione"},{"$f":"'000 Condizioni'!H134","v":0}]
[{"$f":"'000 Condizioni'!B135","v":0},null,null,{"$f":"'000 Condizioni'!D135","v":"043.300"},null,null,{"$f":"'000 Condizioni'!G135","v":"Assicurazioni"},{"$f":"'000 Condizioni'!H135","v":0}]
[{"$f":"'000 Condizioni'!B136","v":1},null,{"$f":"'000 Condizioni'!C136","v":0},null,null,null,{"$f":"'000 Condizioni'!G136","v":0},{"$f":"'000 Condizioni'!H136","v":0}]
[{"$f":"'000 Condizioni'!B137","v":1},null,{"$f":"'000 Condizioni'!C137","v":"050.000"},null,null,null,{"$f":"'000 Condizioni'!G137","v":"Informazioni specifiche all'oggetto"},{"$f":"'000 Condizioni'!H137","v":0}]
[{"$f":"'000 Condizioni'!B138","v":1},null,{"$f":"'000 Condizioni'!C138","v":"051.000"},null,null,null,{"$f":"'000 Condizioni'!G138","v":"Dettagli dell'edificio"},{"$f":"'000 Condizioni'!H138","v":0}]
[{"$f":"'000 Condizioni'!B139","v":1},null,null,{"$f":"'000 Condizioni'!D139","v":"051.100"},null,null,{"$f":"'000 Condizioni'!G139","v":"Indirizzo"},{"$f":"'000 Condizioni'!H139","v":0}]
[{"$f":"'000 Condizioni'!B140","v":1},null,null,{"$f":"'000 Condizioni'!D140","v":"051.200"},null,null,{"$f":"'000 Condizioni'!G140","v":"Altitudine del luogo dell'edificio"},{"$f":"'000 Condizioni'!H140","v":0}]
[{"$f":"'000 Condizioni'!B141","v":1},null,null,{"$f":"'000 Condizioni'!D141","v":"051.300"},null,null,{"$f":"'000 Condizioni'!G141","v":"Altezza dell'edificio"},{"$f":"'000 Condizioni'!H141","v":0}]
[{"$f":"'000 Condizioni'!B142","v":0},null,null,{"$f":"'000 Condizioni'!D142","v":"051.400"},null,null,{"$f":"'000 Condizioni'!G142","v":"Dimensioni dell'edificio"},{"$f":"'000 Condizioni'!H142","v":0}]
[{"$f":"'000 Condizioni'!B143","v":1},null,null,{"$f":"'000 Condizioni'!D143","v":"051.500"},null,null,{"$f":"'000 Condizioni'!G143","v":"Struttura del tetto"},{"$f":"'000 Condizioni'!H143","v":0}]
[{"$f":"'000 Condizioni'!B144","v":1},null,null,null,{"$f":"'000 Condizioni'!E144","v":"051.510"},null,{"$f":"'000 Condizioni'!G144","v":"Carico puntuale massimo sul tetto, per tetti piani"},{"$f":"'000 Condizioni'!H144","v":0}]
[{"$f":"'000 Condizioni'!B145","v":1},null,null,{"$f":"'000 Condizioni'!D145","v":"051.600"},null,null,{"$f":"'000 Condizioni'!G145","v":"Inclinazione del tetto"},{"$f":"'000 Condizioni'!H145","v":0}]
[{"$f":"'000 Condizioni'!B146","v":1},null,null,{"$f":"'000 Condizioni'!D146","v":"051.700"},null,null,{"$f":"'000 Condizioni'!G146","v":"Statica dell'edificio"},{"$f":"'000 Condizioni'!H146","v":0}]
[{"$f":"'000 Condizioni'!B147","v":0},null,null,null,{"$f":"'000 Condizioni'!E147","v":"051.710"},null,{"$f":"'000 Condizioni'!G147","v":"Accordo di utilizzo del tetto"},{"$f":"'000 Condizioni'!H147","v":0}]
[{"$f":"'000 Condizioni'!B148","v":1},null,null,null,{"$f":"'000 Condizioni'!E148","v":"051.720"},null,{"$f":"'000 Condizioni'!G148","v":"Indicazione del carico di riserva del tetto"},{"$f":"'000 Condizioni'!H148","v":0}]
[{"$f":"'000 Condizioni'!B149","v":0},null,null,{"$f":"'000 Condizioni'!D149","v":"051.800"},null,null,{"$f":"'000 Condizioni'!G149","v":"Indicazione del carico temporaneo massimo del tetto"},{"$f":"'000 Condizioni'!H149","v":0}]
[{"$f":"'000 Condizioni'!B150","v":1},null,{"$f":"'000 Condizioni'!C150","v":"052.000"},null,null,null,{"$f":"'000 Condizioni'!G150","v":"Entità dei lavori"},{"$f":"'000 Condizioni'!H150","v":0}]
[{"$f":"'000 Condizioni'!B151","v":1},null,null,{"$f":"'000 Condizioni'!D151","v":"052.100"},null,null,{"$f":"'000 Condizioni'!G151","v":"Descrizione impianto FV"},{"$f":"'000 Condizioni'!H151","v":0}]
[{"$f":"'000 Condizioni'!B152","v":1},null,null,{"$f":"'000 Condizioni'!D152","v":"052.200"},null,null,{"$f":"'000 Condizioni'!G152","v":"Descrizione passaggio dei cavi"},{"$f":"'000 Condizioni'!H152","v":0}]
[{"$f":"'000 Condizioni'!B153","v":0},null,null,null,{"$f":"'000 Condizioni'!E153","v":"052.210"},null,{"$f":"'000 Condizioni'!G153","v":"Percorso del cavo all'interno"},{"$f":"'000 Condizioni'!H153","v":0}]
[{"$f":"'000 Condizioni'!B154","v":0},null,null,null,{"$f":"'000 Condizioni'!E154","v":"052.220"},null,{"$f":"'000 Condizioni'!G154","v":"Percorso del cavo all'esterno"},{"$f":"'000 Condizioni'!H154","v":0}]
[{"$f":"'000 Condizioni'!B155","v":1},null,null,{"$f":"'000 Condizioni'!D155","v":"052.300"},null,null,{"$f":"'000 Condizioni'!G155","v":"Descrizione posizione inverter"},{"$f":"'000 Condizioni'!H155","v":0}]
[{"$f":"'000 Condizioni'!B156","v":0},null,null,null,{"$f":"'000 Condizioni'!E156","v":"052.310"},null,{"$f":"'000 Condizioni'!G156","v":"Installazione dell'inverter all'interno"},{"$f":"'000 Condizioni'!H156","v":0}]
[{"$f":"'000 Condizioni'!B157","v":1},null,null,null,{"$f":"'000 Condizioni'!E157","v":"052.320"},null,{"$f":"'000 Condizioni'!G157","v":"Installazione dell'inverter all'esterno"},{"$f":"'000 Condizioni'!H157","v":0}]
[{"$f":"'000 Condizioni'!B158","v":1},null,null,{"$f":"'000 Condizioni'!D158","v":"052.400"},null,null,{"$f":"'000 Condizioni'!G158","v":"Descrizione integrazione nella rete"},{"$f":"'000 Condizioni'!H158","v":0}]
[{"$f":"'000 Condizioni'!B159","v":1},null,null,{"$f":"'000 Condizioni'!D159","v":"052.500"},null,null,{"$f":"'000 Condizioni'!G159","v":"Descrizione del concetto di messa a terra, protezione parafulmini e protezione dalle sovratensioni"},{"$f":"'000 Condizioni'!H159","v":0}]
[{"$f":"'000 Condizioni'!B160","v":1},null,null,null,{"$f":"'000 Condizioni'!E160","v":"052.510"},null,{"$f":"'000 Condizioni'!G160","v":""},{"$f":"'000 Condizioni'!H160","v":0}]
[{"$f":"'000 Condizioni'!B161","v":0},null,null,null,null,{"$f":"'000 Condizioni'!F161","v":"052.511"},{"$f":"'000 Condizioni'!G161","v":"Edificio con parafulmine classe I"},{"$f":"'000 Condizioni'!H161","v":0}]
[{"$f":"'000 Condizioni'!B162","v":0},null,null,null,null,{"$f":"'000 Condizioni'!F162","v":"052.512"},{"$f":"'000 Condizioni'!G162","v":"Edificio con parafulmine classe II"},{"$f":"'000 Condizioni'!H162","v":0}]
[{"$f":"'000 Condizioni'!B163","v":0},null,null,null,null,{"$f":"'000 Condizioni'!F163","v":"052.513"},{"$f":"'000 Condizioni'!G163","v":"Edificio con parafulmine classe III"},{"$f":"'000 Condizioni'!H163","v":0}]
[{"$f":"'000 Condizioni'!B164","v":0},null,null,null,{"$f":"'000 Condizioni'!E164","v":"052.520"},null,{"$f":"'000 Condizioni'!G164","v":""},{"$f":"'000 Condizioni'!H164","v":0}]
[{"$f":"'000 Condizioni'!B165","v":0},null,null,null,{"$f":"'000 Condizioni'!E165","v":"052.530"},null,{"$f":"'000 Condizioni'!G165","v":""},{"$f":"'000 Condizioni'!H165","v":0}]
[{"$f":"'000 Condizioni'!B166","v":1},null,{"$f":"'000 Condizioni'!C166","v":"053.000"},null,null,null,{"$f":"'000 Condizioni'!G166","v":"Infrastruttura"},{"$f":"'000 Condizioni'!H166","v":0}]
[{"$f":"'000 Condizioni'!B167","v":1},null,null,{"$f":"'000 Condizioni'!D167","v":"053.100"},null,null,{"$f":"'000 Condizioni'!G167","v":"Accesso"},{"$f":"'000 Condizioni'!H167","v":0}]
[{"$f":"'000 Condizioni'!B168","v":1},null,null,{"$f":"'000 Condizioni'!D168","v":"053.200"},null,null,{"$f":"'000 Condizioni'!G168","v":"Parcheggi"},{"$f":"'000 Condizioni'!H168","v":0}]
[{"$f":"'000 Condizioni'!B169","v":0},null,null,{"$f":"'000 Condizioni'!D169","v":"053.300"},null,null,{"$f":"'000 Condizioni'!G169","v":"Zone di deposito"},{"$f":"'000 Condizioni'!H169","v":0}]
[{"$f":"'000 Condizioni'!B170","v":1},null,null,{"$f":"'000 Condizioni'!D170","v":"053.400"},null,null,{"$f":"'000 Condizioni'!G170","v":"Possibilità di sollevamento"},{"$f":"'000 Condizioni'!H170","v":0}]
[{"$f":"'000 Condizioni'!B171","v":0},null,null,null,{"$f":"'000 Condizioni'!E171","v":"053.410"},null,{"$f":"'000 Condizioni'!G171","v":"Indicazioni sulla portata del pavimento"},{"$f":"'000 Condizioni'!H171","v":0}]
[{"$f":"'000 Condizioni'!B172","v":0},null,null,{"$f":"'000 Condizioni'!D172","v":"053.500"},null,null,{"$f":"'000 Condizioni'!G172","v":"Allacciamento elettrico"},{"$f":"'000 Condizioni'!H172","v":0}]
[{"$f":"'000 Condizioni'!B173","v":0},null,null,{"$f":"'000 Condizioni'!D173","v":"053.600"},null,null,{"$f":"'000 Condizioni'!G173","v":"Servizi igienici"},{"$f":"'000 Condizioni'!H173","v":0}]
[{"$f":"'000 Condizioni'!B174","v":0},null,null,{"$f":"'000 Condizioni'!D174","v":"053.700"},null,null,{"$f":"'000 Condizioni'!G174","v":"Alloggio"},{"$f":"'000 Condizioni'!H174","v":0}]
[{"$f":"'000 Condizioni'!B175","v":1},null,{"$f":"'000 Condizioni'!C175","v":"054.000"},null,null,null,{"$f":"'000 Condizioni'!G175","v":"Disposizioni particolari di cantiere"},{"$f":"'000 Condizioni'!H175","v":0}]
[{"$f":"'000 Condizioni'!B176","v":0},null,null,{"$f":"'000 Condizioni'!D176","v":"054.100"},null,null,{"$f":"'000 Condizioni'!G176","v":"Orari di lavoro"},{"$f":"'000 Condizioni'!H176","v":0}]
[{"$f":"'000 Condizioni'!B177","v":0},null,null,{"$f":"'000 Condizioni'!D177","v":"054.200"},null,null,{"$f":"'000 Condizioni'!G177","v":"Controlli di accesso"},{"$f":"'000 Condizioni'!H177","v":0}]
[{"$f":"'000 Condizioni'!B178","v":0},null,null,{"$f":"'000 Condizioni'!D178","v":"054.300"},null,null,{"$f":"'000 Condizioni'!G178","v":"Sistema di controllo qualità"},{"$f":"'000 Condizioni'!H178","v":0}]
[{"$f":"'000 Condizioni'!B179","v":1},null,null,{"$f":"'000 Condizioni'!D179","v":"054.400"},null,null,{"$f":"'000 Condizioni'!G179","v":"Rifiuti, smaltimento"},{"$f":"'000 Condizioni'!H179","v":0}]
[{"$f":"'000 Condizioni'!B180","v":0},null,null,{"$f":"'000 Condizioni'!D180","v":"054.500"},null,null,{"$f":"'000 Condizioni'!G180","v":"Costruzione ecologica, codice etico"},{"$f":"'000 Condizioni'!H180","v":0}]
[{"$f":"'000 Condizioni'!B181","v":1},null,{"$f":"'000 Condizioni'!C181","v":"055.000"},null,null,null,{"$f":"'000 Condizioni'!G181","v":"Sicurezza"},{"$f":"'000 Condizioni'!H181","v":0}]
[{"$f":"'000 Condizioni'!B182","v":1},null,null,{"$f":"'000 Condizioni'!D182","v":"055.100"},null,null,{"$f":"'000 Condizioni'!G182","v":"Sicurezza sul lavoro temporanea"},{"$f":"'000 Condizioni'!H182","v":0}]
[{"$f":"'000 Condizioni'!B183","v":1},null,null,null,{"$f":"'000 Condizioni'!E183","v":"055.110"},null,{"$f":"'000 Condizioni'!G183","v":"Parapetto a bordo tetto"},{"$f":"'000 Condizioni'!H183","v":0}]
[{"$f":"'000 Condizioni'!B184","v":0},null,null,null,{"$f":"'000 Condizioni'!E184","v":"055.120"},null,{"$f":"'000 Condizioni'!G184","v":"Ponteggi"},{"$f":"'000 Condizioni'!H184","v":0}]
[{"$f":"'000 Condizioni'!B185","v":0},null,null,null,{"$f":"'000 Condizioni'!E185","v":"055.130"},null,{"$f":"'000 Condizioni'!G185","v":"Recinzioni a zone"},{"$f":"'000 Condizioni'!H185","v":0}]
[{"$f":"'000 Condizioni'!B186","v":0},null,null,null,{"$f":"'000 Condizioni'!E186","v":"055.140"},null,{"$f":"'000 Condizioni'!G186","v":"Protezione dei lucernari"},{"$f":"'000 Condizioni'!H186","v":0}]
[{"$f":"'000 Condizioni'!B187","v":1},null,null,null,{"$f":"'000 Condizioni'!E187","v":"055.150"},null,{"$f":"'000 Condizioni'!G187","v":"Ponteggio a torre"},{"$f":"'000 Condizioni'!H187","v":0}]
[{"$f":"'000 Condizioni'!B188","v":0},null,null,{"$f":"'000 Condizioni'!D188","v":"055.200"},null,null,{"$f":"'000 Condizioni'!G188","v":"Sicurezza sul lavoro permanente"},{"$f":"'000 Condizioni'!H188","v":0}]
[{"$f":"'000 Condizioni'!B189","v":0},null,null,null,{"$f":"'000 Condizioni'!E189","v":"055.210"},null,{"$f":"'000 Condizioni'!G189","v":"Accesso al tetto"},{"$f":"'000 Condizioni'!H189","v":0}]
[{"$f":"'000 Condizioni'!B190","v":0},null,null,null,{"$f":"'000 Condizioni'!E190","v":"055.220"},null,{"$f":"'000 Condizioni'!G190","v":"Concetto di sicurezza sul lavoro"},{"$f":"'000 Condizioni'!H190","v":0}]
[{"$f":"'000 Condizioni'!B191","v":1},null,{"$f":"'000 Condizioni'!C191","v":0},null,null,null,{"$f":"'000 Condizioni'!G191","v":0},{"$f":"'000 Condizioni'!H191","v":0}]
[{"$f":"'000 Condizioni'!B192","v":1},null,{"$f":"'000 Condizioni'!C192","v":"060.000"},null,null,null,{"$f":"'000 Condizioni'!G192","v":"Procedura di costruzione, scadenze"},{"$f":"'000 Condizioni'!H192","v":0}]
[{"$f":"'000 Condizioni'!B193","v":1},null,{"$f":"'000 Condizioni'!C193","v":"061.000"},null,null,null,{"$f":"'000 Condizioni'!G193","v":"Procedura di costruzione"},{"$f":"'000 Condizioni'!H193","v":0}]
[{"$f":"'000 Condizioni'!B194","v":1},null,null,{"$f":"'000 Condizioni'!D194","v":"061.100"},null,null,{"$f":"'000 Condizioni'!G194","v":"Programma lavori"},{"$f":"'000 Condizioni'!H194","v":0}]
[{"$f":"'000 Condizioni'!B195","v":0},null,null,{"$f":"'000 Condizioni'!D195","v":"061.200"},null,null,{"$f":"'000 Condizioni'!G195","v":"Fasi di costruzione (tappe)"},{"$f":"'000 Condizioni'!H195","v":0}]
[{"$f":"'000 Condizioni'!B196","v":1},null,{"$f":"'000 Condizioni'!C196","v":"062.000"},null,null,null,{"$f":"'000 Condizioni'!G196","v":"Date, scadenze"},{"$f":"'000 Condizioni'!H196","v":0}]
[{"$f":"'000 Condizioni'!B197","v":1},null,null,{"$f":"'000 Condizioni'!D197","v":"062.100"},null,null,{"$f":"'000 Condizioni'!G197","v":"Inizio dei lavori"},{"$f":"'000 Condizioni'!H197","v":0}]
[{"$f":"'000 Condizioni'!B198","v":1},null,null,{"$f":"'000 Condizioni'!D198","v":"062.200"},null,null,{"$f":"'000 Condizioni'!G198","v":"Messa in servizio"},{"$f":"'000 Condizioni'!H198","v":0}]
[{"$f":"'000 Condizioni'!B199","v":0},null,null,{"$f":"'000 Condizioni'!D199","v":"062.300"},null,null,{"$f":"'000 Condizioni'!G199","v":"Collaudo"},{"$f":"'000 Condizioni'!H199","v":0}]
[{"$f":"'000 Condizioni'!B200","v":1},null,{"$f":"'000 Condizioni'!C200","v":"063.000"},null,null,null,{"$f":"'000 Condizioni'!G200","v":"Bonus, sanzioni"},{"$f":"'000 Condizioni'!H200","v":0}]
[{"$f":"'000 Condizioni'!B201","v":0},null,null,{"$f":"'000 Condizioni'!D201","v":"063.100"},null,null,{"$f":"'000 Condizioni'!G201","v":"Bonus"},{"$f":"'000 Condizioni'!H201","v":0}]
[{"$f":"'000 Condizioni'!B202","v":1},null,null,{"$f":"'000 Condizioni'!D202","v":"063.200"},null,null,{"$f":"'000 Condizioni'!G202","v":"Sanzioni contrattuali"},{"$f":"'000 Condizioni'!H202","v":0}]
[{"$f":"'000 Condizioni'!B203","v":0},null,null,{"$f":"'000 Condizioni'!D203","v":"063.300"},null,null,{"$f":"'000 Condizioni'!G203","v":"Risoluzione delle divergenze, mediazione"},{"$f":"'000 Condizioni'!H203","v":0}]
[{"$f":"'000 Condizioni'!B204","v":1},null,{"$f":"'000 Condizioni'!C204","v":0},null,null,null,{"$f":"'000 Condizioni'!G204","v":0},{"$f":"'000 Condizioni'!H204","v":0}]
[{"$f":"'000 Condizioni'!B205","v":1},null,{"$f":"'000 Condizioni'!C205","v":"070.000"},null,null,null,{"$f":"'000 Condizioni'!G205","v":"Interfacce, responsabilità (delimitazione delle responsabilità)"},{"$f":"'000 Condizioni'!H205","v":0}]
[{"$f":"'000 Condizioni'!B206","v":1},null,{"$f":"'000 Condizioni'!C206","v":"071.000"},null,null,null,{"$f":"'000 Condizioni'!G206","v":"Delimitazioni in ambito elettrico"},{"$f":"'000 Condizioni'!H206","v":0}]
[{"$f":"'000 Condizioni'!B207","v":0},null,null,{"$f":"'000 Condizioni'!D207","v":"071.100"},null,null,{"$f":"'000 Condizioni'!G207","v":"Fino a e inverter incluso"},{"$f":"'000 Condizioni'!H207","v":0}]
[{"$f":"'000 Condizioni'!B208","v":0},null,null,{"$f":"'000 Condizioni'!D208","v":"071.200"},null,null,{"$f":"'000 Condizioni'!G208","v":"Fino a e con sottodistribuzione solare inclusa"},{"$f":"'000 Condizioni'!H208","v":0}]
[{"$f":"'000 Condizioni'!B209","v":1},null,null,{"$f":"'000 Condizioni'!D209","v":"071.300"},null,null,{"$f":"'000 Condizioni'!G209","v":"Integrazione completa della rete"},{"$f":"'000 Condizioni'!H209","v":0}]
[{"$f":"'000 Condizioni'!B210","v":1},null,null,{"$f":"'000 Condizioni'!D210","v":"071.400"},null,null,{"$f":"'000 Condizioni'!G210","v":"Interfaccia di protezione parafulmini"},{"$f":"'000 Condizioni'!H210","v":0}]
[{"$f":"'000 Condizioni'!B211","v":1},null,{"$f":"'000 Condizioni'!C211","v":"072.000"},null,null,null,{"$f":"'000 Condizioni'!G211","v":"Delimitazioni in ambito meccanico"},{"$f":"'000 Condizioni'!H211","v":0}]
[{"$f":"'000 Condizioni'!B212","v":0},null,{"$f":"'000 Condizioni'!C212","v":"073.000"},null,null,null,{"$f":"'000 Condizioni'!G212","v":"Delimitazioni in ambito amministrativo"},{"$f":"'000 Condizioni'!H212","v":0}]
[{"$f":"'000 Condizioni'!B213","v":1},null,{"$f":"'000 Condizioni'!C213","v":0},null,null,null,{"$f":"'000 Condizioni'!G213","v":0},{"$f":"'000 Condizioni'!H213","v":0}]
[{"$f":"'000 Condizioni'!B214","v":1},null,{"$f":"'000 Condizioni'!C214","v":"080.000"},null,null,null,{"$f":"'000 Condizioni'!G214","v":"Assicurazioni, fatturazione"},{"$f":"'000 Condizioni'!H214","v":0}]
[{"$f":"'000 Condizioni'!B215","v":1},null,{"$f":"'000 Condizioni'!C215","v":"081.000"},null,null,null,{"$f":"'000 Condizioni'!G215","v":"Assicurazioni del cliente"},{"$f":"'000 Condizioni'!H215","v":0}]
[{"$f":"'000 Condizioni'!B216","v":0},null,null,{"$f":"'000 Condizioni'!D216","v":"081.100"},null,null,{"$f":"'000 Condizioni'!G216","v":"Responsabilità civile del committente"},{"$f":"'000 Condizioni'!H216","v":0}]
[{"$f":"'000 Condizioni'!B217","v":1},null,null,{"$f":"'000 Condizioni'!D217","v":"081.200"},null,null,{"$f":"'000 Condizioni'!G217","v":"Assicurazione per i lavori di costruzione"},{"$f":"'000 Condizioni'!H217","v":0}]
[{"$f":"'000 Condizioni'!B218","v":1},null,{"$f":"'000 Condizioni'!C218","v":"082.000"},null,null,null,{"$f":"'000 Condizioni'!G218","v":"Assicurazioni della ditta"},{"$f":"'000 Condizioni'!H218","v":0}]
[{"$f":"'000 Condizioni'!B219","v":0},null,null,{"$f":"'000 Condizioni'!D219","v":"082.100"},null,null,{"$f":"'000 Condizioni'!G219","v":"Assicurazione montaggio "},{"$f":"'000 Condizioni'!H219","v":0}]
[{"$f":"'000 Condizioni'!B220","v":1},null,null,{"$f":"'000 Condizioni'!D220","v":"082.200"},null,null,{"$f":"'000 Condizioni'!G220","v":"Responsabilità civile della ditta"},{"$f":"'000 Condizioni'!H220","v":0}]
[{"$f":"'000 Condizioni'!B221","v":0},null,null,{"$f":"'000 Condizioni'!D221","v":"082.300"},null,null,{"$f":"'000 Condizioni'!G221","v":"Responsabilità civile per il montaggio"},{"$f":"'000 Condizioni'!H221","v":0}]
[{"$f":"'000 Condizioni'!B222","v":1},null,{"$f":"'000 Condizioni'!C222","v":"083.000"},null,null,null,{"$f":"'000 Condizioni'!G222","v":"Fatturazione"},{"$f":"'000 Condizioni'!H222","v":0}]
[{"$f":"'000 Condizioni'!B223","v":1},null,null,{"$f":"'000 Condizioni'!D223","v":"083.100"},null,null,{"$f":"'000 Condizioni'!G223","v":"Programma di pagamento"},{"$f":"'000 Condizioni'!H223","v":0}]
[{"$f":"'000 Condizioni'!B224","v":0},null,null,{"$f":"'000 Condizioni'!D224","v":"083.200"},null,null,{"$f":"'000 Condizioni'!G224","v":"Termini di pagamento"},{"$f":"'000 Condizioni'!H224","v":0}]
[{"$f":"'000 Condizioni'!B225","v":0},null,{"$f":"'000 Condizioni'!C225","v":"084.000"},null,null,null,{"$f":"'000 Condizioni'!G225","v":"Lavori a regia"},{"$f":"'000 Condizioni'!H225","v":0}]
[{"$f":"'000 Condizioni'!B226","v":0},null,null,{"$f":"'000 Condizioni'!D226","v":"084.100"},null,null,{"$f":"'000 Condizioni'!G226","v":"Condizioni per lavori a regia"},{"$f":"'000 Condizioni'!H226","v":0}]
[{"$f":"'000 Condizioni'!B227","v":0},null,{"$f":"'000 Condizioni'!C227","v":0},null,null,null,{"$f":"'000 Condizioni'!G227","v":0},{"$f":"'000 Condizioni'!H227","v":0}]
[1,null,null,null,null,null,"Totale parziale"]
[1]
[1,null,"100.000",null,null,null,"Moduli FV",null,null,null,{"$f":"J233*I233","v":0}]
[1,null,null,null,null,null,null,null,null,null,0]
[{"$f":"'100 Moduli FV'!B6","v":1},{"$f":"'100 Moduli FV'!C6","v":0},{"$f":"'100 Moduli FV'!D6","v":"110.000"},null,null,null,{"$f":"'100 Moduli FV'!E6","v":"Vetro/foglio con cornice, per impianto annesso"},{"$f":"'100 Moduli FV'!F6","v":""},null,null,0]
[{"$f":"'100 Moduli FV'!B7","v":2},{"$f":"'100 Moduli FV'!C7","v":1},{"$f":"'100 Moduli FV'!D7","v":"111.000"},null,null,null,{"$f":"'100 Moduli FV'!E7","v":"Dimensioni standard (1 - 2m2), < 25 kg\nCaratteristiche: \nCornice color argento\nBacksheet bianco\nBacksheet bianco"},{"$f":"'100 Moduli FV'!F7","v":"pz."},null,null,{"$f":"J236*I236","v":0}]
[{"$f":"'100 Moduli FV'!B8","v":1},{"$f":"'100 Moduli FV'!C8","v":1},{"$f":"'100 Moduli FV'!D8","v":"112.000"},null,null,null,{"$f":"'100 Moduli FV'!E8","v":"Dimensioni standard (1 - 2m2), > 25 kg\nCaratteristiche: \nCornice nero\nBacksheet nero\nBusbars coperte"},{"$f":"'100 Moduli FV'!F8","v":"pz."},null,null,{"$f":"J237*I237","v":0}]
[{"$f":"'100 Moduli FV'!B9","v":0},{"$f":"'100 Moduli FV'!C9","v":0},{"$f":"'100 Moduli FV'!D9","v":"113.000"},null,null,null,{"$f":"'100 Moduli FV'!E9","v":"Formato superiore (> 2 m2) < 25 kg"},{"$f":"'100 Moduli FV'!F9","v":""},null,null,0]
[{"$f":"'100 Moduli FV'!B10","v":0},{"$f":"'100 Moduli FV'!C10","v":0},{"$f":"'100 Moduli FV'!D10","v":"114.000"},null,null,null,{"$f":"'100 Moduli FV'!E10","v":"Formato superiore (> 2 m2) > 25 kg"},{"$f":"'100 Moduli FV'!F10","v":""},null,null,0]
[{"$f":"'100 Moduli FV'!B11","v":0},{"$f":"'100 Moduli FV'!C11","v":0},{"$f":"'100 Moduli FV'!D11","v":"115.000"},null,null,null,{"$f":"'100 Moduli FV'!E11","v":"Tegole FV (< 1 m2); < 25 kg"},{"$f":"'100 Moduli FV'!F11","v":""},null,null,0]
[{"$f":"'100 Moduli FV'!B12","v":0},{"$f":"'100 Moduli FV'!C12","v":0},{"$f":"'100 Moduli FV'!D12","v":"116.000"},null,null,null,{"$f":"'100 Moduli FV'!E12","v":"Tegole FV (< 1 m2); > 25 kg"},{"$f":"'100 Moduli FV'!F12","v":""},null,null,0]
[{"$f":"'100 Moduli FV'!B13","v":1},{"$f":"'100 Moduli FV'!C13","v":0},{"$f":"'100 Moduli FV'!D13","v":0},null,null,null,{"$f":"'100 Moduli FV'!E13","v":0},{"$f":"'100 Moduli FV'!F13","v":""},null,null,0]
[{"$f":"'100 Moduli FV'!B14","v":0},{"$f":"'100 Moduli FV'!C14","v":0},{"$f":"'100 Moduli FV'!D14","v":"120.000"},null,null,null,{"$f":"'100 Moduli FV'!E14","v":"Vetro/foglio senza cornice, per impianto annesso"},{"$f":"'100 Moduli FV'!F14","v":""},null,null,0]
[{"$f":"'100 Moduli FV'!B15","v":0},{"$f":"'100 Moduli FV'!C15","v":0},{"$f":"'100 Moduli FV'!D15","v":"121.000"},null,null,null,{"$f":"'100 Moduli FV'!E15","v":"Dimensioni standard (1 - 2m2), < 25 kg"},{"$f":"'100 Moduli FV'!F15","v":""},null,null,0]
[{"$f":"'100 Moduli FV'!B16","v":0},{"$f":"'100 Moduli FV'!C16","v":0},{"$f":"'100 Moduli FV'!D16","v":"122.000"},null,null,null,{"$f":"'100 Moduli FV'!E16","v":"Dimensioni standard (1 - 2m2), > 25 kg"},{"$f":"'100 Moduli FV'!F16","v":""},null,null,0]
[{"$f":"'100 Moduli FV'!B17","v":0},{"$f":"'100 Moduli FV'!C17","v":0},{"$f":"'100 Moduli FV'!D17","v":"123.000"},null,null,null,{"$f":"'100 Moduli FV'!E17","v":"Formato superiore (> 2 m2) < 25 kg"},{"$f":"'100 Moduli FV'!F17","v":""},null,null,0]
[{"$f":"'100 Moduli FV'!B18","v":0},{"$f":"'100 Moduli FV'!C18","v":0},{"$f":"'100 Moduli FV'!D18","v":"124.000"},null,null,null,{"$f":"'100 Moduli FV'!E18","v":"Formato superiore (> 2 m2) > 25 kg"},{"$f":"'100 Moduli FV'!F18","v":""},null,null,0]
[{"$f":"'100 Moduli FV'!B19","v":0},{"$f":"'100 Moduli FV'!C19","v":0},{"$f":"'100 Moduli FV'!D19","v":"125.000"},null,null,null,{"$f":"'100 Moduli FV'!E19","v":"Tegole FV (< 1 m2); < 25 kg"},{"$f":"'100 Moduli FV'!F19","v":""},null,null,0]
[{"$f":"'100 Moduli FV'!B20","v":0},{"$f":"'100 Moduli FV'!C20","v":0},{"$f":"'100 Moduli FV'!D20","v":"126.000"},null,null,null,{"$f":"'100 Moduli FV'!E20","v":"Tegole FV (< 1 m2); > 25 kg"},{"$f":"'100 Moduli FV'!F20","v":""},null,null,0]
[{"$f":"'100 Moduli FV'!B21","v":0},{"$f":"'100 Moduli FV'!C21","v":0},{"$f":"'100 Moduli FV'!D21","v":0},null,null,null,{"$f":"'100 Moduli FV'!E21","v":0},{"$f":"'100 Moduli FV'!F21","v":""},null,null,0]
[{"$f":"'100 Moduli FV'!B22","v":0},{"$f":"'100 Moduli FV'!C22","v":0},{"$f":"'100 Moduli FV'!D22","v":"130.000"},null,null,null,{"$f":"'100 Moduli FV'!E22","v":"Vetro/vetro con cornice, per impianto annesso"},{"$f":"'100 Moduli FV'!F22","v":""},null,null,0]
[{"$f":"'100 Moduli FV'!B23","v":0},{"$f":"'100 Moduli FV'!C23","v":0},{"$f":"'100 Moduli FV'!D23","v":"131.000"},null,null,null,{"$f":"'100 Moduli FV'!E23","v":"Dimensioni standard (1 - 2m2), < 25 kg"},{"$f":"'100 Moduli FV'!F23","v":""},null,null,0]
[{"$f":"'100 Moduli FV'!B24","v":0},{"$f":"'100 Moduli FV'!C24","v":0},{"$f":"'100 Moduli FV'!D24","v":"132.000"},null,null,null,{"$f":"'100 Moduli FV'!E24","v":"Dimensioni standard (1 - 2m2), > 25 kg"},{"$f":"'100 Moduli FV'!F24","v":""},null,null,0]
[{"$f":"'100 Moduli FV'!B25","v":0},{"$f":"'100 Moduli FV'!C25","v":0},{"$f":"'100 Moduli FV'!D25","v":"133.000"},null,null,null,{"$f":"'100 Moduli FV'!E25","v":"Formato superiore (> 2 m2) < 25 kg"},{"$f":"'100 Moduli FV'!F25","v":""},null,null,0]
[{"$f":"'100 Moduli FV'!B26","v":0},{"$f":"'100 Moduli FV'!C26","v":0},{"$f":"'100 Moduli FV'!D26","v":"134.000"},null,null,null,{"$f":"'100 Moduli FV'!E26","v":"Formato superiore (> 2 m2) > 25 kg"},{"$f":"'100 Moduli FV'!F26","v":""},null,null,0]
[{"$f":"'100 Moduli FV'!B27","v":0},{"$f":"'100 Moduli FV'!C27","v":0},{"$f":"'100 Moduli FV'!D27","v":"135.000"},null,null,null,{"$f":"'100 Moduli FV'!E27","v":"Tegole FV (< 1 m2); < 25 kg"},{"$f":"'100 Moduli FV'!F27","v":""},null,null,0]
[{"$f":"'100 Moduli FV'!B28","v":0},{"$f":"'100 Moduli FV'!C28","v":0},{"$f":"'100 Moduli FV'!D28","v":"136.000"},null,null,null,{"$f":"'100 Moduli FV'!E28","v":"Tegole FV (< 1 m2); > 25 kg"},{"$f":"'100 Moduli FV'!F28","v":""},null,null,0]
[{"$f":"'100 Moduli FV'!B29","v":0},{"$f":"'100 Moduli FV'!C29","v":0},{"$f":"'100 Moduli FV'!D29","v":0},null,null,null,{"$f":"'100 Moduli FV'!E29","v":0},{"$f":"'100 Moduli FV'!F29","v":""},null,null,0]
[{"$f":"'100 Moduli FV'!B30","v":0},{"$f":"'100 Moduli FV'!C30","v":0},{"$f":"'100 Moduli FV'!D30","v":"140.000"},null,null,null,{"$f":"'100 Moduli FV'!E30","v":"Vetro/vetro senza cornice, per impianto annesso"},{"$f":"'100 Moduli FV'!F30","v":""},null,null,0]
[{"$f":"'100 Moduli FV'!B31","v":0},{"$f":"'100 Moduli FV'!C31","v":0},{"$f":"'100 Moduli FV'!D31","v":"141.000"},null,null,null,{"$f":"'100 Moduli FV'!E31","v":"Dimensioni standard (1 - 2m2), < 25 kg"},{"$f":"'100 Moduli FV'!F31","v":""},null,null,0]
[{"$f":"'100 Moduli FV'!B32","v":0},{"$f":"'100 Moduli FV'!C32","v":0},{"$f":"'100 Moduli FV'!D32","v":"142.000"},null,null,null,{"$f":"'100 Moduli FV'!E32","v":"Dimensioni standard (1 - 2m2), > 25 kg"},{"$f":"'100 Moduli FV'!F32","v":""},null,null,0]
[{"$f":"'100 Moduli FV'!B33","v":0},{"$f":"'100 Moduli FV'!C33","v":0},{"$f":"'100 Moduli FV'!D33","v":"143.000"},null,null,null,{"$f":"'100 Moduli FV'!E33","v":"Formato superiore (> 2 m2) < 25 kg"},{"$f":"'100 Moduli FV'!F33","v":""},null,null,0]
[{"$f":"'100 Moduli FV'!B34","v":0},{"$f":"'100 Moduli FV'!C34","v":0},{"$f":"'100 Moduli FV'!D34","v":"144.000"},null,null,null,{"$f":"'100 Moduli FV'!E34","v":"Formato superiore (> 2 m2) > 25 kg"},{"$f":"'100 Moduli FV'!F34","v":""},null,null,0]
[{"$f":"'100 Moduli FV'!B35","v":0},{"$f":"'100 Moduli FV'!C35","v":0},{"$f":"'100 Moduli FV'!D35","v":"145.000"},null,null,null,{"$f":"'100 Moduli FV'!E35","v":"Tegole FV (< 1 m2); < 25 kg"},{"$f":"'100 Moduli FV'!F35","v":""},null,null,0]
[{"$f":"'100 Moduli FV'!B36","v":0},{"$f":"'100 Moduli FV'!C36","v":0},{"$f":"'100 Moduli FV'!D36","v":"146.000"},null,null,null,{"$f":"'100 Moduli FV'!E36","v":"Tegole FV (< 1 m2); > 25 kg"},{"$f":"'100 Moduli FV'!F36","v":""},null,null,0]
[{"$f":"'100 Moduli FV'!B37","v":0},{"$f":"'100 Moduli FV'!C37","v":0},{"$f":"'100 Moduli FV'!D37","v":0},null,null,null,{"$f":"'100 Moduli FV'!E37","v":0},{"$f":"'100 Moduli FV'!F37","v":""},null,null,0]
[{"$f":"'100 Moduli FV'!B38","v":0},{"$f":"'100 Moduli FV'!C38","v":0},{"$f":"'100 Moduli FV'!D38","v":"150.000"},null,null,null,{"$f":"'100 Moduli FV'!E38","v":"Vetro/foglio con cornice, per impianto integrato"},{"$f":"'100 Moduli FV'!F38","v":""},null,null,0]
[{"$f":"'100 Moduli FV'!B39","v":0},{"$f":"'100 Moduli FV'!C39","v":0},{"$f":"'100 Moduli FV'!D39","v":"151.000"},null,null,null,{"$f":"'100 Moduli FV'!E39","v":"Dimensioni standard (1 - 2m2), < 25 kg"},{"$f":"'100 Moduli FV'!F39","v":""},null,null,0]
[{"$f":"'100 Moduli FV'!B40","v":0},{"$f":"'100 Moduli FV'!C40","v":0},{"$f":"'100 Moduli FV'!D40","v":"152.000"},null,null,null,{"$f":"'100 Moduli FV'!E40","v":"Dimensioni standard (1 - 2m2), > 25 kg"},{"$f":"'100 Moduli FV'!F40","v":""},null,null,0]
[{"$f":"'100 Moduli FV'!B41","v":0},{"$f":"'100 Moduli FV'!C41","v":0},{"$f":"'100 Moduli FV'!D41","v":"153.000"},null,null,null,{"$f":"'100 Moduli FV'!E41","v":"Formato superiore (> 2 m2) < 25 kg"},{"$f":"'100 Moduli FV'!F41","v":""},null,null,0]
[{"$f":"'100 Moduli FV'!B42","v":0},{"$f":"'100 Moduli FV'!C42","v":0},{"$f":"'100 Moduli FV'!D42","v":"154.000"},null,null,null,{"$f":"'100 Moduli FV'!E42","v":"Formato superiore (> 2 m2) > 25 kg"},{"$f":"'100 Moduli FV'!F42","v":""},null,null,0]
[{"$f":"'100 Moduli FV'!B43","v":0},{"$f":"'100 Moduli FV'!C43","v":0},{"$f":"'100 Moduli FV'!D43","v":"155.000"},null,null,null,{"$f":"'100 Moduli FV'!E43","v":"Tegole FV (< 1 m2); < 25 kg"},{"$f":"'100 Moduli FV'!F43","v":""},null,null,0]
[{"$f":"'100 Moduli FV'!B44","v":0},{"$f":"'100 Moduli FV'!C44","v":0},{"$f":"'100 Moduli FV'!D44","v":"156.000"},null,null,null,{"$f":"'100 Moduli FV'!E44","v":"Tegole FV (< 1 m2); > 25 kg"},{"$f":"'100 Moduli FV'!F44","v":""},null,null,0]
[{"$f":"'100 Moduli FV'!B45","v":0},{"$f":"'100 Moduli FV'!C45","v":0},{"$f":"'100 Moduli FV'!D45","v":0},null,null,null,{"$f":"'100 Moduli FV'!E45","v":0},{"$f":"'100 Moduli FV'!F45","v":""},null,null,0]
[{"$f":"'100 Moduli FV'!B46","v":0},{"$f":"'100 Moduli FV'!C46","v":0},{"$f":"'100 Moduli FV'!D46","v":"160.000"},null,null,null,{"$f":"'100 Moduli FV'!E46","v":"Vetro/foglio senza cornice, per impianto integrato"},{"$f":"'100 Moduli FV'!F46","v":""},null,null,0]
[{"$f":"'100 Moduli FV'!B47","v":0},{"$f":"'100 Moduli FV'!C47","v":0},{"$f":"'100 Moduli FV'!D47","v":"161.000"},null,null,null,{"$f":"'100 Moduli FV'!E47","v":"Dimensioni standard (1 - 2m2), < 25 kg"},{"$f":"'100 Moduli FV'!F47","v":""},null,null,0]
[{"$f":"'100 Moduli FV'!B48","v":0},{"$f":"'100 Moduli FV'!C48","v":0},{"$f":"'100 Moduli FV'!D48","v":"162.000"},null,null,null,{"$f":"'100 Moduli FV'!E48","v":"Dimensioni standard (1 - 2m2), > 25 kg"},{"$f":"'100 Moduli FV'!F48","v":""},null,null,0]
[{"$f":"'100 Moduli FV'!B49","v":0},{"$f":"'100 Moduli FV'!C49","v":0},{"$f":"'100 Moduli FV'!D49","v":"163.000"},null,null,null,{"$f":"'100 Moduli FV'!E49","v":"Formato superiore (> 2 m2) < 25 kg"},{"$f":"'100 Moduli FV'!F49","v":""},null,null,0]
[{"$f":"'100 Moduli FV'!B50","v":0},{"$f":"'100 Moduli FV'!C50","v":0},{"$f":"'100 Moduli FV'!D50","v":"164.000"},null,null,null,{"$f":"'100 Moduli FV'!E50","v":"Formato superiore (> 2 m2) > 25 kg"},{"$f":"'100 Moduli FV'!F50","v":""},null,null,0]
[{"$f":"'100 Moduli FV'!B51","v":0},{"$f":"'100 Moduli FV'!C51","v":0},{"$f":"'100 Moduli FV'!D51","v":165},null,null,null,{"$f":"'100 Moduli FV'!E51","v":"Tegole FV (< 1 m2); < 25 kg"},{"$f":"'100 Moduli FV'!F51","v":""},null,null,0]
[{"$f":"'100 Moduli FV'!B52","v":0},{"$f":"'100 Moduli FV'!C52","v":0},{"$f":"'100 Moduli FV'!D52","v":"166.000"},null,null,null,{"$f":"'100 Moduli FV'!E52","v":"Tegole FV (< 1 m2); > 25 kg"},{"$f":"'100 Moduli FV'!F52","v":""},null,null,0]
[{"$f":"'100 Moduli FV'!B53","v":0},{"$f":"'100 Moduli FV'!C53","v":0},{"$f":"'100 Moduli FV'!D53","v":0},null,null,null,{"$f":"'100 Moduli FV'!E53","v":0},{"$f":"'100 Moduli FV'!F53","v":""},null,null,0]
[{"$f":"'100 Moduli FV'!B54","v":0},{"$f":"'100 Moduli FV'!C54","v":0},{"$f":"'100 Moduli FV'!D54","v":"170.000"},null,null,null,{"$f":"'100 Moduli FV'!E54","v":"Vetro/vetro con cornice, per impianto integrato"},{"$f":"'100 Moduli FV'!F54","v":""},null,null,0]
[{"$f":"'100 Moduli FV'!B55","v":0},{"$f":"'100 Moduli FV'!C55","v":0},{"$f":"'100 Moduli FV'!D55","v":"171.000"},null,null,null,{"$f":"'100 Moduli FV'!E55","v":"Dimensioni standard (1 - 2m2), < 25 kg"},{"$f":"'100 Moduli FV'!F55","v":""},null,null,0]
[{"$f":"'100 Moduli FV'!B56","v":0},{"$f":"'100 Moduli FV'!C56","v":0},{"$f":"'100 Moduli FV'!D56","v":"172.000"},null,null,null,{"$f":"'100 Moduli FV'!E56","v":"Dimensioni standard (1 - 2m2), > 25 kg"},{"$f":"'100 Moduli FV'!F56","v":""},null,null,0]
[{"$f":"'100 Moduli FV'!B57","v":0},{"$f":"'100 Moduli FV'!C57","v":0},{"$f":"'100 Moduli FV'!D57","v":"173.000"},null,null,null,{"$f":"'100 Moduli FV'!E57","v":"Formato superiore (> 2 m2) < 25 kg"},{"$f":"'100 Moduli FV'!F57","v":""},null,null,0]
[{"$f":"'100 Moduli FV'!B58","v":0},{"$f":"'100 Moduli FV'!C58","v":0},{"$f":"'100 Moduli FV'!D58","v":"174.000"},null,null,null,{"$f":"'100 Moduli FV'!E58","v":"Formato superiore (> 2 m2) > 25 kg"},{"$f":"'100 Moduli FV'!F58","v":""},null,null,0]
[{"$f":"'100 Moduli FV'!B59","v":0},{"$f":"'100 Moduli FV'!C59","v":0},{"$f":"'100 Moduli FV'!D59","v":"175.000"},null,null,null,{"$f":"'100 Moduli FV'!E59","v":"Tegole FV (< 1 m2); < 25 kg"},{"$f":"'100 Moduli FV'!F59","v":""},null,null,0]
[{"$f":"'100 Moduli FV'!B60","v":0},{"$f":"'100 Moduli FV'!C60","v":0},{"$f":"'100 Moduli FV'!D60","v":"176.000"},null,null,null,{"$f":"'100 Moduli FV'!E60","v":"Tegole FV (< 1 m2); > 25 kg"},{"$f":"'100 Moduli FV'!F60","v":""},null,null,0]
[{"$f":"'100 Moduli FV'!B61","v":0},{"$f":"'100 Moduli FV'!C61","v":0},{"$f":"'100 Moduli FV'!D61","v":0},null,null,null,{"$f":"'100 Moduli FV'!E61","v":0},{"$f":"'100 Moduli FV'!F61","v":""},null,null,0]
[{"$f":"'100 Moduli FV'!B62","v":1},{"$f":"'100 Moduli FV'!C62","v":0},{"$f":"'100 Moduli FV'!D62","v":"180.000"},null,null,null,{"$f":"'100 Moduli FV'!E62","v":"Vetro/vetro senza cornice, per impianto integrato"},{"$f":"'100 Moduli FV'!F62","v":""},null,null,0]
[{"$f":"'100 Moduli FV'!B63","v":1},{"$f":"'100 Moduli FV'!C63","v":1},{"$f":"'100 Moduli FV'!D63","v":"181.000"},null,null,null,{"$f":"'100 Moduli FV'!E63","v":"Dimensioni standard (1 - 2m2), < 25 kg"},{"$f":"'100 Moduli FV'!F63","v":"pz."},null,null,0]
[{"$f":"'100 Moduli FV'!B64","v":0},{"$f":"'100 Moduli FV'!C64","v":0},{"$f":"'100 Moduli FV'!D64","v":"182.000"},null,null,null,{"$f":"'100 Moduli FV'!E64","v":"Dimensioni standard (1 - 2m2), > 25 kg"},{"$f":"'100 Moduli FV'!F64","v":""},null,null,0]
[{"$f":"'100 Moduli FV'!B65","v":0},{"$f":"'100 Moduli FV'!C65","v":0},{"$f":"'100 Moduli FV'!D65","v":"183.000"},null,null,null,{"$f":"'100 Moduli FV'!E65","v":"Formato superiore (> 2 m2) < 25 kg"},{"$f":"'100 Moduli FV'!F65","v":""},null,null,0]
[{"$f":"'100 Moduli FV'!B66","v":0},{"$f":"'100 Moduli FV'!C66","v":0},{"$f":"'100 Moduli FV'!D66","v":"184.000"},null,null,null,{"$f":"'100 Moduli FV'!E66","v":"Formato superiore (> 2 m2) > 25 kg"},{"$f":"'100 Moduli FV'!F66","v":""},null,null,0]
[{"$f":"'100 Moduli FV'!B67","v":0},{"$f":"'100 Moduli FV'!C67","v":0},{"$f":"'100 Moduli FV'!D67","v":"185.000"},null,null,null,{"$f":"'100 Moduli FV'!E67","v":"Tegole FV (< 1 m2); < 25 kg"},{"$f":"'100 Moduli FV'!F67","v":""},null,null,0]
[{"$f":"'100 Moduli FV'!B68","v":0},{"$f":"'100 Moduli FV'!C68","v":0},{"$f":"'100 Moduli FV'!D68","v":"186.000"},null,null,null,{"$f":"'100 Moduli FV'!E68","v":"Tegole FV (< 1 m2); > 25 kg"},{"$f":"'100 Moduli FV'!F68","v":""},null,null,0]
[{"$f":"'100 Moduli FV'!B69","v":1},{"$f":"'100 Moduli FV'!C69","v":0},{"$f":"'100 Moduli FV'!D69","v":0},null,null,null,{"$f":"'100 Moduli FV'!E69","v":0},{"$f":"'100 Moduli FV'!F69","v":""},null,null,0]
[{"$f":"'100 Moduli FV'!B70","v":0},{"$f":"'100 Moduli FV'!C70","v":0},{"$f":"'100 Moduli FV'!D70","v":"190.000"},null,null,null,{"$f":"'100 Moduli FV'!E70","v":"Moduli speciali"},{"$f":"'100 Moduli FV'!F70","v":""},null,null,0]
[{"$f":"'100 Moduli FV'!B71","v":0},{"$f":"'100 Moduli FV'!C71","v":0},{"$f":"'100 Moduli FV'!D71","v":"191.000"},null,null,null,{"$f":"'100 Moduli FV'!E71","v":"Vetro ricurvo"},{"$f":"'100 Moduli FV'!F71","v":""},null,null,0]
[{"$f":"'100 Moduli FV'!B72","v":0},{"$f":"'100 Moduli FV'!C72","v":0},{"$f":"'100 Moduli FV'!D72","v":"192.000"},null,null,null,{"$f":"'100 Moduli FV'!E72","v":"Plexiglas"},{"$f":"'100 Moduli FV'!F72","v":""},null,null,{"$f":"J301*I301","v":0}]
[{"$f":"'100 Moduli FV'!B73","v":0},{"$f":"'100 Moduli FV'!C73","v":0},{"$f":"'100 Moduli FV'!D73","v":"193.000"},null,null,null,{"$f":"'100 Moduli FV'!E73","v":"Foglio flessibile"},{"$f":"'100 Moduli FV'!F73","v":""},null,null,0]
[{"$f":"'100 Moduli FV'!B74","v":0},{"$f":"'100 Moduli FV'!C74","v":0},{"$f":"'100 Moduli FV'!D74","v":"194.000"},null,null,null,{"$f":"'100 Moduli FV'!E74","v":"Moduli ciechi con cornice"},{"$f":"'100 Moduli FV'!F74","v":""},null,null,0]
[{"$f":"'100 Moduli FV'!B75","v":0},{"$f":"'100 Moduli FV'!C75","v":0},{"$f":"'100 Moduli FV'!D75","v":"195.000"},null,null,null,{"$f":"'100 Moduli FV'!E75","v":"Moduli ciechi per la posa di laminati"},{"$f":"'100 Moduli FV'!F75","v":""},null,null,0]
[{"$f":"'100 Moduli FV'!B76","v":0},{"$f":"'100 Moduli FV'!C76","v":0},{"$f":"'100 Moduli FV'!D76","v":"196.000"},null,null,null,{"$f":"'100 Moduli FV'!E76","v":"Moduli ciechi per facciate"},{"$f":"'100 Moduli FV'!F76","v":""},null,null,0]
[{"$f":"'100 Moduli FV'!B77","v":0},{"$f":"'100 Moduli FV'!C77","v":0},{"$f":"'100 Moduli FV'!D77","v":"197.000"},null,null,null,{"$f":"'100 Moduli FV'!E77","v":"Moduli ibridi PVT"},{"$f":"'100 Moduli FV'!F77","v":""},null,null,0]
[{"$f":"'100 Moduli FV'!B78","v":0},{"$f":"'100 Moduli FV'!A78","v":0},{"$f":"'100 Moduli FV'!D78","v":0},null,null,null,{"$f":"'100 Moduli FV'!E78","v":0},{"$f":"'100 Moduli FV'!F78","v":0},null,null,0]
[1,1,null,null,null,null,"Totale parziale Moduli FV",null,null,null,{"$f":"SUM(K233:K307)","v":0}]
[1]
[1,null,"200.000",null,null,null,"Sistema di montaggio FV"]
[1]
[{"$f":"'200 Sist. mont. FV'!B6","v":0},{"$f":"'200 Sist. mont. FV'!C6","v":0},{"$f":"'200 Sist. mont. FV'!D6","v":"210.000"},null,null,null,{"$f":"'200 Sist. mont. FV'!E6","v":"Tetto a falda, impianto annesso, complanare al tetto"},{"$f":"'200 Sist. mont. FV'!F6","v":""}]
[{"$f":"'200 Sist. mont. FV'!B7","v":0},{"$f":"'200 Sist. mont. FV'!C7","v":0},{"$f":"'200 Sist. mont. FV'!D7","v":"211.000"},null,null,null,{"$f":"'200 Sist. mont. FV'!E7","v":"Tegole, fissaggio alle travi"},{"$f":"'200 Sist. mont. FV'!F7","v":""}]
[{"$f":"'200 Sist. mont. FV'!B8","v":0},{"$f":"'200 Sist. mont. FV'!C8","v":0},{"$f":"'200 Sist. mont. FV'!D8","v":"212.000"},null,null,null,{"$f":"'200 Sist. mont. FV'!E8","v":"Tegole piane (p.es. embrice), fissaggio alle travi"},{"$f":"'200 Sist. mont. FV'!F8","v":""}]
[{"$f":"'200 Sist. mont. FV'!B9","v":0},{"$f":"'200 Sist. mont. FV'!C9","v":0},{"$f":"'200 Sist. mont. FV'!D9","v":"213.000"},null,null,null,{"$f":"'200 Sist. mont. FV'!E9","v":"Lastre, fissaggio alle travi attraverso il rivestimento del tetto\nCaratteristiche: \n"},{"$f":"'200 Sist. mont. FV'!F9","v":""}]
[{"$f":"'200 Sist. mont. FV'!B10","v":0},{"$f":"'200 Sist. mont. FV'!C10","v":0},{"$f":"'200 Sist. mont. FV'!D10","v":"214.000"},null,null,null,{"$f":"'200 Sist. mont. FV'!E10","v":"Lastre di grandi dimensioni ondulate o profilate, fissaggio agli arcarecci attraverso il rivestimento del tetto (p.es. eternit ondulato)"},{"$f":"'200 Sist. mont. FV'!F10","v":""}]
[{"$f":"'200 Sist. mont. FV'!B11","v":0},{"$f":"'200 Sist. mont. FV'!C11","v":0},{"$f":"'200 Sist. mont. FV'!D11","v":"215.000"},null,null,null,{"$f":"'200 Sist. mont. FV'!E11","v":"Lastre di grandi dimensioni ondulate o profilate, fissaggio al rivestimento del tetto (p. es. lamiera trapezoidale)"},{"$f":"'200 Sist. mont. FV'!F11","v":""}]
[{"$f":"'200 Sist. mont. FV'!B12","v":0},{"$f":"'200 Sist. mont. FV'!C12","v":0},{"$f":"'200 Sist. mont. FV'!D12","v":"216.000"},null,null,null,{"$f":"'200 Sist. mont. FV'!E12","v":"Lamiera aggraffata, fissaggio al rivestimento del tetto"},{"$f":"'200 Sist. mont. FV'!F12","v":""}]
[{"$f":"'200 Sist. mont. FV'!B13","v":0},{"$f":"'200 Sist. mont. FV'!C13","v":0},{"$f":"'200 Sist. mont. FV'!D13","v":"217.000"},null,null,null,{"$f":"'200 Sist. mont. FV'!E13","v":"Altro"},{"$f":"'200 Sist. mont. FV'!F13","v":""}]
[{"$f":"'200 Sist. mont. FV'!B14","v":0},{"$f":"'200 Sist. mont. FV'!C14","v":0},{"$f":"'200 Sist. mont. FV'!D14","v":0},null,null,null,{"$f":"'200 Sist. mont. FV'!E14","v":0},{"$f":"'200 Sist. mont. FV'!F14","v":""}]
[{"$f":"'200 Sist. mont. FV'!B15","v":0},{"$f":"'200 Sist. mont. FV'!C15","v":0},{"$f":"'200 Sist. mont. FV'!D15","v":"220.000"},null,null,null,{"$f":"'200 Sist. mont. FV'!E15","v":"Tetto a falda, impianto integrato, complanare al tetto"},{"$f":"'200 Sist. mont. FV'!F15","v":""}]
[{"$f":"'200 Sist. mont. FV'!B16","v":0},{"$f":"'200 Sist. mont. FV'!C16","v":0},{"$f":"'200 Sist. mont. FV'!D16","v":"221.000"},null,null,null,{"$f":"'200 Sist. mont. FV'!E16","v":"Fissaggio alla controlistonatura"},{"$f":"'200 Sist. mont. FV'!F16","v":""}]
[{"$f":"'200 Sist. mont. FV'!B17","v":0},{"$f":"'200 Sist. mont. FV'!C17","v":0},{"$f":"'200 Sist. mont. FV'!D17","v":"222.000"},null,null,null,{"$f":"'200 Sist. mont. FV'!E17","v":"Fissaggio alla listonatura"},{"$f":"'200 Sist. mont. FV'!F17","v":""}]
[{"$f":"'200 Sist. mont. FV'!B18","v":0},{"$f":"'200 Sist. mont. FV'!C18","v":0},{"$f":"'200 Sist. mont. FV'!D18","v":"223.000"},null,null,null,{"$f":"'200 Sist. mont. FV'!E18","v":"Fissaggio alle travi"},{"$f":"'200 Sist. mont. FV'!F18","v":""}]
[{"$f":"'200 Sist. mont. FV'!B19","v":0},{"$f":"'200 Sist. mont. FV'!C19","v":0},{"$f":"'200 Sist. mont. FV'!D19","v":"224.000"},null,null,null,{"$f":"'200 Sist. mont. FV'!E19","v":"Fissaggio alle terzere"},{"$f":"'200 Sist. mont. FV'!F19","v":""}]
[{"$f":"'200 Sist. mont. FV'!B20","v":0},{"$f":"'200 Sist. mont. FV'!C20","v":0},{"$f":"'200 Sist. mont. FV'!D20","v":"225.000"},null,null,null,{"$f":"'200 Sist. mont. FV'!E20","v":"Fissaggio a elementi del proprio sistema"},{"$f":"'200 Sist. mont. FV'!F20","v":""}]
[{"$f":"'200 Sist. mont. FV'!B21","v":0},{"$f":"'200 Sist. mont. FV'!C21","v":0},{"$f":"'200 Sist. mont. FV'!D21","v":0},null,null,null,{"$f":"'200 Sist. mont. FV'!E21","v":0},{"$f":"'200 Sist. mont. FV'!F21","v":""}]
[{"$f":"'200 Sist. mont. FV'!B22","v":1},{"$f":"'200 Sist. mont. FV'!C22","v":0},{"$f":"'200 Sist. mont. FV'!D22","v":"230.000"},null,null,null,{"$f":"'200 Sist. mont. FV'!E22","v":"Tetto piano (senza attraversamento del tetto) Sistema di montaggio con due orientamenti opposti (est-ovest)"},{"$f":"'200 Sist. mont. FV'!F22","v":""}]
[{"$f":"'200 Sist. mont. FV'!B23","v":0},{"$f":"'200 Sist. mont. FV'!C23","v":0},{"$f":"'200 Sist. mont. FV'!D23","v":"231.000"},null,null,null,{"$f":"'200 Sist. mont. FV'!E23","v":"Su tetto piano senza strato protettivo"},{"$f":"'200 Sist. mont. FV'!F23","v":""}]
[{"$f":"'200 Sist. mont. FV'!B24","v":1},{"$f":"'200 Sist. mont. FV'!C24","v":1},{"$f":"'200 Sist. mont. FV'!D24","v":"232.000"},null,null,null,{"$f":"'200 Sist. mont. FV'!E24","v":"Sotto la ghiaia\nCaratteristiche: \nSistema di aggancio"},{"$f":"'200 Sist. mont. FV'!F24","v":"moduli"}]
[{"$f":"'200 Sist. mont. FV'!B25","v":0},{"$f":"'200 Sist. mont. FV'!C25","v":0},{"$f":"'200 Sist. mont. FV'!D25","v":"233.000"},null,null,null,{"$f":"'200 Sist. mont. FV'!E25","v":"Sopra la ghiaia"},{"$f":"'200 Sist. mont. FV'!F25","v":""}]
[{"$f":"'200 Sist. mont. FV'!B26","v":0},{"$f":"'200 Sist. mont. FV'!C26","v":0},{"$f":"'200 Sist. mont. FV'!D26","v":"234.000"},null,null,null,{"$f":"'200 Sist. mont. FV'!E26","v":"Sotto strato verde, costruzione rialzata"},{"$f":"'200 Sist. mont. FV'!F26","v":""}]
[{"$f":"'200 Sist. mont. FV'!B27","v":0},{"$f":"'200 Sist. mont. FV'!C27","v":0},{"$f":"'200 Sist. mont. FV'!D27","v":"235.000"},null,null,null,{"$f":"'200 Sist. mont. FV'!E27","v":"Sopra strato verde, costruzione rialzata"},{"$f":"'200 Sist. mont. FV'!F27","v":""}]
[{"$f":"'200 Sist. mont. FV'!B28","v":0},{"$f":"'200 Sist. mont. FV'!C28","v":0},{"$f":"'200 Sist. mont. FV'!D28","v":"236.000"},null,null,null,{"$f":"'200 Sist. mont. FV'!E28","v":"Montato su lastre praticabili"},{"$f":"'200 Sist. mont. FV'!F28","v":""}]
[{"$f":"'200 Sist. mont. FV'!B29","v":0},{"$f":"'200 Sist. mont. FV'!C29","v":0},{"$f":"'200 Sist. mont. FV'!D29","v":"237.000"},null,null,null,{"$f":"'200 Sist. mont. FV'!E29","v":"Altro"},{"$f":"'200 Sist. mont. FV'!F29","v":""}]
[{"$f":"'200 Sist. mont. FV'!B30","v":1},{"$f":"'200 Sist. mont. FV'!C30","v":0},{"$f":"'200 Sist. mont. FV'!D30","v":0},null,null,null,{"$f":"'200 Sist. mont. FV'!E30","v":0},{"$f":"'200 Sist. mont. FV'!F30","v":""}]
[{"$f":"'200 Sist. mont. FV'!B31","v":0},{"$f":"'200 Sist. mont. FV'!C31","v":0},{"$f":"'200 Sist. mont. FV'!D31","v":"240.000"},null,null,null,{"$f":"'200 Sist. mont. FV'!E31","v":"Tetto piano (senza attraversamento del tetto) Sistema di montaggio con un unico orientamento (sud)"},{"$f":"'200 Sist. mont. FV'!F31","v":""}]
[{"$f":"'200 Sist. mont. FV'!B32","v":0},{"$f":"'200 Sist. mont. FV'!C32","v":0},{"$f":"'200 Sist. mont. FV'!D32","v":"241.000"},null,null,null,{"$f":"'200 Sist. mont. FV'!E32","v":"Su tetto piano senza strato protettivo"},{"$f":"'200 Sist. mont. FV'!F32","v":""}]
[{"$f":"'200 Sist. mont. FV'!B33","v":0},{"$f":"'200 Sist. mont. FV'!C33","v":0},{"$f":"'200 Sist. mont. FV'!D33","v":"242.000"},null,null,null,{"$f":"'200 Sist. mont. FV'!E33","v":"Sotto la ghiaia"},{"$f":"'200 Sist. mont. FV'!F33","v":""}]
[{"$f":"'200 Sist. mont. FV'!B34","v":0},{"$f":"'200 Sist. mont. FV'!C34","v":0},{"$f":"'200 Sist. mont. FV'!D34","v":"243.000"},null,null,null,{"$f":"'200 Sist. mont. FV'!E34","v":"Sopra la ghiaia"},{"$f":"'200 Sist. mont. FV'!F34","v":""}]
[{"$f":"'200 Sist. mont. FV'!B35","v":0},{"$f":"'200 Sist. mont. FV'!C35","v":0},{"$f":"'200 Sist. mont. FV'!D35","v":"244.000"},null,null,null,{"$f":"'200 Sist. mont. FV'!E35","v":"Sotto strato verde, costruzione rialzata"},{"$f":"'200 Sist. mont. FV'!F35","v":""}]
[{"$f":"'200 Sist. mont. FV'!B36","v":0},{"$f":"'200 Sist. mont. FV'!C36","v":0},{"$f":"'200 Sist. mont. FV'!D36","v":"245.000"},null,null,null,{"$f":"'200 Sist. mont. FV'!E36","v":"Sopra strato verde, costruzione rialzata"},{"$f":"'200 Sist. mont. FV'!F36","v":""}]
[{"$f":"'200 Sist. mont. FV'!B37","v":0},{"$f":"'200 Sist. mont. FV'!C37","v":0},{"$f":"'200 Sist. mont. FV'!D37","v":"246.000"},null,null,null,{"$f":"'200 Sist. mont. FV'!E37","v":"Montato su lastre praticabili"},{"$f":"'200 Sist. mont. FV'!F37","v":""}]
[{"$f":"'200 Sist. mont. FV'!B38","v":0},{"$f":"'200 Sist. mont. FV'!C38","v":0},{"$f":"'200 Sist. mont. FV'!D38","v":0},null,null,null,{"$f":"'200 Sist. mont. FV'!E38","v":0},{"$f":"'200 Sist. mont. FV'!F38","v":""}]
[{"$f":"'200 Sist. mont. FV'!B39","v":0},{"$f":"'200 Sist. mont. FV'!C39","v":0},{"$f":"'200 Sist. mont. FV'!D39","v":"250.000"},null,null,null,{"$f":"'200 Sist. mont. FV'!E39","v":"Facciata"},{"$f":"'200 Sist. mont. FV'!F39","v":""}]
[{"$f":"'200 Sist. mont. FV'!B40","v":0},{"$f":"'200 Sist. mont. FV'!C40","v":0},{"$f":"'200 Sist. mont. FV'!D40","v":"251.000"},null,null,null,{"$f":"'200 Sist. mont. FV'!E40","v":"Modulo standard, integrato, complanare"},{"$f":"'200 Sist. mont. FV'!F40","v":""}]
[{"$f":"'200 Sist. mont. FV'!B41","v":0},{"$f":"'200 Sist. mont. FV'!C41","v":0},{"$f":"'200 Sist. mont. FV'!D41","v":"252.000"},null,null,null,{"$f":"'200 Sist. mont. FV'!E41","v":"Modulo di dimensioni speciali, integrato, complanare"},{"$f":"'200 Sist. mont. FV'!F41","v":""}]
[{"$f":"'200 Sist. mont. FV'!B42","v":0},{"$f":"'200 Sist. mont. FV'!C42","v":0},{"$f":"'200 Sist. mont. FV'!D42","v":"253.000"},null,null,null,{"$f":"'200 Sist. mont. FV'!E42","v":"Modulo standard, annesso, complanare"},{"$f":"'200 Sist. mont. FV'!F42","v":""}]
[{"$f":"'200 Sist. mont. FV'!B43","v":0},{"$f":"'200 Sist. mont. FV'!C43","v":0},{"$f":"'200 Sist. mont. FV'!D43","v":"254.000"},null,null,null,{"$f":"'200 Sist. mont. FV'!E43","v":"Modulo di dimensioni speciali, annesso, complanare"},{"$f":"'200 Sist. mont. FV'!F43","v":""}]
[{"$f":"'200 Sist. mont. FV'!B44","v":0},{"$f":"'200 Sist. mont. FV'!C44","v":0},{"$f":"'200 Sist. mont. FV'!D44","v":"255.000"},null,null,null,{"$f":"'200 Sist. mont. FV'!E44","v":"Modulo standard, annesso, obliquo"},{"$f":"'200 Sist. mont. FV'!F44","v":""}]
[{"$f":"'200 Sist. mont. FV'!B45","v":0},{"$f":"'200 Sist. mont. FV'!C45","v":0},{"$f":"'200 Sist. mont. FV'!D45","v":"256.000"},null,null,null,{"$f":"'200 Sist. mont. FV'!E45","v":"Modulo di dimensioni speciali, annesso, obliquo"},{"$f":"'200 Sist. mont. FV'!F45","v":""}]
[{"$f":"'200 Sist. mont. FV'!B46","v":0},{"$f":"'200 Sist. mont. FV'!C46","v":0},{"$f":"'200 Sist. mont. FV'!D46","v":"257.000"},null,null,null,{"$f":"'200 Sist. mont. FV'!E46","v":"Moduli sfalsati"},{"$f":"'200 Sist. mont. FV'!F46","v":""}]
[{"$f":"'200 Sist. mont. FV'!B47","v":0},{"$f":"'200 Sist. mont. FV'!C47","v":0},{"$f":"'200 Sist. mont. FV'!D47","v":0},null,null,null,{"$f":"'200 Sist. mont. FV'!E47","v":0},{"$f":"'200 Sist. mont. FV'!F47","v":""}]
[{"$f":"'200 Sist. mont. FV'!B48","v":0},{"$f":"'200 Sist. mont. FV'!C48","v":0},{"$f":"'200 Sist. mont. FV'!D48","v":"260.000"},null,null,null,{"$f":"'200 Sist. mont. FV'!E48","v":"Campo libero"},{"$f":"'200 Sist. mont. FV'!F48","v":""}]
[{"$f":"'200 Sist. mont. FV'!B49","v":0},{"$f":"'200 Sist. mont. FV'!C49","v":0},{"$f":"'200 Sist. mont. FV'!D49","v":"261.000"},null,null,null,{"$f":"'200 Sist. mont. FV'!E49","v":"Posato su pali interrati"},{"$f":"'200 Sist. mont. FV'!F49","v":""}]
[{"$f":"'200 Sist. mont. FV'!B50","v":0},{"$f":"'200 Sist. mont. FV'!C50","v":0},{"$f":"'200 Sist. mont. FV'!D50","v":"262.000"},null,null,null,{"$f":"'200 Sist. mont. FV'!E50","v":"Posato su un terreno solido"},{"$f":"'200 Sist. mont. FV'!F50","v":""}]
[{"$f":"'200 Sist. mont. FV'!B51","v":0},{"$f":"'200 Sist. mont. FV'!C51","v":0},{"$f":"'200 Sist. mont. FV'!D51","v":"263.000"},null,null,null,{"$f":"'200 Sist. mont. FV'!E51","v":"Pensilina (carport)"},{"$f":"'200 Sist. mont. FV'!F51","v":""}]
[{"$f":"'200 Sist. mont. FV'!B52","v":0},{"$f":"'200 Sist. mont. FV'!C52","v":0},{"$f":"'200 Sist. mont. FV'!D52","v":"264.000"},null,null,null,{"$f":"'200 Sist. mont. FV'!E52","v":"Pensilina per biciclette (bikeport)"},{"$f":"'200 Sist. mont. FV'!F52","v":""}]
[{"$f":"'200 Sist. mont. FV'!B53","v":0},{"$f":"'200 Sist. mont. FV'!C53","v":0},{"$f":"'200 Sist. mont. FV'!D53","v":"265.000"},null,null,null,{"$f":"'200 Sist. mont. FV'!E53","v":"Galleggiante (floating PV)"},{"$f":"'200 Sist. mont. FV'!F53","v":""}]
[{"$f":"'200 Sist. mont. FV'!B54","v":0},{"$f":"'200 Sist. mont. FV'!C54","v":0},{"$f":"'200 Sist. mont. FV'!D54","v":0},null,null,null,{"$f":"'200 Sist. mont. FV'!E54","v":0},{"$f":"'200 Sist. mont. FV'!F54","v":""}]
[{"$f":"'200 Sist. mont. FV'!B55","v":0},{"$f":"'200 Sist. mont. FV'!C55","v":0},{"$f":"'200 Sist. mont. FV'!D55","v":"270.000"},null,null,null,{"$f":"'200 Sist. mont. FV'!E55","v":"Altro"},{"$f":"'200 Sist. mont. FV'!F55","v":""}]
[{"$f":"'200 Sist. mont. FV'!B56","v":0},{"$f":"'200 Sist. mont. FV'!C56","v":0},{"$f":"'200 Sist. mont. FV'!D56","v":"271.000"},null,null,null,{"$f":"'200 Sist. mont. FV'!E56","v":"Su tetto a falda, sist. montaggio sopraelevato"},{"$f":"'200 Sist. mont. FV'!F56","v":""}]
[{"$f":"'200 Sist. mont. FV'!B57","v":0},{"$f":"'200 Sist. mont. FV'!C57","v":0},{"$f":"'200 Sist. mont. FV'!D57","v":0},null,null,null,{"$f":"'200 Sist. mont. FV'!E57","v":0},{"$f":"'200 Sist. mont. FV'!F57","v":""}]
[{"$f":"'200 Sist. mont. FV'!B58","v":0},{"$f":"'200 Sist. mont. FV'!C58","v":0},{"$f":"'200 Sist. mont. FV'!D58","v":"280.000"},null,null,null,{"$f":"'200 Sist. mont. FV'!E58","v":"Materiale aggiuntivo"},{"$f":"'200 Sist. mont. FV'!F58","v":""}]
[{"$f":"'200 Sist. mont. FV'!B59","v":0},{"$f":"'200 Sist. mont. FV'!C59","v":0},{"$f":"'200 Sist. mont. FV'!D59","v":"281.000"},null,null,null,{"$f":"'200 Sist. mont. FV'!E59","v":"Stuoia antivegetazione (resistente ai raggi UV)"},{"$f":"'200 Sist. mont. FV'!F59","v":""}]
[{"$f":"'200 Sist. mont. FV'!B60","v":0},{"$f":"'200 Sist. mont. FV'!C60","v":0},{"$f":"'200 Sist. mont. FV'!D60","v":"282.000"},null,null,null,{"$f":"'200 Sist. mont. FV'!E60","v":"Connessioni per tetto a falda, integrato"},{"$f":"'200 Sist. mont. FV'!F60","v":""}]
[{"$f":"'200 Sist. mont. FV'!B61","v":0},{"$f":"'200 Sist. mont. FV'!C61","v":0},{"$f":"'200 Sist. mont. FV'!D61","v":"283.000"},null,null,null,{"$f":"'200 Sist. mont. FV'!E61","v":"Paraneve"},{"$f":"'200 Sist. mont. FV'!F61","v":""}]
[{"$f":"'200 Sist. mont. FV'!B62","v":0},{"$f":"'200 Sist. mont. FV'!C62","v":0},{"$f":"'200 Sist. mont. FV'!D62","v":"284.000"},null,null,null,{"$f":"'200 Sist. mont. FV'!E62","v":"Fermaneve"},{"$f":"'200 Sist. mont. FV'!F62","v":""}]
[{"$f":"'200 Sist. mont. FV'!B63","v":0},{"$f":"'200 Sist. mont. FV'!C63","v":0},{"$f":"'200 Sist. mont. FV'!D63","v":"285.000"},null,null,null,{"$f":"'200 Sist. mont. FV'!E63","v":"Lucernario per tetto con impianto integrato"},{"$f":"'200 Sist. mont. FV'!F63","v":""}]
[{"$f":"'200 Sist. mont. FV'!B64","v":0},{"$f":"'200 Sist. mont. FV'!C64","v":0},{"$f":"'200 Sist. mont. FV'!D64","v":"286.000"},null,null,null,{"$f":"'200 Sist. mont. FV'!E64","v":"Collettore solare termico per impianto integrato"},{"$f":"'200 Sist. mont. FV'!F64","v":""}]
[{"$f":"'200 Sist. mont. FV'!B65","v":0},{"$f":"'200 Sist. mont. FV'!C65","v":0},{"$f":"'200 Sist. mont. FV'!D65","v":0},null,null,null,{"$f":"'200 Sist. mont. FV'!E65","v":0},{"$f":"'200 Sist. mont. FV'!F65","v":0}]
[1,1,null,null,null,null,"Totale parziale Sistema di montaggio FV"]
[1]
[1,null,"300.000",null,null,null,"Dispositivi di allacciamento"]
[1]
[{"$f":"'300 Disp. di allacciamento'!B6","v":1},{"$f":"'300 Disp. di allacciamento'!C6","v":0},{"$f":"'300 Disp. di allacciamento'!D6","v":"310.000"},null,null,null,{"$f":"'300 Disp. di allacciamento'!E6","v":"Ondulatore di stringa allacciato alla rete"},{"$f":"'300 Disp. di allacciamento'!F6","v":""}]
[{"$f":"'300 Disp. di allacciamento'!B7","v":1},{"$f":"'300 Disp. di allacciamento'!C7","v":1},{"$f":"'300 Disp. di allacciamento'!D7","v":"311.000"},null,null,null,{"$f":"'300 Disp. di allacciamento'!E7","v":"Ondulatore di stringa in BT senza funzione ibrida\nCaratteristiche: \nNumero MPPT\nProtezione IP\nSeparazione DC"},{"$f":"'300 Disp. di allacciamento'!F7","v":"pz."}]
[{"$f":"'300 Disp. di allacciamento'!B8","v":0},{"$f":"'300 Disp. di allacciamento'!C8","v":0},{"$f":"'300 Disp. di allacciamento'!D8","v":"312.000"},null,null,null,{"$f":"'300 Disp. di allacciamento'!E8","v":"Ondulatore di stringa in BT con funzione ibrida"},{"$f":"'300 Disp. di allacciamento'!F8","v":""}]
[{"$f":"'300 Disp. di allacciamento'!B9","v":0},{"$f":"'300 Disp. di allacciamento'!C9","v":0},{"$f":"'300 Disp. di allacciamento'!D9","v":"313.000"},null,null,null,{"$f":"'300 Disp. di allacciamento'!E9","v":"Ondulatore di stringa per tensioni speciali"},{"$f":"'300 Disp. di allacciamento'!F9","v":""}]
[{"$f":"'300 Disp. di allacciamento'!B10","v":0},{"$f":"'300 Disp. di allacciamento'!C10","v":0},{"$f":"'300 Disp. di allacciamento'!D10","v":"314.000"},null,null,null,{"$f":"'300 Disp. di allacciamento'!E10","v":"Ondulatore di modulo"},{"$f":"'300 Disp. di allacciamento'!F10","v":""}]
[{"$f":"'300 Disp. di allacciamento'!B11","v":1},{"$f":"'300 Disp. di allacciamento'!C11","v":0},{"$f":"'300 Disp. di allacciamento'!D11","v":0},null,null,null,{"$f":"'300 Disp. di allacciamento'!E11","v":0},{"$f":"'300 Disp. di allacciamento'!F11","v":""}]
[{"$f":"'300 Disp. di allacciamento'!B12","v":0},{"$f":"'300 Disp. di allacciamento'!C12","v":0},{"$f":"'300 Disp. di allacciamento'!D12","v":"320.000"},null,null,null,{"$f":"'300 Disp. di allacciamento'!E12","v":"Ondulatore centrale allacciato alla rete"},{"$f":"'300 Disp. di allacciamento'!F12","v":""}]
[{"$f":"'300 Disp. di allacciamento'!B13","v":0},{"$f":"'300 Disp. di allacciamento'!C13","v":0},{"$f":"'300 Disp. di allacciamento'!D13","v":"321.000"},null,null,null,{"$f":"'300 Disp. di allacciamento'!E13","v":"Ondulatore centrale in BT"},{"$f":"'300 Disp. di allacciamento'!F13","v":""}]
[{"$f":"'300 Disp. di allacciamento'!B14","v":0},{"$f":"'300 Disp. di allacciamento'!C14","v":0},{"$f":"'300 Disp. di allacciamento'!D14","v":"322.000"},null,null,null,{"$f":"'300 Disp. di allacciamento'!E14","v":"Ondulatore centrale per tensioni speciali"},{"$f":"'300 Disp. di allacciamento'!F14","v":""}]
[{"$f":"'300 Disp. di allacciamento'!B15","v":0},{"$f":"'300 Disp. di allacciamento'!C15","v":0},{"$f":"'300 Disp. di allacciamento'!D15","v":0},null,null,null,{"$f":"'300 Disp. di allacciamento'!E15","v":0},{"$f":"'300 Disp. di allacciamento'!F15","v":""}]
[{"$f":"'300 Disp. di allacciamento'!B16","v":1},{"$f":"'300 Disp. di allacciamento'!C16","v":0},{"$f":"'300 Disp. di allacciamento'!D16","v":"330.000"},null,null,null,{"$f":"'300 Disp. di allacciamento'!E16","v":"Scatola di giunzione del generatore"},{"$f":"'300 Disp. di allacciamento'!F16","v":""}]
[{"$f":"'300 Disp. di allacciamento'!B17","v":0},{"$f":"'300 Disp. di allacciamento'!C17","v":0},{"$f":"'300 Disp. di allacciamento'!D17","v":"331.000"},null,null,null,{"$f":"'300 Disp. di allacciamento'!E17","v":"senza SPD, senza sezionatore"},{"$f":"'300 Disp. di allacciamento'!F17","v":""}]
[{"$f":"'300 Disp. di allacciamento'!B18","v":0},{"$f":"'300 Disp. di allacciamento'!C18","v":0},{"$f":"'300 Disp. di allacciamento'!D18","v":"332.000"},null,null,null,{"$f":"'300 Disp. di allacciamento'!E18","v":"senza SPD, con sezionatore"},{"$f":"'300 Disp. di allacciamento'!F18","v":""}]
[{"$f":"'300 Disp. di allacciamento'!B19","v":0},{"$f":"'300 Disp. di allacciamento'!C19","v":0},{"$f":"'300 Disp. di allacciamento'!D19","v":"333.000"},null,null,null,{"$f":"'300 Disp. di allacciamento'!E19","v":"con SPD 2, senza sezionatore"},{"$f":"'300 Disp. di allacciamento'!F19","v":""}]
[{"$f":"'300 Disp. di allacciamento'!B20","v":0},{"$f":"'300 Disp. di allacciamento'!C20","v":0},{"$f":"'300 Disp. di allacciamento'!D20","v":"334.000"},null,null,null,{"$f":"'300 Disp. di allacciamento'!E20","v":"con SPD 2, con sezionatore"},{"$f":"'300 Disp. di allacciamento'!F20","v":""}]
[{"$f":"'300 Disp. di allacciamento'!B21","v":1},{"$f":"'300 Disp. di allacciamento'!C21","v":1},{"$f":"'300 Disp. di allacciamento'!D21","v":"335.000"},null,null,null,{"$f":"'300 Disp. di allacciamento'!E21","v":"con SPD 1+ 2, senza sezionatore\nCaratteristiche: \nNumero MPPT\nTipo di scatola metallo/plastica"},{"$f":"'300 Disp. di allacciamento'!F21","v":"pz."}]
[{"$f":"'300 Disp. di allacciamento'!B22","v":0},{"$f":"'300 Disp. di allacciamento'!C22","v":0},{"$f":"'300 Disp. di allacciamento'!D22","v":"336.000"},null,null,null,{"$f":"'300 Disp. di allacciamento'!E22","v":"con SPD 1+ 2, con sezionatore"},{"$f":"'300 Disp. di allacciamento'!F22","v":""}]
[{"$f":"'300 Disp. di allacciamento'!B23","v":0},{"$f":"'300 Disp. di allacciamento'!C23","v":0},{"$f":"'300 Disp. di allacciamento'!D23","v":"337.000"},null,null,null,{"$f":"'300 Disp. di allacciamento'!E23","v":"Fusibili DC"},{"$f":"'300 Disp. di allacciamento'!F23","v":""}]
[{"$f":"'300 Disp. di allacciamento'!B24","v":0},{"$f":"'300 Disp. di allacciamento'!C24","v":0},{"$f":"'300 Disp. di allacciamento'!D24","v":"338.000"},null,null,null,{"$f":"'300 Disp. di allacciamento'!E24","v":"Cartucce per protezioni contro le sovratensioni"},{"$f":"'300 Disp. di allacciamento'!F24","v":""}]
[{"$f":"'300 Disp. di allacciamento'!B25","v":1},{"$f":"'300 Disp. di allacciamento'!C25","v":0},{"$f":"'300 Disp. di allacciamento'!D25","v":0},null,null,null,{"$f":"'300 Disp. di allacciamento'!E25","v":0},{"$f":"'300 Disp. di allacciamento'!F25","v":""}]
[{"$f":"'300 Disp. di allacciamento'!B26","v":0},{"$f":"'300 Disp. di allacciamento'!C26","v":0},{"$f":"'300 Disp. di allacciamento'!D26","v":"340.000"},null,null,null,{"$f":"'300 Disp. di allacciamento'!E26","v":"Sistema di accumulo a batteria, in DC"},{"$f":"'300 Disp. di allacciamento'!F26","v":""}]
[{"$f":"'300 Disp. di allacciamento'!B27","v":0},{"$f":"'300 Disp. di allacciamento'!C27","v":0},{"$f":"'300 Disp. di allacciamento'!D27","v":"341.000"},null,null,null,{"$f":"'300 Disp. di allacciamento'!E27","v":"Modulo di accumulo completo (per applicazioni all'esterno)"},{"$f":"'300 Disp. di allacciamento'!F27","v":""}]
[{"$f":"'300 Disp. di allacciamento'!B28","v":0},{"$f":"'300 Disp. di allacciamento'!C28","v":0},{"$f":"'300 Disp. di allacciamento'!D28","v":"342.000"},null,null,null,{"$f":"'300 Disp. di allacciamento'!E28","v":"Sistema di accumulo a batteria (incl. ondulatore e regolatore di carica)"},{"$f":"'300 Disp. di allacciamento'!F28","v":""}]
[{"$f":"'300 Disp. di allacciamento'!B29","v":0},{"$f":"'300 Disp. di allacciamento'!C29","v":0},{"$f":"'300 Disp. di allacciamento'!D29","v":"343.000"},null,null,null,{"$f":"'300 Disp. di allacciamento'!E29","v":"Sistema di accumulo a batteria (senza ondulatore e regolatore di carica)"},{"$f":"'300 Disp. di allacciamento'!F29","v":""}]
[{"$f":"'300 Disp. di allacciamento'!B30","v":0},{"$f":"'300 Disp. di allacciamento'!C30","v":0},{"$f":"'300 Disp. di allacciamento'!D30","v":"344.000"},null,null,null,{"$f":"'300 Disp. di allacciamento'!E30","v":"Regolatore di carica della batteria"},{"$f":"'300 Disp. di allacciamento'!F30","v":""}]
[{"$f":"'300 Disp. di allacciamento'!B31","v":0},{"$f":"'300 Disp. di allacciamento'!C31","v":0},{"$f":"'300 Disp. di allacciamento'!D31","v":"345.000"},null,null,null,{"$f":"'300 Disp. di allacciamento'!E31","v":"Armadio batterie"},{"$f":"'300 Disp. di allacciamento'!F31","v":""}]
[{"$f":"'300 Disp. di allacciamento'!B32","v":0},{"$f":"'300 Disp. di allacciamento'!C32","v":0},{"$f":"'300 Disp. di allacciamento'!D32","v":0},null,null,null,{"$f":"'300 Disp. di allacciamento'!E32","v":0},{"$f":"'300 Disp. di allacciamento'!F32","v":""}]
[{"$f":"'300 Disp. di allacciamento'!B33","v":0},{"$f":"'300 Disp. di allacciamento'!C33","v":0},{"$f":"'300 Disp. di allacciamento'!D33","v":"350.000"},null,null,null,{"$f":"'300 Disp. di allacciamento'!E33","v":"Sistema di accumulo a batteria, in AC"},{"$f":"'300 Disp. di allacciamento'!F33","v":""}]
[{"$f":"'300 Disp. di allacciamento'!B34","v":0},{"$f":"'300 Disp. di allacciamento'!C34","v":0},{"$f":"'300 Disp. di allacciamento'!D34","v":"351.000"},null,null,null,{"$f":"'300 Disp. di allacciamento'!E34","v":"Modulo di accumulo completo (per applicazioni all'esterno)"},{"$f":"'300 Disp. di allacciamento'!F34","v":""}]
[{"$f":"'300 Disp. di allacciamento'!B35","v":0},{"$f":"'300 Disp. di allacciamento'!C35","v":0},{"$f":"'300 Disp. di allacciamento'!D35","v":"352.000"},null,null,null,{"$f":"'300 Disp. di allacciamento'!E35","v":"Sistema di accumulo a batteria (incl. ondulatore)"},{"$f":"'300 Disp. di allacciamento'!F35","v":""}]
[{"$f":"'300 Disp. di allacciamento'!B36","v":0},{"$f":"'300 Disp. di allacciamento'!C36","v":0},{"$f":"'300 Disp. di allacciamento'!D36","v":"353.000"},null,null,null,{"$f":"'300 Disp. di allacciamento'!E36","v":"Modulo batteria"},{"$f":"'300 Disp. di allacciamento'!F36","v":""}]
[{"$f":"'300 Disp. di allacciamento'!B37","v":0},{"$f":"'300 Disp. di allacciamento'!C37","v":0},{"$f":"'300 Disp. di allacciamento'!D37","v":0},null,null,null,{"$f":"'300 Disp. di allacciamento'!E37","v":0},{"$f":"'300 Disp. di allacciamento'!F37","v":""}]
[{"$f":"'300 Disp. di allacciamento'!B38","v":1},{"$f":"'300 Disp. di allacciamento'!C38","v":0},{"$f":"'300 Disp. di allacciamento'!D38","v":"360.000"},null,null,null,{"$f":"'300 Disp. di allacciamento'!E38","v":"Periferiche ondulatore/batteria"},{"$f":"'300 Disp. di allacciamento'!F38","v":""}]
[{"$f":"'300 Disp. di allacciamento'!B39","v":0},{"$f":"'300 Disp. di allacciamento'!C39","v":0},{"$f":"'300 Disp. di allacciamento'!D39","v":"361.000"},null,null,null,{"$f":"'300 Disp. di allacciamento'!E39","v":"Ottimizzatore di modulo"},{"$f":"'300 Disp. di allacciamento'!F39","v":""}]
[{"$f":"'300 Disp. di allacciamento'!B40","v":0},{"$f":"'300 Disp. di allacciamento'!C40","v":0},{"$f":"'300 Disp. di allacciamento'!D40","v":"362.000"},null,null,null,{"$f":"'300 Disp. di allacciamento'!E40","v":"Ottimizzatore di stringa"},{"$f":"'300 Disp. di allacciamento'!F40","v":""}]
[{"$f":"'300 Disp. di allacciamento'!B41","v":0},{"$f":"'300 Disp. di allacciamento'!C41","v":0},{"$f":"'300 Disp. di allacciamento'!D41","v":"363.000"},null,null,null,{"$f":"'300 Disp. di allacciamento'!E41","v":"Datalogger"},{"$f":"'300 Disp. di allacciamento'!F41","v":""}]
[{"$f":"'300 Disp. di allacciamento'!B42","v":0},{"$f":"'300 Disp. di allacciamento'!C42","v":0},{"$f":"'300 Disp. di allacciamento'!D42","v":"364.000"},null,null,null,{"$f":"'300 Disp. di allacciamento'!E42","v":"Sensori meteo"},{"$f":"'300 Disp. di allacciamento'!F42","v":""}]
[{"$f":"'300 Disp. di allacciamento'!B43","v":1},{"$f":"'300 Disp. di allacciamento'!C43","v":1},{"$f":"'300 Disp. di allacciamento'!D43","v":"365.000"},null,null,null,{"$f":"'300 Disp. di allacciamento'!E43","v":"Smart Meter\nCaratteristiche: \nTrifase\nMisurazione diretta"},{"$f":"'300 Disp. di allacciamento'!F43","v":"pz."}]
[{"$f":"'300 Disp. di allacciamento'!B44","v":1},{"$f":"'300 Disp. di allacciamento'!C44","v":1},{"$f":"'300 Disp. di allacciamento'!D44","v":"366.000"},null,null,null,{"$f":"'300 Disp. di allacciamento'!E44","v":"Controllo dei consumatori (p. es. cartucce elettriche o stazione di ricarica elettrica)\nCaratteristiche: \nNumero di contatti liberi da potenziale"},{"$f":"'300 Disp. di allacciamento'!F44","v":"pz."}]
[{"$f":"'300 Disp. di allacciamento'!B45","v":1},{"$f":"'300 Disp. di allacciamento'!C45","v":1},{"$f":"'300 Disp. di allacciamento'!D45","v":"367.000"},null,null,null,{"$f":"'300 Disp. di allacciamento'!E45","v":"Router SIM"},{"$f":"'300 Disp. di allacciamento'!F45","v":"pz."}]
[{"$f":"'300 Disp. di allacciamento'!B46","v":0},{"$f":"'300 Disp. di allacciamento'!C46","v":0},{"$f":"'300 Disp. di allacciamento'!D46","v":"368.000"},null,null,null,{"$f":"'300 Disp. di allacciamento'!E46","v":"Visualizzazione"},{"$f":"'300 Disp. di allacciamento'!F46","v":""}]
[{"$f":"'300 Disp. di allacciamento'!B47","v":1},{"$f":"'300 Disp. di allacciamento'!C47","v":0},{"$f":"'300 Disp. di allacciamento'!D47","v":0},null,null,null,{"$f":"'300 Disp. di allacciamento'!E47","v":0},{"$f":"'300 Disp. di allacciamento'!F47","v":""}]
[{"$f":"'300 Disp. di allacciamento'!B48","v":1},{"$f":"'300 Disp. di allacciamento'!C48","v":0},{"$f":"'300 Disp. di allacciamento'!D48","v":"370.000"},null,null,null,{"$f":"'300 Disp. di allacciamento'!E48","v":"Controllo consumatori/Smart Energy"},{"$f":"'300 Disp. di allacciamento'!F48","v":""}]
[{"$f":"'300 Disp. di allacciamento'!B49","v":1},{"$f":"'300 Disp. di allacciamento'!C49","v":1},{"$f":"'300 Disp. di allacciamento'!D49","v":"371.000"},null,null,null,{"$f":"'300 Disp. di allacciamento'!E49","v":"Stazione di ricarica elettrica \nCaratteristiche: \nTipo di presa (tipo 1, tipo 2, CCS, CHAdeMO)"},{"$f":"'300 Disp. di allacciamento'!F49","v":"pz."}]
[{"$f":"'300 Disp. di allacciamento'!B50","v":0},{"$f":"'300 Disp. di allacciamento'!C50","v":0},{"$f":"'300 Disp. di allacciamento'!D50","v":"372.000"},null,null,null,{"$f":"'300 Disp. di allacciamento'!E50","v":"Generatore di calore"},{"$f":"'300 Disp. di allacciamento'!F50","v":""}]
[{"$f":"'300 Disp. di allacciamento'!B51","v":0},{"$f":"'300 Disp. di allacciamento'!C51","v":0},{"$f":"'300 Disp. di allacciamento'!D51","v":"373.000"},null,null,null,{"$f":"'300 Disp. di allacciamento'!E51","v":"Dispositivi Smart Energy"},{"$f":"'300 Disp. di allacciamento'!F51","v":""}]
[{"$f":"'300 Disp. di allacciamento'!B52","v":1},{"$f":"'300 Disp. di allacciamento'!C52","v":0},{"$f":"'300 Disp. di allacciamento'!D52","v":0},null,null,null,{"$f":"'300 Disp. di allacciamento'!E52","v":0},{"$f":"'300 Disp. di allacciamento'!F52","v":""}]
[{"$f":"'300 Disp. di allacciamento'!B53","v":0},{"$f":"'300 Disp. di allacciamento'!C53","v":0},{"$f":"'300 Disp. di allacciamento'!D53","v":"380.000"},null,null,null,{"$f":"'300 Disp. di allacciamento'!E53","v":"Componenti in isola"},{"$f":"'300 Disp. di allacciamento'!F53","v":""}]
[{"$f":"'300 Disp. di allacciamento'!B54","v":0},{"$f":"'300 Disp. di allacciamento'!C54","v":0},{"$f":"'300 Disp. di allacciamento'!D54","v":"381.000"},null,null,null,{"$f":"'300 Disp. di allacciamento'!E54","v":"Ondulatore in isola"},{"$f":"'300 Disp. di allacciamento'!F54","v":""}]
[{"$f":"'300 Disp. di allacciamento'!B55","v":0},{"$f":"'300 Disp. di allacciamento'!C55","v":0},{"$f":"'300 Disp. di allacciamento'!D55","v":"382.000"},null,null,null,{"$f":"'300 Disp. di allacciamento'!E55","v":"Regolatori di carica solare"},{"$f":"'300 Disp. di allacciamento'!F55","v":""}]
[{"$f":"'300 Disp. di allacciamento'!B56","v":0},{"$f":"'300 Disp. di allacciamento'!C56","v":0},{"$f":"'300 Disp. di allacciamento'!D56","v":"383.000"},null,null,null,{"$f":"'300 Disp. di allacciamento'!E56","v":"Batteria in isola"},{"$f":"'300 Disp. di allacciamento'!F56","v":""}]
[{"$f":"'300 Disp. di allacciamento'!B57","v":0},{"$f":"'300 Disp. di allacciamento'!C57","v":0},{"$f":"'300 Disp. di allacciamento'!D57","v":"384.000"},null,null,null,{"$f":"'300 Disp. di allacciamento'!E57","v":"Inserto elettrico in DC per produzione calore (allacciamento diretto al generatore FV)"},{"$f":"'300 Disp. di allacciamento'!F57","v":""}]
[{"$f":"'300 Disp. di allacciamento'!B58","v":0},{"$f":"'300 Disp. di allacciamento'!C58","v":0},{"$f":"'300 Disp. di allacciamento'!D58","v":"385.000"},null,null,null,{"$f":"'300 Disp. di allacciamento'!E58","v":"Sistema di illuminazione DC"},{"$f":"'300 Disp. di allacciamento'!F58","v":""}]
[{"$f":"'300 Disp. di allacciamento'!B59","v":0},{"$f":"'300 Disp. di allacciamento'!C59","v":0},{"$f":"'300 Disp. di allacciamento'!D59","v":"386.000"},null,null,null,{"$f":"'300 Disp. di allacciamento'!E59","v":"Frigorifero DC"},{"$f":"'300 Disp. di allacciamento'!F59","v":""}]
[{"$f":"'300 Disp. di allacciamento'!B60","v":0},{"$f":"'300 Disp. di allacciamento'!C60","v":0},{"$f":"'300 Disp. di allacciamento'!D60","v":"387.000"},null,null,null,{"$f":"'300 Disp. di allacciamento'!E60","v":"Altro"},{"$f":"'300 Disp. di allacciamento'!F60","v":""}]
[{"$f":"'300 Disp. di allacciamento'!B61","v":0},{"$f":"'300 Disp. di allacciamento'!C61","v":0},{"$f":"'300 Disp. di allacciamento'!D61","v":0},null,null,null,{"$f":"'300 Disp. di allacciamento'!E61","v":0},{"$f":"'300 Disp. di allacciamento'!F61","v":""}]
[1,1,null,null,null,null,"Totale parziale Dispositivi di allacciamento"]
[1]
[1,{"$f":"'400 Installazione DC'!C6","v":0},"400.000",null,null,null,"Installazione DC",{"$f":"'400 Installazione DC'!F6","v":""}]
[1]
[{"$f":"'400 Installazione DC'!B9","v":1},{"$f":"'400 Installazione DC'!C9","v":1},{"$f":"'400 Installazione DC'!D9","v":"410.000"},null,null,null,{"$f":"'400 Installazione DC'!E9","v":"Linee solari DC"},{"$f":"'400 Installazione DC'!F9","v":"forfait"}]
[{"$f":"'400 Installazione DC'!B10","v":1},{"$f":"'400 Installazione DC'!C10","v":0},{"$f":"'400 Installazione DC'!D10","v":0},null,null,null,{"$f":"'400 Installazione DC'!E10","v":"Caratteristiche: \nSezione\nResistente ai raggi UV"},{"$f":"'400 Installazione DC'!F10","v":""}]
[{"$f":"'400 Installazione DC'!B11","v":0},{"$f":"'400 Installazione DC'!C11","v":0},{"$f":"'400 Installazione DC'!D11","v":"411.000"},null,null,null,{"$f":"'400 Installazione DC'!E11","v":"Cu 4 mm2"},{"$f":"'400 Installazione DC'!F11","v":""}]
[{"$f":"'400 Installazione DC'!B12","v":0},{"$f":"'400 Installazione DC'!C12","v":0},{"$f":"'400 Installazione DC'!D12","v":"412.000"},null,null,null,{"$f":"'400 Installazione DC'!E12","v":"Cu 6 mm2"},{"$f":"'400 Installazione DC'!F12","v":""}]
[{"$f":"'400 Installazione DC'!B13","v":0},{"$f":"'400 Installazione DC'!C13","v":0},{"$f":"'400 Installazione DC'!D13","v":"413.000"},null,null,null,{"$f":"'400 Installazione DC'!E13","v":"Cu 10 mm2"},{"$f":"'400 Installazione DC'!F13","v":""}]
[{"$f":"'400 Installazione DC'!B14","v":0},{"$f":"'400 Installazione DC'!C14","v":0},{"$f":"'400 Installazione DC'!D14","v":"414.000"},null,null,null,{"$f":"'400 Installazione DC'!E14","v":"Cu 16 mm2"},{"$f":"'400 Installazione DC'!F14","v":""}]
[{"$f":"'400 Installazione DC'!B15","v":0},{"$f":"'400 Installazione DC'!C15","v":0},{"$f":"'400 Installazione DC'!D15","v":"415.000"},null,null,null,{"$f":"'400 Installazione DC'!E15","v":"Cu 25 mm2"},{"$f":"'400 Installazione DC'!F15","v":""}]
[{"$f":"'400 Installazione DC'!B16","v":0},{"$f":"'400 Installazione DC'!C16","v":0},{"$f":"'400 Installazione DC'!D16","v":"416.000"},null,null,null,{"$f":"'400 Installazione DC'!E16","v":"Cu 35 mm2"},{"$f":"'400 Installazione DC'!F16","v":""}]
[{"$f":"'400 Installazione DC'!B17","v":0},{"$f":"'400 Installazione DC'!C17","v":0},{"$f":"'400 Installazione DC'!D17","v":"417.000"},null,null,null,{"$f":"'400 Installazione DC'!E17","v":"Cu 50 mm2"},{"$f":"'400 Installazione DC'!F17","v":""}]
[{"$f":"'400 Installazione DC'!B18","v":0},{"$f":"'400 Installazione DC'!C18","v":0},{"$f":"'400 Installazione DC'!D18","v":"418.000"},null,null,null,{"$f":"'400 Installazione DC'!E18","v":"Al"},{"$f":"'400 Installazione DC'!F18","v":""}]
[{"$f":"'400 Installazione DC'!B19","v":1},{"$f":"'400 Installazione DC'!C19","v":0},{"$f":"'400 Installazione DC'!D19","v":0},null,null,null,{"$f":"'400 Installazione DC'!E19","v":0},{"$f":"'400 Installazione DC'!F19","v":""}]
[{"$f":"'400 Installazione DC'!B20","v":1},{"$f":"'400 Installazione DC'!C20","v":1},{"$f":"'400 Installazione DC'!D20","v":"420.000"},null,null,null,{"$f":"'400 Installazione DC'!E20","v":"Connettori solari "},{"$f":"'400 Installazione DC'!F20","v":"forfait"}]
[{"$f":"'400 Installazione DC'!B21","v":1},{"$f":"'400 Installazione DC'!C21","v":0},{"$f":"'400 Installazione DC'!D21","v":0},null,null,null,{"$f":"'400 Installazione DC'!E21","v":"Caratteristiche: \nConnettore originale del fabbricante (secondo NIBT)"},{"$f":"'400 Installazione DC'!F21","v":""}]
[{"$f":"'400 Installazione DC'!B22","v":0},{"$f":"'400 Installazione DC'!C22","v":0},{"$f":"'400 Installazione DC'!D22","v":"421.000"},null,null,null,{"$f":"'400 Installazione DC'!E22","v":"4 mm2"},{"$f":"'400 Installazione DC'!F22","v":""}]
[{"$f":"'400 Installazione DC'!B23","v":0},{"$f":"'400 Installazione DC'!C23","v":0},{"$f":"'400 Installazione DC'!D23","v":"422.000"},null,null,null,{"$f":"'400 Installazione DC'!E23","v":"6 mm2"},{"$f":"'400 Installazione DC'!F23","v":""}]
[{"$f":"'400 Installazione DC'!B24","v":0},{"$f":"'400 Installazione DC'!C24","v":0},{"$f":"'400 Installazione DC'!D24","v":"423.000"},null,null,null,{"$f":"'400 Installazione DC'!E24","v":"10 mm2"},{"$f":"'400 Installazione DC'!F24","v":""}]
[{"$f":"'400 Installazione DC'!B25","v":0},{"$f":"'400 Installazione DC'!C25","v":0},{"$f":"'400 Installazione DC'!D25","v":"424.000"},null,null,null,{"$f":"'400 Installazione DC'!E25","v":"Connettore a Y"},{"$f":"'400 Installazione DC'!F25","v":""}]
[{"$f":"'400 Installazione DC'!B26","v":1},{"$f":"'400 Installazione DC'!C26","v":0},{"$f":"'400 Installazione DC'!D26","v":0},null,null,null,{"$f":"'400 Installazione DC'!E26","v":0},{"$f":"'400 Installazione DC'!F26","v":""}]
[{"$f":"'400 Installazione DC'!B27","v":1},{"$f":"'400 Installazione DC'!C27","v":0},{"$f":"'400 Installazione DC'!D27","v":"430.000"},null,null,null,{"$f":"'400 Installazione DC'!E27","v":"Protezione dei cavi/passaggio dei cavi"},{"$f":"'400 Installazione DC'!F27","v":""}]
[{"$f":"'400 Installazione DC'!B28","v":0},{"$f":"'400 Installazione DC'!C28","v":0},{"$f":"'400 Installazione DC'!D28","v":0},null,null,null,{"$f":"'400 Installazione DC'!E28","v":""},{"$f":"'400 Installazione DC'!F28","v":""}]
[{"$f":"'400 Installazione DC'!B29","v":1},{"$f":"'400 Installazione DC'!C29","v":1},{"$f":"'400 Installazione DC'!D29","v":"431.000"},null,null,null,{"$f":"'400 Installazione DC'!E29","v":"Portacavi\nCaratteristiche: \nCon copertura\nZincato a caldo"},{"$f":"'400 Installazione DC'!F29","v":"ml"}]
[{"$f":"'400 Installazione DC'!B30","v":0},{"$f":"'400 Installazione DC'!C30","v":0},{"$f":"'400 Installazione DC'!D30","v":"432.000"},null,null,null,{"$f":"'400 Installazione DC'!E30","v":"Canaline"},{"$f":"'400 Installazione DC'!F30","v":""}]
[{"$f":"'400 Installazione DC'!B31","v":0},{"$f":"'400 Installazione DC'!C31","v":0},{"$f":"'400 Installazione DC'!D31","v":"433.000"},null,null,null,{"$f":"'400 Installazione DC'!E31","v":"Tubi"},{"$f":"'400 Installazione DC'!F31","v":""}]
[{"$f":"'400 Installazione DC'!B32","v":0},{"$f":"'400 Installazione DC'!C32","v":0},{"$f":"'400 Installazione DC'!D32","v":"434.000"},null,null,null,{"$f":"'400 Installazione DC'!E32","v":"Tubi flessibili"},{"$f":"'400 Installazione DC'!F32","v":""}]
[{"$f":"'400 Installazione DC'!B33","v":0},{"$f":"'400 Installazione DC'!C33","v":0},{"$f":"'400 Installazione DC'!D33","v":"435.000"},null,null,null,{"$f":"'400 Installazione DC'!E33","v":"Lastre di pietra (lastre da giardino)"},{"$f":"'400 Installazione DC'!F33","v":""}]
[{"$f":"'400 Installazione DC'!B34","v":0},{"$f":"'400 Installazione DC'!C34","v":0},{"$f":"'400 Installazione DC'!D34","v":"436.000"},null,null,null,{"$f":"'400 Installazione DC'!E34","v":"Protezione degli spigoli"},{"$f":"'400 Installazione DC'!F34","v":""}]
[{"$f":"'400 Installazione DC'!B35","v":1},{"$f":"'400 Installazione DC'!C35","v":0},{"$f":"'400 Installazione DC'!D35","v":0},null,null,null,{"$f":"'400 Installazione DC'!E35","v":0},{"$f":"'400 Installazione DC'!F35","v":""}]
[{"$f":"'400 Installazione DC'!B36","v":1},{"$f":"'400 Installazione DC'!C36","v":0},{"$f":"'400 Installazione DC'!D36","v":"440.000"},null,null,null,{"$f":"'400 Installazione DC'!E36","v":"Materiale di consumo"},{"$f":"'400 Installazione DC'!F36","v":""}]
[{"$f":"'400 Installazione DC'!B37","v":0},{"$f":"'400 Installazione DC'!C37","v":0},{"$f":"'400 Installazione DC'!D37","v":0},null,null,null,{"$f":"'400 Installazione DC'!E37","v":""},{"$f":"'400 Installazione DC'!F37","v":""}]
[{"$f":"'400 Installazione DC'!B38","v":1},{"$f":"'400 Installazione DC'!C38","v":1},{"$f":"'400 Installazione DC'!D38","v":"441.000"},null,null,null,{"$f":"'400 Installazione DC'!E38","v":"Etichettatura dei cavi\nCaratteristiche: \nResistente ai raggi UV"},{"$f":"'400 Installazione DC'!F38","v":"pz."}]
[{"$f":"'400 Installazione DC'!B39","v":1},{"$f":"'400 Installazione DC'!C39","v":1},{"$f":"'400 Installazione DC'!D39","v":"442.000"},null,null,null,{"$f":"'400 Installazione DC'!E39","v":"Materiale di fissaggio dei cavi\nCaratteristiche: \nResistente ai raggi UV"},{"$f":"'400 Installazione DC'!F39","v":"pz."}]
[{"$f":"'400 Installazione DC'!B40","v":1},{"$f":"'400 Installazione DC'!C40","v":0},{"$f":"'400 Installazione DC'!D40","v":0},null,null,null,{"$f":"'400 Installazione DC'!E40","v":0},{"$f":"'400 Installazione DC'!F40","v":""}]
[{"$f":"'400 Installazione DC'!B41","v":1},{"$f":"'400 Installazione DC'!C41","v":0},{"$f":"'400 Installazione DC'!D41","v":"450.000"},null,null,null,{"$f":"'400 Installazione DC'!E41","v":"Collegamento equipotenziale"},{"$f":"'400 Installazione DC'!F41","v":""}]
[{"$f":"'400 Installazione DC'!B42","v":0},{"$f":"'400 Installazione DC'!C42","v":0},{"$f":"'400 Installazione DC'!D42","v":0},null,null,null,{"$f":"'400 Installazione DC'!E42","v":""},{"$f":"'400 Installazione DC'!F42","v":""}]
[{"$f":"'400 Installazione DC'!B43","v":1},{"$f":"'400 Installazione DC'!C43","v":1},{"$f":"'400 Installazione DC'!D43","v":"451.000"},null,null,null,{"$f":"'400 Installazione DC'!E43","v":"Conduttore\nCaratteristiche: \n16 mm2"},{"$f":"'400 Installazione DC'!F43","v":"ml"}]
[{"$f":"'400 Installazione DC'!B44","v":1},{"$f":"'400 Installazione DC'!C44","v":1},{"$f":"'400 Installazione DC'!D44","v":"452.000"},null,null,null,{"$f":"'400 Installazione DC'!E44","v":"Morsetti\nCaratteristiche: \nInossidabile"},{"$f":"'400 Installazione DC'!F44","v":"pz."}]
[{"$f":"'400 Installazione DC'!B45","v":0},{"$f":"'400 Installazione DC'!C45","v":0},{"$f":"'400 Installazione DC'!D45","v":"453.000"},null,null,null,{"$f":"'400 Installazione DC'!E45","v":"Capicorda"},{"$f":"'400 Installazione DC'!F45","v":""}]
[{"$f":"'400 Installazione DC'!B46","v":1},{"$f":"'400 Installazione DC'!C46","v":1},{"$f":"'400 Installazione DC'!D46","v":"454.000"},null,null,null,{"$f":"'400 Installazione DC'!E46","v":"Barra equipotenziale"},{"$f":"'400 Installazione DC'!F46","v":"pz."}]
[{"$f":"'400 Installazione DC'!B47","v":1},{"$f":"'400 Installazione DC'!C47","v":0},{"$f":"'400 Installazione DC'!D47","v":0},null,null,null,{"$f":"'400 Installazione DC'!E47","v":0},{"$f":"'400 Installazione DC'!F47","v":""}]
[{"$f":"'400 Installazione DC'!B48","v":1},{"$f":"'400 Installazione DC'!C48","v":0},{"$f":"'400 Installazione DC'!D48","v":"460.000"},null,null,null,{"$f":"'400 Installazione DC'!E48","v":"Connessione alla protezione scariche atmosferiche esistente"},{"$f":"'400 Installazione DC'!F48","v":""}]
[{"$f":"'400 Installazione DC'!B49","v":0},{"$f":"'400 Installazione DC'!C49","v":0},{"$f":"'400 Installazione DC'!D49","v":0},null,null,null,{"$f":"'400 Installazione DC'!E49","v":""},{"$f":"'400 Installazione DC'!F49","v":""}]
[{"$f":"'400 Installazione DC'!B50","v":1},{"$f":"'400 Installazione DC'!C50","v":1},{"$f":"'400 Installazione DC'!D50","v":"461.000"},null,null,null,{"$f":"'400 Installazione DC'!E50","v":"Filo"},{"$f":"'400 Installazione DC'!F50","v":"ml"}]
[{"$f":"'400 Installazione DC'!B51","v":1},{"$f":"'400 Installazione DC'!C51","v":1},{"$f":"'400 Installazione DC'!D51","v":"462.000"},null,null,null,{"$f":"'400 Installazione DC'!E51","v":"Morsetti"},{"$f":"'400 Installazione DC'!F51","v":"pz."}]
[{"$f":"'400 Installazione DC'!B52","v":0},{"$f":"'400 Installazione DC'!C52","v":0},{"$f":"'400 Installazione DC'!D52","v":"463.000"},null,null,null,{"$f":"'400 Installazione DC'!E52","v":"Supporti per conduttori"},{"$f":"'400 Installazione DC'!F52","v":""}]
[{"$f":"'400 Installazione DC'!B53","v":0},{"$f":"'400 Installazione DC'!C53","v":0},{"$f":"'400 Installazione DC'!D53","v":0},null,null,null,{"$f":"'400 Installazione DC'!E53","v":0},{"$f":"'400 Installazione DC'!F53","v":0}]
[1,1,null,null,null,null,"Totale parziale Installazione DC"]
[1]
[1,null,"500.000",null,null,null,"Installazione AC"]
[1]
[{"$f":"'500 Installazione AC'!B6","v":1},{"$f":"'500 Installazione AC'!C6","v":1},{"$f":"'500 Installazione AC'!D6","v":"510.000"},null,null,null,{"$f":"'500 Installazione AC'!E6","v":"Installazione AC"},{"$f":"'500 Installazione AC'!F6","v":"forfait"}]
[{"$f":"'500 Installazione AC'!B7","v":1},{"$f":"'500 Installazione AC'!C7","v":0},{"$f":"'500 Installazione AC'!D7","v":0},null,null,null,{"$f":"'500 Installazione AC'!E7","v":"Caratteristiche: \nSezione\n6mm2\nCavo Pur"},{"$f":"'500 Installazione AC'!F7","v":0}]
[{"$f":"'500 Installazione AC'!B8","v":0},{"$f":"'500 Installazione AC'!C8","v":0},{"$f":"'500 Installazione AC'!D8","v":"511.000"},null,null,null,{"$f":"'500 Installazione AC'!E8","v":"Cavo per esterno (installazioni all'esterno)"},{"$f":"'500 Installazione AC'!F8","v":""}]
[{"$f":"'500 Installazione AC'!B9","v":0},{"$f":"'500 Installazione AC'!C9","v":0},{"$f":"'500 Installazione AC'!D9","v":"512.000"},null,null,null,{"$f":"'500 Installazione AC'!E9","v":"Cavo per interno (installazioni all'interno)"},{"$f":"'500 Installazione AC'!F9","v":""}]
[{"$f":"'500 Installazione AC'!B10","v":0},{"$f":"'500 Installazione AC'!C10","v":0},{"$f":"'500 Installazione AC'!D10","v":"513.000"},null,null,null,{"$f":"'500 Installazione AC'!E10","v":"Cavo interrato"},{"$f":"'500 Installazione AC'!F10","v":""}]
[{"$f":"'500 Installazione AC'!B11","v":1},{"$f":"'500 Installazione AC'!C11","v":0},{"$f":"'500 Installazione AC'!D11","v":0},null,null,null,{"$f":"'500 Installazione AC'!E11","v":0},{"$f":"'500 Installazione AC'!F11","v":""}]
[{"$f":"'500 Installazione AC'!B12","v":1},{"$f":"'500 Installazione AC'!C12","v":0},{"$f":"'500 Installazione AC'!D12","v":"520.000"},null,null,null,{"$f":"'500 Installazione AC'!E12","v":"Dispositivi di commutazione, protezione e misurazione BT"},{"$f":"'500 Installazione AC'!F12","v":""}]
[{"$f":"'500 Installazione AC'!B13","v":1},{"$f":"'500 Installazione AC'!C13","v":1},{"$f":"'500 Installazione AC'!D13","v":"521.000"},null,null,null,{"$f":"'500 Installazione AC'!E13","v":"Interruttore AC\nCaratteristiche: \nCapacità di carico di corrente"},{"$f":"'500 Installazione AC'!F13","v":"pz."}]
[{"$f":"'500 Installazione AC'!B14","v":0},{"$f":"'500 Installazione AC'!C14","v":0},{"$f":"'500 Installazione AC'!D14","v":"522.000"},null,null,null,{"$f":"'500 Installazione AC'!E14","v":"App. assiemate di manovra (distr. BT)"},{"$f":"'500 Installazione AC'!F14","v":""}]
[{"$f":"'500 Installazione AC'!B15","v":0},{"$f":"'500 Installazione AC'!C15","v":0},{"$f":"'500 Installazione AC'!D15","v":"523.000"},null,null,null,{"$f":"'500 Installazione AC'!E15","v":"Fusibile AC"},{"$f":"'500 Installazione AC'!F15","v":""}]
[{"$f":"'500 Installazione AC'!B16","v":1},{"$f":"'500 Installazione AC'!C16","v":1},{"$f":"'500 Installazione AC'!D16","v":"524.000"},null,null,null,{"$f":"'500 Installazione AC'!E16","v":"Protezione RI\nCaratteristiche: \nIntegrato nell'ondulatore"},{"$f":"'500 Installazione AC'!F16","v":"pz."}]
[{"$f":"'500 Installazione AC'!B17","v":1},{"$f":"'500 Installazione AC'!C17","v":1},{"$f":"'500 Installazione AC'!D17","v":"525.000"},null,null,null,{"$f":"'500 Installazione AC'!E17","v":"SPD "},{"$f":"'500 Installazione AC'!F17","v":"pz."}]
[{"$f":"'500 Installazione AC'!B18","v":1},{"$f":"'500 Installazione AC'!C18","v":1},{"$f":"'500 Installazione AC'!D18","v":"526.000"},null,null,null,{"$f":"'500 Installazione AC'!E18","v":"Contatore"},{"$f":"'500 Installazione AC'!F18","v":"pz."}]
[{"$f":"'500 Installazione AC'!B19","v":1},{"$f":"'500 Installazione AC'!C19","v":1},{"$f":"'500 Installazione AC'!D19","v":"527.000"},null,null,null,{"$f":"'500 Installazione AC'!E19","v":"Trasformatore di corrente"},{"$f":"'500 Installazione AC'!F19","v":"pz."}]
[{"$f":"'500 Installazione AC'!B20","v":1},{"$f":"'500 Installazione AC'!C20","v":0},{"$f":"'500 Installazione AC'!D20","v":0},null,null,null,{"$f":"'500 Installazione AC'!E20","v":0},{"$f":"'500 Installazione AC'!F20","v":""}]
[{"$f":"'500 Installazione AC'!B21","v":1},{"$f":"'500 Installazione AC'!C21","v":1},{"$f":"'500 Installazione AC'!D21","v":"530.000"},null,null,null,{"$f":"'500 Installazione AC'!E21","v":"Protezione dei cavi/passaggio dei cavi"},{"$f":"'500 Installazione AC'!F21","v":"forfait"}]
[{"$f":"'500 Installazione AC'!B22","v":0},{"$f":"'500 Installazione AC'!C22","v":0},{"$f":"'500 Installazione AC'!D22","v":0},null,null,null,{"$f":"'500 Installazione AC'!E22","v":""},{"$f":"'500 Installazione AC'!F22","v":""}]
[{"$f":"'500 Installazione AC'!B23","v":1},{"$f":"'500 Installazione AC'!C23","v":1},{"$f":"'500 Installazione AC'!D23","v":"531.000"},null,null,null,{"$f":"'500 Installazione AC'!E23","v":"Portacavi\nCaratteristiche: \nZincato a bagno"},{"$f":"'500 Installazione AC'!F23","v":"ml"}]
[{"$f":"'500 Installazione AC'!B24","v":0},{"$f":"'500 Installazione AC'!C24","v":0},{"$f":"'500 Installazione AC'!D24","v":"532.000"},null,null,null,{"$f":"'500 Installazione AC'!E24","v":"Canaline"},{"$f":"'500 Installazione AC'!F24","v":""}]
[{"$f":"'500 Installazione AC'!B25","v":0},{"$f":"'500 Installazione AC'!C25","v":0},{"$f":"'500 Installazione AC'!D25","v":"533.000"},null,null,null,{"$f":"'500 Installazione AC'!E25","v":"Tubi"},{"$f":"'500 Installazione AC'!F25","v":""}]
[{"$f":"'500 Installazione AC'!B26","v":0},{"$f":"'500 Installazione AC'!C26","v":0},{"$f":"'500 Installazione AC'!D26","v":"534.000"},null,null,null,{"$f":"'500 Installazione AC'!E26","v":"Tubi flessibili"},{"$f":"'500 Installazione AC'!F26","v":""}]
[{"$f":"'500 Installazione AC'!B27","v":0},{"$f":"'500 Installazione AC'!C27","v":0},{"$f":"'500 Installazione AC'!D27","v":"535.000"},null,null,null,{"$f":"'500 Installazione AC'!E27","v":"Lastre di pietra (lastre da giardino)"},{"$f":"'500 Installazione AC'!F27","v":""}]
[{"$f":"'500 Installazione AC'!B28","v":1},{"$f":"'500 Installazione AC'!C28","v":0},{"$f":"'500 Installazione AC'!D28","v":0},null,null,null,{"$f":"'500 Installazione AC'!E28","v":0},{"$f":"'500 Installazione AC'!F28","v":""}]
[{"$f":"'500 Installazione AC'!B29","v":1},{"$f":"'500 Installazione AC'!C29","v":0},{"$f":"'500 Installazione AC'!D29","v":"540.000"},null,null,null,{"$f":"'500 Installazione AC'!E29","v":"Collegamento equipotenziale"},{"$f":"'500 Installazione AC'!F29","v":""}]
[{"$f":"'500 Installazione AC'!B30","v":0},{"$f":"'500 Installazione AC'!C30","v":0},{"$f":"'500 Installazione AC'!D30","v":0},null,null,null,{"$f":"'500 Installazione AC'!E30","v":""},{"$f":"'500 Installazione AC'!F30","v":""}]
[{"$f":"'500 Installazione AC'!B31","v":1},{"$f":"'500 Installazione AC'!C31","v":1},{"$f":"'500 Installazione AC'!D31","v":"541.000"},null,null,null,{"$f":"'500 Installazione AC'!E31","v":"Conduttore\nCaratteristiche: \n16mm2"},{"$f":"'500 Installazione AC'!F31","v":"ml"}]
[{"$f":"'500 Installazione AC'!B32","v":1},{"$f":"'500 Installazione AC'!C32","v":1},{"$f":"'500 Installazione AC'!D32","v":"542.000"},null,null,null,{"$f":"'500 Installazione AC'!E32","v":"Morsetti\nCaratteristiche: \nInossidabile"},{"$f":"'500 Installazione AC'!F32","v":"pz."}]
[{"$f":"'500 Installazione AC'!B33","v":0},{"$f":"'500 Installazione AC'!C33","v":0},{"$f":"'500 Installazione AC'!D33","v":"543.000"},null,null,null,{"$f":"'500 Installazione AC'!E33","v":"Capicorda"},{"$f":"'500 Installazione AC'!F33","v":""}]
[{"$f":"'500 Installazione AC'!B34","v":0},{"$f":"'500 Installazione AC'!C34","v":0},{"$f":"'500 Installazione AC'!D34","v":"544.000"},null,null,null,{"$f":"'500 Installazione AC'!E34","v":"Barra equipotenziale"},{"$f":"'500 Installazione AC'!F34","v":""}]
[{"$f":"'500 Installazione AC'!B35","v":1},{"$f":"'500 Installazione AC'!C35","v":0},{"$f":"'500 Installazione AC'!D35","v":0},null,null,null,{"$f":"'500 Installazione AC'!E35","v":0},{"$f":"'500 Installazione AC'!F35","v":""}]
[{"$f":"'500 Installazione AC'!B36","v":0},{"$f":"'500 Installazione AC'!C36","v":0},{"$f":"'500 Installazione AC'!D36","v":"550.000"},null,null,null,{"$f":"'500 Installazione AC'!E36","v":"Installazioni MT"},{"$f":"'500 Installazione AC'!F36","v":""}]
[{"$f":"'500 Installazione AC'!B37","v":0},{"$f":"'500 Installazione AC'!C37","v":0},{"$f":"'500 Installazione AC'!D37","v":"551.000"},null,null,null,{"$f":"'500 Installazione AC'!E37","v":"Trasformatore MT"},{"$f":"'500 Installazione AC'!F37","v":""}]
[{"$f":"'500 Installazione AC'!B38","v":0},{"$f":"'500 Installazione AC'!C38","v":0},{"$f":"'500 Installazione AC'!D38","v":"552.000"},null,null,null,{"$f":"'500 Installazione AC'!E38","v":"Stazione MT"},{"$f":"'500 Installazione AC'!F38","v":""}]
[{"$f":"'500 Installazione AC'!B39","v":0},{"$f":"'500 Installazione AC'!C39","v":0},{"$f":"'500 Installazione AC'!D39","v":"553.000"},null,null,null,{"$f":"'500 Installazione AC'!E39","v":"Linee MT"},{"$f":"'500 Installazione AC'!F39","v":""}]
[{"$f":"'500 Installazione AC'!B40","v":0},{"$f":"'500 Installazione AC'!C40","v":0},{"$f":"'500 Installazione AC'!D40","v":"554.000"},null,null,null,{"$f":"'500 Installazione AC'!E40","v":"Interruttore MT"},{"$f":"'500 Installazione AC'!F40","v":""}]
[{"$f":"'500 Installazione AC'!B41","v":0},{"$f":"'500 Installazione AC'!C41","v":0},{"$f":"'500 Installazione AC'!D41","v":"555.000"},null,null,null,{"$f":"'500 Installazione AC'!E41","v":"Protezione RI"},{"$f":"'500 Installazione AC'!F41","v":""}]
[{"$f":"'500 Installazione AC'!B42","v":0},{"$f":"'500 Installazione AC'!C42","v":0},{"$f":"'500 Installazione AC'!D42","v":"556.000"},null,null,null,{"$f":"'500 Installazione AC'!E42","v":"SPD"},{"$f":"'500 Installazione AC'!F42","v":""}]
[{"$f":"'500 Installazione AC'!B43","v":0},{"$f":"'500 Installazione AC'!C43","v":0},{"$f":"'500 Installazione AC'!D43","v":"557.000"},null,null,null,{"$f":"'500 Installazione AC'!E43","v":"Tecnica di comando/protezione"},{"$f":"'500 Installazione AC'!F43","v":""}]
[{"$f":"'500 Installazione AC'!B44","v":0},{"$f":"'500 Installazione AC'!C44","v":0},{"$f":"'500 Installazione AC'!D44","v":0},null,null,null,{"$f":"'500 Installazione AC'!E44","v":0},{"$f":"'500 Installazione AC'!F44","v":""}]
[{"$f":"'500 Installazione AC'!B45","v":1},{"$f":"'500 Installazione AC'!C45","v":0},{"$f":"'500 Installazione AC'!D45","v":"560.000"},null,null,null,{"$f":"'500 Installazione AC'!E45","v":"Installazioni RCP"},{"$f":"'500 Installazione AC'!F45","v":""}]
[{"$f":"'500 Installazione AC'!B46","v":1},{"$f":"'500 Installazione AC'!C46","v":1},{"$f":"'500 Installazione AC'!D46","v":"561.000"},null,null,null,{"$f":"'500 Installazione AC'!E46","v":"Contatore di elettricità\nCaratteristiche: \nContatore tarato (certificato MID)\nMisurazione diretta"},{"$f":"'500 Installazione AC'!F46","v":"pz."}]
[{"$f":"'500 Installazione AC'!B47","v":0},{"$f":"'500 Installazione AC'!C47","v":0},{"$f":"'500 Installazione AC'!D47","v":"562.000"},null,null,null,{"$f":"'500 Installazione AC'!E47","v":"Trasformatore per contatore di elettricità"},{"$f":"'500 Installazione AC'!F47","v":""}]
[{"$f":"'500 Installazione AC'!B48","v":0},{"$f":"'500 Installazione AC'!C48","v":0},{"$f":"'500 Installazione AC'!D48","v":"563.000"},null,null,null,{"$f":"'500 Installazione AC'!E48","v":"Contatore acqua fredda"},{"$f":"'500 Installazione AC'!F48","v":""}]
[{"$f":"'500 Installazione AC'!B49","v":0},{"$f":"'500 Installazione AC'!C49","v":0},{"$f":"'500 Installazione AC'!D49","v":"564.000"},null,null,null,{"$f":"'500 Installazione AC'!E49","v":"Contatore acqua calda"},{"$f":"'500 Installazione AC'!F49","v":""}]
[{"$f":"'500 Installazione AC'!B50","v":0},{"$f":"'500 Installazione AC'!C50","v":0},{"$f":"'500 Installazione AC'!D50","v":"565.000"},null,null,null,{"$f":"'500 Installazione AC'!E50","v":"Contatore calore"},{"$f":"'500 Installazione AC'!F50","v":""}]
[{"$f":"'500 Installazione AC'!B51","v":1},{"$f":"'500 Installazione AC'!C51","v":1},{"$f":"'500 Installazione AC'!D51","v":"566.000"},null,null,null,{"$f":"'500 Installazione AC'!E51","v":"Datalogger"},{"$f":"'500 Installazione AC'!F51","v":"pz."}]
[{"$f":"'500 Installazione AC'!B52","v":1},{"$f":"'500 Installazione AC'!C52","v":1},{"$f":"'500 Installazione AC'!D52","v":"567.000"},null,null,null,{"$f":"'500 Installazione AC'!E52","v":"Comunicazione/visualizzazione"},{"$f":"'500 Installazione AC'!F52","v":"pz."}]
[{"$f":"'500 Installazione AC'!B53","v":1},{"$f":"'500 Installazione AC'!C53","v":1},{"$f":"'500 Installazione AC'!D53","v":"568.000"},null,null,null,{"$f":"'500 Installazione AC'!E53","v":"Configurazione"},{"$f":"'500 Installazione AC'!F53","v":"pz."}]
[{"$f":"'500 Installazione AC'!B54","v":0},{"$f":"'500 Installazione AC'!C54","v":0},{"$f":"'500 Installazione AC'!D54","v":0},null,null,null,{"$f":"'500 Installazione AC'!E54","v":0},{"$f":"'500 Installazione AC'!F54","v":0}]
[1,1,null,null,null,null,"Totale parziale Installazione AC"]
[1]
[1,null,"600.000",null,null,null,"Preparazione del lavoro e progettazione"]
[1]
[{"$f":"'600 Prep. e progettazione'!B6","v":1},{"$f":"'600 Prep. e progettazione'!C6","v":0},{"$f":"'600 Prep. e progettazione'!D6","v":"610.000"},null,null,null,{"$f":"'600 Prep. e progettazione'!G6","v":"Allestimento/logistica del cantiere"},{"$f":"'600 Prep. e progettazione'!H6","v":""}]
[{"$f":"'600 Prep. e progettazione'!B7","v":1},{"$f":"'600 Prep. e progettazione'!C7","v":1},{"$f":"'600 Prep. e progettazione'!D7","v":"611.000"},null,null,null,{"$f":"'600 Prep. e progettazione'!G7","v":"Allestimento del cantiere"},{"$f":"'600 Prep. e progettazione'!H7","v":"forfait"}]
[{"$f":"'600 Prep. e progettazione'!B8","v":0},{"$f":"'600 Prep. e progettazione'!C8","v":0},null,{"$f":"'600 Prep. e progettazione'!E8","v":"611.100"},null,null,{"$f":"'600 Prep. e progettazione'!G8","v":"Allestimento generale del cantiere"},{"$f":"'600 Prep. e progettazione'!H8","v":""}]
[{"$f":"'600 Prep. e progettazione'!B9","v":0},{"$f":"'600 Prep. e progettazione'!C9","v":0},null,{"$f":"'600 Prep. e progettazione'!E9","v":"611.200"},null,null,{"$f":"'600 Prep. e progettazione'!G9","v":"Allacciamento elettrico"},{"$f":"'600 Prep. e progettazione'!H9","v":""}]
[{"$f":"'600 Prep. e progettazione'!B10","v":0},{"$f":"'600 Prep. e progettazione'!C10","v":0},null,{"$f":"'600 Prep. e progettazione'!E10","v":"611.300"},null,null,{"$f":"'600 Prep. e progettazione'!G10","v":"Container"},{"$f":"'600 Prep. e progettazione'!H10","v":""}]
[{"$f":"'600 Prep. e progettazione'!B11","v":1},{"$f":"'600 Prep. e progettazione'!C11","v":1},{"$f":"'600 Prep. e progettazione'!D11","v":"612.000"},null,null,null,{"$f":"'600 Prep. e progettazione'!G11","v":"Trasporto fino al cantiere"},{"$f":"'600 Prep. e progettazione'!H11","v":"forfait"}]
[{"$f":"'600 Prep. e progettazione'!B12","v":1},{"$f":"'600 Prep. e progettazione'!C12","v":1},{"$f":"'600 Prep. e progettazione'!D12","v":"613.000"},null,null,null,{"$f":"'600 Prep. e progettazione'!G12","v":"Sollevamento"},{"$f":"'600 Prep. e progettazione'!H12","v":"forfait"}]
[{"$f":"'600 Prep. e progettazione'!B13","v":0},{"$f":"'600 Prep. e progettazione'!C13","v":0},null,{"$f":"'600 Prep. e progettazione'!E13","v":"613.100"},null,null,{"$f":"'600 Prep. e progettazione'!G13","v":"Gru"},{"$f":"'600 Prep. e progettazione'!H13","v":""}]
[{"$f":"'600 Prep. e progettazione'!B14","v":0},{"$f":"'600 Prep. e progettazione'!C14","v":0},null,null,{"$f":"'600 Prep. e progettazione'!F14","v":"613.110"},null,{"$f":"'600 Prep. e progettazione'!G14","v":"Gru mobile"},{"$f":"'600 Prep. e progettazione'!H14","v":""}]
[{"$f":"'600 Prep. e progettazione'!B15","v":0},{"$f":"'600 Prep. e progettazione'!C15","v":0},null,{"$f":"'600 Prep. e progettazione'!E15","v":"613.200"},null,null,{"$f":"'600 Prep. e progettazione'!G15","v":"Sollevatore telescopico"},{"$f":"'600 Prep. e progettazione'!H15","v":""}]
[{"$f":"'600 Prep. e progettazione'!B16","v":0},{"$f":"'600 Prep. e progettazione'!C16","v":0},null,{"$f":"'600 Prep. e progettazione'!E16","v":"613.300"},null,null,{"$f":"'600 Prep. e progettazione'!G16","v":"Muletto"},{"$f":"'600 Prep. e progettazione'!H16","v":""}]
[{"$f":"'600 Prep. e progettazione'!B17","v":0},{"$f":"'600 Prep. e progettazione'!C17","v":0},null,{"$f":"'600 Prep. e progettazione'!E17","v":"613.400"},null,null,{"$f":"'600 Prep. e progettazione'!G17","v":"Gru da camion"},{"$f":"'600 Prep. e progettazione'!H17","v":""}]
[{"$f":"'600 Prep. e progettazione'!B18","v":0},{"$f":"'600 Prep. e progettazione'!C18","v":0},null,{"$f":"'600 Prep. e progettazione'!E18","v":"613.500"},null,null,{"$f":"'600 Prep. e progettazione'!G18","v":"Sollevatore per tetti"},{"$f":"'600 Prep. e progettazione'!H18","v":""}]
[{"$f":"'600 Prep. e progettazione'!B19","v":0},{"$f":"'600 Prep. e progettazione'!C19","v":0},null,{"$f":"'600 Prep. e progettazione'!E19","v":"613.600"},null,null,{"$f":"'600 Prep. e progettazione'!G19","v":"Elicottero"},{"$f":"'600 Prep. e progettazione'!H19","v":""}]
[{"$f":"'600 Prep. e progettazione'!B20","v":1},{"$f":"'600 Prep. e progettazione'!C20","v":1},{"$f":"'600 Prep. e progettazione'!D20","v":"614.000"},null,null,null,{"$f":"'600 Prep. e progettazione'!G20","v":"Smaltimento"},{"$f":"'600 Prep. e progettazione'!H20","v":"forfait"}]
[{"$f":"'600 Prep. e progettazione'!B21","v":0},{"$f":"'600 Prep. e progettazione'!C21","v":0},null,{"$f":"'600 Prep. e progettazione'!E21","v":"614.100"},null,null,{"$f":"'600 Prep. e progettazione'!G21","v":"Benna"},{"$f":"'600 Prep. e progettazione'!H21","v":""}]
[{"$f":"'600 Prep. e progettazione'!B22","v":0},{"$f":"'600 Prep. e progettazione'!C22","v":0},null,{"$f":"'600 Prep. e progettazione'!E22","v":"614.200"},null,null,{"$f":"'600 Prep. e progettazione'!G22","v":"Smaltimento rifiuti da cantiere"},{"$f":"'600 Prep. e progettazione'!H22","v":""}]
[{"$f":"'600 Prep. e progettazione'!B23","v":0},{"$f":"'600 Prep. e progettazione'!C23","v":0},{"$f":"'600 Prep. e progettazione'!D23","v":"615.000"},null,null,null,{"$f":"'600 Prep. e progettazione'!G23","v":"WC, installazioni sanitarie"},{"$f":"'600 Prep. e progettazione'!H23","v":""}]
[{"$f":"'600 Prep. e progettazione'!B24","v":0},{"$f":"'600 Prep. e progettazione'!C24","v":0},null,{"$f":"'600 Prep. e progettazione'!E24","v":"615.100"},null,null,{"$f":"'600 Prep. e progettazione'!G24","v":"Allacciamento servizi igienici"},{"$f":"'600 Prep. e progettazione'!H24","v":""}]
[{"$f":"'600 Prep. e progettazione'!B25","v":0},{"$f":"'600 Prep. e progettazione'!C25","v":0},{"$f":"'600 Prep. e progettazione'!D25","v":"616.000"},null,null,null,{"$f":"'600 Prep. e progettazione'!G25","v":"Parcheggi"},{"$f":"'600 Prep. e progettazione'!H25","v":""}]
[{"$f":"'600 Prep. e progettazione'!B26","v":0},{"$f":"'600 Prep. e progettazione'!C26","v":0},{"$f":"'600 Prep. e progettazione'!D26","v":"617.000"},null,null,null,{"$f":"'600 Prep. e progettazione'!G26","v":"Punto di consegna"},{"$f":"'600 Prep. e progettazione'!H26","v":""}]
[{"$f":"'600 Prep. e progettazione'!B27","v":0},{"$f":"'600 Prep. e progettazione'!C27","v":0},{"$f":"'600 Prep. e progettazione'!D27","v":"618.000"},null,null,null,{"$f":"'600 Prep. e progettazione'!G27","v":"Deposito provvisorio"},{"$f":"'600 Prep. e progettazione'!H27","v":""}]
[{"$f":"'600 Prep. e progettazione'!B28","v":1},{"$f":"'600 Prep. e progettazione'!C28","v":0},{"$f":"'600 Prep. e progettazione'!D28","v":0},null,null,null,{"$f":"'600 Prep. e progettazione'!G28","v":0},{"$f":"'600 Prep. e progettazione'!H28","v":""}]
[{"$f":"'600 Prep. e progettazione'!B29","v":1},{"$f":"'600 Prep. e progettazione'!C29","v":0},{"$f":"'600 Prep. e progettazione'!D29","v":"620.000"},null,null,null,{"$f":"'600 Prep. e progettazione'!G29","v":"Sicurezza sul lavoro temporanea"},{"$f":"'600 Prep. e progettazione'!H29","v":""}]
[{"$f":"'600 Prep. e progettazione'!B30","v":0},{"$f":"'600 Prep. e progettazione'!C30","v":0},{"$f":"'600 Prep. e progettazione'!D30","v":"621.000"},null,null,null,{"$f":"'600 Prep. e progettazione'!G30","v":"Concetto per la sicurezza sul lavoro"},{"$f":"'600 Prep. e progettazione'!H30","v":""}]
[{"$f":"'600 Prep. e progettazione'!B31","v":1},{"$f":"'600 Prep. e progettazione'!C31","v":0},{"$f":"'600 Prep. e progettazione'!D31","v":"622.000"},null,null,null,{"$f":"'600 Prep. e progettazione'!G31","v":"Strumenti per la sicurezza sul lavoro"},{"$f":"'600 Prep. e progettazione'!H31","v":""}]
[{"$f":"'600 Prep. e progettazione'!B32","v":1},{"$f":"'600 Prep. e progettazione'!C32","v":1},null,{"$f":"'600 Prep. e progettazione'!E32","v":"622.100"},null,null,{"$f":"'600 Prep. e progettazione'!G32","v":"Ponteggio a torre"},{"$f":"'600 Prep. e progettazione'!H32","v":"ml"}]
[{"$f":"'600 Prep. e progettazione'!B33","v":1},{"$f":"'600 Prep. e progettazione'!C33","v":1},null,{"$f":"'600 Prep. e progettazione'!E33","v":"622.200"},null,null,{"$f":"'600 Prep. e progettazione'!G33","v":"Ponteggio con parapetti per tetto piano"},{"$f":"'600 Prep. e progettazione'!H33","v":"m2"}]
[{"$f":"'600 Prep. e progettazione'!B34","v":0},{"$f":"'600 Prep. e progettazione'!C34","v":0},null,{"$f":"'600 Prep. e progettazione'!E34","v":"622.300"},null,null,{"$f":"'600 Prep. e progettazione'!G34","v":"Ponteggio con protezione per i bordi del tetto"},{"$f":"'600 Prep. e progettazione'!H34","v":""}]
[{"$f":"'600 Prep. e progettazione'!B35","v":0},{"$f":"'600 Prep. e progettazione'!C35","v":0},null,{"$f":"'600 Prep. e progettazione'!E35","v":"622.400"},null,null,{"$f":"'600 Prep. e progettazione'!G35","v":"Sbarramento a zone"},{"$f":"'600 Prep. e progettazione'!H35","v":""}]
[{"$f":"'600 Prep. e progettazione'!B36","v":0},{"$f":"'600 Prep. e progettazione'!C36","v":0},null,{"$f":"'600 Prep. e progettazione'!E36","v":"622.500"},null,null,{"$f":"'600 Prep. e progettazione'!G36","v":"Sicurezza per lucernari"},{"$f":"'600 Prep. e progettazione'!H36","v":""}]
[{"$f":"'600 Prep. e progettazione'!B37","v":0},{"$f":"'600 Prep. e progettazione'!C37","v":0},null,{"$f":"'600 Prep. e progettazione'!E37","v":"622.600"},null,null,{"$f":"'600 Prep. e progettazione'!G37","v":"Rete di sicurezza sotto il tetto"},{"$f":"'600 Prep. e progettazione'!H37","v":""}]
[{"$f":"'600 Prep. e progettazione'!B38","v":0},{"$f":"'600 Prep. e progettazione'!C38","v":0},null,{"$f":"'600 Prep. e progettazione'!E38","v":"622.700"},null,null,{"$f":"'600 Prep. e progettazione'!G38","v":"Dispositivi di sicurezza e protezione (illuminazione, segnalazione, ecc.)"},{"$f":"'600 Prep. e progettazione'!H38","v":""}]
[{"$f":"'600 Prep. e progettazione'!B39","v":0},{"$f":"'600 Prep. e progettazione'!C39","v":0},null,{"$f":"'600 Prep. e progettazione'!E39","v":"622.800"},null,null,{"$f":"'600 Prep. e progettazione'!G39","v":"Messa in sicurezza dei bordi"},{"$f":"'600 Prep. e progettazione'!H39","v":""}]
[{"$f":"'600 Prep. e progettazione'!B40","v":1},{"$f":"'600 Prep. e progettazione'!C40","v":0},{"$f":"'600 Prep. e progettazione'!D40","v":0},null,null,null,{"$f":"'600 Prep. e progettazione'!G40","v":0},{"$f":"'600 Prep. e progettazione'!H40","v":""}]
[{"$f":"'600 Prep. e progettazione'!B41","v":1},{"$f":"'600 Prep. e progettazione'!C41","v":0},{"$f":"'600 Prep. e progettazione'!D41","v":"630.000"},null,null,null,{"$f":"'600 Prep. e progettazione'!G41","v":"Sicurezza sul lavoro permanente"},{"$f":"'600 Prep. e progettazione'!H41","v":""}]
[{"$f":"'600 Prep. e progettazione'!B42","v":1},{"$f":"'600 Prep. e progettazione'!C42","v":0},{"$f":"'600 Prep. e progettazione'!D42","v":"631.000"},null,null,null,{"$f":"'600 Prep. e progettazione'!G42","v":"Punto di arresto singolo"},{"$f":"'600 Prep. e progettazione'!H42","v":""}]
[{"$f":"'600 Prep. e progettazione'!B43","v":1},{"$f":"'600 Prep. e progettazione'!C43","v":1},null,{"$f":"'600 Prep. e progettazione'!E43","v":"631.100"},null,null,{"$f":"'600 Prep. e progettazione'!G43","v":"Punto di arresto singolo installato nel tetto"},{"$f":"'600 Prep. e progettazione'!H43","v":"pz."}]
[{"$f":"'600 Prep. e progettazione'!B44","v":0},{"$f":"'600 Prep. e progettazione'!C44","v":0},null,{"$f":"'600 Prep. e progettazione'!E44","v":"631.200"},null,null,{"$f":"'600 Prep. e progettazione'!G44","v":"Punto di arresto singolo zavorrato con ghiaia/substrato"},{"$f":"'600 Prep. e progettazione'!H44","v":""}]
[{"$f":"'600 Prep. e progettazione'!B45","v":0},{"$f":"'600 Prep. e progettazione'!C45","v":0},null,{"$f":"'600 Prep. e progettazione'!E45","v":"631.300"},null,null,{"$f":"'600 Prep. e progettazione'!G45","v":"Punto di arresto singolo zavorrato con elementi in pietra"},{"$f":"'600 Prep. e progettazione'!H45","v":""}]
[{"$f":"'600 Prep. e progettazione'!B46","v":0},{"$f":"'600 Prep. e progettazione'!C46","v":0},null,{"$f":"'600 Prep. e progettazione'!E46","v":"631.400"},null,null,{"$f":"'600 Prep. e progettazione'!G46","v":"Punto di arresto singolo fissato sulla sottostruttura"},{"$f":"'600 Prep. e progettazione'!H46","v":""}]
[{"$f":"'600 Prep. e progettazione'!B47","v":0},{"$f":"'600 Prep. e progettazione'!C47","v":0},null,{"$f":"'600 Prep. e progettazione'!E47","v":"631.500"},null,null,{"$f":"'600 Prep. e progettazione'!G47","v":"Punto di arresto singolo fissato su parete/soffitto"},{"$f":"'600 Prep. e progettazione'!H47","v":""}]
[{"$f":"'600 Prep. e progettazione'!B48","v":1},{"$f":"'600 Prep. e progettazione'!C48","v":0},{"$f":"'600 Prep. e progettazione'!D48","v":"632.000"},null,null,null,{"$f":"'600 Prep. e progettazione'!G48","v":"Sistema a fune o a binario"},{"$f":"'600 Prep. e progettazione'!H48","v":""}]
[{"$f":"'600 Prep. e progettazione'!B49","v":1},{"$f":"'600 Prep. e progettazione'!C49","v":1},null,{"$f":"'600 Prep. e progettazione'!E49","v":"632.100"},null,null,{"$f":"'600 Prep. e progettazione'!G49","v":"Sistema a fune o a binario installato nel tetto"},{"$f":"'600 Prep. e progettazione'!H49","v":"ml"}]
[{"$f":"'600 Prep. e progettazione'!B50","v":0},{"$f":"'600 Prep. e progettazione'!C50","v":0},null,{"$f":"'600 Prep. e progettazione'!E50","v":"632.200"},null,null,{"$f":"'600 Prep. e progettazione'!G50","v":"Sistema a fune o a binario zavorrato con ghiaia/substrato"},{"$f":"'600 Prep. e progettazione'!H50","v":""}]
[{"$f":"'600 Prep. e progettazione'!B51","v":0},{"$f":"'600 Prep. e progettazione'!C51","v":0},null,{"$f":"'600 Prep. e progettazione'!E51","v":"632.300"},null,null,{"$f":"'600 Prep. e progettazione'!G51","v":"Sistema a fune o a binario zavorrato con elementi in pietra"},{"$f":"'600 Prep. e progettazione'!H51","v":""}]
[{"$f":"'600 Prep. e progettazione'!B52","v":0},{"$f":"'600 Prep. e progettazione'!C52","v":0},null,{"$f":"'600 Prep. e progettazione'!E52","v":"632.400"},null,null,{"$f":"'600 Prep. e progettazione'!G52","v":"Sistema a fune o a binario fissato sulla sottostruttura"},{"$f":"'600 Prep. e progettazione'!H52","v":""}]
[{"$f":"'600 Prep. e progettazione'!B53","v":0},{"$f":"'600 Prep. e progettazione'!C53","v":0},null,{"$f":"'600 Prep. e progettazione'!E53","v":"632.500"},null,null,{"$f":"'600 Prep. e progettazione'!G53","v":"Sistema a fune o a binario fissato su parete/soffitto"},{"$f":"'600 Prep. e progettazione'!H53","v":""}]
[{"$f":"'600 Prep. e progettazione'!B54","v":0},{"$f":"'600 Prep. e progettazione'!C54","v":0},{"$f":"'600 Prep. e progettazione'!D54","v":"633.000"},null,null,null,{"$f":"'600 Prep. e progettazione'!G54","v":"Accesso al tetto"},{"$f":"'600 Prep. e progettazione'!H54","v":""}]
[{"$f":"'600 Prep. e progettazione'!B55","v":0},{"$f":"'600 Prep. e progettazione'!C55","v":0},null,{"$f":"'600 Prep. e progettazione'!E55","v":"633.100"},null,null,{"$f":"'600 Prep. e progettazione'!G55","v":"Scala con protezione anticaduta"},{"$f":"'600 Prep. e progettazione'!H55","v":""}]
[{"$f":"'600 Prep. e progettazione'!B56","v":0},{"$f":"'600 Prep. e progettazione'!C56","v":0},null,{"$f":"'600 Prep. e progettazione'!E56","v":"633.200"},null,null,{"$f":"'600 Prep. e progettazione'!G56","v":"Uscita sul tetto"},{"$f":"'600 Prep. e progettazione'!H56","v":""}]
[{"$f":"'600 Prep. e progettazione'!B57","v":0},{"$f":"'600 Prep. e progettazione'!C57","v":0},null,{"$f":"'600 Prep. e progettazione'!E57","v":"633.300"},null,null,{"$f":"'600 Prep. e progettazione'!G57","v":"Scala esterna"},{"$f":"'600 Prep. e progettazione'!H57","v":""}]
[{"$f":"'600 Prep. e progettazione'!B58","v":1},{"$f":"'600 Prep. e progettazione'!C58","v":0},{"$f":"'600 Prep. e progettazione'!D58","v":"634.000"},null,null,null,{"$f":"'600 Prep. e progettazione'!G58","v":"Protezione anticaduta per il lucernario"},{"$f":"'600 Prep. e progettazione'!H58","v":""}]
[{"$f":"'600 Prep. e progettazione'!B59","v":1},{"$f":"'600 Prep. e progettazione'!C59","v":1},null,{"$f":"'600 Prep. e progettazione'!E59","v":"634.100"},null,null,{"$f":"'600 Prep. e progettazione'!G59","v":"Griglia di protezione anticaduta per il lucernario"},{"$f":"'600 Prep. e progettazione'!H59","v":"m2"}]
[{"$f":"'600 Prep. e progettazione'!B60","v":0},{"$f":"'600 Prep. e progettazione'!C60","v":0},null,{"$f":"'600 Prep. e progettazione'!E60","v":"634.200"},null,null,{"$f":"'600 Prep. e progettazione'!G60","v":"Rete di protezione anticaduta per il lucernario"},{"$f":"'600 Prep. e progettazione'!H60","v":""}]
[{"$f":"'600 Prep. e progettazione'!B61","v":0},{"$f":"'600 Prep. e progettazione'!C61","v":0},null,{"$f":"'600 Prep. e progettazione'!E61","v":"634.300"},null,null,{"$f":"'600 Prep. e progettazione'!G61","v":"Ringhiera di protezione anticaduta per il lucernario"},{"$f":"'600 Prep. e progettazione'!H61","v":""}]
[{"$f":"'600 Prep. e progettazione'!B62","v":0},{"$f":"'600 Prep. e progettazione'!C62","v":0},{"$f":"'600 Prep. e progettazione'!D62","v":"635.000"},null,null,null,{"$f":"'600 Prep. e progettazione'!G62","v":"Piattaforme (per accesso all'ondulatore, ecc.)"},{"$f":"'600 Prep. e progettazione'!H62","v":""}]
[{"$f":"'600 Prep. e progettazione'!B63","v":0},{"$f":"'600 Prep. e progettazione'!C63","v":0},{"$f":"'600 Prep. e progettazione'!D63","v":"636.000"},null,null,null,{"$f":"'600 Prep. e progettazione'!G63","v":"Parapetto"},{"$f":"'600 Prep. e progettazione'!H63","v":""}]
[{"$f":"'600 Prep. e progettazione'!B64","v":0},{"$f":"'600 Prep. e progettazione'!C64","v":0},null,{"$f":"'600 Prep. e progettazione'!E64","v":"636.100"},null,null,{"$f":"'600 Prep. e progettazione'!G64","v":"Parapetto pieghevole"},{"$f":"'600 Prep. e progettazione'!H64","v":""}]
[{"$f":"'600 Prep. e progettazione'!B65","v":1},{"$f":"'600 Prep. e progettazione'!C65","v":0},{"$f":"'600 Prep. e progettazione'!D65","v":0},null,null,null,{"$f":"'600 Prep. e progettazione'!G65","v":0},{"$f":"'600 Prep. e progettazione'!H65","v":""}]
[{"$f":"'600 Prep. e progettazione'!B66","v":1},{"$f":"'600 Prep. e progettazione'!C66","v":0},{"$f":"'600 Prep. e progettazione'!D66","v":"640.000"},null,null,null,{"$f":"'600 Prep. e progettazione'!G66","v":"Autorizzazioni/richieste di finanziamento"},{"$f":"'600 Prep. e progettazione'!H66","v":""}]
[{"$f":"'600 Prep. e progettazione'!B67","v":0},{"$f":"'600 Prep. e progettazione'!C67","v":0},{"$f":"'600 Prep. e progettazione'!D67","v":"641.000"},null,null,null,{"$f":"'600 Prep. e progettazione'!G67","v":"Allestimento, inoltro e finalizzazione richiesta tecnica di allacciamento (RTA)"},{"$f":"'600 Prep. e progettazione'!H67","v":""}]
[{"$f":"'600 Prep. e progettazione'!B68","v":1},{"$f":"'600 Prep. e progettazione'!C68","v":1},{"$f":"'600 Prep. e progettazione'!D68","v":"642.000"},null,null,null,{"$f":"'600 Prep. e progettazione'!G68","v":"Allestimento, inoltro e finalizzazione avviso di installazione (AI)"},{"$f":"'600 Prep. e progettazione'!H68","v":"h"}]
[{"$f":"'600 Prep. e progettazione'!B69","v":0},{"$f":"'600 Prep. e progettazione'!C69","v":0},{"$f":"'600 Prep. e progettazione'!D69","v":"643.000"},null,null,null,{"$f":"'600 Prep. e progettazione'!G69","v":"Allestimento, inoltro e finalizzazione domanda di costruzione"},{"$f":"'600 Prep. e progettazione'!H69","v":""}]
[{"$f":"'600 Prep. e progettazione'!B70","v":1},{"$f":"'600 Prep. e progettazione'!C70","v":1},{"$f":"'600 Prep. e progettazione'!D70","v":"644.000"},null,null,null,{"$f":"'600 Prep. e progettazione'!G70","v":"Allestimento, inoltro e finalizzazione annuncio di costruzione"},{"$f":"'600 Prep. e progettazione'!H70","v":"h"}]
[{"$f":"'600 Prep. e progettazione'!B71","v":0},{"$f":"'600 Prep. e progettazione'!C71","v":0},{"$f":"'600 Prep. e progettazione'!D71","v":"645.000"},null,null,null,{"$f":"'600 Prep. e progettazione'!G71","v":"Allestimento, inoltro e finalizzazione approvazione dei piani ESTI per il FV"},{"$f":"'600 Prep. e progettazione'!H71","v":""}]
[{"$f":"'600 Prep. e progettazione'!B72","v":0},{"$f":"'600 Prep. e progettazione'!C72","v":0},{"$f":"'600 Prep. e progettazione'!D72","v":"646.000"},null,null,null,{"$f":"'600 Prep. e progettazione'!G72","v":"Allestimento, inoltro e finalizzazione approvazione dei piani ESTI per la MT"},{"$f":"'600 Prep. e progettazione'!H72","v":""}]
[{"$f":"'600 Prep. e progettazione'!B73","v":0},{"$f":"'600 Prep. e progettazione'!C73","v":0},{"$f":"'600 Prep. e progettazione'!D73","v":"647.000"},null,null,null,{"$f":"'600 Prep. e progettazione'!G73","v":"Allestimento, inoltro e finalizzazione richiesta di incentivazione"},{"$f":"'600 Prep. e progettazione'!H73","v":""}]
[{"$f":"'600 Prep. e progettazione'!B74","v":0},{"$f":"'600 Prep. e progettazione'!C74","v":0},null,{"$f":"'600 Prep. e progettazione'!E74","v":"647.100"},null,null,{"$f":"'600 Prep. e progettazione'!G74","v":"Allestimento, inoltro e finalizzazione annuncio Pronovo"},{"$f":"'600 Prep. e progettazione'!H74","v":""}]
[{"$f":"'600 Prep. e progettazione'!B75","v":0},{"$f":"'600 Prep. e progettazione'!C75","v":0},null,{"$f":"'600 Prep. e progettazione'!E75","v":"647.200"},null,null,{"$f":"'600 Prep. e progettazione'!G75","v":"Allestimento, inoltro e finalizzazione richiesta di incentivi cantonali e/o comunali"},{"$f":"'600 Prep. e progettazione'!H75","v":""}]
[{"$f":"'600 Prep. e progettazione'!B76","v":1},{"$f":"'600 Prep. e progettazione'!C76","v":0},{"$f":"'600 Prep. e progettazione'!D76","v":"648.000"},null,null,null,{"$f":"'600 Prep. e progettazione'!G76","v":"Tasse"},{"$f":"'600 Prep. e progettazione'!H76","v":""}]
[{"$f":"'600 Prep. e progettazione'!B77","v":0},{"$f":"'600 Prep. e progettazione'!C77","v":0},null,{"$f":"'600 Prep. e progettazione'!E77","v":"648.100"},null,null,{"$f":"'600 Prep. e progettazione'!G77","v":"Tasse per la domanda di costruzione"},{"$f":"'600 Prep. e progettazione'!H77","v":""}]
[{"$f":"'600 Prep. e progettazione'!B78","v":0},{"$f":"'600 Prep. e progettazione'!C78","v":0},null,{"$f":"'600 Prep. e progettazione'!E78","v":"648.200"},null,null,{"$f":"'600 Prep. e progettazione'!G78","v":"Tasse GRD"},{"$f":"'600 Prep. e progettazione'!H78","v":""}]
[{"$f":"'600 Prep. e progettazione'!B79","v":1},{"$f":"'600 Prep. e progettazione'!C79","v":1},null,{"$f":"'600 Prep. e progettazione'!E79","v":"648.300"},null,null,{"$f":"'600 Prep. e progettazione'!G79","v":"Tasse ESTI"},{"$f":"'600 Prep. e progettazione'!H79","v":"pz."}]
[{"$f":"'600 Prep. e progettazione'!B80","v":1},{"$f":"'600 Prep. e progettazione'!C80","v":0},{"$f":"'600 Prep. e progettazione'!D80","v":0},null,null,null,{"$f":"'600 Prep. e progettazione'!G80","v":0},{"$f":"'600 Prep. e progettazione'!H80","v":""}]
[{"$f":"'600 Prep. e progettazione'!B81","v":1},{"$f":"'600 Prep. e progettazione'!C81","v":0},{"$f":"'600 Prep. e progettazione'!D81","v":"650.000"},null,null,null,{"$f":"'600 Prep. e progettazione'!G81","v":"Progettazione esecutiva"},{"$f":"'600 Prep. e progettazione'!H81","v":""}]
[{"$f":"'600 Prep. e progettazione'!B82","v":0},{"$f":"'600 Prep. e progettazione'!C82","v":0},{"$f":"'600 Prep. e progettazione'!D82","v":"651.000"},null,null,null,{"$f":"'600 Prep. e progettazione'!G82","v":"Sicurezza dell'interfaccia"},{"$f":"'600 Prep. e progettazione'!H82","v":""}]
[{"$f":"'600 Prep. e progettazione'!B83","v":0},{"$f":"'600 Prep. e progettazione'!C83","v":0},null,{"$f":"'600 Prep. e progettazione'!E83","v":"651.100"},null,null,{"$f":"'600 Prep. e progettazione'!G83","v":"Perizia"},{"$f":"'600 Prep. e progettazione'!H83","v":""}]
[{"$f":"'600 Prep. e progettazione'!B84","v":0},{"$f":"'600 Prep. e progettazione'!C84","v":0},null,{"$f":"'600 Prep. e progettazione'!E84","v":"651.200"},null,null,{"$f":"'600 Prep. e progettazione'!G84","v":"Collaudo"},{"$f":"'600 Prep. e progettazione'!H84","v":""}]
[{"$f":"'600 Prep. e progettazione'!B85","v":0},{"$f":"'600 Prep. e progettazione'!C85","v":0},null,{"$f":"'600 Prep. e progettazione'!E85","v":"651.300"},null,null,{"$f":"'600 Prep. e progettazione'!G85","v":"Controllo della situazione"},{"$f":"'600 Prep. e progettazione'!H85","v":""}]
[{"$f":"'600 Prep. e progettazione'!B86","v":0},{"$f":"'600 Prep. e progettazione'!C86","v":0},null,{"$f":"'600 Prep. e progettazione'!E86","v":"651.400"},null,null,{"$f":"'600 Prep. e progettazione'!G86","v":"Controllo delle dimensioni sul posto"},{"$f":"'600 Prep. e progettazione'!H86","v":""}]
[{"$f":"'600 Prep. e progettazione'!B87","v":0},{"$f":"'600 Prep. e progettazione'!C87","v":0},null,{"$f":"'600 Prep. e progettazione'!E87","v":"651.500"},null,null,{"$f":"'600 Prep. e progettazione'!G87","v":"Sondaggi"},{"$f":"'600 Prep. e progettazione'!H87","v":""}]
[{"$f":"'600 Prep. e progettazione'!B88","v":1},{"$f":"'600 Prep. e progettazione'!C88","v":1},{"$f":"'600 Prep. e progettazione'!D88","v":"652.000"},null,null,null,{"$f":"'600 Prep. e progettazione'!G88","v":"Allestimento/disegno dei piani esecutivi"},{"$f":"'600 Prep. e progettazione'!H88","v":"h"}]
[{"$f":"'600 Prep. e progettazione'!B89","v":0},{"$f":"'600 Prep. e progettazione'!C89","v":0},null,{"$f":"'600 Prep. e progettazione'!E89","v":"652.100"},null,null,{"$f":"'600 Prep. e progettazione'!G89","v":"Allestimento piano dei moduli"},{"$f":"'600 Prep. e progettazione'!H89","v":""}]
[{"$f":"'600 Prep. e progettazione'!B90","v":0},{"$f":"'600 Prep. e progettazione'!C90","v":0},null,{"$f":"'600 Prep. e progettazione'!E90","v":"652.200"},null,null,{"$f":"'600 Prep. e progettazione'!G90","v":"Allestimento piano delle stringhe"},{"$f":"'600 Prep. e progettazione'!H90","v":""}]
[{"$f":"'600 Prep. e progettazione'!B91","v":0},{"$f":"'600 Prep. e progettazione'!C91","v":0},null,{"$f":"'600 Prep. e progettazione'!E91","v":"652.300"},null,null,{"$f":"'600 Prep. e progettazione'!G91","v":"Allestimento piano logistico"},{"$f":"'600 Prep. e progettazione'!H91","v":""}]
[{"$f":"'600 Prep. e progettazione'!B92","v":0},{"$f":"'600 Prep. e progettazione'!C92","v":0},null,{"$f":"'600 Prep. e progettazione'!E92","v":"652.400"},null,null,{"$f":"'600 Prep. e progettazione'!G92","v":"Allestimento schema ondulatore"},{"$f":"'600 Prep. e progettazione'!H92","v":""}]
[{"$f":"'600 Prep. e progettazione'!B93","v":0},{"$f":"'600 Prep. e progettazione'!C93","v":0},null,{"$f":"'600 Prep. e progettazione'!E93","v":"652.500"},null,null,{"$f":"'600 Prep. e progettazione'!G93","v":"Allestimento schema sotto distribuzione e distribuzione principale"},{"$f":"'600 Prep. e progettazione'!H93","v":""}]
[{"$f":"'600 Prep. e progettazione'!B94","v":0},{"$f":"'600 Prep. e progettazione'!C94","v":0},{"$f":"'600 Prep. e progettazione'!D94","v":"653.000"},null,null,null,{"$f":"'600 Prep. e progettazione'!G94","v":"Verifica statica edificio"},{"$f":"'600 Prep. e progettazione'!H94","v":""}]
[{"$f":"'600 Prep. e progettazione'!B95","v":0},{"$f":"'600 Prep. e progettazione'!C95","v":0},{"$f":"'600 Prep. e progettazione'!D95","v":"654.000"},null,null,null,{"$f":"'600 Prep. e progettazione'!G95","v":"Allestimento rapporto di analisi statica della costruzione"},{"$f":"'600 Prep. e progettazione'!H95","v":""}]
[{"$f":"'600 Prep. e progettazione'!B96","v":0},{"$f":"'600 Prep. e progettazione'!C96","v":0},{"$f":"'600 Prep. e progettazione'!D96","v":"655.000"},null,null,null,{"$f":"'600 Prep. e progettazione'!G96","v":"Allestimento rapporto di analisi statica allestito da una ditta esterna"},{"$f":"'600 Prep. e progettazione'!H96","v":""}]
[{"$f":"'600 Prep. e progettazione'!B97","v":0},{"$f":"'600 Prep. e progettazione'!C97","v":0},{"$f":"'600 Prep. e progettazione'!D97","v":"656.000"},null,null,null,{"$f":"'600 Prep. e progettazione'!G97","v":"Allestimento concetto di protezione antincendio"},{"$f":"'600 Prep. e progettazione'!H97","v":""}]
[{"$f":"'600 Prep. e progettazione'!B98","v":0},{"$f":"'600 Prep. e progettazione'!C98","v":0},{"$f":"'600 Prep. e progettazione'!D98","v":"657.000"},null,null,null,{"$f":"'600 Prep. e progettazione'!G98","v":"Allestimento concetto di protezione antifulmine e da sovratensione"},{"$f":"'600 Prep. e progettazione'!H98","v":""}]
[{"$f":"'600 Prep. e progettazione'!B99","v":0},{"$f":"'600 Prep. e progettazione'!C99","v":0},{"$f":"'600 Prep. e progettazione'!D99","v":"658.000"},null,null,null,{"$f":"'600 Prep. e progettazione'!G99","v":"Giustificativo selettività"},{"$f":"'600 Prep. e progettazione'!H99","v":""}]
[{"$f":"'600 Prep. e progettazione'!B100","v":0},{"$f":"'600 Prep. e progettazione'!C100","v":0},{"$f":"'600 Prep. e progettazione'!D100","v":"659.000"},null,null,null,{"$f":"'600 Prep. e progettazione'!G100","v":"Modello"},{"$f":"'600 Prep. e progettazione'!H100","v":""}]
[{"$f":"'600 Prep. e progettazione'!B101","v":0},{"$f":"'600 Prep. e progettazione'!C101","v":0},null,{"$f":"'600 Prep. e progettazione'!E101","v":"659.100"},null,null,{"$f":"'600 Prep. e progettazione'!G101","v":"Modello a mano"},{"$f":"'600 Prep. e progettazione'!H101","v":""}]
[{"$f":"'600 Prep. e progettazione'!B102","v":0},{"$f":"'600 Prep. e progettazione'!C102","v":0},null,{"$f":"'600 Prep. e progettazione'!E102","v":"659.200"},null,null,{"$f":"'600 Prep. e progettazione'!G102","v":"Allestimento prototipo (mock-up)"},{"$f":"'600 Prep. e progettazione'!H102","v":""}]
[{"$f":"'600 Prep. e progettazione'!B103","v":1},{"$f":"'600 Prep. e progettazione'!C103","v":0},{"$f":"'600 Prep. e progettazione'!D103","v":0},null,null,null,{"$f":"'600 Prep. e progettazione'!G103","v":0},{"$f":"'600 Prep. e progettazione'!H103","v":""}]
[{"$f":"'600 Prep. e progettazione'!B104","v":1},{"$f":"'600 Prep. e progettazione'!C104","v":0},{"$f":"'600 Prep. e progettazione'!D104","v":"660.000"},null,null,null,{"$f":"'600 Prep. e progettazione'!G104","v":"Gestione del progetto e del cantiere"},{"$f":"'600 Prep. e progettazione'!H104","v":""}]
[{"$f":"'600 Prep. e progettazione'!B105","v":1},{"$f":"'600 Prep. e progettazione'!C105","v":1},{"$f":"'600 Prep. e progettazione'!D105","v":"661.000"},null,null,null,{"$f":"'600 Prep. e progettazione'!G105","v":"Gestione del progetto"},{"$f":"'600 Prep. e progettazione'!H105","v":"h"}]
[{"$f":"'600 Prep. e progettazione'!B106","v":1},{"$f":"'600 Prep. e progettazione'!C106","v":1},{"$f":"'600 Prep. e progettazione'!D106","v":"662.000"},null,null,null,{"$f":"'600 Prep. e progettazione'!G106","v":"Gestione del cantiere"},{"$f":"'600 Prep. e progettazione'!H106","v":"h"}]
[{"$f":"'600 Prep. e progettazione'!B107","v":0},{"$f":"'600 Prep. e progettazione'!C107","v":1},{"$f":"'600 Prep. e progettazione'!D107","v":"663.000"},null,null,null,{"$f":"'600 Prep. e progettazione'!G107","v":"Messa in servizio"},{"$f":"'600 Prep. e progettazione'!H107","v":"h"}]
[{"$f":"'600 Prep. e progettazione'!B108","v":0},{"$f":"'600 Prep. e progettazione'!C108","v":0},null,{"$f":"'600 Prep. e progettazione'!E108","v":"663.100"},null,null,{"$f":"'600 Prep. e progettazione'!G108","v":"Messa in servizio impianto FV"},{"$f":"'600 Prep. e progettazione'!H108","v":""}]
[{"$f":"'600 Prep. e progettazione'!B109","v":0},{"$f":"'600 Prep. e progettazione'!C109","v":0},null,{"$f":"'600 Prep. e progettazione'!E109","v":"663.200"},null,null,{"$f":"'600 Prep. e progettazione'!G109","v":"Programmazione dei sistemi di controllo"},{"$f":"'600 Prep. e progettazione'!H109","v":""}]
[{"$f":"'600 Prep. e progettazione'!B110","v":1},{"$f":"'600 Prep. e progettazione'!C110","v":1},{"$f":"'600 Prep. e progettazione'!D110","v":"664.000"},null,null,null,{"$f":"'600 Prep. e progettazione'!G110","v":"Documentazione dell'impianto"},{"$f":"'600 Prep. e progettazione'!H110","v":"h"}]
[{"$f":"'600 Prep. e progettazione'!B111","v":1},{"$f":"'600 Prep. e progettazione'!C111","v":1},{"$f":"'600 Prep. e progettazione'!D111","v":"665.000"},null,null,null,{"$f":"'600 Prep. e progettazione'!G111","v":"Istruzioni"},{"$f":"'600 Prep. e progettazione'!H111","v":"h"}]
[{"$f":"'600 Prep. e progettazione'!B112","v":0},{"$f":"'600 Prep. e progettazione'!C112","v":0},{"$f":"'600 Prep. e progettazione'!D112","v":"666.000"},null,null,null,{"$f":"'600 Prep. e progettazione'!G112","v":"Tariffe per lavori a regia"},{"$f":"'600 Prep. e progettazione'!H112","v":""}]
[{"$f":"'600 Prep. e progettazione'!B113","v":1},{"$f":"'600 Prep. e progettazione'!C113","v":0},{"$f":"'600 Prep. e progettazione'!D113","v":0},null,null,null,{"$f":"'600 Prep. e progettazione'!G113","v":0},{"$f":"'600 Prep. e progettazione'!H113","v":""}]
[{"$f":"'600 Prep. e progettazione'!B114","v":1},{"$f":"'600 Prep. e progettazione'!C114","v":0},{"$f":"'600 Prep. e progettazione'!D114","v":"670.000"},null,null,null,{"$f":"'600 Prep. e progettazione'!G114","v":"Collaudo"},{"$f":"'600 Prep. e progettazione'!H114","v":""}]
[{"$f":"'600 Prep. e progettazione'!B115","v":1},{"$f":"'600 Prep. e progettazione'!C115","v":1},{"$f":"'600 Prep. e progettazione'!D115","v":"671.000"},null,null,null,{"$f":"'600 Prep. e progettazione'!G115","v":"Collaudo da parte di progettista / installatore / autorità / GRD"},{"$f":"'600 Prep. e progettazione'!H115","v":"h"}]
[{"$f":"'600 Prep. e progettazione'!B116","v":1},{"$f":"'600 Prep. e progettazione'!C116","v":1},{"$f":"'600 Prep. e progettazione'!D116","v":"672.000"},null,null,null,{"$f":"'600 Prep. e progettazione'!G116","v":"Allestimento RaSi"},{"$f":"'600 Prep. e progettazione'!H116","v":"h"}]
[{"$f":"'600 Prep. e progettazione'!B117","v":1},{"$f":"'600 Prep. e progettazione'!C117","v":1},{"$f":"'600 Prep. e progettazione'!D117","v":"673.000"},null,null,null,{"$f":"'600 Prep. e progettazione'!G117","v":"Allestimento PM PV (Protocollo delle misurazioni e delle prove)"},{"$f":"'600 Prep. e progettazione'!H117","v":"h"}]
[{"$f":"'600 Prep. e progettazione'!B118","v":1},{"$f":"'600 Prep. e progettazione'!C118","v":1},{"$f":"'600 Prep. e progettazione'!D118","v":"674.000"},null,null,null,{"$f":"'600 Prep. e progettazione'!G118","v":"Controllo accreditato DC"},{"$f":"'600 Prep. e progettazione'!H118","v":"h"}]
[{"$f":"'600 Prep. e progettazione'!B119","v":1},{"$f":"'600 Prep. e progettazione'!C119","v":1},{"$f":"'600 Prep. e progettazione'!D119","v":"675.000"},null,null,null,{"$f":"'600 Prep. e progettazione'!G119","v":"Controllo indipendente AC"},{"$f":"'600 Prep. e progettazione'!H119","v":"h"}]
[{"$f":"'600 Prep. e progettazione'!B120","v":1},{"$f":"'600 Prep. e progettazione'!C120","v":1},{"$f":"'600 Prep. e progettazione'!D120","v":"676.000"},null,null,null,{"$f":"'600 Prep. e progettazione'!G120","v":"Certificazione e inoltro a Pronovo da parte dell'auditore"},{"$f":"'600 Prep. e progettazione'!H120","v":"h"}]
[{"$f":"'600 Prep. e progettazione'!B121","v":0},{"$f":"'600 Prep. e progettazione'!C121","v":0},null,{"$f":"'600 Prep. e progettazione'!E121","v":"676.100"},null,null,{"$f":"'600 Prep. e progettazione'!G121","v":"Certificazione e inoltro a Pronovo da parte dell'auditore, incl. GO"},{"$f":"'600 Prep. e progettazione'!H121","v":""}]
[{"$f":"'600 Prep. e progettazione'!B122","v":0},{"$f":"'600 Prep. e progettazione'!C122","v":0},{"$f":"'600 Prep. e progettazione'!D122","v":"677.000"},null,null,null,{"$f":"'600 Prep. e progettazione'!G122","v":"Collaudo con ESTI sul posto"},{"$f":"'600 Prep. e progettazione'!H122","v":""}]
[{"$f":"'600 Prep. e progettazione'!B123","v":0},{"$f":"'600 Prep. e progettazione'!C123","v":0},{"$f":"'600 Prep. e progettazione'!D123","v":"678.000"},null,null,null,{"$f":"'600 Prep. e progettazione'!G123","v":"Certificato di protezione antifulmine"},{"$f":"'600 Prep. e progettazione'!H123","v":""}]
[{"$f":"'600 Prep. e progettazione'!B124","v":1},{"$f":"'600 Prep. e progettazione'!C124","v":0},{"$f":"'600 Prep. e progettazione'!D124","v":0},null,null,null,{"$f":"'600 Prep. e progettazione'!G124","v":0},{"$f":"'600 Prep. e progettazione'!H124","v":0}]
[1,1,null,null,null,null,"Totale parziale Preparazione del lavoro e progettazione"]
[1]
[1,null,"700.000",null,null,null,"Opere edili"]
[1]
[{"$f":"'700 Opere edili'!B6","v":0},{"$f":"'700 Opere edili'!C6","v":0},{"$f":"'700 Opere edili'!D6","v":"710.000"},null,null,null,{"$f":"'700 Opere edili'!F6","v":"Opere da lattoniere"},{"$f":"'700 Opere edili'!G6","v":""}]
[{"$f":"'700 Opere edili'!B7","v":0},{"$f":"'700 Opere edili'!C7","v":0},{"$f":"'700 Opere edili'!D7","v":0},null,null,null,{"$f":"'700 Opere edili'!F7","v":""},{"$f":"'700 Opere edili'!G7","v":0}]
[{"$f":"'700 Opere edili'!B8","v":0},{"$f":"'700 Opere edili'!C8","v":0},{"$f":"'700 Opere edili'!D8","v":"711.000"},null,null,null,{"$f":"'700 Opere edili'!F8","v":"Opere da lattoniere su tetto a falda"},{"$f":"'700 Opere edili'!G8","v":""}]
[{"$f":"'700 Opere edili'!B9","v":0},{"$f":"'700 Opere edili'!C9","v":0},null,{"$f":"'700 Opere edili'!E9","v":"711.100"},null,null,{"$f":"'700 Opere edili'!F9","v":"Conversa di raccordo per lucernari"},{"$f":"'700 Opere edili'!G9","v":""}]
[{"$f":"'700 Opere edili'!B10","v":0},{"$f":"'700 Opere edili'!C10","v":0},null,{"$f":"'700 Opere edili'!E10","v":"711.200"},null,null,{"$f":"'700 Opere edili'!F10","v":"Conversa di chiusura laterale al frontone"},{"$f":"'700 Opere edili'!G10","v":""}]
[{"$f":"'700 Opere edili'!B11","v":0},{"$f":"'700 Opere edili'!C11","v":0},null,{"$f":"'700 Opere edili'!E11","v":"711.300"},null,null,{"$f":"'700 Opere edili'!F11","v":"Lamiera di colmo"},{"$f":"'700 Opere edili'!G11","v":""}]
[{"$f":"'700 Opere edili'!B12","v":0},{"$f":"'700 Opere edili'!C12","v":0},null,{"$f":"'700 Opere edili'!E12","v":"711.400"},null,null,{"$f":"'700 Opere edili'!F12","v":"Scossalina di raccordo alla gronda"},{"$f":"'700 Opere edili'!G12","v":""}]
[{"$f":"'700 Opere edili'!B13","v":0},{"$f":"'700 Opere edili'!C13","v":0},null,{"$f":"'700 Opere edili'!E13","v":"711.500"},null,null,{"$f":"'700 Opere edili'!F13","v":"Grondaia"},{"$f":"'700 Opere edili'!G13","v":""}]
[{"$f":"'700 Opere edili'!B14","v":0},{"$f":"'700 Opere edili'!C14","v":0},null,{"$f":"'700 Opere edili'!E14","v":"711.600"},null,null,{"$f":"'700 Opere edili'!F14","v":"Lamiera forata"},{"$f":"'700 Opere edili'!G14","v":""}]
[{"$f":"'700 Opere edili'!B15","v":0},{"$f":"'700 Opere edili'!C15","v":0},null,{"$f":"'700 Opere edili'!E15","v":"711.700"},null,null,{"$f":"'700 Opere edili'!F15","v":"Lamiera piegata"},{"$f":"'700 Opere edili'!G15","v":""}]
[{"$f":"'700 Opere edili'!B16","v":0},{"$f":"'700 Opere edili'!C16","v":0},{"$f":"'700 Opere edili'!D16","v":"712.000"},null,null,null,{"$f":"'700 Opere edili'!F16","v":"Opere da lattoniere su tetto piano"},{"$f":"'700 Opere edili'!G16","v":""}]
[{"$f":"'700 Opere edili'!B17","v":0},{"$f":"'700 Opere edili'!C17","v":0},null,{"$f":"'700 Opere edili'!E17","v":"712.100"},null,null,{"$f":"'700 Opere edili'!F17","v":"Conversa a doppio gomito per passaggio cavi"},{"$f":"'700 Opere edili'!G17","v":""}]
[{"$f":"'700 Opere edili'!B18","v":0},{"$f":"'700 Opere edili'!C18","v":0},null,{"$f":"'700 Opere edili'!E18","v":"712.200"},null,null,{"$f":"'700 Opere edili'!F18","v":"Scatola di raccolta cavi sul tetto"},{"$f":"'700 Opere edili'!G18","v":""}]
[{"$f":"'700 Opere edili'!B19","v":0},{"$f":"'700 Opere edili'!C19","v":0},{"$f":"'700 Opere edili'!D19","v":"713.000"},null,null,null,{"$f":"'700 Opere edili'!F19","v":"Opere da lattoniere su facciata"},{"$f":"'700 Opere edili'!G19","v":""}]
[{"$f":"'700 Opere edili'!B20","v":0},{"$f":"'700 Opere edili'!C20","v":0},null,{"$f":"'700 Opere edili'!E20","v":"713.100"},null,null,{"$f":"'700 Opere edili'!F20","v":"Profilo ad angolo"},{"$f":"'700 Opere edili'!G20","v":""}]
[{"$f":"'700 Opere edili'!B21","v":0},{"$f":"'700 Opere edili'!C21","v":0},null,{"$f":"'700 Opere edili'!E21","v":"713.200"},null,null,{"$f":"'700 Opere edili'!F21","v":"Lamiera decorativa"},{"$f":"'700 Opere edili'!G21","v":""}]
[{"$f":"'700 Opere edili'!B22","v":0},{"$f":"'700 Opere edili'!C22","v":0},null,{"$f":"'700 Opere edili'!E22","v":"713.300"},null,null,{"$f":"'700 Opere edili'!F22","v":"Lamiera di bordo tetto/parapetto"},{"$f":"'700 Opere edili'!G22","v":""}]
[{"$f":"'700 Opere edili'!B23","v":0},{"$f":"'700 Opere edili'!C23","v":0},null,{"$f":"'700 Opere edili'!E23","v":"713.400"},null,null,{"$f":"'700 Opere edili'!F23","v":"Lamiera di zoccolo"},{"$f":"'700 Opere edili'!G23","v":""}]
[{"$f":"'700 Opere edili'!B24","v":0},{"$f":"'700 Opere edili'!C24","v":0},null,{"$f":"'700 Opere edili'!E24","v":"713.500"},null,null,{"$f":"'700 Opere edili'!F24","v":"Telaio"},{"$f":"'700 Opere edili'!G24","v":""}]
[{"$f":"'700 Opere edili'!B25","v":0},{"$f":"'700 Opere edili'!C25","v":0},null,{"$f":"'700 Opere edili'!E25","v":"713.600"},null,null,{"$f":"'700 Opere edili'!F25","v":"Davanzale"},{"$f":"'700 Opere edili'!G25","v":""}]
[{"$f":"'700 Opere edili'!B26","v":0},{"$f":"'700 Opere edili'!C26","v":0},null,{"$f":"'700 Opere edili'!E26","v":"713.700"},null,null,{"$f":"'700 Opere edili'!F26","v":"Lamiera forata"},{"$f":"'700 Opere edili'!G26","v":""}]
[{"$f":"'700 Opere edili'!B27","v":0},{"$f":"'700 Opere edili'!C27","v":0},null,{"$f":"'700 Opere edili'!E27","v":"713.800"},null,null,{"$f":"'700 Opere edili'!F27","v":"Lamiera piegata"},{"$f":"'700 Opere edili'!G27","v":""}]
[{"$f":"'700 Opere edili'!B28","v":0},{"$f":"'700 Opere edili'!C28","v":0},null,{"$f":"'700 Opere edili'!E28","v":"713.900"},null,null,{"$f":"'700 Opere edili'!F28","v":"Facciata ventilata con barriera tagliafuoco"},{"$f":"'700 Opere edili'!G28","v":""}]
[{"$f":"'700 Opere edili'!B29","v":0},{"$f":"'700 Opere edili'!C29","v":0},{"$f":"'700 Opere edili'!D29","v":0},null,null,null,{"$f":"'700 Opere edili'!F29","v":0},{"$f":"'700 Opere edili'!G29","v":""}]
[{"$f":"'700 Opere edili'!B30","v":0},{"$f":"'700 Opere edili'!C30","v":0},{"$f":"'700 Opere edili'!D30","v":"720.000"},null,null,null,{"$f":"'700 Opere edili'!F30","v":"Adattamenti di tetti a falde"},{"$f":"'700 Opere edili'!G30","v":""}]
[{"$f":"'700 Opere edili'!B31","v":0},{"$f":"'700 Opere edili'!C31","v":0},{"$f":"'700 Opere edili'!D31","v":"721.000"},null,null,null,{"$f":"'700 Opere edili'!F31","v":"Tegola"},{"$f":"'700 Opere edili'!G31","v":""}]
[{"$f":"'700 Opere edili'!B32","v":0},{"$f":"'700 Opere edili'!C32","v":0},null,{"$f":"'700 Opere edili'!E32","v":"721.100"},null,null,{"$f":"'700 Opere edili'!F32","v":"Tegola"},{"$f":"'700 Opere edili'!G32","v":""}]
[{"$f":"'700 Opere edili'!B33","v":0},{"$f":"'700 Opere edili'!C33","v":0},null,{"$f":"'700 Opere edili'!E33","v":"721.200"},null,null,{"$f":"'700 Opere edili'!F33","v":"Tegola di colmo"},{"$f":"'700 Opere edili'!G33","v":""}]
[{"$f":"'700 Opere edili'!B34","v":0},{"$f":"'700 Opere edili'!C34","v":0},null,{"$f":"'700 Opere edili'!E34","v":"721.300"},null,null,{"$f":"'700 Opere edili'!F34","v":"Tegola laterale"},{"$f":"'700 Opere edili'!G34","v":""}]
[{"$f":"'700 Opere edili'!B35","v":0},{"$f":"'700 Opere edili'!C35","v":0},{"$f":"'700 Opere edili'!D35","v":"722.000"},null,null,null,{"$f":"'700 Opere edili'!F35","v":"Tegola in lamiera"},{"$f":"'700 Opere edili'!G35","v":""}]
[{"$f":"'700 Opere edili'!B36","v":0},{"$f":"'700 Opere edili'!C36","v":0},{"$f":"'700 Opere edili'!D36","v":"723.000"},null,null,null,{"$f":"'700 Opere edili'!F36","v":"Listonatura per impianti integrati"},{"$f":"'700 Opere edili'!G36","v":""}]
[{"$f":"'700 Opere edili'!B37","v":0},{"$f":"'700 Opere edili'!C37","v":0},{"$f":"'700 Opere edili'!D37","v":"724.000"},null,null,null,{"$f":"'700 Opere edili'!F37","v":"Legno squadrato"},{"$f":"'700 Opere edili'!G37","v":""}]
[{"$f":"'700 Opere edili'!B38","v":0},{"$f":"'700 Opere edili'!C38","v":0},{"$f":"'700 Opere edili'!D38","v":"725.000"},null,null,null,{"$f":"'700 Opere edili'!F38","v":"Pannello per casseforme"},{"$f":"'700 Opere edili'!G38","v":""}]
[{"$f":"'700 Opere edili'!B39","v":0},{"$f":"'700 Opere edili'!C39","v":0},{"$f":"'700 Opere edili'!D39","v":"726.000"},null,null,null,{"$f":"'700 Opere edili'!F39","v":"Paraneve"},{"$f":"'700 Opere edili'!G39","v":""}]
[{"$f":"'700 Opere edili'!B40","v":0},{"$f":"'700 Opere edili'!C40","v":0},{"$f":"'700 Opere edili'!D40","v":"727.000"},null,null,null,{"$f":"'700 Opere edili'!F40","v":"Lucernario"},{"$f":"'700 Opere edili'!G40","v":""}]
[{"$f":"'700 Opere edili'!B41","v":0},{"$f":"'700 Opere edili'!C41","v":0},{"$f":"'700 Opere edili'!D41","v":0},null,null,null,{"$f":"'700 Opere edili'!F41","v":0},{"$f":"'700 Opere edili'!G41","v":""}]
[{"$f":"'700 Opere edili'!B42","v":1},{"$f":"'700 Opere edili'!C42","v":0},{"$f":"'700 Opere edili'!D42","v":"730.000"},null,null,null,{"$f":"'700 Opere edili'!F42","v":"Adattamenti di tetti piani"},{"$f":"'700 Opere edili'!G42","v":""}]
[{"$f":"'700 Opere edili'!B43","v":1},{"$f":"'700 Opere edili'!C43","v":0},{"$f":"'700 Opere edili'!D43","v":"731.000"},null,null,null,{"$f":"'700 Opere edili'!F43","v":"Ghiaia"},{"$f":"'700 Opere edili'!G43","v":""}]
[{"$f":"'700 Opere edili'!B44","v":0},{"$f":"'700 Opere edili'!C44","v":0},null,{"$f":"'700 Opere edili'!E44","v":"731.100"},null,null,{"$f":"'700 Opere edili'!F44","v":"Aspirazione e smaltimento ghiaia"},{"$f":"'700 Opere edili'!G44","v":""}]
[{"$f":"'700 Opere edili'!B45","v":0},{"$f":"'700 Opere edili'!C45","v":0},null,{"$f":"'700 Opere edili'!E45","v":"731.200"},null,null,{"$f":"'700 Opere edili'!F45","v":"Soffiaggio ghiaia"},{"$f":"'700 Opere edili'!G45","v":""}]
[{"$f":"'700 Opere edili'!B46","v":1},{"$f":"'700 Opere edili'!C46","v":1},null,{"$f":"'700 Opere edili'!E46","v":"731.300"},null,null,{"$f":"'700 Opere edili'!F46","v":"Spostamento manuale della ghiaia"},{"$f":"'700 Opere edili'!G46","v":"m2"}]
[{"$f":"'700 Opere edili'!B47","v":0},{"$f":"'700 Opere edili'!C47","v":0},{"$f":"'700 Opere edili'!D47","v":"732.000"},null,null,null,{"$f":"'700 Opere edili'!F47","v":"Inverdimento"},{"$f":"'700 Opere edili'!G47","v":""}]
[{"$f":"'700 Opere edili'!B48","v":0},{"$f":"'700 Opere edili'!C48","v":0},null,{"$f":"'700 Opere edili'!E48","v":"732.100"},null,null,{"$f":"'700 Opere edili'!F48","v":"Lisciatura / livellamento del substrato (m2)"},{"$f":"'700 Opere edili'!G48","v":""}]
[{"$f":"'700 Opere edili'!B49","v":0},{"$f":"'700 Opere edili'!C49","v":0},null,{"$f":"'700 Opere edili'!E49","v":"732.200"},null,null,{"$f":"'700 Opere edili'!F49","v":"Aspirazione e smaltimento del substrato"},{"$f":"'700 Opere edili'!G49","v":""}]
[{"$f":"'700 Opere edili'!B50","v":0},{"$f":"'700 Opere edili'!C50","v":0},null,{"$f":"'700 Opere edili'!E50","v":"732.300"},null,null,{"$f":"'700 Opere edili'!F50","v":"Soffiaggio del substrato"},{"$f":"'700 Opere edili'!G50","v":""}]
[{"$f":"'700 Opere edili'!B51","v":0},{"$f":"'700 Opere edili'!C51","v":0},null,{"$f":"'700 Opere edili'!E51","v":"732.400"},null,null,{"$f":"'700 Opere edili'!F51","v":"Rimozione e smaltimento vegetazione"},{"$f":"'700 Opere edili'!G51","v":""}]
[{"$f":"'700 Opere edili'!B52","v":1},{"$f":"'700 Opere edili'!C52","v":1},{"$f":"'700 Opere edili'!D52","v":"733.000"},null,null,null,{"$f":"'700 Opere edili'!F52","v":"Lastre calpestabili"},{"$f":"'700 Opere edili'!G52","v":"forfait"}]
[{"$f":"'700 Opere edili'!B53","v":1},{"$f":"'700 Opere edili'!C53","v":0},{"$f":"'700 Opere edili'!D53","v":"734.000"},null,null,null,{"$f":"'700 Opere edili'!F53","v":"Strati di protezione"},{"$f":"'700 Opere edili'!G53","v":""}]
[{"$f":"'700 Opere edili'!B54","v":1},{"$f":"'700 Opere edili'!C54","v":1},null,{"$f":"'700 Opere edili'!E54","v":"734.100"},null,null,{"$f":"'700 Opere edili'!F54","v":"Telo in tessuto non tessuto\nCaratteristiche: \nSpessore (mm )"},{"$f":"'700 Opere edili'!G54","v":"m2"}]
[{"$f":"'700 Opere edili'!B55","v":0},{"$f":"'700 Opere edili'!C55","v":0},null,{"$f":"'700 Opere edili'!E55","v":"734.200"},null,null,{"$f":"'700 Opere edili'!F55","v":"Granulato in gomma riciclata"},{"$f":"'700 Opere edili'!G55","v":""}]
[{"$f":"'700 Opere edili'!B56","v":0},{"$f":"'700 Opere edili'!C56","v":0},null,{"$f":"'700 Opere edili'!E56","v":"734.300"},null,null,{"$f":"'700 Opere edili'!F56","v":"Stuoie di ritenzione"},{"$f":"'700 Opere edili'!G56","v":""}]
[{"$f":"'700 Opere edili'!B57","v":0},{"$f":"'700 Opere edili'!C57","v":0},{"$f":"'700 Opere edili'!D57","v":"735.000"},null,null,null,{"$f":"'700 Opere edili'!F57","v":"Smontaggio dei punti di arresto singoli, incl. opere di sigillatura"},{"$f":"'700 Opere edili'!G57","v":""}]
[{"$f":"'700 Opere edili'!B58","v":0},{"$f":"'700 Opere edili'!C58","v":0},{"$f":"'700 Opere edili'!D58","v":"736.000"},null,null,null,{"$f":"'700 Opere edili'!F58","v":"Piegatura tubi di sfiato"},{"$f":"'700 Opere edili'!G58","v":""}]
[{"$f":"'700 Opere edili'!B59","v":1},{"$f":"'700 Opere edili'!C59","v":0},{"$f":"'700 Opere edili'!D59","v":0},null,null,null,{"$f":"'700 Opere edili'!F59","v":0},{"$f":"'700 Opere edili'!G59","v":""}]
[{"$f":"'700 Opere edili'!B60","v":0},{"$f":"'700 Opere edili'!C60","v":0},{"$f":"'700 Opere edili'!D60","v":"740.000"},null,null,null,{"$f":"'700 Opere edili'!F60","v":"Adattamenti di facciate"},{"$f":"'700 Opere edili'!G60","v":""}]
[{"$f":"'700 Opere edili'!B61","v":0},{"$f":"'700 Opere edili'!C61","v":0},{"$f":"'700 Opere edili'!D61","v":"741.000"},null,null,null,{"$f":"'700 Opere edili'!F61","v":"Fresatura di elementi in beton"},{"$f":"'700 Opere edili'!G61","v":""}]
[{"$f":"'700 Opere edili'!B62","v":0},{"$f":"'700 Opere edili'!C62","v":0},{"$f":"'700 Opere edili'!D62","v":"742.000"},null,null,null,{"$f":"'700 Opere edili'!F62","v":"Aggiustamento sul posto delle lamiere"},{"$f":"'700 Opere edili'!G62","v":""}]
[{"$f":"'700 Opere edili'!B63","v":0},{"$f":"'700 Opere edili'!C63","v":0},{"$f":"'700 Opere edili'!D63","v":"743.000"},null,null,null,{"$f":"'700 Opere edili'!F63","v":"Intonaco"},{"$f":"'700 Opere edili'!G63","v":""}]
[{"$f":"'700 Opere edili'!B64","v":0},{"$f":"'700 Opere edili'!C64","v":0},{"$f":"'700 Opere edili'!D64","v":"744.000"},null,null,null,{"$f":"'700 Opere edili'!F64","v":"Tavole"},{"$f":"'700 Opere edili'!G64","v":""}]
[{"$f":"'700 Opere edili'!B65","v":0},{"$f":"'700 Opere edili'!C65","v":0},{"$f":"'700 Opere edili'!D65","v":"745.000"},null,null,null,{"$f":"'700 Opere edili'!F65","v":"Listelli"},{"$f":"'700 Opere edili'!G65","v":""}]
[{"$f":"'700 Opere edili'!B66","v":0},{"$f":"'700 Opere edili'!C66","v":0},{"$f":"'700 Opere edili'!D66","v":"746.000"},null,null,null,{"$f":"'700 Opere edili'!F66","v":"Perforazioni"},{"$f":"'700 Opere edili'!G66","v":""}]
[{"$f":"'700 Opere edili'!B67","v":0},{"$f":"'700 Opere edili'!C67","v":0},{"$f":"'700 Opere edili'!D67","v":0},null,null,null,{"$f":"'700 Opere edili'!F67","v":0},{"$f":"'700 Opere edili'!G67","v":""}]
[{"$f":"'700 Opere edili'!B68","v":1},{"$f":"'700 Opere edili'!C68","v":0},{"$f":"'700 Opere edili'!D68","v":"750.000"},null,null,null,{"$f":"'700 Opere edili'!F68","v":"Protezione da scariche atmosferiche"},{"$f":"'700 Opere edili'!G68","v":""}]
[{"$f":"'700 Opere edili'!B69","v":0},{"$f":"'700 Opere edili'!C69","v":0},{"$f":"'700 Opere edili'!D69","v":"751.000"},null,null,null,{"$f":"'700 Opere edili'!F69","v":"Smontaggio e smaltimento parafulmini"},{"$f":"'700 Opere edili'!G69","v":""}]
[{"$f":"'700 Opere edili'!B70","v":0},{"$f":"'700 Opere edili'!C70","v":0},{"$f":"'700 Opere edili'!D70","v":"752.000"},null,null,null,{"$f":"'700 Opere edili'!F70","v":"Protezione antifulmine tetto a falde"},{"$f":"'700 Opere edili'!G70","v":""}]
[{"$f":"'700 Opere edili'!B71","v":1},{"$f":"'700 Opere edili'!C71","v":1},{"$f":"'700 Opere edili'!D71","v":"753.000"},null,null,null,{"$f":"'700 Opere edili'!F71","v":"Protezione antifulmine tetto piano"},{"$f":"'700 Opere edili'!G71","v":"ml"}]
[{"$f":"'700 Opere edili'!B72","v":0},{"$f":"'700 Opere edili'!C72","v":0},{"$f":"'700 Opere edili'!D72","v":"754.000"},null,null,null,{"$f":"'700 Opere edili'!F72","v":"Protezione antifulmine facciata"},{"$f":"'700 Opere edili'!G72","v":""}]
[{"$f":"'700 Opere edili'!B73","v":1},{"$f":"'700 Opere edili'!C73","v":0},{"$f":"'700 Opere edili'!D73","v":0},null,null,null,{"$f":"'700 Opere edili'!F73","v":0},{"$f":"'700 Opere edili'!G73","v":""}]
[{"$f":"'700 Opere edili'!B74","v":1},{"$f":"'700 Opere edili'!C74","v":0},{"$f":"'700 Opere edili'!D74","v":"760.000"},null,null,null,{"$f":"'700 Opere edili'!F74","v":"Lavorazione del metallo"},{"$f":"'700 Opere edili'!G74","v":""}]
[{"$f":"'700 Opere edili'!B75","v":0},{"$f":"'700 Opere edili'!C75","v":0},{"$f":"'700 Opere edili'!D75","v":0},null,null,null,{"$f":"'700 Opere edili'!F75","v":""},{"$f":"'700 Opere edili'!G75","v":""}]
[{"$f":"'700 Opere edili'!B76","v":1},{"$f":"'700 Opere edili'!C76","v":0},{"$f":"'700 Opere edili'!D76","v":"761.000"},null,null,null,{"$f":"'700 Opere edili'!F76","v":"Telaio di montaggio"},{"$f":"'700 Opere edili'!G76","v":""}]
[{"$f":"'700 Opere edili'!B77","v":0},{"$f":"'700 Opere edili'!C77","v":0},null,{"$f":"'700 Opere edili'!E77","v":"761.100"},null,null,{"$f":"'700 Opere edili'!F77","v":"Telaio di montaggio a parete"},{"$f":"'700 Opere edili'!G77","v":""}]
[{"$f":"'700 Opere edili'!B78","v":1},{"$f":"'700 Opere edili'!C78","v":1},null,{"$f":"'700 Opere edili'!E78","v":"761.200"},null,null,{"$f":"'700 Opere edili'!F78","v":"Telaio di montaggio a parete libero e portante"},{"$f":"'700 Opere edili'!G78","v":"forfait"}]
[{"$f":"'700 Opere edili'!B79","v":1},{"$f":"'700 Opere edili'!C79","v":1},{"$f":"'700 Opere edili'!D79","v":"762.000"},null,null,null,{"$f":"'700 Opere edili'!F79","v":"Protezione dalle intemperie"},{"$f":"'700 Opere edili'!G79","v":"forfait"}]
[{"$f":"'700 Opere edili'!B80","v":0},{"$f":"'700 Opere edili'!C80","v":0},null,{"$f":"'700 Opere edili'!E80","v":"762.100"},null,null,{"$f":"'700 Opere edili'!F80","v":"Protezione dalle intemperie a griglia, chiudibile a chiave"},{"$f":"'700 Opere edili'!G80","v":""}]
[{"$f":"'700 Opere edili'!B81","v":0},{"$f":"'700 Opere edili'!C81","v":0},null,{"$f":"'700 Opere edili'!E81","v":"762.200"},null,null,{"$f":"'700 Opere edili'!F81","v":"Copertura di protezione dalle intemperie"},{"$f":"'700 Opere edili'!G81","v":""}]
[{"$f":"'700 Opere edili'!B82","v":0},{"$f":"'700 Opere edili'!C82","v":0},null,{"$f":"'700 Opere edili'!E82","v":"762.300"},null,null,{"$f":"'700 Opere edili'!F82","v":"Container di protezione dalle intemperie"},{"$f":"'700 Opere edili'!G82","v":""}]
[{"$f":"'700 Opere edili'!B83","v":0},{"$f":"'700 Opere edili'!C83","v":0},{"$f":"'700 Opere edili'!D83","v":"763.000"},null,null,null,{"$f":"'700 Opere edili'!F83","v":"Protezione contro il contatto (protezione contro vandalismi)"},{"$f":"'700 Opere edili'!G83","v":""}]
[{"$f":"'700 Opere edili'!B84","v":0},{"$f":"'700 Opere edili'!C84","v":0},{"$f":"'700 Opere edili'!D84","v":"764.000"},null,null,null,{"$f":"'700 Opere edili'!F84","v":"Ripiani speciali"},{"$f":"'700 Opere edili'!G84","v":""}]
[{"$f":"'700 Opere edili'!B85","v":0},{"$f":"'700 Opere edili'!C85","v":0},{"$f":"'700 Opere edili'!D85","v":"765.000"},null,null,null,{"$f":"'700 Opere edili'!F85","v":"Tubo quadro saldato"},{"$f":"'700 Opere edili'!G85","v":""}]
[{"$f":"'700 Opere edili'!B86","v":0},{"$f":"'700 Opere edili'!C86","v":0},{"$f":"'700 Opere edili'!D86","v":"766.000"},null,null,null,{"$f":"'700 Opere edili'!F86","v":"Lamiera"},{"$f":"'700 Opere edili'!G86","v":""}]
[{"$f":"'700 Opere edili'!B87","v":0},{"$f":"'700 Opere edili'!C87","v":0},{"$f":"'700 Opere edili'!D87","v":"767.000"},null,null,null,{"$f":"'700 Opere edili'!F87","v":"Lamiera piegata"},{"$f":"'700 Opere edili'!G87","v":""}]
[{"$f":"'700 Opere edili'!B88","v":1},{"$f":"'700 Opere edili'!C88","v":0},{"$f":"'700 Opere edili'!D88","v":0},null,null,null,{"$f":"'700 Opere edili'!F88","v":0},{"$f":"'700 Opere edili'!G88","v":""}]
[{"$f":"'700 Opere edili'!B89","v":1},{"$f":"'700 Opere edili'!C89","v":0},{"$f":"'700 Opere edili'!D89","v":"770.000"},null,null,null,{"$f":"'700 Opere edili'!F89","v":"Aperture/fori"},{"$f":"'700 Opere edili'!G89","v":""}]
[{"$f":"'700 Opere edili'!B90","v":1},{"$f":"'700 Opere edili'!C90","v":1},{"$f":"'700 Opere edili'!D90","v":"771.000"},null,null,null,{"$f":"'700 Opere edili'!F90","v":"Perforazioni"},{"$f":"'700 Opere edili'!G90","v":"pz."}]
[{"$f":"'700 Opere edili'!B91","v":0},{"$f":"'700 Opere edili'!C91","v":0},{"$f":"'700 Opere edili'!D91","v":"772.000"},null,null,null,{"$f":"'700 Opere edili'!F91","v":"Fresatura"},{"$f":"'700 Opere edili'!G91","v":""}]
[{"$f":"'700 Opere edili'!B92","v":0},{"$f":"'700 Opere edili'!C92","v":0},{"$f":"'700 Opere edili'!D92","v":"773.000"},null,null,null,{"$f":"'700 Opere edili'!F92","v":"Sigillatura"},{"$f":"'700 Opere edili'!G92","v":""}]
[{"$f":"'700 Opere edili'!B93","v":1},{"$f":"'700 Opere edili'!C93","v":1},{"$f":"'700 Opere edili'!D93","v":"774.000"},null,null,null,{"$f":"'700 Opere edili'!F93","v":"Chiusura paratia tagliafuoco"},{"$f":"'700 Opere edili'!G93","v":"pz."}]
[{"$f":"'700 Opere edili'!B94","v":1},{"$f":"'700 Opere edili'!C94","v":0},{"$f":"'700 Opere edili'!D94","v":0},null,null,null,{"$f":"'700 Opere edili'!F94","v":0},{"$f":"'700 Opere edili'!G94","v":""}]
[{"$f":"'700 Opere edili'!B95","v":0},{"$f":"'700 Opere edili'!C95","v":0},{"$f":"'700 Opere edili'!D95","v":"780.000"},null,null,null,{"$f":"'700 Opere edili'!F95","v":"Rivestimenti/coperture"},{"$f":"'700 Opere edili'!G95","v":""}]
[{"$f":"'700 Opere edili'!B96","v":0},{"$f":"'700 Opere edili'!C96","v":0},{"$f":"'700 Opere edili'!D96","v":"781.000"},null,null,null,{"$f":"'700 Opere edili'!F96","v":"Pannello in gessofibra"},{"$f":"'700 Opere edili'!G96","v":""}]
[{"$f":"'700 Opere edili'!B97","v":0},{"$f":"'700 Opere edili'!C97","v":0},{"$f":"'700 Opere edili'!D97","v":"782.000"},null,null,null,{"$f":"'700 Opere edili'!F97","v":"Legno laccato"},{"$f":"'700 Opere edili'!G97","v":""}]
[{"$f":"'700 Opere edili'!B98","v":0},{"$f":"'700 Opere edili'!C98","v":0},{"$f":"'700 Opere edili'!D98","v":"783.000"},null,null,null,{"$f":"'700 Opere edili'!F98","v":"Legno naturale"},{"$f":"'700 Opere edili'!G98","v":""}]
[{"$f":"'700 Opere edili'!B99","v":0},{"$f":"'700 Opere edili'!C99","v":0},{"$f":"'700 Opere edili'!D99","v":"784.000"},null,null,null,{"$f":"'700 Opere edili'!F99","v":"Lamiera"},{"$f":"'700 Opere edili'!G99","v":""}]
[{"$f":"'700 Opere edili'!B100","v":0},{"$f":"'700 Opere edili'!C100","v":0},{"$f":"'700 Opere edili'!D100","v":"785.000"},null,null,null,{"$f":"'700 Opere edili'!F100","v":"Pannello in fibrocemento"},{"$f":"'700 Opere edili'!G100","v":""}]
[{"$f":"'700 Opere edili'!B101","v":0},{"$f":"'700 Opere edili'!C101","v":0},{"$f":"'700 Opere edili'!D101","v":0},null,null,null,{"$f":"'700 Opere edili'!F101","v":0},{"$f":"'700 Opere edili'!G101","v":0}]
[1,1,null,null,null,null,"Totale parziale Opere edili"]
[1]
[1,null,"800.000",null,null,null,"Servizi"]
[1]
[{"$f":"'800 Servizi'!B6","v":1},{"$f":"'800 Servizi'!C6","v":0},{"$f":"'800 Servizi'!D6","v":"810.000"},null,null,null,{"$f":"'800 Servizi'!F6","v":"Manutenzione"},{"$f":"'800 Servizi'!G6","v":""}]
[{"$f":"'800 Servizi'!B7","v":0},{"$f":"'800 Servizi'!C7","v":0},{"$f":"'800 Servizi'!D7","v":"811.000"},null,null,null,{"$f":"'800 Servizi'!F7","v":"Contratto di manutenzione"},{"$f":"'800 Servizi'!G7","v":""}]
[{"$f":"'800 Servizi'!B8","v":0},{"$f":"'800 Servizi'!C8","v":0},{"$f":"'800 Servizi'!E8","v":"811.100"},null,null,null,{"$f":"'800 Servizi'!F8","v":"Tariffe orarie per lavori di riparazione"},{"$f":"'800 Servizi'!G8","v":""}]
[{"$f":"'800 Servizi'!B9","v":1},{"$f":"'800 Servizi'!C9","v":1},{"$f":"'800 Servizi'!D9","v":"812.000"},null,null,null,{"$f":"'800 Servizi'!F9","v":"Pulizia"},{"$f":"'800 Servizi'!G9","v":"forfait"}]
[{"$f":"'800 Servizi'!B10","v":0},{"$f":"'800 Servizi'!C10","v":0},{"$f":"'800 Servizi'!E10","v":"812.100"},null,null,null,{"$f":"'800 Servizi'!F10","v":"Manutenzione del verde"},{"$f":"'800 Servizi'!G10","v":""}]
[{"$f":"'800 Servizi'!B11","v":1},{"$f":"'800 Servizi'!C11","v":1},{"$f":"'800 Servizi'!D11","v":"813.000"},null,null,null,{"$f":"'800 Servizi'!F11","v":"Controllo dell'impianto"},{"$f":"'800 Servizi'!G11","v":"forfait"}]
[{"$f":"'800 Servizi'!B12","v":0},{"$f":"'800 Servizi'!C12","v":0},{"$f":"'800 Servizi'!E12","v":"813.100"},null,null,null,{"$f":"'800 Servizi'!F12","v":"Controllo visivo"},{"$f":"'800 Servizi'!G12","v":""}]
[{"$f":"'800 Servizi'!B13","v":0},{"$f":"'800 Servizi'!C13","v":0},{"$f":"'800 Servizi'!D13","v":"814.000"},null,null,null,{"$f":"'800 Servizi'!F13","v":"Valutazione della produzione/consumo"},{"$f":"'800 Servizi'!G13","v":""}]
[{"$f":"'800 Servizi'!B14","v":0},{"$f":"'800 Servizi'!C14","v":0},{"$f":"'800 Servizi'!D14","v":"815.000"},null,null,null,{"$f":"'800 Servizi'!F14","v":"Misure/rilevamenti"},{"$f":"'800 Servizi'!G14","v":""}]
[{"$f":"'800 Servizi'!B15","v":0},{"$f":"'800 Servizi'!C15","v":0},{"$f":"'800 Servizi'!E15","v":"815.100"},null,null,null,{"$f":"'800 Servizi'!F15","v":"Misure I/U"},{"$f":"'800 Servizi'!G15","v":""}]
[{"$f":"'800 Servizi'!B16","v":0},{"$f":"'800 Servizi'!C16","v":0},{"$f":"'800 Servizi'!E16","v":"815.200"},null,null,null,{"$f":"'800 Servizi'!F16","v":"Misure ISO"},{"$f":"'800 Servizi'!G16","v":""}]
[{"$f":"'800 Servizi'!B17","v":0},{"$f":"'800 Servizi'!C17","v":0},{"$f":"'800 Servizi'!E17","v":"815.300"},null,null,null,{"$f":"'800 Servizi'!F17","v":"Misure delle caratteristiche"},{"$f":"'800 Servizi'!G17","v":""}]
[{"$f":"'800 Servizi'!B18","v":0},{"$f":"'800 Servizi'!C18","v":0},{"$f":"'800 Servizi'!E18","v":"815.400"},null,null,null,{"$f":"'800 Servizi'!F18","v":"Termografia"},{"$f":"'800 Servizi'!G18","v":""}]
[{"$f":"'800 Servizi'!B19","v":0},{"$f":"'800 Servizi'!C19","v":0},{"$f":"'800 Servizi'!E19","v":"815.500"},null,null,null,{"$f":"'800 Servizi'!F19","v":"Elettroluminescenza"},{"$f":"'800 Servizi'!G19","v":""}]
[{"$f":"'800 Servizi'!B20","v":0},{"$f":"'800 Servizi'!C20","v":0},{"$f":"'800 Servizi'!D20","v":"816.000"},null,null,null,{"$f":"'800 Servizi'!F20","v":"Verifiche esterne dei moduli"},{"$f":"'800 Servizi'!G20","v":""}]
[{"$f":"'800 Servizi'!B21","v":0},{"$f":"'800 Servizi'!C21","v":0},{"$f":"'800 Servizi'!E21","v":"816.100"},null,null,null,{"$f":"'800 Servizi'!F21","v":"Potenza del modulo"},{"$f":"'800 Servizi'!G21","v":""}]
[{"$f":"'800 Servizi'!B22","v":0},{"$f":"'800 Servizi'!C22","v":0},{"$f":"'800 Servizi'!E22","v":"816.200"},null,null,null,{"$f":"'800 Servizi'!F22","v":"Elettroluminescenza"},{"$f":"'800 Servizi'!G22","v":""}]
[{"$f":"'800 Servizi'!B23","v":1},{"$f":"'800 Servizi'!C23","v":1},{"$f":"'800 Servizi'!D23","v":"817.000"},null,null,null,{"$f":"'800 Servizi'!F23","v":"Controlli periodici (rinnovo del rapporto di sicurezza)"},{"$f":"'800 Servizi'!G23","v":"forfait"}]
[{"$f":"'800 Servizi'!B24","v":0},{"$f":"'800 Servizi'!C24","v":0},{"$f":"'800 Servizi'!D24","v":"818.000"},null,null,null,{"$f":"'800 Servizi'!F24","v":"Re-audit Pronovo (> 300 kWp)"},{"$f":"'800 Servizi'!G24","v":""}]
[{"$f":"'800 Servizi'!B25","v":1},{"$f":"'800 Servizi'!C25","v":0},{"$f":"'800 Servizi'!D25","v":0},null,null,null,{"$f":"'800 Servizi'!F25","v":0},{"$f":"'800 Servizi'!G25","v":""}]
[{"$f":"'800 Servizi'!B26","v":1},{"$f":"'800 Servizi'!C26","v":0},{"$f":"'800 Servizi'!D26","v":"820.000"},null,null,null,{"$f":"'800 Servizi'!F26","v":"Conteggi per l'autoconsumo (RCP)"},{"$f":"'800 Servizi'!G26","v":""}]
[{"$f":"'800 Servizi'!B27","v":1},{"$f":"'800 Servizi'!C27","v":1},{"$f":"'800 Servizi'!D27","v":"821.000"},null,null,null,{"$f":"'800 Servizi'!F27","v":"Contreggi RCP"},{"$f":"'800 Servizi'!G27","v":"forfait"}]
[{"$f":"'800 Servizi'!B28","v":0},{"$f":"'800 Servizi'!C28","v":0},{"$f":"'800 Servizi'!D28","v":"822.000"},null,null,null,{"$f":"'800 Servizi'!F28","v":"Conteggi GRD"},{"$f":"'800 Servizi'!G28","v":""}]
[{"$f":"'800 Servizi'!B29","v":0},{"$f":"'800 Servizi'!C29","v":0},{"$f":"'800 Servizi'!D29","v":"823.000"},null,null,null,{"$f":"'800 Servizi'!F29","v":"Conteggi singoli consumatori di energia (circuito secondario)"},{"$f":"'800 Servizi'!G29","v":""}]
[{"$f":"'800 Servizi'!B30","v":0},{"$f":"'800 Servizi'!C30","v":0},{"$f":"'800 Servizi'!D30","v":"824.000"},null,null,null,{"$f":"'800 Servizi'!F30","v":"Conteggi contatori dell'acqua"},{"$f":"'800 Servizi'!G30","v":""}]
[{"$f":"'800 Servizi'!B31","v":0},{"$f":"'800 Servizi'!C31","v":0},{"$f":"'800 Servizi'!D31","v":"825.000"},null,null,null,{"$f":"'800 Servizi'!F31","v":"Conteggi contatori di calore"},{"$f":"'800 Servizi'!G31","v":""}]
[{"$f":"'800 Servizi'!B32","v":0},{"$f":"'800 Servizi'!C32","v":0},{"$f":"'800 Servizi'!D32","v":"826.000"},null,null,null,{"$f":"'800 Servizi'!F32","v":"Prestazioni supplementari"},{"$f":"'800 Servizi'!G32","v":""}]
[{"$f":"'800 Servizi'!B33","v":1},{"$f":"'800 Servizi'!C33","v":0},{"$f":"'800 Servizi'!D33","v":0},null,null,null,{"$f":"'800 Servizi'!F33","v":0},{"$f":"'800 Servizi'!G33","v":""}]
[{"$f":"'800 Servizi'!B34","v":1},{"$f":"'800 Servizi'!C34","v":0},{"$f":"'800 Servizi'!D34","v":"830.000"},null,null,null,{"$f":"'800 Servizi'!F34","v":"Deposito di garanzia"},{"$f":"'800 Servizi'!G34","v":""}]
[{"$f":"'800 Servizi'!B35","v":1},{"$f":"'800 Servizi'!C35","v":1},{"$f":"'800 Servizi'!D35","v":"831.000"},null,null,null,{"$f":"'800 Servizi'!F35","v":"Garanzia di buona esecuzione"},{"$f":"'800 Servizi'!G35","v":"forfait"}]
[{"$f":"'800 Servizi'!B36","v":0},{"$f":"'800 Servizi'!C36","v":0},{"$f":"'800 Servizi'!E36","v":"832.100"},null,null,null,{"$f":"'800 Servizi'!F36","v":"Riassicurazione"},{"$f":"'800 Servizi'!G36","v":""}]
[{"$f":"'800 Servizi'!B37","v":0},{"$f":"'800 Servizi'!C37","v":0},{"$f":"'800 Servizi'!D37","v":"832.000"},null,null,null,{"$f":"'800 Servizi'!F37","v":"Garanzia per difetti"},{"$f":"'800 Servizi'!G37","v":""}]
[{"$f":"'800 Servizi'!B38","v":1},{"$f":"'800 Servizi'!C38","v":1},{"$f":"'800 Servizi'!D38","v":"833.000"},null,null,null,{"$f":"'800 Servizi'!F38","v":"Garanzia sulla resa"},{"$f":"'800 Servizi'!G38","v":"forfait"}]
[{"$f":"'800 Servizi'!B39","v":1},{"$f":"'800 Servizi'!C39","v":0},{"$f":"'800 Servizi'!D39","v":0},null,null,null,{"$f":"'800 Servizi'!F39","v":0},{"$f":"'800 Servizi'!G39","v":0}]
[1,1,null,null,null,null,"Totale parziale Servizi"]
[1]
[1,1,null,null,null,null,"Totale",null,null,null,{"$f":"SUM(K795,K757,K657,K534,K481,K432,K372,K308,K231)","v":0}]