{"text_format":"1","workbook":"xlsx","n_sheets":21,"sheets":["Instructions","Descriptif des prestations","000 Conditions","100 Modules PV","200 Syst. montage PV","300 Appareils raccordés","400 Installation DC","500 Installations AC","600 Prép. trav., planification","700 Travaux de bâtiment","800 Prestations","E_Box000","E_Box100","E_Box200","E_Box300","E_Box400","E_Box500","E_Box600","E_Box700","E_Box800","Gesamtverzeichnis"],"not_rendered":{"charts":0,"images":14,"macros":1,"external_links":0,"defined_names":77,"comments":1,"pivot_tables":0},"unopened":[],"bounds":{"document_bytes":16777216,"sheet_cells":100000,"rows_first":2000,"rows_last":500,"rows_between":2000,"halvings":0,"cell_chars":16384,"cell_head_chars":4096},"cells_cut":0,"cells_raw":0,"read":"whole","date_system":"1900"}

{"sheet":"Instructions","index":0,"n_rows":85,"n_cols":1,"rows_kept":85,"cut":false,"hidden":false,"merged":[]}
[]
[]
[]
["ou à info@swissolar.ch"]
[]
[]
[]
["Mentions légales"]
["Le générateur de structure d’offres SOQ pour installations PV a été élaboré par un groupe de travail de Swissolar et soutenu financièrement par SuisseEnergie. Les droits sont entièrement détenus par Swissolar. Toute responsabilité est exclue."]
[]
["Notice succincte concernant le générateur de structure d’offres SOQ"]
["Version 1.3"]
["Novembre 2021"]
[]
["Cette notice succincte concerne le générateur de structure d’offres SOQ ; vous trouverez plus de détails et des explications en rapport avec la structure d’offres SOQ dans le guide."]
[]
["Configuration requise"]
[]
["Le générateur de structure d’offres SOQ a été développé pour MS-Office (à partir de la version 2013) et le système d’exploitation Windows."]
[]
["Principaux postes de la structure"]
[]
["Les principaux postes de la structure sont classés dans différentes feuilles de calcul."]
[]
[]
[]
[]
[]
["Codes couleurs dans les onglets de calcul"]
[]
["Le code couleur suivant est utilisé dans les différentes feuilles de calcul :\n- vert: niveau de structure obligatoire jusqu’auquel les positions doivent être définies\n- brun: niveau de structure optionnel pouvant être sélectionné pour plus de précision\n- gris : champs de saisie des unités et champs de sélection de positions (tous les autres champs sont verrouillés)"]
[]
[]
[]
[]
[]
[]
[]
["Les niveaux de structure obligatoires et optionnels sont définis différemment par niveau de structure principal. Les niveaux de structure non utilisés sont masqués. Le nombre de niveaux de structure maximal est de 6."]
[]
["Sélection de positions individuelles avec unités"]
[]
["Niveau de structure principal « 000 Conditions »"]
["Le niveau de structure principal \"000 Conditions\" se distingue des autres niveaux de structure principaux par le fait qu’il ne s’agit pas de positions du descriptif des prestations mais de conditions de l’offre, qui sont utilisées notamment par le planificateur spécialisé pour les spécifications relatives à l’installation.\nPar conséquent, seules les positions souhaitées doivent être sélectionnées ici en mettant un « x » dans le champ « Ajouter une position ». Les positions du niveau de structure 2 sont automatiquement sélectionnées en tant que titre en cas d’activation d’une position du niveau 3 ou inférieur."]
[]
[]
[]
[]
[]
[]
[]
[]
[]
[]
[]
[]
[]
[]
["Niveau de structure principal « 100 Module PV » à « 800 Prestations de service »"]
["Les niveaux de structure principaux 100 à 800 sont des groupes de positions SOQ qui doivent être définis (selon code couleur) et peuvent être spécifiés plus en détail. \nLes positions SOQ souhaitées peuvent être sélectionnées en mettant un « x » dans le champ « Ajouter une position ». Pour les positions multiples (p. ex. deux modules différents de la même catégorie), un nombre peut être indiqué à la place du x.\nLes positions SOQ du niveau de structure 2 sont automatiquement sélectionnées en tant que titre en cas d’activation d’une position SOQ du niveau 3 ou inférieur. Dans certains niveaux de structure principaux, les positions SOQ du niveau de structure 2 peuvent également être sélectionnées comme position commune (forf.) en mettant un « x ». Étant donné qu’il s’agit d’une position forfaitaire, une sélection multiple avec un nombre n’est pas possible (les nombres sont ignorés). Une position SOQ forfaitaire au niveau de structure 2 peut également être complétée par des positions au niveau de structure 3 ou inférieur. "]
["Les unités peuvent être définies pour chaque position. Les unités obligatoires par position SOQ sont disponibles. Pour les positions du niveau de structure 2 qui doivent être utilisées en tant que position forfaitaire, l’unité doit être sélectionnée de façon forfaitaire. Les unités suivantes sont disponibles en fonction de la position :\n\nPce - pièce\nModule \nml - mètre linéaire\nm² - mètre carré\nm3 - mètre cube\nh - heure\nMois\na - année\nkWp - kilowatt de puissance dans des conditions d’essai standards STC\nforf. - montant forfaitaire"]
[]
[" "]
[]
[]
[]
[]
[]
[]
[]
[]
[]
["Cellules de propriétés (E-Box)"]
[]
["Dans le champ E-Box, il est possible d’ajouter des propriétés supplémentaires à des positions sélectionnées. Une liste déroulante de propriétés prédéfinies est disponible. Plusieurs positions peuvent être sélectionnées consécutivement dans la liste et alignées dans la case. Pour les positions multiples (par exemple avec un 2 au lieu d'un X), l’E-Box ne peut être définie qu’une seule fois ; pour les ajustements des positions individuelles, toute modification doit être effectuée manuellement.\nLes positions peuvent être modifiées ou supprimées manuellement dans le champ.\nLe champ peut également être copié dans un autre champ."]
[]
[]
[]
[]
[]
[]
[]
["Création du descriptif des prestations"]
[]
["Une fois les sélections effectuées dans les niveaux de structure principaux, le descriptif des prestations peut être créé. Appuyez pour cela sur le bouton « Générer le descriptif des prestations » dans la feuille de calcul « Descriptif des prestations ». Le descriptif des prestations existant sera alors écrasé.\nLe descriptif des prestations peut maintenant être copié dans un document Excel vide en vue d’un traitement ultérieur."]

{"sheet":"Descriptif des prestations","index":1,"n_rows":5,"n_cols":11,"rows_kept":5,"cut":false,"hidden":false,"merged":[]}
[1]
[1,null,"Descriptif des prestations"]
[1,null,"selon structure d’offres SOQ version 1.3"]
[1]
[1,null,"Position SOQ",null,null,null,"Description","Unité","Quantité","Prix unitaire","Montant"]

{"sheet":"000 Conditions","index":2,"n_rows":226,"n_cols":22,"rows_kept":226,"cut":false,"hidden":false,"merged":[[1,8,1,9],[3,16,3,17],[2,12,2,17],[3,8,3,9],[3,10,3,11],[3,12,3,13],[2,8,2,11],[3,14,3,15]]}
[null,null,null,null,null,null,null,null,null,null,null,null,null,null,null,null,null,null,null,null,null,"AUSBLENDEN"]
[null,null,null,null,null,null,"Ausblenden",null,"Niveau de structure 1 :",null,0,"Conditions"]
[null,null,null,null,null,null,null,null,"Obligatoire",null,null,null,"Optionnel"]
[null,"Show","SOQ-Nr.",null,null,null,"Beschreibung","Einheit","Niveau de structure 2",null,"Niveau de structure 3",null,"Niveau de structure 4",null,"Niveau de structure 5",null,"Niveau de structure 6",null,"Ajouter une position","E- Box",null,"E-Box"]
[]
[null,{"$f":"IF(SUM(B7:B11)>0,1,0)","v":1},{"$f":"I6","v":"010.000"},null,null,null,{"$f":"J6","v":"Conditions générales"},null,"010.000","Conditions générales"]
[null,{"$f":"IF(S7=\"x\",1,IF(ISNUMBER(S7),S7,0))","v":1},{"$f":"K7","v":"011.000"},null,null,null,{"$f":"L7 & IF(T7<>\"\",CHAR(10) & T7,\"\")","v":"Termes, abréviations"},null,null,null,"011.000","Termes, abréviations",null,null,null,null,null,null,"x",null,null,"E000_Begriffe_Abkürzungen"]
[null,{"$f":"IF(S8=\"x\",1,IF(ISNUMBER(S8),S8,0))","v":1},{"$f":"K8","v":"012.000"},null,null,null,{"$f":"L8& IF(T8<>\"\",CHAR(10) & T8,\"\")","v":"Normes\nPropriétés : \nRéglementations SIA\nPrescriptions de protection incendie AEAI\nPapiers sur l’état de la technique\nDocuments de la branche de l’AES\nPapiers sur l’état de la technique\nDocuments de la branche de l’AES\nLEne : Loi sur l’énergie"},null,null,null,"012.000","Normes",null,null,null,null,null,null,"x","Propriétés : \nRéglementations SIA\nPrescriptions de protection incendie AEAI\nPapiers sur l’état de la technique\nDocuments de la branche de l’AES\nPapiers sur l’état de la technique\nDocuments de la branche de l’AES\nLEne : Loi sur l’énergie","2x papier PET","E000_Normen"]
[null,{"$f":"IF(S9=\"x\",1,IF(SUM(B10:B11)>0,1,0))","v":1},"013.000",null,null,null,{"$f":"L9& IF(T9<>\"\",CHAR(10) & T9,\"\")","v":"Autorisations, obligations"},null,null,null,"013.000","Autorisations, obligations"]
[null,{"$f":"IF(S10=\"x\",1,IF(ISNUMBER(S10),S10,0))","v":1},null,{"$f":"M10","v":"013.100"},null,null,{"$f":"N10& IF(T10<>\"\",CHAR(10) & T10,\"\")","v":"Permis de construire"},null,null,null,null,null,"013.100","Permis de construire",null,null,null,null,"x"]
[null,{"$f":"IF(S11=\"x\",1,IF(ISNUMBER(S11),S11,0))","v":0},null,{"$f":"M11","v":"013.200"},null,null,{"$f":"N11& IF(T11<>\"\",CHAR(10) & T11,\"\")","v":"Exigences des autorités"},null,null,null,null,null,"013.200","Exigences des autorités"]
[null,{"$f":"B6","v":1}]
[null,{"$f":"IF(SUM(B14:B22)>0,1,0)","v":1},{"$f":"I13","v":"020.000"},null,null,null,{"$f":"J13","v":"Organisation"},null,"020.000","Organisation"]
[null,{"$f":"IF(S14=\"x\",1,IF(ISNUMBER(S14),S14,0))","v":1},{"$f":"K14","v":"021.000"},null,null,null,{"$f":"L14& IF(T14<>\"\",CHAR(10) & T14,\"\")","v":"Maître d’ouvrage"},null,null,null,"021.000","Maître d’ouvrage",null,null,null,null,null,null,"x"]
[null,1,{"$f":"K15","v":"022.000"},null,null,null,"Architecte",null,null,null,"022.000","Architecte",null,null,null,null,null,null,"x"]
[null,1,"023.000",null,null,null,"Direction des travaux",null,null,null,"023.000","Direction des travaux",null,null,null,null,null,null,"x"]
[null,1,"024.000",null,null,null,"Planificateur PV",null,null,null,"024.000","Planificateur PV",null,null,null,null,null,null,"x"]
[null,{"$f":"IF(S18=\"x\",1,IF(SUM(B19:B21)>0,1,0))","v":1},"025.000",null,null,null,"Autres planificateurs",null,null,null,"025.000","Autres planificateurs"]
[null,1,null,{"$f":"M19","v":"025.100"},null,null,{"$f":"N19& IF(T19<>\"\",CHAR(10) & T19,\"\")","v":"Planificateur électricien"},null,null,null,null,null,"025.100","Planificateur électricien",null,null,null,null,"x"]
[null,0,null,{"$f":"M20","v":"025.200"},null,null,"Ingénieur civil/spécialiste en statique du bâtiment",null,null,null,null,null,"025.200","Ingénieur civil/spécialiste en statique du bâtiment"]
[null,0,null,{"$f":"M21","v":"025.300"},null,null,"Planificateur CVC",null,null,null,null,null,"025.300","Planificateur CVC"]
[null,0,{"$f":"K22","v":"026.000"},null,null,null,{"$f":"L22& IF(T22<>\"\",CHAR(10) & T22,\"\")","v":"Assistant Maîtrise d'ouvrage"},null,null,null,"026.000","Assistant Maîtrise d'ouvrage"]
[null,{"$f":"B13","v":1}]
[null,{"$f":"IF(SUM(B25:B105)>0,1,0)","v":1},{"$f":"I24","v":"030.000"},null,null,null,{"$f":"J24","v":"Critères d’appel d’offres"},null,"030.000","Critères d’appel d’offres"]
[null,{"$f":"IF(S25=\"x\",1,IF(SUM(B26:B29)>0,1,0))","v":1},{"$f":"K25","v":"031.000"},null,null,null,{"$f":"L25& IF(T25<>\"\",CHAR(10) & T25,\"\")","v":"Type de procédure d’appel d’offres"},null,null,null,"031.000","Type de procédure d’appel d’offres"]
[null,{"$f":"IF(S26=\"x\",1,IF(ISNUMBER(S26),S26,0))","v":0},null,{"$f":"M26","v":"031.100"},null,null,{"$f":"N26& IF(T26<>\"\",CHAR(10) & T26,\"\")","v":"Procédure ouverte"},null,null,null,null,null,"031.100","Procédure ouverte"]
[null,{"$f":"IF(S27=\"x\",1,IF(ISNUMBER(S27),S27,0))","v":0},null,{"$f":"M27","v":"031.200"},null,null,"Procédure sélective (deux niveaux, avec préqualification)",null,null,null,null,null,"031.200","Procédure sélective (deux niveaux, avec préqualification)"]
[null,{"$f":"IF(S28=\"x\",1,IF(ISNUMBER(S28),S28,0))","v":1},null,{"$f":"M28","v":"031.300"},null,null,"Procédure sur invitation",null,null,null,null,null,"031.300","Procédure sur invitation",null,null,null,null,"x"]
[null,{"$f":"IF(S29=\"x\",1,IF(ISNUMBER(S29),S29,0))","v":0},null,{"$f":"M29","v":"031.400"},null,null,"Procédure de gré à gré",null,null,null,null,null,"031.400","Procédure de gré à gré"]
[null,{"$f":"IF(S30=\"x\",1,IF(SUM(B31:B39)>0,1,0))","v":1},{"$f":"K30","v":"032.000"},null,null,null,{"$f":"L30& IF(T30<>\"\",CHAR(10) & T30,\"\")","v":"Offre"},null,null,null,"032.000","Offre"]
[null,{"$f":"IF(S31=\"x\",1,IF(SUM(B32:B34)>0,1,0))","v":1},null,{"$f":"M31","v":"032.100"},null,null,{"$f":"N31& IF(T31<>\"\",CHAR(10) & T31,\"\")","v":"Type d'offre"},null,null,null,null,null,"032.100","Type d'offre"]
[null,{"$f":"IF(S32=\"x\",1,IF(ISNUMBER(S32),S32,0))","v":0},null,null,{"$f":"O32","v":"032.110"},null,{"$f":"P32& IF(T32<>\"\",CHAR(10) & T32,\"\")","v":"Selon métré"},null,null,null,null,null,null,null,"032.110","Selon métré"]
[null,1,null,null,{"$f":"O33","v":"032.120"},null,{"$f":"P33& IF(T33<>\"\",CHAR(10) & T33,\"\")","v":"Plafonnement des coûts"},null,null,null,null,null,null,null,"032.120","Plafonnement des coûts",null,null,"x"]
[null,0,null,null,{"$f":"O34","v":"032.130"},null,"Forfait",null,null,null,null,null,null,null,"032.130","Forfait"]
[null,0,null,{"$f":"M35","v":"032.200"},null,null,{"$f":"N35& IF(T35<>\"\",CHAR(10) & T35,\"\")","v":"Offres partielles"},null,null,null,null,null,"032.200","Offres partielles"]
[null,1,null,{"$f":"M36","v":"032.300"},null,null,"Variantes",null,null,null,null,null,"032.300","Variantes",null,null,null,null,"x"]
[null,0,null,{"$f":"M37","v":"032.400"},null,null,"Sous-traitants",null,null,null,null,null,"032.400","Sous-traitants"]
[null,0,null,{"$f":"M38","v":"032.500"},null,null,"Consortium",null,null,null,null,null,"032.500","Consortium"]
[null,0,null,{"$f":"M39","v":"032.600"},null,null,"Validité de l’offre",null,null,null,null,null,"032.600","Validité de l’offre"]
[null,{"$f":"IF(S40=\"x\",1,IF(SUM(B41:B46)>0,1,0))","v":1},{"$f":"K40","v":"033.000"},null,null,null,{"$f":"L40& IF(T40<>\"\",CHAR(10) & T40,\"\")","v":"Critères, réserves"},null,null,null,"033.000","Critères, réserves"]
[null,{"$f":"IF(S41=\"x\",1,IF(SUM(B42:B46)>0,1,0))","v":1},null,{"$f":"M41","v":"033.100"},null,null,{"$f":"N41& IF(T41<>\"\",CHAR(10) & T41,\"\")","v":"Critères d’aptitude de l’entrepreneur"},null,null,null,null,null,"033.100","Critères d’aptitude de l’entrepreneur"]
[null,{"$f":"IF(S42=\"x\",1,IF(ISNUMBER(S42),S42,0))","v":1},null,null,{"$f":"O42","v":"033.110"},null,{"$f":"P42& IF(T42<>\"\",CHAR(10) & T42,\"\")","v":"Autorisation ESTI art. 9 ou 14 OIBT"},null,null,null,null,null,null,null,"033.110","Autorisation ESTI art. 9 ou 14 OIBT",null,null,"x"]
[null,{"$f":"IF(S43=\"x\",1,IF(ISNUMBER(S43),S43,0))","v":1},null,null,{"$f":"O43","v":"033.120"},null,"Label Pro du solaire",null,null,null,null,null,null,null,"033.120","Label Pro du solaire",null,null,"x"]
[null,{"$f":"IF(S44=\"x\",1,IF(ISNUMBER(S44),S44,0))","v":1},null,null,{"$f":"O44","v":"033.130"},null,"Respect / déclaration CCT",null,null,null,null,null,null,null,"033.130","Respect / déclaration CCT",null,null,"x"]
[null,{"$f":"IF(S45=\"x\",1,IF(ISNUMBER(S45),S45,0))","v":1},null,null,{"$f":"O45","v":"033.140"},null,"Références",null,null,null,null,null,null,null,"033.140","Références",null,null,"x"]
[null,{"$f":"IF(S46=\"x\",1,IF(ISNUMBER(S46),S46,0))","v":0},null,null,{"$f":"O46","v":"033.150"},null,"Autres",null,null,null,null,null,null,null,"033.150","Autres"]
[null,{"$f":"IF(S47=\"x\",1,IF(SUM(B48:B55)>0,1,0))","v":1},null,{"$f":"M47","v":"033.200"},null,null,{"$f":"N47& IF(T47<>\"\",CHAR(10) & T47,\"\")","v":"Critères d’adjudication"},null,null,null,null,null,"033.200","Critères d’adjudication"]
[null,{"$f":"IF(S48=\"x\",1,IF(ISNUMBER(S48),S48,0))","v":1},null,null,{"$f":"O48","v":"033.210"},null,{"$f":"P48& IF(T48<>\"\",CHAR(10) & T48,\"\")","v":"Prix / puissance PV"},null,null,null,null,null,null,null,"033.210","Prix / puissance PV",null,null,"x"]
[null,0,null,null,"033.220",null,"Puissance",null,null,null,null,null,null,null,"033.220","Puissance"]
[null,1,null,null,"033.230",null,"Qualité",null,null,null,null,null,null,null,"033.230","Qualité",null,null,"x"]
[null,1,null,null,"033.240",null,"Concept d’installation",null,null,null,null,null,null,null,"033.240","Concept d’installation",null,null,"x"]
[null,0,null,null,"033.250",null,"Prestations de maintenance et d’entretien",null,null,null,null,null,null,null,"033.250","Prestations de maintenance et d’entretien"]
[null,0,null,null,"033.260",null,"Références",null,null,null,null,null,null,null,"033.260","Références"]
[null,0,null,null,"033.270",null,"Entreprise",null,null,null,null,null,null,null,"033.270","Entreprise"]
[null,0,null,null,"033.280",null,"Autres",null,null,null,null,null,null,null,"033.280","Autres"]
[null,{"$f":"IF(S56=\"x\",1,IF(SUM(B57:B61)>0,1,0))","v":1},null,{"$f":"M56","v":"033.300"},null,null,{"$f":"N56& IF(T56<>\"\",CHAR(10) & T56,\"\")","v":"Critères d’exclusion"},null,null,null,null,null,"033.300","Critères d’exclusion"]
[null,{"$f":"IF(S57=\"x\",1,IF(ISNUMBER(S57),S57,0))","v":1},null,null,{"$f":"O57","v":"033.310"},null,{"$f":"P57& IF(T57<>\"\",CHAR(10) & T57,\"\")","v":"Descriptif des prestations incomplet"},null,null,null,null,null,null,null,"033.310","Descriptif des prestations incomplet",null,null,"x"]
[null,{"$f":"IF(S58=\"x\",1,IF(ISNUMBER(S58),S58,0))","v":1},null,null,{"$f":"O58","v":"033.320"},null,"Informations incomplètes concernant l’entrepreneur",null,null,null,null,null,null,null,"033.320","Informations incomplètes concernant l’entrepreneur",null,null,"x"]
[null,{"$f":"IF(S59=\"x\",1,IF(ISNUMBER(S59),S59,0))","v":1},null,null,{"$f":"O59","v":"033.330"},null,"Références incomplètes",null,null,null,null,null,null,null,"033.330","Références incomplètes",null,null,"x"]
[null,{"$f":"IF(S60=\"x\",1,IF(ISNUMBER(S60),S60,0))","v":0},null,null,{"$f":"O60","v":"033.340"},null,"Cohérence et respect des délais",null,null,null,null,null,null,null,"033.340","Cohérence et respect des délais"]
[null,{"$f":"IF(S61=\"x\",1,IF(ISNUMBER(S61),S61,0))","v":0},null,null,{"$f":"O61","v":"033.350"},null,"Autres",null,null,null,null,null,null,null,"033.350","Autres"]
[null,{"$f":"IF(S62=\"x\",1,IF(SUM(B63)>0,1,0))","v":1},null,{"$f":"M62","v":"033.400"},null,null,{"$f":"N62& IF(T62<>\"\",CHAR(10) & T62,\"\")","v":"Négociations"},null,null,null,null,null,"033.400","Négociations"]
[null,{"$f":"IF(S63=\"x\",1,IF(ISNUMBER(S63),S63,0))","v":1},null,null,{"$f":"O63","v":"033.410"},null,{"$f":"P63& IF(T63<>\"\",CHAR(10) & T63,\"\")","v":"Offres"},null,null,null,null,null,null,null,"033.410","Offres",null,null,"x"]
[null,{"$f":"IF(S64=\"x\",1,IF(SUM(B65:B70)>0,1,0))","v":1},{"$f":"K64","v":"034.000"},null,null,null,{"$f":"L64& IF(T64<>\"\",CHAR(10) & T64,\"\")","v":"Dates des appels d’offres, délais"},null,null,null,"034.000","Dates des appels d’offres, délais"]
[null,{"$f":"IF(S65=\"x\",1,IF(ISNUMBER(S65),S65,0))","v":0},null,{"$f":"M65","v":"034.100"},null,null,{"$f":"N65& IF(T65<>\"\",CHAR(10) & T65,\"\")","v":"Obtention des documents"},null,null,null,null,null,"034.100","Obtention des documents"]
[null,1,null,"034.200",null,null,"Visite du site",null,null,null,null,null,"034.200","Visite du site",null,null,null,null,"x"]
[null,1,null,"034.300",null,null,"Questions et réponses",null,null,null,null,null,"034.300","Questions et réponses",null,null,null,null,"x"]
[null,1,null,"034.400",null,null,"Soumission d’offre",null,null,null,null,null,"034.400","Soumission d’offre",null,null,null,null,"x"]
[null,0,null,"034.500",null,null,"Ouverture des offres, rapport d’évaluation succinct",null,null,null,null,null,"034.500","Ouverture des offres, rapport d’évaluation succinct"]
[null,0,null,"034.600",null,null,"Adjudication",null,null,null,null,null,"034.600","Adjudication"]
[null,{"$f":"IF(S71=\"x\",1,IF(SUM(B72:B81)>0,1,0))","v":1},{"$f":"K71","v":"035.000"},null,null,null,{"$f":"L71& IF(T71<>\"\",CHAR(10) & T71,\"\")","v":"Dossier d’appel d’offres"},null,null,null,"035.000","Dossier d’appel d’offres"]
[null,{"$f":"IF(S72=\"x\",1,IF(ISNUMBER(S72),S72,0))","v":1},null,{"$f":"M72","v":"035.100"},null,null,{"$f":"N72& IF(T72<>\"\",CHAR(10) & T72,\"\")","v":"Conditions générales"},null,null,null,null,null,"035.100","Conditions générales",null,null,null,null,"x"]
[null,{"$f":"IF(S73=\"x\",1,IF(SUM(B74:B79)>0,1,0))","v":1},null,{"$f":"M73","v":"035.200"},null,null,"Plans",null,null,null,null,null,"035.200","Plans"]
[null,1,null,null,{"$f":"O74","v":"035.210"},null,{"$f":"P74& IF(T74<>\"\",CHAR(10) & T74,\"\")","v":"Plan de situation"},null,null,null,null,null,null,null,"035.210","Plan de situation",null,null,"x"]
[null,0,null,null,"035.220",null,"Plan de situation, coté",null,null,null,null,null,null,null,"035.220","Plan de situation, coté"]
[null,1,null,null,"035.230",null,"Plan du toit",null,null,null,null,null,null,null,"035.230","Plan du toit",null,null,"x"]
[null,0,null,null,"035.240",null,"Plan du toit, coté",null,null,null,null,null,null,null,"035.240","Plan du toit, coté"]
[null,1,null,null,"035.250",null,"Vue en coupe du bâtiment",null,null,null,null,null,null,null,"035.250","Vue en coupe du bâtiment",null,null,"x"]
[null,0,null,null,"035.260",null,"Vue en coupe du bâtiment, cotée",null,null,null,null,null,null,null,"035.260","Vue en coupe du bâtiment, cotée"]
[null,1,null,{"$f":"M80","v":"035.300"},null,null,{"$f":"N80& IF(T80<>\"\",CHAR(10) & T80,\"\")","v":"Schéma de principe"},null,null,null,null,null,"035.300","Schéma de principe",null,null,null,null,"x"]
[null,1,null,{"$f":"M81","v":"035.400"},null,null,"Documentation photo",null,null,null,null,null,"035.400","Documentation photo",null,null,null,null,"x"]
[null,{"$f":"IF(S82=\"x\",1,IF(SUM(B83:B97)>0,1,0))","v":1},{"$f":"K82","v":"036.000"},null,null,null,{"$f":"L82& IF(T82<>\"\",CHAR(10) & T82,\"\")","v":"Documents requis"},null,null,null,"036.000","Documents requis"]
[null,{"$f":"IF(S83=\"x\",1,IF(SUM(B84:B86)>0,1,0))","v":1},null,{"$f":"M83","v":"036.100"},null,null,{"$f":"N83& IF(T83<>\"\",CHAR(10) & T83,\"\")","v":"Plans"},null,null,null,null,null,"036.100","Plans",null,null,null,null,"x"]
[null,{"$f":"IF(S84=\"x\",1,IF(ISNUMBER(S84),S84,0))","v":0},null,null,{"$f":"O84","v":"036.110"},null,{"$f":"P84& IF(T84<>\"\",CHAR(10) & T84,\"\")","v":"Plan de calepinage de l’installation"},null,null,null,null,null,null,null,"036.110","Plan de calepinage de l’installation"]
[null,0,null,null,{"$f":"O85","v":"036.120"},null,"Plan de coupe du champ de modules",null,null,null,null,null,null,null,"036.120","Plan de coupe du champ de modules"]
[null,0,null,null,{"$f":"O86","v":"036.130"},null,"Autres",null,null,null,null,null,null,null,"036.130","Autres"]
[null,{"$f":"IF(S87=\"x\",1,IF(SUM(B88:B90)>0,1,0))","v":1},null,{"$f":"M87","v":"036.200"},null,null,{"$f":"N87& IF(T87<>\"\",CHAR(10) & T87,\"\")","v":"Documentation technique"},null,null,null,null,null,"036.200","Documentation technique",null,null,null,null,"x"]
[null,0,null,null,{"$f":"O88","v":"036.210"},null,{"$f":"P88& IF(T88<>\"\",CHAR(10) & T88,\"\")","v":"Schéma de principe"},null,null,null,null,null,null,null,"036.210","Schéma de principe"]
[null,0,null,null,{"$f":"O89","v":"036.220"},null,"Fiches techniques composants",null,null,null,null,null,null,null,"036.220","Fiches techniques composants"]
[null,0,null,null,{"$f":"O90","v":"036.230"},null,"Autres",null,null,null,null,null,null,null,"036.230","Autres"]
[null,0,null,{"$f":"M91","v":"036.300"},null,null,{"$f":"N91& IF(T91<>\"\",CHAR(10) & T91,\"\")","v":"Concept de sécurité au travail"},null,null,null,null,null,"036.300","Concept de sécurité au travail"]
[null,{"$f":"IF(S92=\"x\",1,IF(SUM(B93:B96)>0,1,0))","v":1},null,{"$f":"M92","v":"036.400"},null,null,"Informations concernant l’entrepreneur",null,null,null,null,null,"036.400","Informations concernant l’entrepreneur",null,null,null,null,"x"]
[null,0,null,null,{"$f":"O93","v":"036.410"},null,{"$f":"P93& IF(T93<>\"\",CHAR(10) & T93,\"\")","v":"Informations relatives aux critères d’aptitude"},null,null,null,null,null,null,null,"036.410","Informations relatives aux critères d’aptitude"]
[null,0,null,null,{"$f":"O94","v":"036.420"},null,"Confirmation CCT",null,null,null,null,null,null,null,"036.420","Confirmation CCT"]
[null,0,null,null,{"$f":"O95","v":"036.430"},null,"Confirmation de l’assurance responsabilité civile",null,null,null,null,null,null,null,"036.430","Confirmation de l’assurance responsabilité civile"]
[null,0,null,null,{"$f":"O96","v":"036.440"},null,"Autres",null,null,null,null,null,null,null,"036.440","Autres"]
[null,1,null,{"$f":"M97","v":"036.500"},null,null,{"$f":"N97& IF(T97<>\"\",CHAR(10) & T97,\"\")","v":"Contrat d’entretien"},null,null,null,null,null,"036.500","Contrat d’entretien",null,null,null,null,"x"]
[null,{"$f":"IF(S98=\"x\",1,IF(SUM(B99:B102)>0,1,0))","v":1},{"$f":"K98","v":"037.000"},null,null,null,{"$f":"L98& IF(T98<>\"\",CHAR(10) & T98,\"\")","v":"Garanties"},null,null,null,"037.000","Garanties"]
[null,{"$f":"IF(S99=\"x\",1,IF(ISNUMBER(S99),S99,0))","v":1},null,{"$f":"M99","v":"037.100"},null,null,{"$f":"N99& IF(T99<>\"\",CHAR(10) & T99,\"\")","v":"Garantie de bonne exécution"},null,null,null,null,null,"037.100","Garantie de bonne exécution",null,null,null,null,"x"]
[null,{"$f":"IF(S100=\"x\",1,IF(ISNUMBER(S100),S100,0))","v":0},null,{"$f":"M100","v":"037.200"},null,null,"Garantie de restitution d’acompte",null,null,null,null,null,"037.200","Garantie de restitution d’acompte"]
[null,{"$f":"IF(S101=\"x\",1,IF(ISNUMBER(S101),S101,0))","v":0},null,{"$f":"M101","v":"037.300"},null,null,"Garantie pour les défauts de l’ouvrage",null,null,null,null,null,"037.300","Garantie pour les défauts de l’ouvrage"]
[null,{"$f":"IF(S102=\"x\",1,IF(ISNUMBER(S102),S102,0))","v":0},null,{"$f":"M102","v":"037.400"},null,null,"Garantie de production",null,null,null,null,null,"037.400","Garantie de production"]
[null,{"$f":"IF(S103=\"x\",1,IF(SUM(B104:B105)>0,1,0))","v":1},{"$f":"K103","v":"038.000"},null,null,null,{"$f":"L103& IF(T103<>\"\",CHAR(10) & T103,\"\")","v":"Réserves"},null,null,null,"038.000","Réserves"]
[null,{"$f":"IF(S104=\"x\",1,IF(ISNUMBER(S104),S104,0))","v":1},null,{"$f":"M104","v":"038.100"},null,null,{"$f":"N104& IF(T104<>\"\",CHAR(10) & T104,\"\")","v":"Obtention du financement"},null,null,null,null,null,"038.100","Obtention du financement",null,null,null,null,"x"]
[null,{"$f":"IF(S105=\"x\",1,IF(ISNUMBER(S105),S105,0))","v":0},null,{"$f":"M105","v":"038.200"},null,null,"Obtention des autorisations",null,null,null,null,null,"038.200","Obtention des autorisations"]
[null,{"$f":"B24","v":1}]
[null,{"$f":"IF(SUM(B108:B135)>0,1,0)","v":1},{"$f":"I107","v":"040.000"},null,null,null,{"$f":"J107","v":"Modalités de rémunération"},null,"040.000","Modalités de rémunération"]
[null,{"$f":"IF(S108=\"x\",1,IF(SUM(B109:B128)>0,1,0))","v":1},{"$f":"K108","v":"041.000"},null,null,null,{"$f":"L108& IF(T108<>\"\",CHAR(10) & T108,\"\")","v":"Prestations incluses / conditions de base"},null,null,null,"041.000","Prestations incluses / conditions de base"]
[null,{"$f":"IF(S109=\"x\",1,IF(SUM(B110:B112)>0,1,0))","v":1},null,{"$f":"M109","v":"041.100"},null,null,{"$f":"N109& IF(T109<>\"\",CHAR(10) & T109,\"\")","v":"Planification"},null,null,null,null,null,"041.100","Planification",null,null,null,null,"x"]
[null,{"$f":"IF(S110=\"x\",1,IF(ISNUMBER(S110),S110,0))","v":0},null,null,{"$f":"O110","v":"041.110"},null,{"$f":"P110& IF(T110<>\"\",CHAR(10) & T110,\"\")","v":"Justificatif de capacité de charge du bâtiment"},null,null,null,null,null,null,null,"041.110","Justificatif de capacité de charge du bâtiment"]
[null,0,null,null,{"$f":"O111","v":"041.120"},null,"Mise à disposition des documents requis pour des entrepreneurs tiers en vue du bon fonctionnement de l’installation PV",null,null,null,null,null,null,null,"041.120","Mise à disposition des documents requis pour des entrepreneurs tiers en vue du bon fonctionnement de l’installation PV"]
[null,0,null,null,{"$f":"O112","v":"041.130"},null,"Coordination des entrepreneurs tiers pour garantir le bon fonctionnement de l’IP",null,null,null,null,null,null,null,"041.130","Coordination des entrepreneurs tiers pour garantir le bon fonctionnement de l’IP"]
[null,{"$f":"IF(S113=\"x\",1,IF(SUM(B114:B116)>0,1,0))","v":1},null,{"$f":"M113","v":"041.200"},null,null,{"$f":"N113& IF(T113<>\"\",CHAR(10) & T113,\"\")","v":"Structure de montage"},null,null,null,null,null,"041.200","Structure de montage",null,null,null,null,"x"]
[null,0,null,null,{"$f":"O114","v":"041.210"},null,{"$f":"P114& IF(T114<>\"\",CHAR(10) & T114,\"\")","v":"Preuve d’adéquation du système de montage PV"},null,null,null,null,null,null,null,"041.210","Preuve d’adéquation du système de montage PV"]
[null,0,null,null,{"$f":"O115","v":"041.220"},null,"La structure de montage est calculée sur la base du calepinage des modules proposé. En cas de modification du calepinage, le calcul par unité peut changer. L’entrepreneur doit présenter un nouveau calcul plausible et clair.",null,null,null,null,null,null,null,"041.220","La structure de montage est calculée sur la base du calepinage des modules proposé. En cas de modification du calepinage, le calcul par unité peut changer. L’entrepreneur doit présenter un nouveau calcul plausible et clair."]
[null,0,null,null,{"$f":"O116","v":"041.230"},null,"Tolérances dimensionnelles",null,null,null,null,null,null,null,"041.230","Tolérances dimensionnelles"]
[null,{"$f":"IF(S117=\"x\",1,IF(SUM(B118:B120)>0,1,0))","v":1},null,{"$f":"M117","v":"041.300"},null,null,{"$f":"N117& IF(T117<>\"\",CHAR(10) & T117,\"\")","v":"Modules PV"},null,null,null,null,null,"041.300","Modules PV",null,null,null,null,"x"]
[null,0,null,null,{"$f":"O118","v":"041.310"},null,{"$f":"P118& IF(T118<>\"\",CHAR(10) & T118,\"\")","v":"Garanties module PV : Garantie de produit 10a, garantie de performance 80% 25a"},null,null,null,null,null,null,null,"041.310","Garanties module PV : Garantie de produit 10a, garantie de performance 80% 25a"]
[null,0,null,null,{"$f":"O119","v":"041.320"},null,"Preuve d'adéquation module PV / système de montage",null,null,null,null,null,null,null,"041.320","Preuve d'adéquation module PV / système de montage"]
[null,0,null,null,{"$f":"O120","v":"041.330"},null,"Connecteurs du module PV conformes aux normes",null,null,null,null,null,null,null,"041.330","Connecteurs du module PV conformes aux normes"]
[null,{"$f":"IF(S121=\"x\",1,IF(SUM(B122:B126)>0,1,0))","v":1},null,{"$f":"M121","v":"041.400"},null,null,{"$f":"N121& IF(T121<>\"\",CHAR(10) & T121,\"\")","v":"Exécution des travaux "},null,null,null,null,null,"041.400","Exécution des travaux ",null,null,null,null,"x"]
[null,0,null,null,{"$f":"O122","v":"041.410"},null,{"$f":"P122& IF(T122<>\"\",CHAR(10) & T122,\"\")","v":"Interruptions de travail dues aux conditions météorologiques"},null,null,null,null,null,null,null,"041.410","Interruptions de travail dues aux conditions météorologiques"]
[null,0,null,null,{"$f":"O123","v":"041.420"},null,"Protection contre l’encrassement des composants jusqu’à la mise en service",null,null,null,null,null,null,null,"041.420","Protection contre l’encrassement des composants jusqu’à la mise en service"]
[null,0,null,null,{"$f":"O124","v":"041.430"},null,"Participation aux réunions de chantier nécessaires",null,null,null,null,null,null,null,"041.430","Participation aux réunions de chantier nécessaires"]
[null,0,null,null,{"$f":"O125","v":"041.440"},null,"Les chutes des matériaux proposés doivent être prises en compte",null,null,null,null,null,null,null,"041.440","Les chutes des matériaux proposés doivent être prises en compte"]
[null,0,null,null,{"$f":"O126","v":"041.450"},null,"Instruction unique",null,null,null,null,null,null,null,"041.450","Instruction unique"]
[null,{"$f":"IF(S127=\"x\",1,IF(SUM(B128)>0,1,0))","v":0},null,{"$f":"M127","v":"041.500"},null,null,{"$f":"N127& IF(T127<>\"\",CHAR(10) & T127,\"\")","v":"Prestations supplémentaires"},null,null,null,null,null,"041.500","Prestations supplémentaires"]
[null,0,null,null,{"$f":"O128","v":"041.510"},null,{"$f":"P128& IF(T128<>\"\",CHAR(10) & T128,\"\")","v":"Taxes sur les produits (p. ex. TAR)"},null,null,null,null,null,null,null,"041.510","Taxes sur les produits (p. ex. TAR)"]
[null,{"$f":"IF(S129=\"x\",1,IF(SUM(B130:B131)>0,1,0))","v":1},{"$f":"K129","v":"042.000"},null,null,null,{"$f":"L129& IF(T129<>\"\",CHAR(10) & T129,\"\")","v":"Devise"},null,null,null,"042.000","Devise"]
[null,{"$f":"IF(S130=\"x\",1,IF(ISNUMBER(S130),S130,0))","v":1},null,{"$f":"M130","v":"042.100"},null,null,{"$f":"N130& IF(T130<>\"\",CHAR(10) & T130,\"\")","v":"Devise "},null,null,null,null,null,"042.100","Devise ",null,null,null,null,"x"]
[null,{"$f":"IF(S131=\"x\",1,IF(ISNUMBER(S131),S131,0))","v":0},null,{"$f":"M131","v":"042.200"},null,null,"Risque de change",null,null,null,null,null,"042.200","Risque de change"]
[null,{"$f":"IF(S132=\"x\",1,IF(SUM(B133:B135)>0,1,0))","v":1},{"$f":"K132","v":"043.000"},null,null,null,{"$f":"L132& IF(T132<>\"\",CHAR(10) & T132,\"\")","v":"Déductions liées au chantier"},null,null,null,"043.000","Déductions liées au chantier",null,null,null,null,null,null,"x"]
[null,{"$f":"IF(S133=\"x\",1,IF(ISNUMBER(S133),S133,0))","v":0},null,{"$f":"M133","v":"043.100"},null,null,{"$f":"N133& IF(T133<>\"\",CHAR(10) & T133,\"\")","v":"Prorata de chantier (eau, électricité, nettoyage)"},null,null,null,null,null,"043.100","Prorata de chantier (eau, électricité, nettoyage)"]
[null,{"$f":"IF(S134=\"x\",1,IF(ISNUMBER(S134),S134,0))","v":0},null,{"$f":"M134","v":"043.200"},null,null,"Publicité",null,null,null,null,null,"043.200","Publicité"]
[null,{"$f":"IF(S135=\"x\",1,IF(ISNUMBER(S135),S135,0))","v":0},null,{"$f":"M135","v":"043.300"},null,null,"Assurances",null,null,null,null,null,"043.300","Assurances"]
[null,{"$f":"B107","v":1}]
[null,{"$f":"IF(SUM(B138:B190)>0,1,0)","v":1},{"$f":"I137","v":"050.000"},null,null,null,{"$f":"J137","v":"Informations spécifiques à l’objet"},null,"050.000","Informations spécifiques à l’objet"]
[null,{"$f":"IF(S138=\"x\",1,IF(SUM(B139:B149)>0,1,0))","v":1},{"$f":"K138","v":"051.000"},null,null,null,{"$f":"L138& IF(T138<>\"\",CHAR(10) & T138,\"\")","v":"Détails de l’ouvrage"},null,null,null,"051.000","Détails de l’ouvrage"]
[null,{"$f":"IF(S139=\"x\",1,IF(ISNUMBER(S139),S139,0))","v":1},null,{"$f":"M139","v":"051.100"},null,null,{"$f":"N139& IF(T139<>\"\",CHAR(10) & T139,\"\")","v":"Adresse"},null,null,null,null,null,"051.100","Adresse",null,null,null,null,"x"]
[null,1,null,{"$f":"M140","v":"051.200"},null,null,"Altitude de l’ouvrage",null,null,null,null,null,"051.200","Altitude de l’ouvrage",null,null,null,null,"x"]
[null,1,null,{"$f":"M141","v":"051.300"},null,null,"Hauteur du bâtiment",null,null,null,null,null,"051.300","Hauteur du bâtiment",null,null,null,null,"x"]
[null,0,null,{"$f":"M142","v":"051.400"},null,null,"Dimensions du bâtiment",null,null,null,null,null,"051.400","Dimensions du bâtiment"]
[null,{"$f":"IF(S143=\"x\",1,IF(SUM(B144)>0,1,0))","v":1},null,{"$f":"M143","v":"051.500"},null,null,"Structure de la toiture",null,null,null,null,null,"051.500","Structure de la toiture",null,null,null,null,"x"]
[null,1,null,null,{"$f":"O144","v":"051.510"},null,{"$f":"P144& IF(T144<>\"\",CHAR(10) & T144,\"\")","v":"Charge ponctuelle max. de la toiture dans le cas d’un toit plat"},null,null,null,null,null,null,null,"051.510","Charge ponctuelle max. de la toiture dans le cas d’un toit plat",null,null,"x"]
[null,1,null,{"$f":"M145","v":"051.600"},null,null,{"$f":"N145& IF(T145<>\"\",CHAR(10) & T145,\"\")","v":"Inclinaison du toit"},null,null,null,null,null,"051.600","Inclinaison du toit",null,null,null,null,"x"]
[null,{"$f":"IF(S146=\"x\",1,IF(SUM(B147:B148)>0,1,0))","v":1},null,{"$f":"M146","v":"051.700"},null,null,"Statique du bâtiment",null,null,null,null,null,"051.700","Statique du bâtiment"]
[null,0,null,null,{"$f":"O147","v":"051.710"},null,{"$f":"P147& IF(T147<>\"\",CHAR(10) & T147,\"\")","v":"Convention d’utilisation de la toiture"},null,null,null,null,null,null,null,"051.710","Convention d’utilisation de la toiture"]
[null,1,null,null,{"$f":"O148","v":"051.720"},null,"Spécification réserve de charge toiture",null,null,null,null,null,null,null,"051.720","Spécification réserve de charge toiture",null,null,"x"]
[null,0,null,{"$f":"M149","v":"051.800"},null,null,{"$f":"N149& IF(T149<>\"\",CHAR(10) & T149,\"\")","v":"Spécification charge temporaire max. toiture"},null,null,null,null,null,"051.800","Spécification charge temporaire max. toiture"]
[null,{"$f":"IF(S150=\"x\",1,IF(SUM(B151:B165)>0,1,0))","v":1},{"$f":"K150","v":"052.000"},null,null,null,{"$f":"L150& IF(T150<>\"\",CHAR(10) & T150,\"\")","v":"Ampleur des travaux"},null,null,null,"052.000","Ampleur des travaux",null,null,null,null,null,null,"x"]
[null,1,null,{"$f":"M151","v":"052.100"},null,null,{"$f":"N151& IF(T151<>\"\",CHAR(10) & T151,\"\")","v":"Description de l’installation PV"},null,null,null,null,null,"052.100","Description de l’installation PV",null,null,null,null,"x"]
[null,{"$f":"IF(S152=\"x\",1,IF(SUM(B153:B154)>0,1,0))","v":1},null,{"$f":"M152","v":"052.200"},null,null,"Description du câblage",null,null,null,null,null,"052.200","Description du câblage",null,null,null,null,"x"]
[null,0,null,null,{"$f":"O153","v":"052.210"},null,{"$f":"P153& IF(T153<>\"\",CHAR(10) & T153,\"\")","v":"Passage de câbles en intérieur"},null,null,null,null,null,null,null,"052.210","Passage de câbles en intérieur"]
[null,0,null,null,{"$f":"O154","v":"052.220"},null,"Passage de câbles en extérieur",null,null,null,null,null,null,null,"052.220","Passage de câbles en extérieur"]
[null,{"$f":"IF(S155=\"x\",1,IF(SUM(B156:B157)>0,1,0))","v":1},null,{"$f":"M155","v":"052.300"},null,null,{"$f":"N155& IF(T155<>\"\",CHAR(10) & T155,\"\")","v":"Description emplacement de l’onduleur"},null,null,null,null,null,"052.300","Description emplacement de l’onduleur"]
[null,0,null,null,{"$f":"O156","v":"052.310"},null,{"$f":"P156& IF(T156<>\"\",CHAR(10) & T156,\"\")","v":"Installation onduleur à l’intérieur"},null,null,null,null,null,null,null,"052.310","Installation onduleur à l’intérieur"]
[null,1,null,null,{"$f":"O157","v":"052.320"},null,"Installation onduleur à l’extérieur",null,null,null,null,null,null,null,"052.320","Installation onduleur à l’extérieur",null,null,"x"]
[null,1,null,{"$f":"M158","v":"052.400"},null,null,{"$f":"N158& IF(T158<>\"\",CHAR(10) & T158,\"\")","v":"Description raccordement réseau"},null,null,null,null,null,"052.400","Description raccordement réseau",null,null,null,null,"x"]
[null,{"$f":"IF(S159=\"x\",1,IF(SUM(B160:B165)>0,1,0))","v":1},null,{"$f":"M159","v":"052.500"},null,null,{"$f":"N159& IF(T159<>\"\",CHAR(10) & T159,\"\")","v":"Description concept de mise à la terre et de protection contre la foudre et les surtensions"},null,null,null,null,null,"052.500","Description concept de mise à la terre et de protection contre la foudre et les surtensions"]
[null,{"$f":"IF(S160=\"x\",1,IF(SUM(B161:B163)>0,1,0))","v":1},null,null,{"$f":"O160","v":"052.510"},null,{"$f":"N160& IF(T160<>\"\",CHAR(10) & T160,\"\")","v":""},null,null,null,null,null,null,null,"052.510","Bâtiment avec protection contre la foudre",null,null,"x"]
[null,0,null,null,null,{"$f":"Q161","v":"052.511"},{"$f":"R161& IF(T161<>\"\",CHAR(10) & T161,\"\")","v":"Bâtiment avec classe de protection contre la foudre I"},null,null,null,null,null,null,null,null,null,"052.511","Bâtiment avec classe de protection contre la foudre I"]
[null,0,null,null,null,{"$f":"Q162","v":"052.512"},{"$f":"R162& IF(T162<>\"\",CHAR(10) & T162,\"\")","v":"Bâtiment avec classe de protection contre la foudre II"},null,null,null,null,null,null,null,null,null,"052.512","Bâtiment avec classe de protection contre la foudre II"]
[null,0,null,null,null,{"$f":"Q163","v":"052.513"},"Bâtiment avec classe de protection contre la foudre III",null,null,null,null,null,null,null,null,null,"052.513","Bâtiment avec classe de protection contre la foudre III"]
[null,0,null,null,{"$f":"O164","v":"052.520"},null,{"$f":"N164& IF(T164<>\"\",CHAR(10) & T164,\"\")","v":""},null,null,null,null,null,null,null,"052.520","Bâtiment sans protection contre la foudre"]
[null,0,null,null,{"$f":"O165","v":"052.530"},null,"",null,null,null,null,null,null,null,"052.530","Concept de mise à la terre"]
[null,{"$f":"IF(S166=\"x\",1,IF(SUM(B167:B174)>0,1,0))","v":1},{"$f":"K166","v":"053.000"},null,null,null,{"$f":"L166& IF(T166<>\"\",CHAR(10) & T166,\"\")","v":"Infrastructure"},null,null,null,"053.000","Infrastructure"]
[null,1,null,{"$f":"M167","v":"053.100"},null,null,{"$f":"N167& IF(T167<>\"\",CHAR(10) & T167,\"\")","v":"Accès"},null,null,null,null,null,"053.100","Accès",null,null,null,null,"x"]
[null,1,null,{"$f":"M168","v":"053.200"},null,null,"Places de stationnement",null,null,null,null,null,"053.200","Places de stationnement",null,null,null,null,"x"]
[null,0,null,{"$f":"M169","v":"053.300"},null,null,"Zones de stockage",null,null,null,null,null,"053.300","Zones de stockage"]
[null,{"$f":"IF(S170=\"x\",1,IF(SUM(B171)>0,1,0))","v":1},null,{"$f":"M170","v":"053.400"},null,null,"Ascenseurs",null,null,null,null,null,"053.400","Ascenseurs",null,null,null,null,"x"]
[null,{"$f":"IF(S171=\"x\",1,IF(ISNUMBER(S171),S171,0))","v":0},null,null,{"$f":"O171","v":"053.410"},null,{"$f":"P171& IF(T171<>\"\",CHAR(10) & T171,\"\")","v":"Spécification capacité de charge du sol"},null,null,null,null,null,null,null,"053.410","Spécification capacité de charge du sol"]
[null,0,null,{"$f":"M172","v":"053.500"},null,null,{"$f":"N172& IF(T172<>\"\",CHAR(10) & T172,\"\")","v":"Raccordement électrique"},null,null,null,null,null,"053.500","Raccordement électrique"]
[null,0,null,{"$f":"M173","v":"053.600"},null,null,"Installations sanitaires",null,null,null,null,null,"053.600","Installations sanitaires"]
[null,0,null,{"$f":"M174","v":"053.700"},null,null,"Logements",null,null,null,null,null,"053.700","Logements"]
[null,{"$f":"IF(S175=\"x\",1,IF(SUM(B176:B180)>0,1,0))","v":1},{"$f":"K175","v":"054.000"},null,null,null,{"$f":"L175& IF(T175<>\"\",CHAR(10) & T175,\"\")","v":"Dispositions particulières chantier"},null,null,null,"054.000","Dispositions particulières chantier"]
[null,0,null,{"$f":"M176","v":"054.100"},null,null,{"$f":"N176& IF(T176<>\"\",CHAR(10) & T176,\"\")","v":"Heures de travail"},null,null,null,null,null,"054.100","Heures de travail"]
[null,0,null,{"$f":"M177","v":"054.200"},null,null,"Contrôles des accès",null,null,null,null,null,"054.200","Contrôles des accès"]
[null,0,null,{"$f":"M178","v":"054.300"},null,null,"Système d’assurance qualité",null,null,null,null,null,"054.300","Système d’assurance qualité"]
[null,1,null,{"$f":"M179","v":"054.400"},null,null,"Déchets, élimination",null,null,null,null,null,"054.400","Déchets, élimination",null,null,null,null,"x"]
[null,0,null,{"$f":"M180","v":"054.500"},null,null,"Construction écologique, charte éthique",null,null,null,null,null,"054.500","Construction écologique, charte éthique"]
[null,{"$f":"IF(S181=\"x\",1,IF(SUM(B182:B190)>0,1,0))","v":1},{"$f":"K181","v":"055.000"},null,null,null,{"$f":"L181& IF(T181<>\"\",CHAR(10) & T181,\"\")","v":"Sécurité"},null,null,null,"055.000","Sécurité"]
[null,{"$f":"IF(S182=\"x\",1,IF(SUM(B183:B187)>0,1,0))","v":1},null,{"$f":"M182","v":"055.100"},null,null,"Sécurité de chantier (installations existantes)",null,null,null,null,null,"055.100","Sécurité de chantier (installations existantes)"]
[null,1,null,null,{"$f":"O183","v":"055.110"},null,{"$f":"P183& IF(T183<>\"\",CHAR(10) & T183,\"\")","v":"Barrières en bordure de toit"},null,null,null,null,null,null,null,"055.110","Barrières en bordure de toit",null,null,"x"]
[null,0,null,null,{"$f":"O184","v":"055.120"},null,"Échafaudage",null,null,null,null,null,null,null,"055.120","Échafaudage"]
[null,0,null,null,{"$f":"O185","v":"055.130"},null,"Délimitation et clôture des zones",null,null,null,null,null,null,null,"055.130","Délimitation et clôture des zones"]
[null,0,null,null,{"$f":"O186","v":"055.140"},null,"Sécurisation des chutes à travers la toiture (p.e. puits de lumières, …)",null,null,null,null,null,null,null,"055.140","Sécurisation des chutes à travers la toiture (p.e. puits de lumières, …)"]
[null,1,null,null,{"$f":"O187","v":"055.150"},null,"Tour d’échafaudage",null,null,null,null,null,null,null,"055.150","Tour d’échafaudage",null,null,"x"]
[null,{"$f":"IF(S188=\"x\",1,IF(SUM(B189:B190)>0,1,0))","v":0},null,{"$f":"M188","v":"055.200"},null,null,{"$f":"N188& IF(T188<>\"\",CHAR(10) & T188,\"\")","v":"Sécurité permanente (installations existantes)"},null,null,null,null,null,"055.200","Sécurité permanente (installations existantes)"]
[null,0,null,null,{"$f":"O189","v":"055.210"},null,{"$f":"P189& IF(T189<>\"\",CHAR(10) & T189,\"\")","v":"Accès au toit"},null,null,null,null,null,null,null,"055.210","Accès au toit"]
[null,0,null,null,{"$f":"O190","v":"055.220"},null,"Concept de sécurité ",null,null,null,null,null,null,null,"055.220","Concept de sécurité "]
[null,{"$f":"B137","v":1}]
[null,{"$f":"IF(SUM(B193:B203)>0,1,0)","v":1},{"$f":"I192","v":"060.000"},null,null,null,{"$f":"J192","v":"Déroulement des travaux, délais"},null,"060.000","Déroulement des travaux, délais"]
[null,{"$f":"IF(SUM(B194:B195)>0,1,0)","v":1},{"$f":"K193","v":"061.000"},null,null,null,{"$f":"L193& IF(T193<>\"\",CHAR(10) & T193,\"\")","v":"Déroulement des travaux"},null,null,null,"061.000","Déroulement des travaux"]
[null,{"$f":"IF(S194=\"x\",1,IF(ISNUMBER(S194),S194,0))","v":1},null,{"$f":"M194","v":"061.100"},null,null,{"$f":"N194& IF(T194<>\"\",CHAR(10) & T194,\"\")","v":"Calendrier des travaux"},null,null,null,null,null,"061.100","Calendrier des travaux",null,null,null,null,"x"]
[null,0,null,{"$f":"M195","v":"061.200"},null,null,"Phases de construction (échelonnement)",null,null,null,null,null,"061.200","Phases de construction (échelonnement)"]
[null,{"$f":"IF(SUM(B197:B199)>0,1,0)","v":1},{"$f":"K196","v":"062.000"},null,null,null,{"$f":"L196& IF(T196<>\"\",CHAR(10) & T196,\"\")","v":"Dates, délais"},null,null,null,"062.000","Dates, délais"]
[null,1,null,{"$f":"M197","v":"062.100"},null,null,{"$f":"N197& IF(T197<>\"\",CHAR(10) & T197,\"\")","v":"Début des travaux"},null,null,null,null,null,"062.100","Début des travaux",null,null,null,null,"x"]
[null,1,null,{"$f":"M198","v":"062.200"},null,null,"Mise en service",null,null,null,null,null,"062.200","Mise en service",null,null,null,null,"x"]
[null,0,null,{"$f":"M199","v":"062.300"},null,null,"Réception",null,null,null,null,null,"062.300","Réception"]
[null,{"$f":"IF(SUM(B201:B203)>0,1,0)","v":1},{"$f":"K200","v":"063.000"},null,null,null,{"$f":"L200& IF(T200<>\"\",CHAR(10) & T200,\"\")","v":"Primes, pénalités"},null,null,null,"063.000","Primes, pénalités"]
[null,0,null,{"$f":"M201","v":"063.100"},null,null,{"$f":"N201& IF(T201<>\"\",CHAR(10) & T201,\"\")","v":"Primes"},null,null,null,null,null,"063.100","Primes"]
[null,1,null,{"$f":"M202","v":"063.200"},null,null,"Pénalités conventionnelles",null,null,null,null,null,"063.200","Pénalités conventionnelles",null,null,null,null,"x"]
[null,0,null,{"$f":"M203","v":"063.300"},null,null,"Règlement des litiges, conciliation",null,null,null,null,null,"063.300","Règlement des litiges, conciliation"]
[null,{"$f":"B192","v":1}]
[null,1,{"$f":"I205","v":"070.000"},null,null,null,{"$f":"J205","v":"Interfaces, compétences (limites des prestations)"},null,"070.000","Interfaces, compétences (limites des prestations)"]
[null,{"$f":"IF(SUM(B207:B210)>0,1,0)","v":1},{"$f":"K206","v":"071.000"},null,null,null,{"$f":"L206& IF(T206<>\"\",CHAR(10) & T206,\"\")","v":"Interfaces électriques"},null,null,null,"071.000","Interfaces électriques",null,null,null,null,null,null,"x"]
[null,{"$f":"IF(S207=\"x\",1,IF(ISNUMBER(S207),S207,0))","v":0},null,{"$f":"M207","v":"071.100"},null,null,{"$f":"N207& IF(T207<>\"\",CHAR(10) & T207,\"\")","v":"Jusqu’à l’onduleur (inclus)"},null,null,null,null,null,"071.100","Jusqu’à l’onduleur (inclus)"]
[null,0,null,{"$f":"M208","v":"071.200"},null,null,"Jusqu’à la l'armoire de distribution PV (inclus)",null,null,null,null,null,"071.200","Jusqu’à la l'armoire de distribution PV (inclus)"]
[null,1,null,{"$f":"M209","v":"071.300"},null,null,"Raccordement au réseau",null,null,null,null,null,"071.300","Raccordement au réseau",null,null,null,null,"x"]
[null,1,null,{"$f":"M210","v":"071.400"},null,null,"Interface de protection contre la foudre",null,null,null,null,null,"071.400","Interface de protection contre la foudre",null,null,null,null,"x"]
[null,1,{"$f":"K211","v":"072.000"},null,null,null,{"$f":"L211& IF(T211<>\"\",CHAR(10) & T211,\"\")","v":"Interfaces mécaniques"},null,null,null,"072.000","Interfaces mécaniques",null,null,null,null,null,null,"x"]
[null,0,{"$f":"K212","v":"073.000"},null,null,null,"Interfaces administratives",null,null,null,"073.000","Interfaces administratives"]
[null,{"$f":"B205","v":1}]
[null,{"$f":"IF(SUM(B215:B226)>0,1,0)","v":1},{"$f":"I214","v":"080.000"},null,null,null,{"$f":"J214","v":"Assurances, décompte"},null,"080.000","Assurances, décompte"]
[null,{"$f":"IF(SUM(B216:B217)>0,1,0)","v":1},{"$f":"K215","v":"081.000"},null,null,null,{"$f":"L215& IF(T215<>\"\",CHAR(10) & T215,\"\")","v":"Assurances maître d’ouvrage"},null,null,null,"081.000","Assurances maître d’ouvrage"]
[null,{"$f":"IF(S216=\"x\",1,IF(ISNUMBER(S216),S216,0))","v":0},null,{"$f":"M216","v":"081.100"},null,null,{"$f":"N216& IF(T216<>\"\",CHAR(10) & T216,\"\")","v":"Assurance responsabilité civile maître d’ouvrage"},null,null,null,null,null,"081.100","Assurance responsabilité civile maître d’ouvrage"]
[null,1,null,{"$f":"M217","v":"081.200"},null,null,"Assurance travaux de construction",null,null,null,null,null,"081.200","Assurance travaux de construction",null,null,null,null,"x"]
[null,{"$f":"IF(SUM(B219:B221)>0,1,0)","v":1},{"$f":"K218","v":"082.000"},null,null,null,{"$f":"L218& IF(T218<>\"\",CHAR(10) & T218,\"\")","v":"Assurances entrepreneur"},null,null,null,"082.000","Assurances entrepreneur"]
[null,0,null,{"$f":"M219","v":"082.100"},null,null,{"$f":"N219& IF(T219<>\"\",CHAR(10) & T219,\"\")","v":"Assurance travaux de construction"},null,null,null,null,null,"082.100","Assurance travaux de construction"]
[null,1,null,{"$f":"M220","v":"082.200"},null,null,"Assurance responsabilité civile entrepreneur",null,null,null,null,null,"082.200","Assurance responsabilité civile entrepreneur",null,null,null,null,"x"]
[null,0,null,{"$f":"M221","v":"082.300"},null,null,"Assurance montage",null,null,null,null,null,"082.300","Assurance montage"]
[null,{"$f":"IF(SUM(B223:B224)>0,1,0)","v":1},{"$f":"K222","v":"083.000"},null,null,null,{"$f":"L222& IF(T222<>\"\",CHAR(10) & T222,\"\")","v":"Décompte et facturation"},null,null,null,"083.000","Décompte et facturation"]
[null,1,null,{"$f":"M223","v":"083.100"},null,null,{"$f":"N223& IF(T223<>\"\",CHAR(10) & T223,\"\")","v":"Échéancier de paiement"},null,null,null,null,null,"083.100","Échéancier de paiement",null,null,null,null,"x"]
[null,0,null,{"$f":"M224","v":"083.200"},null,null,"Délais de paiement",null,null,null,null,null,"083.200","Délais de paiement"]
[null,{"$f":"IF(SUM(B226)>0,1,0)","v":0},{"$f":"K225","v":"084.000"},null,null,null,{"$f":"L225& IF(T225<>\"\",CHAR(10) & T225,\"\")","v":"Travaux en régie"},null,null,null,"084.000","Travaux en régie"]
[null,0,null,{"$f":"M226","v":"084.100"},null,null,{"$f":"N226& IF(T226<>\"\",CHAR(10) & T226,\"\")","v":"Conditions de régie"},null,null,null,null,null,"084.100","Conditions de régie"]

{"sheet":"100 Modules PV","index":3,"n_rows":77,"n_cols":52,"rows_kept":77,"cut":false,"hidden":false,"merged":[[1,6,1,7],[3,6,3,7],[3,8,3,9],[2,6,2,9],[0,19,0,51]]}
[null,null,null,null,null,null,null,null,null,null,null,null,null,null,null,null,null,null,null,"AUSBLENDEN"]
[null,null,null,null,"Ausblenden",null,"Niveau de structure 1 :",null,100,"Modules PV"]
[null,null,null,null,null,null,"Obligatoire"]
[null,"Show","Fill","SOQ-Nr.","Beschreibung","Einheit","Niveau de structure 2",null,"Niveau de structure 3",null,"Unité de prestation","Ajouter une position","E-Box",null,null,null,null,null,null,"E-Box","Pce","Module","ml","m2","m3","h","mois","a","kWp","forf.",null,"Pos1","Pos2","Pos3","Pos4","Pos5","Pos6","Pos7","Pos8","Pos9","Pos10",null,"Pos1","Pos2","Pos3","Pos4","Pos5","Pos6","Pos7","Pos8","Pos9","Pos10"]
[]
[null,{"$f":"IF(SUM(B7:B12)>0,1,0)","v":1},{"$f":"IF(L6=\"x\",1,IF(ISNUMBER(L6),1,0))","v":0},{"$f":"G6","v":"110.000"},{"$f":"H6","v":"Verre/film avec cadre, ajouté"},{"$f":"IF(C6=1,K6,\"\")","v":""},"110.000","Verre/film avec cadre, ajouté",null,null,null,null,null,null,null,null,null,null,null,null,null,null,null,null,null,null,null,null,null,null,null,{"$f":"\nIF(U6=\"x\",U$4,\nIF(V6=\"x\",V$4,\nIF(W6=\"x\",W$4,\nIF(X6=\"x\",X$4,\nIF(Y6=\"x\",Y$4,\nIF(Z6=\"x\",Z$4,\nIF(AA6=\"x\",AA$4,\nIF(AB6=\"x\",AB$4,\nIF(AC6=\"x\",AC$4,\nIF(AD6=\"x\",AD$4,\n\"\"))))))))))","v":""},{"$f":"\nIF(V6=\"x\",V$4,\nIF(W6=\"x\",W$4,\nIF(X6=\"x\",X$4,\nIF(Y6=\"x\",Y$4,\nIF(Z6=\"x\",Z$4,\nIF(AA6=\"x\",AA$4,\nIF(AB6=\"x\",AB$4,\nIF(AC6=\"x\",AC$4,\nIF(AD6=\"x\",AD$4,\n\"\")))))))))","v":""},{"$f":"\nIF(W6=\"x\",W$4,\nIF(X6=\"x\",X$4,\nIF(Y6=\"x\",Y$4,\nIF(Z6=\"x\",Z$4,\nIF(AA6=\"x\",AA$4,\nIF(AB6=\"x\",AB$4,\nIF(AC6=\"x\",AC$4,\nIF(AD6=\"x\",AD$4,\n\"\"))))))))","v":""},{"$f":"\nIF(X6=\"x\",X$4,\nIF(Y6=\"x\",Y$4,\nIF(Z6=\"x\",Z$4,\nIF(AA6=\"x\",AA$4,\nIF(AB6=\"x\",AB$4,\nIF(AC6=\"x\",AC$4,\nIF(AD6=\"x\",AD$4,\n\"\")))))))","v":""},{"$f":"\nIF(Y6=\"x\",Y$4,\nIF(Z6=\"x\",Z$4,\nIF(AA6=\"x\",AA$4,\nIF(AB6=\"x\",AB$4,\nIF(AC6=\"x\",AC$4,\nIF(AD6=\"x\",AD$4,\n\"\"))))))","v":""},{"$f":"\nIF(Z6=\"x\",Z$4,\nIF(AA6=\"x\",AA$4,\nIF(AB6=\"x\",AB$4,\nIF(AC6=\"x\",AC$4,\nIF(AD6=\"x\",AD$4,\n\"\")))))","v":""},{"$f":"\nIF(AA6=\"x\",AA$4,\nIF(AB6=\"x\",AB$4,\nIF(AC6=\"x\",AC$4,\nIF(AD6=\"x\",AD$4,\n\"\"))))","v":""},{"$f":"\nIF(AB6=\"x\",AB$4,\nIF(AC6=\"x\",AC$4,\nIF(AD6=\"x\",AD$4,\n\"\")))","v":""},{"$f":"\nIF(AC6=\"x\",AC$4,\nIF(AD6=\"x\",AD$4,\n\"\"))","v":""},{"$f":"\nIF(AD6=\"x\",AD$4,\n\"\")","v":""},null,{"$f":"AF6","v":""},{"$f":"IF(AQ6=\"\",\"\",\nIF(AQ6<>$AF6,$AF6,\nIF(AQ6<>$AG6,$AG6,\nIF(AQ6<>$AH6,$AH6,\nIF(AQ6<>$AI6,$AI6,\nIF(AQ6<>$AJ6,$AJ6,\nIF(AQ6<>$AK6,$AK6,\nIF(AQ6<>$AL6,$AL6,\nIF(AQ6<>$AM6,$AM6,\nIF(AQ6<>$AN6,$AN6,\nIF(AQ6<>$AO6,$AO6,\n\"\")))))))))))","v":""},{"$f":"IF(AR6=\"\",\"\",\nIF(AND(AR6<>$AF6,AQ6<>$AF6),$AF6,\nIF(AND(AR6<>$AG6,AQ6<>$AG6),$AG6,\nIF(AND(AR6<>$AH6,AQ6<>$AH6),$AH6,\nIF(AND(AR6<>$AI6,AQ6<>$AI6),$AI6,\nIF(AND(AR6<>$AJ6,AQ6<>$AJ6),$AJ6,\nIF(AND(AR6<>$AK6,AQ6<>$AK6),$AK6,\nIF(AND(AR6<>$AL6,AQ6<>$AL6),$AL6,\nIF(AND(AR6<>$AM6,AQ6<>$AM6),$AM6,\nIF(AND(AR6<>$AN6,AQ6<>$AN6),$AN6,\nIF(AND(AR6<>$AO6,AQ6<>$AO6),$AO6,\n\"\")))))))))))","v":""},{"$f":"IF(AS6=\"\",\"\",\nIF(AND(AQ6<>$AF6,AS6<>$AF6,AR6<>$AF6),$AF6,\nIF(AND(AQ6<>$AG6,AS6<>$AG6,AR6<>$AG6),$AG6,\nIF(AND(AQ6<>$AH6,AS6<>$AH6,AR6<>$AH6),$AH6,\nIF(AND(AQ6<>$AI6,AS6<>$AI6,AR6<>$AI6),$AI6,\nIF(AND(AQ6<>$AJ6,AS6<>$AJ6,AR6<>$AJ6),$AJ6,\nIF(AND(AQ6<>$AK6,AS6<>$AK6,AR6<>$AK6),$AK6,\nIF(AND(AQ6<>$AL6,AS6<>$AL6,AR6<>$AL6),$AL6,\nIF(AND(AQ6<>$AM6,AS6<>$AM6,AR6<>$AM6),$AM6,\nIF(AND(AQ6<>$AN6,AS6<>$AN6,AR6<>$AN6),$AN6,\nIF(AND(AQ6<>$AO6,AS6<>$AO6,AR6<>$AO6),$AO6,\n\"\")))))))))))","v":""},{"$f":"IF(AT6=\"\",\"\",\nIF(AND(AQ6<>$AF6,AR6<>$AF6,AT6<>$AF6,AS6<>$AF6),$AF6,\nIF(AND(AQ6<>$AG6,AR6<>$AG6,AT6<>$AG6,AS6<>$AG6),$AG6,\nIF(AND(AQ6<>$AH6,AR6<>$AH6,AT6<>$AH6,AS6<>$AH6),$AH6,\nIF(AND(AQ6<>$AI6,AR6<>$AI6,AT6<>$AI6,AS6<>$AI6),$AI6,\nIF(AND(AQ6<>$AJ6,AR6<>$AJ6,AT6<>$AJ6,AS6<>$AJ6),$AJ6,\nIF(AND(AQ6<>$AK6,AR6<>$AK6,AT6<>$AK6,AS6<>$AK6),$AK6,\nIF(AND(AQ6<>$AL6,AR6<>$AL6,AT6<>$AL6,AS6<>$AL6),$AL6,\nIF(AND(AQ6<>$AM6,AR6<>$AM6,AT6<>$AM6,AS6<>$AM6),$AM6,\nIF(AND(AQ6<>$AN6,AR6<>$AN6,AT6<>$AN6,AS6<>$AN6),$AN6,\nIF(AND(AQ6<>$AO6,AR6<>$AO6,AT6<>$AO6,AS6<>$AO6),$AO6,\n\"\")))))))))))","v":""},{"$f":"IF(AU6=\"\",\"\",\nIF(AND(AQ6<>$AF6,AR6<>$AF6,AS6<>$AF6,AU6<>$AF6,AT6<>$AF6),$AF6,\nIF(AND(AQ6<>$AG6,AR6<>$AG6,AS6<>$AG6,AU6<>$AG6,AT6<>$AG6),$AG6,\nIF(AND(AQ6<>$AH6,AR6<>$AH6,AS6<>$AH6,AU6<>$AH6,AT6<>$AH6),$AH6,\nIF(AND(AQ6<>$AI6,AR6<>$AI6,AS6<>$AI6,AU6<>$AI6,AT6<>$AI6),$AI6,\nIF(AND(AQ6<>$AJ6,AR6<>$AJ6,AS6<>$AJ6,AU6<>$AJ6,AT6<>$AJ6),$AJ6,\nIF(AND(AQ6<>$AK6,AR6<>$AK6,AS6<>$AK6,AU6<>$AK6,AT6<>$AK6),$AK6,\nIF(AND(AQ6<>$AL6,AR6<>$AL6,AS6<>$AL6,AU6<>$AL6,AT6<>$AL6),$AL6,\nIF(AND(AQ6<>$AM6,AR6<>$AM6,AS6<>$AM6,AU6<>$AM6,AT6<>$AM6),$AM6,\nIF(AND(AQ6<>$AN6,AR6<>$AN6,AS6<>$AN6,AU6<>$AN6,AT6<>$AN6),$AN6,\nIF(AND(AQ6<>$AO6,AR6<>$AO6,AS6<>$AO6,AU6<>$AO6,AT6<>$AO6),$AO6,\n\"\")))))))))))","v":""},{"$f":"IF(AV6=\"\",\"\",\nIF(AND(AQ6<>$AF6,AR6<>$AF6,AS6<>$AF6,AT6<>$AF6,AV6<>$AF6,AU6<>$AF6),$AF6,\nIF(AND(AQ6<>$AG6,AR6<>$AG6,AS6<>$AG6,AT6<>$AG6,AV6<>$AG6,AU6<>$AG6),$AG6,\nIF(AND(AQ6<>$AH6,AR6<>$AH6,AS6<>$AH6,AT6<>$AH6,AV6<>$AH6,AU6<>$AH6),$AH6,\nIF(AND(AQ6<>$AI6,AR6<>$AI6,AS6<>$AI6,AT6<>$AI6,AV6<>$AI6,AU6<>$AI6),$AI6,\nIF(AND(AQ6<>$AJ6,AR6<>$AJ6,AS6<>$AJ6,AT6<>$AJ6,AV6<>$AJ6,AU6<>$AJ6),$AJ6,\nIF(AND(AQ6<>$AK6,AR6<>$AK6,AS6<>$AK6,AT6<>$AK6,AV6<>$AK6,AU6<>$AK6),$AK6,\nIF(AND(AQ6<>$AL6,AR6<>$AL6,AS6<>$AL6,AT6<>$AL6,AV6<>$AL6,AU6<>$AL6),$AL6,\nIF(AND(AQ6<>$AM6,AR6<>$AM6,AS6<>$AM6,AT6<>$AM6,AV6<>$AM6,AU6<>$AM6),$AM6,\nIF(AND(AQ6<>$AN6,AR6<>$AN6,AS6<>$AN6,AT6<>$AN6,AV6<>$AN6,AU6<>$AN6),$AN6,\nIF(AND(AQ6<>$AO6,AR6<>$AO6,AS6<>$AO6,AT6<>$AO6,AV6<>$AO6,AU6<>$AO6),$AO6,\n\"\")))))))))))","v":""},{"$f":"IF(AW6=\"\",\"\",\nIF(AND(AQ6<>$AF6,AR6<>$AF6,AS6<>$AF6,AT6<>$AF6,AU6<>$AF6,AW6<>$AF6,AV6<>$AF6),$AF6,\nIF(AND(AQ6<>$AG6,AR6<>$AG6,AS6<>$AG6,AT6<>$AG6,AU6<>$AG6,AW6<>$AG6,AV6<>$AG6),$AG6,\nIF(AND(AQ6<>$AH6,AR6<>$AH6,AS6<>$AH6,AT6<>$AH6,AU6<>$AH6,AW6<>$AH6,AV6<>$AH6),$AH6,\nIF(AND(AQ6<>$AI6,AR6<>$AI6,AS6<>$AI6,AT6<>$AI6,AU6<>$AI6,AW6<>$AI6,AV6<>$AI6),$AI6,\nIF(AND(AQ6<>$AJ6,AR6<>$AJ6,AS6<>$AJ6,AT6<>$AJ6,AU6<>$AJ6,AW6<>$AJ6,AV6<>$AJ6),$AJ6,\nIF(AND(AQ6<>$AK6,AR6<>$AK6,AS6<>$AK6,AT6<>$AK6,AU6<>$AK6,AW6<>$AK6,AV6<>$AK6),$AK6,\nIF(AND(AQ6<>$AL6,AR6<>$AL6,AS6<>$AL6,AT6<>$AL6,AU6<>$AL6,AW6<>$AL6,AV6<>$AL6),$AL6,\nIF(AND(AQ6<>$AM6,AR6<>$AM6,AS6<>$AM6,AT6<>$AM6,AU6<>$AM6,AW6<>$AM6,AV6<>$AM6),$AM6,\nIF(AND(AQ6<>$AN6,AR6<>$AN6,AS6<>$AN6,AT6<>$AN6,AU6<>$AN6,AW6<>$AN6,AV6<>$AN6),$AN6,\nIF(AND(AQ6<>$AO6,AR6<>$AO6,AS6<>$AO6,AT6<>$AO6,AU6<>$AO6,AW6<>$AO6,AV6<>$AO6),$AO6,\n\"\")))))))))))","v":""},{"$f":"IF(AX6=\"\",\"\",\nIF(AND(AQ6<>$AF6,AR6<>$AF6,AS6<>$AF6,AT6<>$AF6,AU6<>$AF6,AV6<>$AF6,AX6<>$AF6,AW6<>$AF6),$AF6,\nIF(AND(AQ6<>$AG6,AR6<>$AG6,AS6<>$AG6,AT6<>$AG6,AU6<>$AG6,AV6<>$AG6,AX6<>$AG6,AW6<>$AG6),$AG6,\nIF(AND(AQ6<>$AH6,AR6<>$AH6,AS6<>$AH6,AT6<>$AH6,AU6<>$AH6,AV6<>$AH6,AX6<>$AH6,AW6<>$AH6),$AH6,\nIF(AND(AQ6<>$AI6,AR6<>$AI6,AS6<>$AI6,AT6<>$AI6,AU6<>$AI6,AV6<>$AI6,AX6<>$AI6,AW6<>$AI6),$AI6,\nIF(AND(AQ6<>$AJ6,AR6<>$AJ6,AS6<>$AJ6,AT6<>$AJ6,AU6<>$AJ6,AV6<>$AJ6,AX6<>$AJ6,AW6<>$AJ6),$AJ6,\nIF(AND(AQ6<>$AK6,AR6<>$AK6,AS6<>$AK6,AT6<>$AK6,AU6<>$AK6,AV6<>$AK6,AX6<>$AK6,AW6<>$AK6),$AK6,\nIF(AND(AQ6<>$AL6,AR6<>$AL6,AS6<>$AL6,AT6<>$AL6,AU6<>$AL6,AV6<>$AL6,AX6<>$AL6,AW6<>$AL6),$AL6,\nIF(AND(AQ6<>$AM6,AR6<>$AM6,AS6<>$AM6,AT6<>$AM6,AU6<>$AM6,AV6<>$AM6,AX6<>$AM6,AW6<>$AM6),$AM6,\nIF(AND(AQ6<>$AN6,AR6<>$AN6,AS6<>$AN6,AT6<>$AN6,AU6<>$AN6,AV6<>$AN6,AX6<>$AN6,AW6<>$AN6),$AN6,\nIF(AND(AQ6<>$AO6,AR6<>$AO6,AS6<>$AO6,AT6<>$AO6,AU6<>$AO6,AV6<>$AO6,AX6<>$AO6,AW6<>$AO6),$AO6,\n\"\")))))))))))","v":""},{"$f":"IF(AY6=\"\",\"\",\nIF(AND(AQ6<>$AF6,AR6<>$AF6,AS6<>$AF6,AT6<>$AF6,AU6<>$AF6,AV6<>$AF6,AW6<>$AF6,AY6<>$AF6,AX6<>$AF6),$AF6,\nIF(AND(AQ6<>$AG6,AR6<>$AG6,AS6<>$AG6,AT6<>$AG6,AU6<>$AG6,AV6<>$AG6,AW6<>$AG6,AY6<>$AG6,AX6<>$AG6),$AG6,\nIF(AND(AQ6<>$AH6,AR6<>$AH6,AS6<>$AH6,AT6<>$AH6,AU6<>$AH6,AV6<>$AH6,AW6<>$AH6,AY6<>$AH6,AX6<>$AH6),$AH6,\nIF(AND(AQ6<>$AI6,AR6<>$AI6,AS6<>$AI6,AT6<>$AI6,AU6<>$AI6,AV6<>$AI6,AW6<>$AI6,AY6<>$AI6,AX6<>$AI6),$AI6,\nIF(AND(AQ6<>$AJ6,AR6<>$AJ6,AS6<>$AJ6,AT6<>$AJ6,AU6<>$AJ6,AV6<>$AJ6,AW6<>$AJ6,AY6<>$AJ6,AX6<>$AJ6),$AJ6,\nIF(AND(AQ6<>$AK6,AR6<>$AK6,AS6<>$AK6,AT6<>$AK6,AU6<>$AK6,AV6<>$AK6,AW6<>$AK6,AY6<>$AK6,AX6<>$AK6),$AK6,\nIF(AND(AQ6<>$AL6,AR6<>$AL6,AS6<>$AL6,AT6<>$AL6,AU6<>$AL6,AV6<>$AL6,AW6<>$AL6,AY6<>$AL6,AX6<>$AL6),$AL6,\nIF(AND(AQ6<>$AM6,AR6<>$AM6,AS6<>$AM6,AT6<>$AM6,AU6<>$AM6,AV6<>$AM6,AW6<>$AM6,AY6<>$AM6,AX6<>$AM6),$AM6,\nIF(AND(AQ6<>$AN6,AR6<>$AN6,AS6<>$AN6,AT6<>$AN6,AU6<>$AN6,AV6<>$AN6,AW6<>$AN6,AY6<>$AN6,AX6<>$AN6),$AN6,\nIF(AND(AQ6<>$AO6,AR6<>$AO6,AS6<>$AO6,AT6<>$AO6,AU6<>$AO6,AV6<>$AO6,AW6<>$AO6,AY6<>$AO6,AX6<>$AO6),$AO6,\n\"\")))))))))))","v":""}]
[null,{"$f":"IF(L7=\"x\",1,IF(ISNUMBER(L7),L7,0))","v":2},1,{"$f":"I7","v":"111.000"},{"$f":"J7 & IF(M7<>\"\",CHAR(10) & M7,\"\")","v":"Taille standard (1 à 2 m²), < 25 kg"},{"$f":"IF(C7=1,K7,\"\")","v":"Pce "},null,null,"111.000","Taille standard (1 à 2 m²), < 25 kg","Pce ",2,null,null,null,null,null,null,null,"E100_PV_Module","x",null,null,null,null,null,null,null,null,null,null,{"$f":"\nIF(U7=\"x\",U$4,\nIF(V7=\"x\",V$4,\nIF(W7=\"x\",W$4,\nIF(X7=\"x\",X$4,\nIF(Y7=\"x\",Y$4,\nIF(Z7=\"x\",Z$4,\nIF(AA7=\"x\",AA$4,\nIF(AB7=\"x\",AB$4,\nIF(AC7=\"x\",AC$4,\nIF(AD7=\"x\",AD$4,\n\"\"))))))))))","v":"Pce"},{"$f":"\nIF(V7=\"x\",V$4,\nIF(W7=\"x\",W$4,\nIF(X7=\"x\",X$4,\nIF(Y7=\"x\",Y$4,\nIF(Z7=\"x\",Z$4,\nIF(AA7=\"x\",AA$4,\nIF(AB7=\"x\",AB$4,\nIF(AC7=\"x\",AC$4,\nIF(AD7=\"x\",AD$4,\n\"\")))))))))","v":""},{"$f":"\nIF(W7=\"x\",W$4,\nIF(X7=\"x\",X$4,\nIF(Y7=\"x\",Y$4,\nIF(Z7=\"x\",Z$4,\nIF(AA7=\"x\",AA$4,\nIF(AB7=\"x\",AB$4,\nIF(AC7=\"x\",AC$4,\nIF(AD7=\"x\",AD$4,\n\"\"))))))))","v":""},{"$f":"\nIF(X7=\"x\",X$4,\nIF(Y7=\"x\",Y$4,\nIF(Z7=\"x\",Z$4,\nIF(AA7=\"x\",AA$4,\nIF(AB7=\"x\",AB$4,\nIF(AC7=\"x\",AC$4,\nIF(AD7=\"x\",AD$4,\n\"\")))))))","v":""},{"$f":"\nIF(Y7=\"x\",Y$4,\nIF(Z7=\"x\",Z$4,\nIF(AA7=\"x\",AA$4,\nIF(AB7=\"x\",AB$4,\nIF(AC7=\"x\",AC$4,\nIF(AD7=\"x\",AD$4,\n\"\"))))))","v":""},{"$f":"\nIF(Z7=\"x\",Z$4,\nIF(AA7=\"x\",AA$4,\nIF(AB7=\"x\",AB$4,\nIF(AC7=\"x\",AC$4,\nIF(AD7=\"x\",AD$4,\n\"\")))))","v":""},{"$f":"\nIF(AA7=\"x\",AA$4,\nIF(AB7=\"x\",AB$4,\nIF(AC7=\"x\",AC$4,\nIF(AD7=\"x\",AD$4,\n\"\"))))","v":""},{"$f":"\nIF(AB7=\"x\",AB$4,\nIF(AC7=\"x\",AC$4,\nIF(AD7=\"x\",AD$4,\n\"\")))","v":""},{"$f":"\nIF(AC7=\"x\",AC$4,\nIF(AD7=\"x\",AD$4,\n\"\"))","v":""},{"$f":"\nIF(AD7=\"x\",AD$4,\n\"\")","v":""},null,{"$f":"AF7","v":"Pce"},"",{"$f":"IF(AR7=\"\",\"\",\nIF(AND(AR7<>$AF7,AQ7<>$AF7),$AF7,\nIF(AND(AR7<>$AG7,AQ7<>$AG7),$AG7,\nIF(AND(AR7<>$AH7,AQ7<>$AH7),$AH7,\nIF(AND(AR7<>$AI7,AQ7<>$AI7),$AI7,\nIF(AND(AR7<>$AJ7,AQ7<>$AJ7),$AJ7,\nIF(AND(AR7<>$AK7,AQ7<>$AK7),$AK7,\nIF(AND(AR7<>$AL7,AQ7<>$AL7),$AL7,\nIF(AND(AR7<>$AM7,AQ7<>$AM7),$AM7,\nIF(AND(AR7<>$AN7,AQ7<>$AN7),$AN7,\nIF(AND(AR7<>$AO7,AQ7<>$AO7),$AO7,\n\"\")))))))))))","v":""},{"$f":"IF(AS7=\"\",\"\",\nIF(AND(AQ7<>$AF7,AS7<>$AF7,AR7<>$AF7),$AF7,\nIF(AND(AQ7<>$AG7,AS7<>$AG7,AR7<>$AG7),$AG7,\nIF(AND(AQ7<>$AH7,AS7<>$AH7,AR7<>$AH7),$AH7,\nIF(AND(AQ7<>$AI7,AS7<>$AI7,AR7<>$AI7),$AI7,\nIF(AND(AQ7<>$AJ7,AS7<>$AJ7,AR7<>$AJ7),$AJ7,\nIF(AND(AQ7<>$AK7,AS7<>$AK7,AR7<>$AK7),$AK7,\nIF(AND(AQ7<>$AL7,AS7<>$AL7,AR7<>$AL7),$AL7,\nIF(AND(AQ7<>$AM7,AS7<>$AM7,AR7<>$AM7),$AM7,\nIF(AND(AQ7<>$AN7,AS7<>$AN7,AR7<>$AN7),$AN7,\nIF(AND(AQ7<>$AO7,AS7<>$AO7,AR7<>$AO7),$AO7,\n\"\")))))))))))","v":""},{"$f":"IF(AT7=\"\",\"\",\nIF(AND(AQ7<>$AF7,AR7<>$AF7,AT7<>$AF7,AS7<>$AF7),$AF7,\nIF(AND(AQ7<>$AG7,AR7<>$AG7,AT7<>$AG7,AS7<>$AG7),$AG7,\nIF(AND(AQ7<>$AH7,AR7<>$AH7,AT7<>$AH7,AS7<>$AH7),$AH7,\nIF(AND(AQ7<>$AI7,AR7<>$AI7,AT7<>$AI7,AS7<>$AI7),$AI7,\nIF(AND(AQ7<>$AJ7,AR7<>$AJ7,AT7<>$AJ7,AS7<>$AJ7),$AJ7,\nIF(AND(AQ7<>$AK7,AR7<>$AK7,AT7<>$AK7,AS7<>$AK7),$AK7,\nIF(AND(AQ7<>$AL7,AR7<>$AL7,AT7<>$AL7,AS7<>$AL7),$AL7,\nIF(AND(AQ7<>$AM7,AR7<>$AM7,AT7<>$AM7,AS7<>$AM7),$AM7,\nIF(AND(AQ7<>$AN7,AR7<>$AN7,AT7<>$AN7,AS7<>$AN7),$AN7,\nIF(AND(AQ7<>$AO7,AR7<>$AO7,AT7<>$AO7,AS7<>$AO7),$AO7,\n\"\")))))))))))","v":""},{"$f":"IF(AU7=\"\",\"\",\nIF(AND(AQ7<>$AF7,AR7<>$AF7,AS7<>$AF7,AU7<>$AF7,AT7<>$AF7),$AF7,\nIF(AND(AQ7<>$AG7,AR7<>$AG7,AS7<>$AG7,AU7<>$AG7,AT7<>$AG7),$AG7,\nIF(AND(AQ7<>$AH7,AR7<>$AH7,AS7<>$AH7,AU7<>$AH7,AT7<>$AH7),$AH7,\nIF(AND(AQ7<>$AI7,AR7<>$AI7,AS7<>$AI7,AU7<>$AI7,AT7<>$AI7),$AI7,\nIF(AND(AQ7<>$AJ7,AR7<>$AJ7,AS7<>$AJ7,AU7<>$AJ7,AT7<>$AJ7),$AJ7,\nIF(AND(AQ7<>$AK7,AR7<>$AK7,AS7<>$AK7,AU7<>$AK7,AT7<>$AK7),$AK7,\nIF(AND(AQ7<>$AL7,AR7<>$AL7,AS7<>$AL7,AU7<>$AL7,AT7<>$AL7),$AL7,\nIF(AND(AQ7<>$AM7,AR7<>$AM7,AS7<>$AM7,AU7<>$AM7,AT7<>$AM7),$AM7,\nIF(AND(AQ7<>$AN7,AR7<>$AN7,AS7<>$AN7,AU7<>$AN7,AT7<>$AN7),$AN7,\nIF(AND(AQ7<>$AO7,AR7<>$AO7,AS7<>$AO7,AU7<>$AO7,AT7<>$AO7),$AO7,\n\"\")))))))))))","v":""},{"$f":"IF(AV7=\"\",\"\",\nIF(AND(AQ7<>$AF7,AR7<>$AF7,AS7<>$AF7,AT7<>$AF7,AV7<>$AF7,AU7<>$AF7),$AF7,\nIF(AND(AQ7<>$AG7,AR7<>$AG7,AS7<>$AG7,AT7<>$AG7,AV7<>$AG7,AU7<>$AG7),$AG7,\nIF(AND(AQ7<>$AH7,AR7<>$AH7,AS7<>$AH7,AT7<>$AH7,AV7<>$AH7,AU7<>$AH7),$AH7,\nIF(AND(AQ7<>$AI7,AR7<>$AI7,AS7<>$AI7,AT7<>$AI7,AV7<>$AI7,AU7<>$AI7),$AI7,\nIF(AND(AQ7<>$AJ7,AR7<>$AJ7,AS7<>$AJ7,AT7<>$AJ7,AV7<>$AJ7,AU7<>$AJ7),$AJ7,\nIF(AND(AQ7<>$AK7,AR7<>$AK7,AS7<>$AK7,AT7<>$AK7,AV7<>$AK7,AU7<>$AK7),$AK7,\nIF(AND(AQ7<>$AL7,AR7<>$AL7,AS7<>$AL7,AT7<>$AL7,AV7<>$AL7,AU7<>$AL7),$AL7,\nIF(AND(AQ7<>$AM7,AR7<>$AM7,AS7<>$AM7,AT7<>$AM7,AV7<>$AM7,AU7<>$AM7),$AM7,\nIF(AND(AQ7<>$AN7,AR7<>$AN7,AS7<>$AN7,AT7<>$AN7,AV7<>$AN7,AU7<>$AN7),$AN7,\nIF(AND(AQ7<>$AO7,AR7<>$AO7,AS7<>$AO7,AT7<>$AO7,AV7<>$AO7,AU7<>$AO7),$AO7,\n\"\")))))))))))","v":""},{"$f":"IF(AW7=\"\",\"\",\nIF(AND(AQ7<>$AF7,AR7<>$AF7,AS7<>$AF7,AT7<>$AF7,AU7<>$AF7,AW7<>$AF7,AV7<>$AF7),$AF7,\nIF(AND(AQ7<>$AG7,AR7<>$AG7,AS7<>$AG7,AT7<>$AG7,AU7<>$AG7,AW7<>$AG7,AV7<>$AG7),$AG7,\nIF(AND(AQ7<>$AH7,AR7<>$AH7,AS7<>$AH7,AT7<>$AH7,AU7<>$AH7,AW7<>$AH7,AV7<>$AH7),$AH7,\nIF(AND(AQ7<>$AI7,AR7<>$AI7,AS7<>$AI7,AT7<>$AI7,AU7<>$AI7,AW7<>$AI7,AV7<>$AI7),$AI7,\nIF(AND(AQ7<>$AJ7,AR7<>$AJ7,AS7<>$AJ7,AT7<>$AJ7,AU7<>$AJ7,AW7<>$AJ7,AV7<>$AJ7),$AJ7,\nIF(AND(AQ7<>$AK7,AR7<>$AK7,AS7<>$AK7,AT7<>$AK7,AU7<>$AK7,AW7<>$AK7,AV7<>$AK7),$AK7,\nIF(AND(AQ7<>$AL7,AR7<>$AL7,AS7<>$AL7,AT7<>$AL7,AU7<>$AL7,AW7<>$AL7,AV7<>$AL7),$AL7,\nIF(AND(AQ7<>$AM7,AR7<>$AM7,AS7<>$AM7,AT7<>$AM7,AU7<>$AM7,AW7<>$AM7,AV7<>$AM7),$AM7,\nIF(AND(AQ7<>$AN7,AR7<>$AN7,AS7<>$AN7,AT7<>$AN7,AU7<>$AN7,AW7<>$AN7,AV7<>$AN7),$AN7,\nIF(AND(AQ7<>$AO7,AR7<>$AO7,AS7<>$AO7,AT7<>$AO7,AU7<>$AO7,AW7<>$AO7,AV7<>$AO7),$AO7,\n\"\")))))))))))","v":""},{"$f":"IF(AX7=\"\",\"\",\nIF(AND(AQ7<>$AF7,AR7<>$AF7,AS7<>$AF7,AT7<>$AF7,AU7<>$AF7,AV7<>$AF7,AX7<>$AF7,AW7<>$AF7),$AF7,\nIF(AND(AQ7<>$AG7,AR7<>$AG7,AS7<>$AG7,AT7<>$AG7,AU7<>$AG7,AV7<>$AG7,AX7<>$AG7,AW7<>$AG7),$AG7,\nIF(AND(AQ7<>$AH7,AR7<>$AH7,AS7<>$AH7,AT7<>$AH7,AU7<>$AH7,AV7<>$AH7,AX7<>$AH7,AW7<>$AH7),$AH7,\nIF(AND(AQ7<>$AI7,AR7<>$AI7,AS7<>$AI7,AT7<>$AI7,AU7<>$AI7,AV7<>$AI7,AX7<>$AI7,AW7<>$AI7),$AI7,\nIF(AND(AQ7<>$AJ7,AR7<>$AJ7,AS7<>$AJ7,AT7<>$AJ7,AU7<>$AJ7,AV7<>$AJ7,AX7<>$AJ7,AW7<>$AJ7),$AJ7,\nIF(AND(AQ7<>$AK7,AR7<>$AK7,AS7<>$AK7,AT7<>$AK7,AU7<>$AK7,AV7<>$AK7,AX7<>$AK7,AW7<>$AK7),$AK7,\nIF(AND(AQ7<>$AL7,AR7<>$AL7,AS7<>$AL7,AT7<>$AL7,AU7<>$AL7,AV7<>$AL7,AX7<>$AL7,AW7<>$AL7),$AL7,\nIF(AND(AQ7<>$AM7,AR7<>$AM7,AS7<>$AM7,AT7<>$AM7,AU7<>$AM7,AV7<>$AM7,AX7<>$AM7,AW7<>$AM7),$AM7,\nIF(AND(AQ7<>$AN7,AR7<>$AN7,AS7<>$AN7,AT7<>$AN7,AU7<>$AN7,AV7<>$AN7,AX7<>$AN7,AW7<>$AN7),$AN7,\nIF(AND(AQ7<>$AO7,AR7<>$AO7,AS7<>$AO7,AT7<>$AO7,AU7<>$AO7,AV7<>$AO7,AX7<>$AO7,AW7<>$AO7),$AO7,\n\"\")))))))))))","v":""},{"$f":"IF(AY7=\"\",\"\",\nIF(AND(AQ7<>$AF7,AR7<>$AF7,AS7<>$AF7,AT7<>$AF7,AU7<>$AF7,AV7<>$AF7,AW7<>$AF7,AY7<>$AF7,AX7<>$AF7),$AF7,\nIF(AND(AQ7<>$AG7,AR7<>$AG7,AS7<>$AG7,AT7<>$AG7,AU7<>$AG7,AV7<>$AG7,AW7<>$AG7,AY7<>$AG7,AX7<>$AG7),$AG7,\nIF(AND(AQ7<>$AH7,AR7<>$AH7,AS7<>$AH7,AT7<>$AH7,AU7<>$AH7,AV7<>$AH7,AW7<>$AH7,AY7<>$AH7,AX7<>$AH7),$AH7,\nIF(AND(AQ7<>$AI7,AR7<>$AI7,AS7<>$AI7,AT7<>$AI7,AU7<>$AI7,AV7<>$AI7,AW7<>$AI7,AY7<>$AI7,AX7<>$AI7),$AI7,\nIF(AND(AQ7<>$AJ7,AR7<>$AJ7,AS7<>$AJ7,AT7<>$AJ7,AU7<>$AJ7,AV7<>$AJ7,AW7<>$AJ7,AY7<>$AJ7,AX7<>$AJ7),$AJ7,\nIF(AND(AQ7<>$AK7,AR7<>$AK7,AS7<>$AK7,AT7<>$AK7,AU7<>$AK7,AV7<>$AK7,AW7<>$AK7,AY7<>$AK7,AX7<>$AK7),$AK7,\nIF(AND(AQ7<>$AL7,AR7<>$AL7,AS7<>$AL7,AT7<>$AL7,AU7<>$AL7,AV7<>$AL7,AW7<>$AL7,AY7<>$AL7,AX7<>$AL7),$AL7,\nIF(AND(AQ7<>$AM7,AR7<>$AM7,AS7<>$AM7,AT7<>$AM7,AU7<>$AM7,AV7<>$AM7,AW7<>$AM7,AY7<>$AM7,AX7<>$AM7),$AM7,\nIF(AND(AQ7<>$AN7,AR7<>$AN7,AS7<>$AN7,AT7<>$AN7,AU7<>$AN7,AV7<>$AN7,AW7<>$AN7,AY7<>$AN7,AX7<>$AN7),$AN7,\nIF(AND(AQ7<>$AO7,AR7<>$AO7,AS7<>$AO7,AT7<>$AO7,AU7<>$AO7,AV7<>$AO7,AW7<>$AO7,AY7<>$AO7,AX7<>$AO7),$AO7,\n\"\")))))))))))","v":""}]
[null,1,1,{"$f":"I8","v":"112.000"},{"$f":"J8 & IF(M8<>\"\",CHAR(10) & M8,\"\")","v":"Taille standard (1 à 2 m²), > 25 kg\nPropriétés: \nBusbars recouverts / masqués"},{"$f":"IF(C8=1,K8,\"\")","v":"Pce "},null,null,"112.000","Taille standard (1 à 2 m²), > 25 kg","Pce ","x","Propriétés: \nBusbars recouverts / masqués",null,null,null,null,null,null,"E100_PV_Module","x",null,null,null,null,null,null,null,null,null,null,{"$f":"\nIF(U8=\"x\",U$4,\nIF(V8=\"x\",V$4,\nIF(W8=\"x\",W$4,\nIF(X8=\"x\",X$4,\nIF(Y8=\"x\",Y$4,\nIF(Z8=\"x\",Z$4,\nIF(AA8=\"x\",AA$4,\nIF(AB8=\"x\",AB$4,\nIF(AC8=\"x\",AC$4,\nIF(AD8=\"x\",AD$4,\n\"\"))))))))))","v":"Pce"},{"$f":"\nIF(V8=\"x\",V$4,\nIF(W8=\"x\",W$4,\nIF(X8=\"x\",X$4,\nIF(Y8=\"x\",Y$4,\nIF(Z8=\"x\",Z$4,\nIF(AA8=\"x\",AA$4,\nIF(AB8=\"x\",AB$4,\nIF(AC8=\"x\",AC$4,\nIF(AD8=\"x\",AD$4,\n\"\")))))))))","v":""},{"$f":"\nIF(W8=\"x\",W$4,\nIF(X8=\"x\",X$4,\nIF(Y8=\"x\",Y$4,\nIF(Z8=\"x\",Z$4,\nIF(AA8=\"x\",AA$4,\nIF(AB8=\"x\",AB$4,\nIF(AC8=\"x\",AC$4,\nIF(AD8=\"x\",AD$4,\n\"\"))))))))","v":""},{"$f":"\nIF(X8=\"x\",X$4,\nIF(Y8=\"x\",Y$4,\nIF(Z8=\"x\",Z$4,\nIF(AA8=\"x\",AA$4,\nIF(AB8=\"x\",AB$4,\nIF(AC8=\"x\",AC$4,\nIF(AD8=\"x\",AD$4,\n\"\")))))))","v":""},{"$f":"\nIF(Y8=\"x\",Y$4,\nIF(Z8=\"x\",Z$4,\nIF(AA8=\"x\",AA$4,\nIF(AB8=\"x\",AB$4,\nIF(AC8=\"x\",AC$4,\nIF(AD8=\"x\",AD$4,\n\"\"))))))","v":""},{"$f":"\nIF(Z8=\"x\",Z$4,\nIF(AA8=\"x\",AA$4,\nIF(AB8=\"x\",AB$4,\nIF(AC8=\"x\",AC$4,\nIF(AD8=\"x\",AD$4,\n\"\")))))","v":""},{"$f":"\nIF(AA8=\"x\",AA$4,\nIF(AB8=\"x\",AB$4,\nIF(AC8=\"x\",AC$4,\nIF(AD8=\"x\",AD$4,\n\"\"))))","v":""},{"$f":"\nIF(AB8=\"x\",AB$4,\nIF(AC8=\"x\",AC$4,\nIF(AD8=\"x\",AD$4,\n\"\")))","v":""},{"$f":"\nIF(AC8=\"x\",AC$4,\nIF(AD8=\"x\",AD$4,\n\"\"))","v":""},{"$f":"\nIF(AD8=\"x\",AD$4,\n\"\")","v":""},null,{"$f":"AF8","v":"Pce"},"",{"$f":"IF(AR8=\"\",\"\",\nIF(AND(AR8<>$AF8,AQ8<>$AF8),$AF8,\nIF(AND(AR8<>$AG8,AQ8<>$AG8),$AG8,\nIF(AND(AR8<>$AH8,AQ8<>$AH8),$AH8,\nIF(AND(AR8<>$AI8,AQ8<>$AI8),$AI8,\nIF(AND(AR8<>$AJ8,AQ8<>$AJ8),$AJ8,\nIF(AND(AR8<>$AK8,AQ8<>$AK8),$AK8,\nIF(AND(AR8<>$AL8,AQ8<>$AL8),$AL8,\nIF(AND(AR8<>$AM8,AQ8<>$AM8),$AM8,\nIF(AND(AR8<>$AN8,AQ8<>$AN8),$AN8,\nIF(AND(AR8<>$AO8,AQ8<>$AO8),$AO8,\n\"\")))))))))))","v":""},{"$f":"IF(AS8=\"\",\"\",\nIF(AND(AQ8<>$AF8,AS8<>$AF8,AR8<>$AF8),$AF8,\nIF(AND(AQ8<>$AG8,AS8<>$AG8,AR8<>$AG8),$AG8,\nIF(AND(AQ8<>$AH8,AS8<>$AH8,AR8<>$AH8),$AH8,\nIF(AND(AQ8<>$AI8,AS8<>$AI8,AR8<>$AI8),$AI8,\nIF(AND(AQ8<>$AJ8,AS8<>$AJ8,AR8<>$AJ8),$AJ8,\nIF(AND(AQ8<>$AK8,AS8<>$AK8,AR8<>$AK8),$AK8,\nIF(AND(AQ8<>$AL8,AS8<>$AL8,AR8<>$AL8),$AL8,\nIF(AND(AQ8<>$AM8,AS8<>$AM8,AR8<>$AM8),$AM8,\nIF(AND(AQ8<>$AN8,AS8<>$AN8,AR8<>$AN8),$AN8,\nIF(AND(AQ8<>$AO8,AS8<>$AO8,AR8<>$AO8),$AO8,\n\"\")))))))))))","v":""},{"$f":"IF(AT8=\"\",\"\",\nIF(AND(AQ8<>$AF8,AR8<>$AF8,AT8<>$AF8,AS8<>$AF8),$AF8,\nIF(AND(AQ8<>$AG8,AR8<>$AG8,AT8<>$AG8,AS8<>$AG8),$AG8,\nIF(AND(AQ8<>$AH8,AR8<>$AH8,AT8<>$AH8,AS8<>$AH8),$AH8,\nIF(AND(AQ8<>$AI8,AR8<>$AI8,AT8<>$AI8,AS8<>$AI8),$AI8,\nIF(AND(AQ8<>$AJ8,AR8<>$AJ8,AT8<>$AJ8,AS8<>$AJ8),$AJ8,\nIF(AND(AQ8<>$AK8,AR8<>$AK8,AT8<>$AK8,AS8<>$AK8),$AK8,\nIF(AND(AQ8<>$AL8,AR8<>$AL8,AT8<>$AL8,AS8<>$AL8),$AL8,\nIF(AND(AQ8<>$AM8,AR8<>$AM8,AT8<>$AM8,AS8<>$AM8),$AM8,\nIF(AND(AQ8<>$AN8,AR8<>$AN8,AT8<>$AN8,AS8<>$AN8),$AN8,\nIF(AND(AQ8<>$AO8,AR8<>$AO8,AT8<>$AO8,AS8<>$AO8),$AO8,\n\"\")))))))))))","v":""},{"$f":"IF(AU8=\"\",\"\",\nIF(AND(AQ8<>$AF8,AR8<>$AF8,AS8<>$AF8,AU8<>$AF8,AT8<>$AF8),$AF8,\nIF(AND(AQ8<>$AG8,AR8<>$AG8,AS8<>$AG8,AU8<>$AG8,AT8<>$AG8),$AG8,\nIF(AND(AQ8<>$AH8,AR8<>$AH8,AS8<>$AH8,AU8<>$AH8,AT8<>$AH8),$AH8,\nIF(AND(AQ8<>$AI8,AR8<>$AI8,AS8<>$AI8,AU8<>$AI8,AT8<>$AI8),$AI8,\nIF(AND(AQ8<>$AJ8,AR8<>$AJ8,AS8<>$AJ8,AU8<>$AJ8,AT8<>$AJ8),$AJ8,\nIF(AND(AQ8<>$AK8,AR8<>$AK8,AS8<>$AK8,AU8<>$AK8,AT8<>$AK8),$AK8,\nIF(AND(AQ8<>$AL8,AR8<>$AL8,AS8<>$AL8,AU8<>$AL8,AT8<>$AL8),$AL8,\nIF(AND(AQ8<>$AM8,AR8<>$AM8,AS8<>$AM8,AU8<>$AM8,AT8<>$AM8),$AM8,\nIF(AND(AQ8<>$AN8,AR8<>$AN8,AS8<>$AN8,AU8<>$AN8,AT8<>$AN8),$AN8,\nIF(AND(AQ8<>$AO8,AR8<>$AO8,AS8<>$AO8,AU8<>$AO8,AT8<>$AO8),$AO8,\n\"\")))))))))))","v":""},{"$f":"IF(AV8=\"\",\"\",\nIF(AND(AQ8<>$AF8,AR8<>$AF8,AS8<>$AF8,AT8<>$AF8,AV8<>$AF8,AU8<>$AF8),$AF8,\nIF(AND(AQ8<>$AG8,AR8<>$AG8,AS8<>$AG8,AT8<>$AG8,AV8<>$AG8,AU8<>$AG8),$AG8,\nIF(AND(AQ8<>$AH8,AR8<>$AH8,AS8<>$AH8,AT8<>$AH8,AV8<>$AH8,AU8<>$AH8),$AH8,\nIF(AND(AQ8<>$AI8,AR8<>$AI8,AS8<>$AI8,AT8<>$AI8,AV8<>$AI8,AU8<>$AI8),$AI8,\nIF(AND(AQ8<>$AJ8,AR8<>$AJ8,AS8<>$AJ8,AT8<>$AJ8,AV8<>$AJ8,AU8<>$AJ8),$AJ8,\nIF(AND(AQ8<>$AK8,AR8<>$AK8,AS8<>$AK8,AT8<>$AK8,AV8<>$AK8,AU8<>$AK8),$AK8,\nIF(AND(AQ8<>$AL8,AR8<>$AL8,AS8<>$AL8,AT8<>$AL8,AV8<>$AL8,AU8<>$AL8),$AL8,\nIF(AND(AQ8<>$AM8,AR8<>$AM8,AS8<>$AM8,AT8<>$AM8,AV8<>$AM8,AU8<>$AM8),$AM8,\nIF(AND(AQ8<>$AN8,AR8<>$AN8,AS8<>$AN8,AT8<>$AN8,AV8<>$AN8,AU8<>$AN8),$AN8,\nIF(AND(AQ8<>$AO8,AR8<>$AO8,AS8<>$AO8,AT8<>$AO8,AV8<>$AO8,AU8<>$AO8),$AO8,\n\"\")))))))))))","v":""},{"$f":"IF(AW8=\"\",\"\",\nIF(AND(AQ8<>$AF8,AR8<>$AF8,AS8<>$AF8,AT8<>$AF8,AU8<>$AF8,AW8<>$AF8,AV8<>$AF8),$AF8,\nIF(AND(AQ8<>$AG8,AR8<>$AG8,AS8<>$AG8,AT8<>$AG8,AU8<>$AG8,AW8<>$AG8,AV8<>$AG8),$AG8,\nIF(AND(AQ8<>$AH8,AR8<>$AH8,AS8<>$AH8,AT8<>$AH8,AU8<>$AH8,AW8<>$AH8,AV8<>$AH8),$AH8,\nIF(AND(AQ8<>$AI8,AR8<>$AI8,AS8<>$AI8,AT8<>$AI8,AU8<>$AI8,AW8<>$AI8,AV8<>$AI8),$AI8,\nIF(AND(AQ8<>$AJ8,AR8<>$AJ8,AS8<>$AJ8,AT8<>$AJ8,AU8<>$AJ8,AW8<>$AJ8,AV8<>$AJ8),$AJ8,\nIF(AND(AQ8<>$AK8,AR8<>$AK8,AS8<>$AK8,AT8<>$AK8,AU8<>$AK8,AW8<>$AK8,AV8<>$AK8),$AK8,\nIF(AND(AQ8<>$AL8,AR8<>$AL8,AS8<>$AL8,AT8<>$AL8,AU8<>$AL8,AW8<>$AL8,AV8<>$AL8),$AL8,\nIF(AND(AQ8<>$AM8,AR8<>$AM8,AS8<>$AM8,AT8<>$AM8,AU8<>$AM8,AW8<>$AM8,AV8<>$AM8),$AM8,\nIF(AND(AQ8<>$AN8,AR8<>$AN8,AS8<>$AN8,AT8<>$AN8,AU8<>$AN8,AW8<>$AN8,AV8<>$AN8),$AN8,\nIF(AND(AQ8<>$AO8,AR8<>$AO8,AS8<>$AO8,AT8<>$AO8,AU8<>$AO8,AW8<>$AO8,AV8<>$AO8),$AO8,\n\"\")))))))))))","v":""},{"$f":"IF(AX8=\"\",\"\",\nIF(AND(AQ8<>$AF8,AR8<>$AF8,AS8<>$AF8,AT8<>$AF8,AU8<>$AF8,AV8<>$AF8,AX8<>$AF8,AW8<>$AF8),$AF8,\nIF(AND(AQ8<>$AG8,AR8<>$AG8,AS8<>$AG8,AT8<>$AG8,AU8<>$AG8,AV8<>$AG8,AX8<>$AG8,AW8<>$AG8),$AG8,\nIF(AND(AQ8<>$AH8,AR8<>$AH8,AS8<>$AH8,AT8<>$AH8,AU8<>$AH8,AV8<>$AH8,AX8<>$AH8,AW8<>$AH8),$AH8,\nIF(AND(AQ8<>$AI8,AR8<>$AI8,AS8<>$AI8,AT8<>$AI8,AU8<>$AI8,AV8<>$AI8,AX8<>$AI8,AW8<>$AI8),$AI8,\nIF(AND(AQ8<>$AJ8,AR8<>$AJ8,AS8<>$AJ8,AT8<>$AJ8,AU8<>$AJ8,AV8<>$AJ8,AX8<>$AJ8,AW8<>$AJ8),$AJ8,\nIF(AND(AQ8<>$AK8,AR8<>$AK8,AS8<>$AK8,AT8<>$AK8,AU8<>$AK8,AV8<>$AK8,AX8<>$AK8,AW8<>$AK8),$AK8,\nIF(AND(AQ8<>$AL8,AR8<>$AL8,AS8<>$AL8,AT8<>$AL8,AU8<>$AL8,AV8<>$AL8,AX8<>$AL8,AW8<>$AL8),$AL8,\nIF(AND(AQ8<>$AM8,AR8<>$AM8,AS8<>$AM8,AT8<>$AM8,AU8<>$AM8,AV8<>$AM8,AX8<>$AM8,AW8<>$AM8),$AM8,\nIF(AND(AQ8<>$AN8,AR8<>$AN8,AS8<>$AN8,AT8<>$AN8,AU8<>$AN8,AV8<>$AN8,AX8<>$AN8,AW8<>$AN8),$AN8,\nIF(AND(AQ8<>$AO8,AR8<>$AO8,AS8<>$AO8,AT8<>$AO8,AU8<>$AO8,AV8<>$AO8,AX8<>$AO8,AW8<>$AO8),$AO8,\n\"\")))))))))))","v":""},{"$f":"IF(AY8=\"\",\"\",\nIF(AND(AQ8<>$AF8,AR8<>$AF8,AS8<>$AF8,AT8<>$AF8,AU8<>$AF8,AV8<>$AF8,AW8<>$AF8,AY8<>$AF8,AX8<>$AF8),$AF8,\nIF(AND(AQ8<>$AG8,AR8<>$AG8,AS8<>$AG8,AT8<>$AG8,AU8<>$AG8,AV8<>$AG8,AW8<>$AG8,AY8<>$AG8,AX8<>$AG8),$AG8,\nIF(AND(AQ8<>$AH8,AR8<>$AH8,AS8<>$AH8,AT8<>$AH8,AU8<>$AH8,AV8<>$AH8,AW8<>$AH8,AY8<>$AH8,AX8<>$AH8),$AH8,\nIF(AND(AQ8<>$AI8,AR8<>$AI8,AS8<>$AI8,AT8<>$AI8,AU8<>$AI8,AV8<>$AI8,AW8<>$AI8,AY8<>$AI8,AX8<>$AI8),$AI8,\nIF(AND(AQ8<>$AJ8,AR8<>$AJ8,AS8<>$AJ8,AT8<>$AJ8,AU8<>$AJ8,AV8<>$AJ8,AW8<>$AJ8,AY8<>$AJ8,AX8<>$AJ8),$AJ8,\nIF(AND(AQ8<>$AK8,AR8<>$AK8,AS8<>$AK8,AT8<>$AK8,AU8<>$AK8,AV8<>$AK8,AW8<>$AK8,AY8<>$AK8,AX8<>$AK8),$AK8,\nIF(AND(AQ8<>$AL8,AR8<>$AL8,AS8<>$AL8,AT8<>$AL8,AU8<>$AL8,AV8<>$AL8,AW8<>$AL8,AY8<>$AL8,AX8<>$AL8),$AL8,\nIF(AND(AQ8<>$AM8,AR8<>$AM8,AS8<>$AM8,AT8<>$AM8,AU8<>$AM8,AV8<>$AM8,AW8<>$AM8,AY8<>$AM8,AX8<>$AM8),$AM8,\nIF(AND(AQ8<>$AN8,AR8<>$AN8,AS8<>$AN8,AT8<>$AN8,AU8<>$AN8,AV8<>$AN8,AW8<>$AN8,AY8<>$AN8,AX8<>$AN8),$AN8,\nIF(AND(AQ8<>$AO8,AR8<>$AO8,AS8<>$AO8,AT8<>$AO8,AU8<>$AO8,AV8<>$AO8,AW8<>$AO8,AY8<>$AO8,AX8<>$AO8),$AO8,\n\"\")))))))))))","v":""}]
[null,0,0,"113.000",{"$f":"J9 & IF(M9<>\"\",CHAR(10) & M9,\"\")","v":"Grande taille (> 2 m²) < 25 kg"},"",null,null,"113.000","Grande taille (> 2 m²) < 25 kg","Pce ",null,null,null,null,null,null,null,null,"E100_PV_Module","x",null,null,null,null,null,null,null,null,null,null,"Pce","","","","","","","","","",null,"Pce","","","","","","","","",""]
[null,0,0,"114.000","Grande taille (> 2 m²) > 25 kg","",null,null,"114.000","Grande taille (> 2 m²) > 25 kg","Pce ",null,null,null,null,null,null,null,null,"E100_PV_Module","x",null,null,null,null,null,null,null,null,null,null,"Pce","","","","","","","","","",null,"Pce","",{"$f":"IF(AR10=\"\",\"\",\nIF(AND(AR10<>$AF10,AQ10<>$AF10),$AF10,\nIF(AND(AR10<>$AG10,AQ10<>$AG10),$AG10,\nIF(AND(AR10<>$AH10,AQ10<>$AH10),$AH10,\nIF(AND(AR10<>$AI10,AQ10<>$AI10),$AI10,\nIF(AND(AR10<>$AJ10,AQ10<>$AJ10),$AJ10,\nIF(AND(AR10<>$AK10,AQ10<>$AK10),$AK10,\nIF(AND(AR10<>$AL10,AQ10<>$AL10),$AL10,\nIF(AND(AR10<>$AM10,AQ10<>$AM10),$AM10,\nIF(AND(AR10<>$AN10,AQ10<>$AN10),$AN10,\nIF(AND(AR10<>$AO10,AQ10<>$AO10),$AO10,\n\"\")))))))))))","v":""},{"$f":"IF(AS10=\"\",\"\",\nIF(AND(AQ10<>$AF10,AS10<>$AF10,AR10<>$AF10),$AF10,\nIF(AND(AQ10<>$AG10,AS10<>$AG10,AR10<>$AG10),$AG10,\nIF(AND(AQ10<>$AH10,AS10<>$AH10,AR10<>$AH10),$AH10,\nIF(AND(AQ10<>$AI10,AS10<>$AI10,AR10<>$AI10),$AI10,\nIF(AND(AQ10<>$AJ10,AS10<>$AJ10,AR10<>$AJ10),$AJ10,\nIF(AND(AQ10<>$AK10,AS10<>$AK10,AR10<>$AK10),$AK10,\nIF(AND(AQ10<>$AL10,AS10<>$AL10,AR10<>$AL10),$AL10,\nIF(AND(AQ10<>$AM10,AS10<>$AM10,AR10<>$AM10),$AM10,\nIF(AND(AQ10<>$AN10,AS10<>$AN10,AR10<>$AN10),$AN10,\nIF(AND(AQ10<>$AO10,AS10<>$AO10,AR10<>$AO10),$AO10,\n\"\")))))))))))","v":""},{"$f":"IF(AT10=\"\",\"\",\nIF(AND(AQ10<>$AF10,AR10<>$AF10,AT10<>$AF10,AS10<>$AF10),$AF10,\nIF(AND(AQ10<>$AG10,AR10<>$AG10,AT10<>$AG10,AS10<>$AG10),$AG10,\nIF(AND(AQ10<>$AH10,AR10<>$AH10,AT10<>$AH10,AS10<>$AH10),$AH10,\nIF(AND(AQ10<>$AI10,AR10<>$AI10,AT10<>$AI10,AS10<>$AI10),$AI10,\nIF(AND(AQ10<>$AJ10,AR10<>$AJ10,AT10<>$AJ10,AS10<>$AJ10),$AJ10,\nIF(AND(AQ10<>$AK10,AR10<>$AK10,AT10<>$AK10,AS10<>$AK10),$AK10,\nIF(AND(AQ10<>$AL10,AR10<>$AL10,AT10<>$AL10,AS10<>$AL10),$AL10,\nIF(AND(AQ10<>$AM10,AR10<>$AM10,AT10<>$AM10,AS10<>$AM10),$AM10,\nIF(AND(AQ10<>$AN10,AR10<>$AN10,AT10<>$AN10,AS10<>$AN10),$AN10,\nIF(AND(AQ10<>$AO10,AR10<>$AO10,AT10<>$AO10,AS10<>$AO10),$AO10,\n\"\")))))))))))","v":""},{"$f":"IF(AU10=\"\",\"\",\nIF(AND(AQ10<>$AF10,AR10<>$AF10,AS10<>$AF10,AU10<>$AF10,AT10<>$AF10),$AF10,\nIF(AND(AQ10<>$AG10,AR10<>$AG10,AS10<>$AG10,AU10<>$AG10,AT10<>$AG10),$AG10,\nIF(AND(AQ10<>$AH10,AR10<>$AH10,AS10<>$AH10,AU10<>$AH10,AT10<>$AH10),$AH10,\nIF(AND(AQ10<>$AI10,AR10<>$AI10,AS10<>$AI10,AU10<>$AI10,AT10<>$AI10),$AI10,\nIF(AND(AQ10<>$AJ10,AR10<>$AJ10,AS10<>$AJ10,AU10<>$AJ10,AT10<>$AJ10),$AJ10,\nIF(AND(AQ10<>$AK10,AR10<>$AK10,AS10<>$AK10,AU10<>$AK10,AT10<>$AK10),$AK10,\nIF(AND(AQ10<>$AL10,AR10<>$AL10,AS10<>$AL10,AU10<>$AL10,AT10<>$AL10),$AL10,\nIF(AND(AQ10<>$AM10,AR10<>$AM10,AS10<>$AM10,AU10<>$AM10,AT10<>$AM10),$AM10,\nIF(AND(AQ10<>$AN10,AR10<>$AN10,AS10<>$AN10,AU10<>$AN10,AT10<>$AN10),$AN10,\nIF(AND(AQ10<>$AO10,AR10<>$AO10,AS10<>$AO10,AU10<>$AO10,AT10<>$AO10),$AO10,\n\"\")))))))))))","v":""},{"$f":"IF(AV10=\"\",\"\",\nIF(AND(AQ10<>$AF10,AR10<>$AF10,AS10<>$AF10,AT10<>$AF10,AV10<>$AF10,AU10<>$AF10),$AF10,\nIF(AND(AQ10<>$AG10,AR10<>$AG10,AS10<>$AG10,AT10<>$AG10,AV10<>$AG10,AU10<>$AG10),$AG10,\nIF(AND(AQ10<>$AH10,AR10<>$AH10,AS10<>$AH10,AT10<>$AH10,AV10<>$AH10,AU10<>$AH10),$AH10,\nIF(AND(AQ10<>$AI10,AR10<>$AI10,AS10<>$AI10,AT10<>$AI10,AV10<>$AI10,AU10<>$AI10),$AI10,\nIF(AND(AQ10<>$AJ10,AR10<>$AJ10,AS10<>$AJ10,AT10<>$AJ10,AV10<>$AJ10,AU10<>$AJ10),$AJ10,\nIF(AND(AQ10<>$AK10,AR10<>$AK10,AS10<>$AK10,AT10<>$AK10,AV10<>$AK10,AU10<>$AK10),$AK10,\nIF(AND(AQ10<>$AL10,AR10<>$AL10,AS10<>$AL10,AT10<>$AL10,AV10<>$AL10,AU10<>$AL10),$AL10,\nIF(AND(AQ10<>$AM10,AR10<>$AM10,AS10<>$AM10,AT10<>$AM10,AV10<>$AM10,AU10<>$AM10),$AM10,\nIF(AND(AQ10<>$AN10,AR10<>$AN10,AS10<>$AN10,AT10<>$AN10,AV10<>$AN10,AU10<>$AN10),$AN10,\nIF(AND(AQ10<>$AO10,AR10<>$AO10,AS10<>$AO10,AT10<>$AO10,AV10<>$AO10,AU10<>$AO10),$AO10,\n\"\")))))))))))","v":""},{"$f":"IF(AW10=\"\",\"\",\nIF(AND(AQ10<>$AF10,AR10<>$AF10,AS10<>$AF10,AT10<>$AF10,AU10<>$AF10,AW10<>$AF10,AV10<>$AF10),$AF10,\nIF(AND(AQ10<>$AG10,AR10<>$AG10,AS10<>$AG10,AT10<>$AG10,AU10<>$AG10,AW10<>$AG10,AV10<>$AG10),$AG10,\nIF(AND(AQ10<>$AH10,AR10<>$AH10,AS10<>$AH10,AT10<>$AH10,AU10<>$AH10,AW10<>$AH10,AV10<>$AH10),$AH10,\nIF(AND(AQ10<>$AI10,AR10<>$AI10,AS10<>$AI10,AT10<>$AI10,AU10<>$AI10,AW10<>$AI10,AV10<>$AI10),$AI10,\nIF(AND(AQ10<>$AJ10,AR10<>$AJ10,AS10<>$AJ10,AT10<>$AJ10,AU10<>$AJ10,AW10<>$AJ10,AV10<>$AJ10),$AJ10,\nIF(AND(AQ10<>$AK10,AR10<>$AK10,AS10<>$AK10,AT10<>$AK10,AU10<>$AK10,AW10<>$AK10,AV10<>$AK10),$AK10,\nIF(AND(AQ10<>$AL10,AR10<>$AL10,AS10<>$AL10,AT10<>$AL10,AU10<>$AL10,AW10<>$AL10,AV10<>$AL10),$AL10,\nIF(AND(AQ10<>$AM10,AR10<>$AM10,AS10<>$AM10,AT10<>$AM10,AU10<>$AM10,AW10<>$AM10,AV10<>$AM10),$AM10,\nIF(AND(AQ10<>$AN10,AR10<>$AN10,AS10<>$AN10,AT10<>$AN10,AU10<>$AN10,AW10<>$AN10,AV10<>$AN10),$AN10,\nIF(AND(AQ10<>$AO10,AR10<>$AO10,AS10<>$AO10,AT10<>$AO10,AU10<>$AO10,AW10<>$AO10,AV10<>$AO10),$AO10,\n\"\")))))))))))","v":""},{"$f":"IF(AX10=\"\",\"\",\nIF(AND(AQ10<>$AF10,AR10<>$AF10,AS10<>$AF10,AT10<>$AF10,AU10<>$AF10,AV10<>$AF10,AX10<>$AF10,AW10<>$AF10),$AF10,\nIF(AND(AQ10<>$AG10,AR10<>$AG10,AS10<>$AG10,AT10<>$AG10,AU10<>$AG10,AV10<>$AG10,AX10<>$AG10,AW10<>$AG10),$AG10,\nIF(AND(AQ10<>$AH10,AR10<>$AH10,AS10<>$AH10,AT10<>$AH10,AU10<>$AH10,AV10<>$AH10,AX10<>$AH10,AW10<>$AH10),$AH10,\nIF(AND(AQ10<>$AI10,AR10<>$AI10,AS10<>$AI10,AT10<>$AI10,AU10<>$AI10,AV10<>$AI10,AX10<>$AI10,AW10<>$AI10),$AI10,\nIF(AND(AQ10<>$AJ10,AR10<>$AJ10,AS10<>$AJ10,AT10<>$AJ10,AU10<>$AJ10,AV10<>$AJ10,AX10<>$AJ10,AW10<>$AJ10),$AJ10,\nIF(AND(AQ10<>$AK10,AR10<>$AK10,AS10<>$AK10,AT10<>$AK10,AU10<>$AK10,AV10<>$AK10,AX10<>$AK10,AW10<>$AK10),$AK10,\nIF(AND(AQ10<>$AL10,AR10<>$AL10,AS10<>$AL10,AT10<>$AL10,AU10<>$AL10,AV10<>$AL10,AX10<>$AL10,AW10<>$AL10),$AL10,\nIF(AND(AQ10<>$AM10,AR10<>$AM10,AS10<>$AM10,AT10<>$AM10,AU10<>$AM10,AV10<>$AM10,AX10<>$AM10,AW10<>$AM10),$AM10,\nIF(AND(AQ10<>$AN10,AR10<>$AN10,AS10<>$AN10,AT10<>$AN10,AU10<>$AN10,AV10<>$AN10,AX10<>$AN10,AW10<>$AN10),$AN10,\nIF(AND(AQ10<>$AO10,AR10<>$AO10,AS10<>$AO10,AT10<>$AO10,AU10<>$AO10,AV10<>$AO10,AX10<>$AO10,AW10<>$AO10),$AO10,\n\"\")))))))))))","v":""},{"$f":"IF(AY10=\"\",\"\",\nIF(AND(AQ10<>$AF10,AR10<>$AF10,AS10<>$AF10,AT10<>$AF10,AU10<>$AF10,AV10<>$AF10,AW10<>$AF10,AY10<>$AF10,AX10<>$AF10),$AF10,\nIF(AND(AQ10<>$AG10,AR10<>$AG10,AS10<>$AG10,AT10<>$AG10,AU10<>$AG10,AV10<>$AG10,AW10<>$AG10,AY10<>$AG10,AX10<>$AG10),$AG10,\nIF(AND(AQ10<>$AH10,AR10<>$AH10,AS10<>$AH10,AT10<>$AH10,AU10<>$AH10,AV10<>$AH10,AW10<>$AH10,AY10<>$AH10,AX10<>$AH10),$AH10,\nIF(AND(AQ10<>$AI10,AR10<>$AI10,AS10<>$AI10,AT10<>$AI10,AU10<>$AI10,AV10<>$AI10,AW10<>$AI10,AY10<>$AI10,AX10<>$AI10),$AI10,\nIF(AND(AQ10<>$AJ10,AR10<>$AJ10,AS10<>$AJ10,AT10<>$AJ10,AU10<>$AJ10,AV10<>$AJ10,AW10<>$AJ10,AY10<>$AJ10,AX10<>$AJ10),$AJ10,\nIF(AND(AQ10<>$AK10,AR10<>$AK10,AS10<>$AK10,AT10<>$AK10,AU10<>$AK10,AV10<>$AK10,AW10<>$AK10,AY10<>$AK10,AX10<>$AK10),$AK10,\nIF(AND(AQ10<>$AL10,AR10<>$AL10,AS10<>$AL10,AT10<>$AL10,AU10<>$AL10,AV10<>$AL10,AW10<>$AL10,AY10<>$AL10,AX10<>$AL10),$AL10,\nIF(AND(AQ10<>$AM10,AR10<>$AM10,AS10<>$AM10,AT10<>$AM10,AU10<>$AM10,AV10<>$AM10,AW10<>$AM10,AY10<>$AM10,AX10<>$AM10),$AM10,\nIF(AND(AQ10<>$AN10,AR10<>$AN10,AS10<>$AN10,AT10<>$AN10,AU10<>$AN10,AV10<>$AN10,AW10<>$AN10,AY10<>$AN10,AX10<>$AN10),$AN10,\nIF(AND(AQ10<>$AO10,AR10<>$AO10,AS10<>$AO10,AT10<>$AO10,AU10<>$AO10,AV10<>$AO10,AW10<>$AO10,AY10<>$AO10,AX10<>$AO10),$AO10,\n\"\")))))))))))","v":""}]
[null,0,0,"115.000","Petite taille (< 1 m²) ; < 25 kg","",null,null,"115.000","Petite taille (< 1 m²) ; < 25 kg","Pce ",null,null,null,null,null,null,null,null,"E100_PV_Module","x",null,null,null,null,null,null,null,null,null,null,"Pce","","","","","","","","","",null,"Pce","","","","","","","","",""]
[null,0,0,"116.000","Petite taille (< 1 m²) ; > 25 kg","",null,null,"116.000","Petite taille (< 1 m²) ; > 25 kg","Pce ",null,null,null,null,null,null,null,null,"E100_PV_Module","x",null,null,null,null,null,null,null,null,null,null,"Pce","","","","","","","","","",null,"Pce","","","","","","","","",""]
[null,{"$f":"B6","v":1},0,null,null,"",null,null,null,null,null,null,null,null,null,null,null,null,null,null,null,null,null,null,null,null,null,null,null,null,null,"","","","","","","","","","",null,"","","","","","","","","",""]
[null,{"$f":"IF(SUM(B15:B20)>0,1,0)","v":0},0,{"$f":"G14","v":"120.000"},{"$f":"H14","v":"Verre/film sans cadre, ajouté"},"","120.000","Verre/film sans cadre, ajouté",null,null,null,null,null,null,null,null,null,null,null,"E100_PV_Module_rahmenlos",null,null,null,null,null,null,null,null,null,null,null,"","","","","","","","","","",null,"","","","","","","","","",""]
[null,{"$f":"IF(L15=\"x\",1,IF(ISNUMBER(L15),L15,0))","v":0},0,{"$f":"I15","v":"121.000"},{"$f":"J15 & IF(M15<>\"\",CHAR(10) & M15,\"\")","v":"Taille standard (1 à 2 m²), < 25 kg"},"",null,null,"121.000","Taille standard (1 à 2 m²), < 25 kg","Pce ",null,null,null,null,null,null,null,null,"E100_PV_Module_rahmenlos","x",null,null,null,null,null,null,null,null,null,null,"Pce","","","","","","","","","",null,"Pce","","","","","","","","",""]
[null,0,0,{"$f":"I16","v":"122.000"},"Taille standard (1 à 2 m²), > 25 kg","",null,null,"122.000","Taille standard (1 à 2 m²), > 25 kg","Pce ",null,null,null,null,null,null,null,null,"E100_PV_Module_rahmenlos","x",null,null,null,null,null,null,null,null,null,null,"Pce","","","","","","","","","",null,"Pce","","","","","","","","",""]
[null,0,0,"123.000","Grande taille (> 2 m²) < 25 kg","",null,null,"123.000","Grande taille (> 2 m²) < 25 kg","Pce ",null,null,null,null,null,null,null,null,"E100_PV_Module_rahmenlos","x",null,null,null,null,null,null,null,null,null,null,"Pce","","","","","","","","","",null,"Pce","","","","","","","","",""]
[null,0,0,"124.000","Grande taille (> 2 m²) > 25 kg","",null,null,"124.000","Grande taille (> 2 m²) > 25 kg","Pce ",null,null,null,null,null,null,null,null,"E100_PV_Module_rahmenlos","x",null,null,null,null,null,null,null,null,null,null,"Pce","","","","","","","","","",null,"Pce","","","","","","","","",""]
[null,0,0,"125.000","Petite taille (< 1 m²) ; < 25 kg","",null,null,"125.000","Petite taille (< 1 m²) ; < 25 kg","Pce ",null,null,null,null,null,null,null,null,"E100_PV_Module_rahmenlos","x",null,null,null,null,null,null,null,null,null,null,"Pce","","","","","","","","","",null,"Pce","","","","","","","","",""]
[null,0,0,"126.000","Petite taille (< 1 m²) ; > 25 kg","",null,null,"126.000","Petite taille (< 1 m²) ; > 25 kg","Pce ",null,null,null,null,null,null,null,null,"E100_PV_Module_rahmenlos","x",null,null,null,null,null,null,null,null,null,null,"Pce","","","","","","","","","",null,"Pce","","","","","","","","",""]
[null,{"$f":"B14","v":0},0,null,null,"",null,null,null,null,null,null,null,null,null,null,null,null,null,null,null,null,null,null,null,null,null,null,null,null,null,"","","","","","","","","","",null,"","","","","","","","","",""]
[null,{"$f":"IF(SUM(B23:B28)>0,1,0)","v":0},0,{"$f":"G22","v":"130.000"},{"$f":"H22","v":"Verre/verre avec cadre, ajouté"},"","130.000","Verre/verre avec cadre, ajouté",null,null,null,null,null,null,null,null,null,null,null,null,null,null,null,null,null,null,null,null,null,null,null,"","","","","","","","","","",null,"","","","","","","","","",""]
[null,{"$f":"IF(L23=\"x\",1,IF(ISNUMBER(L23),L23,0))","v":0},0,{"$f":"I23","v":"131.000"},{"$f":"J23 & IF(M23<>\"\",CHAR(10) & M23,\"\")","v":"Taille standard (1 à 2 m²), < 25 kg"},"",null,null,"131.000","Taille standard (1 à 2 m²), < 25 kg","Pce ",null,null,null,null,null,null,null,null,"E100_PV_Module","x",null,null,null,null,null,null,null,null,null,null,"Pce","","","","","","","","","",null,"Pce","","","","","","","","",""]
[null,0,0,{"$f":"I24","v":"132.000"},"Taille standard (1 à 2 m²), > 25 kg","",null,null,"132.000","Taille standard (1 à 2 m²), > 25 kg","Pce ",null,null,null,null,null,null,null,null,"E100_PV_Module","x",null,null,null,null,null,null,null,null,null,null,"Pce","","","","","","","","","",null,"Pce","","","","","","","","",""]
[null,0,0,"133.000","Grande taille (> 2 m²) < 25 kg","",null,null,"133.000","Grande taille (> 2 m²) < 25 kg","Pce ",null,null,null,null,null,null,null,null,"E100_PV_Module","x",null,null,null,null,null,null,null,null,null,null,"Pce","","","","","","","","","",null,"Pce","","","","","","","","",""]
[null,0,0,"134.000","Grande taille (> 2 m²) > 25 kg","",null,null,"134.000","Grande taille (> 2 m²) > 25 kg","Pce ",null,null,null,null,null,null,null,null,"E100_PV_Module","x",null,null,null,null,null,null,null,null,null,null,"Pce","","","","","","","","","",null,"Pce","","","","","","","","",""]
[null,0,0,"135.000","Petite taille (< 1 m²) ; < 25 kg","",null,null,"135.000","Petite taille (< 1 m²) ; < 25 kg","Pce ",null,null,null,null,null,null,null,null,"E100_PV_Module","x",null,null,null,null,null,null,null,null,null,null,"Pce","","","","","","","","","",null,"Pce","","","","","","","","",""]
[null,0,0,"136.000","Petite taille (< 1 m²) ; > 25 kg","",null,null,"136.000","Petite taille (< 1 m²) ; > 25 kg","Pce ",null,null,null,null,null,null,null,null,"E100_PV_Module","x",null,null,null,null,null,null,null,null,null,null,"Pce","","","","","","","","","",null,"Pce","","","","","","","","",""]
[null,{"$f":"B22","v":0},0,null,null,"",null,null,null,null,null,null,null,null,null,null,null,null,null,null,null,null,null,null,null,null,null,null,null,null,null,"","","","","","","","","","",null,"","","","","","","","","",""]
[null,{"$f":"IF(SUM(B31:B36)>0,1,0)","v":0},0,{"$f":"G30","v":"140.000"},{"$f":"H30","v":"Verre/verre sans cadre, ajouté"},"","140.000","Verre/verre sans cadre, ajouté",null,null,null,null,null,null,null,null,null,null,null,"E100_PV_Module_rahmenlos",null,null,null,null,null,null,null,null,null,null,null,"","","","","","","","","","",null,"","","","","","","","","",""]
[null,{"$f":"IF(L31=\"x\",1,IF(ISNUMBER(L31),L31,0))","v":0},0,{"$f":"I31","v":"141.000"},{"$f":"J31 & IF(M31<>\"\",CHAR(10) & M31,\"\")","v":"Taille standard (1 à 2 m²), < 25 kg"},"",null,null,"141.000","Taille standard (1 à 2 m²), < 25 kg","Pce ",null,null,null,null,null,null,null,null,"E100_PV_Module_rahmenlos","x",null,null,null,null,null,null,null,null,null,null,"Pce","","","","","","","","","",null,"Pce","","","","","","","","",""]
[null,0,0,{"$f":"I32","v":"142.000"},"Taille standard (1 à 2 m²), > 25 kg","",null,null,"142.000","Taille standard (1 à 2 m²), > 25 kg","Pce ",null,null,null,null,null,null,null,null,"E100_PV_Module_rahmenlos","x",null,null,null,null,null,null,null,null,null,null,"Pce","","","","","","","","","",null,"Pce","","","","","","","","",""]
[null,0,0,"143.000","Grande taille (> 2 m²) < 25 kg","",null,null,"143.000","Grande taille (> 2 m²) < 25 kg","Pce ",null,null,null,null,null,null,null,null,"E100_PV_Module_rahmenlos","x",null,null,null,null,null,null,null,null,null,null,"Pce","","","","","","","","","",null,"Pce","","","","","","","","",""]
[null,0,0,"144.000","Grande taille (> 2 m²) > 25 kg","",null,null,"144.000","Grande taille (> 2 m²) > 25 kg","Pce ",null,null,null,null,null,null,null,null,"E100_PV_Module_rahmenlos","x",null,null,null,null,null,null,null,null,null,null,"Pce","","","","","","","","","",null,"Pce","","","","","","","","",""]
[null,0,0,"145.000","Petite taille (< 1 m²) ; < 25 kg","",null,null,"145.000","Petite taille (< 1 m²) ; < 25 kg","Pce ",null,null,null,null,null,null,null,null,"E100_PV_Module_rahmenlos","x",null,null,null,null,null,null,null,null,null,null,"Pce","","","","","","","","","",null,"Pce","","","","","","","","",""]
[null,0,0,"146.000","Petite taille (< 1 m²) ; > 25 kg","",null,null,"146.000","Petite taille (< 1 m²) ; > 25 kg","Pce ",null,null,null,null,null,null,null,null,"E100_PV_Module_rahmenlos","x",null,null,null,null,null,null,null,null,null,null,"Pce","","","","","","","","","",null,"Pce","","","","","","","","",""]
[null,{"$f":"B30","v":0},0,null,null,"",null,null,null,null,null,null,null,null,null,null,null,null,null,null,null,null,null,null,null,null,null,null,null,null,null,"","","","","","","","","","",null,"","","","","","","","","",""]
[null,{"$f":"IF(SUM(B39:B44)>0,1,0)","v":0},{"$f":"IF(L38=\"x\",1,IF(ISNUMBER(L38),1,0))","v":0},{"$f":"G38","v":"150.000"},{"$f":"H38","v":"Verre/film avec cadre, intégré"},"","150.000","Verre/film avec cadre, intégré",null,null,null,null,null,null,null,null,null,null,null,"E100_PV_Module",null,null,null,null,null,null,null,null,null,null,null,"","","","","","","","","","",null,"",{"$f":"IF(AQ38=\"\",\"\",\nIF(AQ38<>$AF38,$AF38,\nIF(AQ38<>$AG38,$AG38,\nIF(AQ38<>$AH38,$AH38,\nIF(AQ38<>$AI38,$AI38,\nIF(AQ38<>$AJ38,$AJ38,\nIF(AQ38<>$AK38,$AK38,\nIF(AQ38<>$AL38,$AL38,\nIF(AQ38<>$AM38,$AM38,\nIF(AQ38<>$AN38,$AN38,\nIF(AQ38<>$AO38,$AO38,\n\"\")))))))))))","v":""},"","","","","","","",""]
[null,{"$f":"IF(L39=\"x\",1,IF(ISNUMBER(L39),L39,0))","v":0},0,{"$f":"I39","v":"151.000"},{"$f":"J39 & IF(M39<>\"\",CHAR(10) & M39,\"\")","v":"Taille standard (1 à 2 m²), < 25 kg"},"",null,null,"151.000","Taille standard (1 à 2 m²), < 25 kg","Pce ",null,null,null,null,null,null,null,null,"E100_PV_Module","x",null,null,"x",null,null,null,null,null,null,null,"Pce","m2","m2","m2","","","","","","",null,"Pce","m2","","","","","","","",""]
[null,0,0,{"$f":"I40","v":"152.000"},"Taille standard (1 à 2 m²), > 25 kg","",null,null,"152.000","Taille standard (1 à 2 m²), > 25 kg","Pce ",null,null,null,null,null,null,null,null,"E100_PV_Module","x",null,null,"x",null,null,null,null,null,null,null,"Pce","m2","m2","m2","","","","","","",null,"Pce","m2","","","","","","","",""]
[null,0,0,"153.000","Grande taille (> 2 m²) < 25 kg","",null,null,"153.000","Grande taille (> 2 m²) < 25 kg","Pce ",null,null,null,null,null,null,null,null,"E100_PV_Module","x",null,null,"x",null,null,null,null,null,null,null,"Pce","m2","m2","m2","","","","","","",null,"Pce","m2","","","","","","","",""]
[null,0,0,"154.000","Grande taille (> 2 m²) > 25 kg","",null,null,"154.000","Grande taille (> 2 m²) > 25 kg","Pce ",null,null,null,null,null,null,null,null,"E100_PV_Module","x",null,null,"x",null,null,null,null,null,null,null,"Pce","m2","m2","m2","","","","","","",null,"Pce","m2",{"$f":"IF(AR42=\"\",\"\",\nIF(AND(AR42<>$AF42,AQ42<>$AF42),$AF42,\nIF(AND(AR42<>$AG42,AQ42<>$AG42),$AG42,\nIF(AND(AR42<>$AH42,AQ42<>$AH42),$AH42,\nIF(AND(AR42<>$AI42,AQ42<>$AI42),$AI42,\nIF(AND(AR42<>$AJ42,AQ42<>$AJ42),$AJ42,\nIF(AND(AR42<>$AK42,AQ42<>$AK42),$AK42,\nIF(AND(AR42<>$AL42,AQ42<>$AL42),$AL42,\nIF(AND(AR42<>$AM42,AQ42<>$AM42),$AM42,\nIF(AND(AR42<>$AN42,AQ42<>$AN42),$AN42,\nIF(AND(AR42<>$AO42,AQ42<>$AO42),$AO42,\n\"\")))))))))))","v":""},{"$f":"IF(AS42=\"\",\"\",\nIF(AND(AQ42<>$AF42,AS42<>$AF42,AR42<>$AF42),$AF42,\nIF(AND(AQ42<>$AG42,AS42<>$AG42,AR42<>$AG42),$AG42,\nIF(AND(AQ42<>$AH42,AS42<>$AH42,AR42<>$AH42),$AH42,\nIF(AND(AQ42<>$AI42,AS42<>$AI42,AR42<>$AI42),$AI42,\nIF(AND(AQ42<>$AJ42,AS42<>$AJ42,AR42<>$AJ42),$AJ42,\nIF(AND(AQ42<>$AK42,AS42<>$AK42,AR42<>$AK42),$AK42,\nIF(AND(AQ42<>$AL42,AS42<>$AL42,AR42<>$AL42),$AL42,\nIF(AND(AQ42<>$AM42,AS42<>$AM42,AR42<>$AM42),$AM42,\nIF(AND(AQ42<>$AN42,AS42<>$AN42,AR42<>$AN42),$AN42,\nIF(AND(AQ42<>$AO42,AS42<>$AO42,AR42<>$AO42),$AO42,\n\"\")))))))))))","v":""},{"$f":"IF(AT42=\"\",\"\",\nIF(AND(AQ42<>$AF42,AR42<>$AF42,AT42<>$AF42,AS42<>$AF42),$AF42,\nIF(AND(AQ42<>$AG42,AR42<>$AG42,AT42<>$AG42,AS42<>$AG42),$AG42,\nIF(AND(AQ42<>$AH42,AR42<>$AH42,AT42<>$AH42,AS42<>$AH42),$AH42,\nIF(AND(AQ42<>$AI42,AR42<>$AI42,AT42<>$AI42,AS42<>$AI42),$AI42,\nIF(AND(AQ42<>$AJ42,AR42<>$AJ42,AT42<>$AJ42,AS42<>$AJ42),$AJ42,\nIF(AND(AQ42<>$AK42,AR42<>$AK42,AT42<>$AK42,AS42<>$AK42),$AK42,\nIF(AND(AQ42<>$AL42,AR42<>$AL42,AT42<>$AL42,AS42<>$AL42),$AL42,\nIF(AND(AQ42<>$AM42,AR42<>$AM42,AT42<>$AM42,AS42<>$AM42),$AM42,\nIF(AND(AQ42<>$AN42,AR42<>$AN42,AT42<>$AN42,AS42<>$AN42),$AN42,\nIF(AND(AQ42<>$AO42,AR42<>$AO42,AT42<>$AO42,AS42<>$AO42),$AO42,\n\"\")))))))))))","v":""},{"$f":"IF(AU42=\"\",\"\",\nIF(AND(AQ42<>$AF42,AR42<>$AF42,AS42<>$AF42,AU42<>$AF42,AT42<>$AF42),$AF42,\nIF(AND(AQ42<>$AG42,AR42<>$AG42,AS42<>$AG42,AU42<>$AG42,AT42<>$AG42),$AG42,\nIF(AND(AQ42<>$AH42,AR42<>$AH42,AS42<>$AH42,AU42<>$AH42,AT42<>$AH42),$AH42,\nIF(AND(AQ42<>$AI42,AR42<>$AI42,AS42<>$AI42,AU42<>$AI42,AT42<>$AI42),$AI42,\nIF(AND(AQ42<>$AJ42,AR42<>$AJ42,AS42<>$AJ42,AU42<>$AJ42,AT42<>$AJ42),$AJ42,\nIF(AND(AQ42<>$AK42,AR42<>$AK42,AS42<>$AK42,AU42<>$AK42,AT42<>$AK42),$AK42,\nIF(AND(AQ42<>$AL42,AR42<>$AL42,AS42<>$AL42,AU42<>$AL42,AT42<>$AL42),$AL42,\nIF(AND(AQ42<>$AM42,AR42<>$AM42,AS42<>$AM42,AU42<>$AM42,AT42<>$AM42),$AM42,\nIF(AND(AQ42<>$AN42,AR42<>$AN42,AS42<>$AN42,AU42<>$AN42,AT42<>$AN42),$AN42,\nIF(AND(AQ42<>$AO42,AR42<>$AO42,AS42<>$AO42,AU42<>$AO42,AT42<>$AO42),$AO42,\n\"\")))))))))))","v":""},{"$f":"IF(AV42=\"\",\"\",\nIF(AND(AQ42<>$AF42,AR42<>$AF42,AS42<>$AF42,AT42<>$AF42,AV42<>$AF42,AU42<>$AF42),$AF42,\nIF(AND(AQ42<>$AG42,AR42<>$AG42,AS42<>$AG42,AT42<>$AG42,AV42<>$AG42,AU42<>$AG42),$AG42,\nIF(AND(AQ42<>$AH42,AR42<>$AH42,AS42<>$AH42,AT42<>$AH42,AV42<>$AH42,AU42<>$AH42),$AH42,\nIF(AND(AQ42<>$AI42,AR42<>$AI42,AS42<>$AI42,AT42<>$AI42,AV42<>$AI42,AU42<>$AI42),$AI42,\nIF(AND(AQ42<>$AJ42,AR42<>$AJ42,AS42<>$AJ42,AT42<>$AJ42,AV42<>$AJ42,AU42<>$AJ42),$AJ42,\nIF(AND(AQ42<>$AK42,AR42<>$AK42,AS42<>$AK42,AT42<>$AK42,AV42<>$AK42,AU42<>$AK42),$AK42,\nIF(AND(AQ42<>$AL42,AR42<>$AL42,AS42<>$AL42,AT42<>$AL42,AV42<>$AL42,AU42<>$AL42),$AL42,\nIF(AND(AQ42<>$AM42,AR42<>$AM42,AS42<>$AM42,AT42<>$AM42,AV42<>$AM42,AU42<>$AM42),$AM42,\nIF(AND(AQ42<>$AN42,AR42<>$AN42,AS42<>$AN42,AT42<>$AN42,AV42<>$AN42,AU42<>$AN42),$AN42,\nIF(AND(AQ42<>$AO42,AR42<>$AO42,AS42<>$AO42,AT42<>$AO42,AV42<>$AO42,AU42<>$AO42),$AO42,\n\"\")))))))))))","v":""},{"$f":"IF(AW42=\"\",\"\",\nIF(AND(AQ42<>$AF42,AR42<>$AF42,AS42<>$AF42,AT42<>$AF42,AU42<>$AF42,AW42<>$AF42,AV42<>$AF42),$AF42,\nIF(AND(AQ42<>$AG42,AR42<>$AG42,AS42<>$AG42,AT42<>$AG42,AU42<>$AG42,AW42<>$AG42,AV42<>$AG42),$AG42,\nIF(AND(AQ42<>$AH42,AR42<>$AH42,AS42<>$AH42,AT42<>$AH42,AU42<>$AH42,AW42<>$AH42,AV42<>$AH42),$AH42,\nIF(AND(AQ42<>$AI42,AR42<>$AI42,AS42<>$AI42,AT42<>$AI42,AU42<>$AI42,AW42<>$AI42,AV42<>$AI42),$AI42,\nIF(AND(AQ42<>$AJ42,AR42<>$AJ42,AS42<>$AJ42,AT42<>$AJ42,AU42<>$AJ42,AW42<>$AJ42,AV42<>$AJ42),$AJ42,\nIF(AND(AQ42<>$AK42,AR42<>$AK42,AS42<>$AK42,AT42<>$AK42,AU42<>$AK42,AW42<>$AK42,AV42<>$AK42),$AK42,\nIF(AND(AQ42<>$AL42,AR42<>$AL42,AS42<>$AL42,AT42<>$AL42,AU42<>$AL42,AW42<>$AL42,AV42<>$AL42),$AL42,\nIF(AND(AQ42<>$AM42,AR42<>$AM42,AS42<>$AM42,AT42<>$AM42,AU42<>$AM42,AW42<>$AM42,AV42<>$AM42),$AM42,\nIF(AND(AQ42<>$AN42,AR42<>$AN42,AS42<>$AN42,AT42<>$AN42,AU42<>$AN42,AW42<>$AN42,AV42<>$AN42),$AN42,\nIF(AND(AQ42<>$AO42,AR42<>$AO42,AS42<>$AO42,AT42<>$AO42,AU42<>$AO42,AW42<>$AO42,AV42<>$AO42),$AO42,\n\"\")))))))))))","v":""},{"$f":"IF(AX42=\"\",\"\",\nIF(AND(AQ42<>$AF42,AR42<>$AF42,AS42<>$AF42,AT42<>$AF42,AU42<>$AF42,AV42<>$AF42,AX42<>$AF42,AW42<>$AF42),$AF42,\nIF(AND(AQ42<>$AG42,AR42<>$AG42,AS42<>$AG42,AT42<>$AG42,AU42<>$AG42,AV42<>$AG42,AX42<>$AG42,AW42<>$AG42),$AG42,\nIF(AND(AQ42<>$AH42,AR42<>$AH42,AS42<>$AH42,AT42<>$AH42,AU42<>$AH42,AV42<>$AH42,AX42<>$AH42,AW42<>$AH42),$AH42,\nIF(AND(AQ42<>$AI42,AR42<>$AI42,AS42<>$AI42,AT42<>$AI42,AU42<>$AI42,AV42<>$AI42,AX42<>$AI42,AW42<>$AI42),$AI42,\nIF(AND(AQ42<>$AJ42,AR42<>$AJ42,AS42<>$AJ42,AT42<>$AJ42,AU42<>$AJ42,AV42<>$AJ42,AX42<>$AJ42,AW42<>$AJ42),$AJ42,\nIF(AND(AQ42<>$AK42,AR42<>$AK42,AS42<>$AK42,AT42<>$AK42,AU42<>$AK42,AV42<>$AK42,AX42<>$AK42,AW42<>$AK42),$AK42,\nIF(AND(AQ42<>$AL42,AR42<>$AL42,AS42<>$AL42,AT42<>$AL42,AU42<>$AL42,AV42<>$AL42,AX42<>$AL42,AW42<>$AL42),$AL42,\nIF(AND(AQ42<>$AM42,AR42<>$AM42,AS42<>$AM42,AT42<>$AM42,AU42<>$AM42,AV42<>$AM42,AX42<>$AM42,AW42<>$AM42),$AM42,\nIF(AND(AQ42<>$AN42,AR42<>$AN42,AS42<>$AN42,AT42<>$AN42,AU42<>$AN42,AV42<>$AN42,AX42<>$AN42,AW42<>$AN42),$AN42,\nIF(AND(AQ42<>$AO42,AR42<>$AO42,AS42<>$AO42,AT42<>$AO42,AU42<>$AO42,AV42<>$AO42,AX42<>$AO42,AW42<>$AO42),$AO42,\n\"\")))))))))))","v":""},{"$f":"IF(AY42=\"\",\"\",\nIF(AND(AQ42<>$AF42,AR42<>$AF42,AS42<>$AF42,AT42<>$AF42,AU42<>$AF42,AV42<>$AF42,AW42<>$AF42,AY42<>$AF42,AX42<>$AF42),$AF42,\nIF(AND(AQ42<>$AG42,AR42<>$AG42,AS42<>$AG42,AT42<>$AG42,AU42<>$AG42,AV42<>$AG42,AW42<>$AG42,AY42<>$AG42,AX42<>$AG42),$AG42,\nIF(AND(AQ42<>$AH42,AR42<>$AH42,AS42<>$AH42,AT42<>$AH42,AU42<>$AH42,AV42<>$AH42,AW42<>$AH42,AY42<>$AH42,AX42<>$AH42),$AH42,\nIF(AND(AQ42<>$AI42,AR42<>$AI42,AS42<>$AI42,AT42<>$AI42,AU42<>$AI42,AV42<>$AI42,AW42<>$AI42,AY42<>$AI42,AX42<>$AI42),$AI42,\nIF(AND(AQ42<>$AJ42,AR42<>$AJ42,AS42<>$AJ42,AT42<>$AJ42,AU42<>$AJ42,AV42<>$AJ42,AW42<>$AJ42,AY42<>$AJ42,AX42<>$AJ42),$AJ42,\nIF(AND(AQ42<>$AK42,AR42<>$AK42,AS42<>$AK42,AT42<>$AK42,AU42<>$AK42,AV42<>$AK42,AW42<>$AK42,AY42<>$AK42,AX42<>$AK42),$AK42,\nIF(AND(AQ42<>$AL42,AR42<>$AL42,AS42<>$AL42,AT42<>$AL42,AU42<>$AL42,AV42<>$AL42,AW42<>$AL42,AY42<>$AL42,AX42<>$AL42),$AL42,\nIF(AND(AQ42<>$AM42,AR42<>$AM42,AS42<>$AM42,AT42<>$AM42,AU42<>$AM42,AV42<>$AM42,AW42<>$AM42,AY42<>$AM42,AX42<>$AM42),$AM42,\nIF(AND(AQ42<>$AN42,AR42<>$AN42,AS42<>$AN42,AT42<>$AN42,AU42<>$AN42,AV42<>$AN42,AW42<>$AN42,AY42<>$AN42,AX42<>$AN42),$AN42,\nIF(AND(AQ42<>$AO42,AR42<>$AO42,AS42<>$AO42,AT42<>$AO42,AU42<>$AO42,AV42<>$AO42,AW42<>$AO42,AY42<>$AO42,AX42<>$AO42),$AO42,\n\"\")))))))))))","v":""}]
[null,0,0,"155.000","Petite taille (< 1 m²) ; < 25 kg","",null,null,"155.000","Petite taille (< 1 m²) ; < 25 kg","Pce ",null,null,null,null,null,null,null,null,"E100_PV_Module","x",null,null,"x",null,null,null,null,null,null,null,"Pce","m2","m2","m2","","","","","","",null,"Pce","m2","","","","","","","",""]
[null,0,0,"156.000","Petite taille (< 1 m²) ; > 25 kg","",null,null,"156.000","Petite taille (< 1 m²) ; > 25 kg","Pce ",null,null,null,null,null,null,null,null,"E100_PV_Module","x",null,null,"x",null,null,null,null,null,null,null,"Pce","m2","m2","m2","","","","","","",null,"Pce","m2","","","","","","","",""]
[null,{"$f":"B38","v":0},0,null,null,"",null,null,null,null,null,null,null,null,null,null,null,null,null,null,null,null,null,null,null,null,null,null,null,null,null,"","","","","","","","","","",null,"","","","","","","","","",""]
[null,{"$f":"IF(SUM(B47:B52)>0,1,0)","v":0},0,{"$f":"G46","v":"160.000"},{"$f":"H46","v":"Verre/film sans cadre, intégré"},"","160.000","Verre/film sans cadre, intégré",null,null,null,null,null,null,null,null,null,null,null,"E100_PV_Module_rahmenlos",null,null,null,null,null,null,null,null,null,null,null,"","","","","","","","","","",null,"","","","","","","","","",""]
[null,{"$f":"IF(L47=\"x\",1,IF(ISNUMBER(L47),L47,0))","v":0},0,{"$f":"I47","v":"161.000"},{"$f":"J47 & IF(M47<>\"\",CHAR(10) & M47,\"\")","v":"Taille standard (1 à 2 m²), < 25 kg"},"",null,null,"161.000","Taille standard (1 à 2 m²), < 25 kg","Pce ",null,null,null,null,null,null,null,null,"E100_PV_Module_rahmenlos","x",null,null,"x",null,null,null,null,null,null,null,"Pce","m2","m2","m2","","","","","","",null,"Pce","m2","","","","","","","",""]
[null,0,0,{"$f":"I48","v":"162.000"},"Taille standard (1 à 2 m²), > 25 kg","",null,null,"162.000","Taille standard (1 à 2 m²), > 25 kg","Pce ",null,null,null,null,null,null,null,null,"E100_PV_Module_rahmenlos","x",null,null,"x",null,null,null,null,null,null,null,"Pce","m2","m2","m2","","","","","","",null,"Pce","m2","","","","","","","",""]
[null,0,0,"163.000","Grande taille (> 2 m²) < 25 kg","",null,null,"163.000","Grande taille (> 2 m²) < 25 kg","Pce ",null,null,null,null,null,null,null,null,"E100_PV_Module_rahmenlos","x",null,null,"x",null,null,null,null,null,null,null,"Pce","m2","m2","m2","","","","","","",null,"Pce","m2","","","","","","","",""]
[null,0,0,"164.000","Grande taille (> 2 m²) > 25 kg","",null,null,"164.000","Grande taille (> 2 m²) > 25 kg","Pce ",null,null,null,null,null,null,null,null,"E100_PV_Module_rahmenlos","x",null,null,"x",null,null,null,null,null,null,null,"Pce","m2","m2","m2","","","","","","",null,"Pce","m2","","","","","","","",""]
[null,0,0,"165.000","Petite taille (< 1 m²) ; < 25 kg","",null,null,"165.000","Petite taille (< 1 m²) ; < 25 kg","Pce ",null,null,null,null,null,null,null,null,"E100_PV_Module_rahmenlos","x",null,null,"x",null,null,null,null,null,null,null,"Pce","m2","m2","m2","","","","","","",null,"Pce","m2","","","","","","","",""]
[null,0,0,"166.000","Petite taille (< 1 m²) ; > 25 kg","",null,null,"166.000","Petite taille (< 1 m²) ; > 25 kg","Pce ",null,null,null,null,null,null,null,null,"E100_PV_Module_rahmenlos","x",null,null,"x",null,null,null,null,null,null,null,"Pce","m2","m2","m2","","","","","","",null,"Pce","m2","","","","","","","",""]
[null,{"$f":"B46","v":0},0,null,null,"",null,null,null,null,null,null,null,null,null,null,null,null,null,null,null,null,null,null,null,null,null,null,null,null,null,"","","","","","","","","","",null,"","","","","","","","","",""]
[null,{"$f":"IF(SUM(B55:B60)>0,1,0)","v":0},0,{"$f":"G54","v":"170.000"},{"$f":"H54","v":"Verre/verre avec cadre, intégré"},"","170.000","Verre/verre avec cadre, intégré",null,null,null,null,null,null,null,null,null,null,null,null,null,null,null,null,null,null,null,null,null,null,null,"","","","","","","","","","",null,"","","","","","","","","",""]
[null,{"$f":"IF(L55=\"x\",1,IF(ISNUMBER(L55),L55,0))","v":0},0,{"$f":"I55","v":"171.000"},{"$f":"J55 & IF(M55<>\"\",CHAR(10) & M55,\"\")","v":"Taille standard (1 à 2 m²), < 25 kg"},"",null,null,"171.000","Taille standard (1 à 2 m²), < 25 kg","Pce ",null,null,null,null,null,null,null,null,"E100_PV_Module","x",null,null,"x",null,null,null,null,null,null,null,"Pce","m2","m2","m2","","","","","","",null,"Pce","m2","","","","","","","",""]
[null,0,0,{"$f":"I56","v":"172.000"},"Taille standard (1 à 2 m²), > 25 kg","",null,null,"172.000","Taille standard (1 à 2 m²), > 25 kg","Pce ",null,null,null,null,null,null,null,null,"E100_PV_Module","x",null,null,"x",null,null,null,null,null,null,null,"Pce","m2","m2","m2","","","","","","",null,"Pce","m2","","","","","","","",""]
[null,0,0,"173.000","Grande taille (> 2 m²) < 25 kg","",null,null,"173.000","Grande taille (> 2 m²) < 25 kg","Pce ",null,null,null,null,null,null,null,null,"E100_PV_Module","x",null,null,"x",null,null,null,null,null,null,null,"Pce","m2","m2","m2","","","","","","",null,"Pce","m2","","","","","","","",""]
[null,0,0,"174.000","Grande taille (> 2 m²) > 25 kg","",null,null,"174.000","Grande taille (> 2 m²) > 25 kg","Pce ",null,null,null,null,null,null,null,null,"E100_PV_Module","x",null,null,"x",null,null,null,null,null,null,null,"Pce","m2","m2","m2","","","","","","",null,"Pce","m2","","","","","","","",""]
[null,0,0,"175.000","Petite taille (< 1 m²) ; < 25 kg","",null,null,"175.000","Petite taille (< 1 m²) ; < 25 kg","Pce ",null,null,null,null,null,null,null,null,"E100_PV_Module","x",null,null,"x",null,null,null,null,null,null,null,"Pce","m2","m2","m2","","","","","","",null,"Pce","m2","","","","","","","",""]
[null,0,0,"176.000","Petite taille (< 1 m²) ; > 25 kg","",null,null,"176.000","Petite taille (< 1 m²) ; > 25 kg","Pce ",null,null,null,null,null,null,null,null,"E100_PV_Module","x",null,null,"x",null,null,null,null,null,null,null,"Pce","m2","m2","m2","","","","","","",null,"Pce","m2","","","","","","","",""]
[null,{"$f":"B54","v":0},0,null,null,"",null,null,null,null,null,null,null,null,null,null,null,null,null,null,null,null,null,null,null,null,null,null,null,null,null,"","","","","","","","","","",null,"","","","","","","","","",""]
[null,{"$f":"IF(SUM(B63:B68)>0,1,0)","v":1},0,{"$f":"G62","v":"180.000"},{"$f":"H62","v":"Verre/verre sans cadre, intégré"},"","180.000","Verre/verre sans cadre, intégré",null,null,null,null,null,null,null,null,null,null,null,null,null,null,null,null,null,null,null,null,null,null,null,"","","","","","","","","","",null,"","","","","","","","","",""]
[null,{"$f":"IF(L63=\"x\",1,IF(ISNUMBER(L63),L63,0))","v":1},1,{"$f":"I63","v":"181.000"},{"$f":"J63 & IF(M63<>\"\",CHAR(10) & M63,\"\")","v":"Taille standard (1 à 2 m²), < 25 kg"},"Pce ",null,null,"181.000","Taille standard (1 à 2 m²), < 25 kg","Pce ","x",null,null,null,null,null,null,null,"E100_PV_Module_rahmenlos","x",null,null,"x",null,null,null,null,null,null,null,"Pce","m2","m2","m2","","","","","","",null,"Pce","m2","","","","","","","",""]
[null,0,0,{"$f":"I64","v":"182.000"},"Taille standard (1 à 2 m²), > 25 kg","",null,null,"182.000","Taille standard (1 à 2 m²), > 25 kg","Pce ",null,null,null,null,null,null,null,null,"E100_PV_Module_rahmenlos","x",null,null,"x",null,null,null,null,null,null,null,"Pce","m2","m2","m2","","","","","","",null,"Pce","m2","","","","","","","",""]
[null,0,0,"183.000","Grande taille (> 2 m²) < 25 kg","",null,null,"183.000","Grande taille (> 2 m²) < 25 kg","Pce ",null,null,null,null,null,null,null,null,"E100_PV_Module_rahmenlos","x",null,null,"x",null,null,null,null,null,null,null,"Pce","m2","m2","m2","","","","","","",null,"Pce","m2","","","","","","","",""]
[null,0,0,"184.000","Grande taille (> 2 m²) > 25 kg","",null,null,"184.000","Grande taille (> 2 m²) > 25 kg","Pce ",null,null,null,null,null,null,null,null,"E100_PV_Module_rahmenlos","x",null,null,"x",null,null,null,null,null,null,null,"Pce","m2","m2","m2","","","","","","",null,"Pce","m2","","","","","","","",""]
[null,0,0,"185.000","Petite taille (< 1 m²) ; < 25 kg","",null,null,"185.000","Petite taille (< 1 m²) ; < 25 kg","Pce ",null,null,null,null,null,null,null,null,"E100_PV_Module_rahmenlos","x",null,null,"x",null,null,null,null,null,null,null,"Pce","m2","m2","m2","","","","","","",null,"Pce","m2","","","","","","","",""]
[null,0,0,"186.000","Petite taille (< 1 m²) ; > 25 kg","",null,null,"186.000","Petite taille (< 1 m²) ; > 25 kg","Pce ",null,null,null,null,null,null,null,null,"E100_PV_Module_rahmenlos","x",null,null,"x",null,null,null,null,null,null,null,"Pce","m2","m2","m2","","","","","","",null,"Pce",{"$f":"IF(AQ68=\"\",\"\",\nIF(AQ68<>$AF68,$AF68,\nIF(AQ68<>$AG68,$AG68,\nIF(AQ68<>$AH68,$AH68,\nIF(AQ68<>$AI68,$AI68,\nIF(AQ68<>$AJ68,$AJ68,\nIF(AQ68<>$AK68,$AK68,\nIF(AQ68<>$AL68,$AL68,\nIF(AQ68<>$AM68,$AM68,\nIF(AQ68<>$AN68,$AN68,\nIF(AQ68<>$AO68,$AO68,\n\"\")))))))))))","v":"m2"},"","","","","","","",""]
[null,{"$f":"B62","v":1},0,null,null,"",null,null,null,null,null,null,null,null,null,null,null,null,null,null,null,null,null,null,null,null,null,null,null,null,null,"","","","","","","","","","",null,"","","","","","","","","",""]
[null,{"$f":"IF(SUM(B71:B77)>0,1,0)","v":0},{"$f":"IF(L70=\"x\",1,IF(ISNUMBER(L70),1,0))","v":0},{"$f":"G70","v":"190.000"},{"$f":"H70","v":"Module spécial"},"","190.000","Module spécial",null,null,null,null,null,null,null,null,null,null,null,null,null,null,null,null,null,null,null,null,null,null,null,"","","","","","","","","","",null,"","",{"$f":"IF(AR70=\"\",\"\",\nIF(AND(AR70<>$AF70,AQ70<>$AF70),$AF70,\nIF(AND(AR70<>$AG70,AQ70<>$AG70),$AG70,\nIF(AND(AR70<>$AH70,AQ70<>$AH70),$AH70,\nIF(AND(AR70<>$AI70,AQ70<>$AI70),$AI70,\nIF(AND(AR70<>$AJ70,AQ70<>$AJ70),$AJ70,\nIF(AND(AR70<>$AK70,AQ70<>$AK70),$AK70,\nIF(AND(AR70<>$AL70,AQ70<>$AL70),$AL70,\nIF(AND(AR70<>$AM70,AQ70<>$AM70),$AM70,\nIF(AND(AR70<>$AN70,AQ70<>$AN70),$AN70,\nIF(AND(AR70<>$AO70,AQ70<>$AO70),$AO70,\n\"\")))))))))))","v":""},{"$f":"IF(AS70=\"\",\"\",\nIF(AND(AQ70<>$AF70,AS70<>$AF70,AR70<>$AF70),$AF70,\nIF(AND(AQ70<>$AG70,AS70<>$AG70,AR70<>$AG70),$AG70,\nIF(AND(AQ70<>$AH70,AS70<>$AH70,AR70<>$AH70),$AH70,\nIF(AND(AQ70<>$AI70,AS70<>$AI70,AR70<>$AI70),$AI70,\nIF(AND(AQ70<>$AJ70,AS70<>$AJ70,AR70<>$AJ70),$AJ70,\nIF(AND(AQ70<>$AK70,AS70<>$AK70,AR70<>$AK70),$AK70,\nIF(AND(AQ70<>$AL70,AS70<>$AL70,AR70<>$AL70),$AL70,\nIF(AND(AQ70<>$AM70,AS70<>$AM70,AR70<>$AM70),$AM70,\nIF(AND(AQ70<>$AN70,AS70<>$AN70,AR70<>$AN70),$AN70,\nIF(AND(AQ70<>$AO70,AS70<>$AO70,AR70<>$AO70),$AO70,\n\"\")))))))))))","v":""},{"$f":"IF(AT70=\"\",\"\",\nIF(AND(AQ70<>$AF70,AR70<>$AF70,AT70<>$AF70,AS70<>$AF70),$AF70,\nIF(AND(AQ70<>$AG70,AR70<>$AG70,AT70<>$AG70,AS70<>$AG70),$AG70,\nIF(AND(AQ70<>$AH70,AR70<>$AH70,AT70<>$AH70,AS70<>$AH70),$AH70,\nIF(AND(AQ70<>$AI70,AR70<>$AI70,AT70<>$AI70,AS70<>$AI70),$AI70,\nIF(AND(AQ70<>$AJ70,AR70<>$AJ70,AT70<>$AJ70,AS70<>$AJ70),$AJ70,\nIF(AND(AQ70<>$AK70,AR70<>$AK70,AT70<>$AK70,AS70<>$AK70),$AK70,\nIF(AND(AQ70<>$AL70,AR70<>$AL70,AT70<>$AL70,AS70<>$AL70),$AL70,\nIF(AND(AQ70<>$AM70,AR70<>$AM70,AT70<>$AM70,AS70<>$AM70),$AM70,\nIF(AND(AQ70<>$AN70,AR70<>$AN70,AT70<>$AN70,AS70<>$AN70),$AN70,\nIF(AND(AQ70<>$AO70,AR70<>$AO70,AT70<>$AO70,AS70<>$AO70),$AO70,\n\"\")))))))))))","v":""},{"$f":"IF(AU70=\"\",\"\",\nIF(AND(AQ70<>$AF70,AR70<>$AF70,AS70<>$AF70,AU70<>$AF70,AT70<>$AF70),$AF70,\nIF(AND(AQ70<>$AG70,AR70<>$AG70,AS70<>$AG70,AU70<>$AG70,AT70<>$AG70),$AG70,\nIF(AND(AQ70<>$AH70,AR70<>$AH70,AS70<>$AH70,AU70<>$AH70,AT70<>$AH70),$AH70,\nIF(AND(AQ70<>$AI70,AR70<>$AI70,AS70<>$AI70,AU70<>$AI70,AT70<>$AI70),$AI70,\nIF(AND(AQ70<>$AJ70,AR70<>$AJ70,AS70<>$AJ70,AU70<>$AJ70,AT70<>$AJ70),$AJ70,\nIF(AND(AQ70<>$AK70,AR70<>$AK70,AS70<>$AK70,AU70<>$AK70,AT70<>$AK70),$AK70,\nIF(AND(AQ70<>$AL70,AR70<>$AL70,AS70<>$AL70,AU70<>$AL70,AT70<>$AL70),$AL70,\nIF(AND(AQ70<>$AM70,AR70<>$AM70,AS70<>$AM70,AU70<>$AM70,AT70<>$AM70),$AM70,\nIF(AND(AQ70<>$AN70,AR70<>$AN70,AS70<>$AN70,AU70<>$AN70,AT70<>$AN70),$AN70,\nIF(AND(AQ70<>$AO70,AR70<>$AO70,AS70<>$AO70,AU70<>$AO70,AT70<>$AO70),$AO70,\n\"\")))))))))))","v":""},{"$f":"IF(AV70=\"\",\"\",\nIF(AND(AQ70<>$AF70,AR70<>$AF70,AS70<>$AF70,AT70<>$AF70,AV70<>$AF70,AU70<>$AF70),$AF70,\nIF(AND(AQ70<>$AG70,AR70<>$AG70,AS70<>$AG70,AT70<>$AG70,AV70<>$AG70,AU70<>$AG70),$AG70,\nIF(AND(AQ70<>$AH70,AR70<>$AH70,AS70<>$AH70,AT70<>$AH70,AV70<>$AH70,AU70<>$AH70),$AH70,\nIF(AND(AQ70<>$AI70,AR70<>$AI70,AS70<>$AI70,AT70<>$AI70,AV70<>$AI70,AU70<>$AI70),$AI70,\nIF(AND(AQ70<>$AJ70,AR70<>$AJ70,AS70<>$AJ70,AT70<>$AJ70,AV70<>$AJ70,AU70<>$AJ70),$AJ70,\nIF(AND(AQ70<>$AK70,AR70<>$AK70,AS70<>$AK70,AT70<>$AK70,AV70<>$AK70,AU70<>$AK70),$AK70,\nIF(AND(AQ70<>$AL70,AR70<>$AL70,AS70<>$AL70,AT70<>$AL70,AV70<>$AL70,AU70<>$AL70),$AL70,\nIF(AND(AQ70<>$AM70,AR70<>$AM70,AS70<>$AM70,AT70<>$AM70,AV70<>$AM70,AU70<>$AM70),$AM70,\nIF(AND(AQ70<>$AN70,AR70<>$AN70,AS70<>$AN70,AT70<>$AN70,AV70<>$AN70,AU70<>$AN70),$AN70,\nIF(AND(AQ70<>$AO70,AR70<>$AO70,AS70<>$AO70,AT70<>$AO70,AV70<>$AO70,AU70<>$AO70),$AO70,\n\"\")))))))))))","v":""},{"$f":"IF(AW70=\"\",\"\",\nIF(AND(AQ70<>$AF70,AR70<>$AF70,AS70<>$AF70,AT70<>$AF70,AU70<>$AF70,AW70<>$AF70,AV70<>$AF70),$AF70,\nIF(AND(AQ70<>$AG70,AR70<>$AG70,AS70<>$AG70,AT70<>$AG70,AU70<>$AG70,AW70<>$AG70,AV70<>$AG70),$AG70,\nIF(AND(AQ70<>$AH70,AR70<>$AH70,AS70<>$AH70,AT70<>$AH70,AU70<>$AH70,AW70<>$AH70,AV70<>$AH70),$AH70,\nIF(AND(AQ70<>$AI70,AR70<>$AI70,AS70<>$AI70,AT70<>$AI70,AU70<>$AI70,AW70<>$AI70,AV70<>$AI70),$AI70,\nIF(AND(AQ70<>$AJ70,AR70<>$AJ70,AS70<>$AJ70,AT70<>$AJ70,AU70<>$AJ70,AW70<>$AJ70,AV70<>$AJ70),$AJ70,\nIF(AND(AQ70<>$AK70,AR70<>$AK70,AS70<>$AK70,AT70<>$AK70,AU70<>$AK70,AW70<>$AK70,AV70<>$AK70),$AK70,\nIF(AND(AQ70<>$AL70,AR70<>$AL70,AS70<>$AL70,AT70<>$AL70,AU70<>$AL70,AW70<>$AL70,AV70<>$AL70),$AL70,\nIF(AND(AQ70<>$AM70,AR70<>$AM70,AS70<>$AM70,AT70<>$AM70,AU70<>$AM70,AW70<>$AM70,AV70<>$AM70),$AM70,\nIF(AND(AQ70<>$AN70,AR70<>$AN70,AS70<>$AN70,AT70<>$AN70,AU70<>$AN70,AW70<>$AN70,AV70<>$AN70),$AN70,\nIF(AND(AQ70<>$AO70,AR70<>$AO70,AS70<>$AO70,AT70<>$AO70,AU70<>$AO70,AW70<>$AO70,AV70<>$AO70),$AO70,\n\"\")))))))))))","v":""},{"$f":"IF(AX70=\"\",\"\",\nIF(AND(AQ70<>$AF70,AR70<>$AF70,AS70<>$AF70,AT70<>$AF70,AU70<>$AF70,AV70<>$AF70,AX70<>$AF70,AW70<>$AF70),$AF70,\nIF(AND(AQ70<>$AG70,AR70<>$AG70,AS70<>$AG70,AT70<>$AG70,AU70<>$AG70,AV70<>$AG70,AX70<>$AG70,AW70<>$AG70),$AG70,\nIF(AND(AQ70<>$AH70,AR70<>$AH70,AS70<>$AH70,AT70<>$AH70,AU70<>$AH70,AV70<>$AH70,AX70<>$AH70,AW70<>$AH70),$AH70,\nIF(AND(AQ70<>$AI70,AR70<>$AI70,AS70<>$AI70,AT70<>$AI70,AU70<>$AI70,AV70<>$AI70,AX70<>$AI70,AW70<>$AI70),$AI70,\nIF(AND(AQ70<>$AJ70,AR70<>$AJ70,AS70<>$AJ70,AT70<>$AJ70,AU70<>$AJ70,AV70<>$AJ70,AX70<>$AJ70,AW70<>$AJ70),$AJ70,\nIF(AND(AQ70<>$AK70,AR70<>$AK70,AS70<>$AK70,AT70<>$AK70,AU70<>$AK70,AV70<>$AK70,AX70<>$AK70,AW70<>$AK70),$AK70,\nIF(AND(AQ70<>$AL70,AR70<>$AL70,AS70<>$AL70,AT70<>$AL70,AU70<>$AL70,AV70<>$AL70,AX70<>$AL70,AW70<>$AL70),$AL70,\nIF(AND(AQ70<>$AM70,AR70<>$AM70,AS70<>$AM70,AT70<>$AM70,AU70<>$AM70,AV70<>$AM70,AX70<>$AM70,AW70<>$AM70),$AM70,\nIF(AND(AQ70<>$AN70,AR70<>$AN70,AS70<>$AN70,AT70<>$AN70,AU70<>$AN70,AV70<>$AN70,AX70<>$AN70,AW70<>$AN70),$AN70,\nIF(AND(AQ70<>$AO70,AR70<>$AO70,AS70<>$AO70,AT70<>$AO70,AU70<>$AO70,AV70<>$AO70,AX70<>$AO70,AW70<>$AO70),$AO70,\n\"\")))))))))))","v":""},{"$f":"IF(AY70=\"\",\"\",\nIF(AND(AQ70<>$AF70,AR70<>$AF70,AS70<>$AF70,AT70<>$AF70,AU70<>$AF70,AV70<>$AF70,AW70<>$AF70,AY70<>$AF70,AX70<>$AF70),$AF70,\nIF(AND(AQ70<>$AG70,AR70<>$AG70,AS70<>$AG70,AT70<>$AG70,AU70<>$AG70,AV70<>$AG70,AW70<>$AG70,AY70<>$AG70,AX70<>$AG70),$AG70,\nIF(AND(AQ70<>$AH70,AR70<>$AH70,AS70<>$AH70,AT70<>$AH70,AU70<>$AH70,AV70<>$AH70,AW70<>$AH70,AY70<>$AH70,AX70<>$AH70),$AH70,\nIF(AND(AQ70<>$AI70,AR70<>$AI70,AS70<>$AI70,AT70<>$AI70,AU70<>$AI70,AV70<>$AI70,AW70<>$AI70,AY70<>$AI70,AX70<>$AI70),$AI70,\nIF(AND(AQ70<>$AJ70,AR70<>$AJ70,AS70<>$AJ70,AT70<>$AJ70,AU70<>$AJ70,AV70<>$AJ70,AW70<>$AJ70,AY70<>$AJ70,AX70<>$AJ70),$AJ70,\nIF(AND(AQ70<>$AK70,AR70<>$AK70,AS70<>$AK70,AT70<>$AK70,AU70<>$AK70,AV70<>$AK70,AW70<>$AK70,AY70<>$AK70,AX70<>$AK70),$AK70,\nIF(AND(AQ70<>$AL70,AR70<>$AL70,AS70<>$AL70,AT70<>$AL70,AU70<>$AL70,AV70<>$AL70,AW70<>$AL70,AY70<>$AL70,AX70<>$AL70),$AL70,\nIF(AND(AQ70<>$AM70,AR70<>$AM70,AS70<>$AM70,AT70<>$AM70,AU70<>$AM70,AV70<>$AM70,AW70<>$AM70,AY70<>$AM70,AX70<>$AM70),$AM70,\nIF(AND(AQ70<>$AN70,AR70<>$AN70,AS70<>$AN70,AT70<>$AN70,AU70<>$AN70,AV70<>$AN70,AW70<>$AN70,AY70<>$AN70,AX70<>$AN70),$AN70,\nIF(AND(AQ70<>$AO70,AR70<>$AO70,AS70<>$AO70,AT70<>$AO70,AU70<>$AO70,AV70<>$AO70,AW70<>$AO70,AY70<>$AO70,AX70<>$AO70),$AO70,\n\"\")))))))))))","v":""}]
[null,{"$f":"IF(L71=\"x\",1,IF(ISNUMBER(L71),L71,0))","v":0},0,{"$f":"I71","v":"191.000"},{"$f":"J71 & IF(M71<>\"\",CHAR(10) & M71,\"\")","v":"Verre incurvé"},"",null,null,"191.000","Verre incurvé","Pce ",null,null,null,null,null,null,null,null,"E100_PV_Module","x",null,null,"x",null,null,null,null,null,null,null,"Pce","m2","m2","m2","","","","","","",null,"Pce","m2","","","","","","","",""]
[null,0,0,{"$f":"I72","v":"192.000"},"Plexiglas",{"$f":"IF(C72=1,K72,\"\")","v":""},null,null,"192.000","Plexiglas","Pce ",null,null,null,null,null,null,null,null,"E100_PV_Module","x",null,null,"x",null,null,null,null,null,null,null,{"$f":"\nIF(U72=\"x\",U$4,\nIF(V72=\"x\",V$4,\nIF(W72=\"x\",W$4,\nIF(X72=\"x\",X$4,\nIF(Y72=\"x\",Y$4,\nIF(Z72=\"x\",Z$4,\nIF(AA72=\"x\",AA$4,\nIF(AB72=\"x\",AB$4,\nIF(AC72=\"x\",AC$4,\nIF(AD72=\"x\",AD$4,\n\"\"))))))))))","v":"Pce"},{"$f":"\nIF(V72=\"x\",V$4,\nIF(W72=\"x\",W$4,\nIF(X72=\"x\",X$4,\nIF(Y72=\"x\",Y$4,\nIF(Z72=\"x\",Z$4,\nIF(AA72=\"x\",AA$4,\nIF(AB72=\"x\",AB$4,\nIF(AC72=\"x\",AC$4,\nIF(AD72=\"x\",AD$4,\n\"\")))))))))","v":"m2"},{"$f":"\nIF(W72=\"x\",W$4,\nIF(X72=\"x\",X$4,\nIF(Y72=\"x\",Y$4,\nIF(Z72=\"x\",Z$4,\nIF(AA72=\"x\",AA$4,\nIF(AB72=\"x\",AB$4,\nIF(AC72=\"x\",AC$4,\nIF(AD72=\"x\",AD$4,\n\"\"))))))))","v":"m2"},{"$f":"\nIF(X72=\"x\",X$4,\nIF(Y72=\"x\",Y$4,\nIF(Z72=\"x\",Z$4,\nIF(AA72=\"x\",AA$4,\nIF(AB72=\"x\",AB$4,\nIF(AC72=\"x\",AC$4,\nIF(AD72=\"x\",AD$4,\n\"\")))))))","v":"m2"},{"$f":"\nIF(Y72=\"x\",Y$4,\nIF(Z72=\"x\",Z$4,\nIF(AA72=\"x\",AA$4,\nIF(AB72=\"x\",AB$4,\nIF(AC72=\"x\",AC$4,\nIF(AD72=\"x\",AD$4,\n\"\"))))))","v":""},{"$f":"\nIF(Z72=\"x\",Z$4,\nIF(AA72=\"x\",AA$4,\nIF(AB72=\"x\",AB$4,\nIF(AC72=\"x\",AC$4,\nIF(AD72=\"x\",AD$4,\n\"\")))))","v":""},{"$f":"\nIF(AA72=\"x\",AA$4,\nIF(AB72=\"x\",AB$4,\nIF(AC72=\"x\",AC$4,\nIF(AD72=\"x\",AD$4,\n\"\"))))","v":""},{"$f":"\nIF(AB72=\"x\",AB$4,\nIF(AC72=\"x\",AC$4,\nIF(AD72=\"x\",AD$4,\n\"\")))","v":""},{"$f":"\nIF(AC72=\"x\",AC$4,\nIF(AD72=\"x\",AD$4,\n\"\"))","v":""},{"$f":"\nIF(AD72=\"x\",AD$4,\n\"\")","v":""},null,{"$f":"AF72","v":"Pce"},"m2","","","","","","","",""]
[null,0,0,"193.000","Films flexibles","",null,null,"193.000","Films flexibles","m²",null,null,null,null,null,null,null,null,"E100_PV_Module","x",null,null,"x",null,null,null,null,null,null,null,"Pce","m2","m2","m2","","","","","","",null,"Pce","m2","","","","","","","",""]
[null,0,0,"194.000","Modules factices encadrés","",null,null,"194.000","Modules factices encadrés","Pce ",null,null,null,null,null,null,null,null,"E100_Blindmodule","x",null,null,"x",null,null,null,null,null,null,null,"Pce","m2","m2","m2","","","","","","",null,"Pce","m2","","","","","","","",""]
[null,0,0,"195.000","Modules factices intégré","",null,null,"195.000","Modules factices intégré","Pce ",null,null,null,null,null,null,null,null,"E100_Blindmodule","x",null,null,"x",null,null,null,null,null,null,null,"Pce","m2","m2","m2","","","","","","",null,"Pce","m2","","","","","","","",""]
[null,0,0,"196.000","Modules factices pour façade","",null,null,"196.000","Modules factices pour façade","Pce ",null,null,null,null,null,null,null,null,"E100_Blindmodule","x",null,null,"x",null,null,null,null,null,null,null,"Pce","m2","m2","m2","","","","","","",null,"Pce","m2","","","","","","","",""]
[null,0,0,{"$f":"I77","v":"197.000"},{"$f":"J77","v":"Module hybride PVT"},"",null,null,"197.000","Module hybride PVT","Pce ",null,null,null,null,null,null,null,null,null,"x",null,null,"x",null,null,null,null,null,null,null,"Pce","m2","m2","m2","","","","","","",null,"Pce","m2","","","","","","","",""]

{"sheet":"200 Syst. montage PV","index":4,"n_rows":64,"n_cols":52,"rows_kept":64,"cut":false,"hidden":false,"merged":[[1,6,1,7],[3,6,3,7],[3,8,3,9],[2,6,2,9],[0,19,0,51]]}
[null,null,null,null,null,null,null,null,null,null,null,null,null,null,null,null,null,null,null,"AUSBLENDEN"]
[null,null,null,null,"Ausblenden",null,"Niveau de structure 1 :",null,200,"Structure de montage PV"]
[null,null,null,null,null,null,"Obligatoire"]
[null,"Show","Fill","SOQ-Nr.","Beschreibung","Einheit","Niveau de structure 2",null,"Niveau de structure 3",null,"Unité de prestation","Ajouter une position","E-Box",null,null,null,null,null,null,"E-Box","Pce","Module","ml","m2","m3","h","mois","a","kWp","forf.",null,"Pos1","Pos2","Pos3","Pos4","Pos5","Pos6","Pos7","Pos8","Pos9","Pos10",null,"Pos1","Pos2","Pos3","Pos4","Pos5","Pos6","Pos7","Pos8","Pos9","Pos10"]
[]
[null,{"$f":"IF(SUM(B7:B13)>0,1,0)","v":0},{"$f":"IF(L6=\"x\",1,IF(ISNUMBER(L6),1,0))","v":0},{"$f":"G6","v":"210.000"},{"$f":"H6 & IF(M6<>\"\",CHAR(10) & M6,\"\")","v":"Toit incliné, systéme ajouté, parallèle à la toiture"},{"$f":"IF(C6=1,K6,\"\")","v":""},"210.000","Toit incliné, systéme ajouté, parallèle à la toiture",null,null,null,null,null,null,null,null,null,null,null,null,null,null,null,null,null,null,null,null,null,null,null,{"$f":"\nIF(U6=\"x\",U$4,\nIF(V6=\"x\",V$4,\nIF(W6=\"x\",W$4,\nIF(X6=\"x\",X$4,\nIF(Y6=\"x\",Y$4,\nIF(Z6=\"x\",Z$4,\nIF(AA6=\"x\",AA$4,\nIF(AB6=\"x\",AB$4,\nIF(AC6=\"x\",AC$4,\nIF(AD6=\"x\",AD$4,\n\"\"))))))))))","v":""},{"$f":"\nIF(V6=\"x\",V$4,\nIF(W6=\"x\",W$4,\nIF(X6=\"x\",X$4,\nIF(Y6=\"x\",Y$4,\nIF(Z6=\"x\",Z$4,\nIF(AA6=\"x\",AA$4,\nIF(AB6=\"x\",AB$4,\nIF(AC6=\"x\",AC$4,\nIF(AD6=\"x\",AD$4,\n\"\")))))))))","v":""},{"$f":"\nIF(W6=\"x\",W$4,\nIF(X6=\"x\",X$4,\nIF(Y6=\"x\",Y$4,\nIF(Z6=\"x\",Z$4,\nIF(AA6=\"x\",AA$4,\nIF(AB6=\"x\",AB$4,\nIF(AC6=\"x\",AC$4,\nIF(AD6=\"x\",AD$4,\n\"\"))))))))","v":""},{"$f":"\nIF(X6=\"x\",X$4,\nIF(Y6=\"x\",Y$4,\nIF(Z6=\"x\",Z$4,\nIF(AA6=\"x\",AA$4,\nIF(AB6=\"x\",AB$4,\nIF(AC6=\"x\",AC$4,\nIF(AD6=\"x\",AD$4,\n\"\")))))))","v":""},{"$f":"\nIF(Y6=\"x\",Y$4,\nIF(Z6=\"x\",Z$4,\nIF(AA6=\"x\",AA$4,\nIF(AB6=\"x\",AB$4,\nIF(AC6=\"x\",AC$4,\nIF(AD6=\"x\",AD$4,\n\"\"))))))","v":""},{"$f":"\nIF(Z6=\"x\",Z$4,\nIF(AA6=\"x\",AA$4,\nIF(AB6=\"x\",AB$4,\nIF(AC6=\"x\",AC$4,\nIF(AD6=\"x\",AD$4,\n\"\")))))","v":""},{"$f":"\nIF(AA6=\"x\",AA$4,\nIF(AB6=\"x\",AB$4,\nIF(AC6=\"x\",AC$4,\nIF(AD6=\"x\",AD$4,\n\"\"))))","v":""},{"$f":"\nIF(AB6=\"x\",AB$4,\nIF(AC6=\"x\",AC$4,\nIF(AD6=\"x\",AD$4,\n\"\")))","v":""},{"$f":"\nIF(AC6=\"x\",AC$4,\nIF(AD6=\"x\",AD$4,\n\"\"))","v":""},{"$f":"\nIF(AD6=\"x\",AD$4,\n\"\")","v":""},null,{"$f":"AF6","v":""},{"$f":"IF(AQ6=\"\",\"\",\nIF(AQ6<>$AF6,$AF6,\nIF(AQ6<>$AG6,$AG6,\nIF(AQ6<>$AH6,$AH6,\nIF(AQ6<>$AI6,$AI6,\nIF(AQ6<>$AJ6,$AJ6,\nIF(AQ6<>$AK6,$AK6,\nIF(AQ6<>$AL6,$AL6,\nIF(AQ6<>$AM6,$AM6,\nIF(AQ6<>$AN6,$AN6,\nIF(AQ6<>$AO6,$AO6,\n\"\")))))))))))","v":""},{"$f":"IF(AR6=\"\",\"\",\nIF(AND(AR6<>$AF6,AQ6<>$AF6),$AF6,\nIF(AND(AR6<>$AG6,AQ6<>$AG6),$AG6,\nIF(AND(AR6<>$AH6,AQ6<>$AH6),$AH6,\nIF(AND(AR6<>$AI6,AQ6<>$AI6),$AI6,\nIF(AND(AR6<>$AJ6,AQ6<>$AJ6),$AJ6,\nIF(AND(AR6<>$AK6,AQ6<>$AK6),$AK6,\nIF(AND(AR6<>$AL6,AQ6<>$AL6),$AL6,\nIF(AND(AR6<>$AM6,AQ6<>$AM6),$AM6,\nIF(AND(AR6<>$AN6,AQ6<>$AN6),$AN6,\nIF(AND(AR6<>$AO6,AQ6<>$AO6),$AO6,\n\"\")))))))))))","v":""},{"$f":"IF(AS6=\"\",\"\",\nIF(AND(AQ6<>$AF6,AS6<>$AF6,AR6<>$AF6),$AF6,\nIF(AND(AQ6<>$AG6,AS6<>$AG6,AR6<>$AG6),$AG6,\nIF(AND(AQ6<>$AH6,AS6<>$AH6,AR6<>$AH6),$AH6,\nIF(AND(AQ6<>$AI6,AS6<>$AI6,AR6<>$AI6),$AI6,\nIF(AND(AQ6<>$AJ6,AS6<>$AJ6,AR6<>$AJ6),$AJ6,\nIF(AND(AQ6<>$AK6,AS6<>$AK6,AR6<>$AK6),$AK6,\nIF(AND(AQ6<>$AL6,AS6<>$AL6,AR6<>$AL6),$AL6,\nIF(AND(AQ6<>$AM6,AS6<>$AM6,AR6<>$AM6),$AM6,\nIF(AND(AQ6<>$AN6,AS6<>$AN6,AR6<>$AN6),$AN6,\nIF(AND(AQ6<>$AO6,AS6<>$AO6,AR6<>$AO6),$AO6,\n\"\")))))))))))","v":""},{"$f":"IF(AT6=\"\",\"\",\nIF(AND(AQ6<>$AF6,AR6<>$AF6,AT6<>$AF6,AS6<>$AF6),$AF6,\nIF(AND(AQ6<>$AG6,AR6<>$AG6,AT6<>$AG6,AS6<>$AG6),$AG6,\nIF(AND(AQ6<>$AH6,AR6<>$AH6,AT6<>$AH6,AS6<>$AH6),$AH6,\nIF(AND(AQ6<>$AI6,AR6<>$AI6,AT6<>$AI6,AS6<>$AI6),$AI6,\nIF(AND(AQ6<>$AJ6,AR6<>$AJ6,AT6<>$AJ6,AS6<>$AJ6),$AJ6,\nIF(AND(AQ6<>$AK6,AR6<>$AK6,AT6<>$AK6,AS6<>$AK6),$AK6,\nIF(AND(AQ6<>$AL6,AR6<>$AL6,AT6<>$AL6,AS6<>$AL6),$AL6,\nIF(AND(AQ6<>$AM6,AR6<>$AM6,AT6<>$AM6,AS6<>$AM6),$AM6,\nIF(AND(AQ6<>$AN6,AR6<>$AN6,AT6<>$AN6,AS6<>$AN6),$AN6,\nIF(AND(AQ6<>$AO6,AR6<>$AO6,AT6<>$AO6,AS6<>$AO6),$AO6,\n\"\")))))))))))","v":""},{"$f":"IF(AU6=\"\",\"\",\nIF(AND(AQ6<>$AF6,AR6<>$AF6,AS6<>$AF6,AU6<>$AF6,AT6<>$AF6),$AF6,\nIF(AND(AQ6<>$AG6,AR6<>$AG6,AS6<>$AG6,AU6<>$AG6,AT6<>$AG6),$AG6,\nIF(AND(AQ6<>$AH6,AR6<>$AH6,AS6<>$AH6,AU6<>$AH6,AT6<>$AH6),$AH6,\nIF(AND(AQ6<>$AI6,AR6<>$AI6,AS6<>$AI6,AU6<>$AI6,AT6<>$AI6),$AI6,\nIF(AND(AQ6<>$AJ6,AR6<>$AJ6,AS6<>$AJ6,AU6<>$AJ6,AT6<>$AJ6),$AJ6,\nIF(AND(AQ6<>$AK6,AR6<>$AK6,AS6<>$AK6,AU6<>$AK6,AT6<>$AK6),$AK6,\nIF(AND(AQ6<>$AL6,AR6<>$AL6,AS6<>$AL6,AU6<>$AL6,AT6<>$AL6),$AL6,\nIF(AND(AQ6<>$AM6,AR6<>$AM6,AS6<>$AM6,AU6<>$AM6,AT6<>$AM6),$AM6,\nIF(AND(AQ6<>$AN6,AR6<>$AN6,AS6<>$AN6,AU6<>$AN6,AT6<>$AN6),$AN6,\nIF(AND(AQ6<>$AO6,AR6<>$AO6,AS6<>$AO6,AU6<>$AO6,AT6<>$AO6),$AO6,\n\"\")))))))))))","v":""},{"$f":"IF(AV6=\"\",\"\",\nIF(AND(AQ6<>$AF6,AR6<>$AF6,AS6<>$AF6,AT6<>$AF6,AV6<>$AF6,AU6<>$AF6),$AF6,\nIF(AND(AQ6<>$AG6,AR6<>$AG6,AS6<>$AG6,AT6<>$AG6,AV6<>$AG6,AU6<>$AG6),$AG6,\nIF(AND(AQ6<>$AH6,AR6<>$AH6,AS6<>$AH6,AT6<>$AH6,AV6<>$AH6,AU6<>$AH6),$AH6,\nIF(AND(AQ6<>$AI6,AR6<>$AI6,AS6<>$AI6,AT6<>$AI6,AV6<>$AI6,AU6<>$AI6),$AI6,\nIF(AND(AQ6<>$AJ6,AR6<>$AJ6,AS6<>$AJ6,AT6<>$AJ6,AV6<>$AJ6,AU6<>$AJ6),$AJ6,\nIF(AND(AQ6<>$AK6,AR6<>$AK6,AS6<>$AK6,AT6<>$AK6,AV6<>$AK6,AU6<>$AK6),$AK6,\nIF(AND(AQ6<>$AL6,AR6<>$AL6,AS6<>$AL6,AT6<>$AL6,AV6<>$AL6,AU6<>$AL6),$AL6,\nIF(AND(AQ6<>$AM6,AR6<>$AM6,AS6<>$AM6,AT6<>$AM6,AV6<>$AM6,AU6<>$AM6),$AM6,\nIF(AND(AQ6<>$AN6,AR6<>$AN6,AS6<>$AN6,AT6<>$AN6,AV6<>$AN6,AU6<>$AN6),$AN6,\nIF(AND(AQ6<>$AO6,AR6<>$AO6,AS6<>$AO6,AT6<>$AO6,AV6<>$AO6,AU6<>$AO6),$AO6,\n\"\")))))))))))","v":""},{"$f":"IF(AW6=\"\",\"\",\nIF(AND(AQ6<>$AF6,AR6<>$AF6,AS6<>$AF6,AT6<>$AF6,AU6<>$AF6,AW6<>$AF6,AV6<>$AF6),$AF6,\nIF(AND(AQ6<>$AG6,AR6<>$AG6,AS6<>$AG6,AT6<>$AG6,AU6<>$AG6,AW6<>$AG6,AV6<>$AG6),$AG6,\nIF(AND(AQ6<>$AH6,AR6<>$AH6,AS6<>$AH6,AT6<>$AH6,AU6<>$AH6,AW6<>$AH6,AV6<>$AH6),$AH6,\nIF(AND(AQ6<>$AI6,AR6<>$AI6,AS6<>$AI6,AT6<>$AI6,AU6<>$AI6,AW6<>$AI6,AV6<>$AI6),$AI6,\nIF(AND(AQ6<>$AJ6,AR6<>$AJ6,AS6<>$AJ6,AT6<>$AJ6,AU6<>$AJ6,AW6<>$AJ6,AV6<>$AJ6),$AJ6,\nIF(AND(AQ6<>$AK6,AR6<>$AK6,AS6<>$AK6,AT6<>$AK6,AU6<>$AK6,AW6<>$AK6,AV6<>$AK6),$AK6,\nIF(AND(AQ6<>$AL6,AR6<>$AL6,AS6<>$AL6,AT6<>$AL6,AU6<>$AL6,AW6<>$AL6,AV6<>$AL6),$AL6,\nIF(AND(AQ6<>$AM6,AR6<>$AM6,AS6<>$AM6,AT6<>$AM6,AU6<>$AM6,AW6<>$AM6,AV6<>$AM6),$AM6,\nIF(AND(AQ6<>$AN6,AR6<>$AN6,AS6<>$AN6,AT6<>$AN6,AU6<>$AN6,AW6<>$AN6,AV6<>$AN6),$AN6,\nIF(AND(AQ6<>$AO6,AR6<>$AO6,AS6<>$AO6,AT6<>$AO6,AU6<>$AO6,AW6<>$AO6,AV6<>$AO6),$AO6,\n\"\")))))))))))","v":""},{"$f":"IF(AX6=\"\",\"\",\nIF(AND(AQ6<>$AF6,AR6<>$AF6,AS6<>$AF6,AT6<>$AF6,AU6<>$AF6,AV6<>$AF6,AX6<>$AF6,AW6<>$AF6),$AF6,\nIF(AND(AQ6<>$AG6,AR6<>$AG6,AS6<>$AG6,AT6<>$AG6,AU6<>$AG6,AV6<>$AG6,AX6<>$AG6,AW6<>$AG6),$AG6,\nIF(AND(AQ6<>$AH6,AR6<>$AH6,AS6<>$AH6,AT6<>$AH6,AU6<>$AH6,AV6<>$AH6,AX6<>$AH6,AW6<>$AH6),$AH6,\nIF(AND(AQ6<>$AI6,AR6<>$AI6,AS6<>$AI6,AT6<>$AI6,AU6<>$AI6,AV6<>$AI6,AX6<>$AI6,AW6<>$AI6),$AI6,\nIF(AND(AQ6<>$AJ6,AR6<>$AJ6,AS6<>$AJ6,AT6<>$AJ6,AU6<>$AJ6,AV6<>$AJ6,AX6<>$AJ6,AW6<>$AJ6),$AJ6,\nIF(AND(AQ6<>$AK6,AR6<>$AK6,AS6<>$AK6,AT6<>$AK6,AU6<>$AK6,AV6<>$AK6,AX6<>$AK6,AW6<>$AK6),$AK6,\nIF(AND(AQ6<>$AL6,AR6<>$AL6,AS6<>$AL6,AT6<>$AL6,AU6<>$AL6,AV6<>$AL6,AX6<>$AL6,AW6<>$AL6),$AL6,\nIF(AND(AQ6<>$AM6,AR6<>$AM6,AS6<>$AM6,AT6<>$AM6,AU6<>$AM6,AV6<>$AM6,AX6<>$AM6,AW6<>$AM6),$AM6,\nIF(AND(AQ6<>$AN6,AR6<>$AN6,AS6<>$AN6,AT6<>$AN6,AU6<>$AN6,AV6<>$AN6,AX6<>$AN6,AW6<>$AN6),$AN6,\nIF(AND(AQ6<>$AO6,AR6<>$AO6,AS6<>$AO6,AT6<>$AO6,AU6<>$AO6,AV6<>$AO6,AX6<>$AO6,AW6<>$AO6),$AO6,\n\"\")))))))))))","v":""},{"$f":"IF(AY6=\"\",\"\",\nIF(AND(AQ6<>$AF6,AR6<>$AF6,AS6<>$AF6,AT6<>$AF6,AU6<>$AF6,AV6<>$AF6,AW6<>$AF6,AY6<>$AF6,AX6<>$AF6),$AF6,\nIF(AND(AQ6<>$AG6,AR6<>$AG6,AS6<>$AG6,AT6<>$AG6,AU6<>$AG6,AV6<>$AG6,AW6<>$AG6,AY6<>$AG6,AX6<>$AG6),$AG6,\nIF(AND(AQ6<>$AH6,AR6<>$AH6,AS6<>$AH6,AT6<>$AH6,AU6<>$AH6,AV6<>$AH6,AW6<>$AH6,AY6<>$AH6,AX6<>$AH6),$AH6,\nIF(AND(AQ6<>$AI6,AR6<>$AI6,AS6<>$AI6,AT6<>$AI6,AU6<>$AI6,AV6<>$AI6,AW6<>$AI6,AY6<>$AI6,AX6<>$AI6),$AI6,\nIF(AND(AQ6<>$AJ6,AR6<>$AJ6,AS6<>$AJ6,AT6<>$AJ6,AU6<>$AJ6,AV6<>$AJ6,AW6<>$AJ6,AY6<>$AJ6,AX6<>$AJ6),$AJ6,\nIF(AND(AQ6<>$AK6,AR6<>$AK6,AS6<>$AK6,AT6<>$AK6,AU6<>$AK6,AV6<>$AK6,AW6<>$AK6,AY6<>$AK6,AX6<>$AK6),$AK6,\nIF(AND(AQ6<>$AL6,AR6<>$AL6,AS6<>$AL6,AT6<>$AL6,AU6<>$AL6,AV6<>$AL6,AW6<>$AL6,AY6<>$AL6,AX6<>$AL6),$AL6,\nIF(AND(AQ6<>$AM6,AR6<>$AM6,AS6<>$AM6,AT6<>$AM6,AU6<>$AM6,AV6<>$AM6,AW6<>$AM6,AY6<>$AM6,AX6<>$AM6),$AM6,\nIF(AND(AQ6<>$AN6,AR6<>$AN6,AS6<>$AN6,AT6<>$AN6,AU6<>$AN6,AV6<>$AN6,AW6<>$AN6,AY6<>$AN6,AX6<>$AN6),$AN6,\nIF(AND(AQ6<>$AO6,AR6<>$AO6,AS6<>$AO6,AT6<>$AO6,AU6<>$AO6,AV6<>$AO6,AW6<>$AO6,AY6<>$AO6,AX6<>$AO6),$AO6,\n\"\")))))))))))","v":""}]
[null,{"$f":"IF(L7=\"x\",1,IF(ISNUMBER(L7),L7,0))","v":0},{"$f":"IF(L7=\"x\",1,IF(ISNUMBER(L7),1,0))","v":0},{"$f":"I7","v":"211.000"},{"$f":"J7 & IF(M7<>\"\",CHAR(10) & M7,\"\")","v":"Tuiles, fixation sur chevrons"},{"$f":"IF(C7=1,K7,\"\")","v":""},null,null,"211.000","Tuiles, fixation sur chevrons","Module",null,null,null,null,null,null,null,null,"E200_PV_Montagekonstruktion",null,"x",null,null,null,null,null,null,null,null,null,{"$f":"\nIF(U7=\"x\",U$4,\nIF(V7=\"x\",V$4,\nIF(W7=\"x\",W$4,\nIF(X7=\"x\",X$4,\nIF(Y7=\"x\",Y$4,\nIF(Z7=\"x\",Z$4,\nIF(AA7=\"x\",AA$4,\nIF(AB7=\"x\",AB$4,\nIF(AC7=\"x\",AC$4,\nIF(AD7=\"x\",AD$4,\n\"\"))))))))))","v":"Module"},{"$f":"\nIF(V7=\"x\",V$4,\nIF(W7=\"x\",W$4,\nIF(X7=\"x\",X$4,\nIF(Y7=\"x\",Y$4,\nIF(Z7=\"x\",Z$4,\nIF(AA7=\"x\",AA$4,\nIF(AB7=\"x\",AB$4,\nIF(AC7=\"x\",AC$4,\nIF(AD7=\"x\",AD$4,\n\"\")))))))))","v":"Module"},{"$f":"\nIF(W7=\"x\",W$4,\nIF(X7=\"x\",X$4,\nIF(Y7=\"x\",Y$4,\nIF(Z7=\"x\",Z$4,\nIF(AA7=\"x\",AA$4,\nIF(AB7=\"x\",AB$4,\nIF(AC7=\"x\",AC$4,\nIF(AD7=\"x\",AD$4,\n\"\"))))))))","v":""},{"$f":"\nIF(X7=\"x\",X$4,\nIF(Y7=\"x\",Y$4,\nIF(Z7=\"x\",Z$4,\nIF(AA7=\"x\",AA$4,\nIF(AB7=\"x\",AB$4,\nIF(AC7=\"x\",AC$4,\nIF(AD7=\"x\",AD$4,\n\"\")))))))","v":""},{"$f":"\nIF(Y7=\"x\",Y$4,\nIF(Z7=\"x\",Z$4,\nIF(AA7=\"x\",AA$4,\nIF(AB7=\"x\",AB$4,\nIF(AC7=\"x\",AC$4,\nIF(AD7=\"x\",AD$4,\n\"\"))))))","v":""},{"$f":"\nIF(Z7=\"x\",Z$4,\nIF(AA7=\"x\",AA$4,\nIF(AB7=\"x\",AB$4,\nIF(AC7=\"x\",AC$4,\nIF(AD7=\"x\",AD$4,\n\"\")))))","v":""},{"$f":"\nIF(AA7=\"x\",AA$4,\nIF(AB7=\"x\",AB$4,\nIF(AC7=\"x\",AC$4,\nIF(AD7=\"x\",AD$4,\n\"\"))))","v":""},{"$f":"\nIF(AB7=\"x\",AB$4,\nIF(AC7=\"x\",AC$4,\nIF(AD7=\"x\",AD$4,\n\"\")))","v":""},{"$f":"\nIF(AC7=\"x\",AC$4,\nIF(AD7=\"x\",AD$4,\n\"\"))","v":""},{"$f":"\nIF(AD7=\"x\",AD$4,\n\"\")","v":""},null,{"$f":"AF7","v":"Module"},"",{"$f":"IF(AR7=\"\",\"\",\nIF(AND(AR7<>$AF7,AQ7<>$AF7),$AF7,\nIF(AND(AR7<>$AG7,AQ7<>$AG7),$AG7,\nIF(AND(AR7<>$AH7,AQ7<>$AH7),$AH7,\nIF(AND(AR7<>$AI7,AQ7<>$AI7),$AI7,\nIF(AND(AR7<>$AJ7,AQ7<>$AJ7),$AJ7,\nIF(AND(AR7<>$AK7,AQ7<>$AK7),$AK7,\nIF(AND(AR7<>$AL7,AQ7<>$AL7),$AL7,\nIF(AND(AR7<>$AM7,AQ7<>$AM7),$AM7,\nIF(AND(AR7<>$AN7,AQ7<>$AN7),$AN7,\nIF(AND(AR7<>$AO7,AQ7<>$AO7),$AO7,\n\"\")))))))))))","v":""},{"$f":"IF(AS7=\"\",\"\",\nIF(AND(AQ7<>$AF7,AS7<>$AF7,AR7<>$AF7),$AF7,\nIF(AND(AQ7<>$AG7,AS7<>$AG7,AR7<>$AG7),$AG7,\nIF(AND(AQ7<>$AH7,AS7<>$AH7,AR7<>$AH7),$AH7,\nIF(AND(AQ7<>$AI7,AS7<>$AI7,AR7<>$AI7),$AI7,\nIF(AND(AQ7<>$AJ7,AS7<>$AJ7,AR7<>$AJ7),$AJ7,\nIF(AND(AQ7<>$AK7,AS7<>$AK7,AR7<>$AK7),$AK7,\nIF(AND(AQ7<>$AL7,AS7<>$AL7,AR7<>$AL7),$AL7,\nIF(AND(AQ7<>$AM7,AS7<>$AM7,AR7<>$AM7),$AM7,\nIF(AND(AQ7<>$AN7,AS7<>$AN7,AR7<>$AN7),$AN7,\nIF(AND(AQ7<>$AO7,AS7<>$AO7,AR7<>$AO7),$AO7,\n\"\")))))))))))","v":""},{"$f":"IF(AT7=\"\",\"\",\nIF(AND(AQ7<>$AF7,AR7<>$AF7,AT7<>$AF7,AS7<>$AF7),$AF7,\nIF(AND(AQ7<>$AG7,AR7<>$AG7,AT7<>$AG7,AS7<>$AG7),$AG7,\nIF(AND(AQ7<>$AH7,AR7<>$AH7,AT7<>$AH7,AS7<>$AH7),$AH7,\nIF(AND(AQ7<>$AI7,AR7<>$AI7,AT7<>$AI7,AS7<>$AI7),$AI7,\nIF(AND(AQ7<>$AJ7,AR7<>$AJ7,AT7<>$AJ7,AS7<>$AJ7),$AJ7,\nIF(AND(AQ7<>$AK7,AR7<>$AK7,AT7<>$AK7,AS7<>$AK7),$AK7,\nIF(AND(AQ7<>$AL7,AR7<>$AL7,AT7<>$AL7,AS7<>$AL7),$AL7,\nIF(AND(AQ7<>$AM7,AR7<>$AM7,AT7<>$AM7,AS7<>$AM7),$AM7,\nIF(AND(AQ7<>$AN7,AR7<>$AN7,AT7<>$AN7,AS7<>$AN7),$AN7,\nIF(AND(AQ7<>$AO7,AR7<>$AO7,AT7<>$AO7,AS7<>$AO7),$AO7,\n\"\")))))))))))","v":""},{"$f":"IF(AU7=\"\",\"\",\nIF(AND(AQ7<>$AF7,AR7<>$AF7,AS7<>$AF7,AU7<>$AF7,AT7<>$AF7),$AF7,\nIF(AND(AQ7<>$AG7,AR7<>$AG7,AS7<>$AG7,AU7<>$AG7,AT7<>$AG7),$AG7,\nIF(AND(AQ7<>$AH7,AR7<>$AH7,AS7<>$AH7,AU7<>$AH7,AT7<>$AH7),$AH7,\nIF(AND(AQ7<>$AI7,AR7<>$AI7,AS7<>$AI7,AU7<>$AI7,AT7<>$AI7),$AI7,\nIF(AND(AQ7<>$AJ7,AR7<>$AJ7,AS7<>$AJ7,AU7<>$AJ7,AT7<>$AJ7),$AJ7,\nIF(AND(AQ7<>$AK7,AR7<>$AK7,AS7<>$AK7,AU7<>$AK7,AT7<>$AK7),$AK7,\nIF(AND(AQ7<>$AL7,AR7<>$AL7,AS7<>$AL7,AU7<>$AL7,AT7<>$AL7),$AL7,\nIF(AND(AQ7<>$AM7,AR7<>$AM7,AS7<>$AM7,AU7<>$AM7,AT7<>$AM7),$AM7,\nIF(AND(AQ7<>$AN7,AR7<>$AN7,AS7<>$AN7,AU7<>$AN7,AT7<>$AN7),$AN7,\nIF(AND(AQ7<>$AO7,AR7<>$AO7,AS7<>$AO7,AU7<>$AO7,AT7<>$AO7),$AO7,\n\"\")))))))))))","v":""},{"$f":"IF(AV7=\"\",\"\",\nIF(AND(AQ7<>$AF7,AR7<>$AF7,AS7<>$AF7,AT7<>$AF7,AV7<>$AF7,AU7<>$AF7),$AF7,\nIF(AND(AQ7<>$AG7,AR7<>$AG7,AS7<>$AG7,AT7<>$AG7,AV7<>$AG7,AU7<>$AG7),$AG7,\nIF(AND(AQ7<>$AH7,AR7<>$AH7,AS7<>$AH7,AT7<>$AH7,AV7<>$AH7,AU7<>$AH7),$AH7,\nIF(AND(AQ7<>$AI7,AR7<>$AI7,AS7<>$AI7,AT7<>$AI7,AV7<>$AI7,AU7<>$AI7),$AI7,\nIF(AND(AQ7<>$AJ7,AR7<>$AJ7,AS7<>$AJ7,AT7<>$AJ7,AV7<>$AJ7,AU7<>$AJ7),$AJ7,\nIF(AND(AQ7<>$AK7,AR7<>$AK7,AS7<>$AK7,AT7<>$AK7,AV7<>$AK7,AU7<>$AK7),$AK7,\nIF(AND(AQ7<>$AL7,AR7<>$AL7,AS7<>$AL7,AT7<>$AL7,AV7<>$AL7,AU7<>$AL7),$AL7,\nIF(AND(AQ7<>$AM7,AR7<>$AM7,AS7<>$AM7,AT7<>$AM7,AV7<>$AM7,AU7<>$AM7),$AM7,\nIF(AND(AQ7<>$AN7,AR7<>$AN7,AS7<>$AN7,AT7<>$AN7,AV7<>$AN7,AU7<>$AN7),$AN7,\nIF(AND(AQ7<>$AO7,AR7<>$AO7,AS7<>$AO7,AT7<>$AO7,AV7<>$AO7,AU7<>$AO7),$AO7,\n\"\")))))))))))","v":""},{"$f":"IF(AW7=\"\",\"\",\nIF(AND(AQ7<>$AF7,AR7<>$AF7,AS7<>$AF7,AT7<>$AF7,AU7<>$AF7,AW7<>$AF7,AV7<>$AF7),$AF7,\nIF(AND(AQ7<>$AG7,AR7<>$AG7,AS7<>$AG7,AT7<>$AG7,AU7<>$AG7,AW7<>$AG7,AV7<>$AG7),$AG7,\nIF(AND(AQ7<>$AH7,AR7<>$AH7,AS7<>$AH7,AT7<>$AH7,AU7<>$AH7,AW7<>$AH7,AV7<>$AH7),$AH7,\nIF(AND(AQ7<>$AI7,AR7<>$AI7,AS7<>$AI7,AT7<>$AI7,AU7<>$AI7,AW7<>$AI7,AV7<>$AI7),$AI7,\nIF(AND(AQ7<>$AJ7,AR7<>$AJ7,AS7<>$AJ7,AT7<>$AJ7,AU7<>$AJ7,AW7<>$AJ7,AV7<>$AJ7),$AJ7,\nIF(AND(AQ7<>$AK7,AR7<>$AK7,AS7<>$AK7,AT7<>$AK7,AU7<>$AK7,AW7<>$AK7,AV7<>$AK7),$AK7,\nIF(AND(AQ7<>$AL7,AR7<>$AL7,AS7<>$AL7,AT7<>$AL7,AU7<>$AL7,AW7<>$AL7,AV7<>$AL7),$AL7,\nIF(AND(AQ7<>$AM7,AR7<>$AM7,AS7<>$AM7,AT7<>$AM7,AU7<>$AM7,AW7<>$AM7,AV7<>$AM7),$AM7,\nIF(AND(AQ7<>$AN7,AR7<>$AN7,AS7<>$AN7,AT7<>$AN7,AU7<>$AN7,AW7<>$AN7,AV7<>$AN7),$AN7,\nIF(AND(AQ7<>$AO7,AR7<>$AO7,AS7<>$AO7,AT7<>$AO7,AU7<>$AO7,AW7<>$AO7,AV7<>$AO7),$AO7,\n\"\")))))))))))","v":""},{"$f":"IF(AX7=\"\",\"\",\nIF(AND(AQ7<>$AF7,AR7<>$AF7,AS7<>$AF7,AT7<>$AF7,AU7<>$AF7,AV7<>$AF7,AX7<>$AF7,AW7<>$AF7),$AF7,\nIF(AND(AQ7<>$AG7,AR7<>$AG7,AS7<>$AG7,AT7<>$AG7,AU7<>$AG7,AV7<>$AG7,AX7<>$AG7,AW7<>$AG7),$AG7,\nIF(AND(AQ7<>$AH7,AR7<>$AH7,AS7<>$AH7,AT7<>$AH7,AU7<>$AH7,AV7<>$AH7,AX7<>$AH7,AW7<>$AH7),$AH7,\nIF(AND(AQ7<>$AI7,AR7<>$AI7,AS7<>$AI7,AT7<>$AI7,AU7<>$AI7,AV7<>$AI7,AX7<>$AI7,AW7<>$AI7),$AI7,\nIF(AND(AQ7<>$AJ7,AR7<>$AJ7,AS7<>$AJ7,AT7<>$AJ7,AU7<>$AJ7,AV7<>$AJ7,AX7<>$AJ7,AW7<>$AJ7),$AJ7,\nIF(AND(AQ7<>$AK7,AR7<>$AK7,AS7<>$AK7,AT7<>$AK7,AU7<>$AK7,AV7<>$AK7,AX7<>$AK7,AW7<>$AK7),$AK7,\nIF(AND(AQ7<>$AL7,AR7<>$AL7,AS7<>$AL7,AT7<>$AL7,AU7<>$AL7,AV7<>$AL7,AX7<>$AL7,AW7<>$AL7),$AL7,\nIF(AND(AQ7<>$AM7,AR7<>$AM7,AS7<>$AM7,AT7<>$AM7,AU7<>$AM7,AV7<>$AM7,AX7<>$AM7,AW7<>$AM7),$AM7,\nIF(AND(AQ7<>$AN7,AR7<>$AN7,AS7<>$AN7,AT7<>$AN7,AU7<>$AN7,AV7<>$AN7,AX7<>$AN7,AW7<>$AN7),$AN7,\nIF(AND(AQ7<>$AO7,AR7<>$AO7,AS7<>$AO7,AT7<>$AO7,AU7<>$AO7,AV7<>$AO7,AX7<>$AO7,AW7<>$AO7),$AO7,\n\"\")))))))))))","v":""},{"$f":"IF(AY7=\"\",\"\",\nIF(AND(AQ7<>$AF7,AR7<>$AF7,AS7<>$AF7,AT7<>$AF7,AU7<>$AF7,AV7<>$AF7,AW7<>$AF7,AY7<>$AF7,AX7<>$AF7),$AF7,\nIF(AND(AQ7<>$AG7,AR7<>$AG7,AS7<>$AG7,AT7<>$AG7,AU7<>$AG7,AV7<>$AG7,AW7<>$AG7,AY7<>$AG7,AX7<>$AG7),$AG7,\nIF(AND(AQ7<>$AH7,AR7<>$AH7,AS7<>$AH7,AT7<>$AH7,AU7<>$AH7,AV7<>$AH7,AW7<>$AH7,AY7<>$AH7,AX7<>$AH7),$AH7,\nIF(AND(AQ7<>$AI7,AR7<>$AI7,AS7<>$AI7,AT7<>$AI7,AU7<>$AI7,AV7<>$AI7,AW7<>$AI7,AY7<>$AI7,AX7<>$AI7),$AI7,\nIF(AND(AQ7<>$AJ7,AR7<>$AJ7,AS7<>$AJ7,AT7<>$AJ7,AU7<>$AJ7,AV7<>$AJ7,AW7<>$AJ7,AY7<>$AJ7,AX7<>$AJ7),$AJ7,\nIF(AND(AQ7<>$AK7,AR7<>$AK7,AS7<>$AK7,AT7<>$AK7,AU7<>$AK7,AV7<>$AK7,AW7<>$AK7,AY7<>$AK7,AX7<>$AK7),$AK7,\nIF(AND(AQ7<>$AL7,AR7<>$AL7,AS7<>$AL7,AT7<>$AL7,AU7<>$AL7,AV7<>$AL7,AW7<>$AL7,AY7<>$AL7,AX7<>$AL7),$AL7,\nIF(AND(AQ7<>$AM7,AR7<>$AM7,AS7<>$AM7,AT7<>$AM7,AU7<>$AM7,AV7<>$AM7,AW7<>$AM7,AY7<>$AM7,AX7<>$AM7),$AM7,\nIF(AND(AQ7<>$AN7,AR7<>$AN7,AS7<>$AN7,AT7<>$AN7,AU7<>$AN7,AV7<>$AN7,AW7<>$AN7,AY7<>$AN7,AX7<>$AN7),$AN7,\nIF(AND(AQ7<>$AO7,AR7<>$AO7,AS7<>$AO7,AT7<>$AO7,AU7<>$AO7,AV7<>$AO7,AW7<>$AO7,AY7<>$AO7,AX7<>$AO7),$AO7,\n\"\")))))))))))","v":""}]
[null,0,{"$f":"IF(L8=\"x\",1,IF(ISNUMBER(L8),1,0))","v":0},{"$f":"I8","v":"212.000"},{"$f":"J8 & IF(M8<>\"\",CHAR(10) & M8,\"\")","v":"Tuiles plates, fixation sur chevrons"},{"$f":"IF(C8=1,K8,\"\")","v":""},null,null,"212.000","Tuiles plates, fixation sur chevrons","Module",null,null,null,null,null,null,null,null,"E200_PV_Montagekonstruktion",null,"x",null,null,null,null,null,null,null,null,null,{"$f":"\nIF(U8=\"x\",U$4,\nIF(V8=\"x\",V$4,\nIF(W8=\"x\",W$4,\nIF(X8=\"x\",X$4,\nIF(Y8=\"x\",Y$4,\nIF(Z8=\"x\",Z$4,\nIF(AA8=\"x\",AA$4,\nIF(AB8=\"x\",AB$4,\nIF(AC8=\"x\",AC$4,\nIF(AD8=\"x\",AD$4,\n\"\"))))))))))","v":"Module"},{"$f":"\nIF(V8=\"x\",V$4,\nIF(W8=\"x\",W$4,\nIF(X8=\"x\",X$4,\nIF(Y8=\"x\",Y$4,\nIF(Z8=\"x\",Z$4,\nIF(AA8=\"x\",AA$4,\nIF(AB8=\"x\",AB$4,\nIF(AC8=\"x\",AC$4,\nIF(AD8=\"x\",AD$4,\n\"\")))))))))","v":"Module"},{"$f":"\nIF(W8=\"x\",W$4,\nIF(X8=\"x\",X$4,\nIF(Y8=\"x\",Y$4,\nIF(Z8=\"x\",Z$4,\nIF(AA8=\"x\",AA$4,\nIF(AB8=\"x\",AB$4,\nIF(AC8=\"x\",AC$4,\nIF(AD8=\"x\",AD$4,\n\"\"))))))))","v":""},{"$f":"\nIF(X8=\"x\",X$4,\nIF(Y8=\"x\",Y$4,\nIF(Z8=\"x\",Z$4,\nIF(AA8=\"x\",AA$4,\nIF(AB8=\"x\",AB$4,\nIF(AC8=\"x\",AC$4,\nIF(AD8=\"x\",AD$4,\n\"\")))))))","v":""},{"$f":"\nIF(Y8=\"x\",Y$4,\nIF(Z8=\"x\",Z$4,\nIF(AA8=\"x\",AA$4,\nIF(AB8=\"x\",AB$4,\nIF(AC8=\"x\",AC$4,\nIF(AD8=\"x\",AD$4,\n\"\"))))))","v":""},{"$f":"\nIF(Z8=\"x\",Z$4,\nIF(AA8=\"x\",AA$4,\nIF(AB8=\"x\",AB$4,\nIF(AC8=\"x\",AC$4,\nIF(AD8=\"x\",AD$4,\n\"\")))))","v":""},{"$f":"\nIF(AA8=\"x\",AA$4,\nIF(AB8=\"x\",AB$4,\nIF(AC8=\"x\",AC$4,\nIF(AD8=\"x\",AD$4,\n\"\"))))","v":""},{"$f":"\nIF(AB8=\"x\",AB$4,\nIF(AC8=\"x\",AC$4,\nIF(AD8=\"x\",AD$4,\n\"\")))","v":""},{"$f":"\nIF(AC8=\"x\",AC$4,\nIF(AD8=\"x\",AD$4,\n\"\"))","v":""},{"$f":"\nIF(AD8=\"x\",AD$4,\n\"\")","v":""},null,{"$f":"AF8","v":"Module"},"",{"$f":"IF(AR8=\"\",\"\",\nIF(AND(AR8<>$AF8,AQ8<>$AF8),$AF8,\nIF(AND(AR8<>$AG8,AQ8<>$AG8),$AG8,\nIF(AND(AR8<>$AH8,AQ8<>$AH8),$AH8,\nIF(AND(AR8<>$AI8,AQ8<>$AI8),$AI8,\nIF(AND(AR8<>$AJ8,AQ8<>$AJ8),$AJ8,\nIF(AND(AR8<>$AK8,AQ8<>$AK8),$AK8,\nIF(AND(AR8<>$AL8,AQ8<>$AL8),$AL8,\nIF(AND(AR8<>$AM8,AQ8<>$AM8),$AM8,\nIF(AND(AR8<>$AN8,AQ8<>$AN8),$AN8,\nIF(AND(AR8<>$AO8,AQ8<>$AO8),$AO8,\n\"\")))))))))))","v":""},{"$f":"IF(AS8=\"\",\"\",\nIF(AND(AQ8<>$AF8,AS8<>$AF8,AR8<>$AF8),$AF8,\nIF(AND(AQ8<>$AG8,AS8<>$AG8,AR8<>$AG8),$AG8,\nIF(AND(AQ8<>$AH8,AS8<>$AH8,AR8<>$AH8),$AH8,\nIF(AND(AQ8<>$AI8,AS8<>$AI8,AR8<>$AI8),$AI8,\nIF(AND(AQ8<>$AJ8,AS8<>$AJ8,AR8<>$AJ8),$AJ8,\nIF(AND(AQ8<>$AK8,AS8<>$AK8,AR8<>$AK8),$AK8,\nIF(AND(AQ8<>$AL8,AS8<>$AL8,AR8<>$AL8),$AL8,\nIF(AND(AQ8<>$AM8,AS8<>$AM8,AR8<>$AM8),$AM8,\nIF(AND(AQ8<>$AN8,AS8<>$AN8,AR8<>$AN8),$AN8,\nIF(AND(AQ8<>$AO8,AS8<>$AO8,AR8<>$AO8),$AO8,\n\"\")))))))))))","v":""},{"$f":"IF(AT8=\"\",\"\",\nIF(AND(AQ8<>$AF8,AR8<>$AF8,AT8<>$AF8,AS8<>$AF8),$AF8,\nIF(AND(AQ8<>$AG8,AR8<>$AG8,AT8<>$AG8,AS8<>$AG8),$AG8,\nIF(AND(AQ8<>$AH8,AR8<>$AH8,AT8<>$AH8,AS8<>$AH8),$AH8,\nIF(AND(AQ8<>$AI8,AR8<>$AI8,AT8<>$AI8,AS8<>$AI8),$AI8,\nIF(AND(AQ8<>$AJ8,AR8<>$AJ8,AT8<>$AJ8,AS8<>$AJ8),$AJ8,\nIF(AND(AQ8<>$AK8,AR8<>$AK8,AT8<>$AK8,AS8<>$AK8),$AK8,\nIF(AND(AQ8<>$AL8,AR8<>$AL8,AT8<>$AL8,AS8<>$AL8),$AL8,\nIF(AND(AQ8<>$AM8,AR8<>$AM8,AT8<>$AM8,AS8<>$AM8),$AM8,\nIF(AND(AQ8<>$AN8,AR8<>$AN8,AT8<>$AN8,AS8<>$AN8),$AN8,\nIF(AND(AQ8<>$AO8,AR8<>$AO8,AT8<>$AO8,AS8<>$AO8),$AO8,\n\"\")))))))))))","v":""},{"$f":"IF(AU8=\"\",\"\",\nIF(AND(AQ8<>$AF8,AR8<>$AF8,AS8<>$AF8,AU8<>$AF8,AT8<>$AF8),$AF8,\nIF(AND(AQ8<>$AG8,AR8<>$AG8,AS8<>$AG8,AU8<>$AG8,AT8<>$AG8),$AG8,\nIF(AND(AQ8<>$AH8,AR8<>$AH8,AS8<>$AH8,AU8<>$AH8,AT8<>$AH8),$AH8,\nIF(AND(AQ8<>$AI8,AR8<>$AI8,AS8<>$AI8,AU8<>$AI8,AT8<>$AI8),$AI8,\nIF(AND(AQ8<>$AJ8,AR8<>$AJ8,AS8<>$AJ8,AU8<>$AJ8,AT8<>$AJ8),$AJ8,\nIF(AND(AQ8<>$AK8,AR8<>$AK8,AS8<>$AK8,AU8<>$AK8,AT8<>$AK8),$AK8,\nIF(AND(AQ8<>$AL8,AR8<>$AL8,AS8<>$AL8,AU8<>$AL8,AT8<>$AL8),$AL8,\nIF(AND(AQ8<>$AM8,AR8<>$AM8,AS8<>$AM8,AU8<>$AM8,AT8<>$AM8),$AM8,\nIF(AND(AQ8<>$AN8,AR8<>$AN8,AS8<>$AN8,AU8<>$AN8,AT8<>$AN8),$AN8,\nIF(AND(AQ8<>$AO8,AR8<>$AO8,AS8<>$AO8,AU8<>$AO8,AT8<>$AO8),$AO8,\n\"\")))))))))))","v":""},{"$f":"IF(AV8=\"\",\"\",\nIF(AND(AQ8<>$AF8,AR8<>$AF8,AS8<>$AF8,AT8<>$AF8,AV8<>$AF8,AU8<>$AF8),$AF8,\nIF(AND(AQ8<>$AG8,AR8<>$AG8,AS8<>$AG8,AT8<>$AG8,AV8<>$AG8,AU8<>$AG8),$AG8,\nIF(AND(AQ8<>$AH8,AR8<>$AH8,AS8<>$AH8,AT8<>$AH8,AV8<>$AH8,AU8<>$AH8),$AH8,\nIF(AND(AQ8<>$AI8,AR8<>$AI8,AS8<>$AI8,AT8<>$AI8,AV8<>$AI8,AU8<>$AI8),$AI8,\nIF(AND(AQ8<>$AJ8,AR8<>$AJ8,AS8<>$AJ8,AT8<>$AJ8,AV8<>$AJ8,AU8<>$AJ8),$AJ8,\nIF(AND(AQ8<>$AK8,AR8<>$AK8,AS8<>$AK8,AT8<>$AK8,AV8<>$AK8,AU8<>$AK8),$AK8,\nIF(AND(AQ8<>$AL8,AR8<>$AL8,AS8<>$AL8,AT8<>$AL8,AV8<>$AL8,AU8<>$AL8),$AL8,\nIF(AND(AQ8<>$AM8,AR8<>$AM8,AS8<>$AM8,AT8<>$AM8,AV8<>$AM8,AU8<>$AM8),$AM8,\nIF(AND(AQ8<>$AN8,AR8<>$AN8,AS8<>$AN8,AT8<>$AN8,AV8<>$AN8,AU8<>$AN8),$AN8,\nIF(AND(AQ8<>$AO8,AR8<>$AO8,AS8<>$AO8,AT8<>$AO8,AV8<>$AO8,AU8<>$AO8),$AO8,\n\"\")))))))))))","v":""},{"$f":"IF(AW8=\"\",\"\",\nIF(AND(AQ8<>$AF8,AR8<>$AF8,AS8<>$AF8,AT8<>$AF8,AU8<>$AF8,AW8<>$AF8,AV8<>$AF8),$AF8,\nIF(AND(AQ8<>$AG8,AR8<>$AG8,AS8<>$AG8,AT8<>$AG8,AU8<>$AG8,AW8<>$AG8,AV8<>$AG8),$AG8,\nIF(AND(AQ8<>$AH8,AR8<>$AH8,AS8<>$AH8,AT8<>$AH8,AU8<>$AH8,AW8<>$AH8,AV8<>$AH8),$AH8,\nIF(AND(AQ8<>$AI8,AR8<>$AI8,AS8<>$AI8,AT8<>$AI8,AU8<>$AI8,AW8<>$AI8,AV8<>$AI8),$AI8,\nIF(AND(AQ8<>$AJ8,AR8<>$AJ8,AS8<>$AJ8,AT8<>$AJ8,AU8<>$AJ8,AW8<>$AJ8,AV8<>$AJ8),$AJ8,\nIF(AND(AQ8<>$AK8,AR8<>$AK8,AS8<>$AK8,AT8<>$AK8,AU8<>$AK8,AW8<>$AK8,AV8<>$AK8),$AK8,\nIF(AND(AQ8<>$AL8,AR8<>$AL8,AS8<>$AL8,AT8<>$AL8,AU8<>$AL8,AW8<>$AL8,AV8<>$AL8),$AL8,\nIF(AND(AQ8<>$AM8,AR8<>$AM8,AS8<>$AM8,AT8<>$AM8,AU8<>$AM8,AW8<>$AM8,AV8<>$AM8),$AM8,\nIF(AND(AQ8<>$AN8,AR8<>$AN8,AS8<>$AN8,AT8<>$AN8,AU8<>$AN8,AW8<>$AN8,AV8<>$AN8),$AN8,\nIF(AND(AQ8<>$AO8,AR8<>$AO8,AS8<>$AO8,AT8<>$AO8,AU8<>$AO8,AW8<>$AO8,AV8<>$AO8),$AO8,\n\"\")))))))))))","v":""},{"$f":"IF(AX8=\"\",\"\",\nIF(AND(AQ8<>$AF8,AR8<>$AF8,AS8<>$AF8,AT8<>$AF8,AU8<>$AF8,AV8<>$AF8,AX8<>$AF8,AW8<>$AF8),$AF8,\nIF(AND(AQ8<>$AG8,AR8<>$AG8,AS8<>$AG8,AT8<>$AG8,AU8<>$AG8,AV8<>$AG8,AX8<>$AG8,AW8<>$AG8),$AG8,\nIF(AND(AQ8<>$AH8,AR8<>$AH8,AS8<>$AH8,AT8<>$AH8,AU8<>$AH8,AV8<>$AH8,AX8<>$AH8,AW8<>$AH8),$AH8,\nIF(AND(AQ8<>$AI8,AR8<>$AI8,AS8<>$AI8,AT8<>$AI8,AU8<>$AI8,AV8<>$AI8,AX8<>$AI8,AW8<>$AI8),$AI8,\nIF(AND(AQ8<>$AJ8,AR8<>$AJ8,AS8<>$AJ8,AT8<>$AJ8,AU8<>$AJ8,AV8<>$AJ8,AX8<>$AJ8,AW8<>$AJ8),$AJ8,\nIF(AND(AQ8<>$AK8,AR8<>$AK8,AS8<>$AK8,AT8<>$AK8,AU8<>$AK8,AV8<>$AK8,AX8<>$AK8,AW8<>$AK8),$AK8,\nIF(AND(AQ8<>$AL8,AR8<>$AL8,AS8<>$AL8,AT8<>$AL8,AU8<>$AL8,AV8<>$AL8,AX8<>$AL8,AW8<>$AL8),$AL8,\nIF(AND(AQ8<>$AM8,AR8<>$AM8,AS8<>$AM8,AT8<>$AM8,AU8<>$AM8,AV8<>$AM8,AX8<>$AM8,AW8<>$AM8),$AM8,\nIF(AND(AQ8<>$AN8,AR8<>$AN8,AS8<>$AN8,AT8<>$AN8,AU8<>$AN8,AV8<>$AN8,AX8<>$AN8,AW8<>$AN8),$AN8,\nIF(AND(AQ8<>$AO8,AR8<>$AO8,AS8<>$AO8,AT8<>$AO8,AU8<>$AO8,AV8<>$AO8,AX8<>$AO8,AW8<>$AO8),$AO8,\n\"\")))))))))))","v":""},{"$f":"IF(AY8=\"\",\"\",\nIF(AND(AQ8<>$AF8,AR8<>$AF8,AS8<>$AF8,AT8<>$AF8,AU8<>$AF8,AV8<>$AF8,AW8<>$AF8,AY8<>$AF8,AX8<>$AF8),$AF8,\nIF(AND(AQ8<>$AG8,AR8<>$AG8,AS8<>$AG8,AT8<>$AG8,AU8<>$AG8,AV8<>$AG8,AW8<>$AG8,AY8<>$AG8,AX8<>$AG8),$AG8,\nIF(AND(AQ8<>$AH8,AR8<>$AH8,AS8<>$AH8,AT8<>$AH8,AU8<>$AH8,AV8<>$AH8,AW8<>$AH8,AY8<>$AH8,AX8<>$AH8),$AH8,\nIF(AND(AQ8<>$AI8,AR8<>$AI8,AS8<>$AI8,AT8<>$AI8,AU8<>$AI8,AV8<>$AI8,AW8<>$AI8,AY8<>$AI8,AX8<>$AI8),$AI8,\nIF(AND(AQ8<>$AJ8,AR8<>$AJ8,AS8<>$AJ8,AT8<>$AJ8,AU8<>$AJ8,AV8<>$AJ8,AW8<>$AJ8,AY8<>$AJ8,AX8<>$AJ8),$AJ8,\nIF(AND(AQ8<>$AK8,AR8<>$AK8,AS8<>$AK8,AT8<>$AK8,AU8<>$AK8,AV8<>$AK8,AW8<>$AK8,AY8<>$AK8,AX8<>$AK8),$AK8,\nIF(AND(AQ8<>$AL8,AR8<>$AL8,AS8<>$AL8,AT8<>$AL8,AU8<>$AL8,AV8<>$AL8,AW8<>$AL8,AY8<>$AL8,AX8<>$AL8),$AL8,\nIF(AND(AQ8<>$AM8,AR8<>$AM8,AS8<>$AM8,AT8<>$AM8,AU8<>$AM8,AV8<>$AM8,AW8<>$AM8,AY8<>$AM8,AX8<>$AM8),$AM8,\nIF(AND(AQ8<>$AN8,AR8<>$AN8,AS8<>$AN8,AT8<>$AN8,AU8<>$AN8,AV8<>$AN8,AW8<>$AN8,AY8<>$AN8,AX8<>$AN8),$AN8,\nIF(AND(AQ8<>$AO8,AR8<>$AO8,AS8<>$AO8,AT8<>$AO8,AU8<>$AO8,AV8<>$AO8,AW8<>$AO8,AY8<>$AO8,AX8<>$AO8),$AO8,\n\"\")))))))))))","v":""}]
[null,0,0,"213.000","Ardoise ou panneaux, fixation sur chevrons à travers la couverture du toit","",null,null,"213.000","Ardoise ou panneaux, fixation sur chevrons à travers la couverture du toit","Module",null,null,null,null,null,null,null,null,"E200_PV_Montagekonstruktion",null,"x",null,null,null,null,null,null,null,null,null,"Module","Module","","","","","","","","",null,"Module","","","","","","","","",""]
[null,0,0,"214.000","Panneaux grand format ondulés ou profilés, fixation dans les pannes à travers la couverture du toit (p. ex. Eternit ondulé)","",null,null,"214.000","Panneaux grand format ondulés ou profilés, fixation dans les pannes à travers la couverture du toit (p. ex. Eternit ondulé)","Module",null,null,null,null,null,null,null,null,"E200_PV_Montagekonstruktion",null,"x",null,null,null,null,null,null,null,null,null,"Module","Module","","","","","","","","",null,"Module","",{"$f":"IF(AR10=\"\",\"\",\nIF(AND(AR10<>$AF10,AQ10<>$AF10),$AF10,\nIF(AND(AR10<>$AG10,AQ10<>$AG10),$AG10,\nIF(AND(AR10<>$AH10,AQ10<>$AH10),$AH10,\nIF(AND(AR10<>$AI10,AQ10<>$AI10),$AI10,\nIF(AND(AR10<>$AJ10,AQ10<>$AJ10),$AJ10,\nIF(AND(AR10<>$AK10,AQ10<>$AK10),$AK10,\nIF(AND(AR10<>$AL10,AQ10<>$AL10),$AL10,\nIF(AND(AR10<>$AM10,AQ10<>$AM10),$AM10,\nIF(AND(AR10<>$AN10,AQ10<>$AN10),$AN10,\nIF(AND(AR10<>$AO10,AQ10<>$AO10),$AO10,\n\"\")))))))))))","v":""},{"$f":"IF(AS10=\"\",\"\",\nIF(AND(AQ10<>$AF10,AS10<>$AF10,AR10<>$AF10),$AF10,\nIF(AND(AQ10<>$AG10,AS10<>$AG10,AR10<>$AG10),$AG10,\nIF(AND(AQ10<>$AH10,AS10<>$AH10,AR10<>$AH10),$AH10,\nIF(AND(AQ10<>$AI10,AS10<>$AI10,AR10<>$AI10),$AI10,\nIF(AND(AQ10<>$AJ10,AS10<>$AJ10,AR10<>$AJ10),$AJ10,\nIF(AND(AQ10<>$AK10,AS10<>$AK10,AR10<>$AK10),$AK10,\nIF(AND(AQ10<>$AL10,AS10<>$AL10,AR10<>$AL10),$AL10,\nIF(AND(AQ10<>$AM10,AS10<>$AM10,AR10<>$AM10),$AM10,\nIF(AND(AQ10<>$AN10,AS10<>$AN10,AR10<>$AN10),$AN10,\nIF(AND(AQ10<>$AO10,AS10<>$AO10,AR10<>$AO10),$AO10,\n\"\")))))))))))","v":""},{"$f":"IF(AT10=\"\",\"\",\nIF(AND(AQ10<>$AF10,AR10<>$AF10,AT10<>$AF10,AS10<>$AF10),$AF10,\nIF(AND(AQ10<>$AG10,AR10<>$AG10,AT10<>$AG10,AS10<>$AG10),$AG10,\nIF(AND(AQ10<>$AH10,AR10<>$AH10,AT10<>$AH10,AS10<>$AH10),$AH10,\nIF(AND(AQ10<>$AI10,AR10<>$AI10,AT10<>$AI10,AS10<>$AI10),$AI10,\nIF(AND(AQ10<>$AJ10,AR10<>$AJ10,AT10<>$AJ10,AS10<>$AJ10),$AJ10,\nIF(AND(AQ10<>$AK10,AR10<>$AK10,AT10<>$AK10,AS10<>$AK10),$AK10,\nIF(AND(AQ10<>$AL10,AR10<>$AL10,AT10<>$AL10,AS10<>$AL10),$AL10,\nIF(AND(AQ10<>$AM10,AR10<>$AM10,AT10<>$AM10,AS10<>$AM10),$AM10,\nIF(AND(AQ10<>$AN10,AR10<>$AN10,AT10<>$AN10,AS10<>$AN10),$AN10,\nIF(AND(AQ10<>$AO10,AR10<>$AO10,AT10<>$AO10,AS10<>$AO10),$AO10,\n\"\")))))))))))","v":""},{"$f":"IF(AU10=\"\",\"\",\nIF(AND(AQ10<>$AF10,AR10<>$AF10,AS10<>$AF10,AU10<>$AF10,AT10<>$AF10),$AF10,\nIF(AND(AQ10<>$AG10,AR10<>$AG10,AS10<>$AG10,AU10<>$AG10,AT10<>$AG10),$AG10,\nIF(AND(AQ10<>$AH10,AR10<>$AH10,AS10<>$AH10,AU10<>$AH10,AT10<>$AH10),$AH10,\nIF(AND(AQ10<>$AI10,AR10<>$AI10,AS10<>$AI10,AU10<>$AI10,AT10<>$AI10),$AI10,\nIF(AND(AQ10<>$AJ10,AR10<>$AJ10,AS10<>$AJ10,AU10<>$AJ10,AT10<>$AJ10),$AJ10,\nIF(AND(AQ10<>$AK10,AR10<>$AK10,AS10<>$AK10,AU10<>$AK10,AT10<>$AK10),$AK10,\nIF(AND(AQ10<>$AL10,AR10<>$AL10,AS10<>$AL10,AU10<>$AL10,AT10<>$AL10),$AL10,\nIF(AND(AQ10<>$AM10,AR10<>$AM10,AS10<>$AM10,AU10<>$AM10,AT10<>$AM10),$AM10,\nIF(AND(AQ10<>$AN10,AR10<>$AN10,AS10<>$AN10,AU10<>$AN10,AT10<>$AN10),$AN10,\nIF(AND(AQ10<>$AO10,AR10<>$AO10,AS10<>$AO10,AU10<>$AO10,AT10<>$AO10),$AO10,\n\"\")))))))))))","v":""},{"$f":"IF(AV10=\"\",\"\",\nIF(AND(AQ10<>$AF10,AR10<>$AF10,AS10<>$AF10,AT10<>$AF10,AV10<>$AF10,AU10<>$AF10),$AF10,\nIF(AND(AQ10<>$AG10,AR10<>$AG10,AS10<>$AG10,AT10<>$AG10,AV10<>$AG10,AU10<>$AG10),$AG10,\nIF(AND(AQ10<>$AH10,AR10<>$AH10,AS10<>$AH10,AT10<>$AH10,AV10<>$AH10,AU10<>$AH10),$AH10,\nIF(AND(AQ10<>$AI10,AR10<>$AI10,AS10<>$AI10,AT10<>$AI10,AV10<>$AI10,AU10<>$AI10),$AI10,\nIF(AND(AQ10<>$AJ10,AR10<>$AJ10,AS10<>$AJ10,AT10<>$AJ10,AV10<>$AJ10,AU10<>$AJ10),$AJ10,\nIF(AND(AQ10<>$AK10,AR10<>$AK10,AS10<>$AK10,AT10<>$AK10,AV10<>$AK10,AU10<>$AK10),$AK10,\nIF(AND(AQ10<>$AL10,AR10<>$AL10,AS10<>$AL10,AT10<>$AL10,AV10<>$AL10,AU10<>$AL10),$AL10,\nIF(AND(AQ10<>$AM10,AR10<>$AM10,AS10<>$AM10,AT10<>$AM10,AV10<>$AM10,AU10<>$AM10),$AM10,\nIF(AND(AQ10<>$AN10,AR10<>$AN10,AS10<>$AN10,AT10<>$AN10,AV10<>$AN10,AU10<>$AN10),$AN10,\nIF(AND(AQ10<>$AO10,AR10<>$AO10,AS10<>$AO10,AT10<>$AO10,AV10<>$AO10,AU10<>$AO10),$AO10,\n\"\")))))))))))","v":""},{"$f":"IF(AW10=\"\",\"\",\nIF(AND(AQ10<>$AF10,AR10<>$AF10,AS10<>$AF10,AT10<>$AF10,AU10<>$AF10,AW10<>$AF10,AV10<>$AF10),$AF10,\nIF(AND(AQ10<>$AG10,AR10<>$AG10,AS10<>$AG10,AT10<>$AG10,AU10<>$AG10,AW10<>$AG10,AV10<>$AG10),$AG10,\nIF(AND(AQ10<>$AH10,AR10<>$AH10,AS10<>$AH10,AT10<>$AH10,AU10<>$AH10,AW10<>$AH10,AV10<>$AH10),$AH10,\nIF(AND(AQ10<>$AI10,AR10<>$AI10,AS10<>$AI10,AT10<>$AI10,AU10<>$AI10,AW10<>$AI10,AV10<>$AI10),$AI10,\nIF(AND(AQ10<>$AJ10,AR10<>$AJ10,AS10<>$AJ10,AT10<>$AJ10,AU10<>$AJ10,AW10<>$AJ10,AV10<>$AJ10),$AJ10,\nIF(AND(AQ10<>$AK10,AR10<>$AK10,AS10<>$AK10,AT10<>$AK10,AU10<>$AK10,AW10<>$AK10,AV10<>$AK10),$AK10,\nIF(AND(AQ10<>$AL10,AR10<>$AL10,AS10<>$AL10,AT10<>$AL10,AU10<>$AL10,AW10<>$AL10,AV10<>$AL10),$AL10,\nIF(AND(AQ10<>$AM10,AR10<>$AM10,AS10<>$AM10,AT10<>$AM10,AU10<>$AM10,AW10<>$AM10,AV10<>$AM10),$AM10,\nIF(AND(AQ10<>$AN10,AR10<>$AN10,AS10<>$AN10,AT10<>$AN10,AU10<>$AN10,AW10<>$AN10,AV10<>$AN10),$AN10,\nIF(AND(AQ10<>$AO10,AR10<>$AO10,AS10<>$AO10,AT10<>$AO10,AU10<>$AO10,AW10<>$AO10,AV10<>$AO10),$AO10,\n\"\")))))))))))","v":""},{"$f":"IF(AX10=\"\",\"\",\nIF(AND(AQ10<>$AF10,AR10<>$AF10,AS10<>$AF10,AT10<>$AF10,AU10<>$AF10,AV10<>$AF10,AX10<>$AF10,AW10<>$AF10),$AF10,\nIF(AND(AQ10<>$AG10,AR10<>$AG10,AS10<>$AG10,AT10<>$AG10,AU10<>$AG10,AV10<>$AG10,AX10<>$AG10,AW10<>$AG10),$AG10,\nIF(AND(AQ10<>$AH10,AR10<>$AH10,AS10<>$AH10,AT10<>$AH10,AU10<>$AH10,AV10<>$AH10,AX10<>$AH10,AW10<>$AH10),$AH10,\nIF(AND(AQ10<>$AI10,AR10<>$AI10,AS10<>$AI10,AT10<>$AI10,AU10<>$AI10,AV10<>$AI10,AX10<>$AI10,AW10<>$AI10),$AI10,\nIF(AND(AQ10<>$AJ10,AR10<>$AJ10,AS10<>$AJ10,AT10<>$AJ10,AU10<>$AJ10,AV10<>$AJ10,AX10<>$AJ10,AW10<>$AJ10),$AJ10,\nIF(AND(AQ10<>$AK10,AR10<>$AK10,AS10<>$AK10,AT10<>$AK10,AU10<>$AK10,AV10<>$AK10,AX10<>$AK10,AW10<>$AK10),$AK10,\nIF(AND(AQ10<>$AL10,AR10<>$AL10,AS10<>$AL10,AT10<>$AL10,AU10<>$AL10,AV10<>$AL10,AX10<>$AL10,AW10<>$AL10),$AL10,\nIF(AND(AQ10<>$AM10,AR10<>$AM10,AS10<>$AM10,AT10<>$AM10,AU10<>$AM10,AV10<>$AM10,AX10<>$AM10,AW10<>$AM10),$AM10,\nIF(AND(AQ10<>$AN10,AR10<>$AN10,AS10<>$AN10,AT10<>$AN10,AU10<>$AN10,AV10<>$AN10,AX10<>$AN10,AW10<>$AN10),$AN10,\nIF(AND(AQ10<>$AO10,AR10<>$AO10,AS10<>$AO10,AT10<>$AO10,AU10<>$AO10,AV10<>$AO10,AX10<>$AO10,AW10<>$AO10),$AO10,\n\"\")))))))))))","v":""},{"$f":"IF(AY10=\"\",\"\",\nIF(AND(AQ10<>$AF10,AR10<>$AF10,AS10<>$AF10,AT10<>$AF10,AU10<>$AF10,AV10<>$AF10,AW10<>$AF10,AY10<>$AF10,AX10<>$AF10),$AF10,\nIF(AND(AQ10<>$AG10,AR10<>$AG10,AS10<>$AG10,AT10<>$AG10,AU10<>$AG10,AV10<>$AG10,AW10<>$AG10,AY10<>$AG10,AX10<>$AG10),$AG10,\nIF(AND(AQ10<>$AH10,AR10<>$AH10,AS10<>$AH10,AT10<>$AH10,AU10<>$AH10,AV10<>$AH10,AW10<>$AH10,AY10<>$AH10,AX10<>$AH10),$AH10,\nIF(AND(AQ10<>$AI10,AR10<>$AI10,AS10<>$AI10,AT10<>$AI10,AU10<>$AI10,AV10<>$AI10,AW10<>$AI10,AY10<>$AI10,AX10<>$AI10),$AI10,\nIF(AND(AQ10<>$AJ10,AR10<>$AJ10,AS10<>$AJ10,AT10<>$AJ10,AU10<>$AJ10,AV10<>$AJ10,AW10<>$AJ10,AY10<>$AJ10,AX10<>$AJ10),$AJ10,\nIF(AND(AQ10<>$AK10,AR10<>$AK10,AS10<>$AK10,AT10<>$AK10,AU10<>$AK10,AV10<>$AK10,AW10<>$AK10,AY10<>$AK10,AX10<>$AK10),$AK10,\nIF(AND(AQ10<>$AL10,AR10<>$AL10,AS10<>$AL10,AT10<>$AL10,AU10<>$AL10,AV10<>$AL10,AW10<>$AL10,AY10<>$AL10,AX10<>$AL10),$AL10,\nIF(AND(AQ10<>$AM10,AR10<>$AM10,AS10<>$AM10,AT10<>$AM10,AU10<>$AM10,AV10<>$AM10,AW10<>$AM10,AY10<>$AM10,AX10<>$AM10),$AM10,\nIF(AND(AQ10<>$AN10,AR10<>$AN10,AS10<>$AN10,AT10<>$AN10,AU10<>$AN10,AV10<>$AN10,AW10<>$AN10,AY10<>$AN10,AX10<>$AN10),$AN10,\nIF(AND(AQ10<>$AO10,AR10<>$AO10,AS10<>$AO10,AT10<>$AO10,AU10<>$AO10,AV10<>$AO10,AW10<>$AO10,AY10<>$AO10,AX10<>$AO10),$AO10,\n\"\")))))))))))","v":""}]
[null,0,0,"215.000","Panneaux grand format ondulés ou profilés, fixation dans la couverture extérieure du toit (p. ex. tôle trapézoïdale)","",null,null,"215.000","Panneaux grand format ondulés ou profilés, fixation dans la couverture extérieure du toit (p. ex. tôle trapézoïdale)","Module",null,null,null,null,null,null,null,null,"E200_PV_Montagekonstruktion",null,"x",null,null,null,null,null,null,null,null,null,"Module","Module","","","","","","","","",null,"Module","","","","","","","","",""]
[null,0,0,"216.000","Tôle à joint debout, accrochage / serrage à la couverture extérieure du toit","",null,null,"216.000","Tôle à joint debout, accrochage / serrage à la couverture extérieure du toit","Module",null,null,null,null,null,null,null,null,"E200_PV_Montagekonstruktion",null,"x",null,null,null,null,null,null,null,null,null,"Module","Module","","","","","","","","",null,"Module","","","","","","","","",""]
[null,0,0,{"$f":"I13","v":"217.000"},"Autres","",null,null,"217.000","Autres","Module",null,null,null,null,null,null,null,null,"E200_PV_Montagekonstruktion",null,"x",null,null,null,null,null,null,null,null,null,"Module","Module","","","","","","","","",null,"Module","","","","","","","","",""]
[null,{"$f":"B6","v":0},0,null,null,"",null,null,null,null,null,null,null,null,null,null,null,null,null,null,null,null,null,null,null,null,null,null,null,null,null,"","","","","","","","","","",null,"","","","","","","","","",""]
[null,{"$f":"IF(SUM(B16:B20)>0,1,0)","v":0},0,{"$f":"G15","v":"220.000"},{"$f":"H15 & IF(M15<>\"\",CHAR(10) & M15,\"\")","v":"Toit incliné, système intégré, parallèle à la toiture"},"","220.000","Toit incliné, système intégré, parallèle à la toiture",null,null,null,null,null,null,null,null,null,null,null,null,null,null,null,null,null,null,null,null,null,null,null,"","","","","","","","","","",null,"","","","","","","","","",""]
[null,{"$f":"IF(L16=\"x\",1,IF(ISNUMBER(L16),L16,0))","v":0},0,{"$f":"I16","v":"221.000"},{"$f":"J16 & IF(M16<>\"\",CHAR(10) & M16,\"\")","v":"Fixation sur contre-latte"},"",null,null,"221.000","Fixation sur contre-latte","Module",null,null,null,null,null,null,null,null,"E200_PV_Montagekonstruktion",null,"x",null,"x",null,null,null,null,null,null,null,"Module","Module","m2","m2","","","","","","",null,"Module","m2","","","","","","","",""]
[null,{"$f":"IF(L17=\"x\",1,IF(ISNUMBER(L17),L17,0))","v":0},0,{"$f":"I17","v":"222.000"},"Fixation sur lattage","",null,null,"222.000","Fixation sur lattage","Module",null,null,null,null,null,null,null,null,"E200_PV_Montagekonstruktion",null,"x",null,"x",null,null,null,null,null,null,null,"Module","Module","m2","m2","","","","","","",null,"Module","m2","","","","","","","",""]
[null,{"$f":"IF(L18=\"x\",1,IF(ISNUMBER(L18),L18,0))","v":0},0,{"$f":"I18","v":"223.000"},"Fixation sur chevrons","",null,null,"223.000","Fixation sur chevrons","Module",null,null,null,null,null,null,null,null,"E200_PV_Montagekonstruktion",null,"x",null,"x",null,null,null,null,null,null,null,"Module","Module","m2","m2","","","","","","",null,"Module","m2","","","","","","","",""]
[null,{"$f":"IF(L19=\"x\",1,IF(ISNUMBER(L19),L19,0))","v":0},0,"224.000","Fixation sur pannes","",null,null,"224.000","Fixation sur pannes","Module",null,null,null,null,null,null,null,null,"E200_PV_Montagekonstruktion",null,"x",null,"x",null,null,null,null,null,null,null,"Module","Module","m2","m2","","","","","","",null,"Module","m2","","","","","","","",""]
[null,{"$f":"IF(L20=\"x\",1,IF(ISNUMBER(L20),L20,0))","v":0},0,"225.000","Fixation sur système de lattage propre","",null,null,"225.000","Fixation sur système de lattage propre","Module",null,null,null,null,null,null,null,null,"E200_PV_Montagekonstruktion",null,null,null,null,null,null,null,null,null,null,null,"","","","","","","","","","",null,"","","","","","","","","",""]
[null,{"$f":"B15","v":0},0,null,null,"",null,null,null,null,null,null,null,null,null,null,null,null,null,null,null,null,null,null,null,null,null,null,null,null,null,"","","","","","","","","","",null,"","","","","","","","","",""]
[null,{"$f":"IF(SUM(B23:B29)>0,1,0)","v":1},0,{"$f":"G22","v":"230.000"},{"$f":"H22 & IF(M22<>\"\",CHAR(10) & M22,\"\")","v":"Toit plat (sans percement) syst. de montage avec deux orientations opposées (est/ouest)"},"","230.000","Toit plat (sans percement) syst. de montage avec deux orientations opposées (est/ouest)",null,null,null,null,null,null,null,null,null,null,null,null,null,null,null,null,null,null,null,null,null,null,null,"","","","","","","","","","",null,"","","","","","","","","",""]
[null,{"$f":"IF(L23=\"x\",1,IF(ISNUMBER(L23),L23,0))","v":0},0,{"$f":"I23","v":"231.000"},{"$f":"J23 & IF(M23<>\"\",CHAR(10) & M23,\"\")","v":"Sur toit plat sans revêtement de protection"},"",null,null,"231.000","Sur toit plat sans revêtement de protection","Module",null,null,null,null,null,null,null,null,"E200_PV_Montagekonstruktion",null,"x",null,null,null,null,null,null,null,null,null,"Module","Module","","","","","","","","",null,"Module","","","","","","","","",""]
[null,1,1,{"$f":"I24","v":"232.000"},"Sous le gravier\nSystème de serrage","Module",null,null,"232.000","Sous le gravier","Module","x","Système de serrage",null,null,null,null,null,null,"E200_PV_Montagekonstruktion",null,"x",null,null,null,null,null,null,null,null,null,"Module","Module","","","","","","","","",null,"Module","","","","","","","","",""]
[null,0,0,{"$f":"I25","v":"233.000"},"Sur le gravier","",null,null,"233.000","Sur le gravier","Module",null,null,null,null,null,null,null,null,"E200_PV_Montagekonstruktion",null,"x",null,null,null,null,null,null,null,null,null,"Module","Module","","","","","","","","",null,"Module","","","","","","","","",""]
[null,0,0,"234.000","Sous la végétation, construction surélevée","",null,null,"234.000","Sous la végétation, construction surélevée","Module",null,null,null,null,null,null,null,null,"E200_PV_Montagekonstruktion",null,"x",null,null,null,null,null,null,null,null,null,"Module","Module","","","","","","","","",null,"Module","","","","","","","","",""]
[null,0,0,"235.000","Sur la végétation, construction surélevée","",null,null,"235.000","Sur la végétation, construction surélevée","Module",null,null,null,null,null,null,null,null,"E200_PV_Montagekonstruktion",null,"x",null,null,null,null,null,null,null,null,null,"Module","Module","","","","","","","","",null,"Module","","","","","","","","",""]
[null,0,0,"236.000","Monté sur dalles","",null,null,"236.000","Monté sur dalles","Module",null,null,null,null,null,null,null,null,"E200_PV_Montagekonstruktion",null,"x",null,null,null,null,null,null,null,null,null,"Module","Module","","","","","","","","",null,"Module","","","","","","","","",""]
[null,0,0,"237.000","Autres","",null,null,"237.000","Autres","Module",null,null,null,null,null,null,null,null,"E200_PV_Montagekonstruktion",null,"x",null,null,null,null,null,null,null,null,null,"Module","Module","","","","","","","","",null,"Module","","","","","","","","",""]
[null,{"$f":"B22","v":1},0,null,null,"",null,null,null,null,null,null,null,null,null,null,null,null,null,null,null,null,null,null,null,null,null,null,null,null,null,"","","","","","","","","","",null,"","","","","","","","","",""]
[null,{"$f":"IF(SUM(B32:B37)>0,1,0)","v":0},0,{"$f":"G31","v":"240.000"},{"$f":"H31 & IF(M31<>\"\",CHAR(10) & M31,\"\")","v":"Toit plat (sans ouverture) syst. de montage avec une orientation (p.e. sud)"},"","240.000","Toit plat (sans ouverture) syst. de montage avec une orientation (p.e. sud)",null,null,null,null,null,null,null,null,null,null,null,null,null,null,null,null,null,null,null,null,null,null,null,"","","","","","","","","","",null,"","","","","","","","","",""]
[null,{"$f":"IF(L32=\"x\",1,IF(ISNUMBER(L32),L32,0))","v":0},0,{"$f":"I32","v":"241.000"},{"$f":"J32 & IF(M32<>\"\",CHAR(10) & M32,\"\")","v":"Sur toit plat sans revêtement de protection"},"",null,null,"241.000","Sur toit plat sans revêtement de protection","Module",null,null,null,null,null,null,null,null,"E200_PV_Montagekonstruktion",null,"x",null,null,null,null,null,null,null,null,null,"Module","Module","","","","","","","","",null,"Module","","","","","","","","",""]
[null,0,0,{"$f":"I33","v":"242.000"},"Sous le gravier","",null,null,"242.000","Sous le gravier","Module",null,null,null,null,null,null,null,null,"E200_PV_Montagekonstruktion",null,"x",null,null,null,null,null,null,null,null,null,"Module","Module","","","","","","","","",null,"Module","","","","","","","","",""]
[null,0,0,{"$f":"I34","v":"243.000"},"Sur le gravier","",null,null,"243.000","Sur le gravier","Module",null,null,null,null,null,null,null,null,"E200_PV_Montagekonstruktion",null,"x",null,null,null,null,null,null,null,null,null,"Module","Module","","","","","","","","",null,"Module","","","","","","","","",""]
[null,0,0,"244.000","Sous la végétation, construction surélevée","",null,null,"244.000","Sous la végétation, construction surélevée","Module",null,null,null,null,null,null,null,null,"E200_PV_Montagekonstruktion",null,"x",null,null,null,null,null,null,null,null,null,"Module","Module","","","","","","","","",null,"Module","","","","","","","","",""]
[null,0,0,"245.000","Sur la végétation, construction surélevée","",null,null,"245.000","Sur la végétation, construction surélevée","Module",null,null,null,null,null,null,null,null,"E200_PV_Montagekonstruktion",null,"x",null,null,null,null,null,null,null,null,null,"Module","Module","","","","","","","","",null,"Module","","","","","","","","",""]
[null,0,0,"246.000","Monté sur dalles","",null,null,"246.000","Monté sur dalles","Module",null,null,null,null,null,null,null,null,"E200_PV_Montagekonstruktion",null,"x",null,null,null,null,null,null,null,null,null,"Module","Module","","","","","","","","",null,"Module","","","","","","","","",""]
[null,{"$f":"B31","v":0},0,null,null,"",null,null,null,null,null,null,null,null,null,null,null,null,null,null,null,null,null,null,null,null,null,null,null,null,null,"","","","","","","","","","",null,"",{"$f":"IF(AQ38=\"\",\"\",\nIF(AQ38<>$AF38,$AF38,\nIF(AQ38<>$AG38,$AG38,\nIF(AQ38<>$AH38,$AH38,\nIF(AQ38<>$AI38,$AI38,\nIF(AQ38<>$AJ38,$AJ38,\nIF(AQ38<>$AK38,$AK38,\nIF(AQ38<>$AL38,$AL38,\nIF(AQ38<>$AM38,$AM38,\nIF(AQ38<>$AN38,$AN38,\nIF(AQ38<>$AO38,$AO38,\n\"\")))))))))))","v":""},"","","","","","","",""]
[null,{"$f":"IF(SUM(B40:B46)>0,1,0)","v":0},0,{"$f":"G39","v":"250.000"},{"$f":"H39 & IF(M39<>\"\",CHAR(10) & M39,\"\")","v":"Façade"},"","250.000","Façade",null,null,null,null,null,null,null,null,null,null,null,null,null,null,null,null,null,null,null,null,null,null,null,"","","","","","","","","","",null,"","","","","","","","","",""]
[null,{"$f":"IF(L40=\"x\",1,IF(ISNUMBER(L40),L40,0))","v":0},0,{"$f":"I40","v":"251.000"},{"$f":"J40 & IF(M40<>\"\",CHAR(10) & M40,\"\")","v":"Module standard intégré parallèlement au bâtiment"},"",null,null,"251.000","Module standard intégré parallèlement au bâtiment","Module",null,null,null,null,null,null,null,null,"E200_PV_Montagekonstruktion",null,"x",null,"x",null,null,null,null,null,null,null,"Module","Module","m2","m2","","","","","","",null,"Module","m2","","","","","","","",""]
[null,0,0,{"$f":"I41","v":"252.000"},"Module taille spéciale intégré parallèlement au bâtiment","",null,null,"252.000","Module taille spéciale intégré parallèlement au bâtiment","Module",null,null,null,null,null,null,null,null,"E200_PV_Montagekonstruktion",null,"x",null,"x",null,null,null,null,null,null,null,"Module","Module","m2","m2","","","","","","",null,"Module","m2","","","","","","","",""]
[null,0,0,{"$f":"I42","v":"253.000"},"Module standard ajouté parallèlement au bâtiment","",null,null,"253.000","Module standard ajouté parallèlement au bâtiment","Module",null,null,null,null,null,null,null,null,"E200_PV_Montagekonstruktion",null,"x",null,"x",null,null,null,null,null,null,null,"Module","Module","m2","m2","","","","","","",null,"Module","m2",{"$f":"IF(AR42=\"\",\"\",\nIF(AND(AR42<>$AF42,AQ42<>$AF42),$AF42,\nIF(AND(AR42<>$AG42,AQ42<>$AG42),$AG42,\nIF(AND(AR42<>$AH42,AQ42<>$AH42),$AH42,\nIF(AND(AR42<>$AI42,AQ42<>$AI42),$AI42,\nIF(AND(AR42<>$AJ42,AQ42<>$AJ42),$AJ42,\nIF(AND(AR42<>$AK42,AQ42<>$AK42),$AK42,\nIF(AND(AR42<>$AL42,AQ42<>$AL42),$AL42,\nIF(AND(AR42<>$AM42,AQ42<>$AM42),$AM42,\nIF(AND(AR42<>$AN42,AQ42<>$AN42),$AN42,\nIF(AND(AR42<>$AO42,AQ42<>$AO42),$AO42,\n\"\")))))))))))","v":""},{"$f":"IF(AS42=\"\",\"\",\nIF(AND(AQ42<>$AF42,AS42<>$AF42,AR42<>$AF42),$AF42,\nIF(AND(AQ42<>$AG42,AS42<>$AG42,AR42<>$AG42),$AG42,\nIF(AND(AQ42<>$AH42,AS42<>$AH42,AR42<>$AH42),$AH42,\nIF(AND(AQ42<>$AI42,AS42<>$AI42,AR42<>$AI42),$AI42,\nIF(AND(AQ42<>$AJ42,AS42<>$AJ42,AR42<>$AJ42),$AJ42,\nIF(AND(AQ42<>$AK42,AS42<>$AK42,AR42<>$AK42),$AK42,\nIF(AND(AQ42<>$AL42,AS42<>$AL42,AR42<>$AL42),$AL42,\nIF(AND(AQ42<>$AM42,AS42<>$AM42,AR42<>$AM42),$AM42,\nIF(AND(AQ42<>$AN42,AS42<>$AN42,AR42<>$AN42),$AN42,\nIF(AND(AQ42<>$AO42,AS42<>$AO42,AR42<>$AO42),$AO42,\n\"\")))))))))))","v":""},{"$f":"IF(AT42=\"\",\"\",\nIF(AND(AQ42<>$AF42,AR42<>$AF42,AT42<>$AF42,AS42<>$AF42),$AF42,\nIF(AND(AQ42<>$AG42,AR42<>$AG42,AT42<>$AG42,AS42<>$AG42),$AG42,\nIF(AND(AQ42<>$AH42,AR42<>$AH42,AT42<>$AH42,AS42<>$AH42),$AH42,\nIF(AND(AQ42<>$AI42,AR42<>$AI42,AT42<>$AI42,AS42<>$AI42),$AI42,\nIF(AND(AQ42<>$AJ42,AR42<>$AJ42,AT42<>$AJ42,AS42<>$AJ42),$AJ42,\nIF(AND(AQ42<>$AK42,AR42<>$AK42,AT42<>$AK42,AS42<>$AK42),$AK42,\nIF(AND(AQ42<>$AL42,AR42<>$AL42,AT42<>$AL42,AS42<>$AL42),$AL42,\nIF(AND(AQ42<>$AM42,AR42<>$AM42,AT42<>$AM42,AS42<>$AM42),$AM42,\nIF(AND(AQ42<>$AN42,AR42<>$AN42,AT42<>$AN42,AS42<>$AN42),$AN42,\nIF(AND(AQ42<>$AO42,AR42<>$AO42,AT42<>$AO42,AS42<>$AO42),$AO42,\n\"\")))))))))))","v":""},{"$f":"IF(AU42=\"\",\"\",\nIF(AND(AQ42<>$AF42,AR42<>$AF42,AS42<>$AF42,AU42<>$AF42,AT42<>$AF42),$AF42,\nIF(AND(AQ42<>$AG42,AR42<>$AG42,AS42<>$AG42,AU42<>$AG42,AT42<>$AG42),$AG42,\nIF(AND(AQ42<>$AH42,AR42<>$AH42,AS42<>$AH42,AU42<>$AH42,AT42<>$AH42),$AH42,\nIF(AND(AQ42<>$AI42,AR42<>$AI42,AS42<>$AI42,AU42<>$AI42,AT42<>$AI42),$AI42,\nIF(AND(AQ42<>$AJ42,AR42<>$AJ42,AS42<>$AJ42,AU42<>$AJ42,AT42<>$AJ42),$AJ42,\nIF(AND(AQ42<>$AK42,AR42<>$AK42,AS42<>$AK42,AU42<>$AK42,AT42<>$AK42),$AK42,\nIF(AND(AQ42<>$AL42,AR42<>$AL42,AS42<>$AL42,AU42<>$AL42,AT42<>$AL42),$AL42,\nIF(AND(AQ42<>$AM42,AR42<>$AM42,AS42<>$AM42,AU42<>$AM42,AT42<>$AM42),$AM42,\nIF(AND(AQ42<>$AN42,AR42<>$AN42,AS42<>$AN42,AU42<>$AN42,AT42<>$AN42),$AN42,\nIF(AND(AQ42<>$AO42,AR42<>$AO42,AS42<>$AO42,AU42<>$AO42,AT42<>$AO42),$AO42,\n\"\")))))))))))","v":""},{"$f":"IF(AV42=\"\",\"\",\nIF(AND(AQ42<>$AF42,AR42<>$AF42,AS42<>$AF42,AT42<>$AF42,AV42<>$AF42,AU42<>$AF42),$AF42,\nIF(AND(AQ42<>$AG42,AR42<>$AG42,AS42<>$AG42,AT42<>$AG42,AV42<>$AG42,AU42<>$AG42),$AG42,\nIF(AND(AQ42<>$AH42,AR42<>$AH42,AS42<>$AH42,AT42<>$AH42,AV42<>$AH42,AU42<>$AH42),$AH42,\nIF(AND(AQ42<>$AI42,AR42<>$AI42,AS42<>$AI42,AT42<>$AI42,AV42<>$AI42,AU42<>$AI42),$AI42,\nIF(AND(AQ42<>$AJ42,AR42<>$AJ42,AS42<>$AJ42,AT42<>$AJ42,AV42<>$AJ42,AU42<>$AJ42),$AJ42,\nIF(AND(AQ42<>$AK42,AR42<>$AK42,AS42<>$AK42,AT42<>$AK42,AV42<>$AK42,AU42<>$AK42),$AK42,\nIF(AND(AQ42<>$AL42,AR42<>$AL42,AS42<>$AL42,AT42<>$AL42,AV42<>$AL42,AU42<>$AL42),$AL42,\nIF(AND(AQ42<>$AM42,AR42<>$AM42,AS42<>$AM42,AT42<>$AM42,AV42<>$AM42,AU42<>$AM42),$AM42,\nIF(AND(AQ42<>$AN42,AR42<>$AN42,AS42<>$AN42,AT42<>$AN42,AV42<>$AN42,AU42<>$AN42),$AN42,\nIF(AND(AQ42<>$AO42,AR42<>$AO42,AS42<>$AO42,AT42<>$AO42,AV42<>$AO42,AU42<>$AO42),$AO42,\n\"\")))))))))))","v":""},{"$f":"IF(AW42=\"\",\"\",\nIF(AND(AQ42<>$AF42,AR42<>$AF42,AS42<>$AF42,AT42<>$AF42,AU42<>$AF42,AW42<>$AF42,AV42<>$AF42),$AF42,\nIF(AND(AQ42<>$AG42,AR42<>$AG42,AS42<>$AG42,AT42<>$AG42,AU42<>$AG42,AW42<>$AG42,AV42<>$AG42),$AG42,\nIF(AND(AQ42<>$AH42,AR42<>$AH42,AS42<>$AH42,AT42<>$AH42,AU42<>$AH42,AW42<>$AH42,AV42<>$AH42),$AH42,\nIF(AND(AQ42<>$AI42,AR42<>$AI42,AS42<>$AI42,AT42<>$AI42,AU42<>$AI42,AW42<>$AI42,AV42<>$AI42),$AI42,\nIF(AND(AQ42<>$AJ42,AR42<>$AJ42,AS42<>$AJ42,AT42<>$AJ42,AU42<>$AJ42,AW42<>$AJ42,AV42<>$AJ42),$AJ42,\nIF(AND(AQ42<>$AK42,AR42<>$AK42,AS42<>$AK42,AT42<>$AK42,AU42<>$AK42,AW42<>$AK42,AV42<>$AK42),$AK42,\nIF(AND(AQ42<>$AL42,AR42<>$AL42,AS42<>$AL42,AT42<>$AL42,AU42<>$AL42,AW42<>$AL42,AV42<>$AL42),$AL42,\nIF(AND(AQ42<>$AM42,AR42<>$AM42,AS42<>$AM42,AT42<>$AM42,AU42<>$AM42,AW42<>$AM42,AV42<>$AM42),$AM42,\nIF(AND(AQ42<>$AN42,AR42<>$AN42,AS42<>$AN42,AT42<>$AN42,AU42<>$AN42,AW42<>$AN42,AV42<>$AN42),$AN42,\nIF(AND(AQ42<>$AO42,AR42<>$AO42,AS42<>$AO42,AT42<>$AO42,AU42<>$AO42,AW42<>$AO42,AV42<>$AO42),$AO42,\n\"\")))))))))))","v":""},{"$f":"IF(AX42=\"\",\"\",\nIF(AND(AQ42<>$AF42,AR42<>$AF42,AS42<>$AF42,AT42<>$AF42,AU42<>$AF42,AV42<>$AF42,AX42<>$AF42,AW42<>$AF42),$AF42,\nIF(AND(AQ42<>$AG42,AR42<>$AG42,AS42<>$AG42,AT42<>$AG42,AU42<>$AG42,AV42<>$AG42,AX42<>$AG42,AW42<>$AG42),$AG42,\nIF(AND(AQ42<>$AH42,AR42<>$AH42,AS42<>$AH42,AT42<>$AH42,AU42<>$AH42,AV42<>$AH42,AX42<>$AH42,AW42<>$AH42),$AH42,\nIF(AND(AQ42<>$AI42,AR42<>$AI42,AS42<>$AI42,AT42<>$AI42,AU42<>$AI42,AV42<>$AI42,AX42<>$AI42,AW42<>$AI42),$AI42,\nIF(AND(AQ42<>$AJ42,AR42<>$AJ42,AS42<>$AJ42,AT42<>$AJ42,AU42<>$AJ42,AV42<>$AJ42,AX42<>$AJ42,AW42<>$AJ42),$AJ42,\nIF(AND(AQ42<>$AK42,AR42<>$AK42,AS42<>$AK42,AT42<>$AK42,AU42<>$AK42,AV42<>$AK42,AX42<>$AK42,AW42<>$AK42),$AK42,\nIF(AND(AQ42<>$AL42,AR42<>$AL42,AS42<>$AL42,AT42<>$AL42,AU42<>$AL42,AV42<>$AL42,AX42<>$AL42,AW42<>$AL42),$AL42,\nIF(AND(AQ42<>$AM42,AR42<>$AM42,AS42<>$AM42,AT42<>$AM42,AU42<>$AM42,AV42<>$AM42,AX42<>$AM42,AW42<>$AM42),$AM42,\nIF(AND(AQ42<>$AN42,AR42<>$AN42,AS42<>$AN42,AT42<>$AN42,AU42<>$AN42,AV42<>$AN42,AX42<>$AN42,AW42<>$AN42),$AN42,\nIF(AND(AQ42<>$AO42,AR42<>$AO42,AS42<>$AO42,AT42<>$AO42,AU42<>$AO42,AV42<>$AO42,AX42<>$AO42,AW42<>$AO42),$AO42,\n\"\")))))))))))","v":""},{"$f":"IF(AY42=\"\",\"\",\nIF(AND(AQ42<>$AF42,AR42<>$AF42,AS42<>$AF42,AT42<>$AF42,AU42<>$AF42,AV42<>$AF42,AW42<>$AF42,AY42<>$AF42,AX42<>$AF42),$AF42,\nIF(AND(AQ42<>$AG42,AR42<>$AG42,AS42<>$AG42,AT42<>$AG42,AU42<>$AG42,AV42<>$AG42,AW42<>$AG42,AY42<>$AG42,AX42<>$AG42),$AG42,\nIF(AND(AQ42<>$AH42,AR42<>$AH42,AS42<>$AH42,AT42<>$AH42,AU42<>$AH42,AV42<>$AH42,AW42<>$AH42,AY42<>$AH42,AX42<>$AH42),$AH42,\nIF(AND(AQ42<>$AI42,AR42<>$AI42,AS42<>$AI42,AT42<>$AI42,AU42<>$AI42,AV42<>$AI42,AW42<>$AI42,AY42<>$AI42,AX42<>$AI42),$AI42,\nIF(AND(AQ42<>$AJ42,AR42<>$AJ42,AS42<>$AJ42,AT42<>$AJ42,AU42<>$AJ42,AV42<>$AJ42,AW42<>$AJ42,AY42<>$AJ42,AX42<>$AJ42),$AJ42,\nIF(AND(AQ42<>$AK42,AR42<>$AK42,AS42<>$AK42,AT42<>$AK42,AU42<>$AK42,AV42<>$AK42,AW42<>$AK42,AY42<>$AK42,AX42<>$AK42),$AK42,\nIF(AND(AQ42<>$AL42,AR42<>$AL42,AS42<>$AL42,AT42<>$AL42,AU42<>$AL42,AV42<>$AL42,AW42<>$AL42,AY42<>$AL42,AX42<>$AL42),$AL42,\nIF(AND(AQ42<>$AM42,AR42<>$AM42,AS42<>$AM42,AT42<>$AM42,AU42<>$AM42,AV42<>$AM42,AW42<>$AM42,AY42<>$AM42,AX42<>$AM42),$AM42,\nIF(AND(AQ42<>$AN42,AR42<>$AN42,AS42<>$AN42,AT42<>$AN42,AU42<>$AN42,AV42<>$AN42,AW42<>$AN42,AY42<>$AN42,AX42<>$AN42),$AN42,\nIF(AND(AQ42<>$AO42,AR42<>$AO42,AS42<>$AO42,AT42<>$AO42,AU42<>$AO42,AV42<>$AO42,AW42<>$AO42,AY42<>$AO42,AX42<>$AO42),$AO42,\n\"\")))))))))))","v":""}]
[null,0,0,"254.000","Module taille spéciale ajouté parallèlement au bâtiment","",null,null,"254.000","Module taille spéciale ajouté parallèlement au bâtiment","Module",null,null,null,null,null,null,null,null,"E200_PV_Montagekonstruktion",null,"x",null,"x",null,null,null,null,null,null,null,"Module","Module","m2","m2","","","","","","",null,"Module","m2","","","","","","","",""]
[null,0,0,"255.000","Module standard ajouté et incliné","",null,null,"255.000","Module standard ajouté et incliné","Module",null,null,null,null,null,null,null,null,"E200_PV_Montagekonstruktion",null,"x",null,"x",null,null,null,null,null,null,null,"Module","Module","m2","m2","","","","","","",null,"Module","m2","","","","","","","",""]
[null,0,0,"256.000","Module taille spéciale ajouté et incliné","",null,null,"256.000","Module taille spéciale ajouté et incliné","Module",null,null,null,null,null,null,null,null,"E200_PV_Montagekonstruktion",null,"x",null,"x",null,null,null,null,null,null,null,"Module","Module","m2","m2","","","","","","",null,"Module","m2","","","","","","","",""]
[null,0,0,"257.000","Modules avec recouvrement","",null,null,"257.000","Modules avec recouvrement","Module",null,null,null,null,null,null,null,null,"E200_PV_Montagekonstruktion",null,"x",null,"x",null,null,null,null,null,null,null,"Module","Module","m2","m2","","","","","","",null,"Module","m2","","","","","","","",""]
[null,{"$f":"B39","v":0},0,null,null,"",null,null,null,null,null,null,null,null,null,null,null,null,null,null,null,null,null,null,null,null,null,null,null,null,null,"","","","","","","","","","",null,"","","","","","","","","",""]
[null,{"$f":"IF(SUM(B49:B53)>0,1,0)","v":0},0,{"$f":"G48","v":"260.000"},{"$f":"H48 & IF(M48<>\"\",CHAR(10) & M48,\"\")","v":"Hors bâtiment"},"","260.000","Hors bâtiment",null,null,null,null,null,null,null,null,null,null,null,null,null,null,null,null,null,null,null,null,null,null,null,"","","","","","","","","","",null,"","","","","","","","","",""]
[null,{"$f":"IF(L49=\"x\",1,IF(ISNUMBER(L49),L49,0))","v":0},0,{"$f":"I49","v":"261.000"},{"$f":"J49 & IF(M49<>\"\",CHAR(10) & M49,\"\")","v":"Avec fondations"},"",null,null,"261.000","Avec fondations","Module",null,null,null,null,null,null,null,null,"E200_PV_Montagekonstruktion",null,"x",null,"x",null,null,null,null,null,null,null,"Module","Module","m2","m2","","","","","","",null,"Module","m2","","","","","","","",""]
[null,{"$f":"IF(L50=\"x\",1,IF(ISNUMBER(L50),L50,0))","v":0},0,{"$f":"I50","v":"262.000"},"Sans fondation (posé au sol)","",null,null,"262.000","Sans fondation (posé au sol)","Module",null,null,null,null,null,null,null,null,"E200_PV_Montagekonstruktion",null,"x",null,"x",null,null,null,null,null,null,null,"Module","Module","m2","m2","","","","","","",null,"Module","m2","","","","","","","",""]
[null,{"$f":"IF(L51=\"x\",1,IF(ISNUMBER(L51),L51,0))","v":0},0,{"$f":"I51","v":"263.000"},"Carport pour voitures","",null,null,"263.000","Carport pour voitures","Module",null,null,null,null,null,null,null,null,"E200_PV_Montagekonstruktion",null,"x",null,"x",null,null,null,null,null,null,null,"Module","Module","m2","m2","","","","","","",null,"Module","m2","","","","","","","",""]
[null,{"$f":"IF(L52=\"x\",1,IF(ISNUMBER(L52),L52,0))","v":0},0,"264.000","Abris à vélos","",null,null,"264.000","Abris à vélos","Module",null,null,null,null,null,null,null,null,"E200_PV_Montagekonstruktion",null,"x",null,"x",null,null,null,null,null,null,null,"Module","Module","m2","m2","","","","","","",null,"Module","m2","","","","","","","",""]
[null,{"$f":"IF(L53=\"x\",1,IF(ISNUMBER(L53),L53,0))","v":0},0,"265.000","Flottant","",null,null,"265.000","Flottant","Module",null,null,null,null,null,null,null,null,"E200_PV_Montagekonstruktion",null,null,null,null,null,null,null,null,null,null,null,"","","","","","","","","","",null,"","","","","","","","","",""]
[null,{"$f":"B48","v":0},0,null,null,"",null,null,null,null,null,null,null,null,null,null,null,null,null,null,null,null,null,null,null,null,null,null,null,null,null,"","","","","","","","","","",null,"","","","","","","","","",""]
[null,{"$f":"IF(SUM(B56)>0,1,0)","v":0},0,{"$f":"G55","v":"270.000"},{"$f":"H55 & IF(M55<>\"\",CHAR(10) & M55,\"\")","v":"Autres"},"","270.000","Autres",null,null,null,null,null,null,null,null,null,null,null,null,null,null,null,null,null,null,null,null,null,null,null,"","","","","","","","","","",null,"","","","","","","","","",""]
[null,{"$f":"IF(L56=\"x\",1,IF(ISNUMBER(L56),L56,0))","v":0},0,{"$f":"I56","v":"271.000"},{"$f":"J56 & IF(M56<>\"\",CHAR(10) & M56,\"\")","v":"Toit incliné, montage sur châssis"},"",null,null,"271.000","Toit incliné, montage sur châssis","Module",null,null,null,null,null,null,null,null,"E200_PV_Montagekonstruktion",null,"x",null,null,null,null,null,null,null,null,null,"Module","Module","","","","","","","","",null,"Module","","","","","","","","",""]
[null,{"$f":"B55","v":0},0,null,null,"",null,null,null,null,null,null,null,null,null,null,null,null,null,null,null,null,null,null,null,null,null,null,null,null,null,"","","","","","","","","","",null,"","","","","","","","","",""]
[null,{"$f":"IF(SUM(B59:B64)>0,1,0)","v":0},0,{"$f":"G58","v":"280.000"},{"$f":"H58 & IF(M58<>\"\",CHAR(10) & M58,\"\")","v":"Matériel supplémentaire"},"","280.000","Matériel supplémentaire",null,null,null,null,null,null,null,null,null,null,null,null,null,null,null,null,null,null,null,null,null,null,null,"","","","","","","","","","",null,"","","","","","","","","",""]
[null,{"$f":"IF(L59=\"x\",1,IF(ISNUMBER(L59),L59,0))","v":0},0,{"$f":"I59","v":"281.000"},{"$f":"J59 & IF(M59<>\"\",CHAR(10) & M59,\"\")","v":"Toile anti-croissance des végétaux (résistante aux UV)"},"",null,null,"281.000","Toile anti-croissance des végétaux (résistante aux UV)","m²",null,null,null,null,null,null,null,null,"E200_Aufwuchshemmende_Matte",null,null,null,"x",null,null,null,null,null,null,null,"m2","m2","m2","m2","","","","","","",null,"m2","","","","","","","","",""]
[null,0,0,{"$f":"I60","v":"282.000"},"Ferblanterie pour instalation intégrée sur toit incliné","",null,null,"282.000","Ferblanterie pour instalation intégrée sur toit incliné","ml",null,null,null,null,null,null,null,null,"E200_Anschlüsse_Schrägdach_integriert",null,null,"x",null,null,null,null,null,null,"x",null,"ml","ml","ml","forf.","forf.","forf.","forf.","forf.","forf.","forf.",null,"ml","forf.","","","","","","","",""]
[null,0,0,"283.000",{"$f":"J61","v":"Barre à neige"},"",null,null,"283.000","Barre à neige","ml",null,null,null,null,null,null,null,null,null,null,null,"x",null,null,null,null,null,null,"x",null,"ml","ml","ml","forf.","forf.","forf.","forf.","forf.","forf.","forf.",null,"ml","forf.","","","","","","","",""]
[null,0,0,"284.000","Crochets pare-neige ","",null,null,"284.000","Crochets pare-neige ","Pce ",null,null,null,null,null,null,null,null,null,"x",null,null,null,null,null,null,null,null,"x",null,"Pce","forf.","forf.","forf.","forf.","forf.","forf.","forf.","forf.","forf.",null,"Pce","forf.","","","","","","","",""]
[null,0,0,"285.000","Fenêtre de toit pour installations intégrées à la toiture","",null,null,"285.000","Fenêtre de toit pour installations intégrées à la toiture","Pce ",null,null,null,null,null,null,null,null,null,"x",null,null,null,null,null,null,null,null,"x",null,"Pce","forf.","forf.","forf.","forf.","forf.","forf.","forf.","forf.","forf.",null,"Pce","forf.","","","","","","","",""]
[null,0,0,"286.000","Collecteur thermique pour installations intégrées à la toiture","",null,null,"286.000","Collecteur thermique pour installations intégrées à la toiture","Pce ",null,null,null,null,null,null,null,null,null,"x",null,"x",null,null,null,null,null,null,"x",null,"Pce","ml","ml","forf.","forf.","forf.","forf.","forf.","forf.","forf.",null,"Pce","ml","forf.","","","","","","",""]

{"sheet":"300 Appareils raccordés","index":5,"n_rows":61,"n_cols":52,"rows_kept":61,"cut":false,"hidden":false,"merged":[[1,6,1,7],[3,6,3,7],[3,8,3,9],[2,6,2,9],[0,19,0,51]]}
[null,null,null,null,null,null,null,null,null,null,null,null,null,null,null,null,null,null,null,"AUSBLENDEN"]
[null,null,null,null,"Ausblenden",null,"Niveau de structure 1 :",null,300,"Appareils raccordés"]
[null,null,null,null,null,null,"Obligatoire"]
[null,"Show","Fill","SOQ-Nr.","Beschreibung","Einheit","Niveau de structure 2",null,"Niveau de structure 3",null,"Unité de prestation","Ajouter une position","E-Box",null,null,null,null,null,null,"E-Box","Pce","Module","ml","m2","m3","h","mois","a","kWp","forf.",null,"Pos1","Pos2","Pos3","Pos4","Pos5","Pos6","Pos7","Pos8","Pos9","Pos10",null,"Pos1","Pos2","Pos3","Pos4","Pos5","Pos6","Pos7","Pos8","Pos9","Pos10"]
[]
[null,{"$f":"IF(SUM(B7:B10)>0,1,0)","v":1},{"$f":"IF(L6=\"x\",1,IF(ISNUMBER(L6),1,0))","v":0},{"$f":"G6","v":"310.000"},{"$f":"H6","v":"Onduleurs string raccordés réseau"},{"$f":"IF(C6=1,K6,\"\")","v":""},"310.000","Onduleurs string raccordés réseau",null,null,null,null,null,null,null,null,null,null,null,null,null,null,null,null,null,null,null,null,null,null,null,{"$f":"\nIF(U6=\"x\",U$4,\nIF(V6=\"x\",V$4,\nIF(W6=\"x\",W$4,\nIF(X6=\"x\",X$4,\nIF(Y6=\"x\",Y$4,\nIF(Z6=\"x\",Z$4,\nIF(AA6=\"x\",AA$4,\nIF(AB6=\"x\",AB$4,\nIF(AC6=\"x\",AC$4,\nIF(AD6=\"x\",AD$4,\n\"\"))))))))))","v":""},{"$f":"\nIF(V6=\"x\",V$4,\nIF(W6=\"x\",W$4,\nIF(X6=\"x\",X$4,\nIF(Y6=\"x\",Y$4,\nIF(Z6=\"x\",Z$4,\nIF(AA6=\"x\",AA$4,\nIF(AB6=\"x\",AB$4,\nIF(AC6=\"x\",AC$4,\nIF(AD6=\"x\",AD$4,\n\"\")))))))))","v":""},{"$f":"\nIF(W6=\"x\",W$4,\nIF(X6=\"x\",X$4,\nIF(Y6=\"x\",Y$4,\nIF(Z6=\"x\",Z$4,\nIF(AA6=\"x\",AA$4,\nIF(AB6=\"x\",AB$4,\nIF(AC6=\"x\",AC$4,\nIF(AD6=\"x\",AD$4,\n\"\"))))))))","v":""},{"$f":"\nIF(X6=\"x\",X$4,\nIF(Y6=\"x\",Y$4,\nIF(Z6=\"x\",Z$4,\nIF(AA6=\"x\",AA$4,\nIF(AB6=\"x\",AB$4,\nIF(AC6=\"x\",AC$4,\nIF(AD6=\"x\",AD$4,\n\"\")))))))","v":""},{"$f":"\nIF(Y6=\"x\",Y$4,\nIF(Z6=\"x\",Z$4,\nIF(AA6=\"x\",AA$4,\nIF(AB6=\"x\",AB$4,\nIF(AC6=\"x\",AC$4,\nIF(AD6=\"x\",AD$4,\n\"\"))))))","v":""},{"$f":"\nIF(Z6=\"x\",Z$4,\nIF(AA6=\"x\",AA$4,\nIF(AB6=\"x\",AB$4,\nIF(AC6=\"x\",AC$4,\nIF(AD6=\"x\",AD$4,\n\"\")))))","v":""},{"$f":"\nIF(AA6=\"x\",AA$4,\nIF(AB6=\"x\",AB$4,\nIF(AC6=\"x\",AC$4,\nIF(AD6=\"x\",AD$4,\n\"\"))))","v":""},{"$f":"\nIF(AB6=\"x\",AB$4,\nIF(AC6=\"x\",AC$4,\nIF(AD6=\"x\",AD$4,\n\"\")))","v":""},{"$f":"\nIF(AC6=\"x\",AC$4,\nIF(AD6=\"x\",AD$4,\n\"\"))","v":""},{"$f":"\nIF(AD6=\"x\",AD$4,\n\"\")","v":""},null,{"$f":"AF6","v":""},{"$f":"IF(AQ6=\"\",\"\",\nIF(AQ6<>$AF6,$AF6,\nIF(AQ6<>$AG6,$AG6,\nIF(AQ6<>$AH6,$AH6,\nIF(AQ6<>$AI6,$AI6,\nIF(AQ6<>$AJ6,$AJ6,\nIF(AQ6<>$AK6,$AK6,\nIF(AQ6<>$AL6,$AL6,\nIF(AQ6<>$AM6,$AM6,\nIF(AQ6<>$AN6,$AN6,\nIF(AQ6<>$AO6,$AO6,\n\"\")))))))))))","v":""},{"$f":"IF(AR6=\"\",\"\",\nIF(AND(AR6<>$AF6,AQ6<>$AF6),$AF6,\nIF(AND(AR6<>$AG6,AQ6<>$AG6),$AG6,\nIF(AND(AR6<>$AH6,AQ6<>$AH6),$AH6,\nIF(AND(AR6<>$AI6,AQ6<>$AI6),$AI6,\nIF(AND(AR6<>$AJ6,AQ6<>$AJ6),$AJ6,\nIF(AND(AR6<>$AK6,AQ6<>$AK6),$AK6,\nIF(AND(AR6<>$AL6,AQ6<>$AL6),$AL6,\nIF(AND(AR6<>$AM6,AQ6<>$AM6),$AM6,\nIF(AND(AR6<>$AN6,AQ6<>$AN6),$AN6,\nIF(AND(AR6<>$AO6,AQ6<>$AO6),$AO6,\n\"\")))))))))))","v":""},{"$f":"IF(AS6=\"\",\"\",\nIF(AND(AQ6<>$AF6,AS6<>$AF6,AR6<>$AF6),$AF6,\nIF(AND(AQ6<>$AG6,AS6<>$AG6,AR6<>$AG6),$AG6,\nIF(AND(AQ6<>$AH6,AS6<>$AH6,AR6<>$AH6),$AH6,\nIF(AND(AQ6<>$AI6,AS6<>$AI6,AR6<>$AI6),$AI6,\nIF(AND(AQ6<>$AJ6,AS6<>$AJ6,AR6<>$AJ6),$AJ6,\nIF(AND(AQ6<>$AK6,AS6<>$AK6,AR6<>$AK6),$AK6,\nIF(AND(AQ6<>$AL6,AS6<>$AL6,AR6<>$AL6),$AL6,\nIF(AND(AQ6<>$AM6,AS6<>$AM6,AR6<>$AM6),$AM6,\nIF(AND(AQ6<>$AN6,AS6<>$AN6,AR6<>$AN6),$AN6,\nIF(AND(AQ6<>$AO6,AS6<>$AO6,AR6<>$AO6),$AO6,\n\"\")))))))))))","v":""},{"$f":"IF(AT6=\"\",\"\",\nIF(AND(AQ6<>$AF6,AR6<>$AF6,AT6<>$AF6,AS6<>$AF6),$AF6,\nIF(AND(AQ6<>$AG6,AR6<>$AG6,AT6<>$AG6,AS6<>$AG6),$AG6,\nIF(AND(AQ6<>$AH6,AR6<>$AH6,AT6<>$AH6,AS6<>$AH6),$AH6,\nIF(AND(AQ6<>$AI6,AR6<>$AI6,AT6<>$AI6,AS6<>$AI6),$AI6,\nIF(AND(AQ6<>$AJ6,AR6<>$AJ6,AT6<>$AJ6,AS6<>$AJ6),$AJ6,\nIF(AND(AQ6<>$AK6,AR6<>$AK6,AT6<>$AK6,AS6<>$AK6),$AK6,\nIF(AND(AQ6<>$AL6,AR6<>$AL6,AT6<>$AL6,AS6<>$AL6),$AL6,\nIF(AND(AQ6<>$AM6,AR6<>$AM6,AT6<>$AM6,AS6<>$AM6),$AM6,\nIF(AND(AQ6<>$AN6,AR6<>$AN6,AT6<>$AN6,AS6<>$AN6),$AN6,\nIF(AND(AQ6<>$AO6,AR6<>$AO6,AT6<>$AO6,AS6<>$AO6),$AO6,\n\"\")))))))))))","v":""},{"$f":"IF(AU6=\"\",\"\",\nIF(AND(AQ6<>$AF6,AR6<>$AF6,AS6<>$AF6,AU6<>$AF6,AT6<>$AF6),$AF6,\nIF(AND(AQ6<>$AG6,AR6<>$AG6,AS6<>$AG6,AU6<>$AG6,AT6<>$AG6),$AG6,\nIF(AND(AQ6<>$AH6,AR6<>$AH6,AS6<>$AH6,AU6<>$AH6,AT6<>$AH6),$AH6,\nIF(AND(AQ6<>$AI6,AR6<>$AI6,AS6<>$AI6,AU6<>$AI6,AT6<>$AI6),$AI6,\nIF(AND(AQ6<>$AJ6,AR6<>$AJ6,AS6<>$AJ6,AU6<>$AJ6,AT6<>$AJ6),$AJ6,\nIF(AND(AQ6<>$AK6,AR6<>$AK6,AS6<>$AK6,AU6<>$AK6,AT6<>$AK6),$AK6,\nIF(AND(AQ6<>$AL6,AR6<>$AL6,AS6<>$AL6,AU6<>$AL6,AT6<>$AL6),$AL6,\nIF(AND(AQ6<>$AM6,AR6<>$AM6,AS6<>$AM6,AU6<>$AM6,AT6<>$AM6),$AM6,\nIF(AND(AQ6<>$AN6,AR6<>$AN6,AS6<>$AN6,AU6<>$AN6,AT6<>$AN6),$AN6,\nIF(AND(AQ6<>$AO6,AR6<>$AO6,AS6<>$AO6,AU6<>$AO6,AT6<>$AO6),$AO6,\n\"\")))))))))))","v":""},{"$f":"IF(AV6=\"\",\"\",\nIF(AND(AQ6<>$AF6,AR6<>$AF6,AS6<>$AF6,AT6<>$AF6,AV6<>$AF6,AU6<>$AF6),$AF6,\nIF(AND(AQ6<>$AG6,AR6<>$AG6,AS6<>$AG6,AT6<>$AG6,AV6<>$AG6,AU6<>$AG6),$AG6,\nIF(AND(AQ6<>$AH6,AR6<>$AH6,AS6<>$AH6,AT6<>$AH6,AV6<>$AH6,AU6<>$AH6),$AH6,\nIF(AND(AQ6<>$AI6,AR6<>$AI6,AS6<>$AI6,AT6<>$AI6,AV6<>$AI6,AU6<>$AI6),$AI6,\nIF(AND(AQ6<>$AJ6,AR6<>$AJ6,AS6<>$AJ6,AT6<>$AJ6,AV6<>$AJ6,AU6<>$AJ6),$AJ6,\nIF(AND(AQ6<>$AK6,AR6<>$AK6,AS6<>$AK6,AT6<>$AK6,AV6<>$AK6,AU6<>$AK6),$AK6,\nIF(AND(AQ6<>$AL6,AR6<>$AL6,AS6<>$AL6,AT6<>$AL6,AV6<>$AL6,AU6<>$AL6),$AL6,\nIF(AND(AQ6<>$AM6,AR6<>$AM6,AS6<>$AM6,AT6<>$AM6,AV6<>$AM6,AU6<>$AM6),$AM6,\nIF(AND(AQ6<>$AN6,AR6<>$AN6,AS6<>$AN6,AT6<>$AN6,AV6<>$AN6,AU6<>$AN6),$AN6,\nIF(AND(AQ6<>$AO6,AR6<>$AO6,AS6<>$AO6,AT6<>$AO6,AV6<>$AO6,AU6<>$AO6),$AO6,\n\"\")))))))))))","v":""},{"$f":"IF(AW6=\"\",\"\",\nIF(AND(AQ6<>$AF6,AR6<>$AF6,AS6<>$AF6,AT6<>$AF6,AU6<>$AF6,AW6<>$AF6,AV6<>$AF6),$AF6,\nIF(AND(AQ6<>$AG6,AR6<>$AG6,AS6<>$AG6,AT6<>$AG6,AU6<>$AG6,AW6<>$AG6,AV6<>$AG6),$AG6,\nIF(AND(AQ6<>$AH6,AR6<>$AH6,AS6<>$AH6,AT6<>$AH6,AU6<>$AH6,AW6<>$AH6,AV6<>$AH6),$AH6,\nIF(AND(AQ6<>$AI6,AR6<>$AI6,AS6<>$AI6,AT6<>$AI6,AU6<>$AI6,AW6<>$AI6,AV6<>$AI6),$AI6,\nIF(AND(AQ6<>$AJ6,AR6<>$AJ6,AS6<>$AJ6,AT6<>$AJ6,AU6<>$AJ6,AW6<>$AJ6,AV6<>$AJ6),$AJ6,\nIF(AND(AQ6<>$AK6,AR6<>$AK6,AS6<>$AK6,AT6<>$AK6,AU6<>$AK6,AW6<>$AK6,AV6<>$AK6),$AK6,\nIF(AND(AQ6<>$AL6,AR6<>$AL6,AS6<>$AL6,AT6<>$AL6,AU6<>$AL6,AW6<>$AL6,AV6<>$AL6),$AL6,\nIF(AND(AQ6<>$AM6,AR6<>$AM6,AS6<>$AM6,AT6<>$AM6,AU6<>$AM6,AW6<>$AM6,AV6<>$AM6),$AM6,\nIF(AND(AQ6<>$AN6,AR6<>$AN6,AS6<>$AN6,AT6<>$AN6,AU6<>$AN6,AW6<>$AN6,AV6<>$AN6),$AN6,\nIF(AND(AQ6<>$AO6,AR6<>$AO6,AS6<>$AO6,AT6<>$AO6,AU6<>$AO6,AW6<>$AO6,AV6<>$AO6),$AO6,\n\"\")))))))))))","v":""},{"$f":"IF(AX6=\"\",\"\",\nIF(AND(AQ6<>$AF6,AR6<>$AF6,AS6<>$AF6,AT6<>$AF6,AU6<>$AF6,AV6<>$AF6,AX6<>$AF6,AW6<>$AF6),$AF6,\nIF(AND(AQ6<>$AG6,AR6<>$AG6,AS6<>$AG6,AT6<>$AG6,AU6<>$AG6,AV6<>$AG6,AX6<>$AG6,AW6<>$AG6),$AG6,\nIF(AND(AQ6<>$AH6,AR6<>$AH6,AS6<>$AH6,AT6<>$AH6,AU6<>$AH6,AV6<>$AH6,AX6<>$AH6,AW6<>$AH6),$AH6,\nIF(AND(AQ6<>$AI6,AR6<>$AI6,AS6<>$AI6,AT6<>$AI6,AU6<>$AI6,AV6<>$AI6,AX6<>$AI6,AW6<>$AI6),$AI6,\nIF(AND(AQ6<>$AJ6,AR6<>$AJ6,AS6<>$AJ6,AT6<>$AJ6,AU6<>$AJ6,AV6<>$AJ6,AX6<>$AJ6,AW6<>$AJ6),$AJ6,\nIF(AND(AQ6<>$AK6,AR6<>$AK6,AS6<>$AK6,AT6<>$AK6,AU6<>$AK6,AV6<>$AK6,AX6<>$AK6,AW6<>$AK6),$AK6,\nIF(AND(AQ6<>$AL6,AR6<>$AL6,AS6<>$AL6,AT6<>$AL6,AU6<>$AL6,AV6<>$AL6,AX6<>$AL6,AW6<>$AL6),$AL6,\nIF(AND(AQ6<>$AM6,AR6<>$AM6,AS6<>$AM6,AT6<>$AM6,AU6<>$AM6,AV6<>$AM6,AX6<>$AM6,AW6<>$AM6),$AM6,\nIF(AND(AQ6<>$AN6,AR6<>$AN6,AS6<>$AN6,AT6<>$AN6,AU6<>$AN6,AV6<>$AN6,AX6<>$AN6,AW6<>$AN6),$AN6,\nIF(AND(AQ6<>$AO6,AR6<>$AO6,AS6<>$AO6,AT6<>$AO6,AU6<>$AO6,AV6<>$AO6,AX6<>$AO6,AW6<>$AO6),$AO6,\n\"\")))))))))))","v":""},{"$f":"IF(AY6=\"\",\"\",\nIF(AND(AQ6<>$AF6,AR6<>$AF6,AS6<>$AF6,AT6<>$AF6,AU6<>$AF6,AV6<>$AF6,AW6<>$AF6,AY6<>$AF6,AX6<>$AF6),$AF6,\nIF(AND(AQ6<>$AG6,AR6<>$AG6,AS6<>$AG6,AT6<>$AG6,AU6<>$AG6,AV6<>$AG6,AW6<>$AG6,AY6<>$AG6,AX6<>$AG6),$AG6,\nIF(AND(AQ6<>$AH6,AR6<>$AH6,AS6<>$AH6,AT6<>$AH6,AU6<>$AH6,AV6<>$AH6,AW6<>$AH6,AY6<>$AH6,AX6<>$AH6),$AH6,\nIF(AND(AQ6<>$AI6,AR6<>$AI6,AS6<>$AI6,AT6<>$AI6,AU6<>$AI6,AV6<>$AI6,AW6<>$AI6,AY6<>$AI6,AX6<>$AI6),$AI6,\nIF(AND(AQ6<>$AJ6,AR6<>$AJ6,AS6<>$AJ6,AT6<>$AJ6,AU6<>$AJ6,AV6<>$AJ6,AW6<>$AJ6,AY6<>$AJ6,AX6<>$AJ6),$AJ6,\nIF(AND(AQ6<>$AK6,AR6<>$AK6,AS6<>$AK6,AT6<>$AK6,AU6<>$AK6,AV6<>$AK6,AW6<>$AK6,AY6<>$AK6,AX6<>$AK6),$AK6,\nIF(AND(AQ6<>$AL6,AR6<>$AL6,AS6<>$AL6,AT6<>$AL6,AU6<>$AL6,AV6<>$AL6,AW6<>$AL6,AY6<>$AL6,AX6<>$AL6),$AL6,\nIF(AND(AQ6<>$AM6,AR6<>$AM6,AS6<>$AM6,AT6<>$AM6,AU6<>$AM6,AV6<>$AM6,AW6<>$AM6,AY6<>$AM6,AX6<>$AM6),$AM6,\nIF(AND(AQ6<>$AN6,AR6<>$AN6,AS6<>$AN6,AT6<>$AN6,AU6<>$AN6,AV6<>$AN6,AW6<>$AN6,AY6<>$AN6,AX6<>$AN6),$AN6,\nIF(AND(AQ6<>$AO6,AR6<>$AO6,AS6<>$AO6,AT6<>$AO6,AU6<>$AO6,AV6<>$AO6,AW6<>$AO6,AY6<>$AO6,AX6<>$AO6),$AO6,\n\"\")))))))))))","v":""}]
[null,{"$f":"IF(L7=\"x\",1,IF(ISNUMBER(L7),L7,0))","v":1},{"$f":"IF(L7=\"x\",1,IF(ISNUMBER(L7),1,0))","v":1},{"$f":"I7","v":"311.000"},{"$f":"J7 & IF(M7<>\"\",CHAR(10) & M7,\"\")","v":"Onduleur string BT sans fonction hybride\nPropriétés : \nNombre de MPPT\nProtection IP\nPoint de sectionnement DC"},{"$f":"IF(C7=1,K7,\"\")","v":"Pce "},null,null,"311.000","Onduleur string BT sans fonction hybride","Pce ","x","Propriétés : \nNombre de MPPT\nProtection IP\nPoint de sectionnement DC",null,null,null,null,null,null,"E300_Stringwechselrichter","x",null,null,null,null,null,null,null,null,null,null,{"$f":"\nIF(U7=\"x\",U$4,\nIF(V7=\"x\",V$4,\nIF(W7=\"x\",W$4,\nIF(X7=\"x\",X$4,\nIF(Y7=\"x\",Y$4,\nIF(Z7=\"x\",Z$4,\nIF(AA7=\"x\",AA$4,\nIF(AB7=\"x\",AB$4,\nIF(AC7=\"x\",AC$4,\nIF(AD7=\"x\",AD$4,\n\"\"))))))))))","v":"Pce"},{"$f":"\nIF(V7=\"x\",V$4,\nIF(W7=\"x\",W$4,\nIF(X7=\"x\",X$4,\nIF(Y7=\"x\",Y$4,\nIF(Z7=\"x\",Z$4,\nIF(AA7=\"x\",AA$4,\nIF(AB7=\"x\",AB$4,\nIF(AC7=\"x\",AC$4,\nIF(AD7=\"x\",AD$4,\n\"\")))))))))","v":""},{"$f":"\nIF(W7=\"x\",W$4,\nIF(X7=\"x\",X$4,\nIF(Y7=\"x\",Y$4,\nIF(Z7=\"x\",Z$4,\nIF(AA7=\"x\",AA$4,\nIF(AB7=\"x\",AB$4,\nIF(AC7=\"x\",AC$4,\nIF(AD7=\"x\",AD$4,\n\"\"))))))))","v":""},{"$f":"\nIF(X7=\"x\",X$4,\nIF(Y7=\"x\",Y$4,\nIF(Z7=\"x\",Z$4,\nIF(AA7=\"x\",AA$4,\nIF(AB7=\"x\",AB$4,\nIF(AC7=\"x\",AC$4,\nIF(AD7=\"x\",AD$4,\n\"\")))))))","v":""},{"$f":"\nIF(Y7=\"x\",Y$4,\nIF(Z7=\"x\",Z$4,\nIF(AA7=\"x\",AA$4,\nIF(AB7=\"x\",AB$4,\nIF(AC7=\"x\",AC$4,\nIF(AD7=\"x\",AD$4,\n\"\"))))))","v":""},{"$f":"\nIF(Z7=\"x\",Z$4,\nIF(AA7=\"x\",AA$4,\nIF(AB7=\"x\",AB$4,\nIF(AC7=\"x\",AC$4,\nIF(AD7=\"x\",AD$4,\n\"\")))))","v":""},{"$f":"\nIF(AA7=\"x\",AA$4,\nIF(AB7=\"x\",AB$4,\nIF(AC7=\"x\",AC$4,\nIF(AD7=\"x\",AD$4,\n\"\"))))","v":""},{"$f":"\nIF(AB7=\"x\",AB$4,\nIF(AC7=\"x\",AC$4,\nIF(AD7=\"x\",AD$4,\n\"\")))","v":""},{"$f":"\nIF(AC7=\"x\",AC$4,\nIF(AD7=\"x\",AD$4,\n\"\"))","v":""},{"$f":"\nIF(AD7=\"x\",AD$4,\n\"\")","v":""},null,{"$f":"AF7","v":"Pce"},"",{"$f":"IF(AR7=\"\",\"\",\nIF(AND(AR7<>$AF7,AQ7<>$AF7),$AF7,\nIF(AND(AR7<>$AG7,AQ7<>$AG7),$AG7,\nIF(AND(AR7<>$AH7,AQ7<>$AH7),$AH7,\nIF(AND(AR7<>$AI7,AQ7<>$AI7),$AI7,\nIF(AND(AR7<>$AJ7,AQ7<>$AJ7),$AJ7,\nIF(AND(AR7<>$AK7,AQ7<>$AK7),$AK7,\nIF(AND(AR7<>$AL7,AQ7<>$AL7),$AL7,\nIF(AND(AR7<>$AM7,AQ7<>$AM7),$AM7,\nIF(AND(AR7<>$AN7,AQ7<>$AN7),$AN7,\nIF(AND(AR7<>$AO7,AQ7<>$AO7),$AO7,\n\"\")))))))))))","v":""},{"$f":"IF(AS7=\"\",\"\",\nIF(AND(AQ7<>$AF7,AS7<>$AF7,AR7<>$AF7),$AF7,\nIF(AND(AQ7<>$AG7,AS7<>$AG7,AR7<>$AG7),$AG7,\nIF(AND(AQ7<>$AH7,AS7<>$AH7,AR7<>$AH7),$AH7,\nIF(AND(AQ7<>$AI7,AS7<>$AI7,AR7<>$AI7),$AI7,\nIF(AND(AQ7<>$AJ7,AS7<>$AJ7,AR7<>$AJ7),$AJ7,\nIF(AND(AQ7<>$AK7,AS7<>$AK7,AR7<>$AK7),$AK7,\nIF(AND(AQ7<>$AL7,AS7<>$AL7,AR7<>$AL7),$AL7,\nIF(AND(AQ7<>$AM7,AS7<>$AM7,AR7<>$AM7),$AM7,\nIF(AND(AQ7<>$AN7,AS7<>$AN7,AR7<>$AN7),$AN7,\nIF(AND(AQ7<>$AO7,AS7<>$AO7,AR7<>$AO7),$AO7,\n\"\")))))))))))","v":""},{"$f":"IF(AT7=\"\",\"\",\nIF(AND(AQ7<>$AF7,AR7<>$AF7,AT7<>$AF7,AS7<>$AF7),$AF7,\nIF(AND(AQ7<>$AG7,AR7<>$AG7,AT7<>$AG7,AS7<>$AG7),$AG7,\nIF(AND(AQ7<>$AH7,AR7<>$AH7,AT7<>$AH7,AS7<>$AH7),$AH7,\nIF(AND(AQ7<>$AI7,AR7<>$AI7,AT7<>$AI7,AS7<>$AI7),$AI7,\nIF(AND(AQ7<>$AJ7,AR7<>$AJ7,AT7<>$AJ7,AS7<>$AJ7),$AJ7,\nIF(AND(AQ7<>$AK7,AR7<>$AK7,AT7<>$AK7,AS7<>$AK7),$AK7,\nIF(AND(AQ7<>$AL7,AR7<>$AL7,AT7<>$AL7,AS7<>$AL7),$AL7,\nIF(AND(AQ7<>$AM7,AR7<>$AM7,AT7<>$AM7,AS7<>$AM7),$AM7,\nIF(AND(AQ7<>$AN7,AR7<>$AN7,AT7<>$AN7,AS7<>$AN7),$AN7,\nIF(AND(AQ7<>$AO7,AR7<>$AO7,AT7<>$AO7,AS7<>$AO7),$AO7,\n\"\")))))))))))","v":""},{"$f":"IF(AU7=\"\",\"\",\nIF(AND(AQ7<>$AF7,AR7<>$AF7,AS7<>$AF7,AU7<>$AF7,AT7<>$AF7),$AF7,\nIF(AND(AQ7<>$AG7,AR7<>$AG7,AS7<>$AG7,AU7<>$AG7,AT7<>$AG7),$AG7,\nIF(AND(AQ7<>$AH7,AR7<>$AH7,AS7<>$AH7,AU7<>$AH7,AT7<>$AH7),$AH7,\nIF(AND(AQ7<>$AI7,AR7<>$AI7,AS7<>$AI7,AU7<>$AI7,AT7<>$AI7),$AI7,\nIF(AND(AQ7<>$AJ7,AR7<>$AJ7,AS7<>$AJ7,AU7<>$AJ7,AT7<>$AJ7),$AJ7,\nIF(AND(AQ7<>$AK7,AR7<>$AK7,AS7<>$AK7,AU7<>$AK7,AT7<>$AK7),$AK7,\nIF(AND(AQ7<>$AL7,AR7<>$AL7,AS7<>$AL7,AU7<>$AL7,AT7<>$AL7),$AL7,\nIF(AND(AQ7<>$AM7,AR7<>$AM7,AS7<>$AM7,AU7<>$AM7,AT7<>$AM7),$AM7,\nIF(AND(AQ7<>$AN7,AR7<>$AN7,AS7<>$AN7,AU7<>$AN7,AT7<>$AN7),$AN7,\nIF(AND(AQ7<>$AO7,AR7<>$AO7,AS7<>$AO7,AU7<>$AO7,AT7<>$AO7),$AO7,\n\"\")))))))))))","v":""},{"$f":"IF(AV7=\"\",\"\",\nIF(AND(AQ7<>$AF7,AR7<>$AF7,AS7<>$AF7,AT7<>$AF7,AV7<>$AF7,AU7<>$AF7),$AF7,\nIF(AND(AQ7<>$AG7,AR7<>$AG7,AS7<>$AG7,AT7<>$AG7,AV7<>$AG7,AU7<>$AG7),$AG7,\nIF(AND(AQ7<>$AH7,AR7<>$AH7,AS7<>$AH7,AT7<>$AH7,AV7<>$AH7,AU7<>$AH7),$AH7,\nIF(AND(AQ7<>$AI7,AR7<>$AI7,AS7<>$AI7,AT7<>$AI7,AV7<>$AI7,AU7<>$AI7),$AI7,\nIF(AND(AQ7<>$AJ7,AR7<>$AJ7,AS7<>$AJ7,AT7<>$AJ7,AV7<>$AJ7,AU7<>$AJ7),$AJ7,\nIF(AND(AQ7<>$AK7,AR7<>$AK7,AS7<>$AK7,AT7<>$AK7,AV7<>$AK7,AU7<>$AK7),$AK7,\nIF(AND(AQ7<>$AL7,AR7<>$AL7,AS7<>$AL7,AT7<>$AL7,AV7<>$AL7,AU7<>$AL7),$AL7,\nIF(AND(AQ7<>$AM7,AR7<>$AM7,AS7<>$AM7,AT7<>$AM7,AV7<>$AM7,AU7<>$AM7),$AM7,\nIF(AND(AQ7<>$AN7,AR7<>$AN7,AS7<>$AN7,AT7<>$AN7,AV7<>$AN7,AU7<>$AN7),$AN7,\nIF(AND(AQ7<>$AO7,AR7<>$AO7,AS7<>$AO7,AT7<>$AO7,AV7<>$AO7,AU7<>$AO7),$AO7,\n\"\")))))))))))","v":""},{"$f":"IF(AW7=\"\",\"\",\nIF(AND(AQ7<>$AF7,AR7<>$AF7,AS7<>$AF7,AT7<>$AF7,AU7<>$AF7,AW7<>$AF7,AV7<>$AF7),$AF7,\nIF(AND(AQ7<>$AG7,AR7<>$AG7,AS7<>$AG7,AT7<>$AG7,AU7<>$AG7,AW7<>$AG7,AV7<>$AG7),$AG7,\nIF(AND(AQ7<>$AH7,AR7<>$AH7,AS7<>$AH7,AT7<>$AH7,AU7<>$AH7,AW7<>$AH7,AV7<>$AH7),$AH7,\nIF(AND(AQ7<>$AI7,AR7<>$AI7,AS7<>$AI7,AT7<>$AI7,AU7<>$AI7,AW7<>$AI7,AV7<>$AI7),$AI7,\nIF(AND(AQ7<>$AJ7,AR7<>$AJ7,AS7<>$AJ7,AT7<>$AJ7,AU7<>$AJ7,AW7<>$AJ7,AV7<>$AJ7),$AJ7,\nIF(AND(AQ7<>$AK7,AR7<>$AK7,AS7<>$AK7,AT7<>$AK7,AU7<>$AK7,AW7<>$AK7,AV7<>$AK7),$AK7,\nIF(AND(AQ7<>$AL7,AR7<>$AL7,AS7<>$AL7,AT7<>$AL7,AU7<>$AL7,AW7<>$AL7,AV7<>$AL7),$AL7,\nIF(AND(AQ7<>$AM7,AR7<>$AM7,AS7<>$AM7,AT7<>$AM7,AU7<>$AM7,AW7<>$AM7,AV7<>$AM7),$AM7,\nIF(AND(AQ7<>$AN7,AR7<>$AN7,AS7<>$AN7,AT7<>$AN7,AU7<>$AN7,AW7<>$AN7,AV7<>$AN7),$AN7,\nIF(AND(AQ7<>$AO7,AR7<>$AO7,AS7<>$AO7,AT7<>$AO7,AU7<>$AO7,AW7<>$AO7,AV7<>$AO7),$AO7,\n\"\")))))))))))","v":""},{"$f":"IF(AX7=\"\",\"\",\nIF(AND(AQ7<>$AF7,AR7<>$AF7,AS7<>$AF7,AT7<>$AF7,AU7<>$AF7,AV7<>$AF7,AX7<>$AF7,AW7<>$AF7),$AF7,\nIF(AND(AQ7<>$AG7,AR7<>$AG7,AS7<>$AG7,AT7<>$AG7,AU7<>$AG7,AV7<>$AG7,AX7<>$AG7,AW7<>$AG7),$AG7,\nIF(AND(AQ7<>$AH7,AR7<>$AH7,AS7<>$AH7,AT7<>$AH7,AU7<>$AH7,AV7<>$AH7,AX7<>$AH7,AW7<>$AH7),$AH7,\nIF(AND(AQ7<>$AI7,AR7<>$AI7,AS7<>$AI7,AT7<>$AI7,AU7<>$AI7,AV7<>$AI7,AX7<>$AI7,AW7<>$AI7),$AI7,\nIF(AND(AQ7<>$AJ7,AR7<>$AJ7,AS7<>$AJ7,AT7<>$AJ7,AU7<>$AJ7,AV7<>$AJ7,AX7<>$AJ7,AW7<>$AJ7),$AJ7,\nIF(AND(AQ7<>$AK7,AR7<>$AK7,AS7<>$AK7,AT7<>$AK7,AU7<>$AK7,AV7<>$AK7,AX7<>$AK7,AW7<>$AK7),$AK7,\nIF(AND(AQ7<>$AL7,AR7<>$AL7,AS7<>$AL7,AT7<>$AL7,AU7<>$AL7,AV7<>$AL7,AX7<>$AL7,AW7<>$AL7),$AL7,\nIF(AND(AQ7<>$AM7,AR7<>$AM7,AS7<>$AM7,AT7<>$AM7,AU7<>$AM7,AV7<>$AM7,AX7<>$AM7,AW7<>$AM7),$AM7,\nIF(AND(AQ7<>$AN7,AR7<>$AN7,AS7<>$AN7,AT7<>$AN7,AU7<>$AN7,AV7<>$AN7,AX7<>$AN7,AW7<>$AN7),$AN7,\nIF(AND(AQ7<>$AO7,AR7<>$AO7,AS7<>$AO7,AT7<>$AO7,AU7<>$AO7,AV7<>$AO7,AX7<>$AO7,AW7<>$AO7),$AO7,\n\"\")))))))))))","v":""},{"$f":"IF(AY7=\"\",\"\",\nIF(AND(AQ7<>$AF7,AR7<>$AF7,AS7<>$AF7,AT7<>$AF7,AU7<>$AF7,AV7<>$AF7,AW7<>$AF7,AY7<>$AF7,AX7<>$AF7),$AF7,\nIF(AND(AQ7<>$AG7,AR7<>$AG7,AS7<>$AG7,AT7<>$AG7,AU7<>$AG7,AV7<>$AG7,AW7<>$AG7,AY7<>$AG7,AX7<>$AG7),$AG7,\nIF(AND(AQ7<>$AH7,AR7<>$AH7,AS7<>$AH7,AT7<>$AH7,AU7<>$AH7,AV7<>$AH7,AW7<>$AH7,AY7<>$AH7,AX7<>$AH7),$AH7,\nIF(AND(AQ7<>$AI7,AR7<>$AI7,AS7<>$AI7,AT7<>$AI7,AU7<>$AI7,AV7<>$AI7,AW7<>$AI7,AY7<>$AI7,AX7<>$AI7),$AI7,\nIF(AND(AQ7<>$AJ7,AR7<>$AJ7,AS7<>$AJ7,AT7<>$AJ7,AU7<>$AJ7,AV7<>$AJ7,AW7<>$AJ7,AY7<>$AJ7,AX7<>$AJ7),$AJ7,\nIF(AND(AQ7<>$AK7,AR7<>$AK7,AS7<>$AK7,AT7<>$AK7,AU7<>$AK7,AV7<>$AK7,AW7<>$AK7,AY7<>$AK7,AX7<>$AK7),$AK7,\nIF(AND(AQ7<>$AL7,AR7<>$AL7,AS7<>$AL7,AT7<>$AL7,AU7<>$AL7,AV7<>$AL7,AW7<>$AL7,AY7<>$AL7,AX7<>$AL7),$AL7,\nIF(AND(AQ7<>$AM7,AR7<>$AM7,AS7<>$AM7,AT7<>$AM7,AU7<>$AM7,AV7<>$AM7,AW7<>$AM7,AY7<>$AM7,AX7<>$AM7),$AM7,\nIF(AND(AQ7<>$AN7,AR7<>$AN7,AS7<>$AN7,AT7<>$AN7,AU7<>$AN7,AV7<>$AN7,AW7<>$AN7,AY7<>$AN7,AX7<>$AN7),$AN7,\nIF(AND(AQ7<>$AO7,AR7<>$AO7,AS7<>$AO7,AT7<>$AO7,AU7<>$AO7,AV7<>$AO7,AW7<>$AO7,AY7<>$AO7,AX7<>$AO7),$AO7,\n\"\")))))))))))","v":""}]
[null,{"$f":"IF(L8=\"x\",1,IF(ISNUMBER(L8),L8,0))","v":0},{"$f":"IF(L8=\"x\",1,IF(ISNUMBER(L8),1,0))","v":0},{"$f":"I8","v":"312.000"},{"$f":"J8 & IF(M8<>\"\",CHAR(10) & M8,\"\")","v":"Onduleur string BT avec fonction hybride"},{"$f":"IF(C8=1,K8,\"\")","v":""},null,null,"312.000","Onduleur string BT avec fonction hybride","Pce ",null,null,null,null,null,null,null,null,"E300_Stringwechselrichter","x",null,null,null,null,null,null,null,null,null,null,{"$f":"\nIF(U8=\"x\",U$4,\nIF(V8=\"x\",V$4,\nIF(W8=\"x\",W$4,\nIF(X8=\"x\",X$4,\nIF(Y8=\"x\",Y$4,\nIF(Z8=\"x\",Z$4,\nIF(AA8=\"x\",AA$4,\nIF(AB8=\"x\",AB$4,\nIF(AC8=\"x\",AC$4,\nIF(AD8=\"x\",AD$4,\n\"\"))))))))))","v":"Pce"},{"$f":"\nIF(V8=\"x\",V$4,\nIF(W8=\"x\",W$4,\nIF(X8=\"x\",X$4,\nIF(Y8=\"x\",Y$4,\nIF(Z8=\"x\",Z$4,\nIF(AA8=\"x\",AA$4,\nIF(AB8=\"x\",AB$4,\nIF(AC8=\"x\",AC$4,\nIF(AD8=\"x\",AD$4,\n\"\")))))))))","v":""},{"$f":"\nIF(W8=\"x\",W$4,\nIF(X8=\"x\",X$4,\nIF(Y8=\"x\",Y$4,\nIF(Z8=\"x\",Z$4,\nIF(AA8=\"x\",AA$4,\nIF(AB8=\"x\",AB$4,\nIF(AC8=\"x\",AC$4,\nIF(AD8=\"x\",AD$4,\n\"\"))))))))","v":""},{"$f":"\nIF(X8=\"x\",X$4,\nIF(Y8=\"x\",Y$4,\nIF(Z8=\"x\",Z$4,\nIF(AA8=\"x\",AA$4,\nIF(AB8=\"x\",AB$4,\nIF(AC8=\"x\",AC$4,\nIF(AD8=\"x\",AD$4,\n\"\")))))))","v":""},{"$f":"\nIF(Y8=\"x\",Y$4,\nIF(Z8=\"x\",Z$4,\nIF(AA8=\"x\",AA$4,\nIF(AB8=\"x\",AB$4,\nIF(AC8=\"x\",AC$4,\nIF(AD8=\"x\",AD$4,\n\"\"))))))","v":""},{"$f":"\nIF(Z8=\"x\",Z$4,\nIF(AA8=\"x\",AA$4,\nIF(AB8=\"x\",AB$4,\nIF(AC8=\"x\",AC$4,\nIF(AD8=\"x\",AD$4,\n\"\")))))","v":""},{"$f":"\nIF(AA8=\"x\",AA$4,\nIF(AB8=\"x\",AB$4,\nIF(AC8=\"x\",AC$4,\nIF(AD8=\"x\",AD$4,\n\"\"))))","v":""},{"$f":"\nIF(AB8=\"x\",AB$4,\nIF(AC8=\"x\",AC$4,\nIF(AD8=\"x\",AD$4,\n\"\")))","v":""},{"$f":"\nIF(AC8=\"x\",AC$4,\nIF(AD8=\"x\",AD$4,\n\"\"))","v":""},{"$f":"\nIF(AD8=\"x\",AD$4,\n\"\")","v":""},null,{"$f":"AF8","v":"Pce"},"",{"$f":"IF(AR8=\"\",\"\",\nIF(AND(AR8<>$AF8,AQ8<>$AF8),$AF8,\nIF(AND(AR8<>$AG8,AQ8<>$AG8),$AG8,\nIF(AND(AR8<>$AH8,AQ8<>$AH8),$AH8,\nIF(AND(AR8<>$AI8,AQ8<>$AI8),$AI8,\nIF(AND(AR8<>$AJ8,AQ8<>$AJ8),$AJ8,\nIF(AND(AR8<>$AK8,AQ8<>$AK8),$AK8,\nIF(AND(AR8<>$AL8,AQ8<>$AL8),$AL8,\nIF(AND(AR8<>$AM8,AQ8<>$AM8),$AM8,\nIF(AND(AR8<>$AN8,AQ8<>$AN8),$AN8,\nIF(AND(AR8<>$AO8,AQ8<>$AO8),$AO8,\n\"\")))))))))))","v":""},{"$f":"IF(AS8=\"\",\"\",\nIF(AND(AQ8<>$AF8,AS8<>$AF8,AR8<>$AF8),$AF8,\nIF(AND(AQ8<>$AG8,AS8<>$AG8,AR8<>$AG8),$AG8,\nIF(AND(AQ8<>$AH8,AS8<>$AH8,AR8<>$AH8),$AH8,\nIF(AND(AQ8<>$AI8,AS8<>$AI8,AR8<>$AI8),$AI8,\nIF(AND(AQ8<>$AJ8,AS8<>$AJ8,AR8<>$AJ8),$AJ8,\nIF(AND(AQ8<>$AK8,AS8<>$AK8,AR8<>$AK8),$AK8,\nIF(AND(AQ8<>$AL8,AS8<>$AL8,AR8<>$AL8),$AL8,\nIF(AND(AQ8<>$AM8,AS8<>$AM8,AR8<>$AM8),$AM8,\nIF(AND(AQ8<>$AN8,AS8<>$AN8,AR8<>$AN8),$AN8,\nIF(AND(AQ8<>$AO8,AS8<>$AO8,AR8<>$AO8),$AO8,\n\"\")))))))))))","v":""},{"$f":"IF(AT8=\"\",\"\",\nIF(AND(AQ8<>$AF8,AR8<>$AF8,AT8<>$AF8,AS8<>$AF8),$AF8,\nIF(AND(AQ8<>$AG8,AR8<>$AG8,AT8<>$AG8,AS8<>$AG8),$AG8,\nIF(AND(AQ8<>$AH8,AR8<>$AH8,AT8<>$AH8,AS8<>$AH8),$AH8,\nIF(AND(AQ8<>$AI8,AR8<>$AI8,AT8<>$AI8,AS8<>$AI8),$AI8,\nIF(AND(AQ8<>$AJ8,AR8<>$AJ8,AT8<>$AJ8,AS8<>$AJ8),$AJ8,\nIF(AND(AQ8<>$AK8,AR8<>$AK8,AT8<>$AK8,AS8<>$AK8),$AK8,\nIF(AND(AQ8<>$AL8,AR8<>$AL8,AT8<>$AL8,AS8<>$AL8),$AL8,\nIF(AND(AQ8<>$AM8,AR8<>$AM8,AT8<>$AM8,AS8<>$AM8),$AM8,\nIF(AND(AQ8<>$AN8,AR8<>$AN8,AT8<>$AN8,AS8<>$AN8),$AN8,\nIF(AND(AQ8<>$AO8,AR8<>$AO8,AT8<>$AO8,AS8<>$AO8),$AO8,\n\"\")))))))))))","v":""},{"$f":"IF(AU8=\"\",\"\",\nIF(AND(AQ8<>$AF8,AR8<>$AF8,AS8<>$AF8,AU8<>$AF8,AT8<>$AF8),$AF8,\nIF(AND(AQ8<>$AG8,AR8<>$AG8,AS8<>$AG8,AU8<>$AG8,AT8<>$AG8),$AG8,\nIF(AND(AQ8<>$AH8,AR8<>$AH8,AS8<>$AH8,AU8<>$AH8,AT8<>$AH8),$AH8,\nIF(AND(AQ8<>$AI8,AR8<>$AI8,AS8<>$AI8,AU8<>$AI8,AT8<>$AI8),$AI8,\nIF(AND(AQ8<>$AJ8,AR8<>$AJ8,AS8<>$AJ8,AU8<>$AJ8,AT8<>$AJ8),$AJ8,\nIF(AND(AQ8<>$AK8,AR8<>$AK8,AS8<>$AK8,AU8<>$AK8,AT8<>$AK8),$AK8,\nIF(AND(AQ8<>$AL8,AR8<>$AL8,AS8<>$AL8,AU8<>$AL8,AT8<>$AL8),$AL8,\nIF(AND(AQ8<>$AM8,AR8<>$AM8,AS8<>$AM8,AU8<>$AM8,AT8<>$AM8),$AM8,\nIF(AND(AQ8<>$AN8,AR8<>$AN8,AS8<>$AN8,AU8<>$AN8,AT8<>$AN8),$AN8,\nIF(AND(AQ8<>$AO8,AR8<>$AO8,AS8<>$AO8,AU8<>$AO8,AT8<>$AO8),$AO8,\n\"\")))))))))))","v":""},{"$f":"IF(AV8=\"\",\"\",\nIF(AND(AQ8<>$AF8,AR8<>$AF8,AS8<>$AF8,AT8<>$AF8,AV8<>$AF8,AU8<>$AF8),$AF8,\nIF(AND(AQ8<>$AG8,AR8<>$AG8,AS8<>$AG8,AT8<>$AG8,AV8<>$AG8,AU8<>$AG8),$AG8,\nIF(AND(AQ8<>$AH8,AR8<>$AH8,AS8<>$AH8,AT8<>$AH8,AV8<>$AH8,AU8<>$AH8),$AH8,\nIF(AND(AQ8<>$AI8,AR8<>$AI8,AS8<>$AI8,AT8<>$AI8,AV8<>$AI8,AU8<>$AI8),$AI8,\nIF(AND(AQ8<>$AJ8,AR8<>$AJ8,AS8<>$AJ8,AT8<>$AJ8,AV8<>$AJ8,AU8<>$AJ8),$AJ8,\nIF(AND(AQ8<>$AK8,AR8<>$AK8,AS8<>$AK8,AT8<>$AK8,AV8<>$AK8,AU8<>$AK8),$AK8,\nIF(AND(AQ8<>$AL8,AR8<>$AL8,AS8<>$AL8,AT8<>$AL8,AV8<>$AL8,AU8<>$AL8),$AL8,\nIF(AND(AQ8<>$AM8,AR8<>$AM8,AS8<>$AM8,AT8<>$AM8,AV8<>$AM8,AU8<>$AM8),$AM8,\nIF(AND(AQ8<>$AN8,AR8<>$AN8,AS8<>$AN8,AT8<>$AN8,AV8<>$AN8,AU8<>$AN8),$AN8,\nIF(AND(AQ8<>$AO8,AR8<>$AO8,AS8<>$AO8,AT8<>$AO8,AV8<>$AO8,AU8<>$AO8),$AO8,\n\"\")))))))))))","v":""},{"$f":"IF(AW8=\"\",\"\",\nIF(AND(AQ8<>$AF8,AR8<>$AF8,AS8<>$AF8,AT8<>$AF8,AU8<>$AF8,AW8<>$AF8,AV8<>$AF8),$AF8,\nIF(AND(AQ8<>$AG8,AR8<>$AG8,AS8<>$AG8,AT8<>$AG8,AU8<>$AG8,AW8<>$AG8,AV8<>$AG8),$AG8,\nIF(AND(AQ8<>$AH8,AR8<>$AH8,AS8<>$AH8,AT8<>$AH8,AU8<>$AH8,AW8<>$AH8,AV8<>$AH8),$AH8,\nIF(AND(AQ8<>$AI8,AR8<>$AI8,AS8<>$AI8,AT8<>$AI8,AU8<>$AI8,AW8<>$AI8,AV8<>$AI8),$AI8,\nIF(AND(AQ8<>$AJ8,AR8<>$AJ8,AS8<>$AJ8,AT8<>$AJ8,AU8<>$AJ8,AW8<>$AJ8,AV8<>$AJ8),$AJ8,\nIF(AND(AQ8<>$AK8,AR8<>$AK8,AS8<>$AK8,AT8<>$AK8,AU8<>$AK8,AW8<>$AK8,AV8<>$AK8),$AK8,\nIF(AND(AQ8<>$AL8,AR8<>$AL8,AS8<>$AL8,AT8<>$AL8,AU8<>$AL8,AW8<>$AL8,AV8<>$AL8),$AL8,\nIF(AND(AQ8<>$AM8,AR8<>$AM8,AS8<>$AM8,AT8<>$AM8,AU8<>$AM8,AW8<>$AM8,AV8<>$AM8),$AM8,\nIF(AND(AQ8<>$AN8,AR8<>$AN8,AS8<>$AN8,AT8<>$AN8,AU8<>$AN8,AW8<>$AN8,AV8<>$AN8),$AN8,\nIF(AND(AQ8<>$AO8,AR8<>$AO8,AS8<>$AO8,AT8<>$AO8,AU8<>$AO8,AW8<>$AO8,AV8<>$AO8),$AO8,\n\"\")))))))))))","v":""},{"$f":"IF(AX8=\"\",\"\",\nIF(AND(AQ8<>$AF8,AR8<>$AF8,AS8<>$AF8,AT8<>$AF8,AU8<>$AF8,AV8<>$AF8,AX8<>$AF8,AW8<>$AF8),$AF8,\nIF(AND(AQ8<>$AG8,AR8<>$AG8,AS8<>$AG8,AT8<>$AG8,AU8<>$AG8,AV8<>$AG8,AX8<>$AG8,AW8<>$AG8),$AG8,\nIF(AND(AQ8<>$AH8,AR8<>$AH8,AS8<>$AH8,AT8<>$AH8,AU8<>$AH8,AV8<>$AH8,AX8<>$AH8,AW8<>$AH8),$AH8,\nIF(AND(AQ8<>$AI8,AR8<>$AI8,AS8<>$AI8,AT8<>$AI8,AU8<>$AI8,AV8<>$AI8,AX8<>$AI8,AW8<>$AI8),$AI8,\nIF(AND(AQ8<>$AJ8,AR8<>$AJ8,AS8<>$AJ8,AT8<>$AJ8,AU8<>$AJ8,AV8<>$AJ8,AX8<>$AJ8,AW8<>$AJ8),$AJ8,\nIF(AND(AQ8<>$AK8,AR8<>$AK8,AS8<>$AK8,AT8<>$AK8,AU8<>$AK8,AV8<>$AK8,AX8<>$AK8,AW8<>$AK8),$AK8,\nIF(AND(AQ8<>$AL8,AR8<>$AL8,AS8<>$AL8,AT8<>$AL8,AU8<>$AL8,AV8<>$AL8,AX8<>$AL8,AW8<>$AL8),$AL8,\nIF(AND(AQ8<>$AM8,AR8<>$AM8,AS8<>$AM8,AT8<>$AM8,AU8<>$AM8,AV8<>$AM8,AX8<>$AM8,AW8<>$AM8),$AM8,\nIF(AND(AQ8<>$AN8,AR8<>$AN8,AS8<>$AN8,AT8<>$AN8,AU8<>$AN8,AV8<>$AN8,AX8<>$AN8,AW8<>$AN8),$AN8,\nIF(AND(AQ8<>$AO8,AR8<>$AO8,AS8<>$AO8,AT8<>$AO8,AU8<>$AO8,AV8<>$AO8,AX8<>$AO8,AW8<>$AO8),$AO8,\n\"\")))))))))))","v":""},{"$f":"IF(AY8=\"\",\"\",\nIF(AND(AQ8<>$AF8,AR8<>$AF8,AS8<>$AF8,AT8<>$AF8,AU8<>$AF8,AV8<>$AF8,AW8<>$AF8,AY8<>$AF8,AX8<>$AF8),$AF8,\nIF(AND(AQ8<>$AG8,AR8<>$AG8,AS8<>$AG8,AT8<>$AG8,AU8<>$AG8,AV8<>$AG8,AW8<>$AG8,AY8<>$AG8,AX8<>$AG8),$AG8,\nIF(AND(AQ8<>$AH8,AR8<>$AH8,AS8<>$AH8,AT8<>$AH8,AU8<>$AH8,AV8<>$AH8,AW8<>$AH8,AY8<>$AH8,AX8<>$AH8),$AH8,\nIF(AND(AQ8<>$AI8,AR8<>$AI8,AS8<>$AI8,AT8<>$AI8,AU8<>$AI8,AV8<>$AI8,AW8<>$AI8,AY8<>$AI8,AX8<>$AI8),$AI8,\nIF(AND(AQ8<>$AJ8,AR8<>$AJ8,AS8<>$AJ8,AT8<>$AJ8,AU8<>$AJ8,AV8<>$AJ8,AW8<>$AJ8,AY8<>$AJ8,AX8<>$AJ8),$AJ8,\nIF(AND(AQ8<>$AK8,AR8<>$AK8,AS8<>$AK8,AT8<>$AK8,AU8<>$AK8,AV8<>$AK8,AW8<>$AK8,AY8<>$AK8,AX8<>$AK8),$AK8,\nIF(AND(AQ8<>$AL8,AR8<>$AL8,AS8<>$AL8,AT8<>$AL8,AU8<>$AL8,AV8<>$AL8,AW8<>$AL8,AY8<>$AL8,AX8<>$AL8),$AL8,\nIF(AND(AQ8<>$AM8,AR8<>$AM8,AS8<>$AM8,AT8<>$AM8,AU8<>$AM8,AV8<>$AM8,AW8<>$AM8,AY8<>$AM8,AX8<>$AM8),$AM8,\nIF(AND(AQ8<>$AN8,AR8<>$AN8,AS8<>$AN8,AT8<>$AN8,AU8<>$AN8,AV8<>$AN8,AW8<>$AN8,AY8<>$AN8,AX8<>$AN8),$AN8,\nIF(AND(AQ8<>$AO8,AR8<>$AO8,AS8<>$AO8,AT8<>$AO8,AU8<>$AO8,AV8<>$AO8,AW8<>$AO8,AY8<>$AO8,AX8<>$AO8),$AO8,\n\"\")))))))))))","v":""}]
[null,{"$f":"IF(L9=\"x\",1,IF(ISNUMBER(L9),L9,0))","v":0},0,{"$f":"I9","v":"313.000"},"Onduleur string tension spécifique","",null,null,"313.000","Onduleur string tension spécifique","Pce ",null,null,null,null,null,null,null,null,"E300_Stringwechselrichter","x",null,null,null,null,null,null,null,null,null,null,"Pce","","","","","","","","","",null,"Pce","","","","","","","","",""]
[null,{"$f":"IF(L10=\"x\",1,IF(ISNUMBER(L10),L10,0))","v":0},0,"314.000","Micro-onduleur","",null,null,"314.000","Micro-onduleur","Pce ",null,null,null,null,null,null,null,null,"E300_Stringwechselrichter","x",null,null,null,null,null,null,null,null,null,null,"Pce","","","","","","","","","",null,"Pce","",{"$f":"IF(AR10=\"\",\"\",\nIF(AND(AR10<>$AF10,AQ10<>$AF10),$AF10,\nIF(AND(AR10<>$AG10,AQ10<>$AG10),$AG10,\nIF(AND(AR10<>$AH10,AQ10<>$AH10),$AH10,\nIF(AND(AR10<>$AI10,AQ10<>$AI10),$AI10,\nIF(AND(AR10<>$AJ10,AQ10<>$AJ10),$AJ10,\nIF(AND(AR10<>$AK10,AQ10<>$AK10),$AK10,\nIF(AND(AR10<>$AL10,AQ10<>$AL10),$AL10,\nIF(AND(AR10<>$AM10,AQ10<>$AM10),$AM10,\nIF(AND(AR10<>$AN10,AQ10<>$AN10),$AN10,\nIF(AND(AR10<>$AO10,AQ10<>$AO10),$AO10,\n\"\")))))))))))","v":""},{"$f":"IF(AS10=\"\",\"\",\nIF(AND(AQ10<>$AF10,AS10<>$AF10,AR10<>$AF10),$AF10,\nIF(AND(AQ10<>$AG10,AS10<>$AG10,AR10<>$AG10),$AG10,\nIF(AND(AQ10<>$AH10,AS10<>$AH10,AR10<>$AH10),$AH10,\nIF(AND(AQ10<>$AI10,AS10<>$AI10,AR10<>$AI10),$AI10,\nIF(AND(AQ10<>$AJ10,AS10<>$AJ10,AR10<>$AJ10),$AJ10,\nIF(AND(AQ10<>$AK10,AS10<>$AK10,AR10<>$AK10),$AK10,\nIF(AND(AQ10<>$AL10,AS10<>$AL10,AR10<>$AL10),$AL10,\nIF(AND(AQ10<>$AM10,AS10<>$AM10,AR10<>$AM10),$AM10,\nIF(AND(AQ10<>$AN10,AS10<>$AN10,AR10<>$AN10),$AN10,\nIF(AND(AQ10<>$AO10,AS10<>$AO10,AR10<>$AO10),$AO10,\n\"\")))))))))))","v":""},{"$f":"IF(AT10=\"\",\"\",\nIF(AND(AQ10<>$AF10,AR10<>$AF10,AT10<>$AF10,AS10<>$AF10),$AF10,\nIF(AND(AQ10<>$AG10,AR10<>$AG10,AT10<>$AG10,AS10<>$AG10),$AG10,\nIF(AND(AQ10<>$AH10,AR10<>$AH10,AT10<>$AH10,AS10<>$AH10),$AH10,\nIF(AND(AQ10<>$AI10,AR10<>$AI10,AT10<>$AI10,AS10<>$AI10),$AI10,\nIF(AND(AQ10<>$AJ10,AR10<>$AJ10,AT10<>$AJ10,AS10<>$AJ10),$AJ10,\nIF(AND(AQ10<>$AK10,AR10<>$AK10,AT10<>$AK10,AS10<>$AK10),$AK10,\nIF(AND(AQ10<>$AL10,AR10<>$AL10,AT10<>$AL10,AS10<>$AL10),$AL10,\nIF(AND(AQ10<>$AM10,AR10<>$AM10,AT10<>$AM10,AS10<>$AM10),$AM10,\nIF(AND(AQ10<>$AN10,AR10<>$AN10,AT10<>$AN10,AS10<>$AN10),$AN10,\nIF(AND(AQ10<>$AO10,AR10<>$AO10,AT10<>$AO10,AS10<>$AO10),$AO10,\n\"\")))))))))))","v":""},{"$f":"IF(AU10=\"\",\"\",\nIF(AND(AQ10<>$AF10,AR10<>$AF10,AS10<>$AF10,AU10<>$AF10,AT10<>$AF10),$AF10,\nIF(AND(AQ10<>$AG10,AR10<>$AG10,AS10<>$AG10,AU10<>$AG10,AT10<>$AG10),$AG10,\nIF(AND(AQ10<>$AH10,AR10<>$AH10,AS10<>$AH10,AU10<>$AH10,AT10<>$AH10),$AH10,\nIF(AND(AQ10<>$AI10,AR10<>$AI10,AS10<>$AI10,AU10<>$AI10,AT10<>$AI10),$AI10,\nIF(AND(AQ10<>$AJ10,AR10<>$AJ10,AS10<>$AJ10,AU10<>$AJ10,AT10<>$AJ10),$AJ10,\nIF(AND(AQ10<>$AK10,AR10<>$AK10,AS10<>$AK10,AU10<>$AK10,AT10<>$AK10),$AK10,\nIF(AND(AQ10<>$AL10,AR10<>$AL10,AS10<>$AL10,AU10<>$AL10,AT10<>$AL10),$AL10,\nIF(AND(AQ10<>$AM10,AR10<>$AM10,AS10<>$AM10,AU10<>$AM10,AT10<>$AM10),$AM10,\nIF(AND(AQ10<>$AN10,AR10<>$AN10,AS10<>$AN10,AU10<>$AN10,AT10<>$AN10),$AN10,\nIF(AND(AQ10<>$AO10,AR10<>$AO10,AS10<>$AO10,AU10<>$AO10,AT10<>$AO10),$AO10,\n\"\")))))))))))","v":""},{"$f":"IF(AV10=\"\",\"\",\nIF(AND(AQ10<>$AF10,AR10<>$AF10,AS10<>$AF10,AT10<>$AF10,AV10<>$AF10,AU10<>$AF10),$AF10,\nIF(AND(AQ10<>$AG10,AR10<>$AG10,AS10<>$AG10,AT10<>$AG10,AV10<>$AG10,AU10<>$AG10),$AG10,\nIF(AND(AQ10<>$AH10,AR10<>$AH10,AS10<>$AH10,AT10<>$AH10,AV10<>$AH10,AU10<>$AH10),$AH10,\nIF(AND(AQ10<>$AI10,AR10<>$AI10,AS10<>$AI10,AT10<>$AI10,AV10<>$AI10,AU10<>$AI10),$AI10,\nIF(AND(AQ10<>$AJ10,AR10<>$AJ10,AS10<>$AJ10,AT10<>$AJ10,AV10<>$AJ10,AU10<>$AJ10),$AJ10,\nIF(AND(AQ10<>$AK10,AR10<>$AK10,AS10<>$AK10,AT10<>$AK10,AV10<>$AK10,AU10<>$AK10),$AK10,\nIF(AND(AQ10<>$AL10,AR10<>$AL10,AS10<>$AL10,AT10<>$AL10,AV10<>$AL10,AU10<>$AL10),$AL10,\nIF(AND(AQ10<>$AM10,AR10<>$AM10,AS10<>$AM10,AT10<>$AM10,AV10<>$AM10,AU10<>$AM10),$AM10,\nIF(AND(AQ10<>$AN10,AR10<>$AN10,AS10<>$AN10,AT10<>$AN10,AV10<>$AN10,AU10<>$AN10),$AN10,\nIF(AND(AQ10<>$AO10,AR10<>$AO10,AS10<>$AO10,AT10<>$AO10,AV10<>$AO10,AU10<>$AO10),$AO10,\n\"\")))))))))))","v":""},{"$f":"IF(AW10=\"\",\"\",\nIF(AND(AQ10<>$AF10,AR10<>$AF10,AS10<>$AF10,AT10<>$AF10,AU10<>$AF10,AW10<>$AF10,AV10<>$AF10),$AF10,\nIF(AND(AQ10<>$AG10,AR10<>$AG10,AS10<>$AG10,AT10<>$AG10,AU10<>$AG10,AW10<>$AG10,AV10<>$AG10),$AG10,\nIF(AND(AQ10<>$AH10,AR10<>$AH10,AS10<>$AH10,AT10<>$AH10,AU10<>$AH10,AW10<>$AH10,AV10<>$AH10),$AH10,\nIF(AND(AQ10<>$AI10,AR10<>$AI10,AS10<>$AI10,AT10<>$AI10,AU10<>$AI10,AW10<>$AI10,AV10<>$AI10),$AI10,\nIF(AND(AQ10<>$AJ10,AR10<>$AJ10,AS10<>$AJ10,AT10<>$AJ10,AU10<>$AJ10,AW10<>$AJ10,AV10<>$AJ10),$AJ10,\nIF(AND(AQ10<>$AK10,AR10<>$AK10,AS10<>$AK10,AT10<>$AK10,AU10<>$AK10,AW10<>$AK10,AV10<>$AK10),$AK10,\nIF(AND(AQ10<>$AL10,AR10<>$AL10,AS10<>$AL10,AT10<>$AL10,AU10<>$AL10,AW10<>$AL10,AV10<>$AL10),$AL10,\nIF(AND(AQ10<>$AM10,AR10<>$AM10,AS10<>$AM10,AT10<>$AM10,AU10<>$AM10,AW10<>$AM10,AV10<>$AM10),$AM10,\nIF(AND(AQ10<>$AN10,AR10<>$AN10,AS10<>$AN10,AT10<>$AN10,AU10<>$AN10,AW10<>$AN10,AV10<>$AN10),$AN10,\nIF(AND(AQ10<>$AO10,AR10<>$AO10,AS10<>$AO10,AT10<>$AO10,AU10<>$AO10,AW10<>$AO10,AV10<>$AO10),$AO10,\n\"\")))))))))))","v":""},{"$f":"IF(AX10=\"\",\"\",\nIF(AND(AQ10<>$AF10,AR10<>$AF10,AS10<>$AF10,AT10<>$AF10,AU10<>$AF10,AV10<>$AF10,AX10<>$AF10,AW10<>$AF10),$AF10,\nIF(AND(AQ10<>$AG10,AR10<>$AG10,AS10<>$AG10,AT10<>$AG10,AU10<>$AG10,AV10<>$AG10,AX10<>$AG10,AW10<>$AG10),$AG10,\nIF(AND(AQ10<>$AH10,AR10<>$AH10,AS10<>$AH10,AT10<>$AH10,AU10<>$AH10,AV10<>$AH10,AX10<>$AH10,AW10<>$AH10),$AH10,\nIF(AND(AQ10<>$AI10,AR10<>$AI10,AS10<>$AI10,AT10<>$AI10,AU10<>$AI10,AV10<>$AI10,AX10<>$AI10,AW10<>$AI10),$AI10,\nIF(AND(AQ10<>$AJ10,AR10<>$AJ10,AS10<>$AJ10,AT10<>$AJ10,AU10<>$AJ10,AV10<>$AJ10,AX10<>$AJ10,AW10<>$AJ10),$AJ10,\nIF(AND(AQ10<>$AK10,AR10<>$AK10,AS10<>$AK10,AT10<>$AK10,AU10<>$AK10,AV10<>$AK10,AX10<>$AK10,AW10<>$AK10),$AK10,\nIF(AND(AQ10<>$AL10,AR10<>$AL10,AS10<>$AL10,AT10<>$AL10,AU10<>$AL10,AV10<>$AL10,AX10<>$AL10,AW10<>$AL10),$AL10,\nIF(AND(AQ10<>$AM10,AR10<>$AM10,AS10<>$AM10,AT10<>$AM10,AU10<>$AM10,AV10<>$AM10,AX10<>$AM10,AW10<>$AM10),$AM10,\nIF(AND(AQ10<>$AN10,AR10<>$AN10,AS10<>$AN10,AT10<>$AN10,AU10<>$AN10,AV10<>$AN10,AX10<>$AN10,AW10<>$AN10),$AN10,\nIF(AND(AQ10<>$AO10,AR10<>$AO10,AS10<>$AO10,AT10<>$AO10,AU10<>$AO10,AV10<>$AO10,AX10<>$AO10,AW10<>$AO10),$AO10,\n\"\")))))))))))","v":""},{"$f":"IF(AY10=\"\",\"\",\nIF(AND(AQ10<>$AF10,AR10<>$AF10,AS10<>$AF10,AT10<>$AF10,AU10<>$AF10,AV10<>$AF10,AW10<>$AF10,AY10<>$AF10,AX10<>$AF10),$AF10,\nIF(AND(AQ10<>$AG10,AR10<>$AG10,AS10<>$AG10,AT10<>$AG10,AU10<>$AG10,AV10<>$AG10,AW10<>$AG10,AY10<>$AG10,AX10<>$AG10),$AG10,\nIF(AND(AQ10<>$AH10,AR10<>$AH10,AS10<>$AH10,AT10<>$AH10,AU10<>$AH10,AV10<>$AH10,AW10<>$AH10,AY10<>$AH10,AX10<>$AH10),$AH10,\nIF(AND(AQ10<>$AI10,AR10<>$AI10,AS10<>$AI10,AT10<>$AI10,AU10<>$AI10,AV10<>$AI10,AW10<>$AI10,AY10<>$AI10,AX10<>$AI10),$AI10,\nIF(AND(AQ10<>$AJ10,AR10<>$AJ10,AS10<>$AJ10,AT10<>$AJ10,AU10<>$AJ10,AV10<>$AJ10,AW10<>$AJ10,AY10<>$AJ10,AX10<>$AJ10),$AJ10,\nIF(AND(AQ10<>$AK10,AR10<>$AK10,AS10<>$AK10,AT10<>$AK10,AU10<>$AK10,AV10<>$AK10,AW10<>$AK10,AY10<>$AK10,AX10<>$AK10),$AK10,\nIF(AND(AQ10<>$AL10,AR10<>$AL10,AS10<>$AL10,AT10<>$AL10,AU10<>$AL10,AV10<>$AL10,AW10<>$AL10,AY10<>$AL10,AX10<>$AL10),$AL10,\nIF(AND(AQ10<>$AM10,AR10<>$AM10,AS10<>$AM10,AT10<>$AM10,AU10<>$AM10,AV10<>$AM10,AW10<>$AM10,AY10<>$AM10,AX10<>$AM10),$AM10,\nIF(AND(AQ10<>$AN10,AR10<>$AN10,AS10<>$AN10,AT10<>$AN10,AU10<>$AN10,AV10<>$AN10,AW10<>$AN10,AY10<>$AN10,AX10<>$AN10),$AN10,\nIF(AND(AQ10<>$AO10,AR10<>$AO10,AS10<>$AO10,AT10<>$AO10,AU10<>$AO10,AV10<>$AO10,AW10<>$AO10,AY10<>$AO10,AX10<>$AO10),$AO10,\n\"\")))))))))))","v":""}]
[null,{"$f":"B6","v":1},0,null,null,"",null,null,null,null,null,null,null,null,null,null,null,null,null,"E300_Stringwechselrichter",null,null,null,null,null,null,null,null,null,null,null,"","","","","","","","","","",null,"","","","","","","","","",""]
[null,{"$f":"IF(SUM(B13:B14)>0,1,0)","v":0},0,{"$f":"G12","v":"320.000"},{"$f":"H12","v":"Onduleur central raccordé réseau"},"","320.000","Onduleur central raccordé réseau",null,null,null,null,null,null,null,null,null,null,null,"E300_Stringwechselrichter",null,null,null,null,null,null,null,null,null,null,null,"","","","","","","","","","",null,"","","","","","","","","",""]
[null,{"$f":"IF(L13=\"x\",1,IF(ISNUMBER(L13),L13,0))","v":0},0,{"$f":"I13","v":"321.000"},{"$f":"J13 & IF(M13<>\"\",CHAR(10) & M13,\"\")","v":"Onduleur central BT"},"",null,null,"321.000","Onduleur central BT","Pce ",null,null,null,null,null,null,null,null,"E300_Stringwechselrichter","x",null,null,null,null,null,null,null,null,null,null,"Pce","","","","","","","","","",null,"Pce","","","","","","","","",""]
[null,{"$f":"IF(L14=\"x\",1,IF(ISNUMBER(L14),L14,0))","v":0},0,{"$f":"I14","v":"322.000"},"Onduleur central tension spécifique","",null,null,"322.000","Onduleur central tension spécifique","Pce ",null,null,null,null,null,null,null,null,"E300_Stringwechselrichter","x",null,null,null,null,null,null,null,null,null,null,"Pce","","","","","","","","","",null,"Pce","","","","","","","","",""]
[null,{"$f":"B12","v":0},0,null,null,"",null,null,null,null,null,null,null,null,null,null,null,null,null,null,null,null,null,null,null,null,null,null,null,null,null,"","","","","","","","","","",null,"","","","","","","","","",""]
[null,{"$f":"IF(SUM(B17:B24)>0,1,0)","v":1},0,{"$f":"G16","v":"330.000"},{"$f":"H16","v":"Boîtier de raccordement de générateur"},"","330.000","Boîtier de raccordement de générateur",null,null,null,null,null,null,null,null,null,null,null,null,"x",null,null,null,null,null,null,null,null,null,null,"Pce","","","","","","","","","",null,"Pce","","","","","","","","",""]
[null,{"$f":"IF(L17=\"x\",1,IF(ISNUMBER(L17),L17,0))","v":0},0,{"$f":"I17","v":"331.000"},{"$f":"J17 & IF(M17<>\"\",CHAR(10) & M17,\"\")","v":"sans SPD, sans coupure"},"",null,null,"331.000","sans SPD, sans coupure","Pce ",null,null,null,null,null,null,null,null,"E300_GAK","x",null,null,null,null,null,null,null,null,null,null,"Pce","","","","","","","","","",null,"Pce","","","","","","","","",""]
[null,0,0,{"$f":"I18","v":"332.000"},"sans SPD, avec coupure","",null,null,"332.000","sans SPD, avec coupure","Pce ",null,null,null,null,null,null,null,null,"E300_GAK","x",null,null,null,null,null,null,null,null,null,null,"Pce","","","","","","","","","",null,"Pce","","","","","","","","",""]
[null,0,0,"333.000","avec SPD T2, sans coupure","",null,null,"333.000","avec SPD T2, sans coupure","Pce ",null,null,null,null,null,null,null,null,"E300_GAK","x",null,null,null,null,null,null,null,null,null,null,"Pce","","","","","","","","","",null,"Pce","","","","","","","","",""]
[null,0,0,"334.000","avec SPD T2, avec coupure","",null,null,"334.000","avec SPD T2, avec coupure","Pce ",null,null,null,null,null,null,null,null,"E300_GAK","x",null,null,null,null,null,null,null,null,null,null,"Pce","","","","","","","","","",null,"Pce","","","","","","","","",""]
[null,1,1,{"$f":"I21","v":"335.000"},"avec SPD T1+2, sans coupure","Pce ",null,null,"335.000","avec SPD T1+2, sans coupure","Pce ","x",null,null,null,null,null,null,null,"E300_GAK","x",null,null,null,null,null,null,null,null,null,null,"Pce","","","","","","","","","",null,"Pce","","","","","","","","",""]
[null,0,0,"336.000","avec SPD T1+2, avec coupure","",null,null,"336.000","avec SPD T1+2, avec coupure","Pce ",null,null,null,null,null,null,null,null,"E300_GAK","x",null,null,null,null,null,null,null,null,null,null,"Pce","","","","","","","","","",null,"Pce","","","","","","","","",""]
[null,0,0,"337.000","Fusibles DC","",null,null,"337.000","Fusibles DC","Pce ",null,null,null,null,null,null,null,null,"E300_GAK","x",null,null,null,null,null,null,null,null,null,null,"Pce","","","","","","","","","",null,"Pce","","","","","","","","",""]
[null,0,0,"338.000","Cartouches SPD enfichables","",null,null,"338.000","Cartouches SPD enfichables","Pce ",null,null,null,null,null,null,null,null,"E300_GAK","x",null,null,null,null,null,null,null,null,null,null,"Pce","","","","","","","","","",null,"Pce","","","","","","","","",""]
[null,{"$f":"B16","v":1},0,null,null,"",null,null,null,null,null,null,null,null,null,null,null,null,null,null,null,null,null,null,null,null,null,null,null,null,null,"","","","","","","","","","",null,"","","","","","","","","",""]
[null,{"$f":"IF(SUM(B27:B31)>0,1,0)","v":0},0,{"$f":"G26","v":"340.000"},{"$f":"H26","v":"Batteries systèmes DC"},"","340.000","Batteries systèmes DC",null,null,null,null,null,null,null,null,null,null,null,null,null,null,null,null,null,null,null,null,null,null,null,"","","","","","","","","","",null,"","","","","","","","","",""]
[null,{"$f":"IF(L27=\"x\",1,IF(ISNUMBER(L27),L27,0))","v":0},0,{"$f":"I27","v":"341.000"},{"$f":"J27 & IF(M27<>\"\",CHAR(10) & M27,\"\")","v":"Conteneur (application extérieure, système complet)"},"",null,null,"341.000","Conteneur (application extérieure, système complet)","Pce ",null,null,null,null,null,null,null,null,"E300_Batterie","x",null,null,null,null,null,null,null,null,null,null,"Pce","","","","","","","","","",null,"Pce","","","","","","","","",""]
[null,{"$f":"IF(L28=\"x\",1,IF(ISNUMBER(L28),L28,0))","v":0},0,{"$f":"I28","v":"342.000"},"Système de batterie (y compris onduleur et régulateur de charge)","",null,null,"342.000","Système de batterie (y compris onduleur et régulateur de charge)","Pce ",null,null,null,null,null,null,null,null,"E300_Batterie","x",null,null,null,null,null,null,null,null,null,null,"Pce","","","","","","","","","",null,"Pce","","","","","","","","",""]
[null,{"$f":"IF(L29=\"x\",1,IF(ISNUMBER(L29),L29,0))","v":0},0,"343.000","Système de batterie (sans onduleur et régulateur de charge)","",null,null,"343.000","Système de batterie (sans onduleur et régulateur de charge)","Pce ",null,null,null,null,null,null,null,null,"E300_Batterie","x",null,null,null,null,null,null,null,null,null,null,"Pce","","","","","","","","","",null,"Pce","","","","","","","","",""]
[null,{"$f":"IF(L30=\"x\",1,IF(ISNUMBER(L30),L30,0))","v":0},0,"344.000","Régulateur de charge de batterie","",null,null,"344.000","Régulateur de charge de batterie","Pce ",null,null,null,null,null,null,null,null,"E300_Batterie","x",null,null,null,null,null,null,null,null,null,null,"Pce","","","","","","","","","",null,"Pce","","","","","","","","",""]
[null,{"$f":"IF(L31=\"x\",1,IF(ISNUMBER(L31),L31,0))","v":0},0,"345.000","Unité de stockage (pour batterie modulaire)","",null,null,"345.000","Unité de stockage (pour batterie modulaire)","Pce ",null,null,null,null,null,null,null,null,"E300_Batterie",null,null,null,null,null,null,null,null,null,null,null,"","","","","","","","","","",null,"","","","","","","","","",""]
[null,{"$f":"B26","v":0},0,null,null,"",null,null,null,null,null,null,null,null,null,null,null,null,null,null,null,null,null,null,null,null,null,null,null,null,null,"","","","","","","","","","",null,"","","","","","","","","",""]
[null,{"$f":"IF(SUM(B34:B36)>0,1,0)","v":0},0,{"$f":"G33","v":"350.000"},{"$f":"H33","v":"Batterie système AC"},"","350.000","Batterie système AC",null,null,null,null,null,null,null,null,null,null,null,null,null,null,null,null,null,null,null,null,null,null,null,"","","","","","","","","","",null,"","","","","","","","","",""]
[null,{"$f":"IF(L34=\"x\",1,IF(ISNUMBER(L34),L34,0))","v":0},0,{"$f":"I34","v":"351.000"},{"$f":"J34 & IF(M34<>\"\",CHAR(10) & M34,\"\")","v":"Module conteneur (application extérieure, système complet)"},"",null,null,"351.000","Module conteneur (application extérieure, système complet)","Pce ",null,null,null,null,null,null,null,null,"E300_Batterie","x",null,null,null,null,null,null,null,null,null,null,"Pce","","","","","","","","","",null,"Pce","","","","","","","","",""]
[null,{"$f":"IF(L35=\"x\",1,IF(ISNUMBER(L35),L35,0))","v":0},0,{"$f":"I35","v":"352.000"},"Systèmes de batteries (y compris onduleur)","",null,null,"352.000","Systèmes de batteries (y compris onduleur)","Pce ",null,null,null,null,null,null,null,null,"E300_Batterie","x",null,null,null,null,null,null,null,null,null,null,"Pce","","","","","","","","","",null,"Pce","","","","","","","","",""]
[null,{"$f":"IF(L36=\"x\",1,IF(ISNUMBER(L36),L36,0))","v":0},0,{"$f":"I36","v":"353.000"},"Unité de stockage (pour batterie modulaire)","",null,null,"353.000","Unité de stockage (pour batterie modulaire)","Pce ",null,null,null,null,null,null,null,null,"E300_Batterie","x",null,null,null,null,null,null,null,null,null,null,"Pce","","","","","","","","","",null,"Pce","","","","","","","","",""]
[null,null,0,null,null,"",null,null,null,null,null,null,null,null,null,null,null,null,null,null,null,null,null,null,null,null,null,null,null,null,null,"","","","","","","","","","",null,"","","","","","","","","",""]
[null,{"$f":"IF(SUM(B39:B46)>0,1,0)","v":1},0,{"$f":"G38","v":"360.000"},{"$f":"H38","v":"Équipements périphériques onduleur/batterie"},"","360.000","Équipements périphériques onduleur/batterie",null,null,null,null,null,null,null,null,null,null,null,null,null,null,null,null,null,null,null,null,null,null,null,"","","","","","","","","","",null,"",{"$f":"IF(AQ38=\"\",\"\",\nIF(AQ38<>$AF38,$AF38,\nIF(AQ38<>$AG38,$AG38,\nIF(AQ38<>$AH38,$AH38,\nIF(AQ38<>$AI38,$AI38,\nIF(AQ38<>$AJ38,$AJ38,\nIF(AQ38<>$AK38,$AK38,\nIF(AQ38<>$AL38,$AL38,\nIF(AQ38<>$AM38,$AM38,\nIF(AQ38<>$AN38,$AN38,\nIF(AQ38<>$AO38,$AO38,\n\"\")))))))))))","v":""},"","","","","","","",""]
[null,{"$f":"IF(L39=\"x\",1,IF(ISNUMBER(L39),L39,0))","v":0},0,{"$f":"I39","v":"361.000"},{"$f":"J39 & IF(M39<>\"\",CHAR(10) & M39,\"\")","v":"Optimiseur de module"},"",null,null,"361.000","Optimiseur de module","Pce ",null,null,null,null,null,null,null,null,"E300_Moduloptimierer","x",null,null,null,null,null,null,null,null,null,null,"Pce","","","","","","","","","",null,"Pce","","","","","","","","",""]
[null,0,0,{"$f":"I40","v":"362.000"},"Optimiseur de string","",null,null,"362.000","Optimiseur de string","Pce ",null,null,null,null,null,null,null,null,"E300_Stringoptimierer","x",null,null,null,null,null,null,null,null,null,null,"Pce","","","","","","","","","",null,"Pce","","","","","","","","",""]
[null,0,0,{"$f":"I41","v":"363.000"},"Datalogger","",null,null,"363.000","Datalogger","Pce ",null,null,null,null,null,null,null,null,"E300_Datalogger","x",null,null,null,null,null,null,null,null,null,null,"Pce","","","","","","","","","",null,"Pce","","","","","","","","",""]
[null,0,0,"364.000","Capteurs météorologiques","",null,null,"364.000","Capteurs météorologiques","Pce ",null,null,null,null,null,null,null,null,"E300_Wettersensoren","x",null,null,null,null,null,null,null,null,null,null,"Pce","","","","","","","","","",null,"Pce","",{"$f":"IF(AR42=\"\",\"\",\nIF(AND(AR42<>$AF42,AQ42<>$AF42),$AF42,\nIF(AND(AR42<>$AG42,AQ42<>$AG42),$AG42,\nIF(AND(AR42<>$AH42,AQ42<>$AH42),$AH42,\nIF(AND(AR42<>$AI42,AQ42<>$AI42),$AI42,\nIF(AND(AR42<>$AJ42,AQ42<>$AJ42),$AJ42,\nIF(AND(AR42<>$AK42,AQ42<>$AK42),$AK42,\nIF(AND(AR42<>$AL42,AQ42<>$AL42),$AL42,\nIF(AND(AR42<>$AM42,AQ42<>$AM42),$AM42,\nIF(AND(AR42<>$AN42,AQ42<>$AN42),$AN42,\nIF(AND(AR42<>$AO42,AQ42<>$AO42),$AO42,\n\"\")))))))))))","v":""},{"$f":"IF(AS42=\"\",\"\",\nIF(AND(AQ42<>$AF42,AS42<>$AF42,AR42<>$AF42),$AF42,\nIF(AND(AQ42<>$AG42,AS42<>$AG42,AR42<>$AG42),$AG42,\nIF(AND(AQ42<>$AH42,AS42<>$AH42,AR42<>$AH42),$AH42,\nIF(AND(AQ42<>$AI42,AS42<>$AI42,AR42<>$AI42),$AI42,\nIF(AND(AQ42<>$AJ42,AS42<>$AJ42,AR42<>$AJ42),$AJ42,\nIF(AND(AQ42<>$AK42,AS42<>$AK42,AR42<>$AK42),$AK42,\nIF(AND(AQ42<>$AL42,AS42<>$AL42,AR42<>$AL42),$AL42,\nIF(AND(AQ42<>$AM42,AS42<>$AM42,AR42<>$AM42),$AM42,\nIF(AND(AQ42<>$AN42,AS42<>$AN42,AR42<>$AN42),$AN42,\nIF(AND(AQ42<>$AO42,AS42<>$AO42,AR42<>$AO42),$AO42,\n\"\")))))))))))","v":""},{"$f":"IF(AT42=\"\",\"\",\nIF(AND(AQ42<>$AF42,AR42<>$AF42,AT42<>$AF42,AS42<>$AF42),$AF42,\nIF(AND(AQ42<>$AG42,AR42<>$AG42,AT42<>$AG42,AS42<>$AG42),$AG42,\nIF(AND(AQ42<>$AH42,AR42<>$AH42,AT42<>$AH42,AS42<>$AH42),$AH42,\nIF(AND(AQ42<>$AI42,AR42<>$AI42,AT42<>$AI42,AS42<>$AI42),$AI42,\nIF(AND(AQ42<>$AJ42,AR42<>$AJ42,AT42<>$AJ42,AS42<>$AJ42),$AJ42,\nIF(AND(AQ42<>$AK42,AR42<>$AK42,AT42<>$AK42,AS42<>$AK42),$AK42,\nIF(AND(AQ42<>$AL42,AR42<>$AL42,AT42<>$AL42,AS42<>$AL42),$AL42,\nIF(AND(AQ42<>$AM42,AR42<>$AM42,AT42<>$AM42,AS42<>$AM42),$AM42,\nIF(AND(AQ42<>$AN42,AR42<>$AN42,AT42<>$AN42,AS42<>$AN42),$AN42,\nIF(AND(AQ42<>$AO42,AR42<>$AO42,AT42<>$AO42,AS42<>$AO42),$AO42,\n\"\")))))))))))","v":""},{"$f":"IF(AU42=\"\",\"\",\nIF(AND(AQ42<>$AF42,AR42<>$AF42,AS42<>$AF42,AU42<>$AF42,AT42<>$AF42),$AF42,\nIF(AND(AQ42<>$AG42,AR42<>$AG42,AS42<>$AG42,AU42<>$AG42,AT42<>$AG42),$AG42,\nIF(AND(AQ42<>$AH42,AR42<>$AH42,AS42<>$AH42,AU42<>$AH42,AT42<>$AH42),$AH42,\nIF(AND(AQ42<>$AI42,AR42<>$AI42,AS42<>$AI42,AU42<>$AI42,AT42<>$AI42),$AI42,\nIF(AND(AQ42<>$AJ42,AR42<>$AJ42,AS42<>$AJ42,AU42<>$AJ42,AT42<>$AJ42),$AJ42,\nIF(AND(AQ42<>$AK42,AR42<>$AK42,AS42<>$AK42,AU42<>$AK42,AT42<>$AK42),$AK42,\nIF(AND(AQ42<>$AL42,AR42<>$AL42,AS42<>$AL42,AU42<>$AL42,AT42<>$AL42),$AL42,\nIF(AND(AQ42<>$AM42,AR42<>$AM42,AS42<>$AM42,AU42<>$AM42,AT42<>$AM42),$AM42,\nIF(AND(AQ42<>$AN42,AR42<>$AN42,AS42<>$AN42,AU42<>$AN42,AT42<>$AN42),$AN42,\nIF(AND(AQ42<>$AO42,AR42<>$AO42,AS42<>$AO42,AU42<>$AO42,AT42<>$AO42),$AO42,\n\"\")))))))))))","v":""},{"$f":"IF(AV42=\"\",\"\",\nIF(AND(AQ42<>$AF42,AR42<>$AF42,AS42<>$AF42,AT42<>$AF42,AV42<>$AF42,AU42<>$AF42),$AF42,\nIF(AND(AQ42<>$AG42,AR42<>$AG42,AS42<>$AG42,AT42<>$AG42,AV42<>$AG42,AU42<>$AG42),$AG42,\nIF(AND(AQ42<>$AH42,AR42<>$AH42,AS42<>$AH42,AT42<>$AH42,AV42<>$AH42,AU42<>$AH42),$AH42,\nIF(AND(AQ42<>$AI42,AR42<>$AI42,AS42<>$AI42,AT42<>$AI42,AV42<>$AI42,AU42<>$AI42),$AI42,\nIF(AND(AQ42<>$AJ42,AR42<>$AJ42,AS42<>$AJ42,AT42<>$AJ42,AV42<>$AJ42,AU42<>$AJ42),$AJ42,\nIF(AND(AQ42<>$AK42,AR42<>$AK42,AS42<>$AK42,AT42<>$AK42,AV42<>$AK42,AU42<>$AK42),$AK42,\nIF(AND(AQ42<>$AL42,AR42<>$AL42,AS42<>$AL42,AT42<>$AL42,AV42<>$AL42,AU42<>$AL42),$AL42,\nIF(AND(AQ42<>$AM42,AR42<>$AM42,AS42<>$AM42,AT42<>$AM42,AV42<>$AM42,AU42<>$AM42),$AM42,\nIF(AND(AQ42<>$AN42,AR42<>$AN42,AS42<>$AN42,AT42<>$AN42,AV42<>$AN42,AU42<>$AN42),$AN42,\nIF(AND(AQ42<>$AO42,AR42<>$AO42,AS42<>$AO42,AT42<>$AO42,AV42<>$AO42,AU42<>$AO42),$AO42,\n\"\")))))))))))","v":""},{"$f":"IF(AW42=\"\",\"\",\nIF(AND(AQ42<>$AF42,AR42<>$AF42,AS42<>$AF42,AT42<>$AF42,AU42<>$AF42,AW42<>$AF42,AV42<>$AF42),$AF42,\nIF(AND(AQ42<>$AG42,AR42<>$AG42,AS42<>$AG42,AT42<>$AG42,AU42<>$AG42,AW42<>$AG42,AV42<>$AG42),$AG42,\nIF(AND(AQ42<>$AH42,AR42<>$AH42,AS42<>$AH42,AT42<>$AH42,AU42<>$AH42,AW42<>$AH42,AV42<>$AH42),$AH42,\nIF(AND(AQ42<>$AI42,AR42<>$AI42,AS42<>$AI42,AT42<>$AI42,AU42<>$AI42,AW42<>$AI42,AV42<>$AI42),$AI42,\nIF(AND(AQ42<>$AJ42,AR42<>$AJ42,AS42<>$AJ42,AT42<>$AJ42,AU42<>$AJ42,AW42<>$AJ42,AV42<>$AJ42),$AJ42,\nIF(AND(AQ42<>$AK42,AR42<>$AK42,AS42<>$AK42,AT42<>$AK42,AU42<>$AK42,AW42<>$AK42,AV42<>$AK42),$AK42,\nIF(AND(AQ42<>$AL42,AR42<>$AL42,AS42<>$AL42,AT42<>$AL42,AU42<>$AL42,AW42<>$AL42,AV42<>$AL42),$AL42,\nIF(AND(AQ42<>$AM42,AR42<>$AM42,AS42<>$AM42,AT42<>$AM42,AU42<>$AM42,AW42<>$AM42,AV42<>$AM42),$AM42,\nIF(AND(AQ42<>$AN42,AR42<>$AN42,AS42<>$AN42,AT42<>$AN42,AU42<>$AN42,AW42<>$AN42,AV42<>$AN42),$AN42,\nIF(AND(AQ42<>$AO42,AR42<>$AO42,AS42<>$AO42,AT42<>$AO42,AU42<>$AO42,AW42<>$AO42,AV42<>$AO42),$AO42,\n\"\")))))))))))","v":""},{"$f":"IF(AX42=\"\",\"\",\nIF(AND(AQ42<>$AF42,AR42<>$AF42,AS42<>$AF42,AT42<>$AF42,AU42<>$AF42,AV42<>$AF42,AX42<>$AF42,AW42<>$AF42),$AF42,\nIF(AND(AQ42<>$AG42,AR42<>$AG42,AS42<>$AG42,AT42<>$AG42,AU42<>$AG42,AV42<>$AG42,AX42<>$AG42,AW42<>$AG42),$AG42,\nIF(AND(AQ42<>$AH42,AR42<>$AH42,AS42<>$AH42,AT42<>$AH42,AU42<>$AH42,AV42<>$AH42,AX42<>$AH42,AW42<>$AH42),$AH42,\nIF(AND(AQ42<>$AI42,AR42<>$AI42,AS42<>$AI42,AT42<>$AI42,AU42<>$AI42,AV42<>$AI42,AX42<>$AI42,AW42<>$AI42),$AI42,\nIF(AND(AQ42<>$AJ42,AR42<>$AJ42,AS42<>$AJ42,AT42<>$AJ42,AU42<>$AJ42,AV42<>$AJ42,AX42<>$AJ42,AW42<>$AJ42),$AJ42,\nIF(AND(AQ42<>$AK42,AR42<>$AK42,AS42<>$AK42,AT42<>$AK42,AU42<>$AK42,AV42<>$AK42,AX42<>$AK42,AW42<>$AK42),$AK42,\nIF(AND(AQ42<>$AL42,AR42<>$AL42,AS42<>$AL42,AT42<>$AL42,AU42<>$AL42,AV42<>$AL42,AX42<>$AL42,AW42<>$AL42),$AL42,\nIF(AND(AQ42<>$AM42,AR42<>$AM42,AS42<>$AM42,AT42<>$AM42,AU42<>$AM42,AV42<>$AM42,AX42<>$AM42,AW42<>$AM42),$AM42,\nIF(AND(AQ42<>$AN42,AR42<>$AN42,AS42<>$AN42,AT42<>$AN42,AU42<>$AN42,AV42<>$AN42,AX42<>$AN42,AW42<>$AN42),$AN42,\nIF(AND(AQ42<>$AO42,AR42<>$AO42,AS42<>$AO42,AT42<>$AO42,AU42<>$AO42,AV42<>$AO42,AX42<>$AO42,AW42<>$AO42),$AO42,\n\"\")))))))))))","v":""},{"$f":"IF(AY42=\"\",\"\",\nIF(AND(AQ42<>$AF42,AR42<>$AF42,AS42<>$AF42,AT42<>$AF42,AU42<>$AF42,AV42<>$AF42,AW42<>$AF42,AY42<>$AF42,AX42<>$AF42),$AF42,\nIF(AND(AQ42<>$AG42,AR42<>$AG42,AS42<>$AG42,AT42<>$AG42,AU42<>$AG42,AV42<>$AG42,AW42<>$AG42,AY42<>$AG42,AX42<>$AG42),$AG42,\nIF(AND(AQ42<>$AH42,AR42<>$AH42,AS42<>$AH42,AT42<>$AH42,AU42<>$AH42,AV42<>$AH42,AW42<>$AH42,AY42<>$AH42,AX42<>$AH42),$AH42,\nIF(AND(AQ42<>$AI42,AR42<>$AI42,AS42<>$AI42,AT42<>$AI42,AU42<>$AI42,AV42<>$AI42,AW42<>$AI42,AY42<>$AI42,AX42<>$AI42),$AI42,\nIF(AND(AQ42<>$AJ42,AR42<>$AJ42,AS42<>$AJ42,AT42<>$AJ42,AU42<>$AJ42,AV42<>$AJ42,AW42<>$AJ42,AY42<>$AJ42,AX42<>$AJ42),$AJ42,\nIF(AND(AQ42<>$AK42,AR42<>$AK42,AS42<>$AK42,AT42<>$AK42,AU42<>$AK42,AV42<>$AK42,AW42<>$AK42,AY42<>$AK42,AX42<>$AK42),$AK42,\nIF(AND(AQ42<>$AL42,AR42<>$AL42,AS42<>$AL42,AT42<>$AL42,AU42<>$AL42,AV42<>$AL42,AW42<>$AL42,AY42<>$AL42,AX42<>$AL42),$AL42,\nIF(AND(AQ42<>$AM42,AR42<>$AM42,AS42<>$AM42,AT42<>$AM42,AU42<>$AM42,AV42<>$AM42,AW42<>$AM42,AY42<>$AM42,AX42<>$AM42),$AM42,\nIF(AND(AQ42<>$AN42,AR42<>$AN42,AS42<>$AN42,AT42<>$AN42,AU42<>$AN42,AV42<>$AN42,AW42<>$AN42,AY42<>$AN42,AX42<>$AN42),$AN42,\nIF(AND(AQ42<>$AO42,AR42<>$AO42,AS42<>$AO42,AT42<>$AO42,AU42<>$AO42,AV42<>$AO42,AW42<>$AO42,AY42<>$AO42,AX42<>$AO42),$AO42,\n\"\")))))))))))","v":""}]
[null,1,1,"365.000","SmartMeter\nPropriétés : \nTriphasé\nMesure directe","Pce ",null,null,"365.000","SmartMeter","Pce ","x","Propriétés : \nTriphasé\nMesure directe",null,null,null,null,null,null,"E300_SmartMeter","x",null,null,null,null,null,null,null,null,null,null,"Pce","","","","","","","","","",null,"Pce","","","","","","","","",""]
[null,1,1,"366.000","Commande consommateur (p. ex. élément chauffant électrique ou borne de recharge électrique)\nPropriétés : \nNombre de contacts sans potentiel","Pce ",null,null,"366.000","Commande consommateur (p. ex. élément chauffant électrique ou borne de recharge électrique)","Pce ","x","Propriétés : \nNombre de contacts sans potentiel",null,null,null,null,null,null,"E300_Steuerung_Verbraucher","x",null,null,null,null,null,null,null,null,"x",null,"Pce","forf.","forf.","forf.","forf.","forf.","forf.","forf.","forf.","forf.",null,"Pce","forf.","","","","","","","",""]
[null,1,1,"367.000",{"$f":"J45","v":"Routeur avec carte SIM"},"Pce ",null,null,"367.000","Routeur avec carte SIM","Pce ","x",null,null,null,null,null,null,null,null,"x",null,null,null,null,null,null,null,null,null,null,"Pce","","","","","","","","","",null,"Pce","","","","","","","","",""]
[null,0,0,"368.000","Visualisation","",null,null,"368.000","Visualisation","Pce ",null,null,null,null,null,null,null,null,"E300_Visualisierung","x",null,null,null,null,null,null,null,null,"x",null,"Pce","forf.","forf.","forf.","forf.","forf.","forf.","forf.","forf.","forf.",null,"Pce","forf.","","","","","","","",""]
[null,{"$f":"B38","v":1},0,null,null,"",null,null,null,null,null,null,null,null,null,null,null,null,null,null,null,null,null,null,null,null,null,null,null,null,null,"","","","","","","","","","",null,"","","","","","","","","",""]
[null,{"$f":"IF(SUM(B49:B51)>0,1,0)","v":1},0,{"$f":"G48","v":"370.000"},{"$f":"H48","v":"Consommateurs commandés/SmartEnergy"},"","370.000","Consommateurs commandés/SmartEnergy",null,null,null,null,null,null,null,null,null,null,null,null,null,null,null,null,null,null,null,null,null,null,null,"","","","","","","","","","",null,"","","","","","","","","",""]
[null,{"$f":"IF(L49=\"x\",1,IF(ISNUMBER(L49),L49,0))","v":1},1,{"$f":"I49","v":"371.000"},{"$f":"J49 & IF(M49<>\"\",CHAR(10) & M49,\"\")","v":"Bornes de recharge électrique \nPropriétés : \nType de connecteur (type 1, type 2, CCS, CHAdeMO)"},"Pce ",null,null,"371.000","Bornes de recharge électrique ","Pce ","x","Propriétés : \nType de connecteur (type 1, type 2, CCS, CHAdeMO)",null,null,null,null,null,null,"E300_Ladestationen","x",null,null,null,null,null,null,null,null,null,null,"Pce","","","","","","","","","",null,"Pce","","","","","","","","",""]
[null,{"$f":"IF(L50=\"x\",1,IF(ISNUMBER(L50),L50,0))","v":0},0,{"$f":"I50","v":"372.000"},"Générateur de chaleur","",null,null,"372.000","Générateur de chaleur","Pce ",null,null,null,null,null,null,null,null,"E300_Wärmeerzeuger","x",null,null,null,null,null,null,null,null,null,null,"Pce","","","","","","","","","",null,"Pce","","","","","","","","",""]
[null,{"$f":"IF(L51=\"x\",1,IF(ISNUMBER(L51),L51,0))","v":0},0,{"$f":"I51","v":"373.000"},"Appareils SmartEnergy","",null,null,"373.000","Appareils SmartEnergy","Pce ",null,null,null,null,null,null,null,null,"E300_SmartEnergy","x",null,null,null,null,null,null,null,null,null,null,"Pce","","","","","","","","","",null,"Pce","","","","","","","","",""]
[null,{"$f":"B48","v":1},0,null,null,"",null,null,null,null,null,null,null,null,null,null,null,null,null,null,null,null,null,null,null,null,null,null,null,null,null,"","","","","","","","","","",null,"","","","","","","","","",""]
[null,{"$f":"IF(SUM(B54:B60)>0,1,0)","v":0},0,{"$f":"G53","v":"380.000"},{"$f":"H53","v":"Composants pour installation en îlotage"},"","380.000","Composants pour installation en îlotage",null,null,null,null,null,null,null,null,null,null,null,null,null,null,null,null,null,null,null,null,null,null,null,"","","","","","","","","","",null,"","","","","","","","","",""]
[null,{"$f":"IF(L54=\"x\",1,IF(ISNUMBER(L54),L54,0))","v":0},0,{"$f":"I54","v":"381.000"},{"$f":"J54 & IF(M54<>\"\",CHAR(10) & M54,\"\")","v":"Onduleurs en îlotage"},"",null,null,"381.000","Onduleurs en îlotage","Pce ",null,null,null,null,null,null,null,null,"E300_Inselwechselrichter","x",null,null,null,null,null,null,null,null,null,null,"Pce","","","","","","","","","",null,"Pce","","","","","","","","",""]
[null,0,0,{"$f":"I55","v":"382.000"},{"$f":"J55","v":"Régulateur de charge solaire"},"",null,null,"382.000","Régulateur de charge solaire","Pce ",null,null,null,null,null,null,null,null,null,"x",null,null,null,null,null,null,null,null,null,null,"Pce","","","","","","","","","",null,"Pce","","","","","","","","",""]
[null,0,0,{"$f":"I56","v":"383.000"},{"$f":"J56","v":"Batteries autonomes"},"",null,null,"383.000","Batteries autonomes","Pce ",null,null,null,null,null,null,null,null,null,"x",null,null,null,null,null,null,null,null,null,null,"Pce","","","","","","","","","",null,"Pce","","","","","","","","",""]
[null,0,0,"384.000","Élément chauffant électrique DC (raccordement direct au générateur PV)","",null,null,"384.000","Élément chauffant électrique DC (raccordement direct au générateur PV)","Pce ",null,null,null,null,null,null,null,null,null,"x",null,null,null,null,null,null,null,null,null,null,"Pce","","","","","","","","","",null,"Pce","","","","","","","","",""]
[null,0,0,"385.000","Système d’éclairage DC","",null,null,"385.000","Système d’éclairage DC","Pce ",null,null,null,null,null,null,null,null,null,"x",null,null,null,null,null,null,null,null,"x",null,"Pce","forf.","forf.","forf.","forf.","forf.","forf.","forf.","forf.","forf.",null,"Pce","forf.","","","","","","","",""]
[null,0,0,"386.000","Réfrigérateur DC","",null,null,"386.000","Réfrigérateur DC","Pce ",null,null,null,null,null,null,null,null,null,"x",null,null,null,null,null,null,null,null,"x",null,"Pce","forf.","forf.","forf.","forf.","forf.","forf.","forf.","forf.","forf.",null,"Pce","forf.","","","","","","","",""]
[null,0,0,"387.000","Autres","",null,null,"387.000","Autres","Pce ",null,null,null,null,null,null,null,null,null,"x",null,null,null,null,null,null,null,null,"x",null,"Pce","forf.","forf.","forf.","forf.","forf.","forf.","forf.","forf.","forf.",null,"Pce","forf.","","","","","","","",""]
[null,null,null,null,null,""]

{"sheet":"400 Installation DC","index":6,"n_rows":52,"n_cols":52,"rows_kept":52,"cut":false,"hidden":false,"merged":[[1,6,1,7],[3,6,3,7],[3,8,3,9],[2,6,2,9],[0,19,0,51]]}
[null,null,null,null,null,null,null,null,null,null,null,null,null,null,null,null,null,null,null,"AUSBLENDEN"]
[null,null,null,null,"Ausblenden",null,"Niveau de structure 1 Obligatoire :",null,400,"Installation DC"]
[null,null,null,null,null,null,"Optional"]
[null,"Show","Fill","SOQ-Nr.","Beschreibung","Einheit","Niveau de structure 2",null,"Niveau de structure 3",null,"Unité de prestation","Ajouter une position","E-Box",null,null,null,null,null,null,"E-Box","Pce","Module","ml","m2","m3","h","mois","a","kWp","forf.",null,"Pos1","Pos2","Pos3","Pos4","Pos5","Pos6","Pos7","Pos8","Pos9","Pos10",null,"Pos1","Pos2","Pos3","Pos4","Pos5","Pos6","Pos7","Pos8","Pos9","Pos10"]
[]
[null,{"$f":"IF(L6=\"x\",1,0)","v":0},{"$f":"IF(L6=\"x\",1,IF(ISNUMBER(L6),1,0))","v":0},{"$f":"G6","v":"400.000"},{"$f":"H6","v":"Installation DC"},{"$f":"IF(C6=1,K6,\"\")","v":""},"400.000","Installation DC",null,null,"forf.",null,null,null,null,null,null,null,null,"E400_DC_Installation",null,null,null,null,null,null,null,null,null,"x",null,{"$f":"\nIF(U6=\"x\",U$4,\nIF(V6=\"x\",V$4,\nIF(W6=\"x\",W$4,\nIF(X6=\"x\",X$4,\nIF(Y6=\"x\",Y$4,\nIF(Z6=\"x\",Z$4,\nIF(AA6=\"x\",AA$4,\nIF(AB6=\"x\",AB$4,\nIF(AC6=\"x\",AC$4,\nIF(AD6=\"x\",AD$4,\n\"\"))))))))))","v":"forf."},{"$f":"\nIF(V6=\"x\",V$4,\nIF(W6=\"x\",W$4,\nIF(X6=\"x\",X$4,\nIF(Y6=\"x\",Y$4,\nIF(Z6=\"x\",Z$4,\nIF(AA6=\"x\",AA$4,\nIF(AB6=\"x\",AB$4,\nIF(AC6=\"x\",AC$4,\nIF(AD6=\"x\",AD$4,\n\"\")))))))))","v":"forf."},{"$f":"\nIF(W6=\"x\",W$4,\nIF(X6=\"x\",X$4,\nIF(Y6=\"x\",Y$4,\nIF(Z6=\"x\",Z$4,\nIF(AA6=\"x\",AA$4,\nIF(AB6=\"x\",AB$4,\nIF(AC6=\"x\",AC$4,\nIF(AD6=\"x\",AD$4,\n\"\"))))))))","v":"forf."},{"$f":"\nIF(X6=\"x\",X$4,\nIF(Y6=\"x\",Y$4,\nIF(Z6=\"x\",Z$4,\nIF(AA6=\"x\",AA$4,\nIF(AB6=\"x\",AB$4,\nIF(AC6=\"x\",AC$4,\nIF(AD6=\"x\",AD$4,\n\"\")))))))","v":"forf."},{"$f":"\nIF(Y6=\"x\",Y$4,\nIF(Z6=\"x\",Z$4,\nIF(AA6=\"x\",AA$4,\nIF(AB6=\"x\",AB$4,\nIF(AC6=\"x\",AC$4,\nIF(AD6=\"x\",AD$4,\n\"\"))))))","v":"forf."},{"$f":"\nIF(Z6=\"x\",Z$4,\nIF(AA6=\"x\",AA$4,\nIF(AB6=\"x\",AB$4,\nIF(AC6=\"x\",AC$4,\nIF(AD6=\"x\",AD$4,\n\"\")))))","v":"forf."},{"$f":"\nIF(AA6=\"x\",AA$4,\nIF(AB6=\"x\",AB$4,\nIF(AC6=\"x\",AC$4,\nIF(AD6=\"x\",AD$4,\n\"\"))))","v":"forf."},{"$f":"\nIF(AB6=\"x\",AB$4,\nIF(AC6=\"x\",AC$4,\nIF(AD6=\"x\",AD$4,\n\"\")))","v":"forf."},{"$f":"\nIF(AC6=\"x\",AC$4,\nIF(AD6=\"x\",AD$4,\n\"\"))","v":"forf."},{"$f":"\nIF(AD6=\"x\",AD$4,\n\"\")","v":"forf."},null,{"$f":"AF6","v":"forf."},{"$f":"IF(AQ6=\"\",\"\",\nIF(AQ6<>$AF6,$AF6,\nIF(AQ6<>$AG6,$AG6,\nIF(AQ6<>$AH6,$AH6,\nIF(AQ6<>$AI6,$AI6,\nIF(AQ6<>$AJ6,$AJ6,\nIF(AQ6<>$AK6,$AK6,\nIF(AQ6<>$AL6,$AL6,\nIF(AQ6<>$AM6,$AM6,\nIF(AQ6<>$AN6,$AN6,\nIF(AQ6<>$AO6,$AO6,\n\"\")))))))))))","v":""},{"$f":"IF(AR6=\"\",\"\",\nIF(AND(AR6<>$AF6,AQ6<>$AF6),$AF6,\nIF(AND(AR6<>$AG6,AQ6<>$AG6),$AG6,\nIF(AND(AR6<>$AH6,AQ6<>$AH6),$AH6,\nIF(AND(AR6<>$AI6,AQ6<>$AI6),$AI6,\nIF(AND(AR6<>$AJ6,AQ6<>$AJ6),$AJ6,\nIF(AND(AR6<>$AK6,AQ6<>$AK6),$AK6,\nIF(AND(AR6<>$AL6,AQ6<>$AL6),$AL6,\nIF(AND(AR6<>$AM6,AQ6<>$AM6),$AM6,\nIF(AND(AR6<>$AN6,AQ6<>$AN6),$AN6,\nIF(AND(AR6<>$AO6,AQ6<>$AO6),$AO6,\n\"\")))))))))))","v":""},{"$f":"IF(AS6=\"\",\"\",\nIF(AND(AQ6<>$AF6,AS6<>$AF6,AR6<>$AF6),$AF6,\nIF(AND(AQ6<>$AG6,AS6<>$AG6,AR6<>$AG6),$AG6,\nIF(AND(AQ6<>$AH6,AS6<>$AH6,AR6<>$AH6),$AH6,\nIF(AND(AQ6<>$AI6,AS6<>$AI6,AR6<>$AI6),$AI6,\nIF(AND(AQ6<>$AJ6,AS6<>$AJ6,AR6<>$AJ6),$AJ6,\nIF(AND(AQ6<>$AK6,AS6<>$AK6,AR6<>$AK6),$AK6,\nIF(AND(AQ6<>$AL6,AS6<>$AL6,AR6<>$AL6),$AL6,\nIF(AND(AQ6<>$AM6,AS6<>$AM6,AR6<>$AM6),$AM6,\nIF(AND(AQ6<>$AN6,AS6<>$AN6,AR6<>$AN6),$AN6,\nIF(AND(AQ6<>$AO6,AS6<>$AO6,AR6<>$AO6),$AO6,\n\"\")))))))))))","v":""},{"$f":"IF(AT6=\"\",\"\",\nIF(AND(AQ6<>$AF6,AR6<>$AF6,AT6<>$AF6,AS6<>$AF6),$AF6,\nIF(AND(AQ6<>$AG6,AR6<>$AG6,AT6<>$AG6,AS6<>$AG6),$AG6,\nIF(AND(AQ6<>$AH6,AR6<>$AH6,AT6<>$AH6,AS6<>$AH6),$AH6,\nIF(AND(AQ6<>$AI6,AR6<>$AI6,AT6<>$AI6,AS6<>$AI6),$AI6,\nIF(AND(AQ6<>$AJ6,AR6<>$AJ6,AT6<>$AJ6,AS6<>$AJ6),$AJ6,\nIF(AND(AQ6<>$AK6,AR6<>$AK6,AT6<>$AK6,AS6<>$AK6),$AK6,\nIF(AND(AQ6<>$AL6,AR6<>$AL6,AT6<>$AL6,AS6<>$AL6),$AL6,\nIF(AND(AQ6<>$AM6,AR6<>$AM6,AT6<>$AM6,AS6<>$AM6),$AM6,\nIF(AND(AQ6<>$AN6,AR6<>$AN6,AT6<>$AN6,AS6<>$AN6),$AN6,\nIF(AND(AQ6<>$AO6,AR6<>$AO6,AT6<>$AO6,AS6<>$AO6),$AO6,\n\"\")))))))))))","v":""},{"$f":"IF(AU6=\"\",\"\",\nIF(AND(AQ6<>$AF6,AR6<>$AF6,AS6<>$AF6,AU6<>$AF6,AT6<>$AF6),$AF6,\nIF(AND(AQ6<>$AG6,AR6<>$AG6,AS6<>$AG6,AU6<>$AG6,AT6<>$AG6),$AG6,\nIF(AND(AQ6<>$AH6,AR6<>$AH6,AS6<>$AH6,AU6<>$AH6,AT6<>$AH6),$AH6,\nIF(AND(AQ6<>$AI6,AR6<>$AI6,AS6<>$AI6,AU6<>$AI6,AT6<>$AI6),$AI6,\nIF(AND(AQ6<>$AJ6,AR6<>$AJ6,AS6<>$AJ6,AU6<>$AJ6,AT6<>$AJ6),$AJ6,\nIF(AND(AQ6<>$AK6,AR6<>$AK6,AS6<>$AK6,AU6<>$AK6,AT6<>$AK6),$AK6,\nIF(AND(AQ6<>$AL6,AR6<>$AL6,AS6<>$AL6,AU6<>$AL6,AT6<>$AL6),$AL6,\nIF(AND(AQ6<>$AM6,AR6<>$AM6,AS6<>$AM6,AU6<>$AM6,AT6<>$AM6),$AM6,\nIF(AND(AQ6<>$AN6,AR6<>$AN6,AS6<>$AN6,AU6<>$AN6,AT6<>$AN6),$AN6,\nIF(AND(AQ6<>$AO6,AR6<>$AO6,AS6<>$AO6,AU6<>$AO6,AT6<>$AO6),$AO6,\n\"\")))))))))))","v":""},{"$f":"IF(AV6=\"\",\"\",\nIF(AND(AQ6<>$AF6,AR6<>$AF6,AS6<>$AF6,AT6<>$AF6,AV6<>$AF6,AU6<>$AF6),$AF6,\nIF(AND(AQ6<>$AG6,AR6<>$AG6,AS6<>$AG6,AT6<>$AG6,AV6<>$AG6,AU6<>$AG6),$AG6,\nIF(AND(AQ6<>$AH6,AR6<>$AH6,AS6<>$AH6,AT6<>$AH6,AV6<>$AH6,AU6<>$AH6),$AH6,\nIF(AND(AQ6<>$AI6,AR6<>$AI6,AS6<>$AI6,AT6<>$AI6,AV6<>$AI6,AU6<>$AI6),$AI6,\nIF(AND(AQ6<>$AJ6,AR6<>$AJ6,AS6<>$AJ6,AT6<>$AJ6,AV6<>$AJ6,AU6<>$AJ6),$AJ6,\nIF(AND(AQ6<>$AK6,AR6<>$AK6,AS6<>$AK6,AT6<>$AK6,AV6<>$AK6,AU6<>$AK6),$AK6,\nIF(AND(AQ6<>$AL6,AR6<>$AL6,AS6<>$AL6,AT6<>$AL6,AV6<>$AL6,AU6<>$AL6),$AL6,\nIF(AND(AQ6<>$AM6,AR6<>$AM6,AS6<>$AM6,AT6<>$AM6,AV6<>$AM6,AU6<>$AM6),$AM6,\nIF(AND(AQ6<>$AN6,AR6<>$AN6,AS6<>$AN6,AT6<>$AN6,AV6<>$AN6,AU6<>$AN6),$AN6,\nIF(AND(AQ6<>$AO6,AR6<>$AO6,AS6<>$AO6,AT6<>$AO6,AV6<>$AO6,AU6<>$AO6),$AO6,\n\"\")))))))))))","v":""},{"$f":"IF(AW6=\"\",\"\",\nIF(AND(AQ6<>$AF6,AR6<>$AF6,AS6<>$AF6,AT6<>$AF6,AU6<>$AF6,AW6<>$AF6,AV6<>$AF6),$AF6,\nIF(AND(AQ6<>$AG6,AR6<>$AG6,AS6<>$AG6,AT6<>$AG6,AU6<>$AG6,AW6<>$AG6,AV6<>$AG6),$AG6,\nIF(AND(AQ6<>$AH6,AR6<>$AH6,AS6<>$AH6,AT6<>$AH6,AU6<>$AH6,AW6<>$AH6,AV6<>$AH6),$AH6,\nIF(AND(AQ6<>$AI6,AR6<>$AI6,AS6<>$AI6,AT6<>$AI6,AU6<>$AI6,AW6<>$AI6,AV6<>$AI6),$AI6,\nIF(AND(AQ6<>$AJ6,AR6<>$AJ6,AS6<>$AJ6,AT6<>$AJ6,AU6<>$AJ6,AW6<>$AJ6,AV6<>$AJ6),$AJ6,\nIF(AND(AQ6<>$AK6,AR6<>$AK6,AS6<>$AK6,AT6<>$AK6,AU6<>$AK6,AW6<>$AK6,AV6<>$AK6),$AK6,\nIF(AND(AQ6<>$AL6,AR6<>$AL6,AS6<>$AL6,AT6<>$AL6,AU6<>$AL6,AW6<>$AL6,AV6<>$AL6),$AL6,\nIF(AND(AQ6<>$AM6,AR6<>$AM6,AS6<>$AM6,AT6<>$AM6,AU6<>$AM6,AW6<>$AM6,AV6<>$AM6),$AM6,\nIF(AND(AQ6<>$AN6,AR6<>$AN6,AS6<>$AN6,AT6<>$AN6,AU6<>$AN6,AW6<>$AN6,AV6<>$AN6),$AN6,\nIF(AND(AQ6<>$AO6,AR6<>$AO6,AS6<>$AO6,AT6<>$AO6,AU6<>$AO6,AW6<>$AO6,AV6<>$AO6),$AO6,\n\"\")))))))))))","v":""},{"$f":"IF(AX6=\"\",\"\",\nIF(AND(AQ6<>$AF6,AR6<>$AF6,AS6<>$AF6,AT6<>$AF6,AU6<>$AF6,AV6<>$AF6,AX6<>$AF6,AW6<>$AF6),$AF6,\nIF(AND(AQ6<>$AG6,AR6<>$AG6,AS6<>$AG6,AT6<>$AG6,AU6<>$AG6,AV6<>$AG6,AX6<>$AG6,AW6<>$AG6),$AG6,\nIF(AND(AQ6<>$AH6,AR6<>$AH6,AS6<>$AH6,AT6<>$AH6,AU6<>$AH6,AV6<>$AH6,AX6<>$AH6,AW6<>$AH6),$AH6,\nIF(AND(AQ6<>$AI6,AR6<>$AI6,AS6<>$AI6,AT6<>$AI6,AU6<>$AI6,AV6<>$AI6,AX6<>$AI6,AW6<>$AI6),$AI6,\nIF(AND(AQ6<>$AJ6,AR6<>$AJ6,AS6<>$AJ6,AT6<>$AJ6,AU6<>$AJ6,AV6<>$AJ6,AX6<>$AJ6,AW6<>$AJ6),$AJ6,\nIF(AND(AQ6<>$AK6,AR6<>$AK6,AS6<>$AK6,AT6<>$AK6,AU6<>$AK6,AV6<>$AK6,AX6<>$AK6,AW6<>$AK6),$AK6,\nIF(AND(AQ6<>$AL6,AR6<>$AL6,AS6<>$AL6,AT6<>$AL6,AU6<>$AL6,AV6<>$AL6,AX6<>$AL6,AW6<>$AL6),$AL6,\nIF(AND(AQ6<>$AM6,AR6<>$AM6,AS6<>$AM6,AT6<>$AM6,AU6<>$AM6,AV6<>$AM6,AX6<>$AM6,AW6<>$AM6),$AM6,\nIF(AND(AQ6<>$AN6,AR6<>$AN6,AS6<>$AN6,AT6<>$AN6,AU6<>$AN6,AV6<>$AN6,AX6<>$AN6,AW6<>$AN6),$AN6,\nIF(AND(AQ6<>$AO6,AR6<>$AO6,AS6<>$AO6,AT6<>$AO6,AU6<>$AO6,AV6<>$AO6,AX6<>$AO6,AW6<>$AO6),$AO6,\n\"\")))))))))))","v":""},{"$f":"IF(AY6=\"\",\"\",\nIF(AND(AQ6<>$AF6,AR6<>$AF6,AS6<>$AF6,AT6<>$AF6,AU6<>$AF6,AV6<>$AF6,AW6<>$AF6,AY6<>$AF6,AX6<>$AF6),$AF6,\nIF(AND(AQ6<>$AG6,AR6<>$AG6,AS6<>$AG6,AT6<>$AG6,AU6<>$AG6,AV6<>$AG6,AW6<>$AG6,AY6<>$AG6,AX6<>$AG6),$AG6,\nIF(AND(AQ6<>$AH6,AR6<>$AH6,AS6<>$AH6,AT6<>$AH6,AU6<>$AH6,AV6<>$AH6,AW6<>$AH6,AY6<>$AH6,AX6<>$AH6),$AH6,\nIF(AND(AQ6<>$AI6,AR6<>$AI6,AS6<>$AI6,AT6<>$AI6,AU6<>$AI6,AV6<>$AI6,AW6<>$AI6,AY6<>$AI6,AX6<>$AI6),$AI6,\nIF(AND(AQ6<>$AJ6,AR6<>$AJ6,AS6<>$AJ6,AT6<>$AJ6,AU6<>$AJ6,AV6<>$AJ6,AW6<>$AJ6,AY6<>$AJ6,AX6<>$AJ6),$AJ6,\nIF(AND(AQ6<>$AK6,AR6<>$AK6,AS6<>$AK6,AT6<>$AK6,AU6<>$AK6,AV6<>$AK6,AW6<>$AK6,AY6<>$AK6,AX6<>$AK6),$AK6,\nIF(AND(AQ6<>$AL6,AR6<>$AL6,AS6<>$AL6,AT6<>$AL6,AU6<>$AL6,AV6<>$AL6,AW6<>$AL6,AY6<>$AL6,AX6<>$AL6),$AL6,\nIF(AND(AQ6<>$AM6,AR6<>$AM6,AS6<>$AM6,AT6<>$AM6,AU6<>$AM6,AV6<>$AM6,AW6<>$AM6,AY6<>$AM6,AX6<>$AM6),$AM6,\nIF(AND(AQ6<>$AN6,AR6<>$AN6,AS6<>$AN6,AT6<>$AN6,AU6<>$AN6,AV6<>$AN6,AW6<>$AN6,AY6<>$AN6,AX6<>$AN6),$AN6,\nIF(AND(AQ6<>$AO6,AR6<>$AO6,AS6<>$AO6,AT6<>$AO6,AU6<>$AO6,AV6<>$AO6,AW6<>$AO6,AY6<>$AO6,AX6<>$AO6),$AO6,\n\"\")))))))))))","v":""}]
[null,{"$f":"IF(E7=\"\",0,1)","v":0},0,null,{"$f":"IF(M6<>\"\",M6,\"\")","v":""},{"$f":"IF(C7=1,K7,\"\")","v":""}]
[null,{"$f":"B6","v":0},0,null,null,"",null,null,null,null,null,null,null,null,null,null,null,null,null,null,null,null,null,null,null,null,null,null,null,null,null,{"$f":"\nIF(U8=\"x\",U$4,\nIF(V8=\"x\",V$4,\nIF(W8=\"x\",W$4,\nIF(X8=\"x\",X$4,\nIF(Y8=\"x\",Y$4,\nIF(Z8=\"x\",Z$4,\nIF(AA8=\"x\",AA$4,\nIF(AB8=\"x\",AB$4,\nIF(AC8=\"x\",AC$4,\nIF(AD8=\"x\",AD$4,\n\"\"))))))))))","v":""},{"$f":"\nIF(V8=\"x\",V$4,\nIF(W8=\"x\",W$4,\nIF(X8=\"x\",X$4,\nIF(Y8=\"x\",Y$4,\nIF(Z8=\"x\",Z$4,\nIF(AA8=\"x\",AA$4,\nIF(AB8=\"x\",AB$4,\nIF(AC8=\"x\",AC$4,\nIF(AD8=\"x\",AD$4,\n\"\")))))))))","v":""},{"$f":"\nIF(W8=\"x\",W$4,\nIF(X8=\"x\",X$4,\nIF(Y8=\"x\",Y$4,\nIF(Z8=\"x\",Z$4,\nIF(AA8=\"x\",AA$4,\nIF(AB8=\"x\",AB$4,\nIF(AC8=\"x\",AC$4,\nIF(AD8=\"x\",AD$4,\n\"\"))))))))","v":""},{"$f":"\nIF(X8=\"x\",X$4,\nIF(Y8=\"x\",Y$4,\nIF(Z8=\"x\",Z$4,\nIF(AA8=\"x\",AA$4,\nIF(AB8=\"x\",AB$4,\nIF(AC8=\"x\",AC$4,\nIF(AD8=\"x\",AD$4,\n\"\")))))))","v":""},{"$f":"\nIF(Y8=\"x\",Y$4,\nIF(Z8=\"x\",Z$4,\nIF(AA8=\"x\",AA$4,\nIF(AB8=\"x\",AB$4,\nIF(AC8=\"x\",AC$4,\nIF(AD8=\"x\",AD$4,\n\"\"))))))","v":""},{"$f":"\nIF(Z8=\"x\",Z$4,\nIF(AA8=\"x\",AA$4,\nIF(AB8=\"x\",AB$4,\nIF(AC8=\"x\",AC$4,\nIF(AD8=\"x\",AD$4,\n\"\")))))","v":""},{"$f":"\nIF(AA8=\"x\",AA$4,\nIF(AB8=\"x\",AB$4,\nIF(AC8=\"x\",AC$4,\nIF(AD8=\"x\",AD$4,\n\"\"))))","v":""},{"$f":"\nIF(AB8=\"x\",AB$4,\nIF(AC8=\"x\",AC$4,\nIF(AD8=\"x\",AD$4,\n\"\")))","v":""},{"$f":"\nIF(AC8=\"x\",AC$4,\nIF(AD8=\"x\",AD$4,\n\"\"))","v":""},{"$f":"\nIF(AD8=\"x\",AD$4,\n\"\")","v":""},null,{"$f":"AF8","v":""},"",{"$f":"IF(AR8=\"\",\"\",\nIF(AND(AR8<>$AF8,AQ8<>$AF8),$AF8,\nIF(AND(AR8<>$AG8,AQ8<>$AG8),$AG8,\nIF(AND(AR8<>$AH8,AQ8<>$AH8),$AH8,\nIF(AND(AR8<>$AI8,AQ8<>$AI8),$AI8,\nIF(AND(AR8<>$AJ8,AQ8<>$AJ8),$AJ8,\nIF(AND(AR8<>$AK8,AQ8<>$AK8),$AK8,\nIF(AND(AR8<>$AL8,AQ8<>$AL8),$AL8,\nIF(AND(AR8<>$AM8,AQ8<>$AM8),$AM8,\nIF(AND(AR8<>$AN8,AQ8<>$AN8),$AN8,\nIF(AND(AR8<>$AO8,AQ8<>$AO8),$AO8,\n\"\")))))))))))","v":""},{"$f":"IF(AS8=\"\",\"\",\nIF(AND(AQ8<>$AF8,AS8<>$AF8,AR8<>$AF8),$AF8,\nIF(AND(AQ8<>$AG8,AS8<>$AG8,AR8<>$AG8),$AG8,\nIF(AND(AQ8<>$AH8,AS8<>$AH8,AR8<>$AH8),$AH8,\nIF(AND(AQ8<>$AI8,AS8<>$AI8,AR8<>$AI8),$AI8,\nIF(AND(AQ8<>$AJ8,AS8<>$AJ8,AR8<>$AJ8),$AJ8,\nIF(AND(AQ8<>$AK8,AS8<>$AK8,AR8<>$AK8),$AK8,\nIF(AND(AQ8<>$AL8,AS8<>$AL8,AR8<>$AL8),$AL8,\nIF(AND(AQ8<>$AM8,AS8<>$AM8,AR8<>$AM8),$AM8,\nIF(AND(AQ8<>$AN8,AS8<>$AN8,AR8<>$AN8),$AN8,\nIF(AND(AQ8<>$AO8,AS8<>$AO8,AR8<>$AO8),$AO8,\n\"\")))))))))))","v":""},{"$f":"IF(AT8=\"\",\"\",\nIF(AND(AQ8<>$AF8,AR8<>$AF8,AT8<>$AF8,AS8<>$AF8),$AF8,\nIF(AND(AQ8<>$AG8,AR8<>$AG8,AT8<>$AG8,AS8<>$AG8),$AG8,\nIF(AND(AQ8<>$AH8,AR8<>$AH8,AT8<>$AH8,AS8<>$AH8),$AH8,\nIF(AND(AQ8<>$AI8,AR8<>$AI8,AT8<>$AI8,AS8<>$AI8),$AI8,\nIF(AND(AQ8<>$AJ8,AR8<>$AJ8,AT8<>$AJ8,AS8<>$AJ8),$AJ8,\nIF(AND(AQ8<>$AK8,AR8<>$AK8,AT8<>$AK8,AS8<>$AK8),$AK8,\nIF(AND(AQ8<>$AL8,AR8<>$AL8,AT8<>$AL8,AS8<>$AL8),$AL8,\nIF(AND(AQ8<>$AM8,AR8<>$AM8,AT8<>$AM8,AS8<>$AM8),$AM8,\nIF(AND(AQ8<>$AN8,AR8<>$AN8,AT8<>$AN8,AS8<>$AN8),$AN8,\nIF(AND(AQ8<>$AO8,AR8<>$AO8,AT8<>$AO8,AS8<>$AO8),$AO8,\n\"\")))))))))))","v":""},{"$f":"IF(AU8=\"\",\"\",\nIF(AND(AQ8<>$AF8,AR8<>$AF8,AS8<>$AF8,AU8<>$AF8,AT8<>$AF8),$AF8,\nIF(AND(AQ8<>$AG8,AR8<>$AG8,AS8<>$AG8,AU8<>$AG8,AT8<>$AG8),$AG8,\nIF(AND(AQ8<>$AH8,AR8<>$AH8,AS8<>$AH8,AU8<>$AH8,AT8<>$AH8),$AH8,\nIF(AND(AQ8<>$AI8,AR8<>$AI8,AS8<>$AI8,AU8<>$AI8,AT8<>$AI8),$AI8,\nIF(AND(AQ8<>$AJ8,AR8<>$AJ8,AS8<>$AJ8,AU8<>$AJ8,AT8<>$AJ8),$AJ8,\nIF(AND(AQ8<>$AK8,AR8<>$AK8,AS8<>$AK8,AU8<>$AK8,AT8<>$AK8),$AK8,\nIF(AND(AQ8<>$AL8,AR8<>$AL8,AS8<>$AL8,AU8<>$AL8,AT8<>$AL8),$AL8,\nIF(AND(AQ8<>$AM8,AR8<>$AM8,AS8<>$AM8,AU8<>$AM8,AT8<>$AM8),$AM8,\nIF(AND(AQ8<>$AN8,AR8<>$AN8,AS8<>$AN8,AU8<>$AN8,AT8<>$AN8),$AN8,\nIF(AND(AQ8<>$AO8,AR8<>$AO8,AS8<>$AO8,AU8<>$AO8,AT8<>$AO8),$AO8,\n\"\")))))))))))","v":""},{"$f":"IF(AV8=\"\",\"\",\nIF(AND(AQ8<>$AF8,AR8<>$AF8,AS8<>$AF8,AT8<>$AF8,AV8<>$AF8,AU8<>$AF8),$AF8,\nIF(AND(AQ8<>$AG8,AR8<>$AG8,AS8<>$AG8,AT8<>$AG8,AV8<>$AG8,AU8<>$AG8),$AG8,\nIF(AND(AQ8<>$AH8,AR8<>$AH8,AS8<>$AH8,AT8<>$AH8,AV8<>$AH8,AU8<>$AH8),$AH8,\nIF(AND(AQ8<>$AI8,AR8<>$AI8,AS8<>$AI8,AT8<>$AI8,AV8<>$AI8,AU8<>$AI8),$AI8,\nIF(AND(AQ8<>$AJ8,AR8<>$AJ8,AS8<>$AJ8,AT8<>$AJ8,AV8<>$AJ8,AU8<>$AJ8),$AJ8,\nIF(AND(AQ8<>$AK8,AR8<>$AK8,AS8<>$AK8,AT8<>$AK8,AV8<>$AK8,AU8<>$AK8),$AK8,\nIF(AND(AQ8<>$AL8,AR8<>$AL8,AS8<>$AL8,AT8<>$AL8,AV8<>$AL8,AU8<>$AL8),$AL8,\nIF(AND(AQ8<>$AM8,AR8<>$AM8,AS8<>$AM8,AT8<>$AM8,AV8<>$AM8,AU8<>$AM8),$AM8,\nIF(AND(AQ8<>$AN8,AR8<>$AN8,AS8<>$AN8,AT8<>$AN8,AV8<>$AN8,AU8<>$AN8),$AN8,\nIF(AND(AQ8<>$AO8,AR8<>$AO8,AS8<>$AO8,AT8<>$AO8,AV8<>$AO8,AU8<>$AO8),$AO8,\n\"\")))))))))))","v":""},{"$f":"IF(AW8=\"\",\"\",\nIF(AND(AQ8<>$AF8,AR8<>$AF8,AS8<>$AF8,AT8<>$AF8,AU8<>$AF8,AW8<>$AF8,AV8<>$AF8),$AF8,\nIF(AND(AQ8<>$AG8,AR8<>$AG8,AS8<>$AG8,AT8<>$AG8,AU8<>$AG8,AW8<>$AG8,AV8<>$AG8),$AG8,\nIF(AND(AQ8<>$AH8,AR8<>$AH8,AS8<>$AH8,AT8<>$AH8,AU8<>$AH8,AW8<>$AH8,AV8<>$AH8),$AH8,\nIF(AND(AQ8<>$AI8,AR8<>$AI8,AS8<>$AI8,AT8<>$AI8,AU8<>$AI8,AW8<>$AI8,AV8<>$AI8),$AI8,\nIF(AND(AQ8<>$AJ8,AR8<>$AJ8,AS8<>$AJ8,AT8<>$AJ8,AU8<>$AJ8,AW8<>$AJ8,AV8<>$AJ8),$AJ8,\nIF(AND(AQ8<>$AK8,AR8<>$AK8,AS8<>$AK8,AT8<>$AK8,AU8<>$AK8,AW8<>$AK8,AV8<>$AK8),$AK8,\nIF(AND(AQ8<>$AL8,AR8<>$AL8,AS8<>$AL8,AT8<>$AL8,AU8<>$AL8,AW8<>$AL8,AV8<>$AL8),$AL8,\nIF(AND(AQ8<>$AM8,AR8<>$AM8,AS8<>$AM8,AT8<>$AM8,AU8<>$AM8,AW8<>$AM8,AV8<>$AM8),$AM8,\nIF(AND(AQ8<>$AN8,AR8<>$AN8,AS8<>$AN8,AT8<>$AN8,AU8<>$AN8,AW8<>$AN8,AV8<>$AN8),$AN8,\nIF(AND(AQ8<>$AO8,AR8<>$AO8,AS8<>$AO8,AT8<>$AO8,AU8<>$AO8,AW8<>$AO8,AV8<>$AO8),$AO8,\n\"\")))))))))))","v":""},{"$f":"IF(AX8=\"\",\"\",\nIF(AND(AQ8<>$AF8,AR8<>$AF8,AS8<>$AF8,AT8<>$AF8,AU8<>$AF8,AV8<>$AF8,AX8<>$AF8,AW8<>$AF8),$AF8,\nIF(AND(AQ8<>$AG8,AR8<>$AG8,AS8<>$AG8,AT8<>$AG8,AU8<>$AG8,AV8<>$AG8,AX8<>$AG8,AW8<>$AG8),$AG8,\nIF(AND(AQ8<>$AH8,AR8<>$AH8,AS8<>$AH8,AT8<>$AH8,AU8<>$AH8,AV8<>$AH8,AX8<>$AH8,AW8<>$AH8),$AH8,\nIF(AND(AQ8<>$AI8,AR8<>$AI8,AS8<>$AI8,AT8<>$AI8,AU8<>$AI8,AV8<>$AI8,AX8<>$AI8,AW8<>$AI8),$AI8,\nIF(AND(AQ8<>$AJ8,AR8<>$AJ8,AS8<>$AJ8,AT8<>$AJ8,AU8<>$AJ8,AV8<>$AJ8,AX8<>$AJ8,AW8<>$AJ8),$AJ8,\nIF(AND(AQ8<>$AK8,AR8<>$AK8,AS8<>$AK8,AT8<>$AK8,AU8<>$AK8,AV8<>$AK8,AX8<>$AK8,AW8<>$AK8),$AK8,\nIF(AND(AQ8<>$AL8,AR8<>$AL8,AS8<>$AL8,AT8<>$AL8,AU8<>$AL8,AV8<>$AL8,AX8<>$AL8,AW8<>$AL8),$AL8,\nIF(AND(AQ8<>$AM8,AR8<>$AM8,AS8<>$AM8,AT8<>$AM8,AU8<>$AM8,AV8<>$AM8,AX8<>$AM8,AW8<>$AM8),$AM8,\nIF(AND(AQ8<>$AN8,AR8<>$AN8,AS8<>$AN8,AT8<>$AN8,AU8<>$AN8,AV8<>$AN8,AX8<>$AN8,AW8<>$AN8),$AN8,\nIF(AND(AQ8<>$AO8,AR8<>$AO8,AS8<>$AO8,AT8<>$AO8,AU8<>$AO8,AV8<>$AO8,AX8<>$AO8,AW8<>$AO8),$AO8,\n\"\")))))))))))","v":""},{"$f":"IF(AY8=\"\",\"\",\nIF(AND(AQ8<>$AF8,AR8<>$AF8,AS8<>$AF8,AT8<>$AF8,AU8<>$AF8,AV8<>$AF8,AW8<>$AF8,AY8<>$AF8,AX8<>$AF8),$AF8,\nIF(AND(AQ8<>$AG8,AR8<>$AG8,AS8<>$AG8,AT8<>$AG8,AU8<>$AG8,AV8<>$AG8,AW8<>$AG8,AY8<>$AG8,AX8<>$AG8),$AG8,\nIF(AND(AQ8<>$AH8,AR8<>$AH8,AS8<>$AH8,AT8<>$AH8,AU8<>$AH8,AV8<>$AH8,AW8<>$AH8,AY8<>$AH8,AX8<>$AH8),$AH8,\nIF(AND(AQ8<>$AI8,AR8<>$AI8,AS8<>$AI8,AT8<>$AI8,AU8<>$AI8,AV8<>$AI8,AW8<>$AI8,AY8<>$AI8,AX8<>$AI8),$AI8,\nIF(AND(AQ8<>$AJ8,AR8<>$AJ8,AS8<>$AJ8,AT8<>$AJ8,AU8<>$AJ8,AV8<>$AJ8,AW8<>$AJ8,AY8<>$AJ8,AX8<>$AJ8),$AJ8,\nIF(AND(AQ8<>$AK8,AR8<>$AK8,AS8<>$AK8,AT8<>$AK8,AU8<>$AK8,AV8<>$AK8,AW8<>$AK8,AY8<>$AK8,AX8<>$AK8),$AK8,\nIF(AND(AQ8<>$AL8,AR8<>$AL8,AS8<>$AL8,AT8<>$AL8,AU8<>$AL8,AV8<>$AL8,AW8<>$AL8,AY8<>$AL8,AX8<>$AL8),$AL8,\nIF(AND(AQ8<>$AM8,AR8<>$AM8,AS8<>$AM8,AT8<>$AM8,AU8<>$AM8,AV8<>$AM8,AW8<>$AM8,AY8<>$AM8,AX8<>$AM8),$AM8,\nIF(AND(AQ8<>$AN8,AR8<>$AN8,AS8<>$AN8,AT8<>$AN8,AU8<>$AN8,AV8<>$AN8,AW8<>$AN8,AY8<>$AN8,AX8<>$AN8),$AN8,\nIF(AND(AQ8<>$AO8,AR8<>$AO8,AS8<>$AO8,AT8<>$AO8,AU8<>$AO8,AV8<>$AO8,AW8<>$AO8,AY8<>$AO8,AX8<>$AO8),$AO8,\n\"\")))))))))))","v":""}]
[null,{"$f":"IF(L9=\"x\",1,IF(SUM(B11:B18)>0,1,0))","v":1},1,{"$f":"G9","v":"410.000"},{"$f":"H9","v":"Lignes solaires DC"},"forf.","410.000","Lignes solaires DC",null,null,"forf.","x","Propriétés : \nSection\nRésistant aux UV",null,null,null,null,null,null,"E400_Solarleitungen",null,null,null,null,null,null,null,null,null,"x",null,{"$f":"\nIF(U9=\"x\",U$4,\nIF(V9=\"x\",V$4,\nIF(W9=\"x\",W$4,\nIF(X9=\"x\",X$4,\nIF(Y9=\"x\",Y$4,\nIF(Z9=\"x\",Z$4,\nIF(AA9=\"x\",AA$4,\nIF(AB9=\"x\",AB$4,\nIF(AC9=\"x\",AC$4,\nIF(AD9=\"x\",AD$4,\n\"\"))))))))))","v":"forf."},{"$f":"\nIF(V9=\"x\",V$4,\nIF(W9=\"x\",W$4,\nIF(X9=\"x\",X$4,\nIF(Y9=\"x\",Y$4,\nIF(Z9=\"x\",Z$4,\nIF(AA9=\"x\",AA$4,\nIF(AB9=\"x\",AB$4,\nIF(AC9=\"x\",AC$4,\nIF(AD9=\"x\",AD$4,\n\"\")))))))))","v":"forf."},{"$f":"\nIF(W9=\"x\",W$4,\nIF(X9=\"x\",X$4,\nIF(Y9=\"x\",Y$4,\nIF(Z9=\"x\",Z$4,\nIF(AA9=\"x\",AA$4,\nIF(AB9=\"x\",AB$4,\nIF(AC9=\"x\",AC$4,\nIF(AD9=\"x\",AD$4,\n\"\"))))))))","v":"forf."},{"$f":"\nIF(X9=\"x\",X$4,\nIF(Y9=\"x\",Y$4,\nIF(Z9=\"x\",Z$4,\nIF(AA9=\"x\",AA$4,\nIF(AB9=\"x\",AB$4,\nIF(AC9=\"x\",AC$4,\nIF(AD9=\"x\",AD$4,\n\"\")))))))","v":"forf."},{"$f":"\nIF(Y9=\"x\",Y$4,\nIF(Z9=\"x\",Z$4,\nIF(AA9=\"x\",AA$4,\nIF(AB9=\"x\",AB$4,\nIF(AC9=\"x\",AC$4,\nIF(AD9=\"x\",AD$4,\n\"\"))))))","v":"forf."},{"$f":"\nIF(Z9=\"x\",Z$4,\nIF(AA9=\"x\",AA$4,\nIF(AB9=\"x\",AB$4,\nIF(AC9=\"x\",AC$4,\nIF(AD9=\"x\",AD$4,\n\"\")))))","v":"forf."},{"$f":"\nIF(AA9=\"x\",AA$4,\nIF(AB9=\"x\",AB$4,\nIF(AC9=\"x\",AC$4,\nIF(AD9=\"x\",AD$4,\n\"\"))))","v":"forf."},{"$f":"\nIF(AB9=\"x\",AB$4,\nIF(AC9=\"x\",AC$4,\nIF(AD9=\"x\",AD$4,\n\"\")))","v":"forf."},{"$f":"\nIF(AC9=\"x\",AC$4,\nIF(AD9=\"x\",AD$4,\n\"\"))","v":"forf."},{"$f":"\nIF(AD9=\"x\",AD$4,\n\"\")","v":"forf."},null,{"$f":"AF9","v":"forf."},"",{"$f":"IF(AR9=\"\",\"\",\nIF(AND(AR9<>$AF9,AQ9<>$AF9),$AF9,\nIF(AND(AR9<>$AG9,AQ9<>$AG9),$AG9,\nIF(AND(AR9<>$AH9,AQ9<>$AH9),$AH9,\nIF(AND(AR9<>$AI9,AQ9<>$AI9),$AI9,\nIF(AND(AR9<>$AJ9,AQ9<>$AJ9),$AJ9,\nIF(AND(AR9<>$AK9,AQ9<>$AK9),$AK9,\nIF(AND(AR9<>$AL9,AQ9<>$AL9),$AL9,\nIF(AND(AR9<>$AM9,AQ9<>$AM9),$AM9,\nIF(AND(AR9<>$AN9,AQ9<>$AN9),$AN9,\nIF(AND(AR9<>$AO9,AQ9<>$AO9),$AO9,\n\"\")))))))))))","v":""},{"$f":"IF(AS9=\"\",\"\",\nIF(AND(AQ9<>$AF9,AS9<>$AF9,AR9<>$AF9),$AF9,\nIF(AND(AQ9<>$AG9,AS9<>$AG9,AR9<>$AG9),$AG9,\nIF(AND(AQ9<>$AH9,AS9<>$AH9,AR9<>$AH9),$AH9,\nIF(AND(AQ9<>$AI9,AS9<>$AI9,AR9<>$AI9),$AI9,\nIF(AND(AQ9<>$AJ9,AS9<>$AJ9,AR9<>$AJ9),$AJ9,\nIF(AND(AQ9<>$AK9,AS9<>$AK9,AR9<>$AK9),$AK9,\nIF(AND(AQ9<>$AL9,AS9<>$AL9,AR9<>$AL9),$AL9,\nIF(AND(AQ9<>$AM9,AS9<>$AM9,AR9<>$AM9),$AM9,\nIF(AND(AQ9<>$AN9,AS9<>$AN9,AR9<>$AN9),$AN9,\nIF(AND(AQ9<>$AO9,AS9<>$AO9,AR9<>$AO9),$AO9,\n\"\")))))))))))","v":""},{"$f":"IF(AT9=\"\",\"\",\nIF(AND(AQ9<>$AF9,AR9<>$AF9,AT9<>$AF9,AS9<>$AF9),$AF9,\nIF(AND(AQ9<>$AG9,AR9<>$AG9,AT9<>$AG9,AS9<>$AG9),$AG9,\nIF(AND(AQ9<>$AH9,AR9<>$AH9,AT9<>$AH9,AS9<>$AH9),$AH9,\nIF(AND(AQ9<>$AI9,AR9<>$AI9,AT9<>$AI9,AS9<>$AI9),$AI9,\nIF(AND(AQ9<>$AJ9,AR9<>$AJ9,AT9<>$AJ9,AS9<>$AJ9),$AJ9,\nIF(AND(AQ9<>$AK9,AR9<>$AK9,AT9<>$AK9,AS9<>$AK9),$AK9,\nIF(AND(AQ9<>$AL9,AR9<>$AL9,AT9<>$AL9,AS9<>$AL9),$AL9,\nIF(AND(AQ9<>$AM9,AR9<>$AM9,AT9<>$AM9,AS9<>$AM9),$AM9,\nIF(AND(AQ9<>$AN9,AR9<>$AN9,AT9<>$AN9,AS9<>$AN9),$AN9,\nIF(AND(AQ9<>$AO9,AR9<>$AO9,AT9<>$AO9,AS9<>$AO9),$AO9,\n\"\")))))))))))","v":""},{"$f":"IF(AU9=\"\",\"\",\nIF(AND(AQ9<>$AF9,AR9<>$AF9,AS9<>$AF9,AU9<>$AF9,AT9<>$AF9),$AF9,\nIF(AND(AQ9<>$AG9,AR9<>$AG9,AS9<>$AG9,AU9<>$AG9,AT9<>$AG9),$AG9,\nIF(AND(AQ9<>$AH9,AR9<>$AH9,AS9<>$AH9,AU9<>$AH9,AT9<>$AH9),$AH9,\nIF(AND(AQ9<>$AI9,AR9<>$AI9,AS9<>$AI9,AU9<>$AI9,AT9<>$AI9),$AI9,\nIF(AND(AQ9<>$AJ9,AR9<>$AJ9,AS9<>$AJ9,AU9<>$AJ9,AT9<>$AJ9),$AJ9,\nIF(AND(AQ9<>$AK9,AR9<>$AK9,AS9<>$AK9,AU9<>$AK9,AT9<>$AK9),$AK9,\nIF(AND(AQ9<>$AL9,AR9<>$AL9,AS9<>$AL9,AU9<>$AL9,AT9<>$AL9),$AL9,\nIF(AND(AQ9<>$AM9,AR9<>$AM9,AS9<>$AM9,AU9<>$AM9,AT9<>$AM9),$AM9,\nIF(AND(AQ9<>$AN9,AR9<>$AN9,AS9<>$AN9,AU9<>$AN9,AT9<>$AN9),$AN9,\nIF(AND(AQ9<>$AO9,AR9<>$AO9,AS9<>$AO9,AU9<>$AO9,AT9<>$AO9),$AO9,\n\"\")))))))))))","v":""},{"$f":"IF(AV9=\"\",\"\",\nIF(AND(AQ9<>$AF9,AR9<>$AF9,AS9<>$AF9,AT9<>$AF9,AV9<>$AF9,AU9<>$AF9),$AF9,\nIF(AND(AQ9<>$AG9,AR9<>$AG9,AS9<>$AG9,AT9<>$AG9,AV9<>$AG9,AU9<>$AG9),$AG9,\nIF(AND(AQ9<>$AH9,AR9<>$AH9,AS9<>$AH9,AT9<>$AH9,AV9<>$AH9,AU9<>$AH9),$AH9,\nIF(AND(AQ9<>$AI9,AR9<>$AI9,AS9<>$AI9,AT9<>$AI9,AV9<>$AI9,AU9<>$AI9),$AI9,\nIF(AND(AQ9<>$AJ9,AR9<>$AJ9,AS9<>$AJ9,AT9<>$AJ9,AV9<>$AJ9,AU9<>$AJ9),$AJ9,\nIF(AND(AQ9<>$AK9,AR9<>$AK9,AS9<>$AK9,AT9<>$AK9,AV9<>$AK9,AU9<>$AK9),$AK9,\nIF(AND(AQ9<>$AL9,AR9<>$AL9,AS9<>$AL9,AT9<>$AL9,AV9<>$AL9,AU9<>$AL9),$AL9,\nIF(AND(AQ9<>$AM9,AR9<>$AM9,AS9<>$AM9,AT9<>$AM9,AV9<>$AM9,AU9<>$AM9),$AM9,\nIF(AND(AQ9<>$AN9,AR9<>$AN9,AS9<>$AN9,AT9<>$AN9,AV9<>$AN9,AU9<>$AN9),$AN9,\nIF(AND(AQ9<>$AO9,AR9<>$AO9,AS9<>$AO9,AT9<>$AO9,AV9<>$AO9,AU9<>$AO9),$AO9,\n\"\")))))))))))","v":""},{"$f":"IF(AW9=\"\",\"\",\nIF(AND(AQ9<>$AF9,AR9<>$AF9,AS9<>$AF9,AT9<>$AF9,AU9<>$AF9,AW9<>$AF9,AV9<>$AF9),$AF9,\nIF(AND(AQ9<>$AG9,AR9<>$AG9,AS9<>$AG9,AT9<>$AG9,AU9<>$AG9,AW9<>$AG9,AV9<>$AG9),$AG9,\nIF(AND(AQ9<>$AH9,AR9<>$AH9,AS9<>$AH9,AT9<>$AH9,AU9<>$AH9,AW9<>$AH9,AV9<>$AH9),$AH9,\nIF(AND(AQ9<>$AI9,AR9<>$AI9,AS9<>$AI9,AT9<>$AI9,AU9<>$AI9,AW9<>$AI9,AV9<>$AI9),$AI9,\nIF(AND(AQ9<>$AJ9,AR9<>$AJ9,AS9<>$AJ9,AT9<>$AJ9,AU9<>$AJ9,AW9<>$AJ9,AV9<>$AJ9),$AJ9,\nIF(AND(AQ9<>$AK9,AR9<>$AK9,AS9<>$AK9,AT9<>$AK9,AU9<>$AK9,AW9<>$AK9,AV9<>$AK9),$AK9,\nIF(AND(AQ9<>$AL9,AR9<>$AL9,AS9<>$AL9,AT9<>$AL9,AU9<>$AL9,AW9<>$AL9,AV9<>$AL9),$AL9,\nIF(AND(AQ9<>$AM9,AR9<>$AM9,AS9<>$AM9,AT9<>$AM9,AU9<>$AM9,AW9<>$AM9,AV9<>$AM9),$AM9,\nIF(AND(AQ9<>$AN9,AR9<>$AN9,AS9<>$AN9,AT9<>$AN9,AU9<>$AN9,AW9<>$AN9,AV9<>$AN9),$AN9,\nIF(AND(AQ9<>$AO9,AR9<>$AO9,AS9<>$AO9,AT9<>$AO9,AU9<>$AO9,AW9<>$AO9,AV9<>$AO9),$AO9,\n\"\")))))))))))","v":""},{"$f":"IF(AX9=\"\",\"\",\nIF(AND(AQ9<>$AF9,AR9<>$AF9,AS9<>$AF9,AT9<>$AF9,AU9<>$AF9,AV9<>$AF9,AX9<>$AF9,AW9<>$AF9),$AF9,\nIF(AND(AQ9<>$AG9,AR9<>$AG9,AS9<>$AG9,AT9<>$AG9,AU9<>$AG9,AV9<>$AG9,AX9<>$AG9,AW9<>$AG9),$AG9,\nIF(AND(AQ9<>$AH9,AR9<>$AH9,AS9<>$AH9,AT9<>$AH9,AU9<>$AH9,AV9<>$AH9,AX9<>$AH9,AW9<>$AH9),$AH9,\nIF(AND(AQ9<>$AI9,AR9<>$AI9,AS9<>$AI9,AT9<>$AI9,AU9<>$AI9,AV9<>$AI9,AX9<>$AI9,AW9<>$AI9),$AI9,\nIF(AND(AQ9<>$AJ9,AR9<>$AJ9,AS9<>$AJ9,AT9<>$AJ9,AU9<>$AJ9,AV9<>$AJ9,AX9<>$AJ9,AW9<>$AJ9),$AJ9,\nIF(AND(AQ9<>$AK9,AR9<>$AK9,AS9<>$AK9,AT9<>$AK9,AU9<>$AK9,AV9<>$AK9,AX9<>$AK9,AW9<>$AK9),$AK9,\nIF(AND(AQ9<>$AL9,AR9<>$AL9,AS9<>$AL9,AT9<>$AL9,AU9<>$AL9,AV9<>$AL9,AX9<>$AL9,AW9<>$AL9),$AL9,\nIF(AND(AQ9<>$AM9,AR9<>$AM9,AS9<>$AM9,AT9<>$AM9,AU9<>$AM9,AV9<>$AM9,AX9<>$AM9,AW9<>$AM9),$AM9,\nIF(AND(AQ9<>$AN9,AR9<>$AN9,AS9<>$AN9,AT9<>$AN9,AU9<>$AN9,AV9<>$AN9,AX9<>$AN9,AW9<>$AN9),$AN9,\nIF(AND(AQ9<>$AO9,AR9<>$AO9,AS9<>$AO9,AT9<>$AO9,AU9<>$AO9,AV9<>$AO9,AX9<>$AO9,AW9<>$AO9),$AO9,\n\"\")))))))))))","v":""},{"$f":"IF(AY9=\"\",\"\",\nIF(AND(AQ9<>$AF9,AR9<>$AF9,AS9<>$AF9,AT9<>$AF9,AU9<>$AF9,AV9<>$AF9,AW9<>$AF9,AY9<>$AF9,AX9<>$AF9),$AF9,\nIF(AND(AQ9<>$AG9,AR9<>$AG9,AS9<>$AG9,AT9<>$AG9,AU9<>$AG9,AV9<>$AG9,AW9<>$AG9,AY9<>$AG9,AX9<>$AG9),$AG9,\nIF(AND(AQ9<>$AH9,AR9<>$AH9,AS9<>$AH9,AT9<>$AH9,AU9<>$AH9,AV9<>$AH9,AW9<>$AH9,AY9<>$AH9,AX9<>$AH9),$AH9,\nIF(AND(AQ9<>$AI9,AR9<>$AI9,AS9<>$AI9,AT9<>$AI9,AU9<>$AI9,AV9<>$AI9,AW9<>$AI9,AY9<>$AI9,AX9<>$AI9),$AI9,\nIF(AND(AQ9<>$AJ9,AR9<>$AJ9,AS9<>$AJ9,AT9<>$AJ9,AU9<>$AJ9,AV9<>$AJ9,AW9<>$AJ9,AY9<>$AJ9,AX9<>$AJ9),$AJ9,\nIF(AND(AQ9<>$AK9,AR9<>$AK9,AS9<>$AK9,AT9<>$AK9,AU9<>$AK9,AV9<>$AK9,AW9<>$AK9,AY9<>$AK9,AX9<>$AK9),$AK9,\nIF(AND(AQ9<>$AL9,AR9<>$AL9,AS9<>$AL9,AT9<>$AL9,AU9<>$AL9,AV9<>$AL9,AW9<>$AL9,AY9<>$AL9,AX9<>$AL9),$AL9,\nIF(AND(AQ9<>$AM9,AR9<>$AM9,AS9<>$AM9,AT9<>$AM9,AU9<>$AM9,AV9<>$AM9,AW9<>$AM9,AY9<>$AM9,AX9<>$AM9),$AM9,\nIF(AND(AQ9<>$AN9,AR9<>$AN9,AS9<>$AN9,AT9<>$AN9,AU9<>$AN9,AV9<>$AN9,AW9<>$AN9,AY9<>$AN9,AX9<>$AN9),$AN9,\nIF(AND(AQ9<>$AO9,AR9<>$AO9,AS9<>$AO9,AT9<>$AO9,AU9<>$AO9,AV9<>$AO9,AW9<>$AO9,AY9<>$AO9,AX9<>$AO9),$AO9,\n\"\")))))))))))","v":""}]
[null,{"$f":"IF(E10=\"\",0,1)","v":1},0,null,{"$f":"IF(M9<>\"\",M9,\"\")","v":"Propriétés : \nSection\nRésistant aux UV"},""]
[null,{"$f":"IF(L11=\"x\",1,IF(ISNUMBER(L11),L11,0))","v":0},{"$f":"IF(L11=\"x\",1,IF(ISNUMBER(L11),1,0))","v":0},{"$f":"I11","v":"411.000"},{"$f":"J11 & IF(M11<>\"\",CHAR(10) & M11,\"\")","v":"Cu 4 mm²"},"",null,null,"411.000","Cu 4 mm²","ml",null,null,null,null,null,null,null,null,"E400_Solarleitungen",null,null,"x",null,null,null,null,null,null,"x",null,"ml","ml","ml","forf.","forf.","forf.","forf.","forf.","forf.","forf.",null,"ml","forf.","","","","","","","",""]
[null,0,{"$f":"IF(L12=\"x\",1,IF(ISNUMBER(L12),1,0))","v":0},{"$f":"I12","v":"412.000"},{"$f":"J12 & IF(M12<>\"\",CHAR(10) & M12,\"\")","v":"Cu 6 mm²"},"",null,null,"412.000","Cu 6 mm²","ml",null,null,null,null,null,null,null,null,"E400_Solarleitungen",null,null,"x",null,null,null,null,null,null,"x",null,"ml","ml","ml","forf.","forf.","forf.","forf.","forf.","forf.","forf.",null,"ml","forf.",{"$f":"IF(AR12=\"\",\"\",\nIF(AND(AR12<>$AF12,AQ12<>$AF12),$AF12,\nIF(AND(AR12<>$AG12,AQ12<>$AG12),$AG12,\nIF(AND(AR12<>$AH12,AQ12<>$AH12),$AH12,\nIF(AND(AR12<>$AI12,AQ12<>$AI12),$AI12,\nIF(AND(AR12<>$AJ12,AQ12<>$AJ12),$AJ12,\nIF(AND(AR12<>$AK12,AQ12<>$AK12),$AK12,\nIF(AND(AR12<>$AL12,AQ12<>$AL12),$AL12,\nIF(AND(AR12<>$AM12,AQ12<>$AM12),$AM12,\nIF(AND(AR12<>$AN12,AQ12<>$AN12),$AN12,\nIF(AND(AR12<>$AO12,AQ12<>$AO12),$AO12,\n\"\")))))))))))","v":""},{"$f":"IF(AS12=\"\",\"\",\nIF(AND(AQ12<>$AF12,AS12<>$AF12,AR12<>$AF12),$AF12,\nIF(AND(AQ12<>$AG12,AS12<>$AG12,AR12<>$AG12),$AG12,\nIF(AND(AQ12<>$AH12,AS12<>$AH12,AR12<>$AH12),$AH12,\nIF(AND(AQ12<>$AI12,AS12<>$AI12,AR12<>$AI12),$AI12,\nIF(AND(AQ12<>$AJ12,AS12<>$AJ12,AR12<>$AJ12),$AJ12,\nIF(AND(AQ12<>$AK12,AS12<>$AK12,AR12<>$AK12),$AK12,\nIF(AND(AQ12<>$AL12,AS12<>$AL12,AR12<>$AL12),$AL12,\nIF(AND(AQ12<>$AM12,AS12<>$AM12,AR12<>$AM12),$AM12,\nIF(AND(AQ12<>$AN12,AS12<>$AN12,AR12<>$AN12),$AN12,\nIF(AND(AQ12<>$AO12,AS12<>$AO12,AR12<>$AO12),$AO12,\n\"\")))))))))))","v":""},{"$f":"IF(AT12=\"\",\"\",\nIF(AND(AQ12<>$AF12,AR12<>$AF12,AT12<>$AF12,AS12<>$AF12),$AF12,\nIF(AND(AQ12<>$AG12,AR12<>$AG12,AT12<>$AG12,AS12<>$AG12),$AG12,\nIF(AND(AQ12<>$AH12,AR12<>$AH12,AT12<>$AH12,AS12<>$AH12),$AH12,\nIF(AND(AQ12<>$AI12,AR12<>$AI12,AT12<>$AI12,AS12<>$AI12),$AI12,\nIF(AND(AQ12<>$AJ12,AR12<>$AJ12,AT12<>$AJ12,AS12<>$AJ12),$AJ12,\nIF(AND(AQ12<>$AK12,AR12<>$AK12,AT12<>$AK12,AS12<>$AK12),$AK12,\nIF(AND(AQ12<>$AL12,AR12<>$AL12,AT12<>$AL12,AS12<>$AL12),$AL12,\nIF(AND(AQ12<>$AM12,AR12<>$AM12,AT12<>$AM12,AS12<>$AM12),$AM12,\nIF(AND(AQ12<>$AN12,AR12<>$AN12,AT12<>$AN12,AS12<>$AN12),$AN12,\nIF(AND(AQ12<>$AO12,AR12<>$AO12,AT12<>$AO12,AS12<>$AO12),$AO12,\n\"\")))))))))))","v":""},{"$f":"IF(AU12=\"\",\"\",\nIF(AND(AQ12<>$AF12,AR12<>$AF12,AS12<>$AF12,AU12<>$AF12,AT12<>$AF12),$AF12,\nIF(AND(AQ12<>$AG12,AR12<>$AG12,AS12<>$AG12,AU12<>$AG12,AT12<>$AG12),$AG12,\nIF(AND(AQ12<>$AH12,AR12<>$AH12,AS12<>$AH12,AU12<>$AH12,AT12<>$AH12),$AH12,\nIF(AND(AQ12<>$AI12,AR12<>$AI12,AS12<>$AI12,AU12<>$AI12,AT12<>$AI12),$AI12,\nIF(AND(AQ12<>$AJ12,AR12<>$AJ12,AS12<>$AJ12,AU12<>$AJ12,AT12<>$AJ12),$AJ12,\nIF(AND(AQ12<>$AK12,AR12<>$AK12,AS12<>$AK12,AU12<>$AK12,AT12<>$AK12),$AK12,\nIF(AND(AQ12<>$AL12,AR12<>$AL12,AS12<>$AL12,AU12<>$AL12,AT12<>$AL12),$AL12,\nIF(AND(AQ12<>$AM12,AR12<>$AM12,AS12<>$AM12,AU12<>$AM12,AT12<>$AM12),$AM12,\nIF(AND(AQ12<>$AN12,AR12<>$AN12,AS12<>$AN12,AU12<>$AN12,AT12<>$AN12),$AN12,\nIF(AND(AQ12<>$AO12,AR12<>$AO12,AS12<>$AO12,AU12<>$AO12,AT12<>$AO12),$AO12,\n\"\")))))))))))","v":""},{"$f":"IF(AV12=\"\",\"\",\nIF(AND(AQ12<>$AF12,AR12<>$AF12,AS12<>$AF12,AT12<>$AF12,AV12<>$AF12,AU12<>$AF12),$AF12,\nIF(AND(AQ12<>$AG12,AR12<>$AG12,AS12<>$AG12,AT12<>$AG12,AV12<>$AG12,AU12<>$AG12),$AG12,\nIF(AND(AQ12<>$AH12,AR12<>$AH12,AS12<>$AH12,AT12<>$AH12,AV12<>$AH12,AU12<>$AH12),$AH12,\nIF(AND(AQ12<>$AI12,AR12<>$AI12,AS12<>$AI12,AT12<>$AI12,AV12<>$AI12,AU12<>$AI12),$AI12,\nIF(AND(AQ12<>$AJ12,AR12<>$AJ12,AS12<>$AJ12,AT12<>$AJ12,AV12<>$AJ12,AU12<>$AJ12),$AJ12,\nIF(AND(AQ12<>$AK12,AR12<>$AK12,AS12<>$AK12,AT12<>$AK12,AV12<>$AK12,AU12<>$AK12),$AK12,\nIF(AND(AQ12<>$AL12,AR12<>$AL12,AS12<>$AL12,AT12<>$AL12,AV12<>$AL12,AU12<>$AL12),$AL12,\nIF(AND(AQ12<>$AM12,AR12<>$AM12,AS12<>$AM12,AT12<>$AM12,AV12<>$AM12,AU12<>$AM12),$AM12,\nIF(AND(AQ12<>$AN12,AR12<>$AN12,AS12<>$AN12,AT12<>$AN12,AV12<>$AN12,AU12<>$AN12),$AN12,\nIF(AND(AQ12<>$AO12,AR12<>$AO12,AS12<>$AO12,AT12<>$AO12,AV12<>$AO12,AU12<>$AO12),$AO12,\n\"\")))))))))))","v":""},{"$f":"IF(AW12=\"\",\"\",\nIF(AND(AQ12<>$AF12,AR12<>$AF12,AS12<>$AF12,AT12<>$AF12,AU12<>$AF12,AW12<>$AF12,AV12<>$AF12),$AF12,\nIF(AND(AQ12<>$AG12,AR12<>$AG12,AS12<>$AG12,AT12<>$AG12,AU12<>$AG12,AW12<>$AG12,AV12<>$AG12),$AG12,\nIF(AND(AQ12<>$AH12,AR12<>$AH12,AS12<>$AH12,AT12<>$AH12,AU12<>$AH12,AW12<>$AH12,AV12<>$AH12),$AH12,\nIF(AND(AQ12<>$AI12,AR12<>$AI12,AS12<>$AI12,AT12<>$AI12,AU12<>$AI12,AW12<>$AI12,AV12<>$AI12),$AI12,\nIF(AND(AQ12<>$AJ12,AR12<>$AJ12,AS12<>$AJ12,AT12<>$AJ12,AU12<>$AJ12,AW12<>$AJ12,AV12<>$AJ12),$AJ12,\nIF(AND(AQ12<>$AK12,AR12<>$AK12,AS12<>$AK12,AT12<>$AK12,AU12<>$AK12,AW12<>$AK12,AV12<>$AK12),$AK12,\nIF(AND(AQ12<>$AL12,AR12<>$AL12,AS12<>$AL12,AT12<>$AL12,AU12<>$AL12,AW12<>$AL12,AV12<>$AL12),$AL12,\nIF(AND(AQ12<>$AM12,AR12<>$AM12,AS12<>$AM12,AT12<>$AM12,AU12<>$AM12,AW12<>$AM12,AV12<>$AM12),$AM12,\nIF(AND(AQ12<>$AN12,AR12<>$AN12,AS12<>$AN12,AT12<>$AN12,AU12<>$AN12,AW12<>$AN12,AV12<>$AN12),$AN12,\nIF(AND(AQ12<>$AO12,AR12<>$AO12,AS12<>$AO12,AT12<>$AO12,AU12<>$AO12,AW12<>$AO12,AV12<>$AO12),$AO12,\n\"\")))))))))))","v":""},{"$f":"IF(AX12=\"\",\"\",\nIF(AND(AQ12<>$AF12,AR12<>$AF12,AS12<>$AF12,AT12<>$AF12,AU12<>$AF12,AV12<>$AF12,AX12<>$AF12,AW12<>$AF12),$AF12,\nIF(AND(AQ12<>$AG12,AR12<>$AG12,AS12<>$AG12,AT12<>$AG12,AU12<>$AG12,AV12<>$AG12,AX12<>$AG12,AW12<>$AG12),$AG12,\nIF(AND(AQ12<>$AH12,AR12<>$AH12,AS12<>$AH12,AT12<>$AH12,AU12<>$AH12,AV12<>$AH12,AX12<>$AH12,AW12<>$AH12),$AH12,\nIF(AND(AQ12<>$AI12,AR12<>$AI12,AS12<>$AI12,AT12<>$AI12,AU12<>$AI12,AV12<>$AI12,AX12<>$AI12,AW12<>$AI12),$AI12,\nIF(AND(AQ12<>$AJ12,AR12<>$AJ12,AS12<>$AJ12,AT12<>$AJ12,AU12<>$AJ12,AV12<>$AJ12,AX12<>$AJ12,AW12<>$AJ12),$AJ12,\nIF(AND(AQ12<>$AK12,AR12<>$AK12,AS12<>$AK12,AT12<>$AK12,AU12<>$AK12,AV12<>$AK12,AX12<>$AK12,AW12<>$AK12),$AK12,\nIF(AND(AQ12<>$AL12,AR12<>$AL12,AS12<>$AL12,AT12<>$AL12,AU12<>$AL12,AV12<>$AL12,AX12<>$AL12,AW12<>$AL12),$AL12,\nIF(AND(AQ12<>$AM12,AR12<>$AM12,AS12<>$AM12,AT12<>$AM12,AU12<>$AM12,AV12<>$AM12,AX12<>$AM12,AW12<>$AM12),$AM12,\nIF(AND(AQ12<>$AN12,AR12<>$AN12,AS12<>$AN12,AT12<>$AN12,AU12<>$AN12,AV12<>$AN12,AX12<>$AN12,AW12<>$AN12),$AN12,\nIF(AND(AQ12<>$AO12,AR12<>$AO12,AS12<>$AO12,AT12<>$AO12,AU12<>$AO12,AV12<>$AO12,AX12<>$AO12,AW12<>$AO12),$AO12,\n\"\")))))))))))","v":""},{"$f":"IF(AY12=\"\",\"\",\nIF(AND(AQ12<>$AF12,AR12<>$AF12,AS12<>$AF12,AT12<>$AF12,AU12<>$AF12,AV12<>$AF12,AW12<>$AF12,AY12<>$AF12,AX12<>$AF12),$AF12,\nIF(AND(AQ12<>$AG12,AR12<>$AG12,AS12<>$AG12,AT12<>$AG12,AU12<>$AG12,AV12<>$AG12,AW12<>$AG12,AY12<>$AG12,AX12<>$AG12),$AG12,\nIF(AND(AQ12<>$AH12,AR12<>$AH12,AS12<>$AH12,AT12<>$AH12,AU12<>$AH12,AV12<>$AH12,AW12<>$AH12,AY12<>$AH12,AX12<>$AH12),$AH12,\nIF(AND(AQ12<>$AI12,AR12<>$AI12,AS12<>$AI12,AT12<>$AI12,AU12<>$AI12,AV12<>$AI12,AW12<>$AI12,AY12<>$AI12,AX12<>$AI12),$AI12,\nIF(AND(AQ12<>$AJ12,AR12<>$AJ12,AS12<>$AJ12,AT12<>$AJ12,AU12<>$AJ12,AV12<>$AJ12,AW12<>$AJ12,AY12<>$AJ12,AX12<>$AJ12),$AJ12,\nIF(AND(AQ12<>$AK12,AR12<>$AK12,AS12<>$AK12,AT12<>$AK12,AU12<>$AK12,AV12<>$AK12,AW12<>$AK12,AY12<>$AK12,AX12<>$AK12),$AK12,\nIF(AND(AQ12<>$AL12,AR12<>$AL12,AS12<>$AL12,AT12<>$AL12,AU12<>$AL12,AV12<>$AL12,AW12<>$AL12,AY12<>$AL12,AX12<>$AL12),$AL12,\nIF(AND(AQ12<>$AM12,AR12<>$AM12,AS12<>$AM12,AT12<>$AM12,AU12<>$AM12,AV12<>$AM12,AW12<>$AM12,AY12<>$AM12,AX12<>$AM12),$AM12,\nIF(AND(AQ12<>$AN12,AR12<>$AN12,AS12<>$AN12,AT12<>$AN12,AU12<>$AN12,AV12<>$AN12,AW12<>$AN12,AY12<>$AN12,AX12<>$AN12),$AN12,\nIF(AND(AQ12<>$AO12,AR12<>$AO12,AS12<>$AO12,AT12<>$AO12,AU12<>$AO12,AV12<>$AO12,AW12<>$AO12,AY12<>$AO12,AX12<>$AO12),$AO12,\n\"\")))))))))))","v":""}]
[null,0,0,"413.000","Cu 10 mm²","",null,null,"413.000","Cu 10 mm²","ml",null,null,null,null,null,null,null,null,"E400_Solarleitungen",null,null,"x",null,null,null,null,null,null,"x",null,"ml","ml","ml","forf.","forf.","forf.","forf.","forf.","forf.","forf.",null,"ml","forf.","","","","","","","",""]
[null,0,0,"414.000","Cu 16 mm²","",null,null,"414.000","Cu 16 mm²","ml",null,null,null,null,null,null,null,null,"E400_Solarleitungen",null,null,"x",null,null,null,null,null,null,"x",null,"ml","ml","ml","forf.","forf.","forf.","forf.","forf.","forf.","forf.",null,"ml","forf.","","","","","","","",""]
[null,0,0,"415.000","Cu 25 mm²","",null,null,"415.000","Cu 25 mm²","ml",null,null,null,null,null,null,null,null,"E400_Solarleitungen",null,null,"x",null,null,null,null,null,null,"x",null,"ml","ml","ml","forf.","forf.","forf.","forf.","forf.","forf.","forf.",null,"ml","forf.","","","","","","","",""]
[null,0,0,"416.000","Cu 35 mm²","",null,null,"416.000","Cu 35 mm²","ml",null,null,null,null,null,null,null,null,"E400_Solarleitungen",null,null,"x",null,null,null,null,null,null,"x",null,"ml","ml","ml","forf.","forf.","forf.","forf.","forf.","forf.","forf.",null,"ml","forf.","","","","","","","",""]
[null,0,0,"417.000","Cu 50 mm²","",null,null,"417.000","Cu 50 mm²","ml",null,null,null,null,null,null,null,null,"E400_Solarleitungen",null,null,"x",null,null,null,null,null,null,"x",null,"ml","ml","ml","forf.","forf.","forf.","forf.","forf.","forf.","forf.",null,"ml","forf.","","","","","","","",""]
[null,0,0,"418.000","Al","",null,null,"418.000","Al","ml",null,null,null,null,null,null,null,null,"E400_Solarleitungen",null,null,"x",null,null,null,null,null,null,"x",null,"ml","ml","ml","forf.","forf.","forf.","forf.","forf.","forf.","forf.",null,"ml","forf.","","","","","","","",""]
[null,{"$f":"B9","v":1},0,null,null,"",null,null,null,null,null,null,null,null,null,null,null,null,null,null,null,null,null,null,null,null,null,null,null,null,null,"","","","","","","","","","",null,"","","","","","","","","",""]
[null,{"$f":"IF(L20=\"x\",1,IF(SUM(B22:B25)>0,1,0))","v":1},1,{"$f":"G20","v":"420.000"},{"$f":"H20","v":"Connecteurs solaires "},"forf.","420.000","Connecteurs solaires ",null,null,"forf.","x","Propriétés : \nConnecteur d’origine du fabricant (selon la NIBT)",null,null,null,null,null,null,"E400_Solarstecker",null,null,null,null,null,null,null,null,null,"x",null,"forf.","forf.","forf.","forf.","forf.","forf.","forf.","forf.","forf.","forf.",null,"forf.","","","","","","","","",""]
[null,{"$f":"IF(E21=\"\",0,1)","v":1},0,null,{"$f":"IF(M20<>\"\",M20,\"\")","v":"Propriétés : \nConnecteur d’origine du fabricant (selon la NIBT)"},""]
[null,{"$f":"IF(L22=\"x\",1,IF(ISNUMBER(L22),L22,0))","v":0},0,{"$f":"I22","v":"421.000"},{"$f":"J22 & IF(M22<>\"\",CHAR(10) & M22,\"\")","v":"4 mm²"},"",null,null,"421.000","4 mm²","Pce ",null,null,null,null,null,null,null,null,"E400_Solarstecker","x",null,null,null,null,null,null,null,null,"x",null,"Pce","forf.","forf.","forf.","forf.","forf.","forf.","forf.","forf.","forf.",null,"Pce","forf.","","","","","","","",""]
[null,{"$f":"IF(L23=\"x\",1,IF(ISNUMBER(L23),L23,0))","v":0},0,{"$f":"I23","v":"422.000"},"6 mm²","",null,null,"422.000","6 mm²","Pce ",null,null,null,null,null,null,null,null,"E400_Solarstecker","x",null,null,null,null,null,null,null,null,"x",null,"Pce","forf.","forf.","forf.","forf.","forf.","forf.","forf.","forf.","forf.",null,"Pce","forf.","","","","","","","",""]
[null,{"$f":"IF(L24=\"x\",1,IF(ISNUMBER(L24),L24,0))","v":0},0,"423.000","10 mm²","",null,null,"423.000","10 mm²","Pce ",null,null,null,null,null,null,null,null,"E400_Solarstecker","x",null,null,null,null,null,null,null,null,"x",null,"Pce","forf.","forf.","forf.","forf.","forf.","forf.","forf.","forf.","forf.",null,"Pce","forf.","","","","","","","",""]
[null,{"$f":"IF(L25=\"x\",1,IF(ISNUMBER(L25),L25,0))","v":0},0,{"$f":"I25","v":"424.000"},"Connecteur en Y","",null,null,"424.000","Connecteur en Y","Pce ",null,null,null,null,null,null,null,null,"E400_Solarstecker","x",null,null,null,null,null,null,null,null,null,null,"Pce","","","","","","","","","",null,"Pce","","","","","","","","",""]
[null,{"$f":"B20","v":1},0,null,null,"",null,null,null,null,null,null,null,null,null,null,null,null,null,null,null,null,null,null,null,null,null,null,null,null,null,"","","","","","","","","","",null,"","","","","","","","","",""]
[null,{"$f":"IF(L27=\"x\",1,IF(SUM(B29:B34)>0,1,0))","v":1},0,{"$f":"G27","v":"430.000"},{"$f":"H27","v":"Protection des câbles"},"","430.000","Protection des câbles",null,null,null,null,null,null,null,null,null,null,null,"E400_DC_Kabelschutz",null,null,null,null,null,null,null,null,null,"x",null,"forf.","forf.","forf.","forf.","forf.","forf.","forf.","forf.","forf.","forf.",null,"forf.","","","","","","","","",""]
[null,{"$f":"IF(E28=\"\",0,1)","v":0},0,null,{"$f":"IF(M27<>\"\",M27,\"\")","v":""},""]
[null,{"$f":"IF(L29=\"x\",1,IF(ISNUMBER(L29),L29,0))","v":1},1,{"$f":"I29","v":"431.000"},{"$f":"J29 & IF(M29<>\"\",CHAR(10) & M29,\"\")","v":"Tracés\nPropriétés : \navec couvercle\nGalvanisé à chaud"},"ml",null,null,"431.000","Tracés","ml","x","Propriétés : \navec couvercle\nGalvanisé à chaud",null,null,null,null,null,null,"E400_DC_Kabelschutz",null,null,"x",null,null,null,null,null,null,"x",null,"ml","ml","ml","forf.","forf.","forf.","forf.","forf.","forf.","forf.",null,"ml","forf.","","","","","","","",""]
[null,0,0,{"$f":"I30","v":"432.000"},"Canalisations","",null,null,"432.000","Canalisations","ml",null,null,null,null,null,null,null,null,"E400_DC_Kabelschutz",null,null,"x",null,null,null,null,null,null,"x",null,"ml","ml","ml","forf.","forf.","forf.","forf.","forf.","forf.","forf.",null,"ml","forf.","","","","","","","",""]
[null,0,0,"433.000","Tubes","",null,null,"433.000","Tubes","ml",null,null,null,null,null,null,null,null,"E400_DC_Kabelschutz","x",null,null,null,null,null,null,null,null,"x",null,"Pce","forf.","forf.","forf.","forf.","forf.","forf.","forf.","forf.","forf.",null,"Pce","forf.","","","","","","","",""]
[null,0,0,{"$f":"I32","v":"434.000"},"Gaînes","",null,null,"434.000","Gaînes","ml",null,null,null,null,null,null,null,null,"E400_DC_Kabelschutz",null,null,"x",null,null,null,null,null,null,"x ",null,"ml","ml","ml","","","","","","","",null,"ml","","","","","","","","",""]
[null,0,0,"435.000","Dalles en pierre (dalles de jardin)","",null,null,"435.000","Dalles en pierre (dalles de jardin)","Pce ",null,null,null,null,null,null,null,null,"E400_DC_Kabelschutz","x",null,null,"x",null,null,null,null,null,"x",null,"Pce","m2","m2","m2","forf.","forf.","forf.","forf.","forf.","forf.",null,"Pce","m2","forf.","","","","","","",""]
[null,0,0,"436.000","Protection arêtes coupantes","",null,null,"436.000","Protection arêtes coupantes","ml",null,null,null,null,null,null,null,null,"E400_DC_Kabelschutz",null,null,"x",null,null,null,null,null,null,"x",null,"ml","ml","ml","forf.","forf.","forf.","forf.","forf.","forf.","forf.",null,"ml","forf.","","","","","","","",""]
[null,{"$f":"B27","v":1},0,null,null,"",null,null,null,null,null,null,null,null,null,null,null,null,null,null,null,null,null,null,null,null,null,null,null,null,null,"","","","","","","","","","",null,"","","","","","","","","",""]
[null,{"$f":"IF(L36=\"x\",1,IF(SUM(B38:B39)>0,1,0))","v":1},0,{"$f":"G36","v":"440.000"},{"$f":"H36","v":"Consommables"},"","440.000","Consommables",null,null,null,null,null,null,null,null,null,null,null,"E400_DC_Verbrauchsmaterial",null,null,null,null,null,null,null,null,null,"x",null,"forf.","forf.","forf.","forf.","forf.","forf.","forf.","forf.","forf.","forf.",null,"forf.","","","","","","","","",""]
[null,{"$f":"IF(E37=\"\",0,1)","v":0},0,null,{"$f":"IF(M36<>\"\",M36,\"\")","v":""},""]
[null,{"$f":"IF(L38=\"x\",1,IF(ISNUMBER(L38),L38,0))","v":1},1,{"$f":"I38","v":"441.000"},{"$f":"J38 & IF(M38<>\"\",CHAR(10) & M38,\"\")","v":"Etiquettes de câbles\nPropriétés : \nRésistant aux UV"},"Pce ",null,null,"441.000","Etiquettes de câbles","Pce ","x","Propriétés : \nRésistant aux UV",null,null,null,null,null,null,"E400_DC_Verbrauchsmaterial","x",null,null,null,null,null,null,null,null,"x",null,"Pce","forf.","forf.","forf.","forf.","forf.","forf.","forf.","forf.","forf.",null,"Pce","forf.","","","","","","","",""]
[null,{"$f":"IF(L39=\"x\",1,IF(ISNUMBER(L39),L39,0))","v":1},1,{"$f":"I39","v":"442.000"},"Matériel de fixation de câbles\nPropriétés : \nRésistant aux UV","Pce ",null,null,"442.000","Matériel de fixation de câbles","Pce ","x","Propriétés : \nRésistant aux UV",null,null,null,null,null,null,"E400_DC_Verbrauchsmaterial","x",null,null,null,null,null,null,null,null,"x",null,"Pce","forf.","forf.","forf.","forf.","forf.","forf.","forf.","forf.","forf.",null,"Pce","forf.","","","","","","","",""]
[null,{"$f":"B36","v":1},0,null,null,"",null,null,null,null,null,null,null,null,null,null,null,null,null,null,null,null,null,null,null,null,null,null,null,null,null,"","","","","","","","","","",null,"","","","","","","","","",""]
[null,{"$f":"IF(L41=\"x\",1,IF(SUM(B43:B46)>0,1,0))","v":1},0,{"$f":"G41","v":"450.000"},{"$f":"H41","v":"Liaison équipotentielle"},"","450.000","Liaison équipotentielle",null,null,null,null,null,null,null,null,null,null,null,"E400_DC_POT_Ausgleich",null,null,null,null,null,null,null,null,null,"x",null,"forf.","forf.","forf.","forf.","forf.","forf.","forf.","forf.","forf.","forf.",null,"forf.","","","","","","","","",""]
[null,{"$f":"IF(E42=\"\",0,1)","v":0},0,null,{"$f":"IF(M41<>\"\",M41,\"\")","v":""},""]
[null,{"$f":"IF(L43=\"x\",1,IF(ISNUMBER(L43),L43,0))","v":1},1,{"$f":"I43","v":"451.000"},{"$f":"J43 & IF(M43<>\"\",CHAR(10) & M43,\"\")","v":"Conducteur\nPropriétés : \n16 mm²"},"ml",null,null,"451.000","Conducteur","ml","x","Propriétés : \n16 mm²",null,null,null,null,null,null,"E400_DC_POT_Ausgleich",null,null,"x",null,null,null,null,null,null,"x",null,"ml","ml","ml","forf.","forf.","forf.","forf.","forf.","forf.","forf.",null,"ml","forf.","","","","","","","",""]
[null,{"$f":"IF(L44=\"x\",1,IF(ISNUMBER(L44),L44,0))","v":1},1,{"$f":"I44","v":"452.000"},"Serre-fils (pièce de raccordement)\nPropriétés : \nInoxydable","Pce ",null,null,"452.000","Serre-fils (pièce de raccordement)","Pce ","x","Propriétés : \nInoxydable",null,null,null,null,null,null,"E400_DC_POT_Ausgleich","x",null,null,null,null,null,null,null,null,"x",null,"Pce","forf.","forf.","forf.","forf.","forf.","forf.","forf.","forf.","forf.",null,"Pce","forf.","","","","","","","",""]
[null,{"$f":"IF(L45=\"x\",1,IF(ISNUMBER(L45),L45,0))","v":0},0,"453.000","Cosses de câbles","",null,null,"453.000","Cosses de câbles","Pce ",null,null,null,null,null,null,null,null,"E400_DC_POT_Ausgleich","x",null,null,null,null,null,null,null,null,"x",null,"Pce","forf.","forf.","forf.","forf.","forf.","forf.","forf.","forf.","forf.",null,"Pce","forf.","","","","","","","",""]
[null,{"$f":"IF(L46=\"x\",1,IF(ISNUMBER(L46),L46,0))","v":1},1,{"$f":"I46","v":"454.000"},"Barrette de terre","Pce ",null,null,"454.000","Barrette de terre","Pce ","x",null,null,null,null,null,null,null,"E400_DC_POT_Ausgleich","x",null,null,null,null,null,null,null,null,null,null,"Pce","","","","","","","","","",null,"Pce","","","","","","","","",""]
[null,{"$f":"B41","v":1},0,null,null,"",null,null,null,null,null,null,null,null,null,null,null,null,null,null,null,null,null,null,null,null,null,null,null,null,null,"","","","","","","","","","",null,"","","","","","","","","",""]
[null,{"$f":"IF(L48=\"x\",1,IF(SUM(B50:B52)>0,1,0))","v":1},0,{"$f":"G48","v":"460.000"},{"$f":"H48","v":"Raccordement à la protection contre la foudre existante"},"","460.000","Raccordement à la protection contre la foudre existante",null,null,null,null,null,null,null,null,null,null,null,"E400_Anschluss_best_Blitzschutz",null,null,null,null,null,null,null,null,null,"x",null,"forf.","forf.","forf.","forf.","forf.","forf.","forf.","forf.","forf.","forf.",null,"forf.","","","","","","","","",""]
[null,{"$f":"IF(E49=\"\",0,1)","v":0},0,null,{"$f":"IF(M48<>\"\",M48,\"\")","v":""},""]
[null,{"$f":"IF(L50=\"x\",1,IF(ISNUMBER(L50),L50,0))","v":1},1,{"$f":"I50","v":"461.000"},{"$f":"J50","v":"Conducteur"},"ml",null,null,"461.000","Conducteur","ml","x",null,null,null,null,null,null,null,null,null,null,"x",null,null,null,null,null,null,"x",null,"ml","ml","ml","forf.","forf.","forf.","forf.","forf.","forf.","forf.",null,"ml","forf.","","","","","","","",""]
[null,{"$f":"IF(L51=\"x\",1,IF(ISNUMBER(L51),L51,0))","v":1},1,{"$f":"I51","v":"462.000"},"Serre-fils (pièce de raccordement)","Pce ",null,null,"462.000","Serre-fils (pièce de raccordement)","Pce ","x",null,null,null,null,null,null,null,null,"x",null,null,null,null,null,null,null,null,"x",null,"Pce","forf.","forf.","forf.","forf.","forf.","forf.","forf.","forf.","forf.",null,"Pce","forf.","","","","","","","",""]
[null,{"$f":"IF(L52=\"x\",1,IF(ISNUMBER(L52),L52,0))","v":0},0,"463.000","Supports de conducteurs de parafoudre","",null,null,"463.000","Supports de conducteurs de parafoudre","Pce ",null,null,null,null,null,null,null,null,null,"x",null,null,null,null,null,null,null,null,null,null,"Pce","","","","","","","","","",null,"Pce","","","","","","","","",""]

{"sheet":"500 Installations AC","index":7,"n_rows":53,"n_cols":52,"rows_kept":53,"cut":false,"hidden":false,"merged":[[0,19,0,51],[1,6,1,7],[3,6,3,7],[3,8,3,9],[2,6,2,7],[2,8,2,9]]}
[null,null,null,null,null,null,null,null,null,null,null,null,null,null,null,null,null,null,null,"AUSBLENDEN"]
[null,null,null,null,"Ausblenden",null,"Niveau de structure 1 :",null,500,"Installation AC"]
[null,null,null,null,null,null,"Obligatoire",null,"Optionnel"]
[null,"Show","Fill","SOQ-Nr.","Beschreibung","Einheit","Niveau de structure 2",null,"Niveau de structure 3",null,"Unité de prestation","Ajouter une position","E-Box",null,null,null,null,null,null,"E-Box","Pce","Module","ml","m2","m3","h","mois","a","kWp","forf.",null,"Pos1","Pos2","Pos3","Pos4","Pos5","Pos6","Pos7","Pos8","Pos9","Pos10",null,"Pos1","Pos2","Pos3","Pos4","Pos5","Pos6","Pos7","Pos8","Pos9","Pos10"]
[]
[null,{"$f":"IF(L6=\"x\",1,IF(SUM(B8:B10)>0,1,0))","v":1},{"$f":"IF(L6=\"x\",1,IF(ISNUMBER(L6),1,0))","v":1},{"$f":"G6","v":"510.000"},{"$f":"H6","v":"Lignes AC"},{"$f":"IF(C6=1,K6,\"\")","v":"forf."},"510.000","Lignes AC",null,null,"forf.","x","Propriétés : \nSection\n6 mm²\nCâble PUR",null,null,null,null,null,null,"E500_AC_Leitungen",null,null,null,null,null,null,null,null,null,"x",null,{"$f":"\nIF(U6=\"x\",U$4,\nIF(V6=\"x\",V$4,\nIF(W6=\"x\",W$4,\nIF(X6=\"x\",X$4,\nIF(Y6=\"x\",Y$4,\nIF(Z6=\"x\",Z$4,\nIF(AA6=\"x\",AA$4,\nIF(AB6=\"x\",AB$4,\nIF(AC6=\"x\",AC$4,\nIF(AD6=\"x\",AD$4,\n\"\"))))))))))","v":"forf."},{"$f":"\nIF(V6=\"x\",V$4,\nIF(W6=\"x\",W$4,\nIF(X6=\"x\",X$4,\nIF(Y6=\"x\",Y$4,\nIF(Z6=\"x\",Z$4,\nIF(AA6=\"x\",AA$4,\nIF(AB6=\"x\",AB$4,\nIF(AC6=\"x\",AC$4,\nIF(AD6=\"x\",AD$4,\n\"\")))))))))","v":"forf."},{"$f":"\nIF(W6=\"x\",W$4,\nIF(X6=\"x\",X$4,\nIF(Y6=\"x\",Y$4,\nIF(Z6=\"x\",Z$4,\nIF(AA6=\"x\",AA$4,\nIF(AB6=\"x\",AB$4,\nIF(AC6=\"x\",AC$4,\nIF(AD6=\"x\",AD$4,\n\"\"))))))))","v":"forf."},{"$f":"\nIF(X6=\"x\",X$4,\nIF(Y6=\"x\",Y$4,\nIF(Z6=\"x\",Z$4,\nIF(AA6=\"x\",AA$4,\nIF(AB6=\"x\",AB$4,\nIF(AC6=\"x\",AC$4,\nIF(AD6=\"x\",AD$4,\n\"\")))))))","v":"forf."},{"$f":"\nIF(Y6=\"x\",Y$4,\nIF(Z6=\"x\",Z$4,\nIF(AA6=\"x\",AA$4,\nIF(AB6=\"x\",AB$4,\nIF(AC6=\"x\",AC$4,\nIF(AD6=\"x\",AD$4,\n\"\"))))))","v":"forf."},{"$f":"\nIF(Z6=\"x\",Z$4,\nIF(AA6=\"x\",AA$4,\nIF(AB6=\"x\",AB$4,\nIF(AC6=\"x\",AC$4,\nIF(AD6=\"x\",AD$4,\n\"\")))))","v":"forf."},{"$f":"\nIF(AA6=\"x\",AA$4,\nIF(AB6=\"x\",AB$4,\nIF(AC6=\"x\",AC$4,\nIF(AD6=\"x\",AD$4,\n\"\"))))","v":"forf."},{"$f":"\nIF(AB6=\"x\",AB$4,\nIF(AC6=\"x\",AC$4,\nIF(AD6=\"x\",AD$4,\n\"\")))","v":"forf."},{"$f":"\nIF(AC6=\"x\",AC$4,\nIF(AD6=\"x\",AD$4,\n\"\"))","v":"forf."},{"$f":"\nIF(AD6=\"x\",AD$4,\n\"\")","v":"forf."},null,{"$f":"AF6","v":"forf."},{"$f":"IF(AQ6=\"\",\"\",\nIF(AQ6<>$AF6,$AF6,\nIF(AQ6<>$AG6,$AG6,\nIF(AQ6<>$AH6,$AH6,\nIF(AQ6<>$AI6,$AI6,\nIF(AQ6<>$AJ6,$AJ6,\nIF(AQ6<>$AK6,$AK6,\nIF(AQ6<>$AL6,$AL6,\nIF(AQ6<>$AM6,$AM6,\nIF(AQ6<>$AN6,$AN6,\nIF(AQ6<>$AO6,$AO6,\n\"\")))))))))))","v":""},{"$f":"IF(AR6=\"\",\"\",\nIF(AND(AR6<>$AF6,AQ6<>$AF6),$AF6,\nIF(AND(AR6<>$AG6,AQ6<>$AG6),$AG6,\nIF(AND(AR6<>$AH6,AQ6<>$AH6),$AH6,\nIF(AND(AR6<>$AI6,AQ6<>$AI6),$AI6,\nIF(AND(AR6<>$AJ6,AQ6<>$AJ6),$AJ6,\nIF(AND(AR6<>$AK6,AQ6<>$AK6),$AK6,\nIF(AND(AR6<>$AL6,AQ6<>$AL6),$AL6,\nIF(AND(AR6<>$AM6,AQ6<>$AM6),$AM6,\nIF(AND(AR6<>$AN6,AQ6<>$AN6),$AN6,\nIF(AND(AR6<>$AO6,AQ6<>$AO6),$AO6,\n\"\")))))))))))","v":""},{"$f":"IF(AS6=\"\",\"\",\nIF(AND(AQ6<>$AF6,AS6<>$AF6,AR6<>$AF6),$AF6,\nIF(AND(AQ6<>$AG6,AS6<>$AG6,AR6<>$AG6),$AG6,\nIF(AND(AQ6<>$AH6,AS6<>$AH6,AR6<>$AH6),$AH6,\nIF(AND(AQ6<>$AI6,AS6<>$AI6,AR6<>$AI6),$AI6,\nIF(AND(AQ6<>$AJ6,AS6<>$AJ6,AR6<>$AJ6),$AJ6,\nIF(AND(AQ6<>$AK6,AS6<>$AK6,AR6<>$AK6),$AK6,\nIF(AND(AQ6<>$AL6,AS6<>$AL6,AR6<>$AL6),$AL6,\nIF(AND(AQ6<>$AM6,AS6<>$AM6,AR6<>$AM6),$AM6,\nIF(AND(AQ6<>$AN6,AS6<>$AN6,AR6<>$AN6),$AN6,\nIF(AND(AQ6<>$AO6,AS6<>$AO6,AR6<>$AO6),$AO6,\n\"\")))))))))))","v":""},{"$f":"IF(AT6=\"\",\"\",\nIF(AND(AQ6<>$AF6,AR6<>$AF6,AT6<>$AF6,AS6<>$AF6),$AF6,\nIF(AND(AQ6<>$AG6,AR6<>$AG6,AT6<>$AG6,AS6<>$AG6),$AG6,\nIF(AND(AQ6<>$AH6,AR6<>$AH6,AT6<>$AH6,AS6<>$AH6),$AH6,\nIF(AND(AQ6<>$AI6,AR6<>$AI6,AT6<>$AI6,AS6<>$AI6),$AI6,\nIF(AND(AQ6<>$AJ6,AR6<>$AJ6,AT6<>$AJ6,AS6<>$AJ6),$AJ6,\nIF(AND(AQ6<>$AK6,AR6<>$AK6,AT6<>$AK6,AS6<>$AK6),$AK6,\nIF(AND(AQ6<>$AL6,AR6<>$AL6,AT6<>$AL6,AS6<>$AL6),$AL6,\nIF(AND(AQ6<>$AM6,AR6<>$AM6,AT6<>$AM6,AS6<>$AM6),$AM6,\nIF(AND(AQ6<>$AN6,AR6<>$AN6,AT6<>$AN6,AS6<>$AN6),$AN6,\nIF(AND(AQ6<>$AO6,AR6<>$AO6,AT6<>$AO6,AS6<>$AO6),$AO6,\n\"\")))))))))))","v":""},{"$f":"IF(AU6=\"\",\"\",\nIF(AND(AQ6<>$AF6,AR6<>$AF6,AS6<>$AF6,AU6<>$AF6,AT6<>$AF6),$AF6,\nIF(AND(AQ6<>$AG6,AR6<>$AG6,AS6<>$AG6,AU6<>$AG6,AT6<>$AG6),$AG6,\nIF(AND(AQ6<>$AH6,AR6<>$AH6,AS6<>$AH6,AU6<>$AH6,AT6<>$AH6),$AH6,\nIF(AND(AQ6<>$AI6,AR6<>$AI6,AS6<>$AI6,AU6<>$AI6,AT6<>$AI6),$AI6,\nIF(AND(AQ6<>$AJ6,AR6<>$AJ6,AS6<>$AJ6,AU6<>$AJ6,AT6<>$AJ6),$AJ6,\nIF(AND(AQ6<>$AK6,AR6<>$AK6,AS6<>$AK6,AU6<>$AK6,AT6<>$AK6),$AK6,\nIF(AND(AQ6<>$AL6,AR6<>$AL6,AS6<>$AL6,AU6<>$AL6,AT6<>$AL6),$AL6,\nIF(AND(AQ6<>$AM6,AR6<>$AM6,AS6<>$AM6,AU6<>$AM6,AT6<>$AM6),$AM6,\nIF(AND(AQ6<>$AN6,AR6<>$AN6,AS6<>$AN6,AU6<>$AN6,AT6<>$AN6),$AN6,\nIF(AND(AQ6<>$AO6,AR6<>$AO6,AS6<>$AO6,AU6<>$AO6,AT6<>$AO6),$AO6,\n\"\")))))))))))","v":""},{"$f":"IF(AV6=\"\",\"\",\nIF(AND(AQ6<>$AF6,AR6<>$AF6,AS6<>$AF6,AT6<>$AF6,AV6<>$AF6,AU6<>$AF6),$AF6,\nIF(AND(AQ6<>$AG6,AR6<>$AG6,AS6<>$AG6,AT6<>$AG6,AV6<>$AG6,AU6<>$AG6),$AG6,\nIF(AND(AQ6<>$AH6,AR6<>$AH6,AS6<>$AH6,AT6<>$AH6,AV6<>$AH6,AU6<>$AH6),$AH6,\nIF(AND(AQ6<>$AI6,AR6<>$AI6,AS6<>$AI6,AT6<>$AI6,AV6<>$AI6,AU6<>$AI6),$AI6,\nIF(AND(AQ6<>$AJ6,AR6<>$AJ6,AS6<>$AJ6,AT6<>$AJ6,AV6<>$AJ6,AU6<>$AJ6),$AJ6,\nIF(AND(AQ6<>$AK6,AR6<>$AK6,AS6<>$AK6,AT6<>$AK6,AV6<>$AK6,AU6<>$AK6),$AK6,\nIF(AND(AQ6<>$AL6,AR6<>$AL6,AS6<>$AL6,AT6<>$AL6,AV6<>$AL6,AU6<>$AL6),$AL6,\nIF(AND(AQ6<>$AM6,AR6<>$AM6,AS6<>$AM6,AT6<>$AM6,AV6<>$AM6,AU6<>$AM6),$AM6,\nIF(AND(AQ6<>$AN6,AR6<>$AN6,AS6<>$AN6,AT6<>$AN6,AV6<>$AN6,AU6<>$AN6),$AN6,\nIF(AND(AQ6<>$AO6,AR6<>$AO6,AS6<>$AO6,AT6<>$AO6,AV6<>$AO6,AU6<>$AO6),$AO6,\n\"\")))))))))))","v":""},{"$f":"IF(AW6=\"\",\"\",\nIF(AND(AQ6<>$AF6,AR6<>$AF6,AS6<>$AF6,AT6<>$AF6,AU6<>$AF6,AW6<>$AF6,AV6<>$AF6),$AF6,\nIF(AND(AQ6<>$AG6,AR6<>$AG6,AS6<>$AG6,AT6<>$AG6,AU6<>$AG6,AW6<>$AG6,AV6<>$AG6),$AG6,\nIF(AND(AQ6<>$AH6,AR6<>$AH6,AS6<>$AH6,AT6<>$AH6,AU6<>$AH6,AW6<>$AH6,AV6<>$AH6),$AH6,\nIF(AND(AQ6<>$AI6,AR6<>$AI6,AS6<>$AI6,AT6<>$AI6,AU6<>$AI6,AW6<>$AI6,AV6<>$AI6),$AI6,\nIF(AND(AQ6<>$AJ6,AR6<>$AJ6,AS6<>$AJ6,AT6<>$AJ6,AU6<>$AJ6,AW6<>$AJ6,AV6<>$AJ6),$AJ6,\nIF(AND(AQ6<>$AK6,AR6<>$AK6,AS6<>$AK6,AT6<>$AK6,AU6<>$AK6,AW6<>$AK6,AV6<>$AK6),$AK6,\nIF(AND(AQ6<>$AL6,AR6<>$AL6,AS6<>$AL6,AT6<>$AL6,AU6<>$AL6,AW6<>$AL6,AV6<>$AL6),$AL6,\nIF(AND(AQ6<>$AM6,AR6<>$AM6,AS6<>$AM6,AT6<>$AM6,AU6<>$AM6,AW6<>$AM6,AV6<>$AM6),$AM6,\nIF(AND(AQ6<>$AN6,AR6<>$AN6,AS6<>$AN6,AT6<>$AN6,AU6<>$AN6,AW6<>$AN6,AV6<>$AN6),$AN6,\nIF(AND(AQ6<>$AO6,AR6<>$AO6,AS6<>$AO6,AT6<>$AO6,AU6<>$AO6,AW6<>$AO6,AV6<>$AO6),$AO6,\n\"\")))))))))))","v":""},{"$f":"IF(AX6=\"\",\"\",\nIF(AND(AQ6<>$AF6,AR6<>$AF6,AS6<>$AF6,AT6<>$AF6,AU6<>$AF6,AV6<>$AF6,AX6<>$AF6,AW6<>$AF6),$AF6,\nIF(AND(AQ6<>$AG6,AR6<>$AG6,AS6<>$AG6,AT6<>$AG6,AU6<>$AG6,AV6<>$AG6,AX6<>$AG6,AW6<>$AG6),$AG6,\nIF(AND(AQ6<>$AH6,AR6<>$AH6,AS6<>$AH6,AT6<>$AH6,AU6<>$AH6,AV6<>$AH6,AX6<>$AH6,AW6<>$AH6),$AH6,\nIF(AND(AQ6<>$AI6,AR6<>$AI6,AS6<>$AI6,AT6<>$AI6,AU6<>$AI6,AV6<>$AI6,AX6<>$AI6,AW6<>$AI6),$AI6,\nIF(AND(AQ6<>$AJ6,AR6<>$AJ6,AS6<>$AJ6,AT6<>$AJ6,AU6<>$AJ6,AV6<>$AJ6,AX6<>$AJ6,AW6<>$AJ6),$AJ6,\nIF(AND(AQ6<>$AK6,AR6<>$AK6,AS6<>$AK6,AT6<>$AK6,AU6<>$AK6,AV6<>$AK6,AX6<>$AK6,AW6<>$AK6),$AK6,\nIF(AND(AQ6<>$AL6,AR6<>$AL6,AS6<>$AL6,AT6<>$AL6,AU6<>$AL6,AV6<>$AL6,AX6<>$AL6,AW6<>$AL6),$AL6,\nIF(AND(AQ6<>$AM6,AR6<>$AM6,AS6<>$AM6,AT6<>$AM6,AU6<>$AM6,AV6<>$AM6,AX6<>$AM6,AW6<>$AM6),$AM6,\nIF(AND(AQ6<>$AN6,AR6<>$AN6,AS6<>$AN6,AT6<>$AN6,AU6<>$AN6,AV6<>$AN6,AX6<>$AN6,AW6<>$AN6),$AN6,\nIF(AND(AQ6<>$AO6,AR6<>$AO6,AS6<>$AO6,AT6<>$AO6,AU6<>$AO6,AV6<>$AO6,AX6<>$AO6,AW6<>$AO6),$AO6,\n\"\")))))))))))","v":""},{"$f":"IF(AY6=\"\",\"\",\nIF(AND(AQ6<>$AF6,AR6<>$AF6,AS6<>$AF6,AT6<>$AF6,AU6<>$AF6,AV6<>$AF6,AW6<>$AF6,AY6<>$AF6,AX6<>$AF6),$AF6,\nIF(AND(AQ6<>$AG6,AR6<>$AG6,AS6<>$AG6,AT6<>$AG6,AU6<>$AG6,AV6<>$AG6,AW6<>$AG6,AY6<>$AG6,AX6<>$AG6),$AG6,\nIF(AND(AQ6<>$AH6,AR6<>$AH6,AS6<>$AH6,AT6<>$AH6,AU6<>$AH6,AV6<>$AH6,AW6<>$AH6,AY6<>$AH6,AX6<>$AH6),$AH6,\nIF(AND(AQ6<>$AI6,AR6<>$AI6,AS6<>$AI6,AT6<>$AI6,AU6<>$AI6,AV6<>$AI6,AW6<>$AI6,AY6<>$AI6,AX6<>$AI6),$AI6,\nIF(AND(AQ6<>$AJ6,AR6<>$AJ6,AS6<>$AJ6,AT6<>$AJ6,AU6<>$AJ6,AV6<>$AJ6,AW6<>$AJ6,AY6<>$AJ6,AX6<>$AJ6),$AJ6,\nIF(AND(AQ6<>$AK6,AR6<>$AK6,AS6<>$AK6,AT6<>$AK6,AU6<>$AK6,AV6<>$AK6,AW6<>$AK6,AY6<>$AK6,AX6<>$AK6),$AK6,\nIF(AND(AQ6<>$AL6,AR6<>$AL6,AS6<>$AL6,AT6<>$AL6,AU6<>$AL6,AV6<>$AL6,AW6<>$AL6,AY6<>$AL6,AX6<>$AL6),$AL6,\nIF(AND(AQ6<>$AM6,AR6<>$AM6,AS6<>$AM6,AT6<>$AM6,AU6<>$AM6,AV6<>$AM6,AW6<>$AM6,AY6<>$AM6,AX6<>$AM6),$AM6,\nIF(AND(AQ6<>$AN6,AR6<>$AN6,AS6<>$AN6,AT6<>$AN6,AU6<>$AN6,AV6<>$AN6,AW6<>$AN6,AY6<>$AN6,AX6<>$AN6),$AN6,\nIF(AND(AQ6<>$AO6,AR6<>$AO6,AS6<>$AO6,AT6<>$AO6,AU6<>$AO6,AV6<>$AO6,AW6<>$AO6,AY6<>$AO6,AX6<>$AO6),$AO6,\n\"\")))))))))))","v":""}]
[null,{"$f":"IF(E7=\"\",0,1)","v":1},0,null,{"$f":"IF(M6<>\"\",M6,\"\")","v":"Propriétés : \nSection\n6 mm²\nCâble PUR"}]
[null,{"$f":"IF(L8=\"x\",1,IF(ISNUMBER(L8),L8,0))","v":0},0,{"$f":"I8","v":"511.000"},{"$f":"J8 & IF(M8<>\"\",CHAR(10) & M8,\"\")","v":"Câble extérieur (installation en plein air)"},{"$f":"IF(C8=1,K8,\"\")","v":""},null,null,"511.000","Câble extérieur (installation en plein air)","ml",null,null,null,null,null,null,null,null,"E500_AC_Leitungen",null,null,"x",null,null,null,null,null,null,"x",null,{"$f":"\nIF(U8=\"x\",U$4,\nIF(V8=\"x\",V$4,\nIF(W8=\"x\",W$4,\nIF(X8=\"x\",X$4,\nIF(Y8=\"x\",Y$4,\nIF(Z8=\"x\",Z$4,\nIF(AA8=\"x\",AA$4,\nIF(AB8=\"x\",AB$4,\nIF(AC8=\"x\",AC$4,\nIF(AD8=\"x\",AD$4,\n\"\"))))))))))","v":"ml"},{"$f":"\nIF(V8=\"x\",V$4,\nIF(W8=\"x\",W$4,\nIF(X8=\"x\",X$4,\nIF(Y8=\"x\",Y$4,\nIF(Z8=\"x\",Z$4,\nIF(AA8=\"x\",AA$4,\nIF(AB8=\"x\",AB$4,\nIF(AC8=\"x\",AC$4,\nIF(AD8=\"x\",AD$4,\n\"\")))))))))","v":"ml"},{"$f":"\nIF(W8=\"x\",W$4,\nIF(X8=\"x\",X$4,\nIF(Y8=\"x\",Y$4,\nIF(Z8=\"x\",Z$4,\nIF(AA8=\"x\",AA$4,\nIF(AB8=\"x\",AB$4,\nIF(AC8=\"x\",AC$4,\nIF(AD8=\"x\",AD$4,\n\"\"))))))))","v":"ml"},{"$f":"\nIF(X8=\"x\",X$4,\nIF(Y8=\"x\",Y$4,\nIF(Z8=\"x\",Z$4,\nIF(AA8=\"x\",AA$4,\nIF(AB8=\"x\",AB$4,\nIF(AC8=\"x\",AC$4,\nIF(AD8=\"x\",AD$4,\n\"\")))))))","v":"forf."},{"$f":"\nIF(Y8=\"x\",Y$4,\nIF(Z8=\"x\",Z$4,\nIF(AA8=\"x\",AA$4,\nIF(AB8=\"x\",AB$4,\nIF(AC8=\"x\",AC$4,\nIF(AD8=\"x\",AD$4,\n\"\"))))))","v":"forf."},{"$f":"\nIF(Z8=\"x\",Z$4,\nIF(AA8=\"x\",AA$4,\nIF(AB8=\"x\",AB$4,\nIF(AC8=\"x\",AC$4,\nIF(AD8=\"x\",AD$4,\n\"\")))))","v":"forf."},{"$f":"\nIF(AA8=\"x\",AA$4,\nIF(AB8=\"x\",AB$4,\nIF(AC8=\"x\",AC$4,\nIF(AD8=\"x\",AD$4,\n\"\"))))","v":"forf."},{"$f":"\nIF(AB8=\"x\",AB$4,\nIF(AC8=\"x\",AC$4,\nIF(AD8=\"x\",AD$4,\n\"\")))","v":"forf."},{"$f":"\nIF(AC8=\"x\",AC$4,\nIF(AD8=\"x\",AD$4,\n\"\"))","v":"forf."},{"$f":"\nIF(AD8=\"x\",AD$4,\n\"\")","v":"forf."},null,{"$f":"AF8","v":"ml"},"forf.",{"$f":"IF(AR8=\"\",\"\",\nIF(AND(AR8<>$AF8,AQ8<>$AF8),$AF8,\nIF(AND(AR8<>$AG8,AQ8<>$AG8),$AG8,\nIF(AND(AR8<>$AH8,AQ8<>$AH8),$AH8,\nIF(AND(AR8<>$AI8,AQ8<>$AI8),$AI8,\nIF(AND(AR8<>$AJ8,AQ8<>$AJ8),$AJ8,\nIF(AND(AR8<>$AK8,AQ8<>$AK8),$AK8,\nIF(AND(AR8<>$AL8,AQ8<>$AL8),$AL8,\nIF(AND(AR8<>$AM8,AQ8<>$AM8),$AM8,\nIF(AND(AR8<>$AN8,AQ8<>$AN8),$AN8,\nIF(AND(AR8<>$AO8,AQ8<>$AO8),$AO8,\n\"\")))))))))))","v":""},{"$f":"IF(AS8=\"\",\"\",\nIF(AND(AQ8<>$AF8,AS8<>$AF8,AR8<>$AF8),$AF8,\nIF(AND(AQ8<>$AG8,AS8<>$AG8,AR8<>$AG8),$AG8,\nIF(AND(AQ8<>$AH8,AS8<>$AH8,AR8<>$AH8),$AH8,\nIF(AND(AQ8<>$AI8,AS8<>$AI8,AR8<>$AI8),$AI8,\nIF(AND(AQ8<>$AJ8,AS8<>$AJ8,AR8<>$AJ8),$AJ8,\nIF(AND(AQ8<>$AK8,AS8<>$AK8,AR8<>$AK8),$AK8,\nIF(AND(AQ8<>$AL8,AS8<>$AL8,AR8<>$AL8),$AL8,\nIF(AND(AQ8<>$AM8,AS8<>$AM8,AR8<>$AM8),$AM8,\nIF(AND(AQ8<>$AN8,AS8<>$AN8,AR8<>$AN8),$AN8,\nIF(AND(AQ8<>$AO8,AS8<>$AO8,AR8<>$AO8),$AO8,\n\"\")))))))))))","v":""},{"$f":"IF(AT8=\"\",\"\",\nIF(AND(AQ8<>$AF8,AR8<>$AF8,AT8<>$AF8,AS8<>$AF8),$AF8,\nIF(AND(AQ8<>$AG8,AR8<>$AG8,AT8<>$AG8,AS8<>$AG8),$AG8,\nIF(AND(AQ8<>$AH8,AR8<>$AH8,AT8<>$AH8,AS8<>$AH8),$AH8,\nIF(AND(AQ8<>$AI8,AR8<>$AI8,AT8<>$AI8,AS8<>$AI8),$AI8,\nIF(AND(AQ8<>$AJ8,AR8<>$AJ8,AT8<>$AJ8,AS8<>$AJ8),$AJ8,\nIF(AND(AQ8<>$AK8,AR8<>$AK8,AT8<>$AK8,AS8<>$AK8),$AK8,\nIF(AND(AQ8<>$AL8,AR8<>$AL8,AT8<>$AL8,AS8<>$AL8),$AL8,\nIF(AND(AQ8<>$AM8,AR8<>$AM8,AT8<>$AM8,AS8<>$AM8),$AM8,\nIF(AND(AQ8<>$AN8,AR8<>$AN8,AT8<>$AN8,AS8<>$AN8),$AN8,\nIF(AND(AQ8<>$AO8,AR8<>$AO8,AT8<>$AO8,AS8<>$AO8),$AO8,\n\"\")))))))))))","v":""},{"$f":"IF(AU8=\"\",\"\",\nIF(AND(AQ8<>$AF8,AR8<>$AF8,AS8<>$AF8,AU8<>$AF8,AT8<>$AF8),$AF8,\nIF(AND(AQ8<>$AG8,AR8<>$AG8,AS8<>$AG8,AU8<>$AG8,AT8<>$AG8),$AG8,\nIF(AND(AQ8<>$AH8,AR8<>$AH8,AS8<>$AH8,AU8<>$AH8,AT8<>$AH8),$AH8,\nIF(AND(AQ8<>$AI8,AR8<>$AI8,AS8<>$AI8,AU8<>$AI8,AT8<>$AI8),$AI8,\nIF(AND(AQ8<>$AJ8,AR8<>$AJ8,AS8<>$AJ8,AU8<>$AJ8,AT8<>$AJ8),$AJ8,\nIF(AND(AQ8<>$AK8,AR8<>$AK8,AS8<>$AK8,AU8<>$AK8,AT8<>$AK8),$AK8,\nIF(AND(AQ8<>$AL8,AR8<>$AL8,AS8<>$AL8,AU8<>$AL8,AT8<>$AL8),$AL8,\nIF(AND(AQ8<>$AM8,AR8<>$AM8,AS8<>$AM8,AU8<>$AM8,AT8<>$AM8),$AM8,\nIF(AND(AQ8<>$AN8,AR8<>$AN8,AS8<>$AN8,AU8<>$AN8,AT8<>$AN8),$AN8,\nIF(AND(AQ8<>$AO8,AR8<>$AO8,AS8<>$AO8,AU8<>$AO8,AT8<>$AO8),$AO8,\n\"\")))))))))))","v":""},{"$f":"IF(AV8=\"\",\"\",\nIF(AND(AQ8<>$AF8,AR8<>$AF8,AS8<>$AF8,AT8<>$AF8,AV8<>$AF8,AU8<>$AF8),$AF8,\nIF(AND(AQ8<>$AG8,AR8<>$AG8,AS8<>$AG8,AT8<>$AG8,AV8<>$AG8,AU8<>$AG8),$AG8,\nIF(AND(AQ8<>$AH8,AR8<>$AH8,AS8<>$AH8,AT8<>$AH8,AV8<>$AH8,AU8<>$AH8),$AH8,\nIF(AND(AQ8<>$AI8,AR8<>$AI8,AS8<>$AI8,AT8<>$AI8,AV8<>$AI8,AU8<>$AI8),$AI8,\nIF(AND(AQ8<>$AJ8,AR8<>$AJ8,AS8<>$AJ8,AT8<>$AJ8,AV8<>$AJ8,AU8<>$AJ8),$AJ8,\nIF(AND(AQ8<>$AK8,AR8<>$AK8,AS8<>$AK8,AT8<>$AK8,AV8<>$AK8,AU8<>$AK8),$AK8,\nIF(AND(AQ8<>$AL8,AR8<>$AL8,AS8<>$AL8,AT8<>$AL8,AV8<>$AL8,AU8<>$AL8),$AL8,\nIF(AND(AQ8<>$AM8,AR8<>$AM8,AS8<>$AM8,AT8<>$AM8,AV8<>$AM8,AU8<>$AM8),$AM8,\nIF(AND(AQ8<>$AN8,AR8<>$AN8,AS8<>$AN8,AT8<>$AN8,AV8<>$AN8,AU8<>$AN8),$AN8,\nIF(AND(AQ8<>$AO8,AR8<>$AO8,AS8<>$AO8,AT8<>$AO8,AV8<>$AO8,AU8<>$AO8),$AO8,\n\"\")))))))))))","v":""},{"$f":"IF(AW8=\"\",\"\",\nIF(AND(AQ8<>$AF8,AR8<>$AF8,AS8<>$AF8,AT8<>$AF8,AU8<>$AF8,AW8<>$AF8,AV8<>$AF8),$AF8,\nIF(AND(AQ8<>$AG8,AR8<>$AG8,AS8<>$AG8,AT8<>$AG8,AU8<>$AG8,AW8<>$AG8,AV8<>$AG8),$AG8,\nIF(AND(AQ8<>$AH8,AR8<>$AH8,AS8<>$AH8,AT8<>$AH8,AU8<>$AH8,AW8<>$AH8,AV8<>$AH8),$AH8,\nIF(AND(AQ8<>$AI8,AR8<>$AI8,AS8<>$AI8,AT8<>$AI8,AU8<>$AI8,AW8<>$AI8,AV8<>$AI8),$AI8,\nIF(AND(AQ8<>$AJ8,AR8<>$AJ8,AS8<>$AJ8,AT8<>$AJ8,AU8<>$AJ8,AW8<>$AJ8,AV8<>$AJ8),$AJ8,\nIF(AND(AQ8<>$AK8,AR8<>$AK8,AS8<>$AK8,AT8<>$AK8,AU8<>$AK8,AW8<>$AK8,AV8<>$AK8),$AK8,\nIF(AND(AQ8<>$AL8,AR8<>$AL8,AS8<>$AL8,AT8<>$AL8,AU8<>$AL8,AW8<>$AL8,AV8<>$AL8),$AL8,\nIF(AND(AQ8<>$AM8,AR8<>$AM8,AS8<>$AM8,AT8<>$AM8,AU8<>$AM8,AW8<>$AM8,AV8<>$AM8),$AM8,\nIF(AND(AQ8<>$AN8,AR8<>$AN8,AS8<>$AN8,AT8<>$AN8,AU8<>$AN8,AW8<>$AN8,AV8<>$AN8),$AN8,\nIF(AND(AQ8<>$AO8,AR8<>$AO8,AS8<>$AO8,AT8<>$AO8,AU8<>$AO8,AW8<>$AO8,AV8<>$AO8),$AO8,\n\"\")))))))))))","v":""},{"$f":"IF(AX8=\"\",\"\",\nIF(AND(AQ8<>$AF8,AR8<>$AF8,AS8<>$AF8,AT8<>$AF8,AU8<>$AF8,AV8<>$AF8,AX8<>$AF8,AW8<>$AF8),$AF8,\nIF(AND(AQ8<>$AG8,AR8<>$AG8,AS8<>$AG8,AT8<>$AG8,AU8<>$AG8,AV8<>$AG8,AX8<>$AG8,AW8<>$AG8),$AG8,\nIF(AND(AQ8<>$AH8,AR8<>$AH8,AS8<>$AH8,AT8<>$AH8,AU8<>$AH8,AV8<>$AH8,AX8<>$AH8,AW8<>$AH8),$AH8,\nIF(AND(AQ8<>$AI8,AR8<>$AI8,AS8<>$AI8,AT8<>$AI8,AU8<>$AI8,AV8<>$AI8,AX8<>$AI8,AW8<>$AI8),$AI8,\nIF(AND(AQ8<>$AJ8,AR8<>$AJ8,AS8<>$AJ8,AT8<>$AJ8,AU8<>$AJ8,AV8<>$AJ8,AX8<>$AJ8,AW8<>$AJ8),$AJ8,\nIF(AND(AQ8<>$AK8,AR8<>$AK8,AS8<>$AK8,AT8<>$AK8,AU8<>$AK8,AV8<>$AK8,AX8<>$AK8,AW8<>$AK8),$AK8,\nIF(AND(AQ8<>$AL8,AR8<>$AL8,AS8<>$AL8,AT8<>$AL8,AU8<>$AL8,AV8<>$AL8,AX8<>$AL8,AW8<>$AL8),$AL8,\nIF(AND(AQ8<>$AM8,AR8<>$AM8,AS8<>$AM8,AT8<>$AM8,AU8<>$AM8,AV8<>$AM8,AX8<>$AM8,AW8<>$AM8),$AM8,\nIF(AND(AQ8<>$AN8,AR8<>$AN8,AS8<>$AN8,AT8<>$AN8,AU8<>$AN8,AV8<>$AN8,AX8<>$AN8,AW8<>$AN8),$AN8,\nIF(AND(AQ8<>$AO8,AR8<>$AO8,AS8<>$AO8,AT8<>$AO8,AU8<>$AO8,AV8<>$AO8,AX8<>$AO8,AW8<>$AO8),$AO8,\n\"\")))))))))))","v":""},{"$f":"IF(AY8=\"\",\"\",\nIF(AND(AQ8<>$AF8,AR8<>$AF8,AS8<>$AF8,AT8<>$AF8,AU8<>$AF8,AV8<>$AF8,AW8<>$AF8,AY8<>$AF8,AX8<>$AF8),$AF8,\nIF(AND(AQ8<>$AG8,AR8<>$AG8,AS8<>$AG8,AT8<>$AG8,AU8<>$AG8,AV8<>$AG8,AW8<>$AG8,AY8<>$AG8,AX8<>$AG8),$AG8,\nIF(AND(AQ8<>$AH8,AR8<>$AH8,AS8<>$AH8,AT8<>$AH8,AU8<>$AH8,AV8<>$AH8,AW8<>$AH8,AY8<>$AH8,AX8<>$AH8),$AH8,\nIF(AND(AQ8<>$AI8,AR8<>$AI8,AS8<>$AI8,AT8<>$AI8,AU8<>$AI8,AV8<>$AI8,AW8<>$AI8,AY8<>$AI8,AX8<>$AI8),$AI8,\nIF(AND(AQ8<>$AJ8,AR8<>$AJ8,AS8<>$AJ8,AT8<>$AJ8,AU8<>$AJ8,AV8<>$AJ8,AW8<>$AJ8,AY8<>$AJ8,AX8<>$AJ8),$AJ8,\nIF(AND(AQ8<>$AK8,AR8<>$AK8,AS8<>$AK8,AT8<>$AK8,AU8<>$AK8,AV8<>$AK8,AW8<>$AK8,AY8<>$AK8,AX8<>$AK8),$AK8,\nIF(AND(AQ8<>$AL8,AR8<>$AL8,AS8<>$AL8,AT8<>$AL8,AU8<>$AL8,AV8<>$AL8,AW8<>$AL8,AY8<>$AL8,AX8<>$AL8),$AL8,\nIF(AND(AQ8<>$AM8,AR8<>$AM8,AS8<>$AM8,AT8<>$AM8,AU8<>$AM8,AV8<>$AM8,AW8<>$AM8,AY8<>$AM8,AX8<>$AM8),$AM8,\nIF(AND(AQ8<>$AN8,AR8<>$AN8,AS8<>$AN8,AT8<>$AN8,AU8<>$AN8,AV8<>$AN8,AW8<>$AN8,AY8<>$AN8,AX8<>$AN8),$AN8,\nIF(AND(AQ8<>$AO8,AR8<>$AO8,AS8<>$AO8,AT8<>$AO8,AU8<>$AO8,AV8<>$AO8,AW8<>$AO8,AY8<>$AO8,AX8<>$AO8),$AO8,\n\"\")))))))))))","v":""}]
[null,{"$f":"IF(L9=\"x\",1,IF(ISNUMBER(L9),L9,0))","v":0},0,{"$f":"I9","v":"512.000"},{"$f":"J9 & IF(M9<>\"\",CHAR(10) & M9,\"\")","v":"Câble intérieure (installation dans le bâtiment)"},"",null,null,"512.000","Câble intérieure (installation dans le bâtiment)","ml",null,null,null,null,null,null,null,null,"E500_AC_Leitungen",null,null,"x",null,null,null,null,null,null,"x",null,{"$f":"\nIF(U9=\"x\",U$4,\nIF(V9=\"x\",V$4,\nIF(W9=\"x\",W$4,\nIF(X9=\"x\",X$4,\nIF(Y9=\"x\",Y$4,\nIF(Z9=\"x\",Z$4,\nIF(AA9=\"x\",AA$4,\nIF(AB9=\"x\",AB$4,\nIF(AC9=\"x\",AC$4,\nIF(AD9=\"x\",AD$4,\n\"\"))))))))))","v":"ml"},{"$f":"\nIF(V9=\"x\",V$4,\nIF(W9=\"x\",W$4,\nIF(X9=\"x\",X$4,\nIF(Y9=\"x\",Y$4,\nIF(Z9=\"x\",Z$4,\nIF(AA9=\"x\",AA$4,\nIF(AB9=\"x\",AB$4,\nIF(AC9=\"x\",AC$4,\nIF(AD9=\"x\",AD$4,\n\"\")))))))))","v":"ml"},{"$f":"\nIF(W9=\"x\",W$4,\nIF(X9=\"x\",X$4,\nIF(Y9=\"x\",Y$4,\nIF(Z9=\"x\",Z$4,\nIF(AA9=\"x\",AA$4,\nIF(AB9=\"x\",AB$4,\nIF(AC9=\"x\",AC$4,\nIF(AD9=\"x\",AD$4,\n\"\"))))))))","v":"ml"},{"$f":"\nIF(X9=\"x\",X$4,\nIF(Y9=\"x\",Y$4,\nIF(Z9=\"x\",Z$4,\nIF(AA9=\"x\",AA$4,\nIF(AB9=\"x\",AB$4,\nIF(AC9=\"x\",AC$4,\nIF(AD9=\"x\",AD$4,\n\"\")))))))","v":"forf."},{"$f":"\nIF(Y9=\"x\",Y$4,\nIF(Z9=\"x\",Z$4,\nIF(AA9=\"x\",AA$4,\nIF(AB9=\"x\",AB$4,\nIF(AC9=\"x\",AC$4,\nIF(AD9=\"x\",AD$4,\n\"\"))))))","v":"forf."},{"$f":"\nIF(Z9=\"x\",Z$4,\nIF(AA9=\"x\",AA$4,\nIF(AB9=\"x\",AB$4,\nIF(AC9=\"x\",AC$4,\nIF(AD9=\"x\",AD$4,\n\"\")))))","v":"forf."},{"$f":"\nIF(AA9=\"x\",AA$4,\nIF(AB9=\"x\",AB$4,\nIF(AC9=\"x\",AC$4,\nIF(AD9=\"x\",AD$4,\n\"\"))))","v":"forf."},{"$f":"\nIF(AB9=\"x\",AB$4,\nIF(AC9=\"x\",AC$4,\nIF(AD9=\"x\",AD$4,\n\"\")))","v":"forf."},{"$f":"\nIF(AC9=\"x\",AC$4,\nIF(AD9=\"x\",AD$4,\n\"\"))","v":"forf."},{"$f":"\nIF(AD9=\"x\",AD$4,\n\"\")","v":"forf."},null,{"$f":"AF9","v":"ml"},"forf.",{"$f":"IF(AR9=\"\",\"\",\nIF(AND(AR9<>$AF9,AQ9<>$AF9),$AF9,\nIF(AND(AR9<>$AG9,AQ9<>$AG9),$AG9,\nIF(AND(AR9<>$AH9,AQ9<>$AH9),$AH9,\nIF(AND(AR9<>$AI9,AQ9<>$AI9),$AI9,\nIF(AND(AR9<>$AJ9,AQ9<>$AJ9),$AJ9,\nIF(AND(AR9<>$AK9,AQ9<>$AK9),$AK9,\nIF(AND(AR9<>$AL9,AQ9<>$AL9),$AL9,\nIF(AND(AR9<>$AM9,AQ9<>$AM9),$AM9,\nIF(AND(AR9<>$AN9,AQ9<>$AN9),$AN9,\nIF(AND(AR9<>$AO9,AQ9<>$AO9),$AO9,\n\"\")))))))))))","v":""},{"$f":"IF(AS9=\"\",\"\",\nIF(AND(AQ9<>$AF9,AS9<>$AF9,AR9<>$AF9),$AF9,\nIF(AND(AQ9<>$AG9,AS9<>$AG9,AR9<>$AG9),$AG9,\nIF(AND(AQ9<>$AH9,AS9<>$AH9,AR9<>$AH9),$AH9,\nIF(AND(AQ9<>$AI9,AS9<>$AI9,AR9<>$AI9),$AI9,\nIF(AND(AQ9<>$AJ9,AS9<>$AJ9,AR9<>$AJ9),$AJ9,\nIF(AND(AQ9<>$AK9,AS9<>$AK9,AR9<>$AK9),$AK9,\nIF(AND(AQ9<>$AL9,AS9<>$AL9,AR9<>$AL9),$AL9,\nIF(AND(AQ9<>$AM9,AS9<>$AM9,AR9<>$AM9),$AM9,\nIF(AND(AQ9<>$AN9,AS9<>$AN9,AR9<>$AN9),$AN9,\nIF(AND(AQ9<>$AO9,AS9<>$AO9,AR9<>$AO9),$AO9,\n\"\")))))))))))","v":""},{"$f":"IF(AT9=\"\",\"\",\nIF(AND(AQ9<>$AF9,AR9<>$AF9,AT9<>$AF9,AS9<>$AF9),$AF9,\nIF(AND(AQ9<>$AG9,AR9<>$AG9,AT9<>$AG9,AS9<>$AG9),$AG9,\nIF(AND(AQ9<>$AH9,AR9<>$AH9,AT9<>$AH9,AS9<>$AH9),$AH9,\nIF(AND(AQ9<>$AI9,AR9<>$AI9,AT9<>$AI9,AS9<>$AI9),$AI9,\nIF(AND(AQ9<>$AJ9,AR9<>$AJ9,AT9<>$AJ9,AS9<>$AJ9),$AJ9,\nIF(AND(AQ9<>$AK9,AR9<>$AK9,AT9<>$AK9,AS9<>$AK9),$AK9,\nIF(AND(AQ9<>$AL9,AR9<>$AL9,AT9<>$AL9,AS9<>$AL9),$AL9,\nIF(AND(AQ9<>$AM9,AR9<>$AM9,AT9<>$AM9,AS9<>$AM9),$AM9,\nIF(AND(AQ9<>$AN9,AR9<>$AN9,AT9<>$AN9,AS9<>$AN9),$AN9,\nIF(AND(AQ9<>$AO9,AR9<>$AO9,AT9<>$AO9,AS9<>$AO9),$AO9,\n\"\")))))))))))","v":""},{"$f":"IF(AU9=\"\",\"\",\nIF(AND(AQ9<>$AF9,AR9<>$AF9,AS9<>$AF9,AU9<>$AF9,AT9<>$AF9),$AF9,\nIF(AND(AQ9<>$AG9,AR9<>$AG9,AS9<>$AG9,AU9<>$AG9,AT9<>$AG9),$AG9,\nIF(AND(AQ9<>$AH9,AR9<>$AH9,AS9<>$AH9,AU9<>$AH9,AT9<>$AH9),$AH9,\nIF(AND(AQ9<>$AI9,AR9<>$AI9,AS9<>$AI9,AU9<>$AI9,AT9<>$AI9),$AI9,\nIF(AND(AQ9<>$AJ9,AR9<>$AJ9,AS9<>$AJ9,AU9<>$AJ9,AT9<>$AJ9),$AJ9,\nIF(AND(AQ9<>$AK9,AR9<>$AK9,AS9<>$AK9,AU9<>$AK9,AT9<>$AK9),$AK9,\nIF(AND(AQ9<>$AL9,AR9<>$AL9,AS9<>$AL9,AU9<>$AL9,AT9<>$AL9),$AL9,\nIF(AND(AQ9<>$AM9,AR9<>$AM9,AS9<>$AM9,AU9<>$AM9,AT9<>$AM9),$AM9,\nIF(AND(AQ9<>$AN9,AR9<>$AN9,AS9<>$AN9,AU9<>$AN9,AT9<>$AN9),$AN9,\nIF(AND(AQ9<>$AO9,AR9<>$AO9,AS9<>$AO9,AU9<>$AO9,AT9<>$AO9),$AO9,\n\"\")))))))))))","v":""},{"$f":"IF(AV9=\"\",\"\",\nIF(AND(AQ9<>$AF9,AR9<>$AF9,AS9<>$AF9,AT9<>$AF9,AV9<>$AF9,AU9<>$AF9),$AF9,\nIF(AND(AQ9<>$AG9,AR9<>$AG9,AS9<>$AG9,AT9<>$AG9,AV9<>$AG9,AU9<>$AG9),$AG9,\nIF(AND(AQ9<>$AH9,AR9<>$AH9,AS9<>$AH9,AT9<>$AH9,AV9<>$AH9,AU9<>$AH9),$AH9,\nIF(AND(AQ9<>$AI9,AR9<>$AI9,AS9<>$AI9,AT9<>$AI9,AV9<>$AI9,AU9<>$AI9),$AI9,\nIF(AND(AQ9<>$AJ9,AR9<>$AJ9,AS9<>$AJ9,AT9<>$AJ9,AV9<>$AJ9,AU9<>$AJ9),$AJ9,\nIF(AND(AQ9<>$AK9,AR9<>$AK9,AS9<>$AK9,AT9<>$AK9,AV9<>$AK9,AU9<>$AK9),$AK9,\nIF(AND(AQ9<>$AL9,AR9<>$AL9,AS9<>$AL9,AT9<>$AL9,AV9<>$AL9,AU9<>$AL9),$AL9,\nIF(AND(AQ9<>$AM9,AR9<>$AM9,AS9<>$AM9,AT9<>$AM9,AV9<>$AM9,AU9<>$AM9),$AM9,\nIF(AND(AQ9<>$AN9,AR9<>$AN9,AS9<>$AN9,AT9<>$AN9,AV9<>$AN9,AU9<>$AN9),$AN9,\nIF(AND(AQ9<>$AO9,AR9<>$AO9,AS9<>$AO9,AT9<>$AO9,AV9<>$AO9,AU9<>$AO9),$AO9,\n\"\")))))))))))","v":""},{"$f":"IF(AW9=\"\",\"\",\nIF(AND(AQ9<>$AF9,AR9<>$AF9,AS9<>$AF9,AT9<>$AF9,AU9<>$AF9,AW9<>$AF9,AV9<>$AF9),$AF9,\nIF(AND(AQ9<>$AG9,AR9<>$AG9,AS9<>$AG9,AT9<>$AG9,AU9<>$AG9,AW9<>$AG9,AV9<>$AG9),$AG9,\nIF(AND(AQ9<>$AH9,AR9<>$AH9,AS9<>$AH9,AT9<>$AH9,AU9<>$AH9,AW9<>$AH9,AV9<>$AH9),$AH9,\nIF(AND(AQ9<>$AI9,AR9<>$AI9,AS9<>$AI9,AT9<>$AI9,AU9<>$AI9,AW9<>$AI9,AV9<>$AI9),$AI9,\nIF(AND(AQ9<>$AJ9,AR9<>$AJ9,AS9<>$AJ9,AT9<>$AJ9,AU9<>$AJ9,AW9<>$AJ9,AV9<>$AJ9),$AJ9,\nIF(AND(AQ9<>$AK9,AR9<>$AK9,AS9<>$AK9,AT9<>$AK9,AU9<>$AK9,AW9<>$AK9,AV9<>$AK9),$AK9,\nIF(AND(AQ9<>$AL9,AR9<>$AL9,AS9<>$AL9,AT9<>$AL9,AU9<>$AL9,AW9<>$AL9,AV9<>$AL9),$AL9,\nIF(AND(AQ9<>$AM9,AR9<>$AM9,AS9<>$AM9,AT9<>$AM9,AU9<>$AM9,AW9<>$AM9,AV9<>$AM9),$AM9,\nIF(AND(AQ9<>$AN9,AR9<>$AN9,AS9<>$AN9,AT9<>$AN9,AU9<>$AN9,AW9<>$AN9,AV9<>$AN9),$AN9,\nIF(AND(AQ9<>$AO9,AR9<>$AO9,AS9<>$AO9,AT9<>$AO9,AU9<>$AO9,AW9<>$AO9,AV9<>$AO9),$AO9,\n\"\")))))))))))","v":""},{"$f":"IF(AX9=\"\",\"\",\nIF(AND(AQ9<>$AF9,AR9<>$AF9,AS9<>$AF9,AT9<>$AF9,AU9<>$AF9,AV9<>$AF9,AX9<>$AF9,AW9<>$AF9),$AF9,\nIF(AND(AQ9<>$AG9,AR9<>$AG9,AS9<>$AG9,AT9<>$AG9,AU9<>$AG9,AV9<>$AG9,AX9<>$AG9,AW9<>$AG9),$AG9,\nIF(AND(AQ9<>$AH9,AR9<>$AH9,AS9<>$AH9,AT9<>$AH9,AU9<>$AH9,AV9<>$AH9,AX9<>$AH9,AW9<>$AH9),$AH9,\nIF(AND(AQ9<>$AI9,AR9<>$AI9,AS9<>$AI9,AT9<>$AI9,AU9<>$AI9,AV9<>$AI9,AX9<>$AI9,AW9<>$AI9),$AI9,\nIF(AND(AQ9<>$AJ9,AR9<>$AJ9,AS9<>$AJ9,AT9<>$AJ9,AU9<>$AJ9,AV9<>$AJ9,AX9<>$AJ9,AW9<>$AJ9),$AJ9,\nIF(AND(AQ9<>$AK9,AR9<>$AK9,AS9<>$AK9,AT9<>$AK9,AU9<>$AK9,AV9<>$AK9,AX9<>$AK9,AW9<>$AK9),$AK9,\nIF(AND(AQ9<>$AL9,AR9<>$AL9,AS9<>$AL9,AT9<>$AL9,AU9<>$AL9,AV9<>$AL9,AX9<>$AL9,AW9<>$AL9),$AL9,\nIF(AND(AQ9<>$AM9,AR9<>$AM9,AS9<>$AM9,AT9<>$AM9,AU9<>$AM9,AV9<>$AM9,AX9<>$AM9,AW9<>$AM9),$AM9,\nIF(AND(AQ9<>$AN9,AR9<>$AN9,AS9<>$AN9,AT9<>$AN9,AU9<>$AN9,AV9<>$AN9,AX9<>$AN9,AW9<>$AN9),$AN9,\nIF(AND(AQ9<>$AO9,AR9<>$AO9,AS9<>$AO9,AT9<>$AO9,AU9<>$AO9,AV9<>$AO9,AX9<>$AO9,AW9<>$AO9),$AO9,\n\"\")))))))))))","v":""},{"$f":"IF(AY9=\"\",\"\",\nIF(AND(AQ9<>$AF9,AR9<>$AF9,AS9<>$AF9,AT9<>$AF9,AU9<>$AF9,AV9<>$AF9,AW9<>$AF9,AY9<>$AF9,AX9<>$AF9),$AF9,\nIF(AND(AQ9<>$AG9,AR9<>$AG9,AS9<>$AG9,AT9<>$AG9,AU9<>$AG9,AV9<>$AG9,AW9<>$AG9,AY9<>$AG9,AX9<>$AG9),$AG9,\nIF(AND(AQ9<>$AH9,AR9<>$AH9,AS9<>$AH9,AT9<>$AH9,AU9<>$AH9,AV9<>$AH9,AW9<>$AH9,AY9<>$AH9,AX9<>$AH9),$AH9,\nIF(AND(AQ9<>$AI9,AR9<>$AI9,AS9<>$AI9,AT9<>$AI9,AU9<>$AI9,AV9<>$AI9,AW9<>$AI9,AY9<>$AI9,AX9<>$AI9),$AI9,\nIF(AND(AQ9<>$AJ9,AR9<>$AJ9,AS9<>$AJ9,AT9<>$AJ9,AU9<>$AJ9,AV9<>$AJ9,AW9<>$AJ9,AY9<>$AJ9,AX9<>$AJ9),$AJ9,\nIF(AND(AQ9<>$AK9,AR9<>$AK9,AS9<>$AK9,AT9<>$AK9,AU9<>$AK9,AV9<>$AK9,AW9<>$AK9,AY9<>$AK9,AX9<>$AK9),$AK9,\nIF(AND(AQ9<>$AL9,AR9<>$AL9,AS9<>$AL9,AT9<>$AL9,AU9<>$AL9,AV9<>$AL9,AW9<>$AL9,AY9<>$AL9,AX9<>$AL9),$AL9,\nIF(AND(AQ9<>$AM9,AR9<>$AM9,AS9<>$AM9,AT9<>$AM9,AU9<>$AM9,AV9<>$AM9,AW9<>$AM9,AY9<>$AM9,AX9<>$AM9),$AM9,\nIF(AND(AQ9<>$AN9,AR9<>$AN9,AS9<>$AN9,AT9<>$AN9,AU9<>$AN9,AV9<>$AN9,AW9<>$AN9,AY9<>$AN9,AX9<>$AN9),$AN9,\nIF(AND(AQ9<>$AO9,AR9<>$AO9,AS9<>$AO9,AT9<>$AO9,AU9<>$AO9,AV9<>$AO9,AW9<>$AO9,AY9<>$AO9,AX9<>$AO9),$AO9,\n\"\")))))))))))","v":""}]
[null,{"$f":"IF(L10=\"x\",1,IF(ISNUMBER(L10),L10,0))","v":0},0,{"$f":"I10","v":"513.000"},"Câble enterré","",null,null,"513.000","Câble enterré","ml",null,null,null,null,null,null,null,null,"E500_AC_Leitungen",null,null,"x",null,null,null,null,null,null,"x",null,"ml","ml","ml","forf.","forf.","forf.","forf.","forf.","forf.","forf.",null,"ml","forf.","","","","","","","",""]
[null,{"$f":"B6","v":1},0,null,null,"",null,null,null,null,null,null,null,null,null,null,null,null,null,null,null,null,null,null,null,null,null,null,null,null,null,"","","","","","","","","","",null,"","",{"$f":"IF(AR11=\"\",\"\",\nIF(AND(AR11<>$AF11,AQ11<>$AF11),$AF11,\nIF(AND(AR11<>$AG11,AQ11<>$AG11),$AG11,\nIF(AND(AR11<>$AH11,AQ11<>$AH11),$AH11,\nIF(AND(AR11<>$AI11,AQ11<>$AI11),$AI11,\nIF(AND(AR11<>$AJ11,AQ11<>$AJ11),$AJ11,\nIF(AND(AR11<>$AK11,AQ11<>$AK11),$AK11,\nIF(AND(AR11<>$AL11,AQ11<>$AL11),$AL11,\nIF(AND(AR11<>$AM11,AQ11<>$AM11),$AM11,\nIF(AND(AR11<>$AN11,AQ11<>$AN11),$AN11,\nIF(AND(AR11<>$AO11,AQ11<>$AO11),$AO11,\n\"\")))))))))))","v":""},{"$f":"IF(AS11=\"\",\"\",\nIF(AND(AQ11<>$AF11,AS11<>$AF11,AR11<>$AF11),$AF11,\nIF(AND(AQ11<>$AG11,AS11<>$AG11,AR11<>$AG11),$AG11,\nIF(AND(AQ11<>$AH11,AS11<>$AH11,AR11<>$AH11),$AH11,\nIF(AND(AQ11<>$AI11,AS11<>$AI11,AR11<>$AI11),$AI11,\nIF(AND(AQ11<>$AJ11,AS11<>$AJ11,AR11<>$AJ11),$AJ11,\nIF(AND(AQ11<>$AK11,AS11<>$AK11,AR11<>$AK11),$AK11,\nIF(AND(AQ11<>$AL11,AS11<>$AL11,AR11<>$AL11),$AL11,\nIF(AND(AQ11<>$AM11,AS11<>$AM11,AR11<>$AM11),$AM11,\nIF(AND(AQ11<>$AN11,AS11<>$AN11,AR11<>$AN11),$AN11,\nIF(AND(AQ11<>$AO11,AS11<>$AO11,AR11<>$AO11),$AO11,\n\"\")))))))))))","v":""},{"$f":"IF(AT11=\"\",\"\",\nIF(AND(AQ11<>$AF11,AR11<>$AF11,AT11<>$AF11,AS11<>$AF11),$AF11,\nIF(AND(AQ11<>$AG11,AR11<>$AG11,AT11<>$AG11,AS11<>$AG11),$AG11,\nIF(AND(AQ11<>$AH11,AR11<>$AH11,AT11<>$AH11,AS11<>$AH11),$AH11,\nIF(AND(AQ11<>$AI11,AR11<>$AI11,AT11<>$AI11,AS11<>$AI11),$AI11,\nIF(AND(AQ11<>$AJ11,AR11<>$AJ11,AT11<>$AJ11,AS11<>$AJ11),$AJ11,\nIF(AND(AQ11<>$AK11,AR11<>$AK11,AT11<>$AK11,AS11<>$AK11),$AK11,\nIF(AND(AQ11<>$AL11,AR11<>$AL11,AT11<>$AL11,AS11<>$AL11),$AL11,\nIF(AND(AQ11<>$AM11,AR11<>$AM11,AT11<>$AM11,AS11<>$AM11),$AM11,\nIF(AND(AQ11<>$AN11,AR11<>$AN11,AT11<>$AN11,AS11<>$AN11),$AN11,\nIF(AND(AQ11<>$AO11,AR11<>$AO11,AT11<>$AO11,AS11<>$AO11),$AO11,\n\"\")))))))))))","v":""},{"$f":"IF(AU11=\"\",\"\",\nIF(AND(AQ11<>$AF11,AR11<>$AF11,AS11<>$AF11,AU11<>$AF11,AT11<>$AF11),$AF11,\nIF(AND(AQ11<>$AG11,AR11<>$AG11,AS11<>$AG11,AU11<>$AG11,AT11<>$AG11),$AG11,\nIF(AND(AQ11<>$AH11,AR11<>$AH11,AS11<>$AH11,AU11<>$AH11,AT11<>$AH11),$AH11,\nIF(AND(AQ11<>$AI11,AR11<>$AI11,AS11<>$AI11,AU11<>$AI11,AT11<>$AI11),$AI11,\nIF(AND(AQ11<>$AJ11,AR11<>$AJ11,AS11<>$AJ11,AU11<>$AJ11,AT11<>$AJ11),$AJ11,\nIF(AND(AQ11<>$AK11,AR11<>$AK11,AS11<>$AK11,AU11<>$AK11,AT11<>$AK11),$AK11,\nIF(AND(AQ11<>$AL11,AR11<>$AL11,AS11<>$AL11,AU11<>$AL11,AT11<>$AL11),$AL11,\nIF(AND(AQ11<>$AM11,AR11<>$AM11,AS11<>$AM11,AU11<>$AM11,AT11<>$AM11),$AM11,\nIF(AND(AQ11<>$AN11,AR11<>$AN11,AS11<>$AN11,AU11<>$AN11,AT11<>$AN11),$AN11,\nIF(AND(AQ11<>$AO11,AR11<>$AO11,AS11<>$AO11,AU11<>$AO11,AT11<>$AO11),$AO11,\n\"\")))))))))))","v":""},{"$f":"IF(AV11=\"\",\"\",\nIF(AND(AQ11<>$AF11,AR11<>$AF11,AS11<>$AF11,AT11<>$AF11,AV11<>$AF11,AU11<>$AF11),$AF11,\nIF(AND(AQ11<>$AG11,AR11<>$AG11,AS11<>$AG11,AT11<>$AG11,AV11<>$AG11,AU11<>$AG11),$AG11,\nIF(AND(AQ11<>$AH11,AR11<>$AH11,AS11<>$AH11,AT11<>$AH11,AV11<>$AH11,AU11<>$AH11),$AH11,\nIF(AND(AQ11<>$AI11,AR11<>$AI11,AS11<>$AI11,AT11<>$AI11,AV11<>$AI11,AU11<>$AI11),$AI11,\nIF(AND(AQ11<>$AJ11,AR11<>$AJ11,AS11<>$AJ11,AT11<>$AJ11,AV11<>$AJ11,AU11<>$AJ11),$AJ11,\nIF(AND(AQ11<>$AK11,AR11<>$AK11,AS11<>$AK11,AT11<>$AK11,AV11<>$AK11,AU11<>$AK11),$AK11,\nIF(AND(AQ11<>$AL11,AR11<>$AL11,AS11<>$AL11,AT11<>$AL11,AV11<>$AL11,AU11<>$AL11),$AL11,\nIF(AND(AQ11<>$AM11,AR11<>$AM11,AS11<>$AM11,AT11<>$AM11,AV11<>$AM11,AU11<>$AM11),$AM11,\nIF(AND(AQ11<>$AN11,AR11<>$AN11,AS11<>$AN11,AT11<>$AN11,AV11<>$AN11,AU11<>$AN11),$AN11,\nIF(AND(AQ11<>$AO11,AR11<>$AO11,AS11<>$AO11,AT11<>$AO11,AV11<>$AO11,AU11<>$AO11),$AO11,\n\"\")))))))))))","v":""},{"$f":"IF(AW11=\"\",\"\",\nIF(AND(AQ11<>$AF11,AR11<>$AF11,AS11<>$AF11,AT11<>$AF11,AU11<>$AF11,AW11<>$AF11,AV11<>$AF11),$AF11,\nIF(AND(AQ11<>$AG11,AR11<>$AG11,AS11<>$AG11,AT11<>$AG11,AU11<>$AG11,AW11<>$AG11,AV11<>$AG11),$AG11,\nIF(AND(AQ11<>$AH11,AR11<>$AH11,AS11<>$AH11,AT11<>$AH11,AU11<>$AH11,AW11<>$AH11,AV11<>$AH11),$AH11,\nIF(AND(AQ11<>$AI11,AR11<>$AI11,AS11<>$AI11,AT11<>$AI11,AU11<>$AI11,AW11<>$AI11,AV11<>$AI11),$AI11,\nIF(AND(AQ11<>$AJ11,AR11<>$AJ11,AS11<>$AJ11,AT11<>$AJ11,AU11<>$AJ11,AW11<>$AJ11,AV11<>$AJ11),$AJ11,\nIF(AND(AQ11<>$AK11,AR11<>$AK11,AS11<>$AK11,AT11<>$AK11,AU11<>$AK11,AW11<>$AK11,AV11<>$AK11),$AK11,\nIF(AND(AQ11<>$AL11,AR11<>$AL11,AS11<>$AL11,AT11<>$AL11,AU11<>$AL11,AW11<>$AL11,AV11<>$AL11),$AL11,\nIF(AND(AQ11<>$AM11,AR11<>$AM11,AS11<>$AM11,AT11<>$AM11,AU11<>$AM11,AW11<>$AM11,AV11<>$AM11),$AM11,\nIF(AND(AQ11<>$AN11,AR11<>$AN11,AS11<>$AN11,AT11<>$AN11,AU11<>$AN11,AW11<>$AN11,AV11<>$AN11),$AN11,\nIF(AND(AQ11<>$AO11,AR11<>$AO11,AS11<>$AO11,AT11<>$AO11,AU11<>$AO11,AW11<>$AO11,AV11<>$AO11),$AO11,\n\"\")))))))))))","v":""},{"$f":"IF(AX11=\"\",\"\",\nIF(AND(AQ11<>$AF11,AR11<>$AF11,AS11<>$AF11,AT11<>$AF11,AU11<>$AF11,AV11<>$AF11,AX11<>$AF11,AW11<>$AF11),$AF11,\nIF(AND(AQ11<>$AG11,AR11<>$AG11,AS11<>$AG11,AT11<>$AG11,AU11<>$AG11,AV11<>$AG11,AX11<>$AG11,AW11<>$AG11),$AG11,\nIF(AND(AQ11<>$AH11,AR11<>$AH11,AS11<>$AH11,AT11<>$AH11,AU11<>$AH11,AV11<>$AH11,AX11<>$AH11,AW11<>$AH11),$AH11,\nIF(AND(AQ11<>$AI11,AR11<>$AI11,AS11<>$AI11,AT11<>$AI11,AU11<>$AI11,AV11<>$AI11,AX11<>$AI11,AW11<>$AI11),$AI11,\nIF(AND(AQ11<>$AJ11,AR11<>$AJ11,AS11<>$AJ11,AT11<>$AJ11,AU11<>$AJ11,AV11<>$AJ11,AX11<>$AJ11,AW11<>$AJ11),$AJ11,\nIF(AND(AQ11<>$AK11,AR11<>$AK11,AS11<>$AK11,AT11<>$AK11,AU11<>$AK11,AV11<>$AK11,AX11<>$AK11,AW11<>$AK11),$AK11,\nIF(AND(AQ11<>$AL11,AR11<>$AL11,AS11<>$AL11,AT11<>$AL11,AU11<>$AL11,AV11<>$AL11,AX11<>$AL11,AW11<>$AL11),$AL11,\nIF(AND(AQ11<>$AM11,AR11<>$AM11,AS11<>$AM11,AT11<>$AM11,AU11<>$AM11,AV11<>$AM11,AX11<>$AM11,AW11<>$AM11),$AM11,\nIF(AND(AQ11<>$AN11,AR11<>$AN11,AS11<>$AN11,AT11<>$AN11,AU11<>$AN11,AV11<>$AN11,AX11<>$AN11,AW11<>$AN11),$AN11,\nIF(AND(AQ11<>$AO11,AR11<>$AO11,AS11<>$AO11,AT11<>$AO11,AU11<>$AO11,AV11<>$AO11,AX11<>$AO11,AW11<>$AO11),$AO11,\n\"\")))))))))))","v":""},{"$f":"IF(AY11=\"\",\"\",\nIF(AND(AQ11<>$AF11,AR11<>$AF11,AS11<>$AF11,AT11<>$AF11,AU11<>$AF11,AV11<>$AF11,AW11<>$AF11,AY11<>$AF11,AX11<>$AF11),$AF11,\nIF(AND(AQ11<>$AG11,AR11<>$AG11,AS11<>$AG11,AT11<>$AG11,AU11<>$AG11,AV11<>$AG11,AW11<>$AG11,AY11<>$AG11,AX11<>$AG11),$AG11,\nIF(AND(AQ11<>$AH11,AR11<>$AH11,AS11<>$AH11,AT11<>$AH11,AU11<>$AH11,AV11<>$AH11,AW11<>$AH11,AY11<>$AH11,AX11<>$AH11),$AH11,\nIF(AND(AQ11<>$AI11,AR11<>$AI11,AS11<>$AI11,AT11<>$AI11,AU11<>$AI11,AV11<>$AI11,AW11<>$AI11,AY11<>$AI11,AX11<>$AI11),$AI11,\nIF(AND(AQ11<>$AJ11,AR11<>$AJ11,AS11<>$AJ11,AT11<>$AJ11,AU11<>$AJ11,AV11<>$AJ11,AW11<>$AJ11,AY11<>$AJ11,AX11<>$AJ11),$AJ11,\nIF(AND(AQ11<>$AK11,AR11<>$AK11,AS11<>$AK11,AT11<>$AK11,AU11<>$AK11,AV11<>$AK11,AW11<>$AK11,AY11<>$AK11,AX11<>$AK11),$AK11,\nIF(AND(AQ11<>$AL11,AR11<>$AL11,AS11<>$AL11,AT11<>$AL11,AU11<>$AL11,AV11<>$AL11,AW11<>$AL11,AY11<>$AL11,AX11<>$AL11),$AL11,\nIF(AND(AQ11<>$AM11,AR11<>$AM11,AS11<>$AM11,AT11<>$AM11,AU11<>$AM11,AV11<>$AM11,AW11<>$AM11,AY11<>$AM11,AX11<>$AM11),$AM11,\nIF(AND(AQ11<>$AN11,AR11<>$AN11,AS11<>$AN11,AT11<>$AN11,AU11<>$AN11,AV11<>$AN11,AW11<>$AN11,AY11<>$AN11,AX11<>$AN11),$AN11,\nIF(AND(AQ11<>$AO11,AR11<>$AO11,AS11<>$AO11,AT11<>$AO11,AU11<>$AO11,AV11<>$AO11,AW11<>$AO11,AY11<>$AO11,AX11<>$AO11),$AO11,\n\"\")))))))))))","v":""}]
[null,{"$f":"IF(L12=\"x\",1,IF(SUM(B13:B19)>0,1,0))","v":1},0,{"$f":"G12","v":"520.000"},{"$f":"H12","v":"Appareils de commande, de protection et de mesure BT"},"","520.000","Appareils de commande, de protection et de mesure BT",null,null,"forf.",null,null,null,null,null,null,null,null,null,null,null,null,null,null,null,null,null,null,"x",null,"forf.","forf.","forf.","forf.","forf.","forf.","forf.","forf.","forf.","forf.",null,"forf.","","","","","","","","",""]
[null,{"$f":"IF(L13=\"x\",1,IF(ISNUMBER(L13),L13,0))","v":1},1,{"$f":"I13","v":"521.000"},{"$f":"J13 & IF(M13<>\"\",CHAR(10) & M13,\"\")","v":"Interrupteur AC\nPropriétés : \nIntensité maximale admissible"},"Pce ",null,null,"521.000","Interrupteur AC","Pce ","x","Propriétés : \nIntensité maximale admissible",null,null,null,null,null,null,"E500_AC_Schalter","x",null,null,null,null,null,null,null,null,"x",null,"Pce","forf.","forf.","forf.","forf.","forf.","forf.","forf.","forf.","forf.",null,"Pce","forf.","","","","","","","",""]
[null,0,0,{"$f":"I14","v":"522.000"},"Ensemble d’appareillages (distribution BT)","",null,null,"522.000","Ensemble d’appareillages (distribution BT)","Pce ",null,null,null,null,null,null,null,null,"E500_NS_SGK","x",null,null,null,null,null,null,null,null,"x",null,"Pce","forf.","forf.","forf.","forf.","forf.","forf.","forf.","forf.","forf.",null,"Pce","forf.","","","","","","","",""]
[null,0,0,"523.000","Protection contre les surintensités AC","",null,null,"523.000","Protection contre les surintensités AC","Pce ",null,null,null,null,null,null,null,null,"E500_AC_Absicherung","x",null,null,null,null,null,null,null,null,"x",null,"Pce","forf.","forf.","forf.","forf.","forf.","forf.","forf.","forf.","forf.",null,"Pce","forf.","","","","","","","",""]
[null,1,1,{"$f":"I16","v":"524.000"},"Protection RI\nPropriétés : \nIntégré dans l’onduleur","Pce ",null,null,"524.000","Protection RI","Pce ","x","Propriétés : \nIntégré dans l’onduleur",null,null,null,null,null,null,"E500_NS_NA_Schutz","x",null,null,null,null,null,null,null,null,"x",null,"Pce","forf.","forf.","forf.","forf.","forf.","forf.","forf.","forf.","forf.",null,"Pce","forf.","","","","","","","",""]
[null,1,1,"525.000","SPD ","Pce ",null,null,"525.000","SPD ","Pce ","x",null,null,null,null,null,null,null,"E500_AC_SPD","x",null,null,null,null,null,null,null,null,"x",null,"Pce","forf.","forf.","forf.","forf.","forf.","forf.","forf.","forf.","forf.",null,"Pce","forf.","","","","","","","",""]
[null,1,1,"526.000","Compteur","Pce ",null,null,"526.000","Compteur","Pce ","x",null,null,null,null,null,null,null,"E500_AC_Zähler","x",null,null,null,null,null,null,null,null,null,null,"Pce","","","","","","","","","",null,"Pce","","","","","","","","",""]
[null,1,1,"527.000","Transformateur de courant","Pce ",null,null,"527.000","Transformateur de courant","Pce ","x",null,null,null,null,null,null,null,"E500_Stromwandler","x",null,null,null,null,null,null,null,null,null,null,"Pce","","","","","","","","","",null,"Pce","","","","","","","","",""]
[null,{"$f":"B12","v":1},0,null,null,"",null,null,null,null,null,null,null,null,null,null,null,null,null,null,null,null,null,null,null,null,null,null,null,null,null,"","","","","","","","","","",null,"","","","","","","","","",""]
[null,{"$f":"IF(L21=\"x\",1,IF(SUM(B23:B27)>0,1,0))","v":1},1,{"$f":"G21","v":"530.000"},{"$f":"H21","v":"Câblage/protection des câbles"},"forf.","530.000","Câblage/protection des câbles",null,null,"forf.","x",null,null,null,null,null,null,null,"E500_AC_Kabelführung",null,null,null,null,null,null,null,null,null,"x",null,"forf.","forf.","forf.","forf.","forf.","forf.","forf.","forf.","forf.","forf.",null,"forf.","","","","","","","","",""]
[null,{"$f":"IF(E22=\"\",0,1)","v":0},0,null,{"$f":"IF(M21<>\"\",M21,\"\")","v":""},""]
[null,{"$f":"IF(L23=\"x\",1,IF(ISNUMBER(L23),L23,0))","v":1},1,{"$f":"I23","v":"531.000"},{"$f":"J23 & IF(M23<>\"\",CHAR(10) & M23,\"\")","v":"Tracés\nPropriétés : \nGalvanisé à chaud"},"ml",null,null,"531.000","Tracés","ml","x","Propriétés : \nGalvanisé à chaud",null,null,null,null,null,null,"E500_AC_Kabelführung","x",null,"x",null,null,null,null,null,null,"x",null,"Pce","ml","ml","forf.","forf.","forf.","forf.","forf.","forf.","forf.",null,"Pce","ml","forf.","","","","","","",""]
[null,{"$f":"IF(L24=\"x\",1,IF(ISNUMBER(L24),L24,0))","v":0},0,{"$f":"I24","v":"532.000"},"Canalisations","",null,null,"532.000","Canalisations","ml",null,null,null,null,null,null,null,null,"E500_AC_Kabelführung","x",null,"x",null,null,null,null,null,null,"x",null,"Pce","ml","ml","forf.","forf.","forf.","forf.","forf.","forf.","forf.",null,"Pce","ml","forf.","","","","","","",""]
[null,{"$f":"IF(L25=\"x\",1,IF(ISNUMBER(L25),L25,0))","v":0},0,"533.000","Tubes","",null,null,"533.000","Tubes","ml",null,null,null,null,null,null,null,null,"E500_AC_Kabelführung","x",null,"x",null,null,null,null,null,null,"x",null,"Pce","ml","ml","forf.","forf.","forf.","forf.","forf.","forf.","forf.",null,"Pce","ml","forf.","","","","","","",""]
[null,{"$f":"IF(L26=\"x\",1,IF(ISNUMBER(L26),L26,0))","v":0},0,{"$f":"I26","v":"534.000"},"Gaînes","",null,null,"534.000","Gaînes","ml",null,null,null,null,null,null,null,null,"E500_AC_Kabelführung","x",null,"x",null,null,null,null,null,null,"x",null,"Pce","ml","ml","forf.","forf.","forf.","forf.","forf.","forf.","forf.",null,"Pce","ml","forf.","","","","","","",""]
[null,{"$f":"IF(L27=\"x\",1,IF(ISNUMBER(L27),L27,0))","v":0},0,"535.000","Dalles en pierre (dalles de jardin)","",null,null,"535.000","Dalles en pierre (dalles de jardin)","m²",null,null,null,null,null,null,null,null,"E500_AC_Kabelführung","x",null,null,"x",null,null,null,null,null,"x",null,"Pce","m2","m2","m2","forf.","forf.","forf.","forf.","forf.","forf.",null,"Pce","m2","forf.","","","","","","",""]
[null,{"$f":"B21","v":1},0,null,null,"",null,null,null,null,null,null,null,null,null,null,null,null,null,null,null,null,null,null,null,null,null,null,null,null,null,"","","","","","","","","","",null,"","","","","","","","","",""]
[null,{"$f":"IF(L29=\"x\",1,IF(SUM(B31:B34)>0,1,0))","v":1},0,{"$f":"G29","v":"540.000"},{"$f":"H29","v":"Liaison équipotentielle"},"","540.000","Liaison équipotentielle",null,null,"forf.",null,null,null,null,null,null,null,null,"E500_AC_POT_Ausgleich",null,null,null,null,null,null,null,null,null,"x",null,"forf.","forf.","forf.","forf.","forf.","forf.","forf.","forf.","forf.","forf.",null,"forf.","","","","","","","","",""]
[null,{"$f":"IF(E30=\"\",0,1)","v":0},0,null,{"$f":"IF(M29<>\"\",M29,\"\")","v":""},""]
[null,{"$f":"IF(L31=\"x\",1,IF(ISNUMBER(L31),L31,0))","v":1},1,{"$f":"I31","v":"541.000"},{"$f":"J31 & IF(M31<>\"\",CHAR(10) & M31,\"\")","v":"Conducteur\nPropriétés : \n16 mm²"},"ml",null,null,"541.000","Conducteur","ml","x","Propriétés : \n16 mm²",null,null,null,null,null,null,"E500_AC_POT_Ausgleich",null,null,"x",null,null,null,null,null,null,"x",null,"ml","ml","ml","forf.","forf.","forf.","forf.","forf.","forf.","forf.",null,"ml","forf.","","","","","","","",""]
[null,{"$f":"IF(L32=\"x\",1,IF(ISNUMBER(L32),L32,0))","v":1},1,{"$f":"I32","v":"542.000"},"Serre-fils (pièce de raccordement)\nPropriétés : \nInoxydable","Pce ",null,null,"542.000","Serre-fils (pièce de raccordement)","Pce ","x","Propriétés : \nInoxydable",null,null,null,null,null,null,"E500_AC_POT_Ausgleich","x",null,null,null,null,null,null,null,null,"x",null,"Pce","forf.","forf.","forf.","forf.","forf.","forf.","forf.","forf.","forf.",null,"Pce","forf.","","","","","","","",""]
[null,{"$f":"IF(L33=\"x\",1,IF(ISNUMBER(L33),L33,0))","v":0},0,"543.000","Cosses de câbles","",null,null,"543.000","Cosses de câbles","Pce ",null,null,null,null,null,null,null,null,"E500_AC_POT_Ausgleich","x",null,null,null,null,null,null,null,null,"x",null,"Pce","forf.","forf.","forf.","forf.","forf.","forf.","forf.","forf.","forf.",null,"Pce","forf.","","","","","","","",""]
[null,{"$f":"IF(L34=\"x\",1,IF(ISNUMBER(L34),L34,0))","v":0},0,{"$f":"I34","v":"544.000"},"Barrette de terre","",null,null,"544.000","Barrette de terre","Pce ",null,null,null,null,null,null,null,null,"E500_AC_POT_Ausgleich","x",null,null,null,null,null,null,null,null,"x",null,"Pce","forf.","forf.","forf.","forf.","forf.","forf.","forf.","forf.","forf.",null,"Pce","forf.","","","","","","","",""]
[null,{"$f":"B29","v":1},0,null,null,"",null,null,null,null,null,null,null,null,null,null,null,null,null,null,null,null,null,null,null,null,null,null,null,null,null,"","","","","","","","","","",null,"","","","","","","","","",""]
[null,{"$f":"IF(L36=\"x\",1,IF(SUM(B37:B43)>0,1,0))","v":0},0,{"$f":"G36","v":"550.000"},{"$f":"H36","v":"Installations MT"},"","550.000","Installations MT",null,null,"forf.",null,null,null,null,null,null,null,null,null,null,null,null,null,null,null,null,null,null,"x",null,"forf.","forf.","forf.","forf.","forf.","forf.","forf.","forf.","forf.","forf.",null,"forf.","","","","","","","","",""]
[null,{"$f":"IF(L37=\"x\",1,IF(ISNUMBER(L37),L37,0))","v":0},0,{"$f":"I37","v":"551.000"},{"$f":"J37 & IF(M37<>\"\",CHAR(10) & M37,\"\")","v":"Transfo MT/BT"},"",null,null,"551.000","Transfo MT/BT","Pce ",null,null,null,null,null,null,null,null,"E500_MS_Trafo","x",null,null,null,null,null,null,null,null,null,null,"Pce","","","","","","","","","",null,"Pce","","","","","","","","",""]
[null,0,0,{"$f":"I38","v":"552.000"},"Module conteneur MT","",null,null,"552.000","Module conteneur MT","Pce ",null,null,null,null,null,null,null,null,"E500_MS_Containerstation","x",null,null,null,null,null,null,null,null,null,null,"Pce","","","","","","","","","",null,"Pce","","","","","","","","",""]
[null,0,0,"553.000","Lignes MT","",null,null,"553.000","Lignes MT","ml",null,null,null,null,null,null,null,null,"E500_MS_Leitungen",null,null,"x",null,null,null,null,null,null,"x",null,"ml","ml","ml","forf.","forf.","forf.","forf.","forf.","forf.","forf.",null,"ml","forf.","","","","","","","",""]
[null,0,0,{"$f":"I40","v":"554.000"},"Cellules MT","",null,null,"554.000","Cellules MT","Pce ",null,null,null,null,null,null,null,null,"E500_MS_Schaltanlage","x",null,null,null,null,null,null,null,null,"x",null,"Pce","forf.","forf.","forf.","forf.","forf.","forf.","forf.","forf.","forf.",null,"Pce","forf.","","","","","","","",""]
[null,0,0,"555.000","Protection RI","",null,null,"555.000","Protection RI","Pce ",null,null,null,null,null,null,null,null,"E500_MS_NA_Schutz","x",null,null,null,null,null,null,null,null,"x",null,"Pce","forf.","forf.","forf.","forf.","forf.","forf.","forf.","forf.","forf.",null,"Pce","forf.","","","","","","","",""]
[null,0,0,"556.000","SPD","",null,null,"556.000","SPD","Pce ",null,null,null,null,null,null,null,null,"E500_MS_SPD","x",null,null,null,null,null,null,null,null,"x",null,"Pce","forf.","forf.","forf.","forf.","forf.","forf.","forf.","forf.","forf.",null,"Pce","forf.","","","","","","","",""]
[null,0,0,"557.000",{"$f":"J43","v":"Technique de commande/protection"},"",null,null,"557.000","Technique de commande/protection","Pce ",null,null,null,null,null,null,null,null,null,"x",null,null,null,null,null,null,null,null,"x",null,"Pce","forf.","forf.","forf.","forf.","forf.","forf.","forf.","forf.","forf.",null,"Pce","forf.","","","","","","","",""]
[null,{"$f":"B36","v":0},0,null,null,"",null,null,null,null,null,null,null,null,null,null,null,null,null,null,null,null,null,null,null,null,null,null,null,null,null,"","","","","","","","","","",null,"","","","","","","","","",""]
[null,{"$f":"IF(L45=\"x\",1,IF(SUM(B46:B53)>0,1,0))","v":1},0,{"$f":"G45","v":"560.000"},{"$f":"H45","v":"Installations RCP"},"","560.000","Installations RCP",null,null,"forf.",null,null,null,null,null,null,null,null,null,null,null,null,null,null,null,null,null,null,"x",null,"forf.","forf.","forf.","forf.","forf.","forf.","forf.","forf.","forf.","forf.",null,"forf.","","","","","","","","",""]
[null,{"$f":"IF(L46=\"x\",1,IF(ISNUMBER(L46),L46,0))","v":1},1,{"$f":"I46","v":"561.000"},{"$f":"J46 & IF(M46<>\"\",CHAR(10) & M46,\"\")","v":"Compteur électrique privé\nPropriétés : \nCompteurs calibrés (certifiés MID)\nMesure directe"},"Pce ",null,null,"561.000","Compteur électrique privé","Pce ","x","Propriétés : \nCompteurs calibrés (certifiés MID)\nMesure directe",null,null,null,null,null,null,"E500_ZEV_Zähler","x",null,null,null,null,null,null,null,null,null,null,"Pce","","","","","","","","","",null,"Pce","","","","","","","","",""]
[null,0,0,{"$f":"I47","v":"562.000"},{"$f":"J47","v":"Transformateur de courant pour compteur"},"",null,null,"562.000","Transformateur de courant pour compteur","Pce ",null,null,null,null,null,null,null,null,null,"x",null,null,null,null,null,null,null,null,null,null,"Pce","","","","","","","","","",null,"Pce","","","","","","","","",""]
[null,0,0,"563.000","Compteur eau froide","",null,null,"563.000","Compteur eau froide","Pce ",null,null,null,null,null,null,null,null,null,"x",null,null,null,null,null,null,null,null,null,null,"Pce","","","","","","","","","",null,"Pce","","","","","","","","",""]
[null,0,0,{"$f":"I49","v":"564.000"},{"$f":"J49","v":"Compteur eau chaude"},"",null,null,"564.000","Compteur eau chaude","Pce ",null,null,null,null,null,null,null,null,null,"x",null,null,null,null,null,null,null,null,null,null,"Pce","","","","","","","","","",null,"Pce","","","","","","","","",""]
[null,0,0,"565.000","Compteur chaleur","",null,null,"565.000","Compteur chaleur","Pce ",null,null,null,null,null,null,null,null,null,"x",null,null,null,null,null,null,null,null,null,null,"Pce","","","","","","","","","",null,"Pce","","","","","","","","",""]
[null,1,1,"566.000","Datalogger","Pce ",null,null,"566.000","Datalogger","Pce ","x",null,null,null,null,null,null,null,null,"x",null,null,null,null,null,null,null,null,null,null,"Pce","","","","","","","","","",null,"Pce","","","","","","","","",""]
[null,1,1,"567.000","Système de communication (p.e. routeur)","Pce ",null,null,"567.000","Système de communication (p.e. routeur)","Pce ","x",null,null,null,null,null,null,null,null,"x",null,null,null,null,null,null,null,null,null,null,"Pce","","","","","","","","","",null,"Pce","","","","","","","","",""]
[null,1,1,"568.000","Configuration","Pce ",null,null,"568.000","Configuration","Pce ","x",null,null,null,null,null,null,null,null,"x",null,null,null,null,null,null,null,null,null,null,"Pce","","","","","","","","","",null,"Pce","","","","","","","","",""]

{"sheet":"600 Prép. trav., planification","index":8,"n_rows":124,"n_cols":54,"rows_kept":124,"cut":false,"hidden":false,"merged":[[0,21,0,53],[1,8,1,9],[2,8,2,9],[3,12,3,13],[3,14,3,15],[2,10,2,15],[3,8,3,9],[3,10,3,11]]}
[null,null,null,null,null,null,null,null,null,null,null,null,null,null,null,null,null,null,null,null,null,"AUSBLENDEN"]
[null,null,null,null,null,null,"Ausblenden",null,"Niveau de structure 1 :",null,600,"Préparation des travaux et planification"]
[null,null,null,null,null,null,null,null,"Obligatoire",null,"Optionnel"]
[null,"Show","Fill","SOQ-Nr.",null,null,"Beschreibung","Einheit","Niveau de structure 2",null,"Niveau de structure 3",null,"Niveau de structure 4",null,"Niveau de structure 5",null,"Unité de prestation","Ajouter une position","E-Box",null,null,"E-Box","Pce","Module","ml","m2","m3","h","mois","a","kWp","forf.",null,"Pos1","Pos2","Pos3","Pos4","Pos5","Pos6","Pos7","Pos8","Pos9","Pos10",null,"Pos1","Pos2","Pos3","Pos4","Pos5","Pos6","Pos7","Pos8","Pos9","Pos10"]
[]
[null,{"$f":"IF(R6=\"x\",1,IF(SUM(B7:B27)>0,1,0))","v":1},{"$f":"IF(R6=\"x\",1,IF(ISNUMBER(R6),1,0))","v":0},{"$f":"I6","v":"610.000"},null,null,{"$f":"J6","v":"Installation de chantier/logistique"},{"$f":"IF(C6=1,Q6,\"\")","v":""},"610.000","Installation de chantier/logistique",null,null,null,null,null,null,"forf.",null,null,null,null,null,null,null,null,null,null,null,null,null,null,"x",null,{"$f":"\nIF(W6=\"x\",W$4,\nIF(X6=\"x\",X$4,\nIF(Y6=\"x\",Y$4,\nIF(Z6=\"x\",Z$4,\nIF(AA6=\"x\",AA$4,\nIF(AB6=\"x\",AB$4,\nIF(AC6=\"x\",AC$4,\nIF(AD6=\"x\",AD$4,\nIF(AE6=\"x\",AE$4,\nIF(AF6=\"x\",AF$4,\n\"\"))))))))))","v":"forf."},{"$f":"\nIF(X6=\"x\",X$4,\nIF(Y6=\"x\",Y$4,\nIF(Z6=\"x\",Z$4,\nIF(AA6=\"x\",AA$4,\nIF(AB6=\"x\",AB$4,\nIF(AC6=\"x\",AC$4,\nIF(AD6=\"x\",AD$4,\nIF(AE6=\"x\",AE$4,\nIF(AF6=\"x\",AF$4,\n\"\")))))))))","v":"forf."},{"$f":"\nIF(Y6=\"x\",Y$4,\nIF(Z6=\"x\",Z$4,\nIF(AA6=\"x\",AA$4,\nIF(AB6=\"x\",AB$4,\nIF(AC6=\"x\",AC$4,\nIF(AD6=\"x\",AD$4,\nIF(AE6=\"x\",AE$4,\nIF(AF6=\"x\",AF$4,\n\"\"))))))))","v":"forf."},{"$f":"\nIF(Z6=\"x\",Z$4,\nIF(AA6=\"x\",AA$4,\nIF(AB6=\"x\",AB$4,\nIF(AC6=\"x\",AC$4,\nIF(AD6=\"x\",AD$4,\nIF(AE6=\"x\",AE$4,\nIF(AF6=\"x\",AF$4,\n\"\")))))))","v":"forf."},{"$f":"\nIF(AA6=\"x\",AA$4,\nIF(AB6=\"x\",AB$4,\nIF(AC6=\"x\",AC$4,\nIF(AD6=\"x\",AD$4,\nIF(AE6=\"x\",AE$4,\nIF(AF6=\"x\",AF$4,\n\"\"))))))","v":"forf."},{"$f":"\nIF(AB6=\"x\",AB$4,\nIF(AC6=\"x\",AC$4,\nIF(AD6=\"x\",AD$4,\nIF(AE6=\"x\",AE$4,\nIF(AF6=\"x\",AF$4,\n\"\")))))","v":"forf."},{"$f":"\nIF(AC6=\"x\",AC$4,\nIF(AD6=\"x\",AD$4,\nIF(AE6=\"x\",AE$4,\nIF(AF6=\"x\",AF$4,\n\"\"))))","v":"forf."},{"$f":"\nIF(AD6=\"x\",AD$4,\nIF(AE6=\"x\",AE$4,\nIF(AF6=\"x\",AF$4,\n\"\")))","v":"forf."},{"$f":"\nIF(AE6=\"x\",AE$4,\nIF(AF6=\"x\",AF$4,\n\"\"))","v":"forf."},{"$f":"\nIF(AF6=\"x\",AF$4,\n\"\")","v":"forf."},null,{"$f":"AH6","v":"forf."},{"$f":"IF(AS6=\"\",\"\",\nIF(AS6<>$AH6,$AH6,\nIF(AS6<>$AI6,$AI6,\nIF(AS6<>$AJ6,$AJ6,\nIF(AS6<>$AK6,$AK6,\nIF(AS6<>$AL6,$AL6,\nIF(AS6<>$AM6,$AM6,\nIF(AS6<>$AN6,$AN6,\nIF(AS6<>$AO6,$AO6,\nIF(AS6<>$AP6,$AP6,\nIF(AS6<>$AQ6,$AQ6,\n\"\")))))))))))","v":""},{"$f":"IF(AT6=\"\",\"\",\nIF(AND(AT6<>$AH6,AS6<>$AH6),$AH6,\nIF(AND(AT6<>$AI6,AS6<>$AI6),$AI6,\nIF(AND(AT6<>$AJ6,AS6<>$AJ6),$AJ6,\nIF(AND(AT6<>$AK6,AS6<>$AK6),$AK6,\nIF(AND(AT6<>$AL6,AS6<>$AL6),$AL6,\nIF(AND(AT6<>$AM6,AS6<>$AM6),$AM6,\nIF(AND(AT6<>$AN6,AS6<>$AN6),$AN6,\nIF(AND(AT6<>$AO6,AS6<>$AO6),$AO6,\nIF(AND(AT6<>$AP6,AS6<>$AP6),$AP6,\nIF(AND(AT6<>$AQ6,AS6<>$AQ6),$AQ6,\n\"\")))))))))))","v":""},{"$f":"IF(AU6=\"\",\"\",\nIF(AND(AS6<>$AH6,AU6<>$AH6,AT6<>$AH6),$AH6,\nIF(AND(AS6<>$AI6,AU6<>$AI6,AT6<>$AI6),$AI6,\nIF(AND(AS6<>$AJ6,AU6<>$AJ6,AT6<>$AJ6),$AJ6,\nIF(AND(AS6<>$AK6,AU6<>$AK6,AT6<>$AK6),$AK6,\nIF(AND(AS6<>$AL6,AU6<>$AL6,AT6<>$AL6),$AL6,\nIF(AND(AS6<>$AM6,AU6<>$AM6,AT6<>$AM6),$AM6,\nIF(AND(AS6<>$AN6,AU6<>$AN6,AT6<>$AN6),$AN6,\nIF(AND(AS6<>$AO6,AU6<>$AO6,AT6<>$AO6),$AO6,\nIF(AND(AS6<>$AP6,AU6<>$AP6,AT6<>$AP6),$AP6,\nIF(AND(AS6<>$AQ6,AU6<>$AQ6,AT6<>$AQ6),$AQ6,\n\"\")))))))))))","v":""},{"$f":"IF(AV6=\"\",\"\",\nIF(AND(AS6<>$AH6,AT6<>$AH6,AV6<>$AH6,AU6<>$AH6),$AH6,\nIF(AND(AS6<>$AI6,AT6<>$AI6,AV6<>$AI6,AU6<>$AI6),$AI6,\nIF(AND(AS6<>$AJ6,AT6<>$AJ6,AV6<>$AJ6,AU6<>$AJ6),$AJ6,\nIF(AND(AS6<>$AK6,AT6<>$AK6,AV6<>$AK6,AU6<>$AK6),$AK6,\nIF(AND(AS6<>$AL6,AT6<>$AL6,AV6<>$AL6,AU6<>$AL6),$AL6,\nIF(AND(AS6<>$AM6,AT6<>$AM6,AV6<>$AM6,AU6<>$AM6),$AM6,\nIF(AND(AS6<>$AN6,AT6<>$AN6,AV6<>$AN6,AU6<>$AN6),$AN6,\nIF(AND(AS6<>$AO6,AT6<>$AO6,AV6<>$AO6,AU6<>$AO6),$AO6,\nIF(AND(AS6<>$AP6,AT6<>$AP6,AV6<>$AP6,AU6<>$AP6),$AP6,\nIF(AND(AS6<>$AQ6,AT6<>$AQ6,AV6<>$AQ6,AU6<>$AQ6),$AQ6,\n\"\")))))))))))","v":""},{"$f":"IF(AW6=\"\",\"\",\nIF(AND(AS6<>$AH6,AT6<>$AH6,AU6<>$AH6,AW6<>$AH6,AV6<>$AH6),$AH6,\nIF(AND(AS6<>$AI6,AT6<>$AI6,AU6<>$AI6,AW6<>$AI6,AV6<>$AI6),$AI6,\nIF(AND(AS6<>$AJ6,AT6<>$AJ6,AU6<>$AJ6,AW6<>$AJ6,AV6<>$AJ6),$AJ6,\nIF(AND(AS6<>$AK6,AT6<>$AK6,AU6<>$AK6,AW6<>$AK6,AV6<>$AK6),$AK6,\nIF(AND(AS6<>$AL6,AT6<>$AL6,AU6<>$AL6,AW6<>$AL6,AV6<>$AL6),$AL6,\nIF(AND(AS6<>$AM6,AT6<>$AM6,AU6<>$AM6,AW6<>$AM6,AV6<>$AM6),$AM6,\nIF(AND(AS6<>$AN6,AT6<>$AN6,AU6<>$AN6,AW6<>$AN6,AV6<>$AN6),$AN6,\nIF(AND(AS6<>$AO6,AT6<>$AO6,AU6<>$AO6,AW6<>$AO6,AV6<>$AO6),$AO6,\nIF(AND(AS6<>$AP6,AT6<>$AP6,AU6<>$AP6,AW6<>$AP6,AV6<>$AP6),$AP6,\nIF(AND(AS6<>$AQ6,AT6<>$AQ6,AU6<>$AQ6,AW6<>$AQ6,AV6<>$AQ6),$AQ6,\n\"\")))))))))))","v":""},{"$f":"IF(AX6=\"\",\"\",\nIF(AND(AS6<>$AH6,AT6<>$AH6,AU6<>$AH6,AV6<>$AH6,AX6<>$AH6,AW6<>$AH6),$AH6,\nIF(AND(AS6<>$AI6,AT6<>$AI6,AU6<>$AI6,AV6<>$AI6,AX6<>$AI6,AW6<>$AI6),$AI6,\nIF(AND(AS6<>$AJ6,AT6<>$AJ6,AU6<>$AJ6,AV6<>$AJ6,AX6<>$AJ6,AW6<>$AJ6),$AJ6,\nIF(AND(AS6<>$AK6,AT6<>$AK6,AU6<>$AK6,AV6<>$AK6,AX6<>$AK6,AW6<>$AK6),$AK6,\nIF(AND(AS6<>$AL6,AT6<>$AL6,AU6<>$AL6,AV6<>$AL6,AX6<>$AL6,AW6<>$AL6),$AL6,\nIF(AND(AS6<>$AM6,AT6<>$AM6,AU6<>$AM6,AV6<>$AM6,AX6<>$AM6,AW6<>$AM6),$AM6,\nIF(AND(AS6<>$AN6,AT6<>$AN6,AU6<>$AN6,AV6<>$AN6,AX6<>$AN6,AW6<>$AN6),$AN6,\nIF(AND(AS6<>$AO6,AT6<>$AO6,AU6<>$AO6,AV6<>$AO6,AX6<>$AO6,AW6<>$AO6),$AO6,\nIF(AND(AS6<>$AP6,AT6<>$AP6,AU6<>$AP6,AV6<>$AP6,AX6<>$AP6,AW6<>$AP6),$AP6,\nIF(AND(AS6<>$AQ6,AT6<>$AQ6,AU6<>$AQ6,AV6<>$AQ6,AX6<>$AQ6,AW6<>$AQ6),$AQ6,\n\"\")))))))))))","v":""},{"$f":"IF(AY6=\"\",\"\",\nIF(AND(AS6<>$AH6,AT6<>$AH6,AU6<>$AH6,AV6<>$AH6,AW6<>$AH6,AY6<>$AH6,AX6<>$AH6),$AH6,\nIF(AND(AS6<>$AI6,AT6<>$AI6,AU6<>$AI6,AV6<>$AI6,AW6<>$AI6,AY6<>$AI6,AX6<>$AI6),$AI6,\nIF(AND(AS6<>$AJ6,AT6<>$AJ6,AU6<>$AJ6,AV6<>$AJ6,AW6<>$AJ6,AY6<>$AJ6,AX6<>$AJ6),$AJ6,\nIF(AND(AS6<>$AK6,AT6<>$AK6,AU6<>$AK6,AV6<>$AK6,AW6<>$AK6,AY6<>$AK6,AX6<>$AK6),$AK6,\nIF(AND(AS6<>$AL6,AT6<>$AL6,AU6<>$AL6,AV6<>$AL6,AW6<>$AL6,AY6<>$AL6,AX6<>$AL6),$AL6,\nIF(AND(AS6<>$AM6,AT6<>$AM6,AU6<>$AM6,AV6<>$AM6,AW6<>$AM6,AY6<>$AM6,AX6<>$AM6),$AM6,\nIF(AND(AS6<>$AN6,AT6<>$AN6,AU6<>$AN6,AV6<>$AN6,AW6<>$AN6,AY6<>$AN6,AX6<>$AN6),$AN6,\nIF(AND(AS6<>$AO6,AT6<>$AO6,AU6<>$AO6,AV6<>$AO6,AW6<>$AO6,AY6<>$AO6,AX6<>$AO6),$AO6,\nIF(AND(AS6<>$AP6,AT6<>$AP6,AU6<>$AP6,AV6<>$AP6,AW6<>$AP6,AY6<>$AP6,AX6<>$AP6),$AP6,\nIF(AND(AS6<>$AQ6,AT6<>$AQ6,AU6<>$AQ6,AV6<>$AQ6,AW6<>$AQ6,AY6<>$AQ6,AX6<>$AQ6),$AQ6,\n\"\")))))))))))","v":""},{"$f":"IF(AZ6=\"\",\"\",\nIF(AND(AS6<>$AH6,AT6<>$AH6,AU6<>$AH6,AV6<>$AH6,AW6<>$AH6,AX6<>$AH6,AZ6<>$AH6,AY6<>$AH6),$AH6,\nIF(AND(AS6<>$AI6,AT6<>$AI6,AU6<>$AI6,AV6<>$AI6,AW6<>$AI6,AX6<>$AI6,AZ6<>$AI6,AY6<>$AI6),$AI6,\nIF(AND(AS6<>$AJ6,AT6<>$AJ6,AU6<>$AJ6,AV6<>$AJ6,AW6<>$AJ6,AX6<>$AJ6,AZ6<>$AJ6,AY6<>$AJ6),$AJ6,\nIF(AND(AS6<>$AK6,AT6<>$AK6,AU6<>$AK6,AV6<>$AK6,AW6<>$AK6,AX6<>$AK6,AZ6<>$AK6,AY6<>$AK6),$AK6,\nIF(AND(AS6<>$AL6,AT6<>$AL6,AU6<>$AL6,AV6<>$AL6,AW6<>$AL6,AX6<>$AL6,AZ6<>$AL6,AY6<>$AL6),$AL6,\nIF(AND(AS6<>$AM6,AT6<>$AM6,AU6<>$AM6,AV6<>$AM6,AW6<>$AM6,AX6<>$AM6,AZ6<>$AM6,AY6<>$AM6),$AM6,\nIF(AND(AS6<>$AN6,AT6<>$AN6,AU6<>$AN6,AV6<>$AN6,AW6<>$AN6,AX6<>$AN6,AZ6<>$AN6,AY6<>$AN6),$AN6,\nIF(AND(AS6<>$AO6,AT6<>$AO6,AU6<>$AO6,AV6<>$AO6,AW6<>$AO6,AX6<>$AO6,AZ6<>$AO6,AY6<>$AO6),$AO6,\nIF(AND(AS6<>$AP6,AT6<>$AP6,AU6<>$AP6,AV6<>$AP6,AW6<>$AP6,AX6<>$AP6,AZ6<>$AP6,AY6<>$AP6),$AP6,\nIF(AND(AS6<>$AQ6,AT6<>$AQ6,AU6<>$AQ6,AV6<>$AQ6,AW6<>$AQ6,AX6<>$AQ6,AZ6<>$AQ6,AY6<>$AQ6),$AQ6,\n\"\")))))))))))","v":""},{"$f":"IF(BA6=\"\",\"\",\nIF(AND(AS6<>$AH6,AT6<>$AH6,AU6<>$AH6,AV6<>$AH6,AW6<>$AH6,AX6<>$AH6,AY6<>$AH6,BA6<>$AH6,AZ6<>$AH6),$AH6,\nIF(AND(AS6<>$AI6,AT6<>$AI6,AU6<>$AI6,AV6<>$AI6,AW6<>$AI6,AX6<>$AI6,AY6<>$AI6,BA6<>$AI6,AZ6<>$AI6),$AI6,\nIF(AND(AS6<>$AJ6,AT6<>$AJ6,AU6<>$AJ6,AV6<>$AJ6,AW6<>$AJ6,AX6<>$AJ6,AY6<>$AJ6,BA6<>$AJ6,AZ6<>$AJ6),$AJ6,\nIF(AND(AS6<>$AK6,AT6<>$AK6,AU6<>$AK6,AV6<>$AK6,AW6<>$AK6,AX6<>$AK6,AY6<>$AK6,BA6<>$AK6,AZ6<>$AK6),$AK6,\nIF(AND(AS6<>$AL6,AT6<>$AL6,AU6<>$AL6,AV6<>$AL6,AW6<>$AL6,AX6<>$AL6,AY6<>$AL6,BA6<>$AL6,AZ6<>$AL6),$AL6,\nIF(AND(AS6<>$AM6,AT6<>$AM6,AU6<>$AM6,AV6<>$AM6,AW6<>$AM6,AX6<>$AM6,AY6<>$AM6,BA6<>$AM6,AZ6<>$AM6),$AM6,\nIF(AND(AS6<>$AN6,AT6<>$AN6,AU6<>$AN6,AV6<>$AN6,AW6<>$AN6,AX6<>$AN6,AY6<>$AN6,BA6<>$AN6,AZ6<>$AN6),$AN6,\nIF(AND(AS6<>$AO6,AT6<>$AO6,AU6<>$AO6,AV6<>$AO6,AW6<>$AO6,AX6<>$AO6,AY6<>$AO6,BA6<>$AO6,AZ6<>$AO6),$AO6,\nIF(AND(AS6<>$AP6,AT6<>$AP6,AU6<>$AP6,AV6<>$AP6,AW6<>$AP6,AX6<>$AP6,AY6<>$AP6,BA6<>$AP6,AZ6<>$AP6),$AP6,\nIF(AND(AS6<>$AQ6,AT6<>$AQ6,AU6<>$AQ6,AV6<>$AQ6,AW6<>$AQ6,AX6<>$AQ6,AY6<>$AQ6,BA6<>$AQ6,AZ6<>$AQ6),$AQ6,\n\"\")))))))))))","v":""}]
[null,{"$f":"IF(OR(SUM(B8:B10)>0,R7=\"x\"),1,IF(ISNUMBER(R7),R7,0))","v":1},{"$f":"IF(R7=\"x\",1,IF(ISNUMBER(R7),1,0))","v":1},{"$f":"K7","v":"611.000"},null,null,{"$f":"L7","v":"Installation de chantier"},{"$f":"IF(C7=1,Q7,\"\")","v":"forf."},null,null,"611.000","Installation de chantier",null,null,null,null,"forf.","x",null,null,null,null,null,null,null,null,null,null,null,null,null,"x",null,{"$f":"\nIF(W7=\"x\",W$4,\nIF(X7=\"x\",X$4,\nIF(Y7=\"x\",Y$4,\nIF(Z7=\"x\",Z$4,\nIF(AA7=\"x\",AA$4,\nIF(AB7=\"x\",AB$4,\nIF(AC7=\"x\",AC$4,\nIF(AD7=\"x\",AD$4,\nIF(AE7=\"x\",AE$4,\nIF(AF7=\"x\",AF$4,\n\"\"))))))))))","v":"forf."},{"$f":"\nIF(X7=\"x\",X$4,\nIF(Y7=\"x\",Y$4,\nIF(Z7=\"x\",Z$4,\nIF(AA7=\"x\",AA$4,\nIF(AB7=\"x\",AB$4,\nIF(AC7=\"x\",AC$4,\nIF(AD7=\"x\",AD$4,\nIF(AE7=\"x\",AE$4,\nIF(AF7=\"x\",AF$4,\n\"\")))))))))","v":"forf."},{"$f":"\nIF(Y7=\"x\",Y$4,\nIF(Z7=\"x\",Z$4,\nIF(AA7=\"x\",AA$4,\nIF(AB7=\"x\",AB$4,\nIF(AC7=\"x\",AC$4,\nIF(AD7=\"x\",AD$4,\nIF(AE7=\"x\",AE$4,\nIF(AF7=\"x\",AF$4,\n\"\"))))))))","v":"forf."},{"$f":"\nIF(Z7=\"x\",Z$4,\nIF(AA7=\"x\",AA$4,\nIF(AB7=\"x\",AB$4,\nIF(AC7=\"x\",AC$4,\nIF(AD7=\"x\",AD$4,\nIF(AE7=\"x\",AE$4,\nIF(AF7=\"x\",AF$4,\n\"\")))))))","v":"forf."},{"$f":"\nIF(AA7=\"x\",AA$4,\nIF(AB7=\"x\",AB$4,\nIF(AC7=\"x\",AC$4,\nIF(AD7=\"x\",AD$4,\nIF(AE7=\"x\",AE$4,\nIF(AF7=\"x\",AF$4,\n\"\"))))))","v":"forf."},{"$f":"\nIF(AB7=\"x\",AB$4,\nIF(AC7=\"x\",AC$4,\nIF(AD7=\"x\",AD$4,\nIF(AE7=\"x\",AE$4,\nIF(AF7=\"x\",AF$4,\n\"\")))))","v":"forf."},{"$f":"\nIF(AC7=\"x\",AC$4,\nIF(AD7=\"x\",AD$4,\nIF(AE7=\"x\",AE$4,\nIF(AF7=\"x\",AF$4,\n\"\"))))","v":"forf."},{"$f":"\nIF(AD7=\"x\",AD$4,\nIF(AE7=\"x\",AE$4,\nIF(AF7=\"x\",AF$4,\n\"\")))","v":"forf."},{"$f":"\nIF(AE7=\"x\",AE$4,\nIF(AF7=\"x\",AF$4,\n\"\"))","v":"forf."},{"$f":"\nIF(AF7=\"x\",AF$4,\n\"\")","v":"forf."},null,{"$f":"AH7","v":"forf."},{"$f":"IF(AS7=\"\",\"\",\nIF(AS7<>$AH7,$AH7,\nIF(AS7<>$AI7,$AI7,\nIF(AS7<>$AJ7,$AJ7,\nIF(AS7<>$AK7,$AK7,\nIF(AS7<>$AL7,$AL7,\nIF(AS7<>$AM7,$AM7,\nIF(AS7<>$AN7,$AN7,\nIF(AS7<>$AO7,$AO7,\nIF(AS7<>$AP7,$AP7,\nIF(AS7<>$AQ7,$AQ7,\n\"\")))))))))))","v":""},{"$f":"IF(AT7=\"\",\"\",\nIF(AND(AT7<>$AH7,AS7<>$AH7),$AH7,\nIF(AND(AT7<>$AI7,AS7<>$AI7),$AI7,\nIF(AND(AT7<>$AJ7,AS7<>$AJ7),$AJ7,\nIF(AND(AT7<>$AK7,AS7<>$AK7),$AK7,\nIF(AND(AT7<>$AL7,AS7<>$AL7),$AL7,\nIF(AND(AT7<>$AM7,AS7<>$AM7),$AM7,\nIF(AND(AT7<>$AN7,AS7<>$AN7),$AN7,\nIF(AND(AT7<>$AO7,AS7<>$AO7),$AO7,\nIF(AND(AT7<>$AP7,AS7<>$AP7),$AP7,\nIF(AND(AT7<>$AQ7,AS7<>$AQ7),$AQ7,\n\"\")))))))))))","v":""},{"$f":"IF(AU7=\"\",\"\",\nIF(AND(AS7<>$AH7,AU7<>$AH7,AT7<>$AH7),$AH7,\nIF(AND(AS7<>$AI7,AU7<>$AI7,AT7<>$AI7),$AI7,\nIF(AND(AS7<>$AJ7,AU7<>$AJ7,AT7<>$AJ7),$AJ7,\nIF(AND(AS7<>$AK7,AU7<>$AK7,AT7<>$AK7),$AK7,\nIF(AND(AS7<>$AL7,AU7<>$AL7,AT7<>$AL7),$AL7,\nIF(AND(AS7<>$AM7,AU7<>$AM7,AT7<>$AM7),$AM7,\nIF(AND(AS7<>$AN7,AU7<>$AN7,AT7<>$AN7),$AN7,\nIF(AND(AS7<>$AO7,AU7<>$AO7,AT7<>$AO7),$AO7,\nIF(AND(AS7<>$AP7,AU7<>$AP7,AT7<>$AP7),$AP7,\nIF(AND(AS7<>$AQ7,AU7<>$AQ7,AT7<>$AQ7),$AQ7,\n\"\")))))))))))","v":""},{"$f":"IF(AV7=\"\",\"\",\nIF(AND(AS7<>$AH7,AT7<>$AH7,AV7<>$AH7,AU7<>$AH7),$AH7,\nIF(AND(AS7<>$AI7,AT7<>$AI7,AV7<>$AI7,AU7<>$AI7),$AI7,\nIF(AND(AS7<>$AJ7,AT7<>$AJ7,AV7<>$AJ7,AU7<>$AJ7),$AJ7,\nIF(AND(AS7<>$AK7,AT7<>$AK7,AV7<>$AK7,AU7<>$AK7),$AK7,\nIF(AND(AS7<>$AL7,AT7<>$AL7,AV7<>$AL7,AU7<>$AL7),$AL7,\nIF(AND(AS7<>$AM7,AT7<>$AM7,AV7<>$AM7,AU7<>$AM7),$AM7,\nIF(AND(AS7<>$AN7,AT7<>$AN7,AV7<>$AN7,AU7<>$AN7),$AN7,\nIF(AND(AS7<>$AO7,AT7<>$AO7,AV7<>$AO7,AU7<>$AO7),$AO7,\nIF(AND(AS7<>$AP7,AT7<>$AP7,AV7<>$AP7,AU7<>$AP7),$AP7,\nIF(AND(AS7<>$AQ7,AT7<>$AQ7,AV7<>$AQ7,AU7<>$AQ7),$AQ7,\n\"\")))))))))))","v":""},{"$f":"IF(AW7=\"\",\"\",\nIF(AND(AS7<>$AH7,AT7<>$AH7,AU7<>$AH7,AW7<>$AH7,AV7<>$AH7),$AH7,\nIF(AND(AS7<>$AI7,AT7<>$AI7,AU7<>$AI7,AW7<>$AI7,AV7<>$AI7),$AI7,\nIF(AND(AS7<>$AJ7,AT7<>$AJ7,AU7<>$AJ7,AW7<>$AJ7,AV7<>$AJ7),$AJ7,\nIF(AND(AS7<>$AK7,AT7<>$AK7,AU7<>$AK7,AW7<>$AK7,AV7<>$AK7),$AK7,\nIF(AND(AS7<>$AL7,AT7<>$AL7,AU7<>$AL7,AW7<>$AL7,AV7<>$AL7),$AL7,\nIF(AND(AS7<>$AM7,AT7<>$AM7,AU7<>$AM7,AW7<>$AM7,AV7<>$AM7),$AM7,\nIF(AND(AS7<>$AN7,AT7<>$AN7,AU7<>$AN7,AW7<>$AN7,AV7<>$AN7),$AN7,\nIF(AND(AS7<>$AO7,AT7<>$AO7,AU7<>$AO7,AW7<>$AO7,AV7<>$AO7),$AO7,\nIF(AND(AS7<>$AP7,AT7<>$AP7,AU7<>$AP7,AW7<>$AP7,AV7<>$AP7),$AP7,\nIF(AND(AS7<>$AQ7,AT7<>$AQ7,AU7<>$AQ7,AW7<>$AQ7,AV7<>$AQ7),$AQ7,\n\"\")))))))))))","v":""},{"$f":"IF(AX7=\"\",\"\",\nIF(AND(AS7<>$AH7,AT7<>$AH7,AU7<>$AH7,AV7<>$AH7,AX7<>$AH7,AW7<>$AH7),$AH7,\nIF(AND(AS7<>$AI7,AT7<>$AI7,AU7<>$AI7,AV7<>$AI7,AX7<>$AI7,AW7<>$AI7),$AI7,\nIF(AND(AS7<>$AJ7,AT7<>$AJ7,AU7<>$AJ7,AV7<>$AJ7,AX7<>$AJ7,AW7<>$AJ7),$AJ7,\nIF(AND(AS7<>$AK7,AT7<>$AK7,AU7<>$AK7,AV7<>$AK7,AX7<>$AK7,AW7<>$AK7),$AK7,\nIF(AND(AS7<>$AL7,AT7<>$AL7,AU7<>$AL7,AV7<>$AL7,AX7<>$AL7,AW7<>$AL7),$AL7,\nIF(AND(AS7<>$AM7,AT7<>$AM7,AU7<>$AM7,AV7<>$AM7,AX7<>$AM7,AW7<>$AM7),$AM7,\nIF(AND(AS7<>$AN7,AT7<>$AN7,AU7<>$AN7,AV7<>$AN7,AX7<>$AN7,AW7<>$AN7),$AN7,\nIF(AND(AS7<>$AO7,AT7<>$AO7,AU7<>$AO7,AV7<>$AO7,AX7<>$AO7,AW7<>$AO7),$AO7,\nIF(AND(AS7<>$AP7,AT7<>$AP7,AU7<>$AP7,AV7<>$AP7,AX7<>$AP7,AW7<>$AP7),$AP7,\nIF(AND(AS7<>$AQ7,AT7<>$AQ7,AU7<>$AQ7,AV7<>$AQ7,AX7<>$AQ7,AW7<>$AQ7),$AQ7,\n\"\")))))))))))","v":""},{"$f":"IF(AY7=\"\",\"\",\nIF(AND(AS7<>$AH7,AT7<>$AH7,AU7<>$AH7,AV7<>$AH7,AW7<>$AH7,AY7<>$AH7,AX7<>$AH7),$AH7,\nIF(AND(AS7<>$AI7,AT7<>$AI7,AU7<>$AI7,AV7<>$AI7,AW7<>$AI7,AY7<>$AI7,AX7<>$AI7),$AI7,\nIF(AND(AS7<>$AJ7,AT7<>$AJ7,AU7<>$AJ7,AV7<>$AJ7,AW7<>$AJ7,AY7<>$AJ7,AX7<>$AJ7),$AJ7,\nIF(AND(AS7<>$AK7,AT7<>$AK7,AU7<>$AK7,AV7<>$AK7,AW7<>$AK7,AY7<>$AK7,AX7<>$AK7),$AK7,\nIF(AND(AS7<>$AL7,AT7<>$AL7,AU7<>$AL7,AV7<>$AL7,AW7<>$AL7,AY7<>$AL7,AX7<>$AL7),$AL7,\nIF(AND(AS7<>$AM7,AT7<>$AM7,AU7<>$AM7,AV7<>$AM7,AW7<>$AM7,AY7<>$AM7,AX7<>$AM7),$AM7,\nIF(AND(AS7<>$AN7,AT7<>$AN7,AU7<>$AN7,AV7<>$AN7,AW7<>$AN7,AY7<>$AN7,AX7<>$AN7),$AN7,\nIF(AND(AS7<>$AO7,AT7<>$AO7,AU7<>$AO7,AV7<>$AO7,AW7<>$AO7,AY7<>$AO7,AX7<>$AO7),$AO7,\nIF(AND(AS7<>$AP7,AT7<>$AP7,AU7<>$AP7,AV7<>$AP7,AW7<>$AP7,AY7<>$AP7,AX7<>$AP7),$AP7,\nIF(AND(AS7<>$AQ7,AT7<>$AQ7,AU7<>$AQ7,AV7<>$AQ7,AW7<>$AQ7,AY7<>$AQ7,AX7<>$AQ7),$AQ7,\n\"\")))))))))))","v":""},{"$f":"IF(AZ7=\"\",\"\",\nIF(AND(AS7<>$AH7,AT7<>$AH7,AU7<>$AH7,AV7<>$AH7,AW7<>$AH7,AX7<>$AH7,AZ7<>$AH7,AY7<>$AH7),$AH7,\nIF(AND(AS7<>$AI7,AT7<>$AI7,AU7<>$AI7,AV7<>$AI7,AW7<>$AI7,AX7<>$AI7,AZ7<>$AI7,AY7<>$AI7),$AI7,\nIF(AND(AS7<>$AJ7,AT7<>$AJ7,AU7<>$AJ7,AV7<>$AJ7,AW7<>$AJ7,AX7<>$AJ7,AZ7<>$AJ7,AY7<>$AJ7),$AJ7,\nIF(AND(AS7<>$AK7,AT7<>$AK7,AU7<>$AK7,AV7<>$AK7,AW7<>$AK7,AX7<>$AK7,AZ7<>$AK7,AY7<>$AK7),$AK7,\nIF(AND(AS7<>$AL7,AT7<>$AL7,AU7<>$AL7,AV7<>$AL7,AW7<>$AL7,AX7<>$AL7,AZ7<>$AL7,AY7<>$AL7),$AL7,\nIF(AND(AS7<>$AM7,AT7<>$AM7,AU7<>$AM7,AV7<>$AM7,AW7<>$AM7,AX7<>$AM7,AZ7<>$AM7,AY7<>$AM7),$AM7,\nIF(AND(AS7<>$AN7,AT7<>$AN7,AU7<>$AN7,AV7<>$AN7,AW7<>$AN7,AX7<>$AN7,AZ7<>$AN7,AY7<>$AN7),$AN7,\nIF(AND(AS7<>$AO7,AT7<>$AO7,AU7<>$AO7,AV7<>$AO7,AW7<>$AO7,AX7<>$AO7,AZ7<>$AO7,AY7<>$AO7),$AO7,\nIF(AND(AS7<>$AP7,AT7<>$AP7,AU7<>$AP7,AV7<>$AP7,AW7<>$AP7,AX7<>$AP7,AZ7<>$AP7,AY7<>$AP7),$AP7,\nIF(AND(AS7<>$AQ7,AT7<>$AQ7,AU7<>$AQ7,AV7<>$AQ7,AW7<>$AQ7,AX7<>$AQ7,AZ7<>$AQ7,AY7<>$AQ7),$AQ7,\n\"\")))))))))))","v":""},{"$f":"IF(BA7=\"\",\"\",\nIF(AND(AS7<>$AH7,AT7<>$AH7,AU7<>$AH7,AV7<>$AH7,AW7<>$AH7,AX7<>$AH7,AY7<>$AH7,BA7<>$AH7,AZ7<>$AH7),$AH7,\nIF(AND(AS7<>$AI7,AT7<>$AI7,AU7<>$AI7,AV7<>$AI7,AW7<>$AI7,AX7<>$AI7,AY7<>$AI7,BA7<>$AI7,AZ7<>$AI7),$AI7,\nIF(AND(AS7<>$AJ7,AT7<>$AJ7,AU7<>$AJ7,AV7<>$AJ7,AW7<>$AJ7,AX7<>$AJ7,AY7<>$AJ7,BA7<>$AJ7,AZ7<>$AJ7),$AJ7,\nIF(AND(AS7<>$AK7,AT7<>$AK7,AU7<>$AK7,AV7<>$AK7,AW7<>$AK7,AX7<>$AK7,AY7<>$AK7,BA7<>$AK7,AZ7<>$AK7),$AK7,\nIF(AND(AS7<>$AL7,AT7<>$AL7,AU7<>$AL7,AV7<>$AL7,AW7<>$AL7,AX7<>$AL7,AY7<>$AL7,BA7<>$AL7,AZ7<>$AL7),$AL7,\nIF(AND(AS7<>$AM7,AT7<>$AM7,AU7<>$AM7,AV7<>$AM7,AW7<>$AM7,AX7<>$AM7,AY7<>$AM7,BA7<>$AM7,AZ7<>$AM7),$AM7,\nIF(AND(AS7<>$AN7,AT7<>$AN7,AU7<>$AN7,AV7<>$AN7,AW7<>$AN7,AX7<>$AN7,AY7<>$AN7,BA7<>$AN7,AZ7<>$AN7),$AN7,\nIF(AND(AS7<>$AO7,AT7<>$AO7,AU7<>$AO7,AV7<>$AO7,AW7<>$AO7,AX7<>$AO7,AY7<>$AO7,BA7<>$AO7,AZ7<>$AO7),$AO7,\nIF(AND(AS7<>$AP7,AT7<>$AP7,AU7<>$AP7,AV7<>$AP7,AW7<>$AP7,AX7<>$AP7,AY7<>$AP7,BA7<>$AP7,AZ7<>$AP7),$AP7,\nIF(AND(AS7<>$AQ7,AT7<>$AQ7,AU7<>$AQ7,AV7<>$AQ7,AW7<>$AQ7,AX7<>$AQ7,AY7<>$AQ7,BA7<>$AQ7,AZ7<>$AQ7),$AQ7,\n\"\")))))))))))","v":""}]
[null,{"$f":"IF(R8=\"x\",1,IF(ISNUMBER(R8),R8,0))","v":0},{"$f":"IF(R8=\"x\",1,IF(ISNUMBER(R8),1,0))","v":0},null,{"$f":"M8","v":"611.100"},null,{"$f":"N8","v":"Installation de chantier générale"},"",null,null,null,null,"611.100","Installation de chantier générale",null,null,"forf.",null,null,null,null,null,null,null,null,null,null,null,null,null,null,"x",null,"forf.","forf.","forf.","forf.","forf.","forf.","forf.","forf.","forf.","forf.",null,"forf.","","","","","","","","",""]
[null,0,0,null,{"$f":"M9","v":"611.200"},null,{"$f":"N9","v":"Raccordement électrique"},"",null,null,null,null,"611.200","Raccordement électrique",null,null,"Pce ",null,null,null,null,null,"x",null,null,null,null,null,null,null,null,"x",null,"Pce","forf.","forf.","forf.","forf.","forf.","forf.","forf.","forf.","forf.",null,"Pce","forf.","","","","","","","",""]
[null,0,0,null,{"$f":"M10","v":"611.300"},null,"Conteneurs","",null,null,null,null,"611.300","Conteneurs",null,null,"Pce ",null,null,null,null,null,"x",null,null,null,null,null,null,null,null,"x",null,"Pce","forf.","forf.","forf.","forf.","forf.","forf.","forf.","forf.","forf.",null,"Pce","forf.","","","","","","","",""]
[null,1,1,{"$f":"K11","v":"612.000"},null,null,{"$f":"L11","v":"Transport jusqu’au chantier"},"forf.",null,null,"612.000","Transport jusqu’au chantier",null,null,null,null,"forf.","x",null,null,null,null,null,null,null,null,null,null,null,null,null,"x",null,"forf.","forf.","forf.","forf.","forf.","forf.","forf.","forf.","forf.","forf.",null,"forf.","","","","","","","","",""]
[null,{"$f":"IF(OR(SUM(B13:B19)>0,R12=\"x\"),1,IF(ISNUMBER(R12),R12,0))","v":1},1,{"$f":"K12","v":"613.000"},null,null,"Dispositifs de levage","forf.",null,null,"613.000","Dispositifs de levage",null,null,null,null,"forf.","x",null,null,null,null,null,null,null,null,null,null,null,null,null,"x",null,"forf.","forf.","forf.","forf.","forf.","forf.","forf.","forf.","forf.","forf.",null,"forf.","","","","","","","","",""]
[null,{"$f":"IF(OR(SUM(B14)>0,R13=\"x\"),1,IF(ISNUMBER(R13),R13,0))","v":0},0,null,{"$f":"M13","v":"613.100"},null,{"$f":"N13","v":"Grue"},"",null,null,null,null,"613.100","Grue",null,null,"forf.",null,null,null,null,null,null,null,null,null,null,null,null,null,null,"x",null,"forf.","forf.","forf.","forf.","forf.","forf.","forf.","forf.","forf.","forf.",null,"forf.","","","","","","","","",""]
[null,0,0,null,null,{"$f":"O14","v":"613.110"},{"$f":"P14","v":"Grue mobile"},"",null,null,null,null,null,null,"613.110","Grue mobile","forf.",null,null,null,null,null,null,null,null,null,null,null,null,null,null,"x",null,"forf.","forf.","forf.","forf.","forf.","forf.","forf.","forf.","forf.","forf.",null,"forf.","","","","","","","","",""]
[null,0,0,null,{"$f":"M15","v":"613.200"},null,{"$f":"N15","v":"Engin télescopique"},"",null,null,null,null,"613.200","Engin télescopique",null,null,"forf.",null,null,null,null,null,null,null,null,null,null,null,null,null,null,"x",null,"forf.","forf.","forf.","forf.","forf.","forf.","forf.","forf.","forf.","forf.",null,"forf.","","","","","","","","",""]
[null,0,0,null,{"$f":"M16","v":"613.300"},null,"Chariot élévateur","",null,null,null,null,"613.300","Chariot élévateur",null,null,"forf.",null,null,null,null,null,null,null,null,null,null,null,null,null,null,"x",null,"forf.","forf.","forf.","forf.","forf.","forf.","forf.","forf.","forf.","forf.",null,"forf.","","","","","","","","",""]
[null,0,0,null,{"$f":"M17","v":"613.400"},null,"Camion grue","",null,null,null,null,"613.400","Camion grue",null,null,"forf.",null,null,null,null,null,null,null,null,null,null,null,null,null,null,"x",null,"forf.","forf.","forf.","forf.","forf.","forf.","forf.","forf.","forf.","forf.",null,"forf.","","","","","","","","",""]
[null,0,0,null,{"$f":"M18","v":"613.500"},null,"Monte-charge","",null,null,null,null,"613.500","Monte-charge",null,null,"forf.",null,null,null,null,null,null,null,null,null,null,null,null,null,null,"x",null,"forf.","forf.","forf.","forf.","forf.","forf.","forf.","forf.","forf.","forf.",null,"forf.","","","","","","","","",""]
[null,0,0,null,{"$f":"M19","v":"613.600"},null,"Hélicoptère","",null,null,null,null,"613.600","Hélicoptère",null,null,"forf.",null,null,null,null,null,null,null,null,null,null,null,null,null,null,"x",null,"forf.","forf.","forf.","forf.","forf.","forf.","forf.","forf.","forf.","forf.",null,"forf.","","","","","","","","",""]
[null,{"$f":"IF(OR(SUM(B21:B22)>0,R20=\"x\"),1,IF(ISNUMBER(R20),R20,0))","v":1},1,{"$f":"K20","v":"614.000"},null,null,{"$f":"L20","v":"Élimination"},"forf.",null,null,"614.000","Élimination",null,null,null,null,"forf.","x",null,null,null,null,null,null,null,null,null,null,null,null,null,"x",null,"forf.","forf.","forf.","forf.","forf.","forf.","forf.","forf.","forf.","forf.",null,"forf.","","","","","","","","",""]
[null,0,0,null,{"$f":"M21","v":"614.100"},null,{"$f":"N21","v":"Bennes"},"",null,null,null,null,"614.100","Bennes",null,null,"forf.",null,null,null,null,null,null,null,null,null,null,null,null,null,null,"x",null,"forf.","forf.","forf.","forf.","forf.","forf.","forf.","forf.","forf.","forf.",null,"forf.","","","","","","","","",""]
[null,0,0,null,{"$f":"M22","v":"614.200"},null,"Élimination des déchets de chantier","",null,null,null,null,"614.200","Élimination des déchets de chantier",null,null,"forf.",null,null,null,null,null,null,null,null,null,null,null,null,null,null,"x",null,"forf.","forf.","forf.","forf.","forf.","forf.","forf.","forf.","forf.","forf.",null,"forf.","","","","","","","","",""]
[null,{"$f":"IF(OR(SUM(B24)>0,R23=\"x\"),1,IF(ISNUMBER(R23),R23,0))","v":0},0,{"$f":"K23","v":"615.000"},null,null,{"$f":"L23","v":"WC, installations sanitaires"},"",null,null,"615.000","WC, installations sanitaires",null,null,null,null,"forf.",null,null,null,null,null,null,null,null,null,null,null,null,null,null,"x",null,"forf.","forf.","forf.","forf.","forf.","forf.","forf.","forf.","forf.","forf.",null,"forf.","","","","","","","","",""]
[null,0,0,null,{"$f":"M24","v":"615.100"},null,{"$f":"N24","v":"Travaux de raccordement pour les toilettes"},"",null,null,null,null,"615.100","Travaux de raccordement pour les toilettes",null,null,"forf.",null,null,null,null,null,null,null,null,null,null,null,null,null,null,"x",null,"forf.","forf.","forf.","forf.","forf.","forf.","forf.","forf.","forf.","forf.",null,"forf.","","","","","","","","",""]
[null,0,0,{"$f":"K25","v":"616.000"},null,null,{"$f":"L25","v":"Places de stationnement"},"",null,null,"616.000","Places de stationnement",null,null,null,null,"forf.",null,null,null,null,null,null,null,null,null,null,null,null,null,null,"x",null,"forf.","forf.","forf.","forf.","forf.","forf.","forf.","forf.","forf.","forf.",null,"forf.","","","","","","","","",""]
[null,0,0,"617.000",null,null,"Zone de déchargement","",null,null,"617.000","Zone de déchargement",null,null,null,null,"forf.",null,null,null,null,null,null,null,null,null,null,null,null,null,null,"x",null,"forf.","forf.","forf.","forf.","forf.","forf.","forf.","forf.","forf.","forf.",null,"forf.","","","","","","","","",""]
[null,0,0,"618.000",null,null,"Zone de stockage temporaire","",null,null,"618.000","Zone de stockage temporaire",null,null,null,null,"forf.",null,null,null,null,null,null,null,null,null,null,null,null,null,null,"x",null,"forf.","forf.","forf.","forf.","forf.","forf.","forf.","forf.","forf.","forf.",null,"forf.","","","","","","","","",""]
[null,{"$f":"B6","v":1},0,null,null,null,null,"",null,null,null,null,null,null,null,null,null,null,null,null,null,null,null,null,null,null,null,null,null,null,null,null,null,"","","","","","","","","","",null,"","","","","","","","","",""]
[null,{"$f":"IF(R29=\"x\",1,IF(SUM(B30:B39)>0,1,0))","v":1},0,{"$f":"I29","v":"620.000"},null,null,{"$f":"J29","v":"Sécurité de chantier"},"","620.000","Sécurité de chantier",null,null,null,null,null,null,"forf.",null,null,null,null,null,null,null,null,null,null,null,null,null,null,"x",null,"forf.","forf.","forf.","forf.","forf.","forf.","forf.","forf.","forf.","forf.",null,"forf.","","","","","","","","",""]
[null,{"$f":"IF(R30=\"x\",1,IF(ISNUMBER(R30),R30,0))","v":0},0,{"$f":"K30","v":"621.000"},null,null,{"$f":"L30","v":"Concept de sécurité au travail"},"",null,null,"621.000","Concept de sécurité au travail",null,null,null,null,"forf.",null,null,null,null,null,null,null,null,null,null,null,null,null,null,"x",null,"forf.","forf.","forf.","forf.","forf.","forf.","forf.","forf.","forf.","forf.",null,"forf.","","","","","","","","",""]
[null,{"$f":"IF(OR(SUM(B32:B39)>0,R31=\"x\"),1,IF(ISNUMBER(R31),R31,0))","v":1},0,"622.000",null,null,"Équipements de sécurité de chantier","",null,null,"622.000","Équipements de sécurité de chantier",null,null,null,null,"forf.",null,null,null,null,null,null,null,null,null,null,null,null,null,null,"x",null,"forf.","forf.","forf.","forf.","forf.","forf.","forf.","forf.","forf.","forf.",null,"forf.","","","","","","","","",""]
[null,1,1,null,{"$f":"M32","v":"622.100"},null,{"$f":"N32","v":"Tour d’échafaudage "},"ml",null,null,null,null,"622.100","Tour d’échafaudage ",null,null,"ml","x",null,null,null,null,null,null,"x",null,null,null,null,null,null,"x",null,"ml","ml","ml","forf.","forf.","forf.","forf.","forf.","forf.","forf.",null,"ml","forf.","","","","","","","",""]
[null,1,1,null,"622.200",null,"Échafaudage de façade pour toit plat ","m²",null,null,null,null,"622.200","Échafaudage de façade pour toit plat ",null,null,"m²","x",null,null,null,null,null,null,null,"x",null,null,null,null,null,"x",null,"m2","m2","m2","m2","forf.","forf.","forf.","forf.","forf.","forf.",null,"m2","forf.","","","","","","","",""]
[null,0,0,null,"622.300",null,"Tour d'échafaudage avec garde-corps","",null,null,null,null,"622.300","Tour d'échafaudage avec garde-corps",null,null,"ml",null,null,null,null,null,null,null,"x",null,null,null,null,null,null,"x",null,"ml","ml","ml","forf.","forf.","forf.","forf.","forf.","forf.","forf.",null,"ml","forf.","","","","","","","",""]
[null,0,0,null,"622.400",null,"Délimitation et clôture des zones ","",null,null,null,null,"622.400","Délimitation et clôture des zones ",null,null,"ml",null,null,null,null,null,null,null,"x",null,null,null,null,null,null,"x",null,"ml","ml","ml","forf.","forf.","forf.","forf.","forf.","forf.","forf.",null,"ml","forf.","","","","","","","",""]
[null,0,0,null,"622.500",null,"Sécurisation de lanterneau ","",null,null,null,null,"622.500","Sécurisation de lanterneau ",null,null,"ml",null,null,null,null,null,null,null,"x",null,null,null,null,null,null,"x",null,"ml","ml","ml","forf.","forf.","forf.","forf.","forf.","forf.","forf.",null,"ml","forf.","","","","","","","",""]
[null,0,0,null,"622.600",null,"Filet anti-chute","",null,null,null,null,"622.600","Filet anti-chute",null,null,"m²",null,null,null,null,null,null,null,null,"x",null,null,null,null,null,"x",null,"m2","m2","m2","m2","forf.","forf.","forf.","forf.","forf.","forf.",null,"m2","forf.","","","","","","","",""]
[null,0,0,null,"622.700",null,"Dispositifs de sécurité et de protection (éclairage, signalisation, etc.)","",null,null,null,null,"622.700","Dispositifs de sécurité et de protection (éclairage, signalisation, etc.)",null,null,"forf.",null,null,null,null,null,null,null,null,null,null,null,null,null,null,"x",null,"forf.","forf.","forf.","forf.","forf.","forf.","forf.","forf.","forf.","forf.",null,"forf.","","","","","","","","",""]
[null,0,0,null,"622.800",null,{"$f":"N39","v":"Sécurisation avant-toit"},"",null,null,null,null,"622.800","Sécurisation avant-toit",null,null,"forf.",null,null,null,null,null,null,null,"x",null,null,null,null,null,null,"x",null,"ml","ml","ml","forf.","forf.","forf.","forf.","forf.","forf.","forf.",null,"ml","forf.","","","","","","","",""]
[null,{"$f":"B29","v":1},0,null,null,null,null,"",null,null,null,null,null,null,null,null,null,null,null,null,null,null,null,null,null,null,null,null,null,null,null,null,null,"","","","","","","","","","",null,"","","","","","","","","",""]
[null,{"$f":"IF(R41=\"x\",1,IF(SUM(B42:B64)>0,1,0))","v":1},0,{"$f":"I41","v":"630.000"},null,null,{"$f":"J41","v":"Sécurité permanente"},"","630.000","Sécurité permanente",null,null,null,null,null,null,"forf.",null,null,null,null,null,null,null,null,null,null,null,null,null,null,"x",null,"forf.","forf.","forf.","forf.","forf.","forf.","forf.","forf.","forf.","forf.",null,"forf.","","","","","","","","",""]
[null,{"$f":"IF(OR(SUM(B43:B47)>0,R42=\"x\"),1,IF(ISNUMBER(R42),R42,0))","v":1},0,{"$f":"K42","v":"631.000"},null,null,{"$f":"L42","v":"Point d’ancrage unique"},"",null,null,"631.000","Point d’ancrage unique",null,null,null,null,"Pce ",null,null,null,null,"E600_PermanenteArbeitssicherheit","x",null,null,null,null,null,null,null,null,"x",null,"Pce","forf.","forf.","forf.","forf.","forf.","forf.","forf.","forf.","forf.",null,"Pce","forf.","","","","","","","",""]
[null,{"$f":"IF(R43=\"x\",1,IF(ISNUMBER(R43),R43,0))","v":1},1,null,{"$f":"M43","v":"631.100"},null,{"$f":"N43","v":"Point d’ancrage unique fixé à la toiture"},"Pce ",null,null,null,null,"631.100","Point d’ancrage unique fixé à la toiture",null,null,"Pce ","x","Propriétés : \nCertification",null,null,"E600_PermanenteArbeitssicherheit","x",null,null,null,null,null,null,null,null,"x",null,"Pce","forf.","forf.","forf.","forf.","forf.","forf.","forf.","forf.","forf.",null,"Pce","forf.","","","","","","","",""]
[null,0,0,null,{"$f":"M44","v":"631.200"},null,"Point d’ancrage unique lesté avec des gravillons/du substrat","",null,null,null,null,"631.200","Point d’ancrage unique lesté avec des gravillons/du substrat",null,null,"Pce ",null,null,null,null,"E600_PermanenteArbeitssicherheit","x",null,null,null,null,null,null,null,null,"x",null,"Pce","forf.","forf.","forf.","forf.","forf.","forf.","forf.","forf.","forf.",null,"Pce","forf.","","","","","","","",""]
[null,0,0,null,{"$f":"M45","v":"631.300"},null,"Point d’ancrage unique lesté avec des dalles","",null,null,null,null,"631.300","Point d’ancrage unique lesté avec des dalles",null,null,"Pce ",null,null,null,null,"E600_PermanenteArbeitssicherheit","x",null,null,null,null,null,null,null,null,"x",null,"Pce","forf.","forf.","forf.","forf.","forf.","forf.","forf.","forf.","forf.",null,"Pce","forf.","","","","","","","",""]
[null,0,0,null,{"$f":"M46","v":"631.400"},null,"Point d’ancrage unique monté sur sous-construction","",null,null,null,null,"631.400","Point d’ancrage unique monté sur sous-construction",null,null,"Pce ",null,null,null,null,"E600_PermanenteArbeitssicherheit","x",null,null,null,null,null,null,null,null,"x",null,"Pce","forf.","forf.","forf.","forf.","forf.","forf.","forf.","forf.","forf.",null,"Pce","forf.","","","","","","","",""]
[null,0,0,null,{"$f":"M47","v":"631.500"},null,"Point d’ancrage unique monté au mur/plafond","",null,null,null,null,"631.500","Point d’ancrage unique monté au mur/plafond",null,null,"ml",null,null,null,null,"E600_PermanenteArbeitssicherheit","x",null,null,null,null,null,null,null,null,"x",null,"Pce","forf.","forf.","forf.","forf.","forf.","forf.","forf.","forf.","forf.",null,"Pce","forf.","","","","","","","",""]
[null,{"$f":"IF(OR(SUM(B49:B53)>0,R48=\"x\"),1,IF(ISNUMBER(R48),R48,0))","v":1},0,{"$f":"K48","v":"632.000"},null,null,{"$f":"L48","v":"Système de câbles ou de rails"},"",null,null,"632.000","Système de câbles ou de rails",null,null,null,null,"ml",null,null,null,null,"E600_PermanenteArbeitssicherheit",null,null,"x",null,null,null,null,null,null,"x",null,"ml","ml","ml","forf.","forf.","forf.","forf.","forf.","forf.","forf.",null,"ml","forf.","","","","","","","",""]
[null,1,1,null,{"$f":"M49","v":"632.100"},null,{"$f":"N49","v":"Système de câbles ou de rails monté dans le toit"},"ml",null,null,null,null,"632.100","Système de câbles ou de rails monté dans le toit",null,null,"ml","x",null,null,null,"E600_PermanenteArbeitssicherheit",null,null,"x",null,null,null,null,null,null,"x",null,"ml","ml","ml","forf.","forf.","forf.","forf.","forf.","forf.","forf.",null,"ml","forf.","","","","","","","",""]
[null,0,0,null,{"$f":"M50","v":"632.200"},null,"Système de câbles ou de rails lesté avec des gravillons/du substrat","",null,null,null,null,"632.200","Système de câbles ou de rails lesté avec des gravillons/du substrat",null,null,"ml",null,null,null,null,"E600_PermanenteArbeitssicherheit",null,null,"x",null,null,null,null,null,null,"x",null,"ml","ml","ml","forf.","forf.","forf.","forf.","forf.","forf.","forf.",null,"ml","forf.","","","","","","","",""]
[null,0,0,null,{"$f":"M51","v":"632.300"},null,"Système de câbles ou de rails lesté avec des dalles","",null,null,null,null,"632.300","Système de câbles ou de rails lesté avec des dalles",null,null,"ml",null,null,null,null,"E600_PermanenteArbeitssicherheit",null,null,"x",null,null,null,null,null,null,"x",null,"ml","ml","ml","forf.","forf.","forf.","forf.","forf.","forf.","forf.",null,"ml","forf.","","","","","","","",""]
[null,0,0,null,{"$f":"M52","v":"632.400"},null,"Système de câbles ou de rails monté sur sous-construction","",null,null,null,null,"632.400","Système de câbles ou de rails monté sur sous-construction",null,null,"ml",null,null,null,null,"E600_PermanenteArbeitssicherheit",null,null,"x",null,null,null,null,null,null,"x",null,"ml","ml","ml","forf.","forf.","forf.","forf.","forf.","forf.","forf.",null,"ml","forf.","","","","","","","",""]
[null,0,0,null,{"$f":"M53","v":"632.500"},null,"Système de câbles ou de rails monté au mur/plafond","",null,null,null,null,"632.500","Système de câbles ou de rails monté au mur/plafond",null,null,"forf.",null,null,null,null,"E600_PermanenteArbeitssicherheit",null,null,"x",null,null,null,null,null,null,"x",null,"ml","ml","ml","forf.","forf.","forf.","forf.","forf.","forf.","forf.",null,"ml","forf.","","","","","","","",""]
[null,{"$f":"IF(OR(SUM(B55:B57)>0,R54=\"x\"),1,IF(ISNUMBER(R54),R54,0))","v":0},0,{"$f":"K54","v":"633.000"},null,null,{"$f":"L54","v":"Accès au toit"},"",null,null,"633.000","Accès au toit",null,null,null,null,"forf.",null,null,null,null,"E600_PermanenteArbeitssicherheit",null,null,null,null,null,null,null,null,null,"x",null,"forf.","forf.","forf.","forf.","forf.","forf.","forf.","forf.","forf.","forf.",null,"forf.","","","","","","","","",""]
[null,0,0,null,{"$f":"M55","v":"633.100"},null,{"$f":"N55","v":"Échelle avec dispositif antichute"},"",null,null,null,null,"633.100","Échelle avec dispositif antichute",null,null,"forf.",null,null,null,null,"E600_PermanenteArbeitssicherheit",null,null,null,null,null,null,null,null,null,"x",null,"forf.","forf.","forf.","forf.","forf.","forf.","forf.","forf.","forf.","forf.",null,"forf.","","","","","","","","",""]
[null,0,0,null,{"$f":"M56","v":"633.200"},null,"Accès au toit","",null,null,null,null,"633.200","Accès au toit",null,null,"forf.",null,null,null,null,"E600_PermanenteArbeitssicherheit",null,null,null,null,null,null,null,null,null,"x",null,"forf.","forf.","forf.","forf.","forf.","forf.","forf.","forf.","forf.","forf.",null,"forf.","","","","","","","","",""]
[null,0,0,null,{"$f":"M57","v":"633.300"},null,"Escalier extérieur","",null,null,null,null,"633.300","Escalier extérieur",null,null,"m²",null,null,null,null,"E600_PermanenteArbeitssicherheit",null,null,null,null,null,null,null,null,null,"x",null,"forf.","forf.","forf.","forf.","forf.","forf.","forf.","forf.","forf.","forf.",null,"forf.","","","","","","","","",""]
[null,{"$f":"IF(OR(SUM(B59:B61)>0,R58=\"x\"),1,IF(ISNUMBER(R58),R58,0))","v":1},0,{"$f":"K58","v":"634.000"},null,null,{"$f":"L58","v":"Protection antichute au travers de la toiture (p.e. puits de lumière)"},"",null,null,"634.000","Protection antichute au travers de la toiture (p.e. puits de lumière)",null,null,null,null,"m²",null,null,null,null,"E600_PermanenteArbeitssicherheit",null,null,null,"x",null,null,null,null,null,"x",null,"m2","m2","m2","m2","forf.","forf.","forf.","forf.","forf.","forf.",null,"m2","forf.","","","","","","","",""]
[null,1,1,null,{"$f":"M59","v":"634.100"},null,{"$f":"N59","v":"Protection antichute (grille) au niveau des puits de lumière ou similaire"},"m²",null,null,null,null,"634.100","Protection antichute (grille) au niveau des puits de lumière ou similaire",null,null,"m²","x",null,null,null,"E600_PermanenteArbeitssicherheit",null,null,null,"x",null,null,null,null,null,"x",null,"m2","m2","m2","m2","forf.","forf.","forf.","forf.","forf.","forf.",null,"m2","forf.","","","","","","","",""]
[null,0,0,null,{"$f":"M60","v":"634.200"},null,"Protection antichute (filets) au niveau des puits de lumière ou similaire","",null,null,null,null,"634.200","Protection antichute (filets) au niveau des puits de lumière ou similaire",null,null,"m2",null,null,null,null,"E600_PermanenteArbeitssicherheit",null,null,null,"x",null,null,null,null,null,"x",null,"m2","m2","m2","m2","forf.","forf.","forf.","forf.","forf.","forf.",null,"m2","forf.","","","","","","","",""]
[null,0,0,null,{"$f":"M61","v":"634.300"},null,"Protection antichute (garde-corps) au niveau des puits de lumière ou similaire","",null,null,null,null,"634.300","Protection antichute (garde-corps) au niveau des puits de lumière ou similaire",null,null,"ml",null,null,null,null,"E600_PermanenteArbeitssicherheit",null,null,"x",null,null,null,null,null,null,"x",null,"ml","ml","ml","forf.","forf.","forf.","forf.","forf.","forf.","forf.",null,"ml","forf.","","","","","","","",""]
[null,0,0,{"$f":"K62","v":"635.000"},null,null,{"$f":"L62","v":"Plateformes (pour accéder aux onduleurs, etc.)"},"",null,null,"635.000","Plateformes (pour accéder aux onduleurs, etc.)",null,null,null,null,"forf.",null,null,null,null,"E600_PermanenteArbeitssicherheit",null,null,null,null,null,null,null,null,null,"x",null,"forf.","forf.","forf.","forf.","forf.","forf.","forf.","forf.","forf.","forf.",null,"forf.","","","","","","","","",""]
[null,{"$f":"IF(OR(SUM(B64)>0,R63=\"x\"),1,IF(ISNUMBER(R63),R63,0))","v":0},0,"636.000",null,null,"Garde-corps","",null,null,"636.000","Garde-corps",null,null,null,null,"ml",null,null,null,null,"E600_PermanenteArbeitssicherheit",null,null,"x",null,null,null,null,null,null,"x",null,"ml","ml","ml","forf.","forf.","forf.","forf.","forf.","forf.","forf.",null,"ml","forf.","","","","","","","",""]
[null,0,0,null,{"$f":"M64","v":"636.100"},null,{"$f":"N64","v":"Garde-corps repliable"},"",null,null,null,null,"636.100","Garde-corps repliable",null,null,"ml",null,null,null,null,"E600_PermanenteArbeitssicherheit",null,null,"x",null,null,null,null,null,null,"x",null,"ml","ml","ml","forf.","forf.","forf.","forf.","forf.","forf.","forf.",null,"ml","forf.","","","","","","","",""]
[null,{"$f":"B41","v":1},0,null,null,null,null,"",null,null,null,null,null,null,null,null,null,null,null,null,null,null,null,null,null,null,null,null,null,null,null,null,null,"","","","","","","","","","",null,"","","","","","","","","",""]
[null,{"$f":"IF(R66=\"x\",1,IF(SUM(B67:B79)>0,1,0))","v":1},0,{"$f":"I66","v":"640.000"},null,null,{"$f":"J66","v":"Autorisations/demande de subvention"},"","640.000","Autorisations/demande de subvention",null,null,null,null,null,null,"forf.",null,null,null,null,null,null,null,null,null,null,null,null,null,null,"x",null,"forf.","forf.","forf.","forf.","forf.","forf.","forf.","forf.","forf.","forf.",null,"forf.","","","","","","","","",""]
[null,{"$f":"IF(R67=\"x\",1,IF(ISNUMBER(R67),R67,0))","v":0},0,{"$f":"K67","v":"641.000"},null,null,{"$f":"L67","v":"Élaboration, soumission et finalisation DRT"},"",null,null,"641.000","Élaboration, soumission et finalisation DRT",null,null,null,null,"h",null,null,null,null,null,"x",null,null,null,null,"x",null,null,null,"x",null,"Pce","h","h","h","h","h","forf.","forf.","forf.","forf.",null,"Pce","h","forf.","","","","","","",""]
[null,1,1,"642.000",null,null,"Élaboration, soumission et finalisation AI (avis d'installation)","h",null,null,"642.000","Élaboration, soumission et finalisation AI (avis d'installation)",null,null,null,null,"h","x",null,null,null,null,"x",null,null,null,null,"x",null,null,null,"x",null,"Pce","h","h","h","h","h","forf.","forf.","forf.","forf.",null,"Pce","h","forf.","","","","","","",""]
[null,0,0,"643.000",null,null,"Élaboration, soumission et finalisation demande de permis de construire","",null,null,"643.000","Élaboration, soumission et finalisation demande de permis de construire",null,null,null,null,"h",null,null,null,null,null,"x",null,null,null,null,"x",null,null,null,"x",null,"Pce","h","h","h","h","h","forf.","forf.","forf.","forf.",null,"Pce","h","forf.","","","","","","",""]
[null,1,1,"644.000",null,null,"Élaboration, soumission et finalisation annonce de l'installation","h",null,null,"644.000","Élaboration, soumission et finalisation annonce de l'installation",null,null,null,null,"h","x",null,null,null,null,"x",null,null,null,null,"x",null,null,null,"x",null,"Pce","h","h","h","h","h","forf.","forf.","forf.","forf.",null,"Pce","h","forf.","","","","","","",""]
[null,0,0,"645.000",null,null,"Élaboration, soumission et finalisation présentation des plans à l’ESTI pour PV",{"$f":"IF(C71=1,Q71,\"\")","v":""},null,null,"645.000","Élaboration, soumission et finalisation présentation des plans à l’ESTI pour PV",null,null,null,null,"h",null,null,null,null,null,"x",null,null,null,null,"x",null,null,null,"x",null,{"$f":"\nIF(W71=\"x\",W$4,\nIF(X71=\"x\",X$4,\nIF(Y71=\"x\",Y$4,\nIF(Z71=\"x\",Z$4,\nIF(AA71=\"x\",AA$4,\nIF(AB71=\"x\",AB$4,\nIF(AC71=\"x\",AC$4,\nIF(AD71=\"x\",AD$4,\nIF(AE71=\"x\",AE$4,\nIF(AF71=\"x\",AF$4,\n\"\"))))))))))","v":"Pce"},{"$f":"\nIF(X71=\"x\",X$4,\nIF(Y71=\"x\",Y$4,\nIF(Z71=\"x\",Z$4,\nIF(AA71=\"x\",AA$4,\nIF(AB71=\"x\",AB$4,\nIF(AC71=\"x\",AC$4,\nIF(AD71=\"x\",AD$4,\nIF(AE71=\"x\",AE$4,\nIF(AF71=\"x\",AF$4,\n\"\")))))))))","v":"h"},{"$f":"\nIF(Y71=\"x\",Y$4,\nIF(Z71=\"x\",Z$4,\nIF(AA71=\"x\",AA$4,\nIF(AB71=\"x\",AB$4,\nIF(AC71=\"x\",AC$4,\nIF(AD71=\"x\",AD$4,\nIF(AE71=\"x\",AE$4,\nIF(AF71=\"x\",AF$4,\n\"\"))))))))","v":"h"},{"$f":"\nIF(Z71=\"x\",Z$4,\nIF(AA71=\"x\",AA$4,\nIF(AB71=\"x\",AB$4,\nIF(AC71=\"x\",AC$4,\nIF(AD71=\"x\",AD$4,\nIF(AE71=\"x\",AE$4,\nIF(AF71=\"x\",AF$4,\n\"\")))))))","v":"h"},{"$f":"\nIF(AA71=\"x\",AA$4,\nIF(AB71=\"x\",AB$4,\nIF(AC71=\"x\",AC$4,\nIF(AD71=\"x\",AD$4,\nIF(AE71=\"x\",AE$4,\nIF(AF71=\"x\",AF$4,\n\"\"))))))","v":"h"},{"$f":"\nIF(AB71=\"x\",AB$4,\nIF(AC71=\"x\",AC$4,\nIF(AD71=\"x\",AD$4,\nIF(AE71=\"x\",AE$4,\nIF(AF71=\"x\",AF$4,\n\"\")))))","v":"h"},{"$f":"\nIF(AC71=\"x\",AC$4,\nIF(AD71=\"x\",AD$4,\nIF(AE71=\"x\",AE$4,\nIF(AF71=\"x\",AF$4,\n\"\"))))","v":"forf."},{"$f":"\nIF(AD71=\"x\",AD$4,\nIF(AE71=\"x\",AE$4,\nIF(AF71=\"x\",AF$4,\n\"\")))","v":"forf."},{"$f":"\nIF(AE71=\"x\",AE$4,\nIF(AF71=\"x\",AF$4,\n\"\"))","v":"forf."},{"$f":"\nIF(AF71=\"x\",AF$4,\n\"\")","v":"forf."},null,{"$f":"AH71","v":"Pce"},{"$f":"IF(AS71=\"\",\"\",\nIF(AS71<>$AH71,$AH71,\nIF(AS71<>$AI71,$AI71,\nIF(AS71<>$AJ71,$AJ71,\nIF(AS71<>$AK71,$AK71,\nIF(AS71<>$AL71,$AL71,\nIF(AS71<>$AM71,$AM71,\nIF(AS71<>$AN71,$AN71,\nIF(AS71<>$AO71,$AO71,\nIF(AS71<>$AP71,$AP71,\nIF(AS71<>$AQ71,$AQ71,\n\"\")))))))))))","v":"h"},{"$f":"IF(AT71=\"\",\"\",\nIF(AND(AT71<>$AH71,AS71<>$AH71),$AH71,\nIF(AND(AT71<>$AI71,AS71<>$AI71),$AI71,\nIF(AND(AT71<>$AJ71,AS71<>$AJ71),$AJ71,\nIF(AND(AT71<>$AK71,AS71<>$AK71),$AK71,\nIF(AND(AT71<>$AL71,AS71<>$AL71),$AL71,\nIF(AND(AT71<>$AM71,AS71<>$AM71),$AM71,\nIF(AND(AT71<>$AN71,AS71<>$AN71),$AN71,\nIF(AND(AT71<>$AO71,AS71<>$AO71),$AO71,\nIF(AND(AT71<>$AP71,AS71<>$AP71),$AP71,\nIF(AND(AT71<>$AQ71,AS71<>$AQ71),$AQ71,\n\"\")))))))))))","v":"forf."},{"$f":"IF(AU71=\"\",\"\",\nIF(AND(AS71<>$AH71,AU71<>$AH71,AT71<>$AH71),$AH71,\nIF(AND(AS71<>$AI71,AU71<>$AI71,AT71<>$AI71),$AI71,\nIF(AND(AS71<>$AJ71,AU71<>$AJ71,AT71<>$AJ71),$AJ71,\nIF(AND(AS71<>$AK71,AU71<>$AK71,AT71<>$AK71),$AK71,\nIF(AND(AS71<>$AL71,AU71<>$AL71,AT71<>$AL71),$AL71,\nIF(AND(AS71<>$AM71,AU71<>$AM71,AT71<>$AM71),$AM71,\nIF(AND(AS71<>$AN71,AU71<>$AN71,AT71<>$AN71),$AN71,\nIF(AND(AS71<>$AO71,AU71<>$AO71,AT71<>$AO71),$AO71,\nIF(AND(AS71<>$AP71,AU71<>$AP71,AT71<>$AP71),$AP71,\nIF(AND(AS71<>$AQ71,AU71<>$AQ71,AT71<>$AQ71),$AQ71,\n\"\")))))))))))","v":""},{"$f":"IF(AV71=\"\",\"\",\nIF(AND(AS71<>$AH71,AT71<>$AH71,AV71<>$AH71,AU71<>$AH71),$AH71,\nIF(AND(AS71<>$AI71,AT71<>$AI71,AV71<>$AI71,AU71<>$AI71),$AI71,\nIF(AND(AS71<>$AJ71,AT71<>$AJ71,AV71<>$AJ71,AU71<>$AJ71),$AJ71,\nIF(AND(AS71<>$AK71,AT71<>$AK71,AV71<>$AK71,AU71<>$AK71),$AK71,\nIF(AND(AS71<>$AL71,AT71<>$AL71,AV71<>$AL71,AU71<>$AL71),$AL71,\nIF(AND(AS71<>$AM71,AT71<>$AM71,AV71<>$AM71,AU71<>$AM71),$AM71,\nIF(AND(AS71<>$AN71,AT71<>$AN71,AV71<>$AN71,AU71<>$AN71),$AN71,\nIF(AND(AS71<>$AO71,AT71<>$AO71,AV71<>$AO71,AU71<>$AO71),$AO71,\nIF(AND(AS71<>$AP71,AT71<>$AP71,AV71<>$AP71,AU71<>$AP71),$AP71,\nIF(AND(AS71<>$AQ71,AT71<>$AQ71,AV71<>$AQ71,AU71<>$AQ71),$AQ71,\n\"\")))))))))))","v":""},{"$f":"IF(AW71=\"\",\"\",\nIF(AND(AS71<>$AH71,AT71<>$AH71,AU71<>$AH71,AW71<>$AH71,AV71<>$AH71),$AH71,\nIF(AND(AS71<>$AI71,AT71<>$AI71,AU71<>$AI71,AW71<>$AI71,AV71<>$AI71),$AI71,\nIF(AND(AS71<>$AJ71,AT71<>$AJ71,AU71<>$AJ71,AW71<>$AJ71,AV71<>$AJ71),$AJ71,\nIF(AND(AS71<>$AK71,AT71<>$AK71,AU71<>$AK71,AW71<>$AK71,AV71<>$AK71),$AK71,\nIF(AND(AS71<>$AL71,AT71<>$AL71,AU71<>$AL71,AW71<>$AL71,AV71<>$AL71),$AL71,\nIF(AND(AS71<>$AM71,AT71<>$AM71,AU71<>$AM71,AW71<>$AM71,AV71<>$AM71),$AM71,\nIF(AND(AS71<>$AN71,AT71<>$AN71,AU71<>$AN71,AW71<>$AN71,AV71<>$AN71),$AN71,\nIF(AND(AS71<>$AO71,AT71<>$AO71,AU71<>$AO71,AW71<>$AO71,AV71<>$AO71),$AO71,\nIF(AND(AS71<>$AP71,AT71<>$AP71,AU71<>$AP71,AW71<>$AP71,AV71<>$AP71),$AP71,\nIF(AND(AS71<>$AQ71,AT71<>$AQ71,AU71<>$AQ71,AW71<>$AQ71,AV71<>$AQ71),$AQ71,\n\"\")))))))))))","v":""},{"$f":"IF(AX71=\"\",\"\",\nIF(AND(AS71<>$AH71,AT71<>$AH71,AU71<>$AH71,AV71<>$AH71,AX71<>$AH71,AW71<>$AH71),$AH71,\nIF(AND(AS71<>$AI71,AT71<>$AI71,AU71<>$AI71,AV71<>$AI71,AX71<>$AI71,AW71<>$AI71),$AI71,\nIF(AND(AS71<>$AJ71,AT71<>$AJ71,AU71<>$AJ71,AV71<>$AJ71,AX71<>$AJ71,AW71<>$AJ71),$AJ71,\nIF(AND(AS71<>$AK71,AT71<>$AK71,AU71<>$AK71,AV71<>$AK71,AX71<>$AK71,AW71<>$AK71),$AK71,\nIF(AND(AS71<>$AL71,AT71<>$AL71,AU71<>$AL71,AV71<>$AL71,AX71<>$AL71,AW71<>$AL71),$AL71,\nIF(AND(AS71<>$AM71,AT71<>$AM71,AU71<>$AM71,AV71<>$AM71,AX71<>$AM71,AW71<>$AM71),$AM71,\nIF(AND(AS71<>$AN71,AT71<>$AN71,AU71<>$AN71,AV71<>$AN71,AX71<>$AN71,AW71<>$AN71),$AN71,\nIF(AND(AS71<>$AO71,AT71<>$AO71,AU71<>$AO71,AV71<>$AO71,AX71<>$AO71,AW71<>$AO71),$AO71,\nIF(AND(AS71<>$AP71,AT71<>$AP71,AU71<>$AP71,AV71<>$AP71,AX71<>$AP71,AW71<>$AP71),$AP71,\nIF(AND(AS71<>$AQ71,AT71<>$AQ71,AU71<>$AQ71,AV71<>$AQ71,AX71<>$AQ71,AW71<>$AQ71),$AQ71,\n\"\")))))))))))","v":""},{"$f":"IF(AY71=\"\",\"\",\nIF(AND(AS71<>$AH71,AT71<>$AH71,AU71<>$AH71,AV71<>$AH71,AW71<>$AH71,AY71<>$AH71,AX71<>$AH71),$AH71,\nIF(AND(AS71<>$AI71,AT71<>$AI71,AU71<>$AI71,AV71<>$AI71,AW71<>$AI71,AY71<>$AI71,AX71<>$AI71),$AI71,\nIF(AND(AS71<>$AJ71,AT71<>$AJ71,AU71<>$AJ71,AV71<>$AJ71,AW71<>$AJ71,AY71<>$AJ71,AX71<>$AJ71),$AJ71,\nIF(AND(AS71<>$AK71,AT71<>$AK71,AU71<>$AK71,AV71<>$AK71,AW71<>$AK71,AY71<>$AK71,AX71<>$AK71),$AK71,\nIF(AND(AS71<>$AL71,AT71<>$AL71,AU71<>$AL71,AV71<>$AL71,AW71<>$AL71,AY71<>$AL71,AX71<>$AL71),$AL71,\nIF(AND(AS71<>$AM71,AT71<>$AM71,AU71<>$AM71,AV71<>$AM71,AW71<>$AM71,AY71<>$AM71,AX71<>$AM71),$AM71,\nIF(AND(AS71<>$AN71,AT71<>$AN71,AU71<>$AN71,AV71<>$AN71,AW71<>$AN71,AY71<>$AN71,AX71<>$AN71),$AN71,\nIF(AND(AS71<>$AO71,AT71<>$AO71,AU71<>$AO71,AV71<>$AO71,AW71<>$AO71,AY71<>$AO71,AX71<>$AO71),$AO71,\nIF(AND(AS71<>$AP71,AT71<>$AP71,AU71<>$AP71,AV71<>$AP71,AW71<>$AP71,AY71<>$AP71,AX71<>$AP71),$AP71,\nIF(AND(AS71<>$AQ71,AT71<>$AQ71,AU71<>$AQ71,AV71<>$AQ71,AW71<>$AQ71,AY71<>$AQ71,AX71<>$AQ71),$AQ71,\n\"\")))))))))))","v":""},{"$f":"IF(AZ71=\"\",\"\",\nIF(AND(AS71<>$AH71,AT71<>$AH71,AU71<>$AH71,AV71<>$AH71,AW71<>$AH71,AX71<>$AH71,AZ71<>$AH71,AY71<>$AH71),$AH71,\nIF(AND(AS71<>$AI71,AT71<>$AI71,AU71<>$AI71,AV71<>$AI71,AW71<>$AI71,AX71<>$AI71,AZ71<>$AI71,AY71<>$AI71),$AI71,\nIF(AND(AS71<>$AJ71,AT71<>$AJ71,AU71<>$AJ71,AV71<>$AJ71,AW71<>$AJ71,AX71<>$AJ71,AZ71<>$AJ71,AY71<>$AJ71),$AJ71,\nIF(AND(AS71<>$AK71,AT71<>$AK71,AU71<>$AK71,AV71<>$AK71,AW71<>$AK71,AX71<>$AK71,AZ71<>$AK71,AY71<>$AK71),$AK71,\nIF(AND(AS71<>$AL71,AT71<>$AL71,AU71<>$AL71,AV71<>$AL71,AW71<>$AL71,AX71<>$AL71,AZ71<>$AL71,AY71<>$AL71),$AL71,\nIF(AND(AS71<>$AM71,AT71<>$AM71,AU71<>$AM71,AV71<>$AM71,AW71<>$AM71,AX71<>$AM71,AZ71<>$AM71,AY71<>$AM71),$AM71,\nIF(AND(AS71<>$AN71,AT71<>$AN71,AU71<>$AN71,AV71<>$AN71,AW71<>$AN71,AX71<>$AN71,AZ71<>$AN71,AY71<>$AN71),$AN71,\nIF(AND(AS71<>$AO71,AT71<>$AO71,AU71<>$AO71,AV71<>$AO71,AW71<>$AO71,AX71<>$AO71,AZ71<>$AO71,AY71<>$AO71),$AO71,\nIF(AND(AS71<>$AP71,AT71<>$AP71,AU71<>$AP71,AV71<>$AP71,AW71<>$AP71,AX71<>$AP71,AZ71<>$AP71,AY71<>$AP71),$AP71,\nIF(AND(AS71<>$AQ71,AT71<>$AQ71,AU71<>$AQ71,AV71<>$AQ71,AW71<>$AQ71,AX71<>$AQ71,AZ71<>$AQ71,AY71<>$AQ71),$AQ71,\n\"\")))))))))))","v":""},{"$f":"IF(BA71=\"\",\"\",\nIF(AND(AS71<>$AH71,AT71<>$AH71,AU71<>$AH71,AV71<>$AH71,AW71<>$AH71,AX71<>$AH71,AY71<>$AH71,BA71<>$AH71,AZ71<>$AH71),$AH71,\nIF(AND(AS71<>$AI71,AT71<>$AI71,AU71<>$AI71,AV71<>$AI71,AW71<>$AI71,AX71<>$AI71,AY71<>$AI71,BA71<>$AI71,AZ71<>$AI71),$AI71,\nIF(AND(AS71<>$AJ71,AT71<>$AJ71,AU71<>$AJ71,AV71<>$AJ71,AW71<>$AJ71,AX71<>$AJ71,AY71<>$AJ71,BA71<>$AJ71,AZ71<>$AJ71),$AJ71,\nIF(AND(AS71<>$AK71,AT71<>$AK71,AU71<>$AK71,AV71<>$AK71,AW71<>$AK71,AX71<>$AK71,AY71<>$AK71,BA71<>$AK71,AZ71<>$AK71),$AK71,\nIF(AND(AS71<>$AL71,AT71<>$AL71,AU71<>$AL71,AV71<>$AL71,AW71<>$AL71,AX71<>$AL71,AY71<>$AL71,BA71<>$AL71,AZ71<>$AL71),$AL71,\nIF(AND(AS71<>$AM71,AT71<>$AM71,AU71<>$AM71,AV71<>$AM71,AW71<>$AM71,AX71<>$AM71,AY71<>$AM71,BA71<>$AM71,AZ71<>$AM71),$AM71,\nIF(AND(AS71<>$AN71,AT71<>$AN71,AU71<>$AN71,AV71<>$AN71,AW71<>$AN71,AX71<>$AN71,AY71<>$AN71,BA71<>$AN71,AZ71<>$AN71),$AN71,\nIF(AND(AS71<>$AO71,AT71<>$AO71,AU71<>$AO71,AV71<>$AO71,AW71<>$AO71,AX71<>$AO71,AY71<>$AO71,BA71<>$AO71,AZ71<>$AO71),$AO71,\nIF(AND(AS71<>$AP71,AT71<>$AP71,AU71<>$AP71,AV71<>$AP71,AW71<>$AP71,AX71<>$AP71,AY71<>$AP71,BA71<>$AP71,AZ71<>$AP71),$AP71,\nIF(AND(AS71<>$AQ71,AT71<>$AQ71,AU71<>$AQ71,AV71<>$AQ71,AW71<>$AQ71,AX71<>$AQ71,AY71<>$AQ71,BA71<>$AQ71,AZ71<>$AQ71),$AQ71,\n\"\")))))))))))","v":""}]
[null,0,{"$f":"IF(R72=\"x\",1,IF(ISNUMBER(R72),1,0))","v":0},"646.000",null,null,"Élaboration, soumission et finalisation présentation des plans à l’ESTI pour MT","",null,null,"646.000","Élaboration, soumission et finalisation présentation des plans à l’ESTI pour MT",null,null,null,null,"h",null,null,null,null,null,"x",null,null,null,null,"x",null,null,null,"x",null,"Pce","h","h","h","h","h","forf.","forf.","forf.","forf.",null,"Pce","h","forf.","","","","","","",""]
[null,{"$f":"IF(OR(SUM(B74:B75)>0,R73=\"x\"),1,IF(ISNUMBER(R73),R73,0))","v":0},0,"647.000",null,null,"Élaboration, soumission et finalisation annonce subvention","",null,null,"647.000","Élaboration, soumission et finalisation annonce subvention",null,null,null,null,"h",null,null,null,null,null,"x",null,null,null,null,"x",null,null,null,"x",null,"Pce","h","h","h","h","h","forf.","forf.","forf.","forf.",null,"Pce","h","forf.","","","","","","",""]
[null,0,0,null,{"$f":"M74","v":"647.100"},null,{"$f":"N74","v":"Élaboration, soumission et finalisation annonce Pronovo"},"",null,null,null,null,"647.100","Élaboration, soumission et finalisation annonce Pronovo",null,null,"h",null,null,null,null,null,"x",null,null,null,null,"x",null,null,null,"x",null,"Pce","h","h","h","h","h","forf.","forf.","forf.","forf.",null,"Pce","h","forf.","","","","","","",""]
[null,0,0,null,{"$f":"M75","v":"647.200"},null,"Élaboration, soumission et finalisation d’annonce de subvention canton ou commune","",null,null,null,null,"647.200","Élaboration, soumission et finalisation d’annonce de subvention canton ou commune",null,null,"h",null,null,null,null,null,"x",null,null,null,null,"x",null,null,null,"x",null,"Pce","h","h","h","h","h","forf.","forf.","forf.","forf.",null,"Pce","h","forf.","","","","","","",""]
[null,{"$f":"IF(OR(SUM(B77:B79)>0,R76=\"x\"),1,IF(ISNUMBER(R76),R76,0))","v":1},0,{"$f":"K76","v":"648.000"},null,null,{"$f":"L76","v":"Emoluments"},"",null,null,"648.000","Emoluments",null,null,null,null,"Pce ",null,null,null,null,null,"x",null,null,null,null,null,null,null,null,"x",null,"Pce","forf.","forf.","forf.","forf.","forf.","forf.","forf.","forf.","forf.",null,"Pce","forf.","","","","","","","",""]
[null,0,0,null,{"$f":"M77","v":"648.100"},null,{"$f":"N77","v":"Emoluments demande de permis de construire"},"",null,null,null,null,"648.100","Emoluments demande de permis de construire",null,null,"Pce ",null,null,null,null,null,"x",null,null,null,null,null,null,null,null,"x",null,"Pce","forf.","forf.","forf.","forf.","forf.","forf.","forf.","forf.","forf.",null,"Pce","forf.","","","","","","","",""]
[null,0,0,null,{"$f":"M78","v":"648.200"},null,"Emoluments GRD","",null,null,null,null,"648.200","Emoluments GRD",null,null,"Pce ",null,null,null,null,null,"x",null,null,null,null,null,null,null,null,"x",null,"Pce","forf.","forf.","forf.","forf.","forf.","forf.","forf.","forf.","forf.",null,"Pce","forf.","","","","","","","",""]
[null,1,1,null,{"$f":"M79","v":"648.300"},null,"Emoluments ESTI","Pce ",null,null,null,null,"648.300","Emoluments ESTI",null,null,"Pce ","x",null,null,null,null,"x",null,null,null,null,null,null,null,null,"x",null,"Pce","forf.","forf.","forf.","forf.","forf.","forf.","forf.","forf.","forf.",null,"Pce","forf.","","","","","","","",""]
[null,{"$f":"B66","v":1},0,null,null,null,null,"",null,null,null,null,null,null,null,null,null,null,null,null,null,null,null,null,null,null,null,null,null,null,null,null,null,"","","","","","","","","","",null,"","","","","","","","","",""]
[null,{"$f":"IF(R81=\"x\",1,IF(SUM(B82:B102)>0,1,0))","v":1},0,{"$f":"I81","v":"650.000"},null,null,{"$f":"J81","v":"Projet d’exécution"},"","650.000","Projet d’exécution",null,null,null,null,null,null,"forf.",null,null,null,null,null,null,null,null,null,null,"x",null,null,null,"x",null,"h","h","h","h","h","h","forf.","forf.","forf.","forf.",null,"h","forf.","","","","","","","",""]
[null,{"$f":"IF(OR(SUM(B83:B87)>0,R82=\"x\"),1,IF(ISNUMBER(R82),R82,0))","v":0},0,{"$f":"K82","v":"651.000"},null,null,{"$f":"L82","v":"Vérification de l'existant"},"",null,null,"651.000","Vérification de l'existant",null,null,null,null,"h",null,null,null,null,null,null,null,null,null,null,"x",null,null,null,"x",null,"h","h","h","h","h","h","forf.","forf.","forf.","forf.",null,"h","forf.","","","","","","","",""]
[null,{"$f":"IF(R83=\"x\",1,IF(ISNUMBER(R83),R83,0))","v":0},0,null,{"$f":"M83","v":"651.100"},null,{"$f":"N83","v":"Expertise"},"",null,null,null,null,"651.100","Expertise",null,null,"h",null,null,null,null,null,null,null,null,null,null,"x",null,null,null,"x",null,"h","h","h","h","h","h","forf.","forf.","forf.","forf.",null,"h","forf.","","","","","","","",""]
[null,0,0,null,{"$f":"M84","v":"651.200"},null,"Réception","",null,null,null,null,"651.200","Réception",null,null,"h",null,null,null,null,null,null,null,null,null,null,"x",null,null,null,"x",null,"h","h","h","h","h","h","forf.","forf.","forf.","forf.",null,"h","forf.","","","","","","","",""]
[null,0,0,null,{"$f":"M85","v":"651.300"},null,"États des lieux","",null,null,null,null,"651.300","États des lieux",null,null,"h",null,null,null,null,null,null,null,null,null,null,"x",null,null,null,"x",null,"h","h","h","h","h","h","forf.","forf.","forf.","forf.",null,"h","forf.","","","","","","","",""]
[null,0,0,null,{"$f":"M86","v":"651.400"},null,"Contrôle des cotes sur le chantier","",null,null,null,null,"651.400","Contrôle des cotes sur le chantier",null,null,"h",null,null,null,null,null,null,null,null,null,null,"x",null,null,null,"x",null,"h","h","h","h","h","h","forf.","forf.","forf.","forf.",null,"h","forf.","","","","","","","",""]
[null,0,0,null,{"$f":"M87","v":"651.500"},null,"Sondages","",null,null,null,null,"651.500","Sondages",null,null,"h",null,null,null,null,null,null,null,null,null,null,"x",null,null,null,"x",null,"h","h","h","h","h","h","forf.","forf.","forf.","forf.",null,"h","forf.","","","","","","","",""]
[null,{"$f":"IF(OR(SUM(B89:B93)>0,R88=\"x\"),1,IF(ISNUMBER(R88),R88,0))","v":1},1,{"$f":"K88","v":"652.000"},null,null,{"$f":"L88","v":"Élaboration/réalisation des plans d’exécution"},"h",null,null,"652.000","Élaboration/réalisation des plans d’exécution",null,null,null,null,"h","x",null,null,null,null,null,null,null,null,null,"x",null,null,null,"x",null,"h","h","h","h","h","h","forf.","forf.","forf.","forf.",null,"h","forf.","","","","","","","",""]
[null,0,0,null,{"$f":"M89","v":"652.100"},null,{"$f":"N89","v":"Plan de calepinage"},"",null,null,null,null,"652.100","Plan de calepinage",null,null,"h",null,null,null,null,null,null,null,null,null,null,"x",null,null,null,"x",null,"h","h","h","h","h","h","forf.","forf.","forf.","forf.",null,"h","forf.","","","","","","","",""]
[null,0,0,null,{"$f":"M90","v":"652.200"},null,"Plan de string","",null,null,null,null,"652.200","Plan de string",null,null,"h",null,null,null,null,null,null,null,null,null,null,"x",null,null,null,"x",null,"h","h","h","h","h","h","forf.","forf.","forf.","forf.",null,"h","forf.","","","","","","","",""]
[null,0,0,null,{"$f":"M91","v":"652.300"},null,"Concept logistique","",null,null,null,null,"652.300","Concept logistique",null,null,"h",null,null,null,null,null,null,null,null,null,null,"x",null,null,null,"x",null,"h","h","h","h","h","h","forf.","forf.","forf.","forf.",null,"h","forf.","","","","","","","",""]
[null,0,0,null,{"$f":"M92","v":"652.400"},null,"Dimensionnements, plans et schémas d'implantation des onduleurs","",null,null,null,null,"652.400","Dimensionnements, plans et schémas d'implantation des onduleurs",null,null,"h",null,null,null,null,null,null,null,null,null,null,"x",null,null,null,"x",null,"h","h","h","h","h","h","forf.","forf.","forf.","forf.",null,"h","forf.","","","","","","","",""]
[null,0,0,null,{"$f":"M93","v":"652.500"},null,"Dimensionnements, plans et schémas d'implantation de la distribution PV et du TGBT","",null,null,null,null,"652.500","Dimensionnements, plans et schémas d'implantation de la distribution PV et du TGBT",null,null,"forf.",null,null,null,null,null,null,null,null,null,null,"x",null,null,null,"x",null,"h","h","h","h","h","h","forf.","forf.","forf.","forf.",null,"h","forf.","","","","","","","",""]
[null,0,0,{"$f":"K94","v":"653.000"},null,null,{"$f":"L94","v":"Élaboration justificatif statique du bâtiment"},"",null,null,"653.000","Élaboration justificatif statique du bâtiment",null,null,null,null,"h",null,null,null,null,null,null,null,null,null,null,"x",null,null,null,"x",null,"h","h","h","h","h","h","forf.","forf.","forf.","forf.",null,"h","forf.","","","","","","","",""]
[null,0,0,{"$f":"K95","v":"654.000"},null,null,{"$f":"L95","v":"Élaboration rapport statique structure de montage"},"",null,null,"654.000","Élaboration rapport statique structure de montage",null,null,null,null,"h",null,null,null,null,null,null,null,null,null,null,"x",null,null,null,"x",null,"h","h","h","h","h","h","forf.","forf.","forf.","forf.",null,"h","forf.","","","","","","","",""]
[null,0,0,"655.000",null,null,"Élaboration rapport statique entrepreneur","",null,null,"655.000","Élaboration rapport statique entrepreneur",null,null,null,null,"forf.",null,null,null,null,null,null,null,null,null,null,"x",null,null,null,"x",null,"h","h","h","h","h","h","forf.","forf.","forf.","forf.",null,"h","forf.","","","","","","","",""]
[null,0,0,"656.000",null,null,"Élaboration concept de protection incendie","",null,null,"656.000","Élaboration concept de protection incendie",null,null,null,null,"h",null,null,null,null,null,null,null,null,null,null,"x",null,null,null,"x",null,"h","h","h","h","h","h","forf.","forf.","forf.","forf.",null,"h","forf.","","","","","","","",""]
[null,0,0,"657.000",null,null,"Élaboration concept de protection contre la foudre et les surtensions","",null,null,"657.000","Élaboration concept de protection contre la foudre et les surtensions",null,null,null,null,"forf.",null,null,null,null,null,null,null,null,null,null,"x",null,null,null,"x",null,"h","h","h","h","h","h","forf.","forf.","forf.","forf.",null,"h","forf.","","","","","","","",""]
[null,0,0,"658.000",null,null,"Justificatif de sélectivité","",null,null,"658.000","Justificatif de sélectivité",null,null,null,null,"h",null,null,null,null,null,null,null,null,null,null,"x",null,null,null,"x",null,"h","h","h","h","h","h","forf.","forf.","forf.","forf.",null,"h","forf.","","","","","","","",""]
[null,{"$f":"IF(OR(SUM(B101:B102)>0,R100=\"x\"),1,IF(ISNUMBER(R100),R100,0))","v":0},0,"659.000",null,null,"Échantillon","",null,null,"659.000","Échantillon",null,null,null,null,"h",null,null,null,null,null,null,null,null,null,null,"x",null,null,null,"x",null,"h","h","h","h","h","h","forf.","forf.","forf.","forf.",null,"h","forf.","","","","","","","",""]
[null,0,0,null,{"$f":"M101","v":"659.100"},null,{"$f":"N101","v":"Petit échantillon"},"",null,null,null,null,"659.100","Petit échantillon",null,null,"Pce ",null,null,null,null,null,"x",null,null,null,null,null,null,null,null,"x",null,"Pce","forf.","forf.","forf.","forf.","forf.","forf.","forf.","forf.","forf.",null,"Pce","forf.","","","","","","","",""]
[null,0,0,null,{"$f":"M102","v":"659.200"},null,"Élaboration maquette","",null,null,null,null,"659.200","Élaboration maquette",null,null,"forf.",null,null,null,null,null,null,null,null,null,null,null,null,null,null,"x",null,"forf.","forf.","forf.","forf.","forf.","forf.","forf.","forf.","forf.","forf.",null,"forf.","","","","","","","","",""]
[null,{"$f":"B81","v":1},0,null,null,null,null,"",null,null,null,null,null,null,null,null,null,null,null,null,null,null,null,null,null,null,null,null,null,null,null,null,null,"","","","","","","","","","",null,"","","","","","","","","",""]
[null,{"$f":"IF(R104=\"x\",1,IF(SUM(B105:B112)>0,1,0))","v":1},0,{"$f":"I104","v":"660.000"},null,null,{"$f":"J104","v":"Direction du projet et des travaux"},"","660.000","Direction du projet et des travaux",null,null,null,null,null,null,"forf.",null,null,null,null,null,null,null,null,null,null,"x",null,null,null,"x",null,"h","h","h","h","h","h","forf.","forf.","forf.","forf.",null,"h","forf.","","","","","","","",""]
[null,{"$f":"IF(R105=\"x\",1,IF(ISNUMBER(R105),R105,0))","v":1},1,{"$f":"K105","v":"661.000"},null,null,{"$f":"L105","v":"Direction du projet"},"h",null,null,"661.000","Direction du projet",null,null,null,null,"h","x",null,null,null,null,null,null,null,null,null,"x",null,null,null,"x",null,"h","h","h","h","h","h","forf.","forf.","forf.","forf.",null,"h","forf.","","","","","","","",""]
[null,1,1,"662.000",null,null,"Direction des travaux","h",null,null,"662.000","Direction des travaux",null,null,null,null,"h","x",null,null,null,null,null,null,null,null,null,"x",null,null,null,"x",null,"h","h","h","h","h","h","forf.","forf.","forf.","forf.",null,"h","forf.","","","","","","","",""]
[null,{"$f":"IF(OR(SUM(B108:B109)>0,R107=\"x.\"),1,IF(ISNUMBER(R107),R107,0))","v":0},1,"663.000",null,null,"Mise en service","h",null,null,"663.000","Mise en service",null,null,null,null,"h","x",null,null,null,null,null,null,null,null,null,"x",null,null,null,"x",null,"h","h","h","h","h","h","forf.","forf.","forf.","forf.",null,"h","forf.","","","","","","","",""]
[null,0,0,null,{"$f":"M108","v":"663.100"},null,{"$f":"N108","v":"Mise en service de l'installation PV"},"",null,null,null,null,"663.100","Mise en service de l'installation PV",null,null,"h",null,null,null,null,null,null,null,null,null,null,null,null,null,null,null,null,"","","","","","","","","","",null,"","","","","","","","","",""]
[null,0,0,null,{"$f":"M109","v":"663.200"},null,"Programmation de commandes","",null,null,null,null,"663.200","Programmation de commandes",null,null,"h",null,null,null,null,null,null,null,null,null,null,null,null,null,null,null,null,"","","","","","","","","","",null,"","","","","","","","","",""]
[null,1,1,{"$f":"K110","v":"664.000"},null,null,{"$f":"L110","v":"Documentation de l’installation"},"h",null,null,"664.000","Documentation de l’installation",null,null,null,null,"h","x",null,null,null,null,null,null,null,null,null,"x",null,null,null,"x",null,"h","h","h","h","h","h","forf.","forf.","forf.","forf.",null,"h","forf.","","","","","","","",""]
[null,1,1,"665.000",null,null,"Instructions à l'exploitant","h",null,null,"665.000","Instructions à l'exploitant",null,null,null,null,"h","x",null,null,null,null,null,null,null,null,null,"x",null,null,null,"x",null,"h","h","h","h","h","h","forf.","forf.","forf.","forf.",null,"h","forf.","","","","","","","",""]
[null,0,0,"666.000",null,null,"Taux de régie","",null,null,"666.000","Taux de régie",null,null,null,null,"h",null,null,null,null,null,null,null,null,null,null,"x",null,null,null,"x",null,"h","h","h","h","h","h","forf.","forf.","forf.","forf.",null,"h","forf.","","","","","","","",""]
[null,{"$f":"B104","v":1},0,null,null,null,null,"",null,null,null,null,null,null,null,null,null,null,null,null,null,null,null,null,null,null,null,null,null,null,null,null,null,"","","","","","","","","","",null,"","","","","","","","","",""]
[null,{"$f":"IF(R114=\"x\",1,IF(SUM(B115:B123)>0,1,0))","v":1},0,{"$f":"I114","v":"670.000"},null,null,{"$f":"J114","v":"Réceptions"},"","670.000","Réceptions",null,null,null,null,null,null,"forf.",null,null,null,null,null,null,null,null,null,null,null,null,null,null,"x",null,"forf.","forf.","forf.","forf.","forf.","forf.","forf.","forf.","forf.","forf.",null,"forf.","","","","","","","","",""]
[null,{"$f":"IF(R115=\"x\",1,IF(ISNUMBER(R115),R115,0))","v":1},1,{"$f":"K115","v":"671.000"},null,null,{"$f":"L115","v":"Réception planificateur/maître d’ouvrage/autorité/GRD"},"h",null,null,"671.000","Réception planificateur/maître d’ouvrage/autorité/GRD",null,null,null,null,"h","x",null,null,null,null,null,null,null,null,null,"x",null,null,null,"x",null,"h","h","h","h","h","h","forf.","forf.","forf.","forf.",null,"h","forf.","","","","","","","",""]
[null,1,1,"672.000",null,null,"Élaboration RS","h",null,null,"672.000","Élaboration RS",null,null,null,null,"h","x",null,null,null,null,null,null,null,null,null,"x",null,null,null,"x",null,"h","h","h","h","h","h","forf.","forf.","forf.","forf.",null,"h","forf.","","","","","","","",""]
[null,1,1,"673.000",null,null,"Élaboration PM PV (protocole d'essais-mesures)","h",null,null,"673.000","Élaboration PM PV (protocole d'essais-mesures)",null,null,null,null,"h","x",null,null,null,null,null,null,null,null,null,"x",null,null,null,"x",null,"h","h","h","h","h","h","forf.","forf.","forf.","forf.",null,"h","forf.","","","","","","","",""]
[null,1,1,"674.000",null,null,"Contrôle réception DC par un organisme d'inspection acccrédité","h",null,null,"674.000","Contrôle réception DC par un organisme d'inspection acccrédité",null,null,null,null,"h","x",null,null,null,null,null,null,null,null,null,"x",null,null,null,"x",null,"h","h","h","h","h","h","forf.","forf.","forf.","forf.",null,"h","forf.","","","","","","","",""]
[null,1,1,"675.000",null,null,"Contrôle réception AC indépendant","h",null,null,"675.000","Contrôle réception AC indépendant",null,null,null,null,"h","x",null,null,null,null,null,null,null,null,null,"x",null,null,null,"x",null,"h","h","h","h","h","h","forf.","forf.","forf.","forf.",null,"h","forf.","","","","","","","",""]
[null,1,1,"676.000",null,null,"Certification Pronovo par auditeur, y compris soumission Pronovo","h",null,null,"676.000","Certification Pronovo par auditeur, y compris soumission Pronovo",null,null,null,null,"h","x",null,null,null,null,null,null,null,null,null,"x",null,null,null,"x",null,"h","h","h","h","h","h","forf.","forf.","forf.","forf.",null,"h","forf.","","","","","","","",""]
[null,0,0,null,{"$f":"M121","v":"676.100"},null,{"$f":"N121","v":"Certification Pronovo par auditeur, y compris soumission Pronovo et GO"},"",null,null,null,null,"676.100","Certification Pronovo par auditeur, y compris soumission Pronovo et GO",null,null,"h",null,null,null,null,null,null,null,null,null,null,null,null,null,null,"x",null,"forf.","forf.","forf.","forf.","forf.","forf.","forf.","forf.","forf.","forf.",null,"forf.","","","","","","","","",""]
[null,0,0,{"$f":"K122","v":"677.000"},null,null,{"$f":"L122","v":"Présence sur site lors du contrôle ESTI"},"",null,null,"677.000","Présence sur site lors du contrôle ESTI",null,null,null,null,"h",null,null,null,null,null,null,null,null,null,null,"x",null,null,null,"x",null,"h","h","h","h","h","h","forf.","forf.","forf.","forf.",null,"h","forf.","","","","","","","",""]
[null,0,0,"678.000",null,null,"Certificat de conformité du système de protection contre la foudre","",null,null,"678.000","Certificat de conformité du système de protection contre la foudre",null,null,null,null,"h",null,null,null,null,null,null,null,null,null,null,"x",null,null,null,"x",null,"h","h","h","h","h","h","forf.","forf.","forf.","forf.",null,"h","forf.","","","","","","","",""]
[null,{"$f":"B114","v":1},0]

{"sheet":"700 Travaux de bâtiment","index":9,"n_rows":101,"n_cols":53,"rows_kept":101,"cut":false,"hidden":false,"merged":[[0,20,0,52],[1,7,1,8],[3,7,3,8],[3,9,3,10],[3,11,3,12],[2,7,2,12]]}
[null,null,null,null,null,null,null,null,null,null,null,null,null,null,null,null,null,null,null,null,"AUSBLENDEN"]
[null,null,null,null,null,"Ausblenden",null,"Niveau de structure 1 :",null,700,"Travaux de bâtiment"]
[null,null,null,null,null,null,null,"Optionnel"]
[null,"Show","Fill","SOQ-Nr.",null,"Beschreibung","Einheit","Niveau de structure 2",null,"Niveau de structure 3",null,"Niveau de structure 4",null,"Unité de prestation","Ajouter une position","E-Box",null,null,null,null,"E-Box","Pce","Module","ml","m2","m3","h","mois","a","kWp","forf.",null,"Pos1","Pos2","Pos3","Pos4","Pos5","Pos6","Pos7","Pos8","Pos9","Pos10",null,"Pos1","Pos2","Pos3","Pos4","Pos5","Pos6","Pos7","Pos8","Pos9","Pos10"]
[]
[null,{"$f":"IF(O6=\"x\",1,IF(SUM(B8:B28)>0,1,0))","v":0},{"$f":"IF(O6=\"x\",1,IF(ISNUMBER(O6),1,0))","v":0},{"$f":"H6","v":"710.000"},null,{"$f":"I6","v":"Travaux de ferblanterie"},{"$f":"IF(C6=1,N6,\"\")","v":""},"710.000","Travaux de ferblanterie",null,null,null,null,"forf.",null,null,null,null,null,null,"E700_Metallarbeiten",null,null,null,null,null,null,null,null,null,"x",null,{"$f":"\nIF(V6=\"x\",V$4,\nIF(W6=\"x\",W$4,\nIF(X6=\"x\",X$4,\nIF(Y6=\"x\",Y$4,\nIF(Z6=\"x\",Z$4,\nIF(AA6=\"x\",AA$4,\nIF(AB6=\"x\",AB$4,\nIF(AC6=\"x\",AC$4,\nIF(AD6=\"x\",AD$4,\nIF(AE6=\"x\",AE$4,\n\"\"))))))))))","v":"forf."},{"$f":"\nIF(W6=\"x\",W$4,\nIF(X6=\"x\",X$4,\nIF(Y6=\"x\",Y$4,\nIF(Z6=\"x\",Z$4,\nIF(AA6=\"x\",AA$4,\nIF(AB6=\"x\",AB$4,\nIF(AC6=\"x\",AC$4,\nIF(AD6=\"x\",AD$4,\nIF(AE6=\"x\",AE$4,\n\"\")))))))))","v":"forf."},{"$f":"\nIF(X6=\"x\",X$4,\nIF(Y6=\"x\",Y$4,\nIF(Z6=\"x\",Z$4,\nIF(AA6=\"x\",AA$4,\nIF(AB6=\"x\",AB$4,\nIF(AC6=\"x\",AC$4,\nIF(AD6=\"x\",AD$4,\nIF(AE6=\"x\",AE$4,\n\"\"))))))))","v":"forf."},{"$f":"\nIF(Y6=\"x\",Y$4,\nIF(Z6=\"x\",Z$4,\nIF(AA6=\"x\",AA$4,\nIF(AB6=\"x\",AB$4,\nIF(AC6=\"x\",AC$4,\nIF(AD6=\"x\",AD$4,\nIF(AE6=\"x\",AE$4,\n\"\")))))))","v":"forf."},{"$f":"\nIF(Z6=\"x\",Z$4,\nIF(AA6=\"x\",AA$4,\nIF(AB6=\"x\",AB$4,\nIF(AC6=\"x\",AC$4,\nIF(AD6=\"x\",AD$4,\nIF(AE6=\"x\",AE$4,\n\"\"))))))","v":"forf."},{"$f":"\nIF(AA6=\"x\",AA$4,\nIF(AB6=\"x\",AB$4,\nIF(AC6=\"x\",AC$4,\nIF(AD6=\"x\",AD$4,\nIF(AE6=\"x\",AE$4,\n\"\")))))","v":"forf."},{"$f":"\nIF(AB6=\"x\",AB$4,\nIF(AC6=\"x\",AC$4,\nIF(AD6=\"x\",AD$4,\nIF(AE6=\"x\",AE$4,\n\"\"))))","v":"forf."},{"$f":"\nIF(AC6=\"x\",AC$4,\nIF(AD6=\"x\",AD$4,\nIF(AE6=\"x\",AE$4,\n\"\")))","v":"forf."},{"$f":"\nIF(AD6=\"x\",AD$4,\nIF(AE6=\"x\",AE$4,\n\"\"))","v":"forf."},{"$f":"\nIF(AE6=\"x\",AE$4,\n\"\")","v":"forf."},null,{"$f":"AG6","v":"forf."},{"$f":"IF(AR6=\"\",\"\",\nIF(AR6<>$AG6,$AG6,\nIF(AR6<>$AH6,$AH6,\nIF(AR6<>$AI6,$AI6,\nIF(AR6<>$AJ6,$AJ6,\nIF(AR6<>$AK6,$AK6,\nIF(AR6<>$AL6,$AL6,\nIF(AR6<>$AM6,$AM6,\nIF(AR6<>$AN6,$AN6,\nIF(AR6<>$AO6,$AO6,\nIF(AR6<>$AP6,$AP6,\n\"\")))))))))))","v":""},{"$f":"IF(AS6=\"\",\"\",\nIF(AND(AS6<>$AG6,AR6<>$AG6),$AG6,\nIF(AND(AS6<>$AH6,AR6<>$AH6),$AH6,\nIF(AND(AS6<>$AI6,AR6<>$AI6),$AI6,\nIF(AND(AS6<>$AJ6,AR6<>$AJ6),$AJ6,\nIF(AND(AS6<>$AK6,AR6<>$AK6),$AK6,\nIF(AND(AS6<>$AL6,AR6<>$AL6),$AL6,\nIF(AND(AS6<>$AM6,AR6<>$AM6),$AM6,\nIF(AND(AS6<>$AN6,AR6<>$AN6),$AN6,\nIF(AND(AS6<>$AO6,AR6<>$AO6),$AO6,\nIF(AND(AS6<>$AP6,AR6<>$AP6),$AP6,\n\"\")))))))))))","v":""},{"$f":"IF(AT6=\"\",\"\",\nIF(AND(AR6<>$AG6,AT6<>$AG6,AS6<>$AG6),$AG6,\nIF(AND(AR6<>$AH6,AT6<>$AH6,AS6<>$AH6),$AH6,\nIF(AND(AR6<>$AI6,AT6<>$AI6,AS6<>$AI6),$AI6,\nIF(AND(AR6<>$AJ6,AT6<>$AJ6,AS6<>$AJ6),$AJ6,\nIF(AND(AR6<>$AK6,AT6<>$AK6,AS6<>$AK6),$AK6,\nIF(AND(AR6<>$AL6,AT6<>$AL6,AS6<>$AL6),$AL6,\nIF(AND(AR6<>$AM6,AT6<>$AM6,AS6<>$AM6),$AM6,\nIF(AND(AR6<>$AN6,AT6<>$AN6,AS6<>$AN6),$AN6,\nIF(AND(AR6<>$AO6,AT6<>$AO6,AS6<>$AO6),$AO6,\nIF(AND(AR6<>$AP6,AT6<>$AP6,AS6<>$AP6),$AP6,\n\"\")))))))))))","v":""},{"$f":"IF(AU6=\"\",\"\",\nIF(AND(AR6<>$AG6,AS6<>$AG6,AU6<>$AG6,AT6<>$AG6),$AG6,\nIF(AND(AR6<>$AH6,AS6<>$AH6,AU6<>$AH6,AT6<>$AH6),$AH6,\nIF(AND(AR6<>$AI6,AS6<>$AI6,AU6<>$AI6,AT6<>$AI6),$AI6,\nIF(AND(AR6<>$AJ6,AS6<>$AJ6,AU6<>$AJ6,AT6<>$AJ6),$AJ6,\nIF(AND(AR6<>$AK6,AS6<>$AK6,AU6<>$AK6,AT6<>$AK6),$AK6,\nIF(AND(AR6<>$AL6,AS6<>$AL6,AU6<>$AL6,AT6<>$AL6),$AL6,\nIF(AND(AR6<>$AM6,AS6<>$AM6,AU6<>$AM6,AT6<>$AM6),$AM6,\nIF(AND(AR6<>$AN6,AS6<>$AN6,AU6<>$AN6,AT6<>$AN6),$AN6,\nIF(AND(AR6<>$AO6,AS6<>$AO6,AU6<>$AO6,AT6<>$AO6),$AO6,\nIF(AND(AR6<>$AP6,AS6<>$AP6,AU6<>$AP6,AT6<>$AP6),$AP6,\n\"\")))))))))))","v":""},{"$f":"IF(AV6=\"\",\"\",\nIF(AND(AR6<>$AG6,AS6<>$AG6,AT6<>$AG6,AV6<>$AG6,AU6<>$AG6),$AG6,\nIF(AND(AR6<>$AH6,AS6<>$AH6,AT6<>$AH6,AV6<>$AH6,AU6<>$AH6),$AH6,\nIF(AND(AR6<>$AI6,AS6<>$AI6,AT6<>$AI6,AV6<>$AI6,AU6<>$AI6),$AI6,\nIF(AND(AR6<>$AJ6,AS6<>$AJ6,AT6<>$AJ6,AV6<>$AJ6,AU6<>$AJ6),$AJ6,\nIF(AND(AR6<>$AK6,AS6<>$AK6,AT6<>$AK6,AV6<>$AK6,AU6<>$AK6),$AK6,\nIF(AND(AR6<>$AL6,AS6<>$AL6,AT6<>$AL6,AV6<>$AL6,AU6<>$AL6),$AL6,\nIF(AND(AR6<>$AM6,AS6<>$AM6,AT6<>$AM6,AV6<>$AM6,AU6<>$AM6),$AM6,\nIF(AND(AR6<>$AN6,AS6<>$AN6,AT6<>$AN6,AV6<>$AN6,AU6<>$AN6),$AN6,\nIF(AND(AR6<>$AO6,AS6<>$AO6,AT6<>$AO6,AV6<>$AO6,AU6<>$AO6),$AO6,\nIF(AND(AR6<>$AP6,AS6<>$AP6,AT6<>$AP6,AV6<>$AP6,AU6<>$AP6),$AP6,\n\"\")))))))))))","v":""},{"$f":"IF(AW6=\"\",\"\",\nIF(AND(AR6<>$AG6,AS6<>$AG6,AT6<>$AG6,AU6<>$AG6,AW6<>$AG6,AV6<>$AG6),$AG6,\nIF(AND(AR6<>$AH6,AS6<>$AH6,AT6<>$AH6,AU6<>$AH6,AW6<>$AH6,AV6<>$AH6),$AH6,\nIF(AND(AR6<>$AI6,AS6<>$AI6,AT6<>$AI6,AU6<>$AI6,AW6<>$AI6,AV6<>$AI6),$AI6,\nIF(AND(AR6<>$AJ6,AS6<>$AJ6,AT6<>$AJ6,AU6<>$AJ6,AW6<>$AJ6,AV6<>$AJ6),$AJ6,\nIF(AND(AR6<>$AK6,AS6<>$AK6,AT6<>$AK6,AU6<>$AK6,AW6<>$AK6,AV6<>$AK6),$AK6,\nIF(AND(AR6<>$AL6,AS6<>$AL6,AT6<>$AL6,AU6<>$AL6,AW6<>$AL6,AV6<>$AL6),$AL6,\nIF(AND(AR6<>$AM6,AS6<>$AM6,AT6<>$AM6,AU6<>$AM6,AW6<>$AM6,AV6<>$AM6),$AM6,\nIF(AND(AR6<>$AN6,AS6<>$AN6,AT6<>$AN6,AU6<>$AN6,AW6<>$AN6,AV6<>$AN6),$AN6,\nIF(AND(AR6<>$AO6,AS6<>$AO6,AT6<>$AO6,AU6<>$AO6,AW6<>$AO6,AV6<>$AO6),$AO6,\nIF(AND(AR6<>$AP6,AS6<>$AP6,AT6<>$AP6,AU6<>$AP6,AW6<>$AP6,AV6<>$AP6),$AP6,\n\"\")))))))))))","v":""},{"$f":"IF(AX6=\"\",\"\",\nIF(AND(AR6<>$AG6,AS6<>$AG6,AT6<>$AG6,AU6<>$AG6,AV6<>$AG6,AX6<>$AG6,AW6<>$AG6),$AG6,\nIF(AND(AR6<>$AH6,AS6<>$AH6,AT6<>$AH6,AU6<>$AH6,AV6<>$AH6,AX6<>$AH6,AW6<>$AH6),$AH6,\nIF(AND(AR6<>$AI6,AS6<>$AI6,AT6<>$AI6,AU6<>$AI6,AV6<>$AI6,AX6<>$AI6,AW6<>$AI6),$AI6,\nIF(AND(AR6<>$AJ6,AS6<>$AJ6,AT6<>$AJ6,AU6<>$AJ6,AV6<>$AJ6,AX6<>$AJ6,AW6<>$AJ6),$AJ6,\nIF(AND(AR6<>$AK6,AS6<>$AK6,AT6<>$AK6,AU6<>$AK6,AV6<>$AK6,AX6<>$AK6,AW6<>$AK6),$AK6,\nIF(AND(AR6<>$AL6,AS6<>$AL6,AT6<>$AL6,AU6<>$AL6,AV6<>$AL6,AX6<>$AL6,AW6<>$AL6),$AL6,\nIF(AND(AR6<>$AM6,AS6<>$AM6,AT6<>$AM6,AU6<>$AM6,AV6<>$AM6,AX6<>$AM6,AW6<>$AM6),$AM6,\nIF(AND(AR6<>$AN6,AS6<>$AN6,AT6<>$AN6,AU6<>$AN6,AV6<>$AN6,AX6<>$AN6,AW6<>$AN6),$AN6,\nIF(AND(AR6<>$AO6,AS6<>$AO6,AT6<>$AO6,AU6<>$AO6,AV6<>$AO6,AX6<>$AO6,AW6<>$AO6),$AO6,\nIF(AND(AR6<>$AP6,AS6<>$AP6,AT6<>$AP6,AU6<>$AP6,AV6<>$AP6,AX6<>$AP6,AW6<>$AP6),$AP6,\n\"\")))))))))))","v":""},{"$f":"IF(AY6=\"\",\"\",\nIF(AND(AR6<>$AG6,AS6<>$AG6,AT6<>$AG6,AU6<>$AG6,AV6<>$AG6,AW6<>$AG6,AY6<>$AG6,AX6<>$AG6),$AG6,\nIF(AND(AR6<>$AH6,AS6<>$AH6,AT6<>$AH6,AU6<>$AH6,AV6<>$AH6,AW6<>$AH6,AY6<>$AH6,AX6<>$AH6),$AH6,\nIF(AND(AR6<>$AI6,AS6<>$AI6,AT6<>$AI6,AU6<>$AI6,AV6<>$AI6,AW6<>$AI6,AY6<>$AI6,AX6<>$AI6),$AI6,\nIF(AND(AR6<>$AJ6,AS6<>$AJ6,AT6<>$AJ6,AU6<>$AJ6,AV6<>$AJ6,AW6<>$AJ6,AY6<>$AJ6,AX6<>$AJ6),$AJ6,\nIF(AND(AR6<>$AK6,AS6<>$AK6,AT6<>$AK6,AU6<>$AK6,AV6<>$AK6,AW6<>$AK6,AY6<>$AK6,AX6<>$AK6),$AK6,\nIF(AND(AR6<>$AL6,AS6<>$AL6,AT6<>$AL6,AU6<>$AL6,AV6<>$AL6,AW6<>$AL6,AY6<>$AL6,AX6<>$AL6),$AL6,\nIF(AND(AR6<>$AM6,AS6<>$AM6,AT6<>$AM6,AU6<>$AM6,AV6<>$AM6,AW6<>$AM6,AY6<>$AM6,AX6<>$AM6),$AM6,\nIF(AND(AR6<>$AN6,AS6<>$AN6,AT6<>$AN6,AU6<>$AN6,AV6<>$AN6,AW6<>$AN6,AY6<>$AN6,AX6<>$AN6),$AN6,\nIF(AND(AR6<>$AO6,AS6<>$AO6,AT6<>$AO6,AU6<>$AO6,AV6<>$AO6,AW6<>$AO6,AY6<>$AO6,AX6<>$AO6),$AO6,\nIF(AND(AR6<>$AP6,AS6<>$AP6,AT6<>$AP6,AU6<>$AP6,AV6<>$AP6,AW6<>$AP6,AY6<>$AP6,AX6<>$AP6),$AP6,\n\"\")))))))))))","v":""},{"$f":"IF(AZ6=\"\",\"\",\nIF(AND(AR6<>$AG6,AS6<>$AG6,AT6<>$AG6,AU6<>$AG6,AV6<>$AG6,AW6<>$AG6,AX6<>$AG6,AZ6<>$AG6,AY6<>$AG6),$AG6,\nIF(AND(AR6<>$AH6,AS6<>$AH6,AT6<>$AH6,AU6<>$AH6,AV6<>$AH6,AW6<>$AH6,AX6<>$AH6,AZ6<>$AH6,AY6<>$AH6),$AH6,\nIF(AND(AR6<>$AI6,AS6<>$AI6,AT6<>$AI6,AU6<>$AI6,AV6<>$AI6,AW6<>$AI6,AX6<>$AI6,AZ6<>$AI6,AY6<>$AI6),$AI6,\nIF(AND(AR6<>$AJ6,AS6<>$AJ6,AT6<>$AJ6,AU6<>$AJ6,AV6<>$AJ6,AW6<>$AJ6,AX6<>$AJ6,AZ6<>$AJ6,AY6<>$AJ6),$AJ6,\nIF(AND(AR6<>$AK6,AS6<>$AK6,AT6<>$AK6,AU6<>$AK6,AV6<>$AK6,AW6<>$AK6,AX6<>$AK6,AZ6<>$AK6,AY6<>$AK6),$AK6,\nIF(AND(AR6<>$AL6,AS6<>$AL6,AT6<>$AL6,AU6<>$AL6,AV6<>$AL6,AW6<>$AL6,AX6<>$AL6,AZ6<>$AL6,AY6<>$AL6),$AL6,\nIF(AND(AR6<>$AM6,AS6<>$AM6,AT6<>$AM6,AU6<>$AM6,AV6<>$AM6,AW6<>$AM6,AX6<>$AM6,AZ6<>$AM6,AY6<>$AM6),$AM6,\nIF(AND(AR6<>$AN6,AS6<>$AN6,AT6<>$AN6,AU6<>$AN6,AV6<>$AN6,AW6<>$AN6,AX6<>$AN6,AZ6<>$AN6,AY6<>$AN6),$AN6,\nIF(AND(AR6<>$AO6,AS6<>$AO6,AT6<>$AO6,AU6<>$AO6,AV6<>$AO6,AW6<>$AO6,AX6<>$AO6,AZ6<>$AO6,AY6<>$AO6),$AO6,\nIF(AND(AR6<>$AP6,AS6<>$AP6,AT6<>$AP6,AU6<>$AP6,AV6<>$AP6,AW6<>$AP6,AX6<>$AP6,AZ6<>$AP6,AY6<>$AP6),$AP6,\n\"\")))))))))))","v":""}]
[null,{"$f":"IF(F7=\"\",0,1)","v":0},0,null,null,{"$f":"IF(P6<>\"\",P6,\"\")","v":""}]
[null,{"$f":"IF(OR(SUM(B9:B15)>0,O8=\"x\"),1,IF(ISNUMBER(O8),O8,0))","v":0},{"$f":"IF(O8=\"x\",1,IF(ISNUMBER(O8),1,0))","v":0},{"$f":"J8","v":"711.000"},null,{"$f":"K8 & IF(P8<>\"\",CHAR(10) & P8,\"\")","v":"Travaux de ferblanterie sur toits inclinés"},{"$f":"IF(C8=1,N8,\"\")","v":""},null,null,"711.000","Travaux de ferblanterie sur toits inclinés",null,null,"Pce ",null,null,null,null,null,null,"E700_Metallarbeiten","x",null,null,null,null,null,null,null,null,"x",null,{"$f":"\nIF(V8=\"x\",V$4,\nIF(W8=\"x\",W$4,\nIF(X8=\"x\",X$4,\nIF(Y8=\"x\",Y$4,\nIF(Z8=\"x\",Z$4,\nIF(AA8=\"x\",AA$4,\nIF(AB8=\"x\",AB$4,\nIF(AC8=\"x\",AC$4,\nIF(AD8=\"x\",AD$4,\nIF(AE8=\"x\",AE$4,\n\"\"))))))))))","v":"Pce"},{"$f":"\nIF(W8=\"x\",W$4,\nIF(X8=\"x\",X$4,\nIF(Y8=\"x\",Y$4,\nIF(Z8=\"x\",Z$4,\nIF(AA8=\"x\",AA$4,\nIF(AB8=\"x\",AB$4,\nIF(AC8=\"x\",AC$4,\nIF(AD8=\"x\",AD$4,\nIF(AE8=\"x\",AE$4,\n\"\")))))))))","v":"forf."},{"$f":"\nIF(X8=\"x\",X$4,\nIF(Y8=\"x\",Y$4,\nIF(Z8=\"x\",Z$4,\nIF(AA8=\"x\",AA$4,\nIF(AB8=\"x\",AB$4,\nIF(AC8=\"x\",AC$4,\nIF(AD8=\"x\",AD$4,\nIF(AE8=\"x\",AE$4,\n\"\"))))))))","v":"forf."},{"$f":"\nIF(Y8=\"x\",Y$4,\nIF(Z8=\"x\",Z$4,\nIF(AA8=\"x\",AA$4,\nIF(AB8=\"x\",AB$4,\nIF(AC8=\"x\",AC$4,\nIF(AD8=\"x\",AD$4,\nIF(AE8=\"x\",AE$4,\n\"\")))))))","v":"forf."},{"$f":"\nIF(Z8=\"x\",Z$4,\nIF(AA8=\"x\",AA$4,\nIF(AB8=\"x\",AB$4,\nIF(AC8=\"x\",AC$4,\nIF(AD8=\"x\",AD$4,\nIF(AE8=\"x\",AE$4,\n\"\"))))))","v":"forf."},{"$f":"\nIF(AA8=\"x\",AA$4,\nIF(AB8=\"x\",AB$4,\nIF(AC8=\"x\",AC$4,\nIF(AD8=\"x\",AD$4,\nIF(AE8=\"x\",AE$4,\n\"\")))))","v":"forf."},{"$f":"\nIF(AB8=\"x\",AB$4,\nIF(AC8=\"x\",AC$4,\nIF(AD8=\"x\",AD$4,\nIF(AE8=\"x\",AE$4,\n\"\"))))","v":"forf."},{"$f":"\nIF(AC8=\"x\",AC$4,\nIF(AD8=\"x\",AD$4,\nIF(AE8=\"x\",AE$4,\n\"\")))","v":"forf."},{"$f":"\nIF(AD8=\"x\",AD$4,\nIF(AE8=\"x\",AE$4,\n\"\"))","v":"forf."},{"$f":"\nIF(AE8=\"x\",AE$4,\n\"\")","v":"forf."},null,{"$f":"AG8","v":"Pce"},"forf.",{"$f":"IF(AS8=\"\",\"\",\nIF(AND(AS8<>$AG8,AR8<>$AG8),$AG8,\nIF(AND(AS8<>$AH8,AR8<>$AH8),$AH8,\nIF(AND(AS8<>$AI8,AR8<>$AI8),$AI8,\nIF(AND(AS8<>$AJ8,AR8<>$AJ8),$AJ8,\nIF(AND(AS8<>$AK8,AR8<>$AK8),$AK8,\nIF(AND(AS8<>$AL8,AR8<>$AL8),$AL8,\nIF(AND(AS8<>$AM8,AR8<>$AM8),$AM8,\nIF(AND(AS8<>$AN8,AR8<>$AN8),$AN8,\nIF(AND(AS8<>$AO8,AR8<>$AO8),$AO8,\nIF(AND(AS8<>$AP8,AR8<>$AP8),$AP8,\n\"\")))))))))))","v":""},{"$f":"IF(AT8=\"\",\"\",\nIF(AND(AR8<>$AG8,AT8<>$AG8,AS8<>$AG8),$AG8,\nIF(AND(AR8<>$AH8,AT8<>$AH8,AS8<>$AH8),$AH8,\nIF(AND(AR8<>$AI8,AT8<>$AI8,AS8<>$AI8),$AI8,\nIF(AND(AR8<>$AJ8,AT8<>$AJ8,AS8<>$AJ8),$AJ8,\nIF(AND(AR8<>$AK8,AT8<>$AK8,AS8<>$AK8),$AK8,\nIF(AND(AR8<>$AL8,AT8<>$AL8,AS8<>$AL8),$AL8,\nIF(AND(AR8<>$AM8,AT8<>$AM8,AS8<>$AM8),$AM8,\nIF(AND(AR8<>$AN8,AT8<>$AN8,AS8<>$AN8),$AN8,\nIF(AND(AR8<>$AO8,AT8<>$AO8,AS8<>$AO8),$AO8,\nIF(AND(AR8<>$AP8,AT8<>$AP8,AS8<>$AP8),$AP8,\n\"\")))))))))))","v":""},{"$f":"IF(AU8=\"\",\"\",\nIF(AND(AR8<>$AG8,AS8<>$AG8,AU8<>$AG8,AT8<>$AG8),$AG8,\nIF(AND(AR8<>$AH8,AS8<>$AH8,AU8<>$AH8,AT8<>$AH8),$AH8,\nIF(AND(AR8<>$AI8,AS8<>$AI8,AU8<>$AI8,AT8<>$AI8),$AI8,\nIF(AND(AR8<>$AJ8,AS8<>$AJ8,AU8<>$AJ8,AT8<>$AJ8),$AJ8,\nIF(AND(AR8<>$AK8,AS8<>$AK8,AU8<>$AK8,AT8<>$AK8),$AK8,\nIF(AND(AR8<>$AL8,AS8<>$AL8,AU8<>$AL8,AT8<>$AL8),$AL8,\nIF(AND(AR8<>$AM8,AS8<>$AM8,AU8<>$AM8,AT8<>$AM8),$AM8,\nIF(AND(AR8<>$AN8,AS8<>$AN8,AU8<>$AN8,AT8<>$AN8),$AN8,\nIF(AND(AR8<>$AO8,AS8<>$AO8,AU8<>$AO8,AT8<>$AO8),$AO8,\nIF(AND(AR8<>$AP8,AS8<>$AP8,AU8<>$AP8,AT8<>$AP8),$AP8,\n\"\")))))))))))","v":""},{"$f":"IF(AV8=\"\",\"\",\nIF(AND(AR8<>$AG8,AS8<>$AG8,AT8<>$AG8,AV8<>$AG8,AU8<>$AG8),$AG8,\nIF(AND(AR8<>$AH8,AS8<>$AH8,AT8<>$AH8,AV8<>$AH8,AU8<>$AH8),$AH8,\nIF(AND(AR8<>$AI8,AS8<>$AI8,AT8<>$AI8,AV8<>$AI8,AU8<>$AI8),$AI8,\nIF(AND(AR8<>$AJ8,AS8<>$AJ8,AT8<>$AJ8,AV8<>$AJ8,AU8<>$AJ8),$AJ8,\nIF(AND(AR8<>$AK8,AS8<>$AK8,AT8<>$AK8,AV8<>$AK8,AU8<>$AK8),$AK8,\nIF(AND(AR8<>$AL8,AS8<>$AL8,AT8<>$AL8,AV8<>$AL8,AU8<>$AL8),$AL8,\nIF(AND(AR8<>$AM8,AS8<>$AM8,AT8<>$AM8,AV8<>$AM8,AU8<>$AM8),$AM8,\nIF(AND(AR8<>$AN8,AS8<>$AN8,AT8<>$AN8,AV8<>$AN8,AU8<>$AN8),$AN8,\nIF(AND(AR8<>$AO8,AS8<>$AO8,AT8<>$AO8,AV8<>$AO8,AU8<>$AO8),$AO8,\nIF(AND(AR8<>$AP8,AS8<>$AP8,AT8<>$AP8,AV8<>$AP8,AU8<>$AP8),$AP8,\n\"\")))))))))))","v":""},{"$f":"IF(AW8=\"\",\"\",\nIF(AND(AR8<>$AG8,AS8<>$AG8,AT8<>$AG8,AU8<>$AG8,AW8<>$AG8,AV8<>$AG8),$AG8,\nIF(AND(AR8<>$AH8,AS8<>$AH8,AT8<>$AH8,AU8<>$AH8,AW8<>$AH8,AV8<>$AH8),$AH8,\nIF(AND(AR8<>$AI8,AS8<>$AI8,AT8<>$AI8,AU8<>$AI8,AW8<>$AI8,AV8<>$AI8),$AI8,\nIF(AND(AR8<>$AJ8,AS8<>$AJ8,AT8<>$AJ8,AU8<>$AJ8,AW8<>$AJ8,AV8<>$AJ8),$AJ8,\nIF(AND(AR8<>$AK8,AS8<>$AK8,AT8<>$AK8,AU8<>$AK8,AW8<>$AK8,AV8<>$AK8),$AK8,\nIF(AND(AR8<>$AL8,AS8<>$AL8,AT8<>$AL8,AU8<>$AL8,AW8<>$AL8,AV8<>$AL8),$AL8,\nIF(AND(AR8<>$AM8,AS8<>$AM8,AT8<>$AM8,AU8<>$AM8,AW8<>$AM8,AV8<>$AM8),$AM8,\nIF(AND(AR8<>$AN8,AS8<>$AN8,AT8<>$AN8,AU8<>$AN8,AW8<>$AN8,AV8<>$AN8),$AN8,\nIF(AND(AR8<>$AO8,AS8<>$AO8,AT8<>$AO8,AU8<>$AO8,AW8<>$AO8,AV8<>$AO8),$AO8,\nIF(AND(AR8<>$AP8,AS8<>$AP8,AT8<>$AP8,AU8<>$AP8,AW8<>$AP8,AV8<>$AP8),$AP8,\n\"\")))))))))))","v":""},{"$f":"IF(AX8=\"\",\"\",\nIF(AND(AR8<>$AG8,AS8<>$AG8,AT8<>$AG8,AU8<>$AG8,AV8<>$AG8,AX8<>$AG8,AW8<>$AG8),$AG8,\nIF(AND(AR8<>$AH8,AS8<>$AH8,AT8<>$AH8,AU8<>$AH8,AV8<>$AH8,AX8<>$AH8,AW8<>$AH8),$AH8,\nIF(AND(AR8<>$AI8,AS8<>$AI8,AT8<>$AI8,AU8<>$AI8,AV8<>$AI8,AX8<>$AI8,AW8<>$AI8),$AI8,\nIF(AND(AR8<>$AJ8,AS8<>$AJ8,AT8<>$AJ8,AU8<>$AJ8,AV8<>$AJ8,AX8<>$AJ8,AW8<>$AJ8),$AJ8,\nIF(AND(AR8<>$AK8,AS8<>$AK8,AT8<>$AK8,AU8<>$AK8,AV8<>$AK8,AX8<>$AK8,AW8<>$AK8),$AK8,\nIF(AND(AR8<>$AL8,AS8<>$AL8,AT8<>$AL8,AU8<>$AL8,AV8<>$AL8,AX8<>$AL8,AW8<>$AL8),$AL8,\nIF(AND(AR8<>$AM8,AS8<>$AM8,AT8<>$AM8,AU8<>$AM8,AV8<>$AM8,AX8<>$AM8,AW8<>$AM8),$AM8,\nIF(AND(AR8<>$AN8,AS8<>$AN8,AT8<>$AN8,AU8<>$AN8,AV8<>$AN8,AX8<>$AN8,AW8<>$AN8),$AN8,\nIF(AND(AR8<>$AO8,AS8<>$AO8,AT8<>$AO8,AU8<>$AO8,AV8<>$AO8,AX8<>$AO8,AW8<>$AO8),$AO8,\nIF(AND(AR8<>$AP8,AS8<>$AP8,AT8<>$AP8,AU8<>$AP8,AV8<>$AP8,AX8<>$AP8,AW8<>$AP8),$AP8,\n\"\")))))))))))","v":""},{"$f":"IF(AY8=\"\",\"\",\nIF(AND(AR8<>$AG8,AS8<>$AG8,AT8<>$AG8,AU8<>$AG8,AV8<>$AG8,AW8<>$AG8,AY8<>$AG8,AX8<>$AG8),$AG8,\nIF(AND(AR8<>$AH8,AS8<>$AH8,AT8<>$AH8,AU8<>$AH8,AV8<>$AH8,AW8<>$AH8,AY8<>$AH8,AX8<>$AH8),$AH8,\nIF(AND(AR8<>$AI8,AS8<>$AI8,AT8<>$AI8,AU8<>$AI8,AV8<>$AI8,AW8<>$AI8,AY8<>$AI8,AX8<>$AI8),$AI8,\nIF(AND(AR8<>$AJ8,AS8<>$AJ8,AT8<>$AJ8,AU8<>$AJ8,AV8<>$AJ8,AW8<>$AJ8,AY8<>$AJ8,AX8<>$AJ8),$AJ8,\nIF(AND(AR8<>$AK8,AS8<>$AK8,AT8<>$AK8,AU8<>$AK8,AV8<>$AK8,AW8<>$AK8,AY8<>$AK8,AX8<>$AK8),$AK8,\nIF(AND(AR8<>$AL8,AS8<>$AL8,AT8<>$AL8,AU8<>$AL8,AV8<>$AL8,AW8<>$AL8,AY8<>$AL8,AX8<>$AL8),$AL8,\nIF(AND(AR8<>$AM8,AS8<>$AM8,AT8<>$AM8,AU8<>$AM8,AV8<>$AM8,AW8<>$AM8,AY8<>$AM8,AX8<>$AM8),$AM8,\nIF(AND(AR8<>$AN8,AS8<>$AN8,AT8<>$AN8,AU8<>$AN8,AV8<>$AN8,AW8<>$AN8,AY8<>$AN8,AX8<>$AN8),$AN8,\nIF(AND(AR8<>$AO8,AS8<>$AO8,AT8<>$AO8,AU8<>$AO8,AV8<>$AO8,AW8<>$AO8,AY8<>$AO8,AX8<>$AO8),$AO8,\nIF(AND(AR8<>$AP8,AS8<>$AP8,AT8<>$AP8,AU8<>$AP8,AV8<>$AP8,AW8<>$AP8,AY8<>$AP8,AX8<>$AP8),$AP8,\n\"\")))))))))))","v":""},{"$f":"IF(AZ8=\"\",\"\",\nIF(AND(AR8<>$AG8,AS8<>$AG8,AT8<>$AG8,AU8<>$AG8,AV8<>$AG8,AW8<>$AG8,AX8<>$AG8,AZ8<>$AG8,AY8<>$AG8),$AG8,\nIF(AND(AR8<>$AH8,AS8<>$AH8,AT8<>$AH8,AU8<>$AH8,AV8<>$AH8,AW8<>$AH8,AX8<>$AH8,AZ8<>$AH8,AY8<>$AH8),$AH8,\nIF(AND(AR8<>$AI8,AS8<>$AI8,AT8<>$AI8,AU8<>$AI8,AV8<>$AI8,AW8<>$AI8,AX8<>$AI8,AZ8<>$AI8,AY8<>$AI8),$AI8,\nIF(AND(AR8<>$AJ8,AS8<>$AJ8,AT8<>$AJ8,AU8<>$AJ8,AV8<>$AJ8,AW8<>$AJ8,AX8<>$AJ8,AZ8<>$AJ8,AY8<>$AJ8),$AJ8,\nIF(AND(AR8<>$AK8,AS8<>$AK8,AT8<>$AK8,AU8<>$AK8,AV8<>$AK8,AW8<>$AK8,AX8<>$AK8,AZ8<>$AK8,AY8<>$AK8),$AK8,\nIF(AND(AR8<>$AL8,AS8<>$AL8,AT8<>$AL8,AU8<>$AL8,AV8<>$AL8,AW8<>$AL8,AX8<>$AL8,AZ8<>$AL8,AY8<>$AL8),$AL8,\nIF(AND(AR8<>$AM8,AS8<>$AM8,AT8<>$AM8,AU8<>$AM8,AV8<>$AM8,AW8<>$AM8,AX8<>$AM8,AZ8<>$AM8,AY8<>$AM8),$AM8,\nIF(AND(AR8<>$AN8,AS8<>$AN8,AT8<>$AN8,AU8<>$AN8,AV8<>$AN8,AW8<>$AN8,AX8<>$AN8,AZ8<>$AN8,AY8<>$AN8),$AN8,\nIF(AND(AR8<>$AO8,AS8<>$AO8,AT8<>$AO8,AU8<>$AO8,AV8<>$AO8,AW8<>$AO8,AX8<>$AO8,AZ8<>$AO8,AY8<>$AO8),$AO8,\nIF(AND(AR8<>$AP8,AS8<>$AP8,AT8<>$AP8,AU8<>$AP8,AV8<>$AP8,AW8<>$AP8,AX8<>$AP8,AZ8<>$AP8,AY8<>$AP8),$AP8,\n\"\")))))))))))","v":""}]
[null,{"$f":"IF(O9=\"x\",1,IF(ISNUMBER(O9),O9,0))","v":0},{"$f":"IF(O9=\"x\",1,IF(ISNUMBER(O9),1,0))","v":0},null,{"$f":"L9","v":"711.100"},{"$f":"M9 & IF(P9<>\"\",CHAR(10) & P9,\"\")","v":"Tôle de raccordement lucarne"},"",null,null,null,null,"711.100","Tôle de raccordement lucarne","Pce ",null,null,null,null,null,null,"E700_Metallarbeiten","x",null,"x",null,null,null,null,null,null,"x",null,{"$f":"\nIF(V9=\"x\",V$4,\nIF(W9=\"x\",W$4,\nIF(X9=\"x\",X$4,\nIF(Y9=\"x\",Y$4,\nIF(Z9=\"x\",Z$4,\nIF(AA9=\"x\",AA$4,\nIF(AB9=\"x\",AB$4,\nIF(AC9=\"x\",AC$4,\nIF(AD9=\"x\",AD$4,\nIF(AE9=\"x\",AE$4,\n\"\"))))))))))","v":"Pce"},{"$f":"\nIF(W9=\"x\",W$4,\nIF(X9=\"x\",X$4,\nIF(Y9=\"x\",Y$4,\nIF(Z9=\"x\",Z$4,\nIF(AA9=\"x\",AA$4,\nIF(AB9=\"x\",AB$4,\nIF(AC9=\"x\",AC$4,\nIF(AD9=\"x\",AD$4,\nIF(AE9=\"x\",AE$4,\n\"\")))))))))","v":"ml"},{"$f":"\nIF(X9=\"x\",X$4,\nIF(Y9=\"x\",Y$4,\nIF(Z9=\"x\",Z$4,\nIF(AA9=\"x\",AA$4,\nIF(AB9=\"x\",AB$4,\nIF(AC9=\"x\",AC$4,\nIF(AD9=\"x\",AD$4,\nIF(AE9=\"x\",AE$4,\n\"\"))))))))","v":"ml"},{"$f":"\nIF(Y9=\"x\",Y$4,\nIF(Z9=\"x\",Z$4,\nIF(AA9=\"x\",AA$4,\nIF(AB9=\"x\",AB$4,\nIF(AC9=\"x\",AC$4,\nIF(AD9=\"x\",AD$4,\nIF(AE9=\"x\",AE$4,\n\"\")))))))","v":"forf."},{"$f":"\nIF(Z9=\"x\",Z$4,\nIF(AA9=\"x\",AA$4,\nIF(AB9=\"x\",AB$4,\nIF(AC9=\"x\",AC$4,\nIF(AD9=\"x\",AD$4,\nIF(AE9=\"x\",AE$4,\n\"\"))))))","v":"forf."},{"$f":"\nIF(AA9=\"x\",AA$4,\nIF(AB9=\"x\",AB$4,\nIF(AC9=\"x\",AC$4,\nIF(AD9=\"x\",AD$4,\nIF(AE9=\"x\",AE$4,\n\"\")))))","v":"forf."},{"$f":"\nIF(AB9=\"x\",AB$4,\nIF(AC9=\"x\",AC$4,\nIF(AD9=\"x\",AD$4,\nIF(AE9=\"x\",AE$4,\n\"\"))))","v":"forf."},{"$f":"\nIF(AC9=\"x\",AC$4,\nIF(AD9=\"x\",AD$4,\nIF(AE9=\"x\",AE$4,\n\"\")))","v":"forf."},{"$f":"\nIF(AD9=\"x\",AD$4,\nIF(AE9=\"x\",AE$4,\n\"\"))","v":"forf."},{"$f":"\nIF(AE9=\"x\",AE$4,\n\"\")","v":"forf."},null,{"$f":"AG9","v":"Pce"},{"$f":"IF(AR9=\"\",\"\",\nIF(AR9<>$AG9,$AG9,\nIF(AR9<>$AH9,$AH9,\nIF(AR9<>$AI9,$AI9,\nIF(AR9<>$AJ9,$AJ9,\nIF(AR9<>$AK9,$AK9,\nIF(AR9<>$AL9,$AL9,\nIF(AR9<>$AM9,$AM9,\nIF(AR9<>$AN9,$AN9,\nIF(AR9<>$AO9,$AO9,\nIF(AR9<>$AP9,$AP9,\n\"\")))))))))))","v":"ml"},{"$f":"IF(AS9=\"\",\"\",\nIF(AND(AS9<>$AG9,AR9<>$AG9),$AG9,\nIF(AND(AS9<>$AH9,AR9<>$AH9),$AH9,\nIF(AND(AS9<>$AI9,AR9<>$AI9),$AI9,\nIF(AND(AS9<>$AJ9,AR9<>$AJ9),$AJ9,\nIF(AND(AS9<>$AK9,AR9<>$AK9),$AK9,\nIF(AND(AS9<>$AL9,AR9<>$AL9),$AL9,\nIF(AND(AS9<>$AM9,AR9<>$AM9),$AM9,\nIF(AND(AS9<>$AN9,AR9<>$AN9),$AN9,\nIF(AND(AS9<>$AO9,AR9<>$AO9),$AO9,\nIF(AND(AS9<>$AP9,AR9<>$AP9),$AP9,\n\"\")))))))))))","v":"forf."},{"$f":"IF(AT9=\"\",\"\",\nIF(AND(AR9<>$AG9,AT9<>$AG9,AS9<>$AG9),$AG9,\nIF(AND(AR9<>$AH9,AT9<>$AH9,AS9<>$AH9),$AH9,\nIF(AND(AR9<>$AI9,AT9<>$AI9,AS9<>$AI9),$AI9,\nIF(AND(AR9<>$AJ9,AT9<>$AJ9,AS9<>$AJ9),$AJ9,\nIF(AND(AR9<>$AK9,AT9<>$AK9,AS9<>$AK9),$AK9,\nIF(AND(AR9<>$AL9,AT9<>$AL9,AS9<>$AL9),$AL9,\nIF(AND(AR9<>$AM9,AT9<>$AM9,AS9<>$AM9),$AM9,\nIF(AND(AR9<>$AN9,AT9<>$AN9,AS9<>$AN9),$AN9,\nIF(AND(AR9<>$AO9,AT9<>$AO9,AS9<>$AO9),$AO9,\nIF(AND(AR9<>$AP9,AT9<>$AP9,AS9<>$AP9),$AP9,\n\"\")))))))))))","v":""},{"$f":"IF(AU9=\"\",\"\",\nIF(AND(AR9<>$AG9,AS9<>$AG9,AU9<>$AG9,AT9<>$AG9),$AG9,\nIF(AND(AR9<>$AH9,AS9<>$AH9,AU9<>$AH9,AT9<>$AH9),$AH9,\nIF(AND(AR9<>$AI9,AS9<>$AI9,AU9<>$AI9,AT9<>$AI9),$AI9,\nIF(AND(AR9<>$AJ9,AS9<>$AJ9,AU9<>$AJ9,AT9<>$AJ9),$AJ9,\nIF(AND(AR9<>$AK9,AS9<>$AK9,AU9<>$AK9,AT9<>$AK9),$AK9,\nIF(AND(AR9<>$AL9,AS9<>$AL9,AU9<>$AL9,AT9<>$AL9),$AL9,\nIF(AND(AR9<>$AM9,AS9<>$AM9,AU9<>$AM9,AT9<>$AM9),$AM9,\nIF(AND(AR9<>$AN9,AS9<>$AN9,AU9<>$AN9,AT9<>$AN9),$AN9,\nIF(AND(AR9<>$AO9,AS9<>$AO9,AU9<>$AO9,AT9<>$AO9),$AO9,\nIF(AND(AR9<>$AP9,AS9<>$AP9,AU9<>$AP9,AT9<>$AP9),$AP9,\n\"\")))))))))))","v":""},{"$f":"IF(AV9=\"\",\"\",\nIF(AND(AR9<>$AG9,AS9<>$AG9,AT9<>$AG9,AV9<>$AG9,AU9<>$AG9),$AG9,\nIF(AND(AR9<>$AH9,AS9<>$AH9,AT9<>$AH9,AV9<>$AH9,AU9<>$AH9),$AH9,\nIF(AND(AR9<>$AI9,AS9<>$AI9,AT9<>$AI9,AV9<>$AI9,AU9<>$AI9),$AI9,\nIF(AND(AR9<>$AJ9,AS9<>$AJ9,AT9<>$AJ9,AV9<>$AJ9,AU9<>$AJ9),$AJ9,\nIF(AND(AR9<>$AK9,AS9<>$AK9,AT9<>$AK9,AV9<>$AK9,AU9<>$AK9),$AK9,\nIF(AND(AR9<>$AL9,AS9<>$AL9,AT9<>$AL9,AV9<>$AL9,AU9<>$AL9),$AL9,\nIF(AND(AR9<>$AM9,AS9<>$AM9,AT9<>$AM9,AV9<>$AM9,AU9<>$AM9),$AM9,\nIF(AND(AR9<>$AN9,AS9<>$AN9,AT9<>$AN9,AV9<>$AN9,AU9<>$AN9),$AN9,\nIF(AND(AR9<>$AO9,AS9<>$AO9,AT9<>$AO9,AV9<>$AO9,AU9<>$AO9),$AO9,\nIF(AND(AR9<>$AP9,AS9<>$AP9,AT9<>$AP9,AV9<>$AP9,AU9<>$AP9),$AP9,\n\"\")))))))))))","v":""},{"$f":"IF(AW9=\"\",\"\",\nIF(AND(AR9<>$AG9,AS9<>$AG9,AT9<>$AG9,AU9<>$AG9,AW9<>$AG9,AV9<>$AG9),$AG9,\nIF(AND(AR9<>$AH9,AS9<>$AH9,AT9<>$AH9,AU9<>$AH9,AW9<>$AH9,AV9<>$AH9),$AH9,\nIF(AND(AR9<>$AI9,AS9<>$AI9,AT9<>$AI9,AU9<>$AI9,AW9<>$AI9,AV9<>$AI9),$AI9,\nIF(AND(AR9<>$AJ9,AS9<>$AJ9,AT9<>$AJ9,AU9<>$AJ9,AW9<>$AJ9,AV9<>$AJ9),$AJ9,\nIF(AND(AR9<>$AK9,AS9<>$AK9,AT9<>$AK9,AU9<>$AK9,AW9<>$AK9,AV9<>$AK9),$AK9,\nIF(AND(AR9<>$AL9,AS9<>$AL9,AT9<>$AL9,AU9<>$AL9,AW9<>$AL9,AV9<>$AL9),$AL9,\nIF(AND(AR9<>$AM9,AS9<>$AM9,AT9<>$AM9,AU9<>$AM9,AW9<>$AM9,AV9<>$AM9),$AM9,\nIF(AND(AR9<>$AN9,AS9<>$AN9,AT9<>$AN9,AU9<>$AN9,AW9<>$AN9,AV9<>$AN9),$AN9,\nIF(AND(AR9<>$AO9,AS9<>$AO9,AT9<>$AO9,AU9<>$AO9,AW9<>$AO9,AV9<>$AO9),$AO9,\nIF(AND(AR9<>$AP9,AS9<>$AP9,AT9<>$AP9,AU9<>$AP9,AW9<>$AP9,AV9<>$AP9),$AP9,\n\"\")))))))))))","v":""},{"$f":"IF(AX9=\"\",\"\",\nIF(AND(AR9<>$AG9,AS9<>$AG9,AT9<>$AG9,AU9<>$AG9,AV9<>$AG9,AX9<>$AG9,AW9<>$AG9),$AG9,\nIF(AND(AR9<>$AH9,AS9<>$AH9,AT9<>$AH9,AU9<>$AH9,AV9<>$AH9,AX9<>$AH9,AW9<>$AH9),$AH9,\nIF(AND(AR9<>$AI9,AS9<>$AI9,AT9<>$AI9,AU9<>$AI9,AV9<>$AI9,AX9<>$AI9,AW9<>$AI9),$AI9,\nIF(AND(AR9<>$AJ9,AS9<>$AJ9,AT9<>$AJ9,AU9<>$AJ9,AV9<>$AJ9,AX9<>$AJ9,AW9<>$AJ9),$AJ9,\nIF(AND(AR9<>$AK9,AS9<>$AK9,AT9<>$AK9,AU9<>$AK9,AV9<>$AK9,AX9<>$AK9,AW9<>$AK9),$AK9,\nIF(AND(AR9<>$AL9,AS9<>$AL9,AT9<>$AL9,AU9<>$AL9,AV9<>$AL9,AX9<>$AL9,AW9<>$AL9),$AL9,\nIF(AND(AR9<>$AM9,AS9<>$AM9,AT9<>$AM9,AU9<>$AM9,AV9<>$AM9,AX9<>$AM9,AW9<>$AM9),$AM9,\nIF(AND(AR9<>$AN9,AS9<>$AN9,AT9<>$AN9,AU9<>$AN9,AV9<>$AN9,AX9<>$AN9,AW9<>$AN9),$AN9,\nIF(AND(AR9<>$AO9,AS9<>$AO9,AT9<>$AO9,AU9<>$AO9,AV9<>$AO9,AX9<>$AO9,AW9<>$AO9),$AO9,\nIF(AND(AR9<>$AP9,AS9<>$AP9,AT9<>$AP9,AU9<>$AP9,AV9<>$AP9,AX9<>$AP9,AW9<>$AP9),$AP9,\n\"\")))))))))))","v":""},{"$f":"IF(AY9=\"\",\"\",\nIF(AND(AR9<>$AG9,AS9<>$AG9,AT9<>$AG9,AU9<>$AG9,AV9<>$AG9,AW9<>$AG9,AY9<>$AG9,AX9<>$AG9),$AG9,\nIF(AND(AR9<>$AH9,AS9<>$AH9,AT9<>$AH9,AU9<>$AH9,AV9<>$AH9,AW9<>$AH9,AY9<>$AH9,AX9<>$AH9),$AH9,\nIF(AND(AR9<>$AI9,AS9<>$AI9,AT9<>$AI9,AU9<>$AI9,AV9<>$AI9,AW9<>$AI9,AY9<>$AI9,AX9<>$AI9),$AI9,\nIF(AND(AR9<>$AJ9,AS9<>$AJ9,AT9<>$AJ9,AU9<>$AJ9,AV9<>$AJ9,AW9<>$AJ9,AY9<>$AJ9,AX9<>$AJ9),$AJ9,\nIF(AND(AR9<>$AK9,AS9<>$AK9,AT9<>$AK9,AU9<>$AK9,AV9<>$AK9,AW9<>$AK9,AY9<>$AK9,AX9<>$AK9),$AK9,\nIF(AND(AR9<>$AL9,AS9<>$AL9,AT9<>$AL9,AU9<>$AL9,AV9<>$AL9,AW9<>$AL9,AY9<>$AL9,AX9<>$AL9),$AL9,\nIF(AND(AR9<>$AM9,AS9<>$AM9,AT9<>$AM9,AU9<>$AM9,AV9<>$AM9,AW9<>$AM9,AY9<>$AM9,AX9<>$AM9),$AM9,\nIF(AND(AR9<>$AN9,AS9<>$AN9,AT9<>$AN9,AU9<>$AN9,AV9<>$AN9,AW9<>$AN9,AY9<>$AN9,AX9<>$AN9),$AN9,\nIF(AND(AR9<>$AO9,AS9<>$AO9,AT9<>$AO9,AU9<>$AO9,AV9<>$AO9,AW9<>$AO9,AY9<>$AO9,AX9<>$AO9),$AO9,\nIF(AND(AR9<>$AP9,AS9<>$AP9,AT9<>$AP9,AU9<>$AP9,AV9<>$AP9,AW9<>$AP9,AY9<>$AP9,AX9<>$AP9),$AP9,\n\"\")))))))))))","v":""},{"$f":"IF(AZ9=\"\",\"\",\nIF(AND(AR9<>$AG9,AS9<>$AG9,AT9<>$AG9,AU9<>$AG9,AV9<>$AG9,AW9<>$AG9,AX9<>$AG9,AZ9<>$AG9,AY9<>$AG9),$AG9,\nIF(AND(AR9<>$AH9,AS9<>$AH9,AT9<>$AH9,AU9<>$AH9,AV9<>$AH9,AW9<>$AH9,AX9<>$AH9,AZ9<>$AH9,AY9<>$AH9),$AH9,\nIF(AND(AR9<>$AI9,AS9<>$AI9,AT9<>$AI9,AU9<>$AI9,AV9<>$AI9,AW9<>$AI9,AX9<>$AI9,AZ9<>$AI9,AY9<>$AI9),$AI9,\nIF(AND(AR9<>$AJ9,AS9<>$AJ9,AT9<>$AJ9,AU9<>$AJ9,AV9<>$AJ9,AW9<>$AJ9,AX9<>$AJ9,AZ9<>$AJ9,AY9<>$AJ9),$AJ9,\nIF(AND(AR9<>$AK9,AS9<>$AK9,AT9<>$AK9,AU9<>$AK9,AV9<>$AK9,AW9<>$AK9,AX9<>$AK9,AZ9<>$AK9,AY9<>$AK9),$AK9,\nIF(AND(AR9<>$AL9,AS9<>$AL9,AT9<>$AL9,AU9<>$AL9,AV9<>$AL9,AW9<>$AL9,AX9<>$AL9,AZ9<>$AL9,AY9<>$AL9),$AL9,\nIF(AND(AR9<>$AM9,AS9<>$AM9,AT9<>$AM9,AU9<>$AM9,AV9<>$AM9,AW9<>$AM9,AX9<>$AM9,AZ9<>$AM9,AY9<>$AM9),$AM9,\nIF(AND(AR9<>$AN9,AS9<>$AN9,AT9<>$AN9,AU9<>$AN9,AV9<>$AN9,AW9<>$AN9,AX9<>$AN9,AZ9<>$AN9,AY9<>$AN9),$AN9,\nIF(AND(AR9<>$AO9,AS9<>$AO9,AT9<>$AO9,AU9<>$AO9,AV9<>$AO9,AW9<>$AO9,AX9<>$AO9,AZ9<>$AO9,AY9<>$AO9),$AO9,\nIF(AND(AR9<>$AP9,AS9<>$AP9,AT9<>$AP9,AU9<>$AP9,AV9<>$AP9,AW9<>$AP9,AX9<>$AP9,AZ9<>$AP9,AY9<>$AP9),$AP9,\n\"\")))))))))))","v":""}]
[null,{"$f":"IF(O10=\"x\",1,IF(ISNUMBER(O10),O10,0))","v":0},0,null,"711.200",{"$f":"M10 & IF(P10<>\"\",CHAR(10) & P10,\"\")","v":"Tôle de bordure de rive"},"",null,null,null,null,"711.200","Tôle de bordure de rive","Pce ",null,null,null,null,null,null,"E700_Metallarbeiten","x",null,"x",null,null,null,null,null,null,"x",null,{"$f":"\nIF(V10=\"x\",V$4,\nIF(W10=\"x\",W$4,\nIF(X10=\"x\",X$4,\nIF(Y10=\"x\",Y$4,\nIF(Z10=\"x\",Z$4,\nIF(AA10=\"x\",AA$4,\nIF(AB10=\"x\",AB$4,\nIF(AC10=\"x\",AC$4,\nIF(AD10=\"x\",AD$4,\nIF(AE10=\"x\",AE$4,\n\"\"))))))))))","v":"Pce"},{"$f":"\nIF(W10=\"x\",W$4,\nIF(X10=\"x\",X$4,\nIF(Y10=\"x\",Y$4,\nIF(Z10=\"x\",Z$4,\nIF(AA10=\"x\",AA$4,\nIF(AB10=\"x\",AB$4,\nIF(AC10=\"x\",AC$4,\nIF(AD10=\"x\",AD$4,\nIF(AE10=\"x\",AE$4,\n\"\")))))))))","v":"ml"},{"$f":"\nIF(X10=\"x\",X$4,\nIF(Y10=\"x\",Y$4,\nIF(Z10=\"x\",Z$4,\nIF(AA10=\"x\",AA$4,\nIF(AB10=\"x\",AB$4,\nIF(AC10=\"x\",AC$4,\nIF(AD10=\"x\",AD$4,\nIF(AE10=\"x\",AE$4,\n\"\"))))))))","v":"ml"},{"$f":"\nIF(Y10=\"x\",Y$4,\nIF(Z10=\"x\",Z$4,\nIF(AA10=\"x\",AA$4,\nIF(AB10=\"x\",AB$4,\nIF(AC10=\"x\",AC$4,\nIF(AD10=\"x\",AD$4,\nIF(AE10=\"x\",AE$4,\n\"\")))))))","v":"forf."},{"$f":"\nIF(Z10=\"x\",Z$4,\nIF(AA10=\"x\",AA$4,\nIF(AB10=\"x\",AB$4,\nIF(AC10=\"x\",AC$4,\nIF(AD10=\"x\",AD$4,\nIF(AE10=\"x\",AE$4,\n\"\"))))))","v":"forf."},{"$f":"\nIF(AA10=\"x\",AA$4,\nIF(AB10=\"x\",AB$4,\nIF(AC10=\"x\",AC$4,\nIF(AD10=\"x\",AD$4,\nIF(AE10=\"x\",AE$4,\n\"\")))))","v":"forf."},{"$f":"\nIF(AB10=\"x\",AB$4,\nIF(AC10=\"x\",AC$4,\nIF(AD10=\"x\",AD$4,\nIF(AE10=\"x\",AE$4,\n\"\"))))","v":"forf."},{"$f":"\nIF(AC10=\"x\",AC$4,\nIF(AD10=\"x\",AD$4,\nIF(AE10=\"x\",AE$4,\n\"\")))","v":"forf."},{"$f":"\nIF(AD10=\"x\",AD$4,\nIF(AE10=\"x\",AE$4,\n\"\"))","v":"forf."},{"$f":"\nIF(AE10=\"x\",AE$4,\n\"\")","v":"forf."},null,{"$f":"AG10","v":"Pce"},"ml",{"$f":"IF(AS10=\"\",\"\",\nIF(AND(AS10<>$AG10,AR10<>$AG10),$AG10,\nIF(AND(AS10<>$AH10,AR10<>$AH10),$AH10,\nIF(AND(AS10<>$AI10,AR10<>$AI10),$AI10,\nIF(AND(AS10<>$AJ10,AR10<>$AJ10),$AJ10,\nIF(AND(AS10<>$AK10,AR10<>$AK10),$AK10,\nIF(AND(AS10<>$AL10,AR10<>$AL10),$AL10,\nIF(AND(AS10<>$AM10,AR10<>$AM10),$AM10,\nIF(AND(AS10<>$AN10,AR10<>$AN10),$AN10,\nIF(AND(AS10<>$AO10,AR10<>$AO10),$AO10,\nIF(AND(AS10<>$AP10,AR10<>$AP10),$AP10,\n\"\")))))))))))","v":"forf."},{"$f":"IF(AT10=\"\",\"\",\nIF(AND(AR10<>$AG10,AT10<>$AG10,AS10<>$AG10),$AG10,\nIF(AND(AR10<>$AH10,AT10<>$AH10,AS10<>$AH10),$AH10,\nIF(AND(AR10<>$AI10,AT10<>$AI10,AS10<>$AI10),$AI10,\nIF(AND(AR10<>$AJ10,AT10<>$AJ10,AS10<>$AJ10),$AJ10,\nIF(AND(AR10<>$AK10,AT10<>$AK10,AS10<>$AK10),$AK10,\nIF(AND(AR10<>$AL10,AT10<>$AL10,AS10<>$AL10),$AL10,\nIF(AND(AR10<>$AM10,AT10<>$AM10,AS10<>$AM10),$AM10,\nIF(AND(AR10<>$AN10,AT10<>$AN10,AS10<>$AN10),$AN10,\nIF(AND(AR10<>$AO10,AT10<>$AO10,AS10<>$AO10),$AO10,\nIF(AND(AR10<>$AP10,AT10<>$AP10,AS10<>$AP10),$AP10,\n\"\")))))))))))","v":""},{"$f":"IF(AU10=\"\",\"\",\nIF(AND(AR10<>$AG10,AS10<>$AG10,AU10<>$AG10,AT10<>$AG10),$AG10,\nIF(AND(AR10<>$AH10,AS10<>$AH10,AU10<>$AH10,AT10<>$AH10),$AH10,\nIF(AND(AR10<>$AI10,AS10<>$AI10,AU10<>$AI10,AT10<>$AI10),$AI10,\nIF(AND(AR10<>$AJ10,AS10<>$AJ10,AU10<>$AJ10,AT10<>$AJ10),$AJ10,\nIF(AND(AR10<>$AK10,AS10<>$AK10,AU10<>$AK10,AT10<>$AK10),$AK10,\nIF(AND(AR10<>$AL10,AS10<>$AL10,AU10<>$AL10,AT10<>$AL10),$AL10,\nIF(AND(AR10<>$AM10,AS10<>$AM10,AU10<>$AM10,AT10<>$AM10),$AM10,\nIF(AND(AR10<>$AN10,AS10<>$AN10,AU10<>$AN10,AT10<>$AN10),$AN10,\nIF(AND(AR10<>$AO10,AS10<>$AO10,AU10<>$AO10,AT10<>$AO10),$AO10,\nIF(AND(AR10<>$AP10,AS10<>$AP10,AU10<>$AP10,AT10<>$AP10),$AP10,\n\"\")))))))))))","v":""},{"$f":"IF(AV10=\"\",\"\",\nIF(AND(AR10<>$AG10,AS10<>$AG10,AT10<>$AG10,AV10<>$AG10,AU10<>$AG10),$AG10,\nIF(AND(AR10<>$AH10,AS10<>$AH10,AT10<>$AH10,AV10<>$AH10,AU10<>$AH10),$AH10,\nIF(AND(AR10<>$AI10,AS10<>$AI10,AT10<>$AI10,AV10<>$AI10,AU10<>$AI10),$AI10,\nIF(AND(AR10<>$AJ10,AS10<>$AJ10,AT10<>$AJ10,AV10<>$AJ10,AU10<>$AJ10),$AJ10,\nIF(AND(AR10<>$AK10,AS10<>$AK10,AT10<>$AK10,AV10<>$AK10,AU10<>$AK10),$AK10,\nIF(AND(AR10<>$AL10,AS10<>$AL10,AT10<>$AL10,AV10<>$AL10,AU10<>$AL10),$AL10,\nIF(AND(AR10<>$AM10,AS10<>$AM10,AT10<>$AM10,AV10<>$AM10,AU10<>$AM10),$AM10,\nIF(AND(AR10<>$AN10,AS10<>$AN10,AT10<>$AN10,AV10<>$AN10,AU10<>$AN10),$AN10,\nIF(AND(AR10<>$AO10,AS10<>$AO10,AT10<>$AO10,AV10<>$AO10,AU10<>$AO10),$AO10,\nIF(AND(AR10<>$AP10,AS10<>$AP10,AT10<>$AP10,AV10<>$AP10,AU10<>$AP10),$AP10,\n\"\")))))))))))","v":""},{"$f":"IF(AW10=\"\",\"\",\nIF(AND(AR10<>$AG10,AS10<>$AG10,AT10<>$AG10,AU10<>$AG10,AW10<>$AG10,AV10<>$AG10),$AG10,\nIF(AND(AR10<>$AH10,AS10<>$AH10,AT10<>$AH10,AU10<>$AH10,AW10<>$AH10,AV10<>$AH10),$AH10,\nIF(AND(AR10<>$AI10,AS10<>$AI10,AT10<>$AI10,AU10<>$AI10,AW10<>$AI10,AV10<>$AI10),$AI10,\nIF(AND(AR10<>$AJ10,AS10<>$AJ10,AT10<>$AJ10,AU10<>$AJ10,AW10<>$AJ10,AV10<>$AJ10),$AJ10,\nIF(AND(AR10<>$AK10,AS10<>$AK10,AT10<>$AK10,AU10<>$AK10,AW10<>$AK10,AV10<>$AK10),$AK10,\nIF(AND(AR10<>$AL10,AS10<>$AL10,AT10<>$AL10,AU10<>$AL10,AW10<>$AL10,AV10<>$AL10),$AL10,\nIF(AND(AR10<>$AM10,AS10<>$AM10,AT10<>$AM10,AU10<>$AM10,AW10<>$AM10,AV10<>$AM10),$AM10,\nIF(AND(AR10<>$AN10,AS10<>$AN10,AT10<>$AN10,AU10<>$AN10,AW10<>$AN10,AV10<>$AN10),$AN10,\nIF(AND(AR10<>$AO10,AS10<>$AO10,AT10<>$AO10,AU10<>$AO10,AW10<>$AO10,AV10<>$AO10),$AO10,\nIF(AND(AR10<>$AP10,AS10<>$AP10,AT10<>$AP10,AU10<>$AP10,AW10<>$AP10,AV10<>$AP10),$AP10,\n\"\")))))))))))","v":""},{"$f":"IF(AX10=\"\",\"\",\nIF(AND(AR10<>$AG10,AS10<>$AG10,AT10<>$AG10,AU10<>$AG10,AV10<>$AG10,AX10<>$AG10,AW10<>$AG10),$AG10,\nIF(AND(AR10<>$AH10,AS10<>$AH10,AT10<>$AH10,AU10<>$AH10,AV10<>$AH10,AX10<>$AH10,AW10<>$AH10),$AH10,\nIF(AND(AR10<>$AI10,AS10<>$AI10,AT10<>$AI10,AU10<>$AI10,AV10<>$AI10,AX10<>$AI10,AW10<>$AI10),$AI10,\nIF(AND(AR10<>$AJ10,AS10<>$AJ10,AT10<>$AJ10,AU10<>$AJ10,AV10<>$AJ10,AX10<>$AJ10,AW10<>$AJ10),$AJ10,\nIF(AND(AR10<>$AK10,AS10<>$AK10,AT10<>$AK10,AU10<>$AK10,AV10<>$AK10,AX10<>$AK10,AW10<>$AK10),$AK10,\nIF(AND(AR10<>$AL10,AS10<>$AL10,AT10<>$AL10,AU10<>$AL10,AV10<>$AL10,AX10<>$AL10,AW10<>$AL10),$AL10,\nIF(AND(AR10<>$AM10,AS10<>$AM10,AT10<>$AM10,AU10<>$AM10,AV10<>$AM10,AX10<>$AM10,AW10<>$AM10),$AM10,\nIF(AND(AR10<>$AN10,AS10<>$AN10,AT10<>$AN10,AU10<>$AN10,AV10<>$AN10,AX10<>$AN10,AW10<>$AN10),$AN10,\nIF(AND(AR10<>$AO10,AS10<>$AO10,AT10<>$AO10,AU10<>$AO10,AV10<>$AO10,AX10<>$AO10,AW10<>$AO10),$AO10,\nIF(AND(AR10<>$AP10,AS10<>$AP10,AT10<>$AP10,AU10<>$AP10,AV10<>$AP10,AX10<>$AP10,AW10<>$AP10),$AP10,\n\"\")))))))))))","v":""},{"$f":"IF(AY10=\"\",\"\",\nIF(AND(AR10<>$AG10,AS10<>$AG10,AT10<>$AG10,AU10<>$AG10,AV10<>$AG10,AW10<>$AG10,AY10<>$AG10,AX10<>$AG10),$AG10,\nIF(AND(AR10<>$AH10,AS10<>$AH10,AT10<>$AH10,AU10<>$AH10,AV10<>$AH10,AW10<>$AH10,AY10<>$AH10,AX10<>$AH10),$AH10,\nIF(AND(AR10<>$AI10,AS10<>$AI10,AT10<>$AI10,AU10<>$AI10,AV10<>$AI10,AW10<>$AI10,AY10<>$AI10,AX10<>$AI10),$AI10,\nIF(AND(AR10<>$AJ10,AS10<>$AJ10,AT10<>$AJ10,AU10<>$AJ10,AV10<>$AJ10,AW10<>$AJ10,AY10<>$AJ10,AX10<>$AJ10),$AJ10,\nIF(AND(AR10<>$AK10,AS10<>$AK10,AT10<>$AK10,AU10<>$AK10,AV10<>$AK10,AW10<>$AK10,AY10<>$AK10,AX10<>$AK10),$AK10,\nIF(AND(AR10<>$AL10,AS10<>$AL10,AT10<>$AL10,AU10<>$AL10,AV10<>$AL10,AW10<>$AL10,AY10<>$AL10,AX10<>$AL10),$AL10,\nIF(AND(AR10<>$AM10,AS10<>$AM10,AT10<>$AM10,AU10<>$AM10,AV10<>$AM10,AW10<>$AM10,AY10<>$AM10,AX10<>$AM10),$AM10,\nIF(AND(AR10<>$AN10,AS10<>$AN10,AT10<>$AN10,AU10<>$AN10,AV10<>$AN10,AW10<>$AN10,AY10<>$AN10,AX10<>$AN10),$AN10,\nIF(AND(AR10<>$AO10,AS10<>$AO10,AT10<>$AO10,AU10<>$AO10,AV10<>$AO10,AW10<>$AO10,AY10<>$AO10,AX10<>$AO10),$AO10,\nIF(AND(AR10<>$AP10,AS10<>$AP10,AT10<>$AP10,AU10<>$AP10,AV10<>$AP10,AW10<>$AP10,AY10<>$AP10,AX10<>$AP10),$AP10,\n\"\")))))))))))","v":""},{"$f":"IF(AZ10=\"\",\"\",\nIF(AND(AR10<>$AG10,AS10<>$AG10,AT10<>$AG10,AU10<>$AG10,AV10<>$AG10,AW10<>$AG10,AX10<>$AG10,AZ10<>$AG10,AY10<>$AG10),$AG10,\nIF(AND(AR10<>$AH10,AS10<>$AH10,AT10<>$AH10,AU10<>$AH10,AV10<>$AH10,AW10<>$AH10,AX10<>$AH10,AZ10<>$AH10,AY10<>$AH10),$AH10,\nIF(AND(AR10<>$AI10,AS10<>$AI10,AT10<>$AI10,AU10<>$AI10,AV10<>$AI10,AW10<>$AI10,AX10<>$AI10,AZ10<>$AI10,AY10<>$AI10),$AI10,\nIF(AND(AR10<>$AJ10,AS10<>$AJ10,AT10<>$AJ10,AU10<>$AJ10,AV10<>$AJ10,AW10<>$AJ10,AX10<>$AJ10,AZ10<>$AJ10,AY10<>$AJ10),$AJ10,\nIF(AND(AR10<>$AK10,AS10<>$AK10,AT10<>$AK10,AU10<>$AK10,AV10<>$AK10,AW10<>$AK10,AX10<>$AK10,AZ10<>$AK10,AY10<>$AK10),$AK10,\nIF(AND(AR10<>$AL10,AS10<>$AL10,AT10<>$AL10,AU10<>$AL10,AV10<>$AL10,AW10<>$AL10,AX10<>$AL10,AZ10<>$AL10,AY10<>$AL10),$AL10,\nIF(AND(AR10<>$AM10,AS10<>$AM10,AT10<>$AM10,AU10<>$AM10,AV10<>$AM10,AW10<>$AM10,AX10<>$AM10,AZ10<>$AM10,AY10<>$AM10),$AM10,\nIF(AND(AR10<>$AN10,AS10<>$AN10,AT10<>$AN10,AU10<>$AN10,AV10<>$AN10,AW10<>$AN10,AX10<>$AN10,AZ10<>$AN10,AY10<>$AN10),$AN10,\nIF(AND(AR10<>$AO10,AS10<>$AO10,AT10<>$AO10,AU10<>$AO10,AV10<>$AO10,AW10<>$AO10,AX10<>$AO10,AZ10<>$AO10,AY10<>$AO10),$AO10,\nIF(AND(AR10<>$AP10,AS10<>$AP10,AT10<>$AP10,AU10<>$AP10,AV10<>$AP10,AW10<>$AP10,AX10<>$AP10,AZ10<>$AP10,AY10<>$AP10),$AP10,\n\"\")))))))))))","v":""}]
[null,{"$f":"IF(O11=\"x\",1,IF(ISNUMBER(O11),O11,0))","v":0},0,null,"711.300","Tôle de faîtage","",null,null,null,null,"711.300","Tôle de faîtage","Pce ",null,null,null,null,null,null,"E700_Metallarbeiten","x",null,"x",null,null,null,null,null,null,"x",null,"Pce","ml","ml","forf.","forf.","forf.","forf.","forf.","forf.","forf.",null,"Pce","ml","forf.","","","","","","",""]
[null,0,0,null,"711.400","Bavette chéneau","",null,null,null,null,"711.400","Bavette chéneau","Pce ",null,null,null,null,null,null,"E700_Metallarbeiten","x",null,"x",null,null,null,null,null,null,"x",null,{"$f":"\nIF(V12=\"x\",V$4,\nIF(W12=\"x\",W$4,\nIF(X12=\"x\",X$4,\nIF(Y12=\"x\",Y$4,\nIF(Z12=\"x\",Z$4,\nIF(AA12=\"x\",AA$4,\nIF(AB12=\"x\",AB$4,\nIF(AC12=\"x\",AC$4,\nIF(AD12=\"x\",AD$4,\nIF(AE12=\"x\",AE$4,\n\"\"))))))))))","v":"Pce"},{"$f":"\nIF(W12=\"x\",W$4,\nIF(X12=\"x\",X$4,\nIF(Y12=\"x\",Y$4,\nIF(Z12=\"x\",Z$4,\nIF(AA12=\"x\",AA$4,\nIF(AB12=\"x\",AB$4,\nIF(AC12=\"x\",AC$4,\nIF(AD12=\"x\",AD$4,\nIF(AE12=\"x\",AE$4,\n\"\")))))))))","v":"ml"},{"$f":"\nIF(X12=\"x\",X$4,\nIF(Y12=\"x\",Y$4,\nIF(Z12=\"x\",Z$4,\nIF(AA12=\"x\",AA$4,\nIF(AB12=\"x\",AB$4,\nIF(AC12=\"x\",AC$4,\nIF(AD12=\"x\",AD$4,\nIF(AE12=\"x\",AE$4,\n\"\"))))))))","v":"ml"},{"$f":"\nIF(Y12=\"x\",Y$4,\nIF(Z12=\"x\",Z$4,\nIF(AA12=\"x\",AA$4,\nIF(AB12=\"x\",AB$4,\nIF(AC12=\"x\",AC$4,\nIF(AD12=\"x\",AD$4,\nIF(AE12=\"x\",AE$4,\n\"\")))))))","v":"forf."},{"$f":"\nIF(Z12=\"x\",Z$4,\nIF(AA12=\"x\",AA$4,\nIF(AB12=\"x\",AB$4,\nIF(AC12=\"x\",AC$4,\nIF(AD12=\"x\",AD$4,\nIF(AE12=\"x\",AE$4,\n\"\"))))))","v":"forf."},{"$f":"\nIF(AA12=\"x\",AA$4,\nIF(AB12=\"x\",AB$4,\nIF(AC12=\"x\",AC$4,\nIF(AD12=\"x\",AD$4,\nIF(AE12=\"x\",AE$4,\n\"\")))))","v":"forf."},{"$f":"\nIF(AB12=\"x\",AB$4,\nIF(AC12=\"x\",AC$4,\nIF(AD12=\"x\",AD$4,\nIF(AE12=\"x\",AE$4,\n\"\"))))","v":"forf."},{"$f":"\nIF(AC12=\"x\",AC$4,\nIF(AD12=\"x\",AD$4,\nIF(AE12=\"x\",AE$4,\n\"\")))","v":"forf."},{"$f":"\nIF(AD12=\"x\",AD$4,\nIF(AE12=\"x\",AE$4,\n\"\"))","v":"forf."},{"$f":"\nIF(AE12=\"x\",AE$4,\n\"\")","v":"forf."},null,{"$f":"AG12","v":"Pce"},"ml",{"$f":"IF(AS12=\"\",\"\",\nIF(AND(AS12<>$AG12,AR12<>$AG12),$AG12,\nIF(AND(AS12<>$AH12,AR12<>$AH12),$AH12,\nIF(AND(AS12<>$AI12,AR12<>$AI12),$AI12,\nIF(AND(AS12<>$AJ12,AR12<>$AJ12),$AJ12,\nIF(AND(AS12<>$AK12,AR12<>$AK12),$AK12,\nIF(AND(AS12<>$AL12,AR12<>$AL12),$AL12,\nIF(AND(AS12<>$AM12,AR12<>$AM12),$AM12,\nIF(AND(AS12<>$AN12,AR12<>$AN12),$AN12,\nIF(AND(AS12<>$AO12,AR12<>$AO12),$AO12,\nIF(AND(AS12<>$AP12,AR12<>$AP12),$AP12,\n\"\")))))))))))","v":"forf."},{"$f":"IF(AT12=\"\",\"\",\nIF(AND(AR12<>$AG12,AT12<>$AG12,AS12<>$AG12),$AG12,\nIF(AND(AR12<>$AH12,AT12<>$AH12,AS12<>$AH12),$AH12,\nIF(AND(AR12<>$AI12,AT12<>$AI12,AS12<>$AI12),$AI12,\nIF(AND(AR12<>$AJ12,AT12<>$AJ12,AS12<>$AJ12),$AJ12,\nIF(AND(AR12<>$AK12,AT12<>$AK12,AS12<>$AK12),$AK12,\nIF(AND(AR12<>$AL12,AT12<>$AL12,AS12<>$AL12),$AL12,\nIF(AND(AR12<>$AM12,AT12<>$AM12,AS12<>$AM12),$AM12,\nIF(AND(AR12<>$AN12,AT12<>$AN12,AS12<>$AN12),$AN12,\nIF(AND(AR12<>$AO12,AT12<>$AO12,AS12<>$AO12),$AO12,\nIF(AND(AR12<>$AP12,AT12<>$AP12,AS12<>$AP12),$AP12,\n\"\")))))))))))","v":""},{"$f":"IF(AU12=\"\",\"\",\nIF(AND(AR12<>$AG12,AS12<>$AG12,AU12<>$AG12,AT12<>$AG12),$AG12,\nIF(AND(AR12<>$AH12,AS12<>$AH12,AU12<>$AH12,AT12<>$AH12),$AH12,\nIF(AND(AR12<>$AI12,AS12<>$AI12,AU12<>$AI12,AT12<>$AI12),$AI12,\nIF(AND(AR12<>$AJ12,AS12<>$AJ12,AU12<>$AJ12,AT12<>$AJ12),$AJ12,\nIF(AND(AR12<>$AK12,AS12<>$AK12,AU12<>$AK12,AT12<>$AK12),$AK12,\nIF(AND(AR12<>$AL12,AS12<>$AL12,AU12<>$AL12,AT12<>$AL12),$AL12,\nIF(AND(AR12<>$AM12,AS12<>$AM12,AU12<>$AM12,AT12<>$AM12),$AM12,\nIF(AND(AR12<>$AN12,AS12<>$AN12,AU12<>$AN12,AT12<>$AN12),$AN12,\nIF(AND(AR12<>$AO12,AS12<>$AO12,AU12<>$AO12,AT12<>$AO12),$AO12,\nIF(AND(AR12<>$AP12,AS12<>$AP12,AU12<>$AP12,AT12<>$AP12),$AP12,\n\"\")))))))))))","v":""},{"$f":"IF(AV12=\"\",\"\",\nIF(AND(AR12<>$AG12,AS12<>$AG12,AT12<>$AG12,AV12<>$AG12,AU12<>$AG12),$AG12,\nIF(AND(AR12<>$AH12,AS12<>$AH12,AT12<>$AH12,AV12<>$AH12,AU12<>$AH12),$AH12,\nIF(AND(AR12<>$AI12,AS12<>$AI12,AT12<>$AI12,AV12<>$AI12,AU12<>$AI12),$AI12,\nIF(AND(AR12<>$AJ12,AS12<>$AJ12,AT12<>$AJ12,AV12<>$AJ12,AU12<>$AJ12),$AJ12,\nIF(AND(AR12<>$AK12,AS12<>$AK12,AT12<>$AK12,AV12<>$AK12,AU12<>$AK12),$AK12,\nIF(AND(AR12<>$AL12,AS12<>$AL12,AT12<>$AL12,AV12<>$AL12,AU12<>$AL12),$AL12,\nIF(AND(AR12<>$AM12,AS12<>$AM12,AT12<>$AM12,AV12<>$AM12,AU12<>$AM12),$AM12,\nIF(AND(AR12<>$AN12,AS12<>$AN12,AT12<>$AN12,AV12<>$AN12,AU12<>$AN12),$AN12,\nIF(AND(AR12<>$AO12,AS12<>$AO12,AT12<>$AO12,AV12<>$AO12,AU12<>$AO12),$AO12,\nIF(AND(AR12<>$AP12,AS12<>$AP12,AT12<>$AP12,AV12<>$AP12,AU12<>$AP12),$AP12,\n\"\")))))))))))","v":""},{"$f":"IF(AW12=\"\",\"\",\nIF(AND(AR12<>$AG12,AS12<>$AG12,AT12<>$AG12,AU12<>$AG12,AW12<>$AG12,AV12<>$AG12),$AG12,\nIF(AND(AR12<>$AH12,AS12<>$AH12,AT12<>$AH12,AU12<>$AH12,AW12<>$AH12,AV12<>$AH12),$AH12,\nIF(AND(AR12<>$AI12,AS12<>$AI12,AT12<>$AI12,AU12<>$AI12,AW12<>$AI12,AV12<>$AI12),$AI12,\nIF(AND(AR12<>$AJ12,AS12<>$AJ12,AT12<>$AJ12,AU12<>$AJ12,AW12<>$AJ12,AV12<>$AJ12),$AJ12,\nIF(AND(AR12<>$AK12,AS12<>$AK12,AT12<>$AK12,AU12<>$AK12,AW12<>$AK12,AV12<>$AK12),$AK12,\nIF(AND(AR12<>$AL12,AS12<>$AL12,AT12<>$AL12,AU12<>$AL12,AW12<>$AL12,AV12<>$AL12),$AL12,\nIF(AND(AR12<>$AM12,AS12<>$AM12,AT12<>$AM12,AU12<>$AM12,AW12<>$AM12,AV12<>$AM12),$AM12,\nIF(AND(AR12<>$AN12,AS12<>$AN12,AT12<>$AN12,AU12<>$AN12,AW12<>$AN12,AV12<>$AN12),$AN12,\nIF(AND(AR12<>$AO12,AS12<>$AO12,AT12<>$AO12,AU12<>$AO12,AW12<>$AO12,AV12<>$AO12),$AO12,\nIF(AND(AR12<>$AP12,AS12<>$AP12,AT12<>$AP12,AU12<>$AP12,AW12<>$AP12,AV12<>$AP12),$AP12,\n\"\")))))))))))","v":""},{"$f":"IF(AX12=\"\",\"\",\nIF(AND(AR12<>$AG12,AS12<>$AG12,AT12<>$AG12,AU12<>$AG12,AV12<>$AG12,AX12<>$AG12,AW12<>$AG12),$AG12,\nIF(AND(AR12<>$AH12,AS12<>$AH12,AT12<>$AH12,AU12<>$AH12,AV12<>$AH12,AX12<>$AH12,AW12<>$AH12),$AH12,\nIF(AND(AR12<>$AI12,AS12<>$AI12,AT12<>$AI12,AU12<>$AI12,AV12<>$AI12,AX12<>$AI12,AW12<>$AI12),$AI12,\nIF(AND(AR12<>$AJ12,AS12<>$AJ12,AT12<>$AJ12,AU12<>$AJ12,AV12<>$AJ12,AX12<>$AJ12,AW12<>$AJ12),$AJ12,\nIF(AND(AR12<>$AK12,AS12<>$AK12,AT12<>$AK12,AU12<>$AK12,AV12<>$AK12,AX12<>$AK12,AW12<>$AK12),$AK12,\nIF(AND(AR12<>$AL12,AS12<>$AL12,AT12<>$AL12,AU12<>$AL12,AV12<>$AL12,AX12<>$AL12,AW12<>$AL12),$AL12,\nIF(AND(AR12<>$AM12,AS12<>$AM12,AT12<>$AM12,AU12<>$AM12,AV12<>$AM12,AX12<>$AM12,AW12<>$AM12),$AM12,\nIF(AND(AR12<>$AN12,AS12<>$AN12,AT12<>$AN12,AU12<>$AN12,AV12<>$AN12,AX12<>$AN12,AW12<>$AN12),$AN12,\nIF(AND(AR12<>$AO12,AS12<>$AO12,AT12<>$AO12,AU12<>$AO12,AV12<>$AO12,AX12<>$AO12,AW12<>$AO12),$AO12,\nIF(AND(AR12<>$AP12,AS12<>$AP12,AT12<>$AP12,AU12<>$AP12,AV12<>$AP12,AX12<>$AP12,AW12<>$AP12),$AP12,\n\"\")))))))))))","v":""},{"$f":"IF(AY12=\"\",\"\",\nIF(AND(AR12<>$AG12,AS12<>$AG12,AT12<>$AG12,AU12<>$AG12,AV12<>$AG12,AW12<>$AG12,AY12<>$AG12,AX12<>$AG12),$AG12,\nIF(AND(AR12<>$AH12,AS12<>$AH12,AT12<>$AH12,AU12<>$AH12,AV12<>$AH12,AW12<>$AH12,AY12<>$AH12,AX12<>$AH12),$AH12,\nIF(AND(AR12<>$AI12,AS12<>$AI12,AT12<>$AI12,AU12<>$AI12,AV12<>$AI12,AW12<>$AI12,AY12<>$AI12,AX12<>$AI12),$AI12,\nIF(AND(AR12<>$AJ12,AS12<>$AJ12,AT12<>$AJ12,AU12<>$AJ12,AV12<>$AJ12,AW12<>$AJ12,AY12<>$AJ12,AX12<>$AJ12),$AJ12,\nIF(AND(AR12<>$AK12,AS12<>$AK12,AT12<>$AK12,AU12<>$AK12,AV12<>$AK12,AW12<>$AK12,AY12<>$AK12,AX12<>$AK12),$AK12,\nIF(AND(AR12<>$AL12,AS12<>$AL12,AT12<>$AL12,AU12<>$AL12,AV12<>$AL12,AW12<>$AL12,AY12<>$AL12,AX12<>$AL12),$AL12,\nIF(AND(AR12<>$AM12,AS12<>$AM12,AT12<>$AM12,AU12<>$AM12,AV12<>$AM12,AW12<>$AM12,AY12<>$AM12,AX12<>$AM12),$AM12,\nIF(AND(AR12<>$AN12,AS12<>$AN12,AT12<>$AN12,AU12<>$AN12,AV12<>$AN12,AW12<>$AN12,AY12<>$AN12,AX12<>$AN12),$AN12,\nIF(AND(AR12<>$AO12,AS12<>$AO12,AT12<>$AO12,AU12<>$AO12,AV12<>$AO12,AW12<>$AO12,AY12<>$AO12,AX12<>$AO12),$AO12,\nIF(AND(AR12<>$AP12,AS12<>$AP12,AT12<>$AP12,AU12<>$AP12,AV12<>$AP12,AW12<>$AP12,AY12<>$AP12,AX12<>$AP12),$AP12,\n\"\")))))))))))","v":""},{"$f":"IF(AZ12=\"\",\"\",\nIF(AND(AR12<>$AG12,AS12<>$AG12,AT12<>$AG12,AU12<>$AG12,AV12<>$AG12,AW12<>$AG12,AX12<>$AG12,AZ12<>$AG12,AY12<>$AG12),$AG12,\nIF(AND(AR12<>$AH12,AS12<>$AH12,AT12<>$AH12,AU12<>$AH12,AV12<>$AH12,AW12<>$AH12,AX12<>$AH12,AZ12<>$AH12,AY12<>$AH12),$AH12,\nIF(AND(AR12<>$AI12,AS12<>$AI12,AT12<>$AI12,AU12<>$AI12,AV12<>$AI12,AW12<>$AI12,AX12<>$AI12,AZ12<>$AI12,AY12<>$AI12),$AI12,\nIF(AND(AR12<>$AJ12,AS12<>$AJ12,AT12<>$AJ12,AU12<>$AJ12,AV12<>$AJ12,AW12<>$AJ12,AX12<>$AJ12,AZ12<>$AJ12,AY12<>$AJ12),$AJ12,\nIF(AND(AR12<>$AK12,AS12<>$AK12,AT12<>$AK12,AU12<>$AK12,AV12<>$AK12,AW12<>$AK12,AX12<>$AK12,AZ12<>$AK12,AY12<>$AK12),$AK12,\nIF(AND(AR12<>$AL12,AS12<>$AL12,AT12<>$AL12,AU12<>$AL12,AV12<>$AL12,AW12<>$AL12,AX12<>$AL12,AZ12<>$AL12,AY12<>$AL12),$AL12,\nIF(AND(AR12<>$AM12,AS12<>$AM12,AT12<>$AM12,AU12<>$AM12,AV12<>$AM12,AW12<>$AM12,AX12<>$AM12,AZ12<>$AM12,AY12<>$AM12),$AM12,\nIF(AND(AR12<>$AN12,AS12<>$AN12,AT12<>$AN12,AU12<>$AN12,AV12<>$AN12,AW12<>$AN12,AX12<>$AN12,AZ12<>$AN12,AY12<>$AN12),$AN12,\nIF(AND(AR12<>$AO12,AS12<>$AO12,AT12<>$AO12,AU12<>$AO12,AV12<>$AO12,AW12<>$AO12,AX12<>$AO12,AZ12<>$AO12,AY12<>$AO12),$AO12,\nIF(AND(AR12<>$AP12,AS12<>$AP12,AT12<>$AP12,AU12<>$AP12,AV12<>$AP12,AW12<>$AP12,AX12<>$AP12,AZ12<>$AP12,AY12<>$AP12),$AP12,\n\"\")))))))))))","v":""}]
[null,0,0,null,"711.500","Chéneau","",null,null,null,null,"711.500","Chéneau","Pce ",null,null,null,null,null,null,"E700_Metallarbeiten","x",null,"x",null,null,null,null,null,null,"x",null,"Pce","ml","ml","forf.","forf.","forf.","forf.","forf.","forf.","forf.",null,"Pce","ml","forf.","","","","","","",""]
[null,0,0,null,"711.600","Tôle perforée","",null,null,null,null,"711.600","Tôle perforée","Pce ",null,null,null,null,null,null,"E700_Metallarbeiten","x",null,"x",null,null,null,null,null,null,"x",null,"Pce","ml","ml","forf.","forf.","forf.","forf.","forf.","forf.","forf.",null,"Pce","ml","forf.","","","","","","",""]
[null,0,0,null,"711.700","Tôle pliée","",null,null,null,null,"711.700","Tôle pliée","Pce ",null,null,null,null,null,null,"E700_Metallarbeiten","x",null,"x",null,null,null,null,null,null,"x",null,"Pce","ml","ml","forf.","forf.","forf.","forf.","forf.","forf.","forf.",null,"Pce","ml","forf.","","","","","","",""]
[null,{"$f":"IF(OR(SUM(B17:B18)>0,O16=\"x\"),1,IF(ISNUMBER(O16),O16,0))","v":0},0,{"$f":"J16","v":"712.000"},null,{"$f":"K16 & IF(P16<>\"\",CHAR(10) & P16,\"\")","v":"Travaux de ferblanterie sur toits plats"},"",null,null,"712.000","Travaux de ferblanterie sur toits plats",null,null,"Pce ",null,null,null,null,null,null,"E700_Metallarbeiten","x",null,null,null,null,null,null,null,null,"x",null,"Pce","forf.","forf.","forf.","forf.","forf.","forf.","forf.","forf.","forf.",null,"Pce","forf.","","","","","","","",""]
[null,{"$f":"IF(O17=\"x\",1,IF(ISNUMBER(O17),O17,0))","v":0},0,null,{"$f":"L17","v":"712.100"},{"$f":"M17 & IF(P17<>\"\",CHAR(10) & P17,\"\")","v":"Garniture col de cygne"},"",null,null,null,null,"712.100","Garniture col de cygne","Pce ",null,null,null,null,null,null,"E700_Metallarbeiten","x",null,null,null,null,null,null,null,null,"x",null,"Pce","forf.","forf.","forf.","forf.","forf.","forf.","forf.","forf.","forf.",null,"Pce","forf.","","","","","","","",""]
[null,0,0,null,{"$f":"L18","v":"712.200"},"Coffret d’insertion de câbles dans le toit","",null,null,null,null,"712.200","Coffret d’insertion de câbles dans le toit","Pce ",null,null,null,null,null,null,"E700_Metallarbeiten","x",null,null,null,null,null,null,null,null,"x",null,"Pce","forf.","forf.","forf.","forf.","forf.","forf.","forf.","forf.","forf.",null,"Pce","forf.","","","","","","","",""]
[null,{"$f":"IF(OR(SUM(B20:B28)>0,O19=\"x\"),1,IF(ISNUMBER(O19),O19,0))","v":0},0,{"$f":"J19","v":"713.000"},null,{"$f":"K19 & IF(P19<>\"\",CHAR(10) & P19,\"\")","v":"Travaux de ferblanterie sur façades"},"",null,null,"713.000","Travaux de ferblanterie sur façades",null,null,"Pce ",null,null,null,null,null,null,"E700_Metallarbeiten","x",null,"x",null,null,null,null,null,null,"x",null,"Pce","ml","ml","forf.","forf.","forf.","forf.","forf.","forf.","forf.",null,"Pce","ml","forf.","","","","","","",""]
[null,{"$f":"IF(O20=\"x\",1,IF(ISNUMBER(O20),O20,0))","v":0},0,null,{"$f":"L20","v":"713.100"},{"$f":"M20 & IF(P20<>\"\",CHAR(10) & P20,\"\")","v":"Profilé d’angle"},"",null,null,null,null,"713.100","Profilé d’angle","Pce ",null,null,null,null,null,null,"E700_Metallarbeiten","x",null,"x",null,null,null,null,null,null,"x",null,"Pce","ml","ml","forf.","forf.","forf.","forf.","forf.","forf.","forf.",null,"Pce","ml","forf.","","","","","","",""]
[null,0,0,null,"713.200","Tôle d’ornement","",null,null,null,null,"713.200","Tôle d’ornement","Pce ",null,null,null,null,null,null,"E700_Metallarbeiten","x",null,"x",null,null,null,null,null,null,"x",null,"Pce","ml","ml","forf.","forf.","forf.","forf.","forf.","forf.","forf.",null,"Pce","ml","forf.","","","","","","",""]
[null,0,0,null,"713.300","Tôle bordure du toit/acrotère","",null,null,null,null,"713.300","Tôle bordure du toit/acrotère","Pce ",null,null,null,null,null,null,"E700_Metallarbeiten","x",null,"x",null,null,null,null,null,null,"x",null,"Pce","ml","ml","forf.","forf.","forf.","forf.","forf.","forf.","forf.",null,"Pce","ml","forf.","","","","","","",""]
[null,0,0,null,"713.400","Tôle de raccordement/protection de socle","",null,null,null,null,"713.400","Tôle de raccordement/protection de socle","Pce ",null,null,null,null,null,null,"E700_Metallarbeiten","x",null,"x",null,null,null,null,null,null,"x",null,"Pce","ml","ml","forf.","forf.","forf.","forf.","forf.","forf.","forf.",null,"Pce","ml","forf.","","","","","","",""]
[null,0,0,null,"713.500","Châssis","",null,null,null,null,"713.500","Châssis","Pce ",null,null,null,null,null,null,"E700_Metallarbeiten","x",null,"x",null,null,null,null,null,null,"x",null,"Pce","ml","ml","forf.","forf.","forf.","forf.","forf.","forf.","forf.",null,"Pce","ml","forf.","","","","","","",""]
[null,0,0,null,"713.600","Rebord de fenêtre","",null,null,null,null,"713.600","Rebord de fenêtre","Pce ",null,null,null,null,null,null,"E700_Metallarbeiten","x",null,"x",null,null,null,null,null,null,"x",null,"Pce","ml","ml","forf.","forf.","forf.","forf.","forf.","forf.","forf.",null,"Pce","ml","forf.","","","","","","",""]
[null,0,0,null,"713.700","Tôle perforée","",null,null,null,null,"713.700","Tôle perforée","Pce ",null,null,null,null,null,null,"E700_Metallarbeiten","x",null,"x",null,null,null,null,null,null,"x",null,"Pce","ml","ml","forf.","forf.","forf.","forf.","forf.","forf.","forf.",null,"Pce","ml","forf.","","","","","","",""]
[null,0,0,null,"713.800","Tôle pliée","",null,null,null,null,"713.800","Tôle pliée","Pce ",null,null,null,null,null,null,"E700_Metallarbeiten","x",null,"x",null,null,null,null,null,null,"x",null,"Pce","ml","ml","forf.","forf.","forf.","forf.","forf.","forf.","forf.",null,"Pce","ml","forf.","","","","","","",""]
[null,0,0,null,"713.900","Coupe-feu façade ventilée","",null,null,null,null,"713.900","Coupe-feu façade ventilée","Pce ",null,null,null,null,null,null,"E700_Metallarbeiten","x",null,"x",null,null,null,null,null,null,"x",null,"Pce","ml","ml","forf.","forf.","forf.","forf.","forf.","forf.","forf.",null,"Pce","ml","forf.","","","","","","",""]
[null,{"$f":"B6","v":0},0,null,null,null,"",null,null,null,null,null,null,null,null,null,null,null,null,null,null,null,null,null,null,null,null,null,null,null,null,null,"","","","","","","","","","",null,"","","","","","","","","",""]
[null,{"$f":"IF(O30=\"x\",1,IF(SUM(B31:B40)>0,1,0))","v":0},0,{"$f":"H30","v":"720.000"},null,{"$f":"I30","v":"Adaptations au niveau de toits en pente"},"","720.000","Adaptations au niveau de toits en pente",null,null,null,null,"forf.",null,null,null,null,null,null,null,null,null,null,null,null,null,null,null,null,"x",null,"forf.","forf.","forf.","forf.","forf.","forf.","forf.","forf.","forf.","forf.",null,"forf.","","","","","","","","",""]
[null,{"$f":"IF(OR(SUM(B32:B34)>0,O31=\"x\"),1,IF(ISNUMBER(O31),O31,0))","v":0},0,{"$f":"J31","v":"721.000"},null,{"$f":"K31 & IF(P31<>\"\",CHAR(10) & P31,\"\")","v":"Tuiles"},"",null,null,"721.000","Tuiles",null,null,"Pce ",null,null,null,null,null,null,"E700_Ziegel","x",null,null,"x",null,null,null,null,null,"x",null,"Pce","m2","m2","m2","forf.","forf.","forf.","forf.","forf.","forf.",null,"Pce","m2","forf.","","","","","","",""]
[null,{"$f":"IF(O32=\"x\",1,IF(ISNUMBER(O32),O32,0))","v":0},0,null,{"$f":"L32","v":"721.100"},{"$f":"M32 & IF(P32<>\"\",CHAR(10) & P32,\"\")","v":"Tuiles"},"",null,null,null,null,"721.100","Tuiles","Pce ",null,null,null,null,null,null,"E700_Ziegel","x",null,null,"x",null,null,null,null,null,"x",null,"Pce","m2","m2","m2","forf.","forf.","forf.","forf.","forf.","forf.",null,"Pce","m2","forf.","","","","","","",""]
[null,0,0,null,{"$f":"L33","v":"721.200"},"Tuiles faîtières","",null,null,null,null,"721.200","Tuiles faîtières","Pce ",null,null,null,null,null,null,"E700_Ziegel","x",null,null,"x",null,null,null,null,null,"x",null,"Pce","m2","m2","m2","forf.","forf.","forf.","forf.","forf.","forf.",null,"Pce","m2","forf.","","","","","","",""]
[null,0,0,null,{"$f":"L34","v":"721.300"},"Tuiles de rives","",null,null,null,null,"721.300","Tuiles de rives","Pce ",null,null,null,null,null,null,"E700_Ziegel","x",null,null,"x",null,null,null,null,null,"x",null,"Pce","m2","m2","m2","forf.","forf.","forf.","forf.","forf.","forf.",null,"Pce","m2","forf.","","","","","","",""]
[null,{"$f":"IF(O35=\"x\",1,IF(ISNUMBER(O35),O35,0))","v":0},0,{"$f":"J35","v":"722.000"},null,{"$f":"K35 & IF(P35<>\"\",CHAR(10) & P35,\"\")","v":"Tuiles en tôle"},"",null,null,"722.000","Tuiles en tôle",null,null,"Pce ",null,null,null,null,null,null,"E700_Ziegel","x",null,null,"x",null,null,null,null,null,"x",null,"Pce","m2","m2","m2","forf.","forf.","forf.","forf.","forf.","forf.",null,"Pce","m2","forf.","","","","","","",""]
[null,{"$f":"IF(O36=\"x\",1,IF(ISNUMBER(O36),O36,0))","v":0},0,{"$f":"J36","v":"723.000"},null,"Lattage pour installations intégrées à la toiture","",null,null,"723.000","Lattage pour installations intégrées à la toiture",null,null,"m²",null,null,null,null,null,null,"E700_Holz",null,null,null,"x",null,null,null,null,null,"x",null,"m2","m2","m2","m2","forf.","forf.","forf.","forf.","forf.","forf.",null,"m2","forf.","","","","","","","",""]
[null,0,0,"724.000",null,"Bois raboté","",null,null,"724.000","Bois raboté",null,null,"m²",null,null,null,null,null,null,"E700_Holz",null,null,null,"x",null,null,null,null,null,"x",null,"m2","m2","m2","m2","forf.","forf.","forf.","forf.","forf.","forf.",null,"m2","forf.","","","","","","","",""]
[null,0,0,"725.000",null,"Planche de coffrage 3 plis","",null,null,"725.000","Planche de coffrage 3 plis",null,null,"m²",null,null,null,null,null,null,"E700_Holz",null,null,null,"x",null,null,null,null,null,"x",null,"m2","m2","m2","m2","forf.","forf.","forf.","forf.","forf.","forf.",null,"m2","forf.","","","","","","","",""]
[null,0,0,"726.000",null,{"$f":"K39","v":"Pare neige"},"",null,null,"726.000","Pare neige",null,null,"Pce ",null,null,null,null,null,null,null,"x",null,null,"x",null,null,null,null,null,"x",null,"Pce","m2","m2","m2","forf.","forf.","forf.","forf.","forf.","forf.",null,"Pce","m2","forf.","","","","","","",""]
[null,0,0,"727.000",null,"Lucarne","",null,null,"727.000","Lucarne",null,null,"Pce ",null,null,null,null,null,null,null,"x",null,null,"x",null,null,null,null,null,"x",null,"Pce","m2","m2","m2","forf.","forf.","forf.","forf.","forf.","forf.",null,"Pce",{"$f":"IF(AR40=\"\",\"\",\nIF(AR40<>$AG40,$AG40,\nIF(AR40<>$AH40,$AH40,\nIF(AR40<>$AI40,$AI40,\nIF(AR40<>$AJ40,$AJ40,\nIF(AR40<>$AK40,$AK40,\nIF(AR40<>$AL40,$AL40,\nIF(AR40<>$AM40,$AM40,\nIF(AR40<>$AN40,$AN40,\nIF(AR40<>$AO40,$AO40,\nIF(AR40<>$AP40,$AP40,\n\"\")))))))))))","v":"m2"},"forf.","","","","","","",""]
[null,{"$f":"B30","v":0},0,null,null,null,"",null,null,null,null,null,null,null,null,null,null,null,null,null,null,null,null,null,null,null,null,null,null,null,null,null,"","","","","","","","","","",null,"","","","","","","","","",""]
[null,{"$f":"IF(O42=\"x\",1,IF(SUM(B43:B58)>0,1,0))","v":1},0,{"$f":"H42","v":"730.000"},null,{"$f":"I42","v":"Adaptations au niveau de toits plats"},"","730.000","Adaptations au niveau de toits plats",null,null,null,null,"forf.",null,null,null,null,null,null,null,null,null,null,null,null,null,null,null,null,"x",null,"forf.","forf.","forf.","forf.","forf.","forf.","forf.","forf.","forf.","forf.",null,"forf.","","","","","","","","",""]
[null,{"$f":"IF(OR(SUM(B44:B46)>0,O43=\"x\"),1,IF(ISNUMBER(O43),O43,0))","v":1},0,{"$f":"J43","v":"731.000"},null,{"$f":"K43","v":"Graviers"},"",null,null,"731.000","Graviers",null,null,"m²",null,null,null,null,null,null,null,null,null,null,"x",null,null,null,null,null,"x",null,"m2","m2","m2","m2","forf.","forf.","forf.","forf.","forf.","forf.",null,"m2","forf.","","","","","","","",""]
[null,{"$f":"IF(O44=\"x\",1,IF(ISNUMBER(O44),O44,0))","v":0},0,null,{"$f":"L44","v":"731.100"},{"$f":"M44","v":"Aspirer les graviers depuis la toiture et évacuer"},"",null,null,null,null,"731.100","Aspirer les graviers depuis la toiture et évacuer","m²",null,null,null,null,null,null,null,null,null,null,"x",null,null,null,null,null,"x",null,"m2","m2","m2","m2","forf.","forf.","forf.","forf.","forf.","forf.",null,"m2","forf.",{"$f":"IF(AS44=\"\",\"\",\nIF(AND(AS44<>$AG44,AR44<>$AG44),$AG44,\nIF(AND(AS44<>$AH44,AR44<>$AH44),$AH44,\nIF(AND(AS44<>$AI44,AR44<>$AI44),$AI44,\nIF(AND(AS44<>$AJ44,AR44<>$AJ44),$AJ44,\nIF(AND(AS44<>$AK44,AR44<>$AK44),$AK44,\nIF(AND(AS44<>$AL44,AR44<>$AL44),$AL44,\nIF(AND(AS44<>$AM44,AR44<>$AM44),$AM44,\nIF(AND(AS44<>$AN44,AR44<>$AN44),$AN44,\nIF(AND(AS44<>$AO44,AR44<>$AO44),$AO44,\nIF(AND(AS44<>$AP44,AR44<>$AP44),$AP44,\n\"\")))))))))))","v":""},{"$f":"IF(AT44=\"\",\"\",\nIF(AND(AR44<>$AG44,AT44<>$AG44,AS44<>$AG44),$AG44,\nIF(AND(AR44<>$AH44,AT44<>$AH44,AS44<>$AH44),$AH44,\nIF(AND(AR44<>$AI44,AT44<>$AI44,AS44<>$AI44),$AI44,\nIF(AND(AR44<>$AJ44,AT44<>$AJ44,AS44<>$AJ44),$AJ44,\nIF(AND(AR44<>$AK44,AT44<>$AK44,AS44<>$AK44),$AK44,\nIF(AND(AR44<>$AL44,AT44<>$AL44,AS44<>$AL44),$AL44,\nIF(AND(AR44<>$AM44,AT44<>$AM44,AS44<>$AM44),$AM44,\nIF(AND(AR44<>$AN44,AT44<>$AN44,AS44<>$AN44),$AN44,\nIF(AND(AR44<>$AO44,AT44<>$AO44,AS44<>$AO44),$AO44,\nIF(AND(AR44<>$AP44,AT44<>$AP44,AS44<>$AP44),$AP44,\n\"\")))))))))))","v":""},{"$f":"IF(AU44=\"\",\"\",\nIF(AND(AR44<>$AG44,AS44<>$AG44,AU44<>$AG44,AT44<>$AG44),$AG44,\nIF(AND(AR44<>$AH44,AS44<>$AH44,AU44<>$AH44,AT44<>$AH44),$AH44,\nIF(AND(AR44<>$AI44,AS44<>$AI44,AU44<>$AI44,AT44<>$AI44),$AI44,\nIF(AND(AR44<>$AJ44,AS44<>$AJ44,AU44<>$AJ44,AT44<>$AJ44),$AJ44,\nIF(AND(AR44<>$AK44,AS44<>$AK44,AU44<>$AK44,AT44<>$AK44),$AK44,\nIF(AND(AR44<>$AL44,AS44<>$AL44,AU44<>$AL44,AT44<>$AL44),$AL44,\nIF(AND(AR44<>$AM44,AS44<>$AM44,AU44<>$AM44,AT44<>$AM44),$AM44,\nIF(AND(AR44<>$AN44,AS44<>$AN44,AU44<>$AN44,AT44<>$AN44),$AN44,\nIF(AND(AR44<>$AO44,AS44<>$AO44,AU44<>$AO44,AT44<>$AO44),$AO44,\nIF(AND(AR44<>$AP44,AS44<>$AP44,AU44<>$AP44,AT44<>$AP44),$AP44,\n\"\")))))))))))","v":""},{"$f":"IF(AV44=\"\",\"\",\nIF(AND(AR44<>$AG44,AS44<>$AG44,AT44<>$AG44,AV44<>$AG44,AU44<>$AG44),$AG44,\nIF(AND(AR44<>$AH44,AS44<>$AH44,AT44<>$AH44,AV44<>$AH44,AU44<>$AH44),$AH44,\nIF(AND(AR44<>$AI44,AS44<>$AI44,AT44<>$AI44,AV44<>$AI44,AU44<>$AI44),$AI44,\nIF(AND(AR44<>$AJ44,AS44<>$AJ44,AT44<>$AJ44,AV44<>$AJ44,AU44<>$AJ44),$AJ44,\nIF(AND(AR44<>$AK44,AS44<>$AK44,AT44<>$AK44,AV44<>$AK44,AU44<>$AK44),$AK44,\nIF(AND(AR44<>$AL44,AS44<>$AL44,AT44<>$AL44,AV44<>$AL44,AU44<>$AL44),$AL44,\nIF(AND(AR44<>$AM44,AS44<>$AM44,AT44<>$AM44,AV44<>$AM44,AU44<>$AM44),$AM44,\nIF(AND(AR44<>$AN44,AS44<>$AN44,AT44<>$AN44,AV44<>$AN44,AU44<>$AN44),$AN44,\nIF(AND(AR44<>$AO44,AS44<>$AO44,AT44<>$AO44,AV44<>$AO44,AU44<>$AO44),$AO44,\nIF(AND(AR44<>$AP44,AS44<>$AP44,AT44<>$AP44,AV44<>$AP44,AU44<>$AP44),$AP44,\n\"\")))))))))))","v":""},{"$f":"IF(AW44=\"\",\"\",\nIF(AND(AR44<>$AG44,AS44<>$AG44,AT44<>$AG44,AU44<>$AG44,AW44<>$AG44,AV44<>$AG44),$AG44,\nIF(AND(AR44<>$AH44,AS44<>$AH44,AT44<>$AH44,AU44<>$AH44,AW44<>$AH44,AV44<>$AH44),$AH44,\nIF(AND(AR44<>$AI44,AS44<>$AI44,AT44<>$AI44,AU44<>$AI44,AW44<>$AI44,AV44<>$AI44),$AI44,\nIF(AND(AR44<>$AJ44,AS44<>$AJ44,AT44<>$AJ44,AU44<>$AJ44,AW44<>$AJ44,AV44<>$AJ44),$AJ44,\nIF(AND(AR44<>$AK44,AS44<>$AK44,AT44<>$AK44,AU44<>$AK44,AW44<>$AK44,AV44<>$AK44),$AK44,\nIF(AND(AR44<>$AL44,AS44<>$AL44,AT44<>$AL44,AU44<>$AL44,AW44<>$AL44,AV44<>$AL44),$AL44,\nIF(AND(AR44<>$AM44,AS44<>$AM44,AT44<>$AM44,AU44<>$AM44,AW44<>$AM44,AV44<>$AM44),$AM44,\nIF(AND(AR44<>$AN44,AS44<>$AN44,AT44<>$AN44,AU44<>$AN44,AW44<>$AN44,AV44<>$AN44),$AN44,\nIF(AND(AR44<>$AO44,AS44<>$AO44,AT44<>$AO44,AU44<>$AO44,AW44<>$AO44,AV44<>$AO44),$AO44,\nIF(AND(AR44<>$AP44,AS44<>$AP44,AT44<>$AP44,AU44<>$AP44,AW44<>$AP44,AV44<>$AP44),$AP44,\n\"\")))))))))))","v":""},{"$f":"IF(AX44=\"\",\"\",\nIF(AND(AR44<>$AG44,AS44<>$AG44,AT44<>$AG44,AU44<>$AG44,AV44<>$AG44,AX44<>$AG44,AW44<>$AG44),$AG44,\nIF(AND(AR44<>$AH44,AS44<>$AH44,AT44<>$AH44,AU44<>$AH44,AV44<>$AH44,AX44<>$AH44,AW44<>$AH44),$AH44,\nIF(AND(AR44<>$AI44,AS44<>$AI44,AT44<>$AI44,AU44<>$AI44,AV44<>$AI44,AX44<>$AI44,AW44<>$AI44),$AI44,\nIF(AND(AR44<>$AJ44,AS44<>$AJ44,AT44<>$AJ44,AU44<>$AJ44,AV44<>$AJ44,AX44<>$AJ44,AW44<>$AJ44),$AJ44,\nIF(AND(AR44<>$AK44,AS44<>$AK44,AT44<>$AK44,AU44<>$AK44,AV44<>$AK44,AX44<>$AK44,AW44<>$AK44),$AK44,\nIF(AND(AR44<>$AL44,AS44<>$AL44,AT44<>$AL44,AU44<>$AL44,AV44<>$AL44,AX44<>$AL44,AW44<>$AL44),$AL44,\nIF(AND(AR44<>$AM44,AS44<>$AM44,AT44<>$AM44,AU44<>$AM44,AV44<>$AM44,AX44<>$AM44,AW44<>$AM44),$AM44,\nIF(AND(AR44<>$AN44,AS44<>$AN44,AT44<>$AN44,AU44<>$AN44,AV44<>$AN44,AX44<>$AN44,AW44<>$AN44),$AN44,\nIF(AND(AR44<>$AO44,AS44<>$AO44,AT44<>$AO44,AU44<>$AO44,AV44<>$AO44,AX44<>$AO44,AW44<>$AO44),$AO44,\nIF(AND(AR44<>$AP44,AS44<>$AP44,AT44<>$AP44,AU44<>$AP44,AV44<>$AP44,AX44<>$AP44,AW44<>$AP44),$AP44,\n\"\")))))))))))","v":""},{"$f":"IF(AY44=\"\",\"\",\nIF(AND(AR44<>$AG44,AS44<>$AG44,AT44<>$AG44,AU44<>$AG44,AV44<>$AG44,AW44<>$AG44,AY44<>$AG44,AX44<>$AG44),$AG44,\nIF(AND(AR44<>$AH44,AS44<>$AH44,AT44<>$AH44,AU44<>$AH44,AV44<>$AH44,AW44<>$AH44,AY44<>$AH44,AX44<>$AH44),$AH44,\nIF(AND(AR44<>$AI44,AS44<>$AI44,AT44<>$AI44,AU44<>$AI44,AV44<>$AI44,AW44<>$AI44,AY44<>$AI44,AX44<>$AI44),$AI44,\nIF(AND(AR44<>$AJ44,AS44<>$AJ44,AT44<>$AJ44,AU44<>$AJ44,AV44<>$AJ44,AW44<>$AJ44,AY44<>$AJ44,AX44<>$AJ44),$AJ44,\nIF(AND(AR44<>$AK44,AS44<>$AK44,AT44<>$AK44,AU44<>$AK44,AV44<>$AK44,AW44<>$AK44,AY44<>$AK44,AX44<>$AK44),$AK44,\nIF(AND(AR44<>$AL44,AS44<>$AL44,AT44<>$AL44,AU44<>$AL44,AV44<>$AL44,AW44<>$AL44,AY44<>$AL44,AX44<>$AL44),$AL44,\nIF(AND(AR44<>$AM44,AS44<>$AM44,AT44<>$AM44,AU44<>$AM44,AV44<>$AM44,AW44<>$AM44,AY44<>$AM44,AX44<>$AM44),$AM44,\nIF(AND(AR44<>$AN44,AS44<>$AN44,AT44<>$AN44,AU44<>$AN44,AV44<>$AN44,AW44<>$AN44,AY44<>$AN44,AX44<>$AN44),$AN44,\nIF(AND(AR44<>$AO44,AS44<>$AO44,AT44<>$AO44,AU44<>$AO44,AV44<>$AO44,AW44<>$AO44,AY44<>$AO44,AX44<>$AO44),$AO44,\nIF(AND(AR44<>$AP44,AS44<>$AP44,AT44<>$AP44,AU44<>$AP44,AV44<>$AP44,AW44<>$AP44,AY44<>$AP44,AX44<>$AP44),$AP44,\n\"\")))))))))))","v":""},{"$f":"IF(AZ44=\"\",\"\",\nIF(AND(AR44<>$AG44,AS44<>$AG44,AT44<>$AG44,AU44<>$AG44,AV44<>$AG44,AW44<>$AG44,AX44<>$AG44,AZ44<>$AG44,AY44<>$AG44),$AG44,\nIF(AND(AR44<>$AH44,AS44<>$AH44,AT44<>$AH44,AU44<>$AH44,AV44<>$AH44,AW44<>$AH44,AX44<>$AH44,AZ44<>$AH44,AY44<>$AH44),$AH44,\nIF(AND(AR44<>$AI44,AS44<>$AI44,AT44<>$AI44,AU44<>$AI44,AV44<>$AI44,AW44<>$AI44,AX44<>$AI44,AZ44<>$AI44,AY44<>$AI44),$AI44,\nIF(AND(AR44<>$AJ44,AS44<>$AJ44,AT44<>$AJ44,AU44<>$AJ44,AV44<>$AJ44,AW44<>$AJ44,AX44<>$AJ44,AZ44<>$AJ44,AY44<>$AJ44),$AJ44,\nIF(AND(AR44<>$AK44,AS44<>$AK44,AT44<>$AK44,AU44<>$AK44,AV44<>$AK44,AW44<>$AK44,AX44<>$AK44,AZ44<>$AK44,AY44<>$AK44),$AK44,\nIF(AND(AR44<>$AL44,AS44<>$AL44,AT44<>$AL44,AU44<>$AL44,AV44<>$AL44,AW44<>$AL44,AX44<>$AL44,AZ44<>$AL44,AY44<>$AL44),$AL44,\nIF(AND(AR44<>$AM44,AS44<>$AM44,AT44<>$AM44,AU44<>$AM44,AV44<>$AM44,AW44<>$AM44,AX44<>$AM44,AZ44<>$AM44,AY44<>$AM44),$AM44,\nIF(AND(AR44<>$AN44,AS44<>$AN44,AT44<>$AN44,AU44<>$AN44,AV44<>$AN44,AW44<>$AN44,AX44<>$AN44,AZ44<>$AN44,AY44<>$AN44),$AN44,\nIF(AND(AR44<>$AO44,AS44<>$AO44,AT44<>$AO44,AU44<>$AO44,AV44<>$AO44,AW44<>$AO44,AX44<>$AO44,AZ44<>$AO44,AY44<>$AO44),$AO44,\nIF(AND(AR44<>$AP44,AS44<>$AP44,AT44<>$AP44,AU44<>$AP44,AV44<>$AP44,AW44<>$AP44,AX44<>$AP44,AZ44<>$AP44,AY44<>$AP44),$AP44,\n\"\")))))))))))","v":""}]
[null,0,0,null,{"$f":"L45","v":"731.200"},"Souffler les graviers sur la toiture","",null,null,null,null,"731.200","Souffler les graviers sur la toiture","m²",null,null,null,null,null,null,null,null,null,null,"x",null,null,null,null,null,"x",null,"m2","m2","m2","m2","forf.","forf.","forf.","forf.","forf.","forf.",null,"m2","forf.","","","","","","","",""]
[null,1,1,null,{"$f":"L46","v":"731.300"},"Déplacer les graviers manuellement","m²",null,null,null,null,"731.300","Déplacer les graviers manuellement","m²","x",null,null,null,null,null,null,null,null,null,"x",null,null,null,null,null,"x",null,"m2","m2","m2","m2","forf.","forf.","forf.","forf.","forf.","forf.",null,"m2","forf.","","","","","","","",""]
[null,{"$f":"IF(OR(SUM(B48:B51)>0,O47=\"x\"),1,IF(ISNUMBER(O47),O47,0))","v":0},0,{"$f":"J47","v":"732.000"},null,{"$f":"K47","v":"Végétation"},"",null,null,"732.000","Végétation",null,null,"m²",null,null,null,null,null,null,null,null,null,null,"x",null,null,null,null,null,"x",null,"m2","m2","m2","m2","forf.","forf.","forf.","forf.","forf.","forf.",null,"m2","forf.","","","","","","","",""]
[null,{"$f":"IF(O48=\"x\",1,IF(ISNUMBER(O48),O48,0))","v":0},0,null,{"$f":"L48","v":"732.100"},{"$f":"M48","v":"Aplanir / niveler le substrat (m²)"},"",null,null,null,null,"732.100","Aplanir / niveler le substrat (m²)","m²",null,null,null,null,null,null,null,null,null,null,"x",null,null,null,null,null,"x",null,"m2","m2","m2","m2","forf.","forf.","forf.","forf.","forf.","forf.",null,"m2","forf.","","","","","","","",""]
[null,0,0,null,{"$f":"L49","v":"732.200"},"Aspirer le substrat depuis la toiture et évacuer","",null,null,null,null,"732.200","Aspirer le substrat depuis la toiture et évacuer","m²",null,null,null,null,null,null,null,null,null,null,"x",null,null,null,null,null,"x",null,"m2","m2","m2","m2","forf.","forf.","forf.","forf.","forf.","forf.",null,"m2","forf.","","","","","","","",""]
[null,0,0,null,{"$f":"L50","v":"732.300"},"Souffler le substrat sur la toiture","",null,null,null,null,"732.300","Souffler le substrat sur la toiture","m²",null,null,null,null,null,null,null,null,null,null,"x",null,null,null,null,null,"x",null,"m2","m2","m2","m2","forf.","forf.","forf.","forf.","forf.","forf.",null,"m2","forf.","","","","","","","",""]
[null,0,0,null,{"$f":"L51","v":"732.400"},"Enlever les plantes et évacuer","",null,null,null,null,"732.400","Enlever les plantes et évacuer","m²",null,null,null,null,null,null,null,null,null,null,"x",null,null,null,null,null,"x",null,"m2","m2","m2","m2","forf.","forf.","forf.","forf.","forf.","forf.",null,"m2","forf.","","","","","","","",""]
[null,{"$f":"IF(O52=\"x\",1,IF(ISNUMBER(O52),O52,0))","v":1},1,{"$f":"J52","v":"733.000"},null,{"$f":"K52","v":"Dalles"},"forf.",null,null,"733.000","Dalles",null,null,"forf.","x",null,null,null,null,null,null,"x",null,null,"x",null,null,null,null,null,"x",null,"Pce","m2","m2","m2","forf.","forf.","forf.","forf.","forf.","forf.",null,"Pce","m2","forf.","","","","","","",""]
[null,{"$f":"IF(OR(SUM(B54:B56)>0,O53=\"x\"),1,IF(ISNUMBER(O53),O53,0))","v":1},0,{"$f":"J53","v":"734.000"},null,{"$f":"K53 & IF(P53<>\"\",CHAR(10) & P53,\"\")","v":"Couches protectrices"},"",null,null,"734.000","Couches protectrices",null,null,"m²",null,null,null,null,null,null,"E700_Schutzschichten",null,null,null,"x",null,null,null,null,null,"x",null,"m2","m2","m2","m2","forf.","forf.","forf.","forf.","forf.","forf.",null,"m2","forf.","","","","","","","",""]
[null,{"$f":"IF(O54=\"x\",1,IF(ISNUMBER(O54),O54,0))","v":1},1,null,{"$f":"L54","v":"734.100"},{"$f":"M54 & IF(P54<>\"\",CHAR(10) & P54,\"\")","v":"Non-tissé\nPropriétés : \nÉpaisseur (mm)"},"m²",null,null,null,null,"734.100","Non-tissé","m²","x","Propriétés : \nÉpaisseur (mm)",null,null,null,null,"E700_Schutzschichten",null,null,null,"x",null,null,null,null,null,"x",null,"m2","m2","m2","m2","forf.","forf.","forf.","forf.","forf.","forf.",null,"m2","forf.","","","","","","","",""]
[null,0,0,null,{"$f":"L55","v":"734.200"},"Granulés de caoutchouc","",null,null,null,null,"734.200","Granulés de caoutchouc","m²",null,null,null,null,null,null,"E700_Schutzschichten",null,null,null,"x",null,null,null,null,null,"x",null,"m2","m2","m2","m2","forf.","forf.","forf.","forf.","forf.","forf.",null,"m2","forf.","","","","","","","",""]
[null,0,0,null,{"$f":"L56","v":"734.300"},"Nattes de rétention","",null,null,null,null,"734.300","Nattes de rétention","m²",null,null,null,null,null,null,"E700_Schutzschichten",null,null,null,"x",null,null,null,null,null,"x",null,"m2","m2","m2","m2","forf.","forf.","forf.","forf.","forf.","forf.",null,"m2","forf.","","","","","","","",""]
[null,{"$f":"IF(O57=\"x\",1,IF(ISNUMBER(O57),O57,0))","v":0},0,{"$f":"J57","v":"735.000"},null,{"$f":"K57","v":"Démontage point d'ancrage unique (PAU), y compris travaux d’étanchéité"},"",null,null,"735.000","Démontage point d'ancrage unique (PAU), y compris travaux d’étanchéité",null,null,"Pce ",null,null,null,null,null,null,null,"x",null,null,null,null,null,null,null,null,"x",null,"Pce","forf.","forf.","forf.","forf.","forf.","forf.","forf.","forf.","forf.",null,"Pce","forf.","","","","","","","",""]
[null,0,0,"736.000",null,"Déformer les conduites de ventillation d'eaux usées","",null,null,"736.000","Déformer les conduites de ventillation d'eaux usées",null,null,"Pce ",null,null,null,null,null,null,null,"x",null,null,null,null,null,null,null,null,"x",null,"Pce","forf.","forf.","forf.","forf.","forf.","forf.","forf.","forf.","forf.",null,"Pce","forf.","","","","","","","",""]
[null,{"$f":"B42","v":1},0,null,null,null,"",null,null,null,null,null,null,null,null,null,null,null,null,null,null,null,null,null,null,null,null,null,null,null,null,null,"","","","","","","","","","",null,"","","","","","","","","",""]
[null,{"$f":"IF(O60=\"x\",1,IF(SUM(B61:B66)>0,1,0))","v":0},0,{"$f":"H60","v":"740.000"},null,{"$f":"I60","v":"Adaptations façades"},"","740.000","Adaptations façades",null,null,null,null,"forf.",null,null,null,null,null,null,null,null,null,null,null,null,null,null,null,null,"x",null,"forf.","forf.","forf.","forf.","forf.","forf.","forf.","forf.","forf.","forf.",null,"forf.","","","","","","","","",""]
[null,{"$f":"IF(O61=\"x\",1,IF(ISNUMBER(O61),O61,0))","v":0},0,{"$f":"J61","v":"741.000"},null,{"$f":"K61","v":"Sciage du béton"},"",null,null,"741.000","Sciage du béton",null,null,"ml",null,null,null,null,null,null,null,null,null,"x",null,null,null,null,null,null,"x",null,"ml","ml","ml","forf.","forf.","forf.","forf.","forf.","forf.","forf.",null,"ml","forf.","","","","","","","",""]
[null,0,0,"742.000",null,"Ajustement de la tôle sur site","",null,null,"742.000","Ajustement de la tôle sur site",null,null,"ml",null,null,null,null,null,null,null,null,null,"x",null,null,null,null,null,null,"x",null,"ml","ml","ml","forf.","forf.","forf.","forf.","forf.","forf.","forf.",null,"ml","forf.","","","","","","","",""]
[null,0,0,"743.000",null,"Crépi","",null,null,"743.000","Crépi",null,null,"m²",null,null,null,null,null,null,null,null,null,null,"x",null,null,null,null,null,"x",null,"m2","m2","m2","m2","forf.","forf.","forf.","forf.","forf.","forf.",null,"m2","forf.","","","","","","","",""]
[null,0,0,"744.000",null,"Planche","",null,null,"744.000","Planche",null,null,"ml",null,null,null,null,null,null,null,null,null,"x",null,null,null,null,null,null,"x",null,"ml","ml","ml","forf.","forf.","forf.","forf.","forf.","forf.","forf.",null,"ml","forf.","","","","","","","",""]
[null,0,0,"745.000",null,"Lattage","",null,null,"745.000","Lattage",null,null,"ml",null,null,null,null,null,null,null,null,null,"x",null,null,null,null,null,null,"x",null,"ml","ml","ml","forf.","forf.","forf.","forf.","forf.","forf.","forf.",null,"ml","forf.","","","","","","","",""]
[null,0,0,"746.000",null,{"$f":"K66 & IF(P66<>\"\",CHAR(10) & P66,\"\")","v":"Carottage"},"",null,null,"746.000","Carottage",null,null,"Pce ",null,null,null,null,null,null,"E700_Kernbohrung","x",null,null,null,null,null,null,null,null,null,null,"Pce","","","","","","","","","",null,"Pce","","","","","","","","",""]
[null,{"$f":"B60","v":0},0,null,null,null,"",null,null,null,null,null,null,null,null,null,null,null,null,null,null,null,null,null,null,null,null,null,null,null,null,null,"","","","","","","","","","",null,"","","","","","","","","",""]
[null,{"$f":"IF(O68=\"x\",1,IF(SUM(B69:B72)>0,1,0))","v":1},0,{"$f":"H68","v":"750.000"},null,{"$f":"I68","v":"Protection contre la foudre"},"","750.000","Protection contre la foudre",null,null,null,null,"forf.",null,null,null,null,null,null,null,null,null,null,null,null,null,null,null,null,"x",null,"forf.","forf.","forf.","forf.","forf.","forf.","forf.","forf.","forf.","forf.",null,"forf.","","","","","","","","",""]
[null,{"$f":"IF(O69=\"x\",1,IF(ISNUMBER(O69),O69,0))","v":0},0,{"$f":"J69","v":"751.000"},null,{"$f":"K69","v":"Démontage de la protection contre la foudre et évacuation"},"",null,null,"751.000","Démontage de la protection contre la foudre et évacuation",null,null,"ml",null,null,null,null,null,null,null,null,null,"x",null,null,null,null,null,null,"x",null,"ml","ml","ml","forf.","forf.","forf.","forf.","forf.","forf.","forf.",null,"ml","forf.","","","","","","","",""]
[null,0,0,"752.000",null,{"$f":"K70 & IF(P70<>\"\",CHAR(10) & P70,\"\")","v":"Protection contre la foudre toiture en pente"},"",null,null,"752.000","Protection contre la foudre toiture en pente",null,null,"ml",null,null,null,null,null,null,"E700_Blitzschutz_Steildach ",null,null,"x",null,null,null,null,null,null,"x",null,"ml","ml","ml","forf.","forf.","forf.","forf.","forf.","forf.","forf.",null,"ml",{"$f":"IF(AR70=\"\",\"\",\nIF(AR70<>$AG70,$AG70,\nIF(AR70<>$AH70,$AH70,\nIF(AR70<>$AI70,$AI70,\nIF(AR70<>$AJ70,$AJ70,\nIF(AR70<>$AK70,$AK70,\nIF(AR70<>$AL70,$AL70,\nIF(AR70<>$AM70,$AM70,\nIF(AR70<>$AN70,$AN70,\nIF(AR70<>$AO70,$AO70,\nIF(AR70<>$AP70,$AP70,\n\"\")))))))))))","v":"forf."},"","","","","","","",""]
[null,1,1,"753.000",null,"Protection contre la foudre toit plat","ml",null,null,"753.000","Protection contre la foudre toit plat",null,null,"ml","x",null,null,null,null,null,"E700_Blitzschutz_Flachdach",null,null,"x",null,null,null,null,null,null,"x",null,"ml","ml","ml","forf.","forf.","forf.","forf.","forf.","forf.","forf.",null,"ml","forf.","","","","","","","",""]
[null,0,0,"754.000",null,"Protection contre la foudre façade",{"$f":"IF(C72=1,N72,\"\")","v":""},null,null,"754.000","Protection contre la foudre façade",null,null,"ml",null,null,null,null,null,null,"E700_Blitzschutz_Fassade",null,null,"x",null,null,null,null,null,null,"x",null,{"$f":"\nIF(V72=\"x\",V$4,\nIF(W72=\"x\",W$4,\nIF(X72=\"x\",X$4,\nIF(Y72=\"x\",Y$4,\nIF(Z72=\"x\",Z$4,\nIF(AA72=\"x\",AA$4,\nIF(AB72=\"x\",AB$4,\nIF(AC72=\"x\",AC$4,\nIF(AD72=\"x\",AD$4,\nIF(AE72=\"x\",AE$4,\n\"\"))))))))))","v":"ml"},{"$f":"\nIF(W72=\"x\",W$4,\nIF(X72=\"x\",X$4,\nIF(Y72=\"x\",Y$4,\nIF(Z72=\"x\",Z$4,\nIF(AA72=\"x\",AA$4,\nIF(AB72=\"x\",AB$4,\nIF(AC72=\"x\",AC$4,\nIF(AD72=\"x\",AD$4,\nIF(AE72=\"x\",AE$4,\n\"\")))))))))","v":"ml"},{"$f":"\nIF(X72=\"x\",X$4,\nIF(Y72=\"x\",Y$4,\nIF(Z72=\"x\",Z$4,\nIF(AA72=\"x\",AA$4,\nIF(AB72=\"x\",AB$4,\nIF(AC72=\"x\",AC$4,\nIF(AD72=\"x\",AD$4,\nIF(AE72=\"x\",AE$4,\n\"\"))))))))","v":"ml"},{"$f":"\nIF(Y72=\"x\",Y$4,\nIF(Z72=\"x\",Z$4,\nIF(AA72=\"x\",AA$4,\nIF(AB72=\"x\",AB$4,\nIF(AC72=\"x\",AC$4,\nIF(AD72=\"x\",AD$4,\nIF(AE72=\"x\",AE$4,\n\"\")))))))","v":"forf."},{"$f":"\nIF(Z72=\"x\",Z$4,\nIF(AA72=\"x\",AA$4,\nIF(AB72=\"x\",AB$4,\nIF(AC72=\"x\",AC$4,\nIF(AD72=\"x\",AD$4,\nIF(AE72=\"x\",AE$4,\n\"\"))))))","v":"forf."},{"$f":"\nIF(AA72=\"x\",AA$4,\nIF(AB72=\"x\",AB$4,\nIF(AC72=\"x\",AC$4,\nIF(AD72=\"x\",AD$4,\nIF(AE72=\"x\",AE$4,\n\"\")))))","v":"forf."},{"$f":"\nIF(AB72=\"x\",AB$4,\nIF(AC72=\"x\",AC$4,\nIF(AD72=\"x\",AD$4,\nIF(AE72=\"x\",AE$4,\n\"\"))))","v":"forf."},{"$f":"\nIF(AC72=\"x\",AC$4,\nIF(AD72=\"x\",AD$4,\nIF(AE72=\"x\",AE$4,\n\"\")))","v":"forf."},{"$f":"\nIF(AD72=\"x\",AD$4,\nIF(AE72=\"x\",AE$4,\n\"\"))","v":"forf."},{"$f":"\nIF(AE72=\"x\",AE$4,\n\"\")","v":"forf."},null,{"$f":"AG72","v":"ml"},"forf.",{"$f":"IF(AS72=\"\",\"\",\nIF(AND(AS72<>$AG72,AR72<>$AG72),$AG72,\nIF(AND(AS72<>$AH72,AR72<>$AH72),$AH72,\nIF(AND(AS72<>$AI72,AR72<>$AI72),$AI72,\nIF(AND(AS72<>$AJ72,AR72<>$AJ72),$AJ72,\nIF(AND(AS72<>$AK72,AR72<>$AK72),$AK72,\nIF(AND(AS72<>$AL72,AR72<>$AL72),$AL72,\nIF(AND(AS72<>$AM72,AR72<>$AM72),$AM72,\nIF(AND(AS72<>$AN72,AR72<>$AN72),$AN72,\nIF(AND(AS72<>$AO72,AR72<>$AO72),$AO72,\nIF(AND(AS72<>$AP72,AR72<>$AP72),$AP72,\n\"\")))))))))))","v":""},{"$f":"IF(AT72=\"\",\"\",\nIF(AND(AR72<>$AG72,AT72<>$AG72,AS72<>$AG72),$AG72,\nIF(AND(AR72<>$AH72,AT72<>$AH72,AS72<>$AH72),$AH72,\nIF(AND(AR72<>$AI72,AT72<>$AI72,AS72<>$AI72),$AI72,\nIF(AND(AR72<>$AJ72,AT72<>$AJ72,AS72<>$AJ72),$AJ72,\nIF(AND(AR72<>$AK72,AT72<>$AK72,AS72<>$AK72),$AK72,\nIF(AND(AR72<>$AL72,AT72<>$AL72,AS72<>$AL72),$AL72,\nIF(AND(AR72<>$AM72,AT72<>$AM72,AS72<>$AM72),$AM72,\nIF(AND(AR72<>$AN72,AT72<>$AN72,AS72<>$AN72),$AN72,\nIF(AND(AR72<>$AO72,AT72<>$AO72,AS72<>$AO72),$AO72,\nIF(AND(AR72<>$AP72,AT72<>$AP72,AS72<>$AP72),$AP72,\n\"\")))))))))))","v":""},{"$f":"IF(AU72=\"\",\"\",\nIF(AND(AR72<>$AG72,AS72<>$AG72,AU72<>$AG72,AT72<>$AG72),$AG72,\nIF(AND(AR72<>$AH72,AS72<>$AH72,AU72<>$AH72,AT72<>$AH72),$AH72,\nIF(AND(AR72<>$AI72,AS72<>$AI72,AU72<>$AI72,AT72<>$AI72),$AI72,\nIF(AND(AR72<>$AJ72,AS72<>$AJ72,AU72<>$AJ72,AT72<>$AJ72),$AJ72,\nIF(AND(AR72<>$AK72,AS72<>$AK72,AU72<>$AK72,AT72<>$AK72),$AK72,\nIF(AND(AR72<>$AL72,AS72<>$AL72,AU72<>$AL72,AT72<>$AL72),$AL72,\nIF(AND(AR72<>$AM72,AS72<>$AM72,AU72<>$AM72,AT72<>$AM72),$AM72,\nIF(AND(AR72<>$AN72,AS72<>$AN72,AU72<>$AN72,AT72<>$AN72),$AN72,\nIF(AND(AR72<>$AO72,AS72<>$AO72,AU72<>$AO72,AT72<>$AO72),$AO72,\nIF(AND(AR72<>$AP72,AS72<>$AP72,AU72<>$AP72,AT72<>$AP72),$AP72,\n\"\")))))))))))","v":""},{"$f":"IF(AV72=\"\",\"\",\nIF(AND(AR72<>$AG72,AS72<>$AG72,AT72<>$AG72,AV72<>$AG72,AU72<>$AG72),$AG72,\nIF(AND(AR72<>$AH72,AS72<>$AH72,AT72<>$AH72,AV72<>$AH72,AU72<>$AH72),$AH72,\nIF(AND(AR72<>$AI72,AS72<>$AI72,AT72<>$AI72,AV72<>$AI72,AU72<>$AI72),$AI72,\nIF(AND(AR72<>$AJ72,AS72<>$AJ72,AT72<>$AJ72,AV72<>$AJ72,AU72<>$AJ72),$AJ72,\nIF(AND(AR72<>$AK72,AS72<>$AK72,AT72<>$AK72,AV72<>$AK72,AU72<>$AK72),$AK72,\nIF(AND(AR72<>$AL72,AS72<>$AL72,AT72<>$AL72,AV72<>$AL72,AU72<>$AL72),$AL72,\nIF(AND(AR72<>$AM72,AS72<>$AM72,AT72<>$AM72,AV72<>$AM72,AU72<>$AM72),$AM72,\nIF(AND(AR72<>$AN72,AS72<>$AN72,AT72<>$AN72,AV72<>$AN72,AU72<>$AN72),$AN72,\nIF(AND(AR72<>$AO72,AS72<>$AO72,AT72<>$AO72,AV72<>$AO72,AU72<>$AO72),$AO72,\nIF(AND(AR72<>$AP72,AS72<>$AP72,AT72<>$AP72,AV72<>$AP72,AU72<>$AP72),$AP72,\n\"\")))))))))))","v":""},{"$f":"IF(AW72=\"\",\"\",\nIF(AND(AR72<>$AG72,AS72<>$AG72,AT72<>$AG72,AU72<>$AG72,AW72<>$AG72,AV72<>$AG72),$AG72,\nIF(AND(AR72<>$AH72,AS72<>$AH72,AT72<>$AH72,AU72<>$AH72,AW72<>$AH72,AV72<>$AH72),$AH72,\nIF(AND(AR72<>$AI72,AS72<>$AI72,AT72<>$AI72,AU72<>$AI72,AW72<>$AI72,AV72<>$AI72),$AI72,\nIF(AND(AR72<>$AJ72,AS72<>$AJ72,AT72<>$AJ72,AU72<>$AJ72,AW72<>$AJ72,AV72<>$AJ72),$AJ72,\nIF(AND(AR72<>$AK72,AS72<>$AK72,AT72<>$AK72,AU72<>$AK72,AW72<>$AK72,AV72<>$AK72),$AK72,\nIF(AND(AR72<>$AL72,AS72<>$AL72,AT72<>$AL72,AU72<>$AL72,AW72<>$AL72,AV72<>$AL72),$AL72,\nIF(AND(AR72<>$AM72,AS72<>$AM72,AT72<>$AM72,AU72<>$AM72,AW72<>$AM72,AV72<>$AM72),$AM72,\nIF(AND(AR72<>$AN72,AS72<>$AN72,AT72<>$AN72,AU72<>$AN72,AW72<>$AN72,AV72<>$AN72),$AN72,\nIF(AND(AR72<>$AO72,AS72<>$AO72,AT72<>$AO72,AU72<>$AO72,AW72<>$AO72,AV72<>$AO72),$AO72,\nIF(AND(AR72<>$AP72,AS72<>$AP72,AT72<>$AP72,AU72<>$AP72,AW72<>$AP72,AV72<>$AP72),$AP72,\n\"\")))))))))))","v":""},{"$f":"IF(AX72=\"\",\"\",\nIF(AND(AR72<>$AG72,AS72<>$AG72,AT72<>$AG72,AU72<>$AG72,AV72<>$AG72,AX72<>$AG72,AW72<>$AG72),$AG72,\nIF(AND(AR72<>$AH72,AS72<>$AH72,AT72<>$AH72,AU72<>$AH72,AV72<>$AH72,AX72<>$AH72,AW72<>$AH72),$AH72,\nIF(AND(AR72<>$AI72,AS72<>$AI72,AT72<>$AI72,AU72<>$AI72,AV72<>$AI72,AX72<>$AI72,AW72<>$AI72),$AI72,\nIF(AND(AR72<>$AJ72,AS72<>$AJ72,AT72<>$AJ72,AU72<>$AJ72,AV72<>$AJ72,AX72<>$AJ72,AW72<>$AJ72),$AJ72,\nIF(AND(AR72<>$AK72,AS72<>$AK72,AT72<>$AK72,AU72<>$AK72,AV72<>$AK72,AX72<>$AK72,AW72<>$AK72),$AK72,\nIF(AND(AR72<>$AL72,AS72<>$AL72,AT72<>$AL72,AU72<>$AL72,AV72<>$AL72,AX72<>$AL72,AW72<>$AL72),$AL72,\nIF(AND(AR72<>$AM72,AS72<>$AM72,AT72<>$AM72,AU72<>$AM72,AV72<>$AM72,AX72<>$AM72,AW72<>$AM72),$AM72,\nIF(AND(AR72<>$AN72,AS72<>$AN72,AT72<>$AN72,AU72<>$AN72,AV72<>$AN72,AX72<>$AN72,AW72<>$AN72),$AN72,\nIF(AND(AR72<>$AO72,AS72<>$AO72,AT72<>$AO72,AU72<>$AO72,AV72<>$AO72,AX72<>$AO72,AW72<>$AO72),$AO72,\nIF(AND(AR72<>$AP72,AS72<>$AP72,AT72<>$AP72,AU72<>$AP72,AV72<>$AP72,AX72<>$AP72,AW72<>$AP72),$AP72,\n\"\")))))))))))","v":""},{"$f":"IF(AY72=\"\",\"\",\nIF(AND(AR72<>$AG72,AS72<>$AG72,AT72<>$AG72,AU72<>$AG72,AV72<>$AG72,AW72<>$AG72,AY72<>$AG72,AX72<>$AG72),$AG72,\nIF(AND(AR72<>$AH72,AS72<>$AH72,AT72<>$AH72,AU72<>$AH72,AV72<>$AH72,AW72<>$AH72,AY72<>$AH72,AX72<>$AH72),$AH72,\nIF(AND(AR72<>$AI72,AS72<>$AI72,AT72<>$AI72,AU72<>$AI72,AV72<>$AI72,AW72<>$AI72,AY72<>$AI72,AX72<>$AI72),$AI72,\nIF(AND(AR72<>$AJ72,AS72<>$AJ72,AT72<>$AJ72,AU72<>$AJ72,AV72<>$AJ72,AW72<>$AJ72,AY72<>$AJ72,AX72<>$AJ72),$AJ72,\nIF(AND(AR72<>$AK72,AS72<>$AK72,AT72<>$AK72,AU72<>$AK72,AV72<>$AK72,AW72<>$AK72,AY72<>$AK72,AX72<>$AK72),$AK72,\nIF(AND(AR72<>$AL72,AS72<>$AL72,AT72<>$AL72,AU72<>$AL72,AV72<>$AL72,AW72<>$AL72,AY72<>$AL72,AX72<>$AL72),$AL72,\nIF(AND(AR72<>$AM72,AS72<>$AM72,AT72<>$AM72,AU72<>$AM72,AV72<>$AM72,AW72<>$AM72,AY72<>$AM72,AX72<>$AM72),$AM72,\nIF(AND(AR72<>$AN72,AS72<>$AN72,AT72<>$AN72,AU72<>$AN72,AV72<>$AN72,AW72<>$AN72,AY72<>$AN72,AX72<>$AN72),$AN72,\nIF(AND(AR72<>$AO72,AS72<>$AO72,AT72<>$AO72,AU72<>$AO72,AV72<>$AO72,AW72<>$AO72,AY72<>$AO72,AX72<>$AO72),$AO72,\nIF(AND(AR72<>$AP72,AS72<>$AP72,AT72<>$AP72,AU72<>$AP72,AV72<>$AP72,AW72<>$AP72,AY72<>$AP72,AX72<>$AP72),$AP72,\n\"\")))))))))))","v":""},{"$f":"IF(AZ72=\"\",\"\",\nIF(AND(AR72<>$AG72,AS72<>$AG72,AT72<>$AG72,AU72<>$AG72,AV72<>$AG72,AW72<>$AG72,AX72<>$AG72,AZ72<>$AG72,AY72<>$AG72),$AG72,\nIF(AND(AR72<>$AH72,AS72<>$AH72,AT72<>$AH72,AU72<>$AH72,AV72<>$AH72,AW72<>$AH72,AX72<>$AH72,AZ72<>$AH72,AY72<>$AH72),$AH72,\nIF(AND(AR72<>$AI72,AS72<>$AI72,AT72<>$AI72,AU72<>$AI72,AV72<>$AI72,AW72<>$AI72,AX72<>$AI72,AZ72<>$AI72,AY72<>$AI72),$AI72,\nIF(AND(AR72<>$AJ72,AS72<>$AJ72,AT72<>$AJ72,AU72<>$AJ72,AV72<>$AJ72,AW72<>$AJ72,AX72<>$AJ72,AZ72<>$AJ72,AY72<>$AJ72),$AJ72,\nIF(AND(AR72<>$AK72,AS72<>$AK72,AT72<>$AK72,AU72<>$AK72,AV72<>$AK72,AW72<>$AK72,AX72<>$AK72,AZ72<>$AK72,AY72<>$AK72),$AK72,\nIF(AND(AR72<>$AL72,AS72<>$AL72,AT72<>$AL72,AU72<>$AL72,AV72<>$AL72,AW72<>$AL72,AX72<>$AL72,AZ72<>$AL72,AY72<>$AL72),$AL72,\nIF(AND(AR72<>$AM72,AS72<>$AM72,AT72<>$AM72,AU72<>$AM72,AV72<>$AM72,AW72<>$AM72,AX72<>$AM72,AZ72<>$AM72,AY72<>$AM72),$AM72,\nIF(AND(AR72<>$AN72,AS72<>$AN72,AT72<>$AN72,AU72<>$AN72,AV72<>$AN72,AW72<>$AN72,AX72<>$AN72,AZ72<>$AN72,AY72<>$AN72),$AN72,\nIF(AND(AR72<>$AO72,AS72<>$AO72,AT72<>$AO72,AU72<>$AO72,AV72<>$AO72,AW72<>$AO72,AX72<>$AO72,AZ72<>$AO72,AY72<>$AO72),$AO72,\nIF(AND(AR72<>$AP72,AS72<>$AP72,AT72<>$AP72,AU72<>$AP72,AV72<>$AP72,AW72<>$AP72,AX72<>$AP72,AZ72<>$AP72,AY72<>$AP72),$AP72,\n\"\")))))))))))","v":""}]
[null,{"$f":"B68","v":1},{"$f":"IF(O73=\"x\",1,IF(ISNUMBER(O73),1,0))","v":0},null,null,null,"",null,null,null,null,null,null,null,null,null,null,null,null,null,null,null,null,null,null,null,null,null,null,null,null,null,"","","","","","","","","","",null,"","","","","","","","","",""]
[null,{"$f":"IF(O74=\"x\",1,IF(SUM(B76:B87)>0,1,0))","v":1},0,{"$f":"H74","v":"760.000"},null,{"$f":"I74","v":"Travaux de serrurerie"},"","760.000","Travaux de serrurerie",null,null,null,null,"forf.",null,null,null,null,null,null,"E700_Metallarbeiten",null,null,null,null,null,null,null,null,null,"x",null,"forf.","forf.","forf.","forf.","forf.","forf.","forf.","forf.","forf.","forf.",null,"forf.","","","","","","","","",""]
[null,{"$f":"IF(F75=\"\",0,1)","v":0},0,null,null,{"$f":"IF(P74<>\"\",P74,\"\")","v":""},""]
[null,{"$f":"IF(OR(SUM(B77:B78)>0,O76=\"x\"),1,IF(ISNUMBER(O76),O76,0))","v":1},0,{"$f":"J76","v":"761.000"},null,{"$f":"K76 & IF(P76<>\"\",CHAR(10) & P76,\"\")","v":"Châssis de montage"},"",null,null,"761.000","Châssis de montage",null,null,"Pce ",null,null,null,null,null,null,"E700_Metallarbeiten","x",null,null,null,null,null,null,null,null,"x",null,"Pce","forf.","forf.","forf.","forf.","forf.","forf.","forf.","forf.","forf.",null,"Pce","forf.","","","","","","","",""]
[null,{"$f":"IF(O77=\"x\",1,IF(ISNUMBER(O77),O77,0))","v":0},0,null,{"$f":"L77","v":"761.100"},{"$f":"M77 & IF(P77<>\"\",CHAR(10) & P77,\"\")","v":"Châssis de montage mur"},"",null,null,null,null,"761.100","Châssis de montage mur","forf.",null,null,null,null,null,null,"E700_Metallarbeiten","x",null,null,null,null,null,null,null,null,"x",null,"Pce","forf.","forf.","forf.","forf.","forf.","forf.","forf.","forf.","forf.",null,"Pce","forf.","","","","","","","",""]
[null,1,1,null,{"$f":"L78","v":"761.200"},"Châssis de montage en pose libre et lesté","forf.",null,null,null,null,"761.200","Châssis de montage en pose libre et lesté","forf.","x",null,null,null,null,null,"E700_Metallarbeiten","x",null,null,null,null,null,null,null,null,"x",null,"Pce","forf.","forf.","forf.","forf.","forf.","forf.","forf.","forf.","forf.",null,"Pce","forf.","","","","","","","",""]
[null,{"$f":"IF(OR(SUM(B80:B82)>0,O79=\"x\"),1,IF(ISNUMBER(O79),O79,0))","v":1},1,{"$f":"J79","v":"762.000"},null,{"$f":"K79 & IF(P79<>\"\",CHAR(10) & P79,\"\")","v":"Protection contre les intempéries"},"forf.",null,null,"762.000","Protection contre les intempéries",null,null,"forf.","x",null,null,null,null,null,"E700_Metallarbeiten","x",null,null,null,null,null,null,null,null,"x",null,"Pce","forf.","forf.","forf.","forf.","forf.","forf.","forf.","forf.","forf.",null,"Pce","forf.","","","","","","","",""]
[null,{"$f":"IF(O80=\"x\",1,IF(ISNUMBER(O80),O80,0))","v":0},0,null,{"$f":"L80","v":"762.100"},{"$f":"M80 & IF(P80<>\"\",CHAR(10) & P80,\"\")","v":"Protection contre les intempéries grillagée, verrouillable"},"",null,null,null,null,"762.100","Protection contre les intempéries grillagée, verrouillable","Pce ",null,null,null,null,null,null,"E700_Metallarbeiten","x",null,null,null,null,null,null,null,null,"x",null,"Pce","forf.","forf.","forf.","forf.","forf.","forf.","forf.","forf.","forf.",null,"Pce","forf.","","","","","","","",""]
[null,0,0,null,{"$f":"L81","v":"762.200"},"Casquette de protection contre les intempéries","",null,null,null,null,"762.200","Casquette de protection contre les intempéries","Pce ",null,null,null,null,null,null,"E700_Metallarbeiten","x",null,null,null,null,null,null,null,null,"x",null,"Pce","forf.","forf.","forf.","forf.","forf.","forf.","forf.","forf.","forf.",null,"Pce","forf.","","","","","","","",""]
[null,0,0,null,{"$f":"L82","v":"762.300"},"Conteneur de protection contre les intempéries","",null,null,null,null,"762.300","Conteneur de protection contre les intempéries","Pce ",null,null,null,null,null,null,"E700_Metallarbeiten","x",null,null,null,null,null,null,null,null,"x",null,"Pce","forf.","forf.","forf.","forf.","forf.","forf.","forf.","forf.","forf.",null,"Pce","forf.","","","","","","","",""]
[null,{"$f":"IF(O83=\"x\",1,IF(ISNUMBER(O83),O83,0))","v":0},0,{"$f":"J83","v":"763.000"},null,{"$f":"K83 & IF(P83<>\"\",CHAR(10) & P83,\"\")","v":"Protection contre les contacts (protection contre le vandalisme)"},"",null,null,"763.000","Protection contre les contacts (protection contre le vandalisme)",null,null,"Pce ",null,null,null,null,null,null,"E700_Metallarbeiten","x",null,null,null,null,null,null,null,null,"x",null,"Pce","forf.","forf.","forf.","forf.","forf.","forf.","forf.","forf.","forf.",null,"Pce","forf.","","","","","","","",""]
[null,{"$f":"IF(O84=\"x\",1,IF(ISNUMBER(O84),O84,0))","v":0},0,{"$f":"J84","v":"764.000"},null,"Consoles spéciales","",null,null,"764.000","Consoles spéciales",null,null,"Pce ",null,null,null,null,null,null,"E700_Metallarbeiten","x",null,null,null,null,null,null,null,null,"x",null,"Pce","forf.","forf.","forf.","forf.","forf.","forf.","forf.","forf.","forf.",null,"Pce","forf.","","","","","","","",""]
[null,0,0,"765.000",null,"Tube carré soudé","",null,null,"765.000","Tube carré soudé",null,null,"Pce ",null,null,null,null,null,null,"E700_Metallarbeiten","x",null,null,null,null,null,null,null,null,"x",null,"Pce","forf.","forf.","forf.","forf.","forf.","forf.","forf.","forf.","forf.",null,"Pce","forf.","","","","","","","",""]
[null,0,0,"766.000",null,"Tôle","",null,null,"766.000","Tôle",null,null,"Pce ",null,null,null,null,null,null,"E700_Metallarbeiten","x",null,null,null,null,null,null,null,null,"x",null,"Pce","forf.","forf.","forf.","forf.","forf.","forf.","forf.","forf.","forf.",null,"Pce","forf.","","","","","","","",""]
[null,0,0,"767.000",null,"Tôle pliée","",null,null,"767.000","Tôle pliée",null,null,"Pce ",null,null,null,null,null,null,"E700_Metallarbeiten","x",null,null,null,null,null,null,null,null,"x",null,"Pce","forf.","forf.","forf.","forf.","forf.","forf.","forf.","forf.","forf.",null,"Pce","forf.","","","","","","","",""]
[null,{"$f":"B74","v":1},0,null,null,null,"",null,null,null,null,null,null,null,null,null,null,null,null,null,null,null,null,null,null,null,null,null,null,null,null,null,"","","","","","","","","","",null,"","","","","","","","","",""]
[null,{"$f":"IF(O89=\"x\",1,IF(SUM(B90:B93)>0,1,0))","v":1},0,{"$f":"H89","v":"770.000"},null,{"$f":"I89","v":"Percements/carottages"},"","770.000","Percements/carottages",null,null,null,null,"forf.",null,null,null,null,null,null,null,null,null,null,null,null,null,null,null,null,"x",null,"forf.","forf.","forf.","forf.","forf.","forf.","forf.","forf.","forf.","forf.",null,"forf.","","","","","","","","",""]
[null,{"$f":"IF(O90=\"x\",1,IF(ISNUMBER(O90),O90,0))","v":1},1,{"$f":"J90","v":"771.000"},null,{"$f":"K90 & IF(P90<>\"\",CHAR(10) & P90,\"\")","v":"Carottage "},"Pce ",null,null,"771.000","Carottage ",null,null,"Pce ","x",null,null,null,null,null,"E700_Kernbohrung","x",null,null,null,null,null,null,null,null,"x",null,"Pce","forf.","forf.","forf.","forf.","forf.","forf.","forf.","forf.","forf.",null,"Pce","forf.","","","","","","","",""]
[null,0,0,"772.000",null,{"$f":"K91","v":"Fraisage"},"",null,null,"772.000","Fraisage",null,null,"Pce ",null,null,null,null,null,null,null,"x",null,null,null,null,null,null,null,null,"x",null,"Pce","forf.","forf.","forf.","forf.","forf.","forf.","forf.","forf.","forf.",null,"Pce","forf.","","","","","","","",""]
[null,0,0,"773.000",null,{"$f":"K92 & IF(P92<>\"\",CHAR(10) & P92,\"\")","v":"Joints d’étanchéité"},"",null,null,"773.000","Joints d’étanchéité",null,null,"Pce ",null,null,null,null,null,null,"E700_Abdichtungen","x",null,null,null,null,null,null,null,null,"x",null,"Pce","forf.","forf.","forf.","forf.","forf.","forf.","forf.","forf.","forf.",null,"Pce","forf.","","","","","","","",""]
[null,1,1,"774.000",null,"Fermer la cloison coupe-feu","Pce ",null,null,"774.000","Fermer la cloison coupe-feu",null,null,"Pce ","x",null,null,null,null,null,null,"x",null,null,null,null,null,null,null,null,"x",null,"Pce","forf.","forf.","forf.","forf.","forf.","forf.","forf.","forf.","forf.",null,"Pce","forf.","","","","","","","",""]
[null,{"$f":"B89","v":1},0,null,null,null,"",null,null,null,null,null,null,null,null,null,null,null,null,null,null,null,null,null,null,null,null,null,null,null,null,null,"","","","","","","","","","",null,"","","","","","","","","",""]
[null,{"$f":"IF(O95=\"x\",1,IF(SUM(B96:B100)>0,1,0))","v":0},0,{"$f":"H95","v":"780.000"},null,{"$f":"I95","v":"Revêtements/capots"},"","780.000","Revêtements/capots",null,null,null,null,"forf.",null,null,null,null,null,null,null,null,null,null,null,null,null,null,null,null,"x",null,"forf.","forf.","forf.","forf.","forf.","forf.","forf.","forf.","forf.","forf.",null,"forf.","","","","","","","","",""]
[null,{"$f":"IF(O96=\"x\",1,IF(ISNUMBER(O96),O96,0))","v":0},0,{"$f":"J96","v":"781.000"},null,{"$f":"K96","v":"Plaque de plâtre fibrée"},"",null,null,"781.000","Plaque de plâtre fibrée",null,null,"Pce ",null,null,null,null,null,null,null,"x",null,null,"x",null,null,null,null,null,null,null,"Pce","m2","m2","m2","","","","","","",null,"Pce","m2","","","","","","","",""]
[null,0,0,"782.000",null,"Bois verni","",null,null,"782.000","Bois verni",null,null,"Pce ",null,null,null,null,null,null,null,"x",null,null,"x",null,null,null,null,null,null,null,"Pce","m2","m2","m2","","","","","","",null,"Pce","m2","","","","","","","",""]
[null,0,0,"783.000",null,"Bois naturel","",null,null,"783.000","Bois naturel",null,null,"Pce ",null,null,null,null,null,null,null,"x",null,null,"x",null,null,null,null,null,null,null,"Pce","m2","m2","m2","","","","","","",null,"Pce","m2","","","","","","","",""]
[null,0,0,"784.000",null,{"$f":"K99 & IF(P99<>\"\",CHAR(10) & P99,\"\")","v":"Tôle"},"",null,null,"784.000","Tôle",null,null,"Pce ",null,null,null,null,null,null,"E700_Bleche","x",null,null,"x",null,null,null,null,null,null,null,"Pce","m2","m2","m2","","","","","","",null,"Pce","m2","","","","","","","",""]
[null,0,0,"785.000",null,"Plaque de fibrociment","",null,null,"785.000","Plaque de fibrociment",null,null,"Pce ",null,null,null,null,null,null,null,"x",null,null,"x",null,null,null,null,null,null,null,"Pce","m2","m2","m2","","","","","","",null,"Pce","m2","","","","","","","",""]
[null,{"$f":"B95","v":0},0]

{"sheet":"800 Prestations","index":10,"n_rows":39,"n_cols":53,"rows_kept":39,"cut":false,"hidden":false,"merged":[[0,20,0,52],[1,7,1,8],[3,7,3,8],[3,9,3,10],[3,11,3,12],[2,7,2,12]]}
[null,null,null,null,null,null,null,null,null,null,null,null,null,null,null,null,null,null,null,null,"AUSBLENDEN"]
[null,null,null,null,null,"Ausblenden",null,"Niveau de structure 1 :",null,800,"Prestations"]
[null,null,null,null,null,null,null,"Optionnel"]
[null,"Show","Fill","SOQ-Nr.",null,"Beschreibung","Einheit","Niveau de structure 2",null,"Niveau de structure 3",null,"Niveau de structure 4",null,"Unité de prestation","Ajouter une position","E-Box",null,null,null,null,"E-Box","Pce","Module","ml","m2","m3","h","mois","a","kWp","forf.",null,"Pos1","Pos2","Pos3","Pos4","Pos5","Pos6","Pos7","Pos8","Pos9","Pos10",null,"Pos1","Pos2","Pos3","Pos4","Pos5","Pos6","Pos7","Pos8","Pos9","Pos10"]
[]
[null,{"$f":"IF(Q6=\"x\",1,IF(SUM(B7:B24)>0,1,0))","v":1},{"$f":"IF(O6=\"x\",1,IF(ISNUMBER(O6),1,0))","v":0},{"$f":"H6","v":"810.000"},null,{"$f":"I6","v":"Maintenance"},{"$f":"IF(C6=1,N6,\"\")","v":""},"810.000","Maintenance",null,null,null,null,"forf.",null,null,null,null,null,null,null,null,null,null,null,null,null,null,null,null,"x",null,{"$f":"\nIF(V6=\"x\",V$4,\nIF(W6=\"x\",W$4,\nIF(X6=\"x\",X$4,\nIF(Y6=\"x\",Y$4,\nIF(Z6=\"x\",Z$4,\nIF(AA6=\"x\",AA$4,\nIF(AB6=\"x\",AB$4,\nIF(AC6=\"x\",AC$4,\nIF(AD6=\"x\",AD$4,\nIF(AE6=\"x\",AE$4,\n\"\"))))))))))","v":"forf."},{"$f":"\nIF(W6=\"x\",W$4,\nIF(X6=\"x\",X$4,\nIF(Y6=\"x\",Y$4,\nIF(Z6=\"x\",Z$4,\nIF(AA6=\"x\",AA$4,\nIF(AB6=\"x\",AB$4,\nIF(AC6=\"x\",AC$4,\nIF(AD6=\"x\",AD$4,\nIF(AE6=\"x\",AE$4,\n\"\")))))))))","v":"forf."},{"$f":"\nIF(X6=\"x\",X$4,\nIF(Y6=\"x\",Y$4,\nIF(Z6=\"x\",Z$4,\nIF(AA6=\"x\",AA$4,\nIF(AB6=\"x\",AB$4,\nIF(AC6=\"x\",AC$4,\nIF(AD6=\"x\",AD$4,\nIF(AE6=\"x\",AE$4,\n\"\"))))))))","v":"forf."},{"$f":"\nIF(Y6=\"x\",Y$4,\nIF(Z6=\"x\",Z$4,\nIF(AA6=\"x\",AA$4,\nIF(AB6=\"x\",AB$4,\nIF(AC6=\"x\",AC$4,\nIF(AD6=\"x\",AD$4,\nIF(AE6=\"x\",AE$4,\n\"\")))))))","v":"forf."},{"$f":"\nIF(Z6=\"x\",Z$4,\nIF(AA6=\"x\",AA$4,\nIF(AB6=\"x\",AB$4,\nIF(AC6=\"x\",AC$4,\nIF(AD6=\"x\",AD$4,\nIF(AE6=\"x\",AE$4,\n\"\"))))))","v":"forf."},{"$f":"\nIF(AA6=\"x\",AA$4,\nIF(AB6=\"x\",AB$4,\nIF(AC6=\"x\",AC$4,\nIF(AD6=\"x\",AD$4,\nIF(AE6=\"x\",AE$4,\n\"\")))))","v":"forf."},{"$f":"\nIF(AB6=\"x\",AB$4,\nIF(AC6=\"x\",AC$4,\nIF(AD6=\"x\",AD$4,\nIF(AE6=\"x\",AE$4,\n\"\"))))","v":"forf."},{"$f":"\nIF(AC6=\"x\",AC$4,\nIF(AD6=\"x\",AD$4,\nIF(AE6=\"x\",AE$4,\n\"\")))","v":"forf."},{"$f":"\nIF(AD6=\"x\",AD$4,\nIF(AE6=\"x\",AE$4,\n\"\"))","v":"forf."},{"$f":"\nIF(AE6=\"x\",AE$4,\n\"\")","v":"forf."},null,{"$f":"AG6","v":"forf."},{"$f":"IF(AR6=\"\",\"\",\nIF(AR6<>$AG6,$AG6,\nIF(AR6<>$AH6,$AH6,\nIF(AR6<>$AI6,$AI6,\nIF(AR6<>$AJ6,$AJ6,\nIF(AR6<>$AK6,$AK6,\nIF(AR6<>$AL6,$AL6,\nIF(AR6<>$AM6,$AM6,\nIF(AR6<>$AN6,$AN6,\nIF(AR6<>$AO6,$AO6,\nIF(AR6<>$AP6,$AP6,\n\"\")))))))))))","v":""},{"$f":"IF(AS6=\"\",\"\",\nIF(AND(AS6<>$AG6,AR6<>$AG6),$AG6,\nIF(AND(AS6<>$AH6,AR6<>$AH6),$AH6,\nIF(AND(AS6<>$AI6,AR6<>$AI6),$AI6,\nIF(AND(AS6<>$AJ6,AR6<>$AJ6),$AJ6,\nIF(AND(AS6<>$AK6,AR6<>$AK6),$AK6,\nIF(AND(AS6<>$AL6,AR6<>$AL6),$AL6,\nIF(AND(AS6<>$AM6,AR6<>$AM6),$AM6,\nIF(AND(AS6<>$AN6,AR6<>$AN6),$AN6,\nIF(AND(AS6<>$AO6,AR6<>$AO6),$AO6,\nIF(AND(AS6<>$AP6,AR6<>$AP6),$AP6,\n\"\")))))))))))","v":""},{"$f":"IF(AT6=\"\",\"\",\nIF(AND(AR6<>$AG6,AT6<>$AG6,AS6<>$AG6),$AG6,\nIF(AND(AR6<>$AH6,AT6<>$AH6,AS6<>$AH6),$AH6,\nIF(AND(AR6<>$AI6,AT6<>$AI6,AS6<>$AI6),$AI6,\nIF(AND(AR6<>$AJ6,AT6<>$AJ6,AS6<>$AJ6),$AJ6,\nIF(AND(AR6<>$AK6,AT6<>$AK6,AS6<>$AK6),$AK6,\nIF(AND(AR6<>$AL6,AT6<>$AL6,AS6<>$AL6),$AL6,\nIF(AND(AR6<>$AM6,AT6<>$AM6,AS6<>$AM6),$AM6,\nIF(AND(AR6<>$AN6,AT6<>$AN6,AS6<>$AN6),$AN6,\nIF(AND(AR6<>$AO6,AT6<>$AO6,AS6<>$AO6),$AO6,\nIF(AND(AR6<>$AP6,AT6<>$AP6,AS6<>$AP6),$AP6,\n\"\")))))))))))","v":""},{"$f":"IF(AU6=\"\",\"\",\nIF(AND(AR6<>$AG6,AS6<>$AG6,AU6<>$AG6,AT6<>$AG6),$AG6,\nIF(AND(AR6<>$AH6,AS6<>$AH6,AU6<>$AH6,AT6<>$AH6),$AH6,\nIF(AND(AR6<>$AI6,AS6<>$AI6,AU6<>$AI6,AT6<>$AI6),$AI6,\nIF(AND(AR6<>$AJ6,AS6<>$AJ6,AU6<>$AJ6,AT6<>$AJ6),$AJ6,\nIF(AND(AR6<>$AK6,AS6<>$AK6,AU6<>$AK6,AT6<>$AK6),$AK6,\nIF(AND(AR6<>$AL6,AS6<>$AL6,AU6<>$AL6,AT6<>$AL6),$AL6,\nIF(AND(AR6<>$AM6,AS6<>$AM6,AU6<>$AM6,AT6<>$AM6),$AM6,\nIF(AND(AR6<>$AN6,AS6<>$AN6,AU6<>$AN6,AT6<>$AN6),$AN6,\nIF(AND(AR6<>$AO6,AS6<>$AO6,AU6<>$AO6,AT6<>$AO6),$AO6,\nIF(AND(AR6<>$AP6,AS6<>$AP6,AU6<>$AP6,AT6<>$AP6),$AP6,\n\"\")))))))))))","v":""},{"$f":"IF(AV6=\"\",\"\",\nIF(AND(AR6<>$AG6,AS6<>$AG6,AT6<>$AG6,AV6<>$AG6,AU6<>$AG6),$AG6,\nIF(AND(AR6<>$AH6,AS6<>$AH6,AT6<>$AH6,AV6<>$AH6,AU6<>$AH6),$AH6,\nIF(AND(AR6<>$AI6,AS6<>$AI6,AT6<>$AI6,AV6<>$AI6,AU6<>$AI6),$AI6,\nIF(AND(AR6<>$AJ6,AS6<>$AJ6,AT6<>$AJ6,AV6<>$AJ6,AU6<>$AJ6),$AJ6,\nIF(AND(AR6<>$AK6,AS6<>$AK6,AT6<>$AK6,AV6<>$AK6,AU6<>$AK6),$AK6,\nIF(AND(AR6<>$AL6,AS6<>$AL6,AT6<>$AL6,AV6<>$AL6,AU6<>$AL6),$AL6,\nIF(AND(AR6<>$AM6,AS6<>$AM6,AT6<>$AM6,AV6<>$AM6,AU6<>$AM6),$AM6,\nIF(AND(AR6<>$AN6,AS6<>$AN6,AT6<>$AN6,AV6<>$AN6,AU6<>$AN6),$AN6,\nIF(AND(AR6<>$AO6,AS6<>$AO6,AT6<>$AO6,AV6<>$AO6,AU6<>$AO6),$AO6,\nIF(AND(AR6<>$AP6,AS6<>$AP6,AT6<>$AP6,AV6<>$AP6,AU6<>$AP6),$AP6,\n\"\")))))))))))","v":""},{"$f":"IF(AW6=\"\",\"\",\nIF(AND(AR6<>$AG6,AS6<>$AG6,AT6<>$AG6,AU6<>$AG6,AW6<>$AG6,AV6<>$AG6),$AG6,\nIF(AND(AR6<>$AH6,AS6<>$AH6,AT6<>$AH6,AU6<>$AH6,AW6<>$AH6,AV6<>$AH6),$AH6,\nIF(AND(AR6<>$AI6,AS6<>$AI6,AT6<>$AI6,AU6<>$AI6,AW6<>$AI6,AV6<>$AI6),$AI6,\nIF(AND(AR6<>$AJ6,AS6<>$AJ6,AT6<>$AJ6,AU6<>$AJ6,AW6<>$AJ6,AV6<>$AJ6),$AJ6,\nIF(AND(AR6<>$AK6,AS6<>$AK6,AT6<>$AK6,AU6<>$AK6,AW6<>$AK6,AV6<>$AK6),$AK6,\nIF(AND(AR6<>$AL6,AS6<>$AL6,AT6<>$AL6,AU6<>$AL6,AW6<>$AL6,AV6<>$AL6),$AL6,\nIF(AND(AR6<>$AM6,AS6<>$AM6,AT6<>$AM6,AU6<>$AM6,AW6<>$AM6,AV6<>$AM6),$AM6,\nIF(AND(AR6<>$AN6,AS6<>$AN6,AT6<>$AN6,AU6<>$AN6,AW6<>$AN6,AV6<>$AN6),$AN6,\nIF(AND(AR6<>$AO6,AS6<>$AO6,AT6<>$AO6,AU6<>$AO6,AW6<>$AO6,AV6<>$AO6),$AO6,\nIF(AND(AR6<>$AP6,AS6<>$AP6,AT6<>$AP6,AU6<>$AP6,AW6<>$AP6,AV6<>$AP6),$AP6,\n\"\")))))))))))","v":""},{"$f":"IF(AX6=\"\",\"\",\nIF(AND(AR6<>$AG6,AS6<>$AG6,AT6<>$AG6,AU6<>$AG6,AV6<>$AG6,AX6<>$AG6,AW6<>$AG6),$AG6,\nIF(AND(AR6<>$AH6,AS6<>$AH6,AT6<>$AH6,AU6<>$AH6,AV6<>$AH6,AX6<>$AH6,AW6<>$AH6),$AH6,\nIF(AND(AR6<>$AI6,AS6<>$AI6,AT6<>$AI6,AU6<>$AI6,AV6<>$AI6,AX6<>$AI6,AW6<>$AI6),$AI6,\nIF(AND(AR6<>$AJ6,AS6<>$AJ6,AT6<>$AJ6,AU6<>$AJ6,AV6<>$AJ6,AX6<>$AJ6,AW6<>$AJ6),$AJ6,\nIF(AND(AR6<>$AK6,AS6<>$AK6,AT6<>$AK6,AU6<>$AK6,AV6<>$AK6,AX6<>$AK6,AW6<>$AK6),$AK6,\nIF(AND(AR6<>$AL6,AS6<>$AL6,AT6<>$AL6,AU6<>$AL6,AV6<>$AL6,AX6<>$AL6,AW6<>$AL6),$AL6,\nIF(AND(AR6<>$AM6,AS6<>$AM6,AT6<>$AM6,AU6<>$AM6,AV6<>$AM6,AX6<>$AM6,AW6<>$AM6),$AM6,\nIF(AND(AR6<>$AN6,AS6<>$AN6,AT6<>$AN6,AU6<>$AN6,AV6<>$AN6,AX6<>$AN6,AW6<>$AN6),$AN6,\nIF(AND(AR6<>$AO6,AS6<>$AO6,AT6<>$AO6,AU6<>$AO6,AV6<>$AO6,AX6<>$AO6,AW6<>$AO6),$AO6,\nIF(AND(AR6<>$AP6,AS6<>$AP6,AT6<>$AP6,AU6<>$AP6,AV6<>$AP6,AX6<>$AP6,AW6<>$AP6),$AP6,\n\"\")))))))))))","v":""},{"$f":"IF(AY6=\"\",\"\",\nIF(AND(AR6<>$AG6,AS6<>$AG6,AT6<>$AG6,AU6<>$AG6,AV6<>$AG6,AW6<>$AG6,AY6<>$AG6,AX6<>$AG6),$AG6,\nIF(AND(AR6<>$AH6,AS6<>$AH6,AT6<>$AH6,AU6<>$AH6,AV6<>$AH6,AW6<>$AH6,AY6<>$AH6,AX6<>$AH6),$AH6,\nIF(AND(AR6<>$AI6,AS6<>$AI6,AT6<>$AI6,AU6<>$AI6,AV6<>$AI6,AW6<>$AI6,AY6<>$AI6,AX6<>$AI6),$AI6,\nIF(AND(AR6<>$AJ6,AS6<>$AJ6,AT6<>$AJ6,AU6<>$AJ6,AV6<>$AJ6,AW6<>$AJ6,AY6<>$AJ6,AX6<>$AJ6),$AJ6,\nIF(AND(AR6<>$AK6,AS6<>$AK6,AT6<>$AK6,AU6<>$AK6,AV6<>$AK6,AW6<>$AK6,AY6<>$AK6,AX6<>$AK6),$AK6,\nIF(AND(AR6<>$AL6,AS6<>$AL6,AT6<>$AL6,AU6<>$AL6,AV6<>$AL6,AW6<>$AL6,AY6<>$AL6,AX6<>$AL6),$AL6,\nIF(AND(AR6<>$AM6,AS6<>$AM6,AT6<>$AM6,AU6<>$AM6,AV6<>$AM6,AW6<>$AM6,AY6<>$AM6,AX6<>$AM6),$AM6,\nIF(AND(AR6<>$AN6,AS6<>$AN6,AT6<>$AN6,AU6<>$AN6,AV6<>$AN6,AW6<>$AN6,AY6<>$AN6,AX6<>$AN6),$AN6,\nIF(AND(AR6<>$AO6,AS6<>$AO6,AT6<>$AO6,AU6<>$AO6,AV6<>$AO6,AW6<>$AO6,AY6<>$AO6,AX6<>$AO6),$AO6,\nIF(AND(AR6<>$AP6,AS6<>$AP6,AT6<>$AP6,AU6<>$AP6,AV6<>$AP6,AW6<>$AP6,AY6<>$AP6,AX6<>$AP6),$AP6,\n\"\")))))))))))","v":""},{"$f":"IF(AZ6=\"\",\"\",\nIF(AND(AR6<>$AG6,AS6<>$AG6,AT6<>$AG6,AU6<>$AG6,AV6<>$AG6,AW6<>$AG6,AX6<>$AG6,AZ6<>$AG6,AY6<>$AG6),$AG6,\nIF(AND(AR6<>$AH6,AS6<>$AH6,AT6<>$AH6,AU6<>$AH6,AV6<>$AH6,AW6<>$AH6,AX6<>$AH6,AZ6<>$AH6,AY6<>$AH6),$AH6,\nIF(AND(AR6<>$AI6,AS6<>$AI6,AT6<>$AI6,AU6<>$AI6,AV6<>$AI6,AW6<>$AI6,AX6<>$AI6,AZ6<>$AI6,AY6<>$AI6),$AI6,\nIF(AND(AR6<>$AJ6,AS6<>$AJ6,AT6<>$AJ6,AU6<>$AJ6,AV6<>$AJ6,AW6<>$AJ6,AX6<>$AJ6,AZ6<>$AJ6,AY6<>$AJ6),$AJ6,\nIF(AND(AR6<>$AK6,AS6<>$AK6,AT6<>$AK6,AU6<>$AK6,AV6<>$AK6,AW6<>$AK6,AX6<>$AK6,AZ6<>$AK6,AY6<>$AK6),$AK6,\nIF(AND(AR6<>$AL6,AS6<>$AL6,AT6<>$AL6,AU6<>$AL6,AV6<>$AL6,AW6<>$AL6,AX6<>$AL6,AZ6<>$AL6,AY6<>$AL6),$AL6,\nIF(AND(AR6<>$AM6,AS6<>$AM6,AT6<>$AM6,AU6<>$AM6,AV6<>$AM6,AW6<>$AM6,AX6<>$AM6,AZ6<>$AM6,AY6<>$AM6),$AM6,\nIF(AND(AR6<>$AN6,AS6<>$AN6,AT6<>$AN6,AU6<>$AN6,AV6<>$AN6,AW6<>$AN6,AX6<>$AN6,AZ6<>$AN6,AY6<>$AN6),$AN6,\nIF(AND(AR6<>$AO6,AS6<>$AO6,AT6<>$AO6,AU6<>$AO6,AV6<>$AO6,AW6<>$AO6,AX6<>$AO6,AZ6<>$AO6,AY6<>$AO6),$AO6,\nIF(AND(AR6<>$AP6,AS6<>$AP6,AT6<>$AP6,AU6<>$AP6,AV6<>$AP6,AW6<>$AP6,AX6<>$AP6,AZ6<>$AP6,AY6<>$AP6),$AP6,\n\"\")))))))))))","v":""}]
[null,{"$f":"IF(OR(SUM(B8)>0,O7=\"x\"),1,IF(ISNUMBER(O7),O7,0))","v":0},{"$f":"IF(O7=\"x\",1,IF(ISNUMBER(O7),1,0))","v":0},{"$f":"J7","v":"811.000"},null,{"$f":"K7 & IF(P7<>\"\",CHAR(10) & P7,\"\")","v":"Contrat de maintenance\nPropriétés: \nSynthèse de rendement annuelle"},{"$f":"IF(C7=1,N7,\"\")","v":""},null,null,"811.000","Contrat de maintenance",null,null,"forf.",null,"Propriétés: \nSynthèse de rendement annuelle",null,null,null,null,"E800_Wartungsvertrag",null,null,null,null,null,null,null,null,null,"x",null,{"$f":"\nIF(V7=\"x\",V$4,\nIF(W7=\"x\",W$4,\nIF(X7=\"x\",X$4,\nIF(Y7=\"x\",Y$4,\nIF(Z7=\"x\",Z$4,\nIF(AA7=\"x\",AA$4,\nIF(AB7=\"x\",AB$4,\nIF(AC7=\"x\",AC$4,\nIF(AD7=\"x\",AD$4,\nIF(AE7=\"x\",AE$4,\n\"\"))))))))))","v":"forf."},{"$f":"\nIF(W7=\"x\",W$4,\nIF(X7=\"x\",X$4,\nIF(Y7=\"x\",Y$4,\nIF(Z7=\"x\",Z$4,\nIF(AA7=\"x\",AA$4,\nIF(AB7=\"x\",AB$4,\nIF(AC7=\"x\",AC$4,\nIF(AD7=\"x\",AD$4,\nIF(AE7=\"x\",AE$4,\n\"\")))))))))","v":"forf."},{"$f":"\nIF(X7=\"x\",X$4,\nIF(Y7=\"x\",Y$4,\nIF(Z7=\"x\",Z$4,\nIF(AA7=\"x\",AA$4,\nIF(AB7=\"x\",AB$4,\nIF(AC7=\"x\",AC$4,\nIF(AD7=\"x\",AD$4,\nIF(AE7=\"x\",AE$4,\n\"\"))))))))","v":"forf."},{"$f":"\nIF(Y7=\"x\",Y$4,\nIF(Z7=\"x\",Z$4,\nIF(AA7=\"x\",AA$4,\nIF(AB7=\"x\",AB$4,\nIF(AC7=\"x\",AC$4,\nIF(AD7=\"x\",AD$4,\nIF(AE7=\"x\",AE$4,\n\"\")))))))","v":"forf."},{"$f":"\nIF(Z7=\"x\",Z$4,\nIF(AA7=\"x\",AA$4,\nIF(AB7=\"x\",AB$4,\nIF(AC7=\"x\",AC$4,\nIF(AD7=\"x\",AD$4,\nIF(AE7=\"x\",AE$4,\n\"\"))))))","v":"forf."},{"$f":"\nIF(AA7=\"x\",AA$4,\nIF(AB7=\"x\",AB$4,\nIF(AC7=\"x\",AC$4,\nIF(AD7=\"x\",AD$4,\nIF(AE7=\"x\",AE$4,\n\"\")))))","v":"forf."},{"$f":"\nIF(AB7=\"x\",AB$4,\nIF(AC7=\"x\",AC$4,\nIF(AD7=\"x\",AD$4,\nIF(AE7=\"x\",AE$4,\n\"\"))))","v":"forf."},{"$f":"\nIF(AC7=\"x\",AC$4,\nIF(AD7=\"x\",AD$4,\nIF(AE7=\"x\",AE$4,\n\"\")))","v":"forf."},{"$f":"\nIF(AD7=\"x\",AD$4,\nIF(AE7=\"x\",AE$4,\n\"\"))","v":"forf."},{"$f":"\nIF(AE7=\"x\",AE$4,\n\"\")","v":"forf."},null,{"$f":"AG7","v":"forf."},"",{"$f":"IF(AS7=\"\",\"\",\nIF(AND(AS7<>$AG7,AR7<>$AG7),$AG7,\nIF(AND(AS7<>$AH7,AR7<>$AH7),$AH7,\nIF(AND(AS7<>$AI7,AR7<>$AI7),$AI7,\nIF(AND(AS7<>$AJ7,AR7<>$AJ7),$AJ7,\nIF(AND(AS7<>$AK7,AR7<>$AK7),$AK7,\nIF(AND(AS7<>$AL7,AR7<>$AL7),$AL7,\nIF(AND(AS7<>$AM7,AR7<>$AM7),$AM7,\nIF(AND(AS7<>$AN7,AR7<>$AN7),$AN7,\nIF(AND(AS7<>$AO7,AR7<>$AO7),$AO7,\nIF(AND(AS7<>$AP7,AR7<>$AP7),$AP7,\n\"\")))))))))))","v":""},{"$f":"IF(AT7=\"\",\"\",\nIF(AND(AR7<>$AG7,AT7<>$AG7,AS7<>$AG7),$AG7,\nIF(AND(AR7<>$AH7,AT7<>$AH7,AS7<>$AH7),$AH7,\nIF(AND(AR7<>$AI7,AT7<>$AI7,AS7<>$AI7),$AI7,\nIF(AND(AR7<>$AJ7,AT7<>$AJ7,AS7<>$AJ7),$AJ7,\nIF(AND(AR7<>$AK7,AT7<>$AK7,AS7<>$AK7),$AK7,\nIF(AND(AR7<>$AL7,AT7<>$AL7,AS7<>$AL7),$AL7,\nIF(AND(AR7<>$AM7,AT7<>$AM7,AS7<>$AM7),$AM7,\nIF(AND(AR7<>$AN7,AT7<>$AN7,AS7<>$AN7),$AN7,\nIF(AND(AR7<>$AO7,AT7<>$AO7,AS7<>$AO7),$AO7,\nIF(AND(AR7<>$AP7,AT7<>$AP7,AS7<>$AP7),$AP7,\n\"\")))))))))))","v":""},{"$f":"IF(AU7=\"\",\"\",\nIF(AND(AR7<>$AG7,AS7<>$AG7,AU7<>$AG7,AT7<>$AG7),$AG7,\nIF(AND(AR7<>$AH7,AS7<>$AH7,AU7<>$AH7,AT7<>$AH7),$AH7,\nIF(AND(AR7<>$AI7,AS7<>$AI7,AU7<>$AI7,AT7<>$AI7),$AI7,\nIF(AND(AR7<>$AJ7,AS7<>$AJ7,AU7<>$AJ7,AT7<>$AJ7),$AJ7,\nIF(AND(AR7<>$AK7,AS7<>$AK7,AU7<>$AK7,AT7<>$AK7),$AK7,\nIF(AND(AR7<>$AL7,AS7<>$AL7,AU7<>$AL7,AT7<>$AL7),$AL7,\nIF(AND(AR7<>$AM7,AS7<>$AM7,AU7<>$AM7,AT7<>$AM7),$AM7,\nIF(AND(AR7<>$AN7,AS7<>$AN7,AU7<>$AN7,AT7<>$AN7),$AN7,\nIF(AND(AR7<>$AO7,AS7<>$AO7,AU7<>$AO7,AT7<>$AO7),$AO7,\nIF(AND(AR7<>$AP7,AS7<>$AP7,AU7<>$AP7,AT7<>$AP7),$AP7,\n\"\")))))))))))","v":""},{"$f":"IF(AV7=\"\",\"\",\nIF(AND(AR7<>$AG7,AS7<>$AG7,AT7<>$AG7,AV7<>$AG7,AU7<>$AG7),$AG7,\nIF(AND(AR7<>$AH7,AS7<>$AH7,AT7<>$AH7,AV7<>$AH7,AU7<>$AH7),$AH7,\nIF(AND(AR7<>$AI7,AS7<>$AI7,AT7<>$AI7,AV7<>$AI7,AU7<>$AI7),$AI7,\nIF(AND(AR7<>$AJ7,AS7<>$AJ7,AT7<>$AJ7,AV7<>$AJ7,AU7<>$AJ7),$AJ7,\nIF(AND(AR7<>$AK7,AS7<>$AK7,AT7<>$AK7,AV7<>$AK7,AU7<>$AK7),$AK7,\nIF(AND(AR7<>$AL7,AS7<>$AL7,AT7<>$AL7,AV7<>$AL7,AU7<>$AL7),$AL7,\nIF(AND(AR7<>$AM7,AS7<>$AM7,AT7<>$AM7,AV7<>$AM7,AU7<>$AM7),$AM7,\nIF(AND(AR7<>$AN7,AS7<>$AN7,AT7<>$AN7,AV7<>$AN7,AU7<>$AN7),$AN7,\nIF(AND(AR7<>$AO7,AS7<>$AO7,AT7<>$AO7,AV7<>$AO7,AU7<>$AO7),$AO7,\nIF(AND(AR7<>$AP7,AS7<>$AP7,AT7<>$AP7,AV7<>$AP7,AU7<>$AP7),$AP7,\n\"\")))))))))))","v":""},{"$f":"IF(AW7=\"\",\"\",\nIF(AND(AR7<>$AG7,AS7<>$AG7,AT7<>$AG7,AU7<>$AG7,AW7<>$AG7,AV7<>$AG7),$AG7,\nIF(AND(AR7<>$AH7,AS7<>$AH7,AT7<>$AH7,AU7<>$AH7,AW7<>$AH7,AV7<>$AH7),$AH7,\nIF(AND(AR7<>$AI7,AS7<>$AI7,AT7<>$AI7,AU7<>$AI7,AW7<>$AI7,AV7<>$AI7),$AI7,\nIF(AND(AR7<>$AJ7,AS7<>$AJ7,AT7<>$AJ7,AU7<>$AJ7,AW7<>$AJ7,AV7<>$AJ7),$AJ7,\nIF(AND(AR7<>$AK7,AS7<>$AK7,AT7<>$AK7,AU7<>$AK7,AW7<>$AK7,AV7<>$AK7),$AK7,\nIF(AND(AR7<>$AL7,AS7<>$AL7,AT7<>$AL7,AU7<>$AL7,AW7<>$AL7,AV7<>$AL7),$AL7,\nIF(AND(AR7<>$AM7,AS7<>$AM7,AT7<>$AM7,AU7<>$AM7,AW7<>$AM7,AV7<>$AM7),$AM7,\nIF(AND(AR7<>$AN7,AS7<>$AN7,AT7<>$AN7,AU7<>$AN7,AW7<>$AN7,AV7<>$AN7),$AN7,\nIF(AND(AR7<>$AO7,AS7<>$AO7,AT7<>$AO7,AU7<>$AO7,AW7<>$AO7,AV7<>$AO7),$AO7,\nIF(AND(AR7<>$AP7,AS7<>$AP7,AT7<>$AP7,AU7<>$AP7,AW7<>$AP7,AV7<>$AP7),$AP7,\n\"\")))))))))))","v":""},{"$f":"IF(AX7=\"\",\"\",\nIF(AND(AR7<>$AG7,AS7<>$AG7,AT7<>$AG7,AU7<>$AG7,AV7<>$AG7,AX7<>$AG7,AW7<>$AG7),$AG7,\nIF(AND(AR7<>$AH7,AS7<>$AH7,AT7<>$AH7,AU7<>$AH7,AV7<>$AH7,AX7<>$AH7,AW7<>$AH7),$AH7,\nIF(AND(AR7<>$AI7,AS7<>$AI7,AT7<>$AI7,AU7<>$AI7,AV7<>$AI7,AX7<>$AI7,AW7<>$AI7),$AI7,\nIF(AND(AR7<>$AJ7,AS7<>$AJ7,AT7<>$AJ7,AU7<>$AJ7,AV7<>$AJ7,AX7<>$AJ7,AW7<>$AJ7),$AJ7,\nIF(AND(AR7<>$AK7,AS7<>$AK7,AT7<>$AK7,AU7<>$AK7,AV7<>$AK7,AX7<>$AK7,AW7<>$AK7),$AK7,\nIF(AND(AR7<>$AL7,AS7<>$AL7,AT7<>$AL7,AU7<>$AL7,AV7<>$AL7,AX7<>$AL7,AW7<>$AL7),$AL7,\nIF(AND(AR7<>$AM7,AS7<>$AM7,AT7<>$AM7,AU7<>$AM7,AV7<>$AM7,AX7<>$AM7,AW7<>$AM7),$AM7,\nIF(AND(AR7<>$AN7,AS7<>$AN7,AT7<>$AN7,AU7<>$AN7,AV7<>$AN7,AX7<>$AN7,AW7<>$AN7),$AN7,\nIF(AND(AR7<>$AO7,AS7<>$AO7,AT7<>$AO7,AU7<>$AO7,AV7<>$AO7,AX7<>$AO7,AW7<>$AO7),$AO7,\nIF(AND(AR7<>$AP7,AS7<>$AP7,AT7<>$AP7,AU7<>$AP7,AV7<>$AP7,AX7<>$AP7,AW7<>$AP7),$AP7,\n\"\")))))))))))","v":""},{"$f":"IF(AY7=\"\",\"\",\nIF(AND(AR7<>$AG7,AS7<>$AG7,AT7<>$AG7,AU7<>$AG7,AV7<>$AG7,AW7<>$AG7,AY7<>$AG7,AX7<>$AG7),$AG7,\nIF(AND(AR7<>$AH7,AS7<>$AH7,AT7<>$AH7,AU7<>$AH7,AV7<>$AH7,AW7<>$AH7,AY7<>$AH7,AX7<>$AH7),$AH7,\nIF(AND(AR7<>$AI7,AS7<>$AI7,AT7<>$AI7,AU7<>$AI7,AV7<>$AI7,AW7<>$AI7,AY7<>$AI7,AX7<>$AI7),$AI7,\nIF(AND(AR7<>$AJ7,AS7<>$AJ7,AT7<>$AJ7,AU7<>$AJ7,AV7<>$AJ7,AW7<>$AJ7,AY7<>$AJ7,AX7<>$AJ7),$AJ7,\nIF(AND(AR7<>$AK7,AS7<>$AK7,AT7<>$AK7,AU7<>$AK7,AV7<>$AK7,AW7<>$AK7,AY7<>$AK7,AX7<>$AK7),$AK7,\nIF(AND(AR7<>$AL7,AS7<>$AL7,AT7<>$AL7,AU7<>$AL7,AV7<>$AL7,AW7<>$AL7,AY7<>$AL7,AX7<>$AL7),$AL7,\nIF(AND(AR7<>$AM7,AS7<>$AM7,AT7<>$AM7,AU7<>$AM7,AV7<>$AM7,AW7<>$AM7,AY7<>$AM7,AX7<>$AM7),$AM7,\nIF(AND(AR7<>$AN7,AS7<>$AN7,AT7<>$AN7,AU7<>$AN7,AV7<>$AN7,AW7<>$AN7,AY7<>$AN7,AX7<>$AN7),$AN7,\nIF(AND(AR7<>$AO7,AS7<>$AO7,AT7<>$AO7,AU7<>$AO7,AV7<>$AO7,AW7<>$AO7,AY7<>$AO7,AX7<>$AO7),$AO7,\nIF(AND(AR7<>$AP7,AS7<>$AP7,AT7<>$AP7,AU7<>$AP7,AV7<>$AP7,AW7<>$AP7,AY7<>$AP7,AX7<>$AP7),$AP7,\n\"\")))))))))))","v":""},{"$f":"IF(AZ7=\"\",\"\",\nIF(AND(AR7<>$AG7,AS7<>$AG7,AT7<>$AG7,AU7<>$AG7,AV7<>$AG7,AW7<>$AG7,AX7<>$AG7,AZ7<>$AG7,AY7<>$AG7),$AG7,\nIF(AND(AR7<>$AH7,AS7<>$AH7,AT7<>$AH7,AU7<>$AH7,AV7<>$AH7,AW7<>$AH7,AX7<>$AH7,AZ7<>$AH7,AY7<>$AH7),$AH7,\nIF(AND(AR7<>$AI7,AS7<>$AI7,AT7<>$AI7,AU7<>$AI7,AV7<>$AI7,AW7<>$AI7,AX7<>$AI7,AZ7<>$AI7,AY7<>$AI7),$AI7,\nIF(AND(AR7<>$AJ7,AS7<>$AJ7,AT7<>$AJ7,AU7<>$AJ7,AV7<>$AJ7,AW7<>$AJ7,AX7<>$AJ7,AZ7<>$AJ7,AY7<>$AJ7),$AJ7,\nIF(AND(AR7<>$AK7,AS7<>$AK7,AT7<>$AK7,AU7<>$AK7,AV7<>$AK7,AW7<>$AK7,AX7<>$AK7,AZ7<>$AK7,AY7<>$AK7),$AK7,\nIF(AND(AR7<>$AL7,AS7<>$AL7,AT7<>$AL7,AU7<>$AL7,AV7<>$AL7,AW7<>$AL7,AX7<>$AL7,AZ7<>$AL7,AY7<>$AL7),$AL7,\nIF(AND(AR7<>$AM7,AS7<>$AM7,AT7<>$AM7,AU7<>$AM7,AV7<>$AM7,AW7<>$AM7,AX7<>$AM7,AZ7<>$AM7,AY7<>$AM7),$AM7,\nIF(AND(AR7<>$AN7,AS7<>$AN7,AT7<>$AN7,AU7<>$AN7,AV7<>$AN7,AW7<>$AN7,AX7<>$AN7,AZ7<>$AN7,AY7<>$AN7),$AN7,\nIF(AND(AR7<>$AO7,AS7<>$AO7,AT7<>$AO7,AU7<>$AO7,AV7<>$AO7,AW7<>$AO7,AX7<>$AO7,AZ7<>$AO7,AY7<>$AO7),$AO7,\nIF(AND(AR7<>$AP7,AS7<>$AP7,AT7<>$AP7,AU7<>$AP7,AV7<>$AP7,AW7<>$AP7,AX7<>$AP7,AZ7<>$AP7,AY7<>$AP7),$AP7,\n\"\")))))))))))","v":""}]
[null,{"$f":"IF(O8=\"x\",1,IF(ISNUMBER(O8),O8,0))","v":0},{"$f":"IF(O8=\"x\",1,IF(ISNUMBER(O8),1,0))","v":0},null,{"$f":"L8","v":"811.100"},{"$f":"M8","v":"Taux horaires réparations"},"",null,null,null,null,"811.100","Taux horaires réparations","forf.",null,null,null,null,null,null,null,null,null,null,null,null,"x",null,null,null,"x",null,{"$f":"\nIF(V8=\"x\",V$4,\nIF(W8=\"x\",W$4,\nIF(X8=\"x\",X$4,\nIF(Y8=\"x\",Y$4,\nIF(Z8=\"x\",Z$4,\nIF(AA8=\"x\",AA$4,\nIF(AB8=\"x\",AB$4,\nIF(AC8=\"x\",AC$4,\nIF(AD8=\"x\",AD$4,\nIF(AE8=\"x\",AE$4,\n\"\"))))))))))","v":"h"},{"$f":"\nIF(W8=\"x\",W$4,\nIF(X8=\"x\",X$4,\nIF(Y8=\"x\",Y$4,\nIF(Z8=\"x\",Z$4,\nIF(AA8=\"x\",AA$4,\nIF(AB8=\"x\",AB$4,\nIF(AC8=\"x\",AC$4,\nIF(AD8=\"x\",AD$4,\nIF(AE8=\"x\",AE$4,\n\"\")))))))))","v":"h"},{"$f":"\nIF(X8=\"x\",X$4,\nIF(Y8=\"x\",Y$4,\nIF(Z8=\"x\",Z$4,\nIF(AA8=\"x\",AA$4,\nIF(AB8=\"x\",AB$4,\nIF(AC8=\"x\",AC$4,\nIF(AD8=\"x\",AD$4,\nIF(AE8=\"x\",AE$4,\n\"\"))))))))","v":"h"},{"$f":"\nIF(Y8=\"x\",Y$4,\nIF(Z8=\"x\",Z$4,\nIF(AA8=\"x\",AA$4,\nIF(AB8=\"x\",AB$4,\nIF(AC8=\"x\",AC$4,\nIF(AD8=\"x\",AD$4,\nIF(AE8=\"x\",AE$4,\n\"\")))))))","v":"h"},{"$f":"\nIF(Z8=\"x\",Z$4,\nIF(AA8=\"x\",AA$4,\nIF(AB8=\"x\",AB$4,\nIF(AC8=\"x\",AC$4,\nIF(AD8=\"x\",AD$4,\nIF(AE8=\"x\",AE$4,\n\"\"))))))","v":"h"},{"$f":"\nIF(AA8=\"x\",AA$4,\nIF(AB8=\"x\",AB$4,\nIF(AC8=\"x\",AC$4,\nIF(AD8=\"x\",AD$4,\nIF(AE8=\"x\",AE$4,\n\"\")))))","v":"h"},{"$f":"\nIF(AB8=\"x\",AB$4,\nIF(AC8=\"x\",AC$4,\nIF(AD8=\"x\",AD$4,\nIF(AE8=\"x\",AE$4,\n\"\"))))","v":"forf."},{"$f":"\nIF(AC8=\"x\",AC$4,\nIF(AD8=\"x\",AD$4,\nIF(AE8=\"x\",AE$4,\n\"\")))","v":"forf."},{"$f":"\nIF(AD8=\"x\",AD$4,\nIF(AE8=\"x\",AE$4,\n\"\"))","v":"forf."},{"$f":"\nIF(AE8=\"x\",AE$4,\n\"\")","v":"forf."},null,{"$f":"AG8","v":"h"},"forf.",{"$f":"IF(AS8=\"\",\"\",\nIF(AND(AS8<>$AG8,AR8<>$AG8),$AG8,\nIF(AND(AS8<>$AH8,AR8<>$AH8),$AH8,\nIF(AND(AS8<>$AI8,AR8<>$AI8),$AI8,\nIF(AND(AS8<>$AJ8,AR8<>$AJ8),$AJ8,\nIF(AND(AS8<>$AK8,AR8<>$AK8),$AK8,\nIF(AND(AS8<>$AL8,AR8<>$AL8),$AL8,\nIF(AND(AS8<>$AM8,AR8<>$AM8),$AM8,\nIF(AND(AS8<>$AN8,AR8<>$AN8),$AN8,\nIF(AND(AS8<>$AO8,AR8<>$AO8),$AO8,\nIF(AND(AS8<>$AP8,AR8<>$AP8),$AP8,\n\"\")))))))))))","v":""},{"$f":"IF(AT8=\"\",\"\",\nIF(AND(AR8<>$AG8,AT8<>$AG8,AS8<>$AG8),$AG8,\nIF(AND(AR8<>$AH8,AT8<>$AH8,AS8<>$AH8),$AH8,\nIF(AND(AR8<>$AI8,AT8<>$AI8,AS8<>$AI8),$AI8,\nIF(AND(AR8<>$AJ8,AT8<>$AJ8,AS8<>$AJ8),$AJ8,\nIF(AND(AR8<>$AK8,AT8<>$AK8,AS8<>$AK8),$AK8,\nIF(AND(AR8<>$AL8,AT8<>$AL8,AS8<>$AL8),$AL8,\nIF(AND(AR8<>$AM8,AT8<>$AM8,AS8<>$AM8),$AM8,\nIF(AND(AR8<>$AN8,AT8<>$AN8,AS8<>$AN8),$AN8,\nIF(AND(AR8<>$AO8,AT8<>$AO8,AS8<>$AO8),$AO8,\nIF(AND(AR8<>$AP8,AT8<>$AP8,AS8<>$AP8),$AP8,\n\"\")))))))))))","v":""},{"$f":"IF(AU8=\"\",\"\",\nIF(AND(AR8<>$AG8,AS8<>$AG8,AU8<>$AG8,AT8<>$AG8),$AG8,\nIF(AND(AR8<>$AH8,AS8<>$AH8,AU8<>$AH8,AT8<>$AH8),$AH8,\nIF(AND(AR8<>$AI8,AS8<>$AI8,AU8<>$AI8,AT8<>$AI8),$AI8,\nIF(AND(AR8<>$AJ8,AS8<>$AJ8,AU8<>$AJ8,AT8<>$AJ8),$AJ8,\nIF(AND(AR8<>$AK8,AS8<>$AK8,AU8<>$AK8,AT8<>$AK8),$AK8,\nIF(AND(AR8<>$AL8,AS8<>$AL8,AU8<>$AL8,AT8<>$AL8),$AL8,\nIF(AND(AR8<>$AM8,AS8<>$AM8,AU8<>$AM8,AT8<>$AM8),$AM8,\nIF(AND(AR8<>$AN8,AS8<>$AN8,AU8<>$AN8,AT8<>$AN8),$AN8,\nIF(AND(AR8<>$AO8,AS8<>$AO8,AU8<>$AO8,AT8<>$AO8),$AO8,\nIF(AND(AR8<>$AP8,AS8<>$AP8,AU8<>$AP8,AT8<>$AP8),$AP8,\n\"\")))))))))))","v":""},{"$f":"IF(AV8=\"\",\"\",\nIF(AND(AR8<>$AG8,AS8<>$AG8,AT8<>$AG8,AV8<>$AG8,AU8<>$AG8),$AG8,\nIF(AND(AR8<>$AH8,AS8<>$AH8,AT8<>$AH8,AV8<>$AH8,AU8<>$AH8),$AH8,\nIF(AND(AR8<>$AI8,AS8<>$AI8,AT8<>$AI8,AV8<>$AI8,AU8<>$AI8),$AI8,\nIF(AND(AR8<>$AJ8,AS8<>$AJ8,AT8<>$AJ8,AV8<>$AJ8,AU8<>$AJ8),$AJ8,\nIF(AND(AR8<>$AK8,AS8<>$AK8,AT8<>$AK8,AV8<>$AK8,AU8<>$AK8),$AK8,\nIF(AND(AR8<>$AL8,AS8<>$AL8,AT8<>$AL8,AV8<>$AL8,AU8<>$AL8),$AL8,\nIF(AND(AR8<>$AM8,AS8<>$AM8,AT8<>$AM8,AV8<>$AM8,AU8<>$AM8),$AM8,\nIF(AND(AR8<>$AN8,AS8<>$AN8,AT8<>$AN8,AV8<>$AN8,AU8<>$AN8),$AN8,\nIF(AND(AR8<>$AO8,AS8<>$AO8,AT8<>$AO8,AV8<>$AO8,AU8<>$AO8),$AO8,\nIF(AND(AR8<>$AP8,AS8<>$AP8,AT8<>$AP8,AV8<>$AP8,AU8<>$AP8),$AP8,\n\"\")))))))))))","v":""},{"$f":"IF(AW8=\"\",\"\",\nIF(AND(AR8<>$AG8,AS8<>$AG8,AT8<>$AG8,AU8<>$AG8,AW8<>$AG8,AV8<>$AG8),$AG8,\nIF(AND(AR8<>$AH8,AS8<>$AH8,AT8<>$AH8,AU8<>$AH8,AW8<>$AH8,AV8<>$AH8),$AH8,\nIF(AND(AR8<>$AI8,AS8<>$AI8,AT8<>$AI8,AU8<>$AI8,AW8<>$AI8,AV8<>$AI8),$AI8,\nIF(AND(AR8<>$AJ8,AS8<>$AJ8,AT8<>$AJ8,AU8<>$AJ8,AW8<>$AJ8,AV8<>$AJ8),$AJ8,\nIF(AND(AR8<>$AK8,AS8<>$AK8,AT8<>$AK8,AU8<>$AK8,AW8<>$AK8,AV8<>$AK8),$AK8,\nIF(AND(AR8<>$AL8,AS8<>$AL8,AT8<>$AL8,AU8<>$AL8,AW8<>$AL8,AV8<>$AL8),$AL8,\nIF(AND(AR8<>$AM8,AS8<>$AM8,AT8<>$AM8,AU8<>$AM8,AW8<>$AM8,AV8<>$AM8),$AM8,\nIF(AND(AR8<>$AN8,AS8<>$AN8,AT8<>$AN8,AU8<>$AN8,AW8<>$AN8,AV8<>$AN8),$AN8,\nIF(AND(AR8<>$AO8,AS8<>$AO8,AT8<>$AO8,AU8<>$AO8,AW8<>$AO8,AV8<>$AO8),$AO8,\nIF(AND(AR8<>$AP8,AS8<>$AP8,AT8<>$AP8,AU8<>$AP8,AW8<>$AP8,AV8<>$AP8),$AP8,\n\"\")))))))))))","v":""},{"$f":"IF(AX8=\"\",\"\",\nIF(AND(AR8<>$AG8,AS8<>$AG8,AT8<>$AG8,AU8<>$AG8,AV8<>$AG8,AX8<>$AG8,AW8<>$AG8),$AG8,\nIF(AND(AR8<>$AH8,AS8<>$AH8,AT8<>$AH8,AU8<>$AH8,AV8<>$AH8,AX8<>$AH8,AW8<>$AH8),$AH8,\nIF(AND(AR8<>$AI8,AS8<>$AI8,AT8<>$AI8,AU8<>$AI8,AV8<>$AI8,AX8<>$AI8,AW8<>$AI8),$AI8,\nIF(AND(AR8<>$AJ8,AS8<>$AJ8,AT8<>$AJ8,AU8<>$AJ8,AV8<>$AJ8,AX8<>$AJ8,AW8<>$AJ8),$AJ8,\nIF(AND(AR8<>$AK8,AS8<>$AK8,AT8<>$AK8,AU8<>$AK8,AV8<>$AK8,AX8<>$AK8,AW8<>$AK8),$AK8,\nIF(AND(AR8<>$AL8,AS8<>$AL8,AT8<>$AL8,AU8<>$AL8,AV8<>$AL8,AX8<>$AL8,AW8<>$AL8),$AL8,\nIF(AND(AR8<>$AM8,AS8<>$AM8,AT8<>$AM8,AU8<>$AM8,AV8<>$AM8,AX8<>$AM8,AW8<>$AM8),$AM8,\nIF(AND(AR8<>$AN8,AS8<>$AN8,AT8<>$AN8,AU8<>$AN8,AV8<>$AN8,AX8<>$AN8,AW8<>$AN8),$AN8,\nIF(AND(AR8<>$AO8,AS8<>$AO8,AT8<>$AO8,AU8<>$AO8,AV8<>$AO8,AX8<>$AO8,AW8<>$AO8),$AO8,\nIF(AND(AR8<>$AP8,AS8<>$AP8,AT8<>$AP8,AU8<>$AP8,AV8<>$AP8,AX8<>$AP8,AW8<>$AP8),$AP8,\n\"\")))))))))))","v":""},{"$f":"IF(AY8=\"\",\"\",\nIF(AND(AR8<>$AG8,AS8<>$AG8,AT8<>$AG8,AU8<>$AG8,AV8<>$AG8,AW8<>$AG8,AY8<>$AG8,AX8<>$AG8),$AG8,\nIF(AND(AR8<>$AH8,AS8<>$AH8,AT8<>$AH8,AU8<>$AH8,AV8<>$AH8,AW8<>$AH8,AY8<>$AH8,AX8<>$AH8),$AH8,\nIF(AND(AR8<>$AI8,AS8<>$AI8,AT8<>$AI8,AU8<>$AI8,AV8<>$AI8,AW8<>$AI8,AY8<>$AI8,AX8<>$AI8),$AI8,\nIF(AND(AR8<>$AJ8,AS8<>$AJ8,AT8<>$AJ8,AU8<>$AJ8,AV8<>$AJ8,AW8<>$AJ8,AY8<>$AJ8,AX8<>$AJ8),$AJ8,\nIF(AND(AR8<>$AK8,AS8<>$AK8,AT8<>$AK8,AU8<>$AK8,AV8<>$AK8,AW8<>$AK8,AY8<>$AK8,AX8<>$AK8),$AK8,\nIF(AND(AR8<>$AL8,AS8<>$AL8,AT8<>$AL8,AU8<>$AL8,AV8<>$AL8,AW8<>$AL8,AY8<>$AL8,AX8<>$AL8),$AL8,\nIF(AND(AR8<>$AM8,AS8<>$AM8,AT8<>$AM8,AU8<>$AM8,AV8<>$AM8,AW8<>$AM8,AY8<>$AM8,AX8<>$AM8),$AM8,\nIF(AND(AR8<>$AN8,AS8<>$AN8,AT8<>$AN8,AU8<>$AN8,AV8<>$AN8,AW8<>$AN8,AY8<>$AN8,AX8<>$AN8),$AN8,\nIF(AND(AR8<>$AO8,AS8<>$AO8,AT8<>$AO8,AU8<>$AO8,AV8<>$AO8,AW8<>$AO8,AY8<>$AO8,AX8<>$AO8),$AO8,\nIF(AND(AR8<>$AP8,AS8<>$AP8,AT8<>$AP8,AU8<>$AP8,AV8<>$AP8,AW8<>$AP8,AY8<>$AP8,AX8<>$AP8),$AP8,\n\"\")))))))))))","v":""},{"$f":"IF(AZ8=\"\",\"\",\nIF(AND(AR8<>$AG8,AS8<>$AG8,AT8<>$AG8,AU8<>$AG8,AV8<>$AG8,AW8<>$AG8,AX8<>$AG8,AZ8<>$AG8,AY8<>$AG8),$AG8,\nIF(AND(AR8<>$AH8,AS8<>$AH8,AT8<>$AH8,AU8<>$AH8,AV8<>$AH8,AW8<>$AH8,AX8<>$AH8,AZ8<>$AH8,AY8<>$AH8),$AH8,\nIF(AND(AR8<>$AI8,AS8<>$AI8,AT8<>$AI8,AU8<>$AI8,AV8<>$AI8,AW8<>$AI8,AX8<>$AI8,AZ8<>$AI8,AY8<>$AI8),$AI8,\nIF(AND(AR8<>$AJ8,AS8<>$AJ8,AT8<>$AJ8,AU8<>$AJ8,AV8<>$AJ8,AW8<>$AJ8,AX8<>$AJ8,AZ8<>$AJ8,AY8<>$AJ8),$AJ8,\nIF(AND(AR8<>$AK8,AS8<>$AK8,AT8<>$AK8,AU8<>$AK8,AV8<>$AK8,AW8<>$AK8,AX8<>$AK8,AZ8<>$AK8,AY8<>$AK8),$AK8,\nIF(AND(AR8<>$AL8,AS8<>$AL8,AT8<>$AL8,AU8<>$AL8,AV8<>$AL8,AW8<>$AL8,AX8<>$AL8,AZ8<>$AL8,AY8<>$AL8),$AL8,\nIF(AND(AR8<>$AM8,AS8<>$AM8,AT8<>$AM8,AU8<>$AM8,AV8<>$AM8,AW8<>$AM8,AX8<>$AM8,AZ8<>$AM8,AY8<>$AM8),$AM8,\nIF(AND(AR8<>$AN8,AS8<>$AN8,AT8<>$AN8,AU8<>$AN8,AV8<>$AN8,AW8<>$AN8,AX8<>$AN8,AZ8<>$AN8,AY8<>$AN8),$AN8,\nIF(AND(AR8<>$AO8,AS8<>$AO8,AT8<>$AO8,AU8<>$AO8,AV8<>$AO8,AW8<>$AO8,AX8<>$AO8,AZ8<>$AO8,AY8<>$AO8),$AO8,\nIF(AND(AR8<>$AP8,AS8<>$AP8,AT8<>$AP8,AU8<>$AP8,AV8<>$AP8,AW8<>$AP8,AX8<>$AP8,AZ8<>$AP8,AY8<>$AP8),$AP8,\n\"\")))))))))))","v":""}]
[null,{"$f":"IF(OR(SUM(B10)>0,O9=\"x\"),1,IF(ISNUMBER(O9),O9,0))","v":1},1,{"$f":"J9","v":"812.000"},null,{"$f":"K9","v":"Nettoyage"},"forf.",null,null,"812.000","Nettoyage",null,null,"forf.","x",null,null,null,null,null,null,null,null,null,null,null,null,null,null,null,"x",null,"forf.","forf.","forf.","forf.","forf.","forf.","forf.","forf.","forf.","forf.",null,"forf.","","","","","","","","",""]
[null,0,0,null,{"$f":"L10","v":"812.100"},{"$f":"M10","v":"Entretien des espaces verts"},"",null,null,null,null,"812.100","Entretien des espaces verts","forf.",null,null,null,null,null,null,null,null,null,null,"x",null,null,null,null,null,"x",null,"m2","m2","m2","m2","forf.","forf.","forf.","forf.","forf.","forf.",null,"m2","forf.",{"$f":"IF(AS10=\"\",\"\",\nIF(AND(AS10<>$AG10,AR10<>$AG10),$AG10,\nIF(AND(AS10<>$AH10,AR10<>$AH10),$AH10,\nIF(AND(AS10<>$AI10,AR10<>$AI10),$AI10,\nIF(AND(AS10<>$AJ10,AR10<>$AJ10),$AJ10,\nIF(AND(AS10<>$AK10,AR10<>$AK10),$AK10,\nIF(AND(AS10<>$AL10,AR10<>$AL10),$AL10,\nIF(AND(AS10<>$AM10,AR10<>$AM10),$AM10,\nIF(AND(AS10<>$AN10,AR10<>$AN10),$AN10,\nIF(AND(AS10<>$AO10,AR10<>$AO10),$AO10,\nIF(AND(AS10<>$AP10,AR10<>$AP10),$AP10,\n\"\")))))))))))","v":""},{"$f":"IF(AT10=\"\",\"\",\nIF(AND(AR10<>$AG10,AT10<>$AG10,AS10<>$AG10),$AG10,\nIF(AND(AR10<>$AH10,AT10<>$AH10,AS10<>$AH10),$AH10,\nIF(AND(AR10<>$AI10,AT10<>$AI10,AS10<>$AI10),$AI10,\nIF(AND(AR10<>$AJ10,AT10<>$AJ10,AS10<>$AJ10),$AJ10,\nIF(AND(AR10<>$AK10,AT10<>$AK10,AS10<>$AK10),$AK10,\nIF(AND(AR10<>$AL10,AT10<>$AL10,AS10<>$AL10),$AL10,\nIF(AND(AR10<>$AM10,AT10<>$AM10,AS10<>$AM10),$AM10,\nIF(AND(AR10<>$AN10,AT10<>$AN10,AS10<>$AN10),$AN10,\nIF(AND(AR10<>$AO10,AT10<>$AO10,AS10<>$AO10),$AO10,\nIF(AND(AR10<>$AP10,AT10<>$AP10,AS10<>$AP10),$AP10,\n\"\")))))))))))","v":""},{"$f":"IF(AU10=\"\",\"\",\nIF(AND(AR10<>$AG10,AS10<>$AG10,AU10<>$AG10,AT10<>$AG10),$AG10,\nIF(AND(AR10<>$AH10,AS10<>$AH10,AU10<>$AH10,AT10<>$AH10),$AH10,\nIF(AND(AR10<>$AI10,AS10<>$AI10,AU10<>$AI10,AT10<>$AI10),$AI10,\nIF(AND(AR10<>$AJ10,AS10<>$AJ10,AU10<>$AJ10,AT10<>$AJ10),$AJ10,\nIF(AND(AR10<>$AK10,AS10<>$AK10,AU10<>$AK10,AT10<>$AK10),$AK10,\nIF(AND(AR10<>$AL10,AS10<>$AL10,AU10<>$AL10,AT10<>$AL10),$AL10,\nIF(AND(AR10<>$AM10,AS10<>$AM10,AU10<>$AM10,AT10<>$AM10),$AM10,\nIF(AND(AR10<>$AN10,AS10<>$AN10,AU10<>$AN10,AT10<>$AN10),$AN10,\nIF(AND(AR10<>$AO10,AS10<>$AO10,AU10<>$AO10,AT10<>$AO10),$AO10,\nIF(AND(AR10<>$AP10,AS10<>$AP10,AU10<>$AP10,AT10<>$AP10),$AP10,\n\"\")))))))))))","v":""},{"$f":"IF(AV10=\"\",\"\",\nIF(AND(AR10<>$AG10,AS10<>$AG10,AT10<>$AG10,AV10<>$AG10,AU10<>$AG10),$AG10,\nIF(AND(AR10<>$AH10,AS10<>$AH10,AT10<>$AH10,AV10<>$AH10,AU10<>$AH10),$AH10,\nIF(AND(AR10<>$AI10,AS10<>$AI10,AT10<>$AI10,AV10<>$AI10,AU10<>$AI10),$AI10,\nIF(AND(AR10<>$AJ10,AS10<>$AJ10,AT10<>$AJ10,AV10<>$AJ10,AU10<>$AJ10),$AJ10,\nIF(AND(AR10<>$AK10,AS10<>$AK10,AT10<>$AK10,AV10<>$AK10,AU10<>$AK10),$AK10,\nIF(AND(AR10<>$AL10,AS10<>$AL10,AT10<>$AL10,AV10<>$AL10,AU10<>$AL10),$AL10,\nIF(AND(AR10<>$AM10,AS10<>$AM10,AT10<>$AM10,AV10<>$AM10,AU10<>$AM10),$AM10,\nIF(AND(AR10<>$AN10,AS10<>$AN10,AT10<>$AN10,AV10<>$AN10,AU10<>$AN10),$AN10,\nIF(AND(AR10<>$AO10,AS10<>$AO10,AT10<>$AO10,AV10<>$AO10,AU10<>$AO10),$AO10,\nIF(AND(AR10<>$AP10,AS10<>$AP10,AT10<>$AP10,AV10<>$AP10,AU10<>$AP10),$AP10,\n\"\")))))))))))","v":""},{"$f":"IF(AW10=\"\",\"\",\nIF(AND(AR10<>$AG10,AS10<>$AG10,AT10<>$AG10,AU10<>$AG10,AW10<>$AG10,AV10<>$AG10),$AG10,\nIF(AND(AR10<>$AH10,AS10<>$AH10,AT10<>$AH10,AU10<>$AH10,AW10<>$AH10,AV10<>$AH10),$AH10,\nIF(AND(AR10<>$AI10,AS10<>$AI10,AT10<>$AI10,AU10<>$AI10,AW10<>$AI10,AV10<>$AI10),$AI10,\nIF(AND(AR10<>$AJ10,AS10<>$AJ10,AT10<>$AJ10,AU10<>$AJ10,AW10<>$AJ10,AV10<>$AJ10),$AJ10,\nIF(AND(AR10<>$AK10,AS10<>$AK10,AT10<>$AK10,AU10<>$AK10,AW10<>$AK10,AV10<>$AK10),$AK10,\nIF(AND(AR10<>$AL10,AS10<>$AL10,AT10<>$AL10,AU10<>$AL10,AW10<>$AL10,AV10<>$AL10),$AL10,\nIF(AND(AR10<>$AM10,AS10<>$AM10,AT10<>$AM10,AU10<>$AM10,AW10<>$AM10,AV10<>$AM10),$AM10,\nIF(AND(AR10<>$AN10,AS10<>$AN10,AT10<>$AN10,AU10<>$AN10,AW10<>$AN10,AV10<>$AN10),$AN10,\nIF(AND(AR10<>$AO10,AS10<>$AO10,AT10<>$AO10,AU10<>$AO10,AW10<>$AO10,AV10<>$AO10),$AO10,\nIF(AND(AR10<>$AP10,AS10<>$AP10,AT10<>$AP10,AU10<>$AP10,AW10<>$AP10,AV10<>$AP10),$AP10,\n\"\")))))))))))","v":""},{"$f":"IF(AX10=\"\",\"\",\nIF(AND(AR10<>$AG10,AS10<>$AG10,AT10<>$AG10,AU10<>$AG10,AV10<>$AG10,AX10<>$AG10,AW10<>$AG10),$AG10,\nIF(AND(AR10<>$AH10,AS10<>$AH10,AT10<>$AH10,AU10<>$AH10,AV10<>$AH10,AX10<>$AH10,AW10<>$AH10),$AH10,\nIF(AND(AR10<>$AI10,AS10<>$AI10,AT10<>$AI10,AU10<>$AI10,AV10<>$AI10,AX10<>$AI10,AW10<>$AI10),$AI10,\nIF(AND(AR10<>$AJ10,AS10<>$AJ10,AT10<>$AJ10,AU10<>$AJ10,AV10<>$AJ10,AX10<>$AJ10,AW10<>$AJ10),$AJ10,\nIF(AND(AR10<>$AK10,AS10<>$AK10,AT10<>$AK10,AU10<>$AK10,AV10<>$AK10,AX10<>$AK10,AW10<>$AK10),$AK10,\nIF(AND(AR10<>$AL10,AS10<>$AL10,AT10<>$AL10,AU10<>$AL10,AV10<>$AL10,AX10<>$AL10,AW10<>$AL10),$AL10,\nIF(AND(AR10<>$AM10,AS10<>$AM10,AT10<>$AM10,AU10<>$AM10,AV10<>$AM10,AX10<>$AM10,AW10<>$AM10),$AM10,\nIF(AND(AR10<>$AN10,AS10<>$AN10,AT10<>$AN10,AU10<>$AN10,AV10<>$AN10,AX10<>$AN10,AW10<>$AN10),$AN10,\nIF(AND(AR10<>$AO10,AS10<>$AO10,AT10<>$AO10,AU10<>$AO10,AV10<>$AO10,AX10<>$AO10,AW10<>$AO10),$AO10,\nIF(AND(AR10<>$AP10,AS10<>$AP10,AT10<>$AP10,AU10<>$AP10,AV10<>$AP10,AX10<>$AP10,AW10<>$AP10),$AP10,\n\"\")))))))))))","v":""},{"$f":"IF(AY10=\"\",\"\",\nIF(AND(AR10<>$AG10,AS10<>$AG10,AT10<>$AG10,AU10<>$AG10,AV10<>$AG10,AW10<>$AG10,AY10<>$AG10,AX10<>$AG10),$AG10,\nIF(AND(AR10<>$AH10,AS10<>$AH10,AT10<>$AH10,AU10<>$AH10,AV10<>$AH10,AW10<>$AH10,AY10<>$AH10,AX10<>$AH10),$AH10,\nIF(AND(AR10<>$AI10,AS10<>$AI10,AT10<>$AI10,AU10<>$AI10,AV10<>$AI10,AW10<>$AI10,AY10<>$AI10,AX10<>$AI10),$AI10,\nIF(AND(AR10<>$AJ10,AS10<>$AJ10,AT10<>$AJ10,AU10<>$AJ10,AV10<>$AJ10,AW10<>$AJ10,AY10<>$AJ10,AX10<>$AJ10),$AJ10,\nIF(AND(AR10<>$AK10,AS10<>$AK10,AT10<>$AK10,AU10<>$AK10,AV10<>$AK10,AW10<>$AK10,AY10<>$AK10,AX10<>$AK10),$AK10,\nIF(AND(AR10<>$AL10,AS10<>$AL10,AT10<>$AL10,AU10<>$AL10,AV10<>$AL10,AW10<>$AL10,AY10<>$AL10,AX10<>$AL10),$AL10,\nIF(AND(AR10<>$AM10,AS10<>$AM10,AT10<>$AM10,AU10<>$AM10,AV10<>$AM10,AW10<>$AM10,AY10<>$AM10,AX10<>$AM10),$AM10,\nIF(AND(AR10<>$AN10,AS10<>$AN10,AT10<>$AN10,AU10<>$AN10,AV10<>$AN10,AW10<>$AN10,AY10<>$AN10,AX10<>$AN10),$AN10,\nIF(AND(AR10<>$AO10,AS10<>$AO10,AT10<>$AO10,AU10<>$AO10,AV10<>$AO10,AW10<>$AO10,AY10<>$AO10,AX10<>$AO10),$AO10,\nIF(AND(AR10<>$AP10,AS10<>$AP10,AT10<>$AP10,AU10<>$AP10,AV10<>$AP10,AW10<>$AP10,AY10<>$AP10,AX10<>$AP10),$AP10,\n\"\")))))))))))","v":""},{"$f":"IF(AZ10=\"\",\"\",\nIF(AND(AR10<>$AG10,AS10<>$AG10,AT10<>$AG10,AU10<>$AG10,AV10<>$AG10,AW10<>$AG10,AX10<>$AG10,AZ10<>$AG10,AY10<>$AG10),$AG10,\nIF(AND(AR10<>$AH10,AS10<>$AH10,AT10<>$AH10,AU10<>$AH10,AV10<>$AH10,AW10<>$AH10,AX10<>$AH10,AZ10<>$AH10,AY10<>$AH10),$AH10,\nIF(AND(AR10<>$AI10,AS10<>$AI10,AT10<>$AI10,AU10<>$AI10,AV10<>$AI10,AW10<>$AI10,AX10<>$AI10,AZ10<>$AI10,AY10<>$AI10),$AI10,\nIF(AND(AR10<>$AJ10,AS10<>$AJ10,AT10<>$AJ10,AU10<>$AJ10,AV10<>$AJ10,AW10<>$AJ10,AX10<>$AJ10,AZ10<>$AJ10,AY10<>$AJ10),$AJ10,\nIF(AND(AR10<>$AK10,AS10<>$AK10,AT10<>$AK10,AU10<>$AK10,AV10<>$AK10,AW10<>$AK10,AX10<>$AK10,AZ10<>$AK10,AY10<>$AK10),$AK10,\nIF(AND(AR10<>$AL10,AS10<>$AL10,AT10<>$AL10,AU10<>$AL10,AV10<>$AL10,AW10<>$AL10,AX10<>$AL10,AZ10<>$AL10,AY10<>$AL10),$AL10,\nIF(AND(AR10<>$AM10,AS10<>$AM10,AT10<>$AM10,AU10<>$AM10,AV10<>$AM10,AW10<>$AM10,AX10<>$AM10,AZ10<>$AM10,AY10<>$AM10),$AM10,\nIF(AND(AR10<>$AN10,AS10<>$AN10,AT10<>$AN10,AU10<>$AN10,AV10<>$AN10,AW10<>$AN10,AX10<>$AN10,AZ10<>$AN10,AY10<>$AN10),$AN10,\nIF(AND(AR10<>$AO10,AS10<>$AO10,AT10<>$AO10,AU10<>$AO10,AV10<>$AO10,AW10<>$AO10,AX10<>$AO10,AZ10<>$AO10,AY10<>$AO10),$AO10,\nIF(AND(AR10<>$AP10,AS10<>$AP10,AT10<>$AP10,AU10<>$AP10,AV10<>$AP10,AW10<>$AP10,AX10<>$AP10,AZ10<>$AP10,AY10<>$AP10),$AP10,\n\"\")))))))))))","v":""}]
[null,{"$f":"IF(OR(SUM(B12)>0,O11=\"x\"),1,IF(ISNUMBER(O11),O11,0))","v":1},1,{"$f":"J11","v":"813.000"},null,{"$f":"K11","v":"Contrôle d’installation"},"forf.",null,null,"813.000","Contrôle d’installation",null,null,"forf.","x",null,null,null,null,null,null,null,null,null,null,null,null,null,null,null,"x",null,"forf.","forf.","forf.","forf.","forf.","forf.","forf.","forf.","forf.","forf.",null,"forf.","","","","","","","","",""]
[null,0,0,null,{"$f":"L12","v":"813.100"},{"$f":"M12","v":"Contrôle visuel"},"",null,null,null,null,"813.100","Contrôle visuel","forf.",null,null,null,null,null,null,null,null,null,null,null,null,null,null,null,null,"x",null,"forf.","forf.","forf.","forf.","forf.","forf.","forf.","forf.","forf.","forf.",null,"forf.","","","","","","","","",""]
[null,0,0,{"$f":"J13","v":"814.000"},null,{"$f":"K13","v":"Évaluation de la production/consommation"},"",null,null,"814.000","Évaluation de la production/consommation",null,null,"forf.",null,null,null,null,null,null,null,null,null,null,null,null,null,null,null,null,"x",null,"forf.","forf.","forf.","forf.","forf.","forf.","forf.","forf.","forf.","forf.",null,"forf.","","","","","","","","",""]
[null,{"$f":"IF(OR(SUM(B15:B19)>0,O14=\"x\"),1,IF(ISNUMBER(O14),O14,0))","v":0},0,"815.000",null,"Mesures/relevés","",null,null,"815.000","Mesures/relevés",null,null,"forf.",null,null,null,null,null,null,null,null,null,null,null,null,null,null,null,null,"x",null,"forf.","forf.","forf.","forf.","forf.","forf.","forf.","forf.","forf.","forf.",null,"forf.","","","","","","","","",""]
[null,0,0,null,{"$f":"L15","v":"815.100"},{"$f":"M15","v":"Mesures I/U"},"",null,null,null,null,"815.100","Mesures I/U","forf.",null,null,null,null,null,null,null,null,null,null,null,null,null,null,null,null,"x",null,"forf.","forf.","forf.","forf.","forf.","forf.","forf.","forf.","forf.","forf.",null,"forf.","","","","","","","","",""]
[null,0,0,null,{"$f":"L16","v":"815.200"},"Mesures ISO","",null,null,null,null,"815.200","Mesures ISO","forf.",null,null,null,null,null,null,null,null,null,null,null,null,null,null,null,null,"x",null,"forf.","forf.","forf.","forf.","forf.","forf.","forf.","forf.","forf.","forf.",null,"forf.","","","","","","","","",""]
[null,0,0,null,{"$f":"L17","v":"815.300"},"Mesure de courbes caractéristiques","",null,null,null,null,"815.300","Mesure de courbes caractéristiques","forf.",null,null,null,null,null,null,null,null,null,null,null,null,null,null,null,null,"x",null,"forf.","forf.","forf.","forf.","forf.","forf.","forf.","forf.","forf.","forf.",null,"forf.","","","","","","","","",""]
[null,0,0,null,{"$f":"L18","v":"815.400"},"Thermographie","",null,null,null,null,"815.400","Thermographie","forf.",null,null,null,null,null,null,null,null,null,null,null,null,null,null,null,null,"x",null,"forf.","forf.","forf.","forf.","forf.","forf.","forf.","forf.","forf.","forf.",null,"forf.","","","","","","","","",""]
[null,0,0,null,{"$f":"L19","v":"815.500"},"Électroluminescence","",null,null,null,null,"815.500","Électroluminescence","forf.",null,null,null,null,null,null,null,null,null,null,null,null,null,null,null,null,"x",null,"forf.","forf.","forf.","forf.","forf.","forf.","forf.","forf.","forf.","forf.",null,"forf.","","","","","","","","",""]
[null,{"$f":"IF(OR(SUM(B21:B22)>0,O20=\"x\"),1,IF(ISNUMBER(O20),O20,0))","v":0},0,{"$f":"J20","v":"816.000"},null,{"$f":"K20","v":"Contrôle de modules en laboratoire"},"",null,null,"816.000","Contrôle de modules en laboratoire",null,null,"forf.",null,null,null,null,null,null,null,null,null,null,null,null,null,null,null,null,"x",null,"forf.","forf.","forf.","forf.","forf.","forf.","forf.","forf.","forf.","forf.",null,"forf.","","","","","","","","",""]
[null,0,0,null,{"$f":"L21","v":"816.100"},{"$f":"M21","v":"Puissance du module"},"",null,null,null,null,"816.100","Puissance du module","forf.",null,null,null,null,null,null,null,null,null,null,null,null,null,null,null,null,"x",null,"forf.","forf.","forf.","forf.","forf.","forf.","forf.","forf.","forf.","forf.",null,"forf.","","","","","","","","",""]
[null,0,0,null,{"$f":"L22","v":"816.200"},"Électroluminescence","",null,null,null,null,"816.200","Électroluminescence","forf.",null,null,null,null,null,null,null,null,null,null,null,null,null,null,null,null,"x",null,"forf.","forf.","forf.","forf.","forf.","forf.","forf.","forf.","forf.","forf.",null,"forf.","","","","","","","","",""]
[null,1,1,{"$f":"J23","v":"817.000"},null,{"$f":"K23","v":"Contrôle périodique (renouvellement rapport de sécurité)"},"forf.",null,null,"817.000","Contrôle périodique (renouvellement rapport de sécurité)",null,null,"forf.","x",null,null,null,null,null,null,null,null,null,null,null,null,null,null,null,"x",null,"forf.","forf.","forf.","forf.","forf.","forf.","forf.","forf.","forf.","forf.",null,"forf.","","","","","","","","",""]
[null,0,0,"818.000",null,"Nouvel audit Pronovo (> 300 kWp)","",null,null,"818.000","Nouvel audit Pronovo (> 300 kWp)",null,null,"forf.",null,null,null,null,null,null,null,null,null,null,null,null,null,null,null,null,"x",null,"forf.","forf.","forf.","forf.","forf.","forf.","forf.","forf.","forf.","forf.",null,"forf.","","","","","","","","",""]
[null,{"$f":"B6","v":1},0,null,null,null,"",null,null,null,null,null,null,null,null,null,null,null,null,null,null,null,null,null,null,null,null,null,null,null,null,null,"","","","","","","","","","",null,"","","","","","","","","",""]
[null,{"$f":"IF(Q26=\"x\",1,IF(SUM(B27:B32)>0,1,0))","v":1},0,{"$f":"H26","v":"820.000"},null,{"$f":"I26","v":"Décompte de la consommation propre (RCP)"},"","820.000","Décompte de la consommation propre (RCP)",null,null,null,null,"forf.",null,null,null,null,null,null,null,null,null,null,null,null,null,null,null,null,"x",null,"forf.","forf.","forf.","forf.","forf.","forf.","forf.","forf.","forf.","forf.",null,"forf.","","","","","","","","",""]
[null,{"$f":"IF(O27=\"x\",1,IF(ISNUMBER(O27),O27,0))","v":1},1,{"$f":"J27","v":"821.000"},null,{"$f":"K27","v":"Décompte RCP"},"forf.",null,null,"821.000","Décompte RCP",null,null,"forf.","x",null,null,null,null,null,null,null,null,null,null,null,null,null,null,null,"x",null,"forf.","forf.","forf.","forf.","forf.","forf.","forf.","forf.","forf.","forf.",null,"forf.","","","","","","","","",""]
[null,0,0,"822.000",null,"Décompte GRD","",null,null,"822.000","Décompte GRD",null,null,"forf.",null,null,null,null,null,null,null,null,null,null,null,null,null,null,null,null,"x",null,"forf.","forf.","forf.","forf.","forf.","forf.","forf.","forf.","forf.","forf.",null,"forf.","","","","","","","","",""]
[null,0,0,"823.000",null,"Décompte consommateur d’énergie individuel","",null,null,"823.000","Décompte consommateur d’énergie individuel",null,null,"forf.",null,null,null,null,null,null,null,null,null,null,null,null,null,null,null,null,"x",null,"forf.","forf.","forf.","forf.","forf.","forf.","forf.","forf.","forf.","forf.",null,"forf.","","","","","","","","",""]
[null,0,0,"824.000",null,"Décompte compteur d’eau","",null,null,"824.000","Décompte compteur d’eau",null,null,"forf.",null,null,null,null,null,null,null,null,null,null,null,null,null,null,null,null,"x",null,"forf.","forf.","forf.","forf.","forf.","forf.","forf.","forf.","forf.","forf.",null,"forf.","","","","","","","","",""]
[null,0,0,"825.000",null,"Décompte compteur de chaleur","",null,null,"825.000","Décompte compteur de chaleur",null,null,"forf.",null,null,null,null,null,null,null,null,null,null,null,null,null,null,null,null,"x",null,"forf.","forf.","forf.","forf.","forf.","forf.","forf.","forf.","forf.","forf.",null,"forf.","","","","","","","","",""]
[null,0,0,"826.000",null,"Prestations complémentaires","",null,null,"826.000","Prestations complémentaires",null,null,"forf.",null,null,null,null,null,null,null,null,null,null,null,null,null,null,null,null,"x",null,"forf.","forf.","forf.","forf.","forf.","forf.","forf.","forf.","forf.","forf.",null,"forf.","","","","","","","","",""]
[null,{"$f":"B26","v":1},0,null,null,null,"",null,null,null,null,null,null,null,null,null,null,null,null,null,null,null,null,null,null,null,null,null,null,null,null,null,"","","","","","","","","","",null,"","","","","","","","","",""]
[null,{"$f":"IF(Q34=\"x\",1,IF(SUM(B35:B38)>0,1,0))","v":1},0,{"$f":"H34","v":"830.000"},null,{"$f":"I34","v":"Prestations de sécurité"},"","830.000","Prestations de sécurité",null,null,null,null,"forf.",null,null,null,null,null,null,null,null,null,null,null,null,null,null,null,null,"x",null,"forf.","forf.","forf.","forf.","forf.","forf.","forf.","forf.","forf.","forf.",null,"forf.","","","","","","","","",""]
[null,{"$f":"IF(OR(SUM(B36)>0,O35=\"x\"),1,IF(ISNUMBER(O35),O35,0))","v":1},1,{"$f":"J35","v":"831.000"},null,{"$f":"K35","v":"Garantie de bonne exécution"},"forf.",null,null,"831.000","Garantie de bonne exécution",null,null,"forf.","x",null,null,null,null,null,null,null,null,null,null,null,null,null,null,null,"x",null,"forf.","forf.","forf.","forf.","forf.","forf.","forf.","forf.","forf.","forf.",null,"forf.","","","","","","","","",""]
[null,{"$f":"IF(O36=\"x\",1,IF(ISNUMBER(O36),O36,0))","v":0},0,null,{"$f":"L36","v":"832.100"},{"$f":"M36","v":"Réassurance"},"",null,null,null,null,"832.100","Réassurance","forf.",null,null,null,null,null,null,null,null,null,null,null,null,null,null,null,null,"x",null,"forf.","forf.","forf.","forf.","forf.","forf.","forf.","forf.","forf.","forf.",null,"forf.","","","","","","","","",""]
[null,0,0,{"$f":"J37","v":"832.000"},null,{"$f":"K37","v":"Garantie pour les défauts de l’ouvrage"},"",null,null,"832.000","Garantie pour les défauts de l’ouvrage",null,null,"forf.",null,null,null,null,null,null,null,null,null,null,null,null,null,null,null,null,"x",null,"forf.","forf.","forf.","forf.","forf.","forf.","forf.","forf.","forf.","forf.",null,"forf.","","","","","","","","",""]
[null,1,1,"833.000",null,"Garantie de production","forf.",null,null,"833.000","Garantie de production",null,null,"forf.","x",null,null,null,null,null,null,null,null,null,null,null,null,null,null,null,"x",null,"forf.","forf.","forf.","forf.","forf.","forf.","forf.","forf.","forf.","forf.",null,"forf.","","","","","","","","",""]
[null,{"$f":"B34","v":1},0]

{"sheet":"E_Box000","index":11,"n_rows":57,"n_cols":4,"rows_kept":57,"cut":false,"hidden":true,"merged":[]}
["Anwendungsbereich"]
["Strukturebene 1",null,"000","000"]
["Struktruebene 2",null,"010","010"]
["Strukturebene 3",null,"011","012"]
[null,null,"ne pas changer le nom du titre ci-dessous"]
[null,null,"E000_Begriffe_Abkürzungen","E000_Normen"]
["Nr."]
[1,null,"Couverture: couche supérieure directement exposée aux intempéries sur toit incliné","Dispositions légales électricité"]
[2,null,"Toiture plate : terme générique pour les toits sans ou avec une légère pente et un système d’étanchéité sans joints","Réglementation SIA"]
[3,null,"Toit incliné : toiture dont l’inclinaison permet une pose par recouvrement ou une couverture plane","Prescriptions de protection incendie AEAI"]
[4,null,"Ossature porteuse : ensemble des éléments de construction nécessaires à la tenue statique de l’ouvrage","Papiers sur l’état de la technique"]
[5,null,"Sous-construction : couches et éléments de construction de la structure du toit et de la façade sous la couverture ou le revêtement qui ne concernent pas l’ossature porteuse","Documents de la branche de l’AES"]
[6,null,"Structure de montage PV: système de support permettant de fixer les modules d'une manière durable","OIBT : Ordonnance sur les installations à basse tension"]
[7,null,"Tôle d’acier CrNi : tôle d’acier au nickel-chrome","OMBT : Ordonnance sur les matériels électriques à basse tension"]
[8,null,"ESTI : Inspection fédérale des installations à courant fort","OGOM : Ordonnance sur la garantie d’origine"]
[9,null,"ECA : établissement cantonal d’assurance","LEne : Loi sur l’énergie"]
[10,null,"Suva : caisse nationale suisse d’assurance en cas d’accidents","OEne : Ordonnance sur l’énergie"]
[11,null,"SIA : Société suisse des ingénieurs et des architectes","OEneR : Ordonnance sur l’encouragement de la production d’électricité issue d’énergies renouvelables"]
[12,null,"Swissolar : Association suisse des professionnels de l’énergie solaire"]
[13,null,"AC : alternating current (courant alternatif)"]
[14,null,"DC : direct current (courant continu)"]
[15,null,"AM : air mass (masse d’air)"]
[16,null,"GRD : gestionnaire de réseau de distribution"]
[17,null,"RPLP: redevance sur le trafic des poids lourds liée aux prestations"]
[18,null,"STC : Standard Test Conditions"]
[19,null,"Azimut : déviation des modules par rapport au nord"]
[20]
[21]
[22]
[23]
[24]
[25]
[26]
[27]
[28]
[29]
[30]
[31]
[32]
[33]
[34]
[35]
[36]
[37]
[38]
[39]
[40]
[41]
[42]
[43]
[44]
[45]
[46]
[47]
[48]
[49]
[50]

{"sheet":"E_Box100","index":12,"n_rows":57,"n_cols":5,"rows_kept":57,"cut":false,"hidden":true,"merged":[]}
["Anwendungsbereich"]
["Strukturebene 1",null,100,100]
["Struktruebene 2",null,"110, 120, 130, 140, 150, 160, 170, 180, 190",190]
["Strukturebene 3",null,"111 - 193","194-196"]
[null,null,"ne pas changer le nom du titre ci-dessous"]
[null,null,"E100_PV_Module","E100_Blindmodule","E100_PV_Module_rahmenlos"]
["Nr."]
[1,null,"Cadre argenté","Panneau composite en alu","Backsheet blanc"]
[2,null,"Cadre noir","Verre","Backsheet noir"]
[3,null,"Cadre coloré","Métal","Backsheet transparent"]
[4,null,"Backsheet blanc","Couleur","Busbars recouverts / masqués"]
[5,null,"Backsheet noir","Épaisseur","Verre avant imprimé"]
[6,null,"Backsheet transparent","Forme","Impression du verre : coloration intérieure homogène"]
[7,null,"Busbars recouverts / masqués",null,"Impression du verre : coloration intérieure avec motif"]
[8,null,"Verre avant imprimé",null,"Impression du verre : revêtement extérieur"]
[9,null,"Impression du verre : coloration intérieure homogène",null,"Impression du verre : coloration extérieure homogène"]
[10,null,"Impression du verre : coloration intérieure avec motif",null,"Cellules munies de contacts sur la face arrière"]
[11,null,"Impression du verre : revêtement extérieur",null,"Monocristallin"]
[12,null,"Impression du verre : coloration extérieure homogène",null,"Polycristallin"]
[13,null,"Cellules munies de contacts sur la face arrière",null,"CIGS"]
[14,null,"Monocristallin",null,"Silicium amorphe"]
[15,null,"Polycristallin",null,"Cellules organiques"]
[16,null,"CIGS",null,"CdTe"]
[17,null,"Silicium amorphe",null,"Type de verre avant"]
[18,null,"Cellules organiques",null,"Type de verre arrière"]
[19,null,"CdTe",null,"Épaisseur verre avant"]
[20,null,"Type de verre avant",null,"Épaisseur verre arrière"]
[21,null,"Type de verre arrière",null,"Optimiseur"]
[22,null,"Épaisseur verre avant",null,"Demi-cellules"]
[23,null,"Épaisseur verre arrière",null,"Superposition des cellules (Shingles)"]
[24,null,"Optimiseur",null,"Boîtier de raccordement"]
[25,null,"Demi-cellules",null,"Connecteur PV"]
[26,null,"Superposition des cellules (Shingles)",null,"Puissance min. Wp"]
[27,null,"Boîtier de raccordement",null,"Rendement surfacique"]
[28,null,"Connecteur PV",null,"Longueur"]
[29,null,"Puissance min. Wp",null,"Largeur"]
[30,null,"Rendement surfacique",null,"Hauteur"]
[31,null,"Longueur",null,"Bifacial"]
[32,null,"Largeur",null,"Diodes bypass (nombre)"]
[33,null,"Hauteur",null,"Longueur câble de raccordement"]
[34,null,"Bifacial"]
[35,null,"Diodes bypass (nombre)"]
[36,null,"Longueur câble de raccordement"]
[37]
[38]
[39]
[40]
[41]
[42]
[43]
[44]
[45]
[46]
[47]
[48]
[49]
[50]

{"sheet":"E_Box200","index":13,"n_rows":57,"n_cols":5,"rows_kept":57,"cut":false,"hidden":true,"merged":[]}
["Anwendungsbereich"]
["Strukturebene 1",null,200,200,200]
["Struktruebene 2",null,"210, 220, 230, 240, 250, 260, 270",280,280]
["Strukturebene 3",null,"211 -279",281,282]
[null,null,"ne pas changer le nom du titre ci-dessous"]
[null,null,"E200_PV_Montagekonstruktion","E200_Aufwuchshemmende_Matte","E200_Anschlüsse_Schrägdach_integriert"]
["Nr."]
[1,null,"Système d’insertion","< 3 mm d’épaisseur","Pour tuiles"]
[2,null,"Système de serrage","4-5 mm d’épaisseur","Pour tuiles plates"]
[3,null,"Vissage du cadre du module","6-7 mm d’épaisseur","Pour ardoise ou plaques de couverture planes"]
[4,null,"Collage au module","8-9 mm d’épaisseur","Pour tôles/fibrociments ondulés"]
[5,null,"Aluminium","> 10 mm d’épaisseur","Pour tôles profilées"]
[6,null,"Acier inoxydable","Perméabilité à l’eau"]
[7,null,"Acier galvanisé","Collage"]
[8,null,"Bois","Recouvrement"]
[9,null,"Période de garantie","Période de garantie"]
[10,null,"Fabricant","Résistance aux UV"]
[11,null,"Renforcement"]
[12,null,"Champs partiels"]
[13,null,"Couleur"]
[14,null,"Nombre de rails (2/3/4)"]
[15,null,"Assemblage en croix"]
[16,null,"Couleur parties visibles"]
[17,null,"Lestage avec gravier /substrat"]
[18,null,"Système de montage autolesté "]
[19,null,"Collé"]
[20]
[21]
[22]
[23]
[24]
[25]
[26]
[27]
[28]
[29]
[30]
[31]
[32]
[33]
[34]
[35]
[36]
[37]
[38]
[39]
[40]
[41]
[42]
[43]
[44]
[45]
[46]
[47]
[48]
[49]
[50]

{"sheet":"E_Box300","index":14,"n_rows":57,"n_cols":17,"rows_kept":57,"cut":false,"hidden":true,"merged":[]}
["Anwendungsbereich"]
["Strukturebene 1",null,300,300,300,300,300,300,300,300,300,300,300,300,300,300,300]
["Struktruebene 2",null,310,320,330,"340-350",360,360,360,360,360,360,360,370,370,370,380]
["Strukturebene 3",null,"311-319","321-329","331-339","341-359",361,362,363,364,365,366,368,371,372,373,381]
[null,null,"ne pas changer le nom du titre ci-dessous"]
[null,null,"E300_Stringwechselrichter","E300_Zentralwechselrichter","E300_GAK","E300_Batterie","E300_Moduloptimierer","E300_Stringoptimierer","E300_Datalogger","E300_Wettersensoren","E300_SmartMeter","E300_Steuerung_Verbraucher","E300_Visualisierung","E300_Ladestationen","E300_Wärmeerzeuger","E300_SmartEnergy","E300_Inselwechselrichter"]
["Nr."]
[1,null,"Rapport de puissance nominale","Rapport de puissance nominale","Nombre de MPPT","Lithium-ion","Puissance de module max. ","Puissance string max. ","Protection IP","Cellule de référence","Monophasé","Nombre de contacts sans potentiel","Protection IP","Borne de recharge pour transports publics","Chauffe-eau électrique","Commande de prise électrique","Rapport de puissance nominale"]
[2,null,"Nombre de MPPT","Nombre de MPPT","Nombre d’entrées par MPPT","Lithium-phosphate de fer","Nombre max. de modules ","Nombre max. de modules ","Portail","Pyranomètre","Triphasé","Nombre d’entrées numériques","Type de fixation","Borne de recharge pour vélos","Chauffe-eau avec PAC","Portail","Nombre de MPPT"]
[3,null,"Tension d’entrée DC","Tension d’entrée DC","Borne de raccordement à l'entrée","Plomb","Type de communication (p. ex. courant porteur)","Type de communication (p. ex. courant porteur)","Type de fixation","Capteur de température","Mesure directe","Nombre de sorties analogiques","Emplacement","AC","Élément chauffant 1-step (on/off)","App","Tension d’entrée DC"]
[4,null,"Tension de réseau AC","Tension de réseau AC","Borne de raccordement à la sortie","Sel","Tension à vide (p. ex. 1 V)","Tension à vide (p. ex. 1 V)","Tension d’alimentation (12/24/230 V)","Capteur de précipitations","Mesure avec transformateur d'intensité","Nombre d’entrées analogiques","Tension d’alimentation (12/24/230 V)","DC","Élément chauffant 2-step (à paliers)","SmartHome","Protection IP"]
[5,null,"Protection IP","Protection IP","Borne de raccordement pour la liaison équipotentielle","Eau salée","Tension système max. (p. ex. 1000/1500 V)","Tension système max. (p. ex. 1000/1500 V)","Nombre d’entrées onduleur avec procotole diff.","Protection IP","avec fonction de commutation","Nombre d’entrées élément de température","Affichage (LED, écran)","Type de connecteur (type 1, type 2, CCS, CHAdeMO)","Élément chauffant continu","Interfaces","Topologie des appareils (avec/sans transformateur)"]
[6,null,"Typologie d'appareil (avec/sans transformateur)","Typologie d'appareil (avec/sans transformateur)","Protection IP","Redox","Type de fixation","Type de fixation","Nombre de sorties (p. ex. contact sans potentiel)","Type de fixation","Type de fixation (p. ex. rail DIN)","Nombre max. de bornes de recharge pilotables","Connexion portail","Puissance de charge AC","Puissance électrique","Protocole","Topologie des appareils (avec/sans transformateur)"]
[7,null,"Point de sectionnement AC","Point de sectionnement AC","Type de fixation","Capacité","Fonction de sécurité en cas de coupure","Fonction de sécurité en cas de coupure","Interface S0","Mesure du vent","Courant max. raccordement direct","y compris surveillance des onduleurs",null,"Puissance de charge DC","Tension d’entrée (230/400 V)","Unité de bridage dynamique","Point de sectionnement DC"]
[8,null,"Point de sectionnement DC","Point de sectionnement DC","Type de boîtier métal/plastique","Puissance","Surveillance par optimiseur","Surveillance par optimiseur","Protocole (p. ex. Sunspect)","Mesure du rayonnement","Courant max. avec transformateur d'intensité","y compris commande onduleur de batterie",null,"Tension de charge AC (230/400 V)",null,null,"SPD DC type 2"]
[9,null,"Paramètres régionaux","Paramètres régionaux","Fusibles de chaîne","Modulaire",null,null,"Intégration dans le système de gestion du bâtiment","Mesure de la température","Certification (p. ex. MID, aucune)","Portail",null,"Tension de charge DC (p. ex. 400/800 V)",null,null,"SPD DC type 1+2"]
[10,null,"Paramètres réseau","Paramètres réseau","Détection d'arcs électriques","Non modulaire",null,null,"Contacts libres pour surveillance SPD",null,"Protocole","Protocole",null,"Affichage",null,null,"Poids"]
[11,null,"Portail","Portail",null,"Possibilité de mise en cascade",null,null,null,null,"Compatibilité","Compatibilité",null,"Panneau de paiement / moyen de paiement",null,null,"Type de fixation"]
[12,null,"SPD DC type 2","SPD DC type 3",null,"Fonction d’alimentation de secours",null,null,null,null,null,"Mode de commutation (continu, 1 step, 2 step)",null,"Portail"]
[13,null,"SPD DC type 1+2","SPD DC type 1+3",null,"Nombre de cycles",null,null,null,null,null,"Capacité de commutation (puissance)",null,"Verrouillage possible (avec carte, puce, appli)"]
[14,null,"SPD AC type 2","SPD AC type 3",null,null,null,null,null,null,null,null,null,"Pilotage de la borne selon production PV"]
[15,null,"SPD AC type 1+2","SPD AC type 1+3",null,null,null,null,null,null,null,null,null,"Protocole"]
[16,null,"Option détection d'arcs électriques","Option détection d'arcs électriques",null,null,null,null,null,null,null,null,null,"Possibilité de charge dynamique (p. ex. sur base de l'excédent de production)"]
[17,null,"Option ajout ultérieur SPD","Option ajout ultérieur SPD"]
[18,null,"Option optimiseur (du même fabricant)","Poids"]
[19,null,"Poids","Type de fixation"]
[20,null,"Type de fixation"]
[21,null,"Avec fusibles de chaîne"]
[22,null,"Avec surveillance des chaînes"]
[23]
[24]
[25]
[26]
[27]
[28]
[29]
[30]
[31]
[32]
[33]
[34]
[35]
[36]
[37]
[38]
[39]
[40]
[41]
[42]
[43]
[44]
[45]
[46]
[47]
[48]
[49]
[50]

{"sheet":"E_Box400","index":15,"n_rows":57,"n_cols":9,"rows_kept":57,"cut":false,"hidden":true,"merged":[]}
["Anwendungsbereich"]
["Strukturebene 1",null,400,400,400,400,400,400,400]
["Struktruebene 2",null,"400",410,420,430,440,450,460]
["Strukturebene 3",null,"400","411-419","421-429","431-435","441-442","451-453","461-463"]
[null,null,"ne pas changer le nom du titre ci-dessous"]
[null,null,"E400_DC_Installation","E400_Solarleitungen","E400_Solarstecker","E400_DC_Kabelschutz","E400_DC_Verbrauchsmaterial","E400_DC_POT_Ausgleich","E400_Anschluss_best_Blitzschutz"]
["Nr."]
[1,null,"1500 V testé","testé 1500 V ","Connecteur d’origine du fabricant (selon la NIBT)","Montage sur dalettes","Résistant aux UV","Caractéristiques des matériaux (aluminium, cuivre, acier chromé)","Caractéristiques des matériaux (aluminium, cuivre, acier chromé)"]
[2,null,"Selon la norme…","Selon la norme…","testé 1500 V ","Montage mural","Durable","Inoxydable","Taille de la maille"]
[3,null,"Section","Section","Selon la norme…","Montage au plafond","Sans halogène","V2A"]
[4,null,"Résistant aux UV","Résistant aux UV",null,"Sans capot",null,"V4A"]
[5,null,"Connecteur d’origine du fabricant (selon la NIBT)","Gaîne extérieure",null,"Avec capot",null,"Sans halogène"]
[6,null,"Sans halogène",null,null,"échelle de câble",null,"Jaune-vert"]
[7,null,"Durable",null,null,"Galvanisé à froid",null,"Conducteur torsadé"]
[8,null,"Conduites inoxydables (min. V2A, aluminium)",null,null,"Galvanisé à chaud",null,"Câble"]
[9,null,"Conduites inoxydables V4A",null,null,"Inoxydable (min. V2A, aluminium)",null,"6 mm²"]
[10,null,"Conduites galvanisées à chaud",null,null,"Inoxydable V4A",null,"10 mm²"]
[11,null,"Conduites galvanisées à froid",null,null,"Résistant aux UV",null,"16 mm²"]
[12,null,"Conduites perforées",null,null,"M20",null,"25 mm²"]
[13,null,"Conduites fermées",null,null,"M25",null,"35 mm²"]
[14,null,"Classe de protection incendie",null,null,"M32",null,"50 mm²"]
[15,null,null,null,null,"M40",null,"Fil rond"]
[16,null,null,null,null,"M50",null,"Ruban"]
[17,null,null,null,null,"M63",null,"Diamètre 8 mm"]
[18,null,null,null,null,"Conduite perforée",null,"Diamètre 10 mm"]
[19,null,null,null,null,"Conduite fermée",null,"Dimension Lxl"]
[20,null,null,null,null,"Sans halogène",null,"Protégé contre le desserrement"]
[21,null,null,null,null,"Largeur de la canalisation"]
[22,null,null,null,null,"Hauteur de la canalisation"]
[23,null,null,null,null,"Couleur"]
[24,null,null,null,null,"Diamètre tube/tuyau"]
[25,null,null,null,null,"Cuivre"]
[26,null,null,null,null,"Aluminium"]
[27,null,null,null,null,"Classe de protection incendie"]
[28,null,null,null,null,"Gaîne thérmorétractable"]
[29,null,null,null,null,"Gaîne flexible (en 2 parties)"]
[30]
[31]
[32]
[33]
[34]
[35]
[36]
[37]
[38]
[39]
[40]
[41]
[42]
[43]
[44]
[45]
[46]
[47]
[48]
[49]
[50]

{"sheet":"E_Box500","index":16,"n_rows":57,"n_cols":19,"rows_kept":57,"cut":false,"hidden":true,"merged":[]}
["Anwendungsbereich"]
["Strukturebene 1",null,500,500,500,500,500,500,500,500,500,500,500,500,500,500,500,500,500]
["Struktruebene 2",null,510,520,520,520,520,520,520,520,530,540,550,550,550,550,550,550,560]
["Strukturebene 3",null,"511-512",521,522,523,524,525,526,527,"531-535","541-543",551,552,553,554,555,556,561]
[null,null,"ne pas changer le nom du titre ci-dessous"]
[null,null,"E500_AC_Leitungen","E500_AC_Schalter","E500_NS_SGK","E500_AC_Absicherung","E500_NS_NA_Schutz","E500_AC_SPD","E500_AC_Zähler","E500_Stromwandler","E500_AC_Kabelführung","E500_AC_POT_Ausgleich","E500_MS_Trafo","E500_MS_Containerstation","E500_MS_Leitungen","E500_MS_Schaltanlage","E500_MS_NA_Schutz","E500_MS_SPD","E500_ZEV_Zähler"]
["Nr."]
[1,null,"Section","Capacité de courant de court-circuit","Avec interrupteur général","Coupe-circuit BT à haut pouvoir de coupure (HPC)","Puissance nominale","Tension","Compteurs étalonné (certifiés MID)","Rapport de transformation","Montage sur dalettes","Inoxydable","Type","Type","Sans halogène","Disjoncteur de protection","Puissance nominale","Tension","Compteurs étalonnés (certifiés MID)"]
[2,null,"Nombre de conducteurs","Intensité maximale admissible","Nombre de disjoncteurs de protection avec indication de la charge nominale","Disjoncteur de protection","Norme (p. ex. selon VDE-AR-N 4105)","Type 1","Compteur non étalonné","Calibré","Montage mural","V2A","Puissance en kVA","Puissance en kVA","Conducteur torsadé","Interrupteur de charge","Norme (p. ex. selon VDE-AR-N 4105)","Type 1","SmartMeter non étalonné"]
[3,null,"Câble TT","Protection IP","Type SPD (protection contre les surtensions)","Sectionneur à coupure en charge","Externe","Type 2","Mesure directe","Non calibré","Montage au plafond","V4A","Isolation","Protection IP","Câble","Sectionneur de neutre","Externe","Type 2","Mesure directe"]
[4,null,"Câble Pur","Type de fixation","Nombre de prises avec protection différentielle","Sectionneur de neutre","Intégré dans l’onduleur","Type 3","Mesure avec transformateur d'intensité","Type de montage (TI ouvrant, transformateur fermé)","Sans capot","Sans halogène","Tension primaire HT en kV",null,"Couleur","Disjoncteur de puissance","Intégré dans l’onduleur","Type 3","Mesure avec transformateur d'intensité"]
[5,null,"Résistant aux UV","Emplacement","Classe de protection IP","Fusible de sécurité","Capacité de coupure en charge","Type de montage (p. ex. sur rail DIN)","Rapport de transformation",null,"Avec capot","Jaune-vert","Tension secondaire BT en V",null,"Résistance d'isolement","Sélectivité","Capacité de coupure en charge","Type de montage (p. ex. sur rail DIN)","Rapport de transformation"]
[6,null,"Hydrophobe","Intégration possible dans les tableaux existants","Place pour enregistreur de données","Fusible de protection des appareils","Contacteur","Avec protection contre les surintensités en amont","Courant de mesure max.",null,"échelle de câble","Conducteur torsadé","Groupe horaire",null,"Lieu d’installation (fouilles, installation intérieure, etc.)","Tension en V","Contacteurs",null,"Courant de mesure max."]
[7,null,"Type de pose","Courant nominal en A","Avec ou sans protection RI externe","Disjoncteur moteur","Disjoncteur moteur","Sans protection contre les surintensités en amont","Précision",null,"Galvanisé à froid","Câble","Tension de court-circuit Uk en %",null,"1LNPE","Capacité de coupure en charge en A","Disjoncteur moteur",null,"Précision"]
[8,null,"Cuivre","Pouvoir de coupure en A","Nombre de compteurs privés (spécification courant max., avec ou sans transformateur, calibrés)","Relais de protection moteur","Disjoncteur de puissance",null,"Portail",null,"Galvanisé à chaud","6 mm²","Blindage électrostatique entre HT/BT",null,"3LNPE","Courant de court-circuit en A","Disjoncteur de puissance",null,"Débit"]
[9,null,"Aluminium","Surveillance","Nombre de compteurs GRD (spécification courant max., avec ou sans transformateur)","Disjoncteur de puissance","Interrupteur de charge",null,"Interfaces",null,"Inoxydable (min. V2A, aluminium)","10 mm²","Pertes à vide",null,"3LPEN","Courant nominal en A","Interrupteur de charge",null,"Protocole de communication Modbus"]
[10,null,"Sans halogène","Commande à distance","Résistance au courants de court-circuit","Redondance","Puissance de court-circuit",null,"Protocole",null,"Inoxydable V4A","16 mm²","Pertes sous charge",null,"1,5 mm²",null,"Puissance de court-circuit",null,"Protocole de communication M-Bus"]
[11,null,"Conducteur torsadé","Verrouillable","Emplacement","Sélectivité","Courant de court-circuit",null,null,null,"Résistant aux UV","25 mm²","Protection transfo intégrée",null,"2,5 mm²",null,"Courant de court-circuit",null,"Protocole de communication KNX"]
[12,null,"Câble","Protégé contre les contacts directs","Protection IP","Tension en V","Relais de surveillance de la tension",null,null,null,"M20","35 mm²","Galets de roulement",null,"4 mm²",null,"Relais de surveillance de la tension",null,"Portail"]
[13,null,"Couleur","Plage de tension en V","Ventilation","Capacité de coupure en charge en A","Un disjoncteur de couplage",null,null,null,"M25","50 mm²","Connecteur enfichable côté HT",null,"6 mm²",null,"Un disjoncteur de couplage",null,"Interfaces"]
[14,null,"Résistance d'isolement ","coupure tripolaire ","Chauffage","Courant de court-circuit en A","Deux disjoncteurs de couplage",null,null,null,"M32","Fil rond","Languettes de raccordement côté BT",null,"10 mm²",null,"Deux disjoncteurs de couplage"]
[15,null,"Lieu d’installation (fouilles, installation intérieure, etc.)","Coupure quadripolaire","Capteur de température","Courant nominal en A","Tension max.",null,null,null,"M40","Ruban","Altitude d’installation max. (m)",null,"16 mm²",null,"Tension max."]
[16,null,"1LNPE","Couleur","Nombre d’entrées",null,"Avec ou sans sureillance de l'état de commutation",null,null,null,"M50","Diamètre 8 mm","Implantation (int./ext.)",null,"25 mm²"]
[17,null,"3LNPE",null,"Nombre de sorties",null,null,null,null,null,"M63","Diamètre 10 mm","Poids à vide",null,"35 mm²"]
[18,null,"3LPEN",null,"Raccordement max. en A par entrée",null,null,null,null,null,"Conduite perforée","Dimension Lxl","Poids installé",null,"50 mm²"]
[19,null,"1,5 mm²",null,"Raccordement max. en A par sortie",null,null,null,null,null,"Conduite fermée","Protégé contre le desserrement","Couleur",null,"70 mm²"]
[20,null,"2,5 mm²",null,"Cellule pour la mesure de la production",null,null,null,null,null,"Sans halogène","Cuivre","Protégé contre les contacts directs",null,"95 mm²"]
[21,null,"4 mm²",null,"Mesure avec transformateur d'intensité",null,null,null,null,null,"Largeur de la canalisation","Aluminium",null,null,"120 mm²"]
[22,null,"6 mm²",null,"Place pour enregistreur de données",null,null,null,null,null,"Hauteur de la canalisation",null,null,null,"150 mm²"]
[23,null,"10 mm²",null,"Type de coupe-circuit (coupe-circuit BT à haut pouvoir de coupure/disjoncteur de protection)",null,null,null,null,null,"Couleur",null,null,null,"185 mm²"]
[24,null,"16 mm²",null,"Protection RI",null,null,null,null,null,"Diamètre tube/tuyau",null,null,null,"240 mm²"]
[25,null,"25 mm²",null,"SPD AC",null,null,null,null,null,"Cuivre",null,null,null,"300 mm²"]
[26,null,"35 mm²",null,null,null,null,null,null,null,"Aluminium",null,null,null,"400 mm²"]
[27,null,"50 mm²",null,null,null,null,null,null,null,"Classe de protection incendie",null,null,null,"500 mm²"]
[28,null,"70 mm²",null,null,null,null,null,null,null,"Gaîne thérmorétractable",null,null,null,"Tension max. testée"]
[29,null,"95 mm²"]
[30,null,"120 mm²"]
[31,null,"150 mm²"]
[32,null,"185 mm²"]
[33,null,"240 mm²"]
[34,null,"300 mm²"]
[35,null,"400 mm²"]
[36,null,"500 mm²"]
[37,null,"Tension max. testée"]
[38]
[39]
[40]
[41]
[42]
[43]
[44]
[45]
[46]
[47]
[48]
[49]
[50]

{"sheet":"E_Box600","index":17,"n_rows":57,"n_cols":3,"rows_kept":57,"cut":false,"hidden":true,"merged":[]}
["Anwendungsbereich"]
["Strukturebene 1",null,"600"]
["Struktruebene 2",null,"630"]
["Strukturebene 3",null,"631-636"]
[null,null,"ne pas changer le nom du titre ci-dessous"]
[null,null,"E600_PermanenteArbeitssicherheit"]
["Nr."]
[1,null,"Certification"]
[2,null,"Résistant aux UV"]
[3,null,"Conformes aux normes SUVA"]
[4]
[5]
[6]
[7]
[8]
[9]
[10]
[11]
[12]
[13]
[14]
[15]
[16]
[17]
[18]
[19]
[20]
[21]
[22]
[23]
[24]
[25]
[26]
[27]
[28]
[29]
[30]
[31]
[32]
[33]
[34]
[35]
[36]
[37]
[38]
[39]
[40]
[41]
[42]
[43]
[44]
[45]
[46]
[47]
[48]
[49]
[50]

{"sheet":"E_Box700","index":18,"n_rows":57,"n_cols":12,"rows_kept":57,"cut":false,"hidden":true,"merged":[]}
["Anwendungsbereich"]
["Strukturebene 1",null,700,700,700,700,700,700,700,700,700,700]
["Struktruebene 2",null,710,720,720,730,740,750,750,750,760,770]
["Strukturebene 3",null,"711-713","721-722","725-727",734,746,752,753,754,"761-766",773]
[null,null,"ne pas changer le nom du titre ci-dessous"]
[null,null,"E700_Bleche","E700_Ziegel","E700_Holz","E700_Schutzschichten","E700_Kernbohrung","E700_Blitzschutz_Steildach ","E700_Blitzschutz_Flachdach","E700_Blitzschutz_Fassade","E700_Metallarbeiten","E700_Abdichtungen"]
["Nr."]
[1,null,"Cuivre","Type Jura","Longueur","Épaisseur (mm)","Diamètre < 20 mm","Cuivre","Cuivre","Cuivre","Cuivre","Joint d’étanchéité"]
[2,null,"Aluminium brillant","Type tuile plate","Largeur","Contrainte en compression (g/m²)","Diamètre > 20 mm < 200 mm","Cuivre étamé","Cuivre étamé","Cuivre étamé","Alu brillant","Résine synthétique liquide"]
[3,null,"Aluminium anodisé","Type Tegalit","Épaisseur",null,"Diamètre > 200 mm","Aluminium","Aluminium","Aluminium","Aluminium anodisé","Silicone"]
[4,null,"Aluminium thermolaqué","Couleur","Humidité du bois",null,null,"Maillage 10 m","Maillage 10 m","Maillage 10 m","Aluminium thermolaqué","Autres"]
[5,null,"Acier",null,"Qualité",null,null,"Maillage 15 m","Maillage 15 m","Maillage 15 m","Acier","Diamètre"]
[6,null,"Acier galvanisé",null,"Type de bois",null,null,"Maillage 20 m","Maillage 20 m","Maillage 20 m","Acier galvanisé","Épaisseur de la paroi"]
[7,null,"Acier galvanisé à chaud",null,"FSC",null,null,null,"Tige de capture",null,"Acier galvanisé à chaud","Matériau de la paroi"]
[8,null,"Acier inoxydable",null,null,null,null,null,null,null,"Acier inoxydable"]
[9,null,"Acier laqué",null,null,null,null,null,null,null,"Acier laqué"]
[10,null,"Couleur",null,null,null,null,null,null,null,"Couleur"]
[11]
[12]
[13]
[14]
[15]
[16]
[17]
[18]
[19]
[20]
[21]
[22]
[23]
[24]
[25]
[26]
[27]
[28]
[29]
[30]
[31]
[32]
[33]
[34]
[35]
[36]
[37]
[38]
[39]
[40]
[41]
[42]
[43]
[44]
[45]
[46]
[47]
[48]
[49]
[50]

{"sheet":"E_Box800","index":19,"n_rows":57,"n_cols":3,"rows_kept":57,"cut":false,"hidden":true,"merged":[]}
["Anwendungsbereich"]
["Strukturebene 1",null,800]
["Struktruebene 2",null,810]
["Strukturebene 3",null,811]
[null,null,"ne pas changer le nom du titre ci-dessous"]
[null,null,"E800_Wartungsvertrag"]
["Nr."]
[1,null,"Rapport de production annuel "]
[2,null,"Contrôle annuel de l’installation"]
[3,null,"Rapport de production"]
[4,null,"Monitoring"]
[5,null,"Établissement de rapports"]
[6,null,"Gestion des incidents"]
[7,null,"Intervalle (p. ex. quotidien, hebdomadaire, mensuel, annuel, tous les X ans)"]
[8,null,"Maintenance"]
[9,null,"Contrôle d’installation (y compris mesures)"]
[10,null,"Mesures I/U"]
[11,null,"Mesure d’isolation d'isolement"]
[12,null,"Mesure de courbes caractéristiques"]
[13,null,"Mesure de performance"]
[14,null,"Contrôle visuel"]
[15,null,"Contrôle visuel avec drone"]
[16,null,"Contrôle visuel système antichute"]
[17,null,"Contrôle de la ventilation de l'onduleur"]
[18,null,"Contrôle de module avec caméra infrarouge"]
[19,null,"Nettoyage générateur solaire"]
[20]
[21]
[22]
[23]
[24]
[25]
[26]
[27]
[28]
[29]
[30]
[31]
[32]
[33]
[34]
[35]
[36]
[37]
[38]
[39]
[40]
[41]
[42]
[43]
[44]
[45]
[46]
[47]
[48]
[49]
[50]

{"sheet":"Gesamtverzeichnis","index":20,"n_rows":797,"n_cols":11,"rows_kept":797,"cut":false,"hidden":true,"merged":[]}
[1]
[1,null,"Descriptif des prestations"]
[1,null,"selon structure d’offres SOQ version 1.3"]
[1]
[1,null,"Position SOQ",null,null,null,"Description","Unité","Quantité","Prix unitaire","Montant"]
[1]
[1,null,"000.000",null,null,null,"Conditions"]
[1]
[{"$f":"'000 Conditions'!B6","v":1},null,{"$f":"'000 Conditions'!C6","v":"010.000"},null,null,null,{"$f":"'000 Conditions'!G6","v":"Conditions générales"},{"$f":"'000 Conditions'!H6","v":0}]
[{"$f":"'000 Conditions'!B7","v":1},null,{"$f":"'000 Conditions'!C7","v":"011.000"},null,null,null,{"$f":"'000 Conditions'!G7","v":"Termes, abréviations"},{"$f":"'000 Conditions'!H7","v":0}]
[{"$f":"'000 Conditions'!B8","v":1},null,{"$f":"'000 Conditions'!C8","v":"012.000"},null,null,null,{"$f":"'000 Conditions'!G8","v":"Normes\nPropriétés : \nRéglementations SIA\nPrescriptions de protection incendie AEAI\nPapiers sur l’état de la technique\nDocuments de la branche de l’AES\nPapiers sur l’état de la technique\nDocuments de la branche de l’AES\nLEne : Loi sur l’énergie"},{"$f":"'000 Conditions'!H8","v":0}]
[{"$f":"'000 Conditions'!B9","v":1},null,{"$f":"'000 Conditions'!C9","v":"013.000"},null,null,null,{"$f":"'000 Conditions'!G9","v":"Autorisations, obligations"},{"$f":"'000 Conditions'!H9","v":0}]
[{"$f":"'000 Conditions'!B10","v":1},null,null,{"$f":"'000 Conditions'!D10","v":"013.100"},null,null,{"$f":"'000 Conditions'!G10","v":"Permis de construire"},{"$f":"'000 Conditions'!H10","v":0}]
[{"$f":"'000 Conditions'!B11","v":0},null,null,{"$f":"'000 Conditions'!D11","v":"013.200"},null,null,{"$f":"'000 Conditions'!G11","v":"Exigences des autorités"},{"$f":"'000 Conditions'!H11","v":0}]
[{"$f":"'000 Conditions'!B12","v":1},null,{"$f":"'000 Conditions'!C12","v":0},null,null,null,{"$f":"'000 Conditions'!G12","v":0},{"$f":"'000 Conditions'!H12","v":0}]
[{"$f":"'000 Conditions'!B13","v":1},null,{"$f":"'000 Conditions'!C13","v":"020.000"},null,null,null,{"$f":"'000 Conditions'!G13","v":"Organisation"},{"$f":"'000 Conditions'!H13","v":0}]
[{"$f":"'000 Conditions'!B14","v":1},null,{"$f":"'000 Conditions'!C14","v":"021.000"},null,null,null,{"$f":"'000 Conditions'!G14","v":"Maître d’ouvrage"},{"$f":"'000 Conditions'!H14","v":0}]
[{"$f":"'000 Conditions'!B15","v":1},null,{"$f":"'000 Conditions'!C15","v":"022.000"},null,null,null,{"$f":"'000 Conditions'!G15","v":"Architecte"},{"$f":"'000 Conditions'!H15","v":0}]
[{"$f":"'000 Conditions'!B16","v":1},null,{"$f":"'000 Conditions'!C16","v":"023.000"},null,null,null,{"$f":"'000 Conditions'!G16","v":"Direction des travaux"},{"$f":"'000 Conditions'!H16","v":0}]
[{"$f":"'000 Conditions'!B17","v":1},null,{"$f":"'000 Conditions'!C17","v":"024.000"},null,null,null,{"$f":"'000 Conditions'!G17","v":"Planificateur PV"},{"$f":"'000 Conditions'!H17","v":0}]
[{"$f":"'000 Conditions'!B18","v":1},null,{"$f":"'000 Conditions'!C18","v":"025.000"},null,null,null,{"$f":"'000 Conditions'!G18","v":"Autres planificateurs"},{"$f":"'000 Conditions'!H18","v":0}]
[{"$f":"'000 Conditions'!B19","v":1},null,null,{"$f":"'000 Conditions'!D19","v":"025.100"},null,null,{"$f":"'000 Conditions'!G19","v":"Planificateur électricien"},{"$f":"'000 Conditions'!H19","v":0}]
[{"$f":"'000 Conditions'!B20","v":0},null,null,{"$f":"'000 Conditions'!D20","v":"025.200"},null,null,{"$f":"'000 Conditions'!G20","v":"Ingénieur civil/spécialiste en statique du bâtiment"},{"$f":"'000 Conditions'!H20","v":0}]
[{"$f":"'000 Conditions'!B21","v":0},null,null,{"$f":"'000 Conditions'!D21","v":"025.300"},null,null,{"$f":"'000 Conditions'!G21","v":"Planificateur CVC"},{"$f":"'000 Conditions'!H21","v":0}]
[{"$f":"'000 Conditions'!B22","v":0},null,{"$f":"'000 Conditions'!C22","v":"026.000"},null,null,null,{"$f":"'000 Conditions'!G22","v":"Assistant Maîtrise d'ouvrage"},{"$f":"'000 Conditions'!H22","v":0}]
[{"$f":"'000 Conditions'!B23","v":1},null,{"$f":"'000 Conditions'!C23","v":0},null,null,null,{"$f":"'000 Conditions'!G23","v":0},{"$f":"'000 Conditions'!H23","v":0}]
[{"$f":"'000 Conditions'!B24","v":1},null,{"$f":"'000 Conditions'!C24","v":"030.000"},null,null,null,{"$f":"'000 Conditions'!G24","v":"Critères d’appel d’offres"},{"$f":"'000 Conditions'!H24","v":0}]
[{"$f":"'000 Conditions'!B25","v":1},null,{"$f":"'000 Conditions'!C25","v":"031.000"},null,null,null,{"$f":"'000 Conditions'!G25","v":"Type de procédure d’appel d’offres"},{"$f":"'000 Conditions'!H25","v":0}]
[{"$f":"'000 Conditions'!B26","v":0},null,null,{"$f":"'000 Conditions'!D26","v":"031.100"},null,null,{"$f":"'000 Conditions'!G26","v":"Procédure ouverte"},{"$f":"'000 Conditions'!H26","v":0}]
[{"$f":"'000 Conditions'!B27","v":0},null,null,{"$f":"'000 Conditions'!D27","v":"031.200"},null,null,{"$f":"'000 Conditions'!G27","v":"Procédure sélective (deux niveaux, avec préqualification)"},{"$f":"'000 Conditions'!H27","v":0}]
[{"$f":"'000 Conditions'!B28","v":1},null,null,{"$f":"'000 Conditions'!D28","v":"031.300"},null,null,{"$f":"'000 Conditions'!G28","v":"Procédure sur invitation"},{"$f":"'000 Conditions'!H28","v":0}]
[{"$f":"'000 Conditions'!B29","v":0},null,null,{"$f":"'000 Conditions'!D29","v":"031.400"},null,null,{"$f":"'000 Conditions'!G29","v":"Procédure de gré à gré"},{"$f":"'000 Conditions'!H29","v":0}]
[{"$f":"'000 Conditions'!B30","v":1},null,{"$f":"'000 Conditions'!C30","v":"032.000"},null,null,null,{"$f":"'000 Conditions'!G30","v":"Offre"},{"$f":"'000 Conditions'!H30","v":0}]
[{"$f":"'000 Conditions'!B31","v":1},null,null,{"$f":"'000 Conditions'!D31","v":"032.100"},null,null,{"$f":"'000 Conditions'!G31","v":"Type d'offre"},{"$f":"'000 Conditions'!H31","v":0}]
[{"$f":"'000 Conditions'!B32","v":0},null,null,null,{"$f":"'000 Conditions'!E32","v":"032.110"},null,{"$f":"'000 Conditions'!G32","v":"Selon métré"},{"$f":"'000 Conditions'!H32","v":0}]
[{"$f":"'000 Conditions'!B33","v":1},null,null,null,{"$f":"'000 Conditions'!E33","v":"032.120"},null,{"$f":"'000 Conditions'!G33","v":"Plafonnement des coûts"},{"$f":"'000 Conditions'!H33","v":0}]
[{"$f":"'000 Conditions'!B34","v":0},null,null,null,{"$f":"'000 Conditions'!E34","v":"032.130"},null,{"$f":"'000 Conditions'!G34","v":"Forfait"},{"$f":"'000 Conditions'!H34","v":0}]
[{"$f":"'000 Conditions'!B35","v":0},null,null,{"$f":"'000 Conditions'!D35","v":"032.200"},null,null,{"$f":"'000 Conditions'!G35","v":"Offres partielles"},{"$f":"'000 Conditions'!H35","v":0}]
[{"$f":"'000 Conditions'!B36","v":1},null,null,{"$f":"'000 Conditions'!D36","v":"032.300"},null,null,{"$f":"'000 Conditions'!G36","v":"Variantes"},{"$f":"'000 Conditions'!H36","v":0}]
[{"$f":"'000 Conditions'!B37","v":0},null,null,{"$f":"'000 Conditions'!D37","v":"032.400"},null,null,{"$f":"'000 Conditions'!G37","v":"Sous-traitants"},{"$f":"'000 Conditions'!H37","v":0}]
[{"$f":"'000 Conditions'!B38","v":0},null,null,{"$f":"'000 Conditions'!D38","v":"032.500"},null,null,{"$f":"'000 Conditions'!G38","v":"Consortium"},{"$f":"'000 Conditions'!H38","v":0}]
[{"$f":"'000 Conditions'!B39","v":0},null,null,{"$f":"'000 Conditions'!D39","v":"032.600"},null,null,{"$f":"'000 Conditions'!G39","v":"Validité de l’offre"},{"$f":"'000 Conditions'!H39","v":0}]
[{"$f":"'000 Conditions'!B40","v":1},null,{"$f":"'000 Conditions'!C40","v":"033.000"},null,null,null,{"$f":"'000 Conditions'!G40","v":"Critères, réserves"},{"$f":"'000 Conditions'!H40","v":0}]
[{"$f":"'000 Conditions'!B41","v":1},null,null,{"$f":"'000 Conditions'!D41","v":"033.100"},null,null,{"$f":"'000 Conditions'!G41","v":"Critères d’aptitude de l’entrepreneur"},{"$f":"'000 Conditions'!H41","v":0}]
[{"$f":"'000 Conditions'!B42","v":1},null,null,null,{"$f":"'000 Conditions'!E42","v":"033.110"},null,{"$f":"'000 Conditions'!G42","v":"Autorisation ESTI art. 9 ou 14 OIBT"},{"$f":"'000 Conditions'!H42","v":0}]
[{"$f":"'000 Conditions'!B43","v":1},null,null,null,{"$f":"'000 Conditions'!E43","v":"033.120"},null,{"$f":"'000 Conditions'!G43","v":"Label Pro du solaire"},{"$f":"'000 Conditions'!H43","v":0}]
[{"$f":"'000 Conditions'!B44","v":1},null,null,null,{"$f":"'000 Conditions'!E44","v":"033.130"},null,{"$f":"'000 Conditions'!G44","v":"Respect / déclaration CCT"},{"$f":"'000 Conditions'!H44","v":0}]
[{"$f":"'000 Conditions'!B45","v":1},null,null,null,{"$f":"'000 Conditions'!E45","v":"033.140"},null,{"$f":"'000 Conditions'!G45","v":"Références"},{"$f":"'000 Conditions'!H45","v":0}]
[{"$f":"'000 Conditions'!B46","v":0},null,null,null,{"$f":"'000 Conditions'!E46","v":"033.150"},null,{"$f":"'000 Conditions'!G46","v":"Autres"},{"$f":"'000 Conditions'!H46","v":0}]
[{"$f":"'000 Conditions'!B47","v":1},null,null,{"$f":"'000 Conditions'!D47","v":"033.200"},null,null,{"$f":"'000 Conditions'!G47","v":"Critères d’adjudication"},{"$f":"'000 Conditions'!H47","v":0}]
[{"$f":"'000 Conditions'!B48","v":1},null,null,null,{"$f":"'000 Conditions'!E48","v":"033.210"},null,{"$f":"'000 Conditions'!G48","v":"Prix / puissance PV"},{"$f":"'000 Conditions'!H48","v":0}]
[{"$f":"'000 Conditions'!B49","v":0},null,null,null,{"$f":"'000 Conditions'!E49","v":"033.220"},null,{"$f":"'000 Conditions'!G49","v":"Puissance"},{"$f":"'000 Conditions'!H49","v":0}]
[{"$f":"'000 Conditions'!B50","v":1},null,null,null,{"$f":"'000 Conditions'!E50","v":"033.230"},null,{"$f":"'000 Conditions'!G50","v":"Qualité"},{"$f":"'000 Conditions'!H50","v":0}]
[{"$f":"'000 Conditions'!B51","v":1},null,null,null,{"$f":"'000 Conditions'!E51","v":"033.240"},null,{"$f":"'000 Conditions'!G51","v":"Concept d’installation"},{"$f":"'000 Conditions'!H51","v":0}]
[{"$f":"'000 Conditions'!B52","v":0},null,null,null,{"$f":"'000 Conditions'!E52","v":"033.250"},null,{"$f":"'000 Conditions'!G52","v":"Prestations de maintenance et d’entretien"},{"$f":"'000 Conditions'!H52","v":0}]
[{"$f":"'000 Conditions'!B53","v":0},null,null,null,{"$f":"'000 Conditions'!E53","v":"033.260"},null,{"$f":"'000 Conditions'!G53","v":"Références"},{"$f":"'000 Conditions'!H53","v":0}]
[{"$f":"'000 Conditions'!B54","v":0},null,null,null,{"$f":"'000 Conditions'!E54","v":"033.270"},null,{"$f":"'000 Conditions'!G54","v":"Entreprise"},{"$f":"'000 Conditions'!H54","v":0}]
[{"$f":"'000 Conditions'!B55","v":0},null,null,null,{"$f":"'000 Conditions'!E55","v":"033.280"},null,{"$f":"'000 Conditions'!G55","v":"Autres"},{"$f":"'000 Conditions'!H55","v":0}]
[{"$f":"'000 Conditions'!B56","v":1},null,null,{"$f":"'000 Conditions'!D56","v":"033.300"},null,null,{"$f":"'000 Conditions'!G56","v":"Critères d’exclusion"},{"$f":"'000 Conditions'!H56","v":0}]
[{"$f":"'000 Conditions'!B57","v":1},null,null,null,{"$f":"'000 Conditions'!E57","v":"033.310"},null,{"$f":"'000 Conditions'!G57","v":"Descriptif des prestations incomplet"},{"$f":"'000 Conditions'!H57","v":0}]
[{"$f":"'000 Conditions'!B58","v":1},null,null,null,{"$f":"'000 Conditions'!E58","v":"033.320"},null,{"$f":"'000 Conditions'!G58","v":"Informations incomplètes concernant l’entrepreneur"},{"$f":"'000 Conditions'!H58","v":0}]
[{"$f":"'000 Conditions'!B59","v":1},null,null,null,{"$f":"'000 Conditions'!E59","v":"033.330"},null,{"$f":"'000 Conditions'!G59","v":"Références incomplètes"},{"$f":"'000 Conditions'!H59","v":0}]
[{"$f":"'000 Conditions'!B60","v":0},null,null,null,{"$f":"'000 Conditions'!E60","v":"033.340"},null,{"$f":"'000 Conditions'!G60","v":"Cohérence et respect des délais"},{"$f":"'000 Conditions'!H60","v":0}]
[{"$f":"'000 Conditions'!B61","v":0},null,null,null,{"$f":"'000 Conditions'!E61","v":"033.350"},null,{"$f":"'000 Conditions'!G61","v":"Autres"},{"$f":"'000 Conditions'!H61","v":0}]
[{"$f":"'000 Conditions'!B62","v":1},null,null,{"$f":"'000 Conditions'!D62","v":"033.400"},null,null,{"$f":"'000 Conditions'!G62","v":"Négociations"},{"$f":"'000 Conditions'!H62","v":0}]
[{"$f":"'000 Conditions'!B63","v":1},null,null,null,{"$f":"'000 Conditions'!E63","v":"033.410"},null,{"$f":"'000 Conditions'!G63","v":"Offres"},{"$f":"'000 Conditions'!H63","v":0}]
[{"$f":"'000 Conditions'!B64","v":1},null,{"$f":"'000 Conditions'!C64","v":"034.000"},null,null,null,{"$f":"'000 Conditions'!G64","v":"Dates des appels d’offres, délais"},{"$f":"'000 Conditions'!H64","v":0}]
[{"$f":"'000 Conditions'!B65","v":0},null,null,{"$f":"'000 Conditions'!D65","v":"034.100"},null,null,{"$f":"'000 Conditions'!G65","v":"Obtention des documents"},{"$f":"'000 Conditions'!H65","v":0}]
[{"$f":"'000 Conditions'!B66","v":1},null,null,{"$f":"'000 Conditions'!D66","v":"034.200"},null,null,{"$f":"'000 Conditions'!G66","v":"Visite du site"},{"$f":"'000 Conditions'!H66","v":0}]
[{"$f":"'000 Conditions'!B67","v":1},null,null,{"$f":"'000 Conditions'!D67","v":"034.300"},null,null,{"$f":"'000 Conditions'!G67","v":"Questions et réponses"},{"$f":"'000 Conditions'!H67","v":0}]
[{"$f":"'000 Conditions'!B68","v":1},null,null,{"$f":"'000 Conditions'!D68","v":"034.400"},null,null,{"$f":"'000 Conditions'!G68","v":"Soumission d’offre"},{"$f":"'000 Conditions'!H68","v":0}]
[{"$f":"'000 Conditions'!B69","v":0},null,null,{"$f":"'000 Conditions'!D69","v":"034.500"},null,null,{"$f":"'000 Conditions'!G69","v":"Ouverture des offres, rapport d’évaluation succinct"},{"$f":"'000 Conditions'!H69","v":0}]
[{"$f":"'000 Conditions'!B70","v":0},null,null,{"$f":"'000 Conditions'!D70","v":"034.600"},null,null,{"$f":"'000 Conditions'!G70","v":"Adjudication"},{"$f":"'000 Conditions'!H70","v":0}]
[{"$f":"'000 Conditions'!B71","v":1},null,{"$f":"'000 Conditions'!C71","v":"035.000"},null,null,null,{"$f":"'000 Conditions'!G71","v":"Dossier d’appel d’offres"},{"$f":"'000 Conditions'!H71","v":0}]
[{"$f":"'000 Conditions'!B72","v":1},null,null,{"$f":"'000 Conditions'!D72","v":"035.100"},null,null,{"$f":"'000 Conditions'!G72","v":"Conditions générales"},{"$f":"'000 Conditions'!H72","v":0}]
[{"$f":"'000 Conditions'!B73","v":1},null,null,{"$f":"'000 Conditions'!D73","v":"035.200"},null,null,{"$f":"'000 Conditions'!G73","v":"Plans"},{"$f":"'000 Conditions'!H73","v":0}]
[{"$f":"'000 Conditions'!B74","v":1},null,null,null,{"$f":"'000 Conditions'!E74","v":"035.210"},null,{"$f":"'000 Conditions'!G74","v":"Plan de situation"},{"$f":"'000 Conditions'!H74","v":0}]
[{"$f":"'000 Conditions'!B75","v":0},null,null,null,{"$f":"'000 Conditions'!E75","v":"035.220"},null,{"$f":"'000 Conditions'!G75","v":"Plan de situation, coté"},{"$f":"'000 Conditions'!H75","v":0}]
[{"$f":"'000 Conditions'!B76","v":1},null,null,null,{"$f":"'000 Conditions'!E76","v":"035.230"},null,{"$f":"'000 Conditions'!G76","v":"Plan du toit"},{"$f":"'000 Conditions'!H76","v":0}]
[{"$f":"'000 Conditions'!B77","v":0},null,null,null,{"$f":"'000 Conditions'!E77","v":"035.240"},null,{"$f":"'000 Conditions'!G77","v":"Plan du toit, coté"},{"$f":"'000 Conditions'!H77","v":0}]
[{"$f":"'000 Conditions'!B78","v":1},null,null,null,{"$f":"'000 Conditions'!E78","v":"035.250"},null,{"$f":"'000 Conditions'!G78","v":"Vue en coupe du bâtiment"},{"$f":"'000 Conditions'!H78","v":0}]
[{"$f":"'000 Conditions'!B79","v":0},null,null,null,{"$f":"'000 Conditions'!E79","v":"035.260"},null,{"$f":"'000 Conditions'!G79","v":"Vue en coupe du bâtiment, cotée"},{"$f":"'000 Conditions'!H79","v":0}]
[{"$f":"'000 Conditions'!B80","v":1},null,null,{"$f":"'000 Conditions'!D80","v":"035.300"},null,null,{"$f":"'000 Conditions'!G80","v":"Schéma de principe"},{"$f":"'000 Conditions'!H80","v":0}]
[{"$f":"'000 Conditions'!B81","v":1},null,null,{"$f":"'000 Conditions'!D81","v":"035.400"},null,null,{"$f":"'000 Conditions'!G81","v":"Documentation photo"},{"$f":"'000 Conditions'!H81","v":0}]
[{"$f":"'000 Conditions'!B82","v":1},null,{"$f":"'000 Conditions'!C82","v":"036.000"},null,null,null,{"$f":"'000 Conditions'!G82","v":"Documents requis"},{"$f":"'000 Conditions'!H82","v":0}]
[{"$f":"'000 Conditions'!B83","v":1},null,null,{"$f":"'000 Conditions'!D83","v":"036.100"},null,null,{"$f":"'000 Conditions'!G83","v":"Plans"},{"$f":"'000 Conditions'!H83","v":0}]
[{"$f":"'000 Conditions'!B84","v":0},null,null,null,{"$f":"'000 Conditions'!E84","v":"036.110"},null,{"$f":"'000 Conditions'!G84","v":"Plan de calepinage de l’installation"},{"$f":"'000 Conditions'!H84","v":0}]
[{"$f":"'000 Conditions'!B85","v":0},null,null,null,{"$f":"'000 Conditions'!E85","v":"036.120"},null,{"$f":"'000 Conditions'!G85","v":"Plan de coupe du champ de modules"},{"$f":"'000 Conditions'!H85","v":0}]
[{"$f":"'000 Conditions'!B86","v":0},null,null,null,{"$f":"'000 Conditions'!E86","v":"036.130"},null,{"$f":"'000 Conditions'!G86","v":"Autres"},{"$f":"'000 Conditions'!H86","v":0}]
[{"$f":"'000 Conditions'!B87","v":1},null,null,{"$f":"'000 Conditions'!D87","v":"036.200"},null,null,{"$f":"'000 Conditions'!G87","v":"Documentation technique"},{"$f":"'000 Conditions'!H87","v":0}]
[{"$f":"'000 Conditions'!B88","v":0},null,null,null,{"$f":"'000 Conditions'!E88","v":"036.210"},null,{"$f":"'000 Conditions'!G88","v":"Schéma de principe"},{"$f":"'000 Conditions'!H88","v":0}]
[{"$f":"'000 Conditions'!B89","v":0},null,null,null,{"$f":"'000 Conditions'!E89","v":"036.220"},null,{"$f":"'000 Conditions'!G89","v":"Fiches techniques composants"},{"$f":"'000 Conditions'!H89","v":0}]
[{"$f":"'000 Conditions'!B90","v":0},null,null,null,{"$f":"'000 Conditions'!E90","v":"036.230"},null,{"$f":"'000 Conditions'!G90","v":"Autres"},{"$f":"'000 Conditions'!H90","v":0}]
[{"$f":"'000 Conditions'!B91","v":0},null,null,{"$f":"'000 Conditions'!D91","v":"036.300"},null,null,{"$f":"'000 Conditions'!G91","v":"Concept de sécurité au travail"},{"$f":"'000 Conditions'!H91","v":0}]
[{"$f":"'000 Conditions'!B92","v":1},null,null,{"$f":"'000 Conditions'!D92","v":"036.400"},null,null,{"$f":"'000 Conditions'!G92","v":"Informations concernant l’entrepreneur"},{"$f":"'000 Conditions'!H92","v":0}]
[{"$f":"'000 Conditions'!B93","v":0},null,null,null,{"$f":"'000 Conditions'!E93","v":"036.410"},null,{"$f":"'000 Conditions'!G93","v":"Informations relatives aux critères d’aptitude"},{"$f":"'000 Conditions'!H93","v":0}]
[{"$f":"'000 Conditions'!B94","v":0},null,null,null,{"$f":"'000 Conditions'!E94","v":"036.420"},null,{"$f":"'000 Conditions'!G94","v":"Confirmation CCT"},{"$f":"'000 Conditions'!H94","v":0}]
[{"$f":"'000 Conditions'!B95","v":0},null,null,null,{"$f":"'000 Conditions'!E95","v":"036.430"},null,{"$f":"'000 Conditions'!G95","v":"Confirmation de l’assurance responsabilité civile"},{"$f":"'000 Conditions'!H95","v":0}]
[{"$f":"'000 Conditions'!B96","v":0},null,null,null,{"$f":"'000 Conditions'!E96","v":"036.440"},null,{"$f":"'000 Conditions'!G96","v":"Autres"},{"$f":"'000 Conditions'!H96","v":0}]
[{"$f":"'000 Conditions'!B97","v":1},null,null,{"$f":"'000 Conditions'!D97","v":"036.500"},null,null,{"$f":"'000 Conditions'!G97","v":"Contrat d’entretien"},{"$f":"'000 Conditions'!H97","v":0}]
[{"$f":"'000 Conditions'!B98","v":1},null,{"$f":"'000 Conditions'!C98","v":"037.000"},null,null,null,{"$f":"'000 Conditions'!G98","v":"Garanties"},{"$f":"'000 Conditions'!H98","v":0}]
[{"$f":"'000 Conditions'!B99","v":1},null,null,{"$f":"'000 Conditions'!D99","v":"037.100"},null,null,{"$f":"'000 Conditions'!G99","v":"Garantie de bonne exécution"},{"$f":"'000 Conditions'!H99","v":0}]
[{"$f":"'000 Conditions'!B100","v":0},null,null,{"$f":"'000 Conditions'!D100","v":"037.200"},null,null,{"$f":"'000 Conditions'!G100","v":"Garantie de restitution d’acompte"},{"$f":"'000 Conditions'!H100","v":0}]
[{"$f":"'000 Conditions'!B101","v":0},null,null,{"$f":"'000 Conditions'!D101","v":"037.300"},null,null,{"$f":"'000 Conditions'!G101","v":"Garantie pour les défauts de l’ouvrage"},{"$f":"'000 Conditions'!H101","v":0}]
[{"$f":"'000 Conditions'!B102","v":0},null,null,{"$f":"'000 Conditions'!D102","v":"037.400"},null,null,{"$f":"'000 Conditions'!G102","v":"Garantie de production"},{"$f":"'000 Conditions'!H102","v":0}]
[{"$f":"'000 Conditions'!B103","v":1},null,{"$f":"'000 Conditions'!C103","v":"038.000"},null,null,null,{"$f":"'000 Conditions'!G103","v":"Réserves"},{"$f":"'000 Conditions'!H103","v":0}]
[{"$f":"'000 Conditions'!B104","v":1},null,null,{"$f":"'000 Conditions'!D104","v":"038.100"},null,null,{"$f":"'000 Conditions'!G104","v":"Obtention du financement"},{"$f":"'000 Conditions'!H104","v":0}]
[{"$f":"'000 Conditions'!B105","v":0},null,null,{"$f":"'000 Conditions'!D105","v":"038.200"},null,null,{"$f":"'000 Conditions'!G105","v":"Obtention des autorisations"},{"$f":"'000 Conditions'!H105","v":0}]
[{"$f":"'000 Conditions'!B106","v":1},null,{"$f":"'000 Conditions'!C106","v":0},null,null,null,{"$f":"'000 Conditions'!G106","v":0},{"$f":"'000 Conditions'!H106","v":0}]
[{"$f":"'000 Conditions'!B107","v":1},null,{"$f":"'000 Conditions'!C107","v":"040.000"},null,null,null,{"$f":"'000 Conditions'!G107","v":"Modalités de rémunération"},{"$f":"'000 Conditions'!H107","v":0}]
[{"$f":"'000 Conditions'!B108","v":1},null,{"$f":"'000 Conditions'!C108","v":"041.000"},null,null,null,{"$f":"'000 Conditions'!G108","v":"Prestations incluses / conditions de base"},{"$f":"'000 Conditions'!H108","v":0}]
[{"$f":"'000 Conditions'!B109","v":1},null,null,{"$f":"'000 Conditions'!D109","v":"041.100"},null,null,{"$f":"'000 Conditions'!G109","v":"Planification"},{"$f":"'000 Conditions'!H109","v":0}]
[{"$f":"'000 Conditions'!B110","v":0},null,null,null,{"$f":"'000 Conditions'!E110","v":"041.110"},null,{"$f":"'000 Conditions'!G110","v":"Justificatif de capacité de charge du bâtiment"},{"$f":"'000 Conditions'!H110","v":0}]
[{"$f":"'000 Conditions'!B111","v":0},null,null,null,{"$f":"'000 Conditions'!E111","v":"041.120"},null,{"$f":"'000 Conditions'!G111","v":"Mise à disposition des documents requis pour des entrepreneurs tiers en vue du bon fonctionnement de l’installation PV"},{"$f":"'000 Conditions'!H111","v":0}]
[{"$f":"'000 Conditions'!B112","v":0},null,null,null,{"$f":"'000 Conditions'!E112","v":"041.130"},null,{"$f":"'000 Conditions'!G112","v":"Coordination des entrepreneurs tiers pour garantir le bon fonctionnement de l’IP"},{"$f":"'000 Conditions'!H112","v":0}]
[{"$f":"'000 Conditions'!B113","v":1},null,null,{"$f":"'000 Conditions'!D113","v":"041.200"},null,null,{"$f":"'000 Conditions'!G113","v":"Structure de montage"},{"$f":"'000 Conditions'!H113","v":0}]
[{"$f":"'000 Conditions'!B114","v":0},null,null,null,{"$f":"'000 Conditions'!E114","v":"041.210"},null,{"$f":"'000 Conditions'!G114","v":"Preuve d’adéquation du système de montage PV"},{"$f":"'000 Conditions'!H114","v":0}]
[{"$f":"'000 Conditions'!B115","v":0},null,null,null,{"$f":"'000 Conditions'!E115","v":"041.220"},null,{"$f":"'000 Conditions'!G115","v":"La structure de montage est calculée sur la base du calepinage des modules proposé. En cas de modification du calepinage, le calcul par unité peut changer. L’entrepreneur doit présenter un nouveau calcul plausible et clair."},{"$f":"'000 Conditions'!H115","v":0}]
[{"$f":"'000 Conditions'!B116","v":0},null,null,null,{"$f":"'000 Conditions'!E116","v":"041.230"},null,{"$f":"'000 Conditions'!G116","v":"Tolérances dimensionnelles"},{"$f":"'000 Conditions'!H116","v":0}]
[{"$f":"'000 Conditions'!B117","v":1},null,null,{"$f":"'000 Conditions'!D117","v":"041.300"},null,null,{"$f":"'000 Conditions'!G117","v":"Modules PV"},{"$f":"'000 Conditions'!H117","v":0}]
[{"$f":"'000 Conditions'!B118","v":0},null,null,null,{"$f":"'000 Conditions'!E118","v":"041.310"},null,{"$f":"'000 Conditions'!G118","v":"Garanties module PV : Garantie de produit 10a, garantie de performance 80% 25a"},{"$f":"'000 Conditions'!H118","v":0}]
[{"$f":"'000 Conditions'!B119","v":0},null,null,null,{"$f":"'000 Conditions'!E119","v":"041.320"},null,{"$f":"'000 Conditions'!G119","v":"Preuve d'adéquation module PV / système de montage"},{"$f":"'000 Conditions'!H119","v":0}]
[{"$f":"'000 Conditions'!B120","v":0},null,null,null,{"$f":"'000 Conditions'!E120","v":"041.330"},null,{"$f":"'000 Conditions'!G120","v":"Connecteurs du module PV conformes aux normes"},{"$f":"'000 Conditions'!H120","v":0}]
[{"$f":"'000 Conditions'!B121","v":1},null,null,{"$f":"'000 Conditions'!D121","v":"041.400"},null,null,{"$f":"'000 Conditions'!G121","v":"Exécution des travaux "},{"$f":"'000 Conditions'!H121","v":0}]
[{"$f":"'000 Conditions'!B122","v":0},null,null,null,{"$f":"'000 Conditions'!E122","v":"041.410"},null,{"$f":"'000 Conditions'!G122","v":"Interruptions de travail dues aux conditions météorologiques"},{"$f":"'000 Conditions'!H122","v":0}]
[{"$f":"'000 Conditions'!B123","v":0},null,null,null,{"$f":"'000 Conditions'!E123","v":"041.420"},null,{"$f":"'000 Conditions'!G123","v":"Protection contre l’encrassement des composants jusqu’à la mise en service"},{"$f":"'000 Conditions'!H123","v":0}]
[{"$f":"'000 Conditions'!B124","v":0},null,null,null,{"$f":"'000 Conditions'!E124","v":"041.430"},null,{"$f":"'000 Conditions'!G124","v":"Participation aux réunions de chantier nécessaires"},{"$f":"'000 Conditions'!H124","v":0}]
[{"$f":"'000 Conditions'!B125","v":0},null,null,null,{"$f":"'000 Conditions'!E125","v":"041.440"},null,{"$f":"'000 Conditions'!G125","v":"Les chutes des matériaux proposés doivent être prises en compte"},{"$f":"'000 Conditions'!H125","v":0}]
[{"$f":"'000 Conditions'!B126","v":0},null,null,null,{"$f":"'000 Conditions'!E126","v":"041.450"},null,{"$f":"'000 Conditions'!G126","v":"Instruction unique"},{"$f":"'000 Conditions'!H126","v":0}]
[{"$f":"'000 Conditions'!B127","v":0},null,null,{"$f":"'000 Conditions'!D127","v":"041.500"},null,null,{"$f":"'000 Conditions'!G127","v":"Prestations supplémentaires"},{"$f":"'000 Conditions'!H127","v":0}]
[{"$f":"'000 Conditions'!B128","v":0},null,null,null,{"$f":"'000 Conditions'!E128","v":"041.510"},null,{"$f":"'000 Conditions'!G128","v":"Taxes sur les produits (p. ex. TAR)"},{"$f":"'000 Conditions'!H128","v":0}]
[{"$f":"'000 Conditions'!B129","v":1},null,{"$f":"'000 Conditions'!C129","v":"042.000"},null,null,null,{"$f":"'000 Conditions'!G129","v":"Devise"},{"$f":"'000 Conditions'!H129","v":0}]
[{"$f":"'000 Conditions'!B130","v":1},null,null,{"$f":"'000 Conditions'!D130","v":"042.100"},null,null,{"$f":"'000 Conditions'!G130","v":"Devise "},{"$f":"'000 Conditions'!H130","v":0}]
[{"$f":"'000 Conditions'!B131","v":0},null,null,{"$f":"'000 Conditions'!D131","v":"042.200"},null,null,{"$f":"'000 Conditions'!G131","v":"Risque de change"},{"$f":"'000 Conditions'!H131","v":0}]
[{"$f":"'000 Conditions'!B132","v":1},null,{"$f":"'000 Conditions'!C132","v":"043.000"},null,null,null,{"$f":"'000 Conditions'!G132","v":"Déductions liées au chantier"},{"$f":"'000 Conditions'!H132","v":0}]
[{"$f":"'000 Conditions'!B133","v":0},null,null,{"$f":"'000 Conditions'!D133","v":"043.100"},null,null,{"$f":"'000 Conditions'!G133","v":"Prorata de chantier (eau, électricité, nettoyage)"},{"$f":"'000 Conditions'!H133","v":0}]
[{"$f":"'000 Conditions'!B134","v":0},null,null,{"$f":"'000 Conditions'!D134","v":"043.200"},null,null,{"$f":"'000 Conditions'!G134","v":"Publicité"},{"$f":"'000 Conditions'!H134","v":0}]
[{"$f":"'000 Conditions'!B135","v":0},null,null,{"$f":"'000 Conditions'!D135","v":"043.300"},null,null,{"$f":"'000 Conditions'!G135","v":"Assurances"},{"$f":"'000 Conditions'!H135","v":0}]
[{"$f":"'000 Conditions'!B136","v":1},null,{"$f":"'000 Conditions'!C136","v":0},null,null,null,{"$f":"'000 Conditions'!G136","v":0},{"$f":"'000 Conditions'!H136","v":0}]
[{"$f":"'000 Conditions'!B137","v":1},null,{"$f":"'000 Conditions'!C137","v":"050.000"},null,null,null,{"$f":"'000 Conditions'!G137","v":"Informations spécifiques à l’objet"},{"$f":"'000 Conditions'!H137","v":0}]
[{"$f":"'000 Conditions'!B138","v":1},null,{"$f":"'000 Conditions'!C138","v":"051.000"},null,null,null,{"$f":"'000 Conditions'!G138","v":"Détails de l’ouvrage"},{"$f":"'000 Conditions'!H138","v":0}]
[{"$f":"'000 Conditions'!B139","v":1},null,null,{"$f":"'000 Conditions'!D139","v":"051.100"},null,null,{"$f":"'000 Conditions'!G139","v":"Adresse"},{"$f":"'000 Conditions'!H139","v":0}]
[{"$f":"'000 Conditions'!B140","v":1},null,null,{"$f":"'000 Conditions'!D140","v":"051.200"},null,null,{"$f":"'000 Conditions'!G140","v":"Altitude de l’ouvrage"},{"$f":"'000 Conditions'!H140","v":0}]
[{"$f":"'000 Conditions'!B141","v":1},null,null,{"$f":"'000 Conditions'!D141","v":"051.300"},null,null,{"$f":"'000 Conditions'!G141","v":"Hauteur du bâtiment"},{"$f":"'000 Conditions'!H141","v":0}]
[{"$f":"'000 Conditions'!B142","v":0},null,null,{"$f":"'000 Conditions'!D142","v":"051.400"},null,null,{"$f":"'000 Conditions'!G142","v":"Dimensions du bâtiment"},{"$f":"'000 Conditions'!H142","v":0}]
[{"$f":"'000 Conditions'!B143","v":1},null,null,{"$f":"'000 Conditions'!D143","v":"051.500"},null,null,{"$f":"'000 Conditions'!G143","v":"Structure de la toiture"},{"$f":"'000 Conditions'!H143","v":0}]
[{"$f":"'000 Conditions'!B144","v":1},null,null,null,{"$f":"'000 Conditions'!E144","v":"051.510"},null,{"$f":"'000 Conditions'!G144","v":"Charge ponctuelle max. de la toiture dans le cas d’un toit plat"},{"$f":"'000 Conditions'!H144","v":0}]
[{"$f":"'000 Conditions'!B145","v":1},null,null,{"$f":"'000 Conditions'!D145","v":"051.600"},null,null,{"$f":"'000 Conditions'!G145","v":"Inclinaison du toit"},{"$f":"'000 Conditions'!H145","v":0}]
[{"$f":"'000 Conditions'!B146","v":1},null,null,{"$f":"'000 Conditions'!D146","v":"051.700"},null,null,{"$f":"'000 Conditions'!G146","v":"Statique du bâtiment"},{"$f":"'000 Conditions'!H146","v":0}]
[{"$f":"'000 Conditions'!B147","v":0},null,null,null,{"$f":"'000 Conditions'!E147","v":"051.710"},null,{"$f":"'000 Conditions'!G147","v":"Convention d’utilisation de la toiture"},{"$f":"'000 Conditions'!H147","v":0}]
[{"$f":"'000 Conditions'!B148","v":1},null,null,null,{"$f":"'000 Conditions'!E148","v":"051.720"},null,{"$f":"'000 Conditions'!G148","v":"Spécification réserve de charge toiture"},{"$f":"'000 Conditions'!H148","v":0}]
[{"$f":"'000 Conditions'!B149","v":0},null,null,{"$f":"'000 Conditions'!D149","v":"051.800"},null,null,{"$f":"'000 Conditions'!G149","v":"Spécification charge temporaire max. toiture"},{"$f":"'000 Conditions'!H149","v":0}]
[{"$f":"'000 Conditions'!B150","v":1},null,{"$f":"'000 Conditions'!C150","v":"052.000"},null,null,null,{"$f":"'000 Conditions'!G150","v":"Ampleur des travaux"},{"$f":"'000 Conditions'!H150","v":0}]
[{"$f":"'000 Conditions'!B151","v":1},null,null,{"$f":"'000 Conditions'!D151","v":"052.100"},null,null,{"$f":"'000 Conditions'!G151","v":"Description de l’installation PV"},{"$f":"'000 Conditions'!H151","v":0}]
[{"$f":"'000 Conditions'!B152","v":1},null,null,{"$f":"'000 Conditions'!D152","v":"052.200"},null,null,{"$f":"'000 Conditions'!G152","v":"Description du câblage"},{"$f":"'000 Conditions'!H152","v":0}]
[{"$f":"'000 Conditions'!B153","v":0},null,null,null,{"$f":"'000 Conditions'!E153","v":"052.210"},null,{"$f":"'000 Conditions'!G153","v":"Passage de câbles en intérieur"},{"$f":"'000 Conditions'!H153","v":0}]
[{"$f":"'000 Conditions'!B154","v":0},null,null,null,{"$f":"'000 Conditions'!E154","v":"052.220"},null,{"$f":"'000 Conditions'!G154","v":"Passage de câbles en extérieur"},{"$f":"'000 Conditions'!H154","v":0}]
[{"$f":"'000 Conditions'!B155","v":1},null,null,{"$f":"'000 Conditions'!D155","v":"052.300"},null,null,{"$f":"'000 Conditions'!G155","v":"Description emplacement de l’onduleur"},{"$f":"'000 Conditions'!H155","v":0}]
[{"$f":"'000 Conditions'!B156","v":0},null,null,null,{"$f":"'000 Conditions'!E156","v":"052.310"},null,{"$f":"'000 Conditions'!G156","v":"Installation onduleur à l’intérieur"},{"$f":"'000 Conditions'!H156","v":0}]
[{"$f":"'000 Conditions'!B157","v":1},null,null,null,{"$f":"'000 Conditions'!E157","v":"052.320"},null,{"$f":"'000 Conditions'!G157","v":"Installation onduleur à l’extérieur"},{"$f":"'000 Conditions'!H157","v":0}]
[{"$f":"'000 Conditions'!B158","v":1},null,null,{"$f":"'000 Conditions'!D158","v":"052.400"},null,null,{"$f":"'000 Conditions'!G158","v":"Description raccordement réseau"},{"$f":"'000 Conditions'!H158","v":0}]
[{"$f":"'000 Conditions'!B159","v":1},null,null,{"$f":"'000 Conditions'!D159","v":"052.500"},null,null,{"$f":"'000 Conditions'!G159","v":"Description concept de mise à la terre et de protection contre la foudre et les surtensions"},{"$f":"'000 Conditions'!H159","v":0}]
[{"$f":"'000 Conditions'!B160","v":1},null,null,null,{"$f":"'000 Conditions'!E160","v":"052.510"},null,{"$f":"'000 Conditions'!G160","v":""},{"$f":"'000 Conditions'!H160","v":0}]
[{"$f":"'000 Conditions'!B161","v":0},null,null,null,null,{"$f":"'000 Conditions'!F161","v":"052.511"},{"$f":"'000 Conditions'!G161","v":"Bâtiment avec classe de protection contre la foudre I"},{"$f":"'000 Conditions'!H161","v":0}]
[{"$f":"'000 Conditions'!B162","v":0},null,null,null,null,{"$f":"'000 Conditions'!F162","v":"052.512"},{"$f":"'000 Conditions'!G162","v":"Bâtiment avec classe de protection contre la foudre II"},{"$f":"'000 Conditions'!H162","v":0}]
[{"$f":"'000 Conditions'!B163","v":0},null,null,null,null,{"$f":"'000 Conditions'!F163","v":"052.513"},{"$f":"'000 Conditions'!G163","v":"Bâtiment avec classe de protection contre la foudre III"},{"$f":"'000 Conditions'!H163","v":0}]
[{"$f":"'000 Conditions'!B164","v":0},null,null,null,{"$f":"'000 Conditions'!E164","v":"052.520"},null,{"$f":"'000 Conditions'!G164","v":""},{"$f":"'000 Conditions'!H164","v":0}]
[{"$f":"'000 Conditions'!B165","v":0},null,null,null,{"$f":"'000 Conditions'!E165","v":"052.530"},null,{"$f":"'000 Conditions'!G165","v":""},{"$f":"'000 Conditions'!H165","v":0}]
[{"$f":"'000 Conditions'!B166","v":1},null,{"$f":"'000 Conditions'!C166","v":"053.000"},null,null,null,{"$f":"'000 Conditions'!G166","v":"Infrastructure"},{"$f":"'000 Conditions'!H166","v":0}]
[{"$f":"'000 Conditions'!B167","v":1},null,null,{"$f":"'000 Conditions'!D167","v":"053.100"},null,null,{"$f":"'000 Conditions'!G167","v":"Accès"},{"$f":"'000 Conditions'!H167","v":0}]
[{"$f":"'000 Conditions'!B168","v":1},null,null,{"$f":"'000 Conditions'!D168","v":"053.200"},null,null,{"$f":"'000 Conditions'!G168","v":"Places de stationnement"},{"$f":"'000 Conditions'!H168","v":0}]
[{"$f":"'000 Conditions'!B169","v":0},null,null,{"$f":"'000 Conditions'!D169","v":"053.300"},null,null,{"$f":"'000 Conditions'!G169","v":"Zones de stockage"},{"$f":"'000 Conditions'!H169","v":0}]
[{"$f":"'000 Conditions'!B170","v":1},null,null,{"$f":"'000 Conditions'!D170","v":"053.400"},null,null,{"$f":"'000 Conditions'!G170","v":"Ascenseurs"},{"$f":"'000 Conditions'!H170","v":0}]
[{"$f":"'000 Conditions'!B171","v":0},null,null,null,{"$f":"'000 Conditions'!E171","v":"053.410"},null,{"$f":"'000 Conditions'!G171","v":"Spécification capacité de charge du sol"},{"$f":"'000 Conditions'!H171","v":0}]
[{"$f":"'000 Conditions'!B172","v":0},null,null,{"$f":"'000 Conditions'!D172","v":"053.500"},null,null,{"$f":"'000 Conditions'!G172","v":"Raccordement électrique"},{"$f":"'000 Conditions'!H172","v":0}]
[{"$f":"'000 Conditions'!B173","v":0},null,null,{"$f":"'000 Conditions'!D173","v":"053.600"},null,null,{"$f":"'000 Conditions'!G173","v":"Installations sanitaires"},{"$f":"'000 Conditions'!H173","v":0}]
[{"$f":"'000 Conditions'!B174","v":0},null,null,{"$f":"'000 Conditions'!D174","v":"053.700"},null,null,{"$f":"'000 Conditions'!G174","v":"Logements"},{"$f":"'000 Conditions'!H174","v":0}]
[{"$f":"'000 Conditions'!B175","v":1},null,{"$f":"'000 Conditions'!C175","v":"054.000"},null,null,null,{"$f":"'000 Conditions'!G175","v":"Dispositions particulières chantier"},{"$f":"'000 Conditions'!H175","v":0}]
[{"$f":"'000 Conditions'!B176","v":0},null,null,{"$f":"'000 Conditions'!D176","v":"054.100"},null,null,{"$f":"'000 Conditions'!G176","v":"Heures de travail"},{"$f":"'000 Conditions'!H176","v":0}]
[{"$f":"'000 Conditions'!B177","v":0},null,null,{"$f":"'000 Conditions'!D177","v":"054.200"},null,null,{"$f":"'000 Conditions'!G177","v":"Contrôles des accès"},{"$f":"'000 Conditions'!H177","v":0}]
[{"$f":"'000 Conditions'!B178","v":0},null,null,{"$f":"'000 Conditions'!D178","v":"054.300"},null,null,{"$f":"'000 Conditions'!G178","v":"Système d’assurance qualité"},{"$f":"'000 Conditions'!H178","v":0}]
[{"$f":"'000 Conditions'!B179","v":1},null,null,{"$f":"'000 Conditions'!D179","v":"054.400"},null,null,{"$f":"'000 Conditions'!G179","v":"Déchets, élimination"},{"$f":"'000 Conditions'!H179","v":0}]
[{"$f":"'000 Conditions'!B180","v":0},null,null,{"$f":"'000 Conditions'!D180","v":"054.500"},null,null,{"$f":"'000 Conditions'!G180","v":"Construction écologique, charte éthique"},{"$f":"'000 Conditions'!H180","v":0}]
[{"$f":"'000 Conditions'!B181","v":1},null,{"$f":"'000 Conditions'!C181","v":"055.000"},null,null,null,{"$f":"'000 Conditions'!G181","v":"Sécurité"},{"$f":"'000 Conditions'!H181","v":0}]
[{"$f":"'000 Conditions'!B182","v":1},null,null,{"$f":"'000 Conditions'!D182","v":"055.100"},null,null,{"$f":"'000 Conditions'!G182","v":"Sécurité de chantier (installations existantes)"},{"$f":"'000 Conditions'!H182","v":0}]
[{"$f":"'000 Conditions'!B183","v":1},null,null,null,{"$f":"'000 Conditions'!E183","v":"055.110"},null,{"$f":"'000 Conditions'!G183","v":"Barrières en bordure de toit"},{"$f":"'000 Conditions'!H183","v":0}]
[{"$f":"'000 Conditions'!B184","v":0},null,null,null,{"$f":"'000 Conditions'!E184","v":"055.120"},null,{"$f":"'000 Conditions'!G184","v":"Échafaudage"},{"$f":"'000 Conditions'!H184","v":0}]
[{"$f":"'000 Conditions'!B185","v":0},null,null,null,{"$f":"'000 Conditions'!E185","v":"055.130"},null,{"$f":"'000 Conditions'!G185","v":"Délimitation et clôture des zones"},{"$f":"'000 Conditions'!H185","v":0}]
[{"$f":"'000 Conditions'!B186","v":0},null,null,null,{"$f":"'000 Conditions'!E186","v":"055.140"},null,{"$f":"'000 Conditions'!G186","v":"Sécurisation des chutes à travers la toiture (p.e. puits de lumières, …)"},{"$f":"'000 Conditions'!H186","v":0}]
[{"$f":"'000 Conditions'!B187","v":1},null,null,null,{"$f":"'000 Conditions'!E187","v":"055.150"},null,{"$f":"'000 Conditions'!G187","v":"Tour d’échafaudage"},{"$f":"'000 Conditions'!H187","v":0}]
[{"$f":"'000 Conditions'!B188","v":0},null,null,{"$f":"'000 Conditions'!D188","v":"055.200"},null,null,{"$f":"'000 Conditions'!G188","v":"Sécurité permanente (installations existantes)"},{"$f":"'000 Conditions'!H188","v":0}]
[{"$f":"'000 Conditions'!B189","v":0},null,null,null,{"$f":"'000 Conditions'!E189","v":"055.210"},null,{"$f":"'000 Conditions'!G189","v":"Accès au toit"},{"$f":"'000 Conditions'!H189","v":0}]
[{"$f":"'000 Conditions'!B190","v":0},null,null,null,{"$f":"'000 Conditions'!E190","v":"055.220"},null,{"$f":"'000 Conditions'!G190","v":"Concept de sécurité "},{"$f":"'000 Conditions'!H190","v":0}]
[{"$f":"'000 Conditions'!B191","v":1},null,{"$f":"'000 Conditions'!C191","v":0},null,null,null,{"$f":"'000 Conditions'!G191","v":0},{"$f":"'000 Conditions'!H191","v":0}]
[{"$f":"'000 Conditions'!B192","v":1},null,{"$f":"'000 Conditions'!C192","v":"060.000"},null,null,null,{"$f":"'000 Conditions'!G192","v":"Déroulement des travaux, délais"},{"$f":"'000 Conditions'!H192","v":0}]
[{"$f":"'000 Conditions'!B193","v":1},null,{"$f":"'000 Conditions'!C193","v":"061.000"},null,null,null,{"$f":"'000 Conditions'!G193","v":"Déroulement des travaux"},{"$f":"'000 Conditions'!H193","v":0}]
[{"$f":"'000 Conditions'!B194","v":1},null,null,{"$f":"'000 Conditions'!D194","v":"061.100"},null,null,{"$f":"'000 Conditions'!G194","v":"Calendrier des travaux"},{"$f":"'000 Conditions'!H194","v":0}]
[{"$f":"'000 Conditions'!B195","v":0},null,null,{"$f":"'000 Conditions'!D195","v":"061.200"},null,null,{"$f":"'000 Conditions'!G195","v":"Phases de construction (échelonnement)"},{"$f":"'000 Conditions'!H195","v":0}]
[{"$f":"'000 Conditions'!B196","v":1},null,{"$f":"'000 Conditions'!C196","v":"062.000"},null,null,null,{"$f":"'000 Conditions'!G196","v":"Dates, délais"},{"$f":"'000 Conditions'!H196","v":0}]
[{"$f":"'000 Conditions'!B197","v":1},null,null,{"$f":"'000 Conditions'!D197","v":"062.100"},null,null,{"$f":"'000 Conditions'!G197","v":"Début des travaux"},{"$f":"'000 Conditions'!H197","v":0}]
[{"$f":"'000 Conditions'!B198","v":1},null,null,{"$f":"'000 Conditions'!D198","v":"062.200"},null,null,{"$f":"'000 Conditions'!G198","v":"Mise en service"},{"$f":"'000 Conditions'!H198","v":0}]
[{"$f":"'000 Conditions'!B199","v":0},null,null,{"$f":"'000 Conditions'!D199","v":"062.300"},null,null,{"$f":"'000 Conditions'!G199","v":"Réception"},{"$f":"'000 Conditions'!H199","v":0}]
[{"$f":"'000 Conditions'!B200","v":1},null,{"$f":"'000 Conditions'!C200","v":"063.000"},null,null,null,{"$f":"'000 Conditions'!G200","v":"Primes, pénalités"},{"$f":"'000 Conditions'!H200","v":0}]
[{"$f":"'000 Conditions'!B201","v":0},null,null,{"$f":"'000 Conditions'!D201","v":"063.100"},null,null,{"$f":"'000 Conditions'!G201","v":"Primes"},{"$f":"'000 Conditions'!H201","v":0}]
[{"$f":"'000 Conditions'!B202","v":1},null,null,{"$f":"'000 Conditions'!D202","v":"063.200"},null,null,{"$f":"'000 Conditions'!G202","v":"Pénalités conventionnelles"},{"$f":"'000 Conditions'!H202","v":0}]
[{"$f":"'000 Conditions'!B203","v":0},null,null,{"$f":"'000 Conditions'!D203","v":"063.300"},null,null,{"$f":"'000 Conditions'!G203","v":"Règlement des litiges, conciliation"},{"$f":"'000 Conditions'!H203","v":0}]
[{"$f":"'000 Conditions'!B204","v":1},null,{"$f":"'000 Conditions'!C204","v":0},null,null,null,{"$f":"'000 Conditions'!G204","v":0},{"$f":"'000 Conditions'!H204","v":0}]
[{"$f":"'000 Conditions'!B205","v":1},null,{"$f":"'000 Conditions'!C205","v":"070.000"},null,null,null,{"$f":"'000 Conditions'!G205","v":"Interfaces, compétences (limites des prestations)"},{"$f":"'000 Conditions'!H205","v":0}]
[{"$f":"'000 Conditions'!B206","v":1},null,{"$f":"'000 Conditions'!C206","v":"071.000"},null,null,null,{"$f":"'000 Conditions'!G206","v":"Interfaces électriques"},{"$f":"'000 Conditions'!H206","v":0}]
[{"$f":"'000 Conditions'!B207","v":0},null,null,{"$f":"'000 Conditions'!D207","v":"071.100"},null,null,{"$f":"'000 Conditions'!G207","v":"Jusqu’à l’onduleur (inclus)"},{"$f":"'000 Conditions'!H207","v":0}]
[{"$f":"'000 Conditions'!B208","v":0},null,null,{"$f":"'000 Conditions'!D208","v":"071.200"},null,null,{"$f":"'000 Conditions'!G208","v":"Jusqu’à la l'armoire de distribution PV (inclus)"},{"$f":"'000 Conditions'!H208","v":0}]
[{"$f":"'000 Conditions'!B209","v":1},null,null,{"$f":"'000 Conditions'!D209","v":"071.300"},null,null,{"$f":"'000 Conditions'!G209","v":"Raccordement au réseau"},{"$f":"'000 Conditions'!H209","v":0}]
[{"$f":"'000 Conditions'!B210","v":1},null,null,{"$f":"'000 Conditions'!D210","v":"071.400"},null,null,{"$f":"'000 Conditions'!G210","v":"Interface de protection contre la foudre"},{"$f":"'000 Conditions'!H210","v":0}]
[{"$f":"'000 Conditions'!B211","v":1},null,{"$f":"'000 Conditions'!C211","v":"072.000"},null,null,null,{"$f":"'000 Conditions'!G211","v":"Interfaces mécaniques"},{"$f":"'000 Conditions'!H211","v":0}]
[{"$f":"'000 Conditions'!B212","v":0},null,{"$f":"'000 Conditions'!C212","v":"073.000"},null,null,null,{"$f":"'000 Conditions'!G212","v":"Interfaces administratives"},{"$f":"'000 Conditions'!H212","v":0}]
[{"$f":"'000 Conditions'!B213","v":1},null,{"$f":"'000 Conditions'!C213","v":0},null,null,null,{"$f":"'000 Conditions'!G213","v":0},{"$f":"'000 Conditions'!H213","v":0}]
[{"$f":"'000 Conditions'!B214","v":1},null,{"$f":"'000 Conditions'!C214","v":"080.000"},null,null,null,{"$f":"'000 Conditions'!G214","v":"Assurances, décompte"},{"$f":"'000 Conditions'!H214","v":0}]
[{"$f":"'000 Conditions'!B215","v":1},null,{"$f":"'000 Conditions'!C215","v":"081.000"},null,null,null,{"$f":"'000 Conditions'!G215","v":"Assurances maître d’ouvrage"},{"$f":"'000 Conditions'!H215","v":0}]
[{"$f":"'000 Conditions'!B216","v":0},null,null,{"$f":"'000 Conditions'!D216","v":"081.100"},null,null,{"$f":"'000 Conditions'!G216","v":"Assurance responsabilité civile maître d’ouvrage"},{"$f":"'000 Conditions'!H216","v":0}]
[{"$f":"'000 Conditions'!B217","v":1},null,null,{"$f":"'000 Conditions'!D217","v":"081.200"},null,null,{"$f":"'000 Conditions'!G217","v":"Assurance travaux de construction"},{"$f":"'000 Conditions'!H217","v":0}]
[{"$f":"'000 Conditions'!B218","v":1},null,{"$f":"'000 Conditions'!C218","v":"082.000"},null,null,null,{"$f":"'000 Conditions'!G218","v":"Assurances entrepreneur"},{"$f":"'000 Conditions'!H218","v":0}]
[{"$f":"'000 Conditions'!B219","v":0},null,null,{"$f":"'000 Conditions'!D219","v":"082.100"},null,null,{"$f":"'000 Conditions'!G219","v":"Assurance travaux de construction"},{"$f":"'000 Conditions'!H219","v":0}]
[{"$f":"'000 Conditions'!B220","v":1},null,null,{"$f":"'000 Conditions'!D220","v":"082.200"},null,null,{"$f":"'000 Conditions'!G220","v":"Assurance responsabilité civile entrepreneur"},{"$f":"'000 Conditions'!H220","v":0}]
[{"$f":"'000 Conditions'!B221","v":0},null,null,{"$f":"'000 Conditions'!D221","v":"082.300"},null,null,{"$f":"'000 Conditions'!G221","v":"Assurance montage"},{"$f":"'000 Conditions'!H221","v":0}]
[{"$f":"'000 Conditions'!B222","v":1},null,{"$f":"'000 Conditions'!C222","v":"083.000"},null,null,null,{"$f":"'000 Conditions'!G222","v":"Décompte et facturation"},{"$f":"'000 Conditions'!H222","v":0}]
[{"$f":"'000 Conditions'!B223","v":1},null,null,{"$f":"'000 Conditions'!D223","v":"083.100"},null,null,{"$f":"'000 Conditions'!G223","v":"Échéancier de paiement"},{"$f":"'000 Conditions'!H223","v":0}]
[{"$f":"'000 Conditions'!B224","v":0},null,null,{"$f":"'000 Conditions'!D224","v":"083.200"},null,null,{"$f":"'000 Conditions'!G224","v":"Délais de paiement"},{"$f":"'000 Conditions'!H224","v":0}]
[{"$f":"'000 Conditions'!B225","v":0},null,{"$f":"'000 Conditions'!C225","v":"084.000"},null,null,null,{"$f":"'000 Conditions'!G225","v":"Travaux en régie"},{"$f":"'000 Conditions'!H225","v":0}]
[{"$f":"'000 Conditions'!B226","v":0},null,null,{"$f":"'000 Conditions'!D226","v":"084.100"},null,null,{"$f":"'000 Conditions'!G226","v":"Conditions de régie"},{"$f":"'000 Conditions'!H226","v":0}]
[{"$f":"'000 Conditions'!B227","v":0},null,{"$f":"'000 Conditions'!C227","v":0},null,null,null,{"$f":"'000 Conditions'!G227","v":0},{"$f":"'000 Conditions'!H227","v":0}]
[1,null,null,null,null,null,"Sous total"]
[1]
[1,null,"100.000",null,null,null,"Modules PV",null,null,null,{"$f":"J233*I233","v":0}]
[1,null,null,null,null,null,null,null,null,null,0]
[{"$f":"'100 Modules PV'!B6","v":1},{"$f":"'100 Modules PV'!C6","v":0},{"$f":"'100 Modules PV'!D6","v":"110.000"},null,null,null,{"$f":"'100 Modules PV'!E6","v":"Verre/film avec cadre, ajouté"},{"$f":"'100 Modules PV'!F6","v":""},null,null,0]
[{"$f":"'100 Modules PV'!B7","v":2},{"$f":"'100 Modules PV'!C7","v":1},{"$f":"'100 Modules PV'!D7","v":"111.000"},null,null,null,{"$f":"'100 Modules PV'!E7","v":"Taille standard (1 à 2 m²), < 25 kg"},{"$f":"'100 Modules PV'!F7","v":"Pce "},null,null,{"$f":"J236*I236","v":0}]
[{"$f":"'100 Modules PV'!B8","v":1},{"$f":"'100 Modules PV'!C8","v":1},{"$f":"'100 Modules PV'!D8","v":"112.000"},null,null,null,{"$f":"'100 Modules PV'!E8","v":"Taille standard (1 à 2 m²), > 25 kg\nPropriétés: \nBusbars recouverts / masqués"},{"$f":"'100 Modules PV'!F8","v":"Pce "},null,null,{"$f":"J237*I237","v":0}]
[{"$f":"'100 Modules PV'!B9","v":0},{"$f":"'100 Modules PV'!C9","v":0},{"$f":"'100 Modules PV'!D9","v":"113.000"},null,null,null,{"$f":"'100 Modules PV'!E9","v":"Grande taille (> 2 m²) < 25 kg"},{"$f":"'100 Modules PV'!F9","v":""},null,null,0]
[{"$f":"'100 Modules PV'!B10","v":0},{"$f":"'100 Modules PV'!C10","v":0},{"$f":"'100 Modules PV'!D10","v":"114.000"},null,null,null,{"$f":"'100 Modules PV'!E10","v":"Grande taille (> 2 m²) > 25 kg"},{"$f":"'100 Modules PV'!F10","v":""},null,null,0]
[{"$f":"'100 Modules PV'!B11","v":0},{"$f":"'100 Modules PV'!C11","v":0},{"$f":"'100 Modules PV'!D11","v":"115.000"},null,null,null,{"$f":"'100 Modules PV'!E11","v":"Petite taille (< 1 m²) ; < 25 kg"},{"$f":"'100 Modules PV'!F11","v":""},null,null,0]
[{"$f":"'100 Modules PV'!B12","v":0},{"$f":"'100 Modules PV'!C12","v":0},{"$f":"'100 Modules PV'!D12","v":"116.000"},null,null,null,{"$f":"'100 Modules PV'!E12","v":"Petite taille (< 1 m²) ; > 25 kg"},{"$f":"'100 Modules PV'!F12","v":""},null,null,0]
[{"$f":"'100 Modules PV'!B13","v":1},{"$f":"'100 Modules PV'!C13","v":0},{"$f":"'100 Modules PV'!D13","v":0},null,null,null,{"$f":"'100 Modules PV'!E13","v":0},{"$f":"'100 Modules PV'!F13","v":""},null,null,0]
[{"$f":"'100 Modules PV'!B14","v":0},{"$f":"'100 Modules PV'!C14","v":0},{"$f":"'100 Modules PV'!D14","v":"120.000"},null,null,null,{"$f":"'100 Modules PV'!E14","v":"Verre/film sans cadre, ajouté"},{"$f":"'100 Modules PV'!F14","v":""},null,null,0]
[{"$f":"'100 Modules PV'!B15","v":0},{"$f":"'100 Modules PV'!C15","v":0},{"$f":"'100 Modules PV'!D15","v":"121.000"},null,null,null,{"$f":"'100 Modules PV'!E15","v":"Taille standard (1 à 2 m²), < 25 kg"},{"$f":"'100 Modules PV'!F15","v":""},null,null,0]
[{"$f":"'100 Modules PV'!B16","v":0},{"$f":"'100 Modules PV'!C16","v":0},{"$f":"'100 Modules PV'!D16","v":"122.000"},null,null,null,{"$f":"'100 Modules PV'!E16","v":"Taille standard (1 à 2 m²), > 25 kg"},{"$f":"'100 Modules PV'!F16","v":""},null,null,0]
[{"$f":"'100 Modules PV'!B17","v":0},{"$f":"'100 Modules PV'!C17","v":0},{"$f":"'100 Modules PV'!D17","v":"123.000"},null,null,null,{"$f":"'100 Modules PV'!E17","v":"Grande taille (> 2 m²) < 25 kg"},{"$f":"'100 Modules PV'!F17","v":""},null,null,0]
[{"$f":"'100 Modules PV'!B18","v":0},{"$f":"'100 Modules PV'!C18","v":0},{"$f":"'100 Modules PV'!D18","v":"124.000"},null,null,null,{"$f":"'100 Modules PV'!E18","v":"Grande taille (> 2 m²) > 25 kg"},{"$f":"'100 Modules PV'!F18","v":""},null,null,0]
[{"$f":"'100 Modules PV'!B19","v":0},{"$f":"'100 Modules PV'!C19","v":0},{"$f":"'100 Modules PV'!D19","v":"125.000"},null,null,null,{"$f":"'100 Modules PV'!E19","v":"Petite taille (< 1 m²) ; < 25 kg"},{"$f":"'100 Modules PV'!F19","v":""},null,null,0]
[{"$f":"'100 Modules PV'!B20","v":0},{"$f":"'100 Modules PV'!C20","v":0},{"$f":"'100 Modules PV'!D20","v":"126.000"},null,null,null,{"$f":"'100 Modules PV'!E20","v":"Petite taille (< 1 m²) ; > 25 kg"},{"$f":"'100 Modules PV'!F20","v":""},null,null,0]
[{"$f":"'100 Modules PV'!B21","v":0},{"$f":"'100 Modules PV'!C21","v":0},{"$f":"'100 Modules PV'!D21","v":0},null,null,null,{"$f":"'100 Modules PV'!E21","v":0},{"$f":"'100 Modules PV'!F21","v":""},null,null,0]
[{"$f":"'100 Modules PV'!B22","v":0},{"$f":"'100 Modules PV'!C22","v":0},{"$f":"'100 Modules PV'!D22","v":"130.000"},null,null,null,{"$f":"'100 Modules PV'!E22","v":"Verre/verre avec cadre, ajouté"},{"$f":"'100 Modules PV'!F22","v":""},null,null,0]
[{"$f":"'100 Modules PV'!B23","v":0},{"$f":"'100 Modules PV'!C23","v":0},{"$f":"'100 Modules PV'!D23","v":"131.000"},null,null,null,{"$f":"'100 Modules PV'!E23","v":"Taille standard (1 à 2 m²), < 25 kg"},{"$f":"'100 Modules PV'!F23","v":""},null,null,0]
[{"$f":"'100 Modules PV'!B24","v":0},{"$f":"'100 Modules PV'!C24","v":0},{"$f":"'100 Modules PV'!D24","v":"132.000"},null,null,null,{"$f":"'100 Modules PV'!E24","v":"Taille standard (1 à 2 m²), > 25 kg"},{"$f":"'100 Modules PV'!F24","v":""},null,null,0]
[{"$f":"'100 Modules PV'!B25","v":0},{"$f":"'100 Modules PV'!C25","v":0},{"$f":"'100 Modules PV'!D25","v":"133.000"},null,null,null,{"$f":"'100 Modules PV'!E25","v":"Grande taille (> 2 m²) < 25 kg"},{"$f":"'100 Modules PV'!F25","v":""},null,null,0]
[{"$f":"'100 Modules PV'!B26","v":0},{"$f":"'100 Modules PV'!C26","v":0},{"$f":"'100 Modules PV'!D26","v":"134.000"},null,null,null,{"$f":"'100 Modules PV'!E26","v":"Grande taille (> 2 m²) > 25 kg"},{"$f":"'100 Modules PV'!F26","v":""},null,null,0]
[{"$f":"'100 Modules PV'!B27","v":0},{"$f":"'100 Modules PV'!C27","v":0},{"$f":"'100 Modules PV'!D27","v":"135.000"},null,null,null,{"$f":"'100 Modules PV'!E27","v":"Petite taille (< 1 m²) ; < 25 kg"},{"$f":"'100 Modules PV'!F27","v":""},null,null,0]
[{"$f":"'100 Modules PV'!B28","v":0},{"$f":"'100 Modules PV'!C28","v":0},{"$f":"'100 Modules PV'!D28","v":"136.000"},null,null,null,{"$f":"'100 Modules PV'!E28","v":"Petite taille (< 1 m²) ; > 25 kg"},{"$f":"'100 Modules PV'!F28","v":""},null,null,0]
[{"$f":"'100 Modules PV'!B29","v":0},{"$f":"'100 Modules PV'!C29","v":0},{"$f":"'100 Modules PV'!D29","v":0},null,null,null,{"$f":"'100 Modules PV'!E29","v":0},{"$f":"'100 Modules PV'!F29","v":""},null,null,0]
[{"$f":"'100 Modules PV'!B30","v":0},{"$f":"'100 Modules PV'!C30","v":0},{"$f":"'100 Modules PV'!D30","v":"140.000"},null,null,null,{"$f":"'100 Modules PV'!E30","v":"Verre/verre sans cadre, ajouté"},{"$f":"'100 Modules PV'!F30","v":""},null,null,0]
[{"$f":"'100 Modules PV'!B31","v":0},{"$f":"'100 Modules PV'!C31","v":0},{"$f":"'100 Modules PV'!D31","v":"141.000"},null,null,null,{"$f":"'100 Modules PV'!E31","v":"Taille standard (1 à 2 m²), < 25 kg"},{"$f":"'100 Modules PV'!F31","v":""},null,null,0]
[{"$f":"'100 Modules PV'!B32","v":0},{"$f":"'100 Modules PV'!C32","v":0},{"$f":"'100 Modules PV'!D32","v":"142.000"},null,null,null,{"$f":"'100 Modules PV'!E32","v":"Taille standard (1 à 2 m²), > 25 kg"},{"$f":"'100 Modules PV'!F32","v":""},null,null,0]
[{"$f":"'100 Modules PV'!B33","v":0},{"$f":"'100 Modules PV'!C33","v":0},{"$f":"'100 Modules PV'!D33","v":"143.000"},null,null,null,{"$f":"'100 Modules PV'!E33","v":"Grande taille (> 2 m²) < 25 kg"},{"$f":"'100 Modules PV'!F33","v":""},null,null,0]
[{"$f":"'100 Modules PV'!B34","v":0},{"$f":"'100 Modules PV'!C34","v":0},{"$f":"'100 Modules PV'!D34","v":"144.000"},null,null,null,{"$f":"'100 Modules PV'!E34","v":"Grande taille (> 2 m²) > 25 kg"},{"$f":"'100 Modules PV'!F34","v":""},null,null,0]
[{"$f":"'100 Modules PV'!B35","v":0},{"$f":"'100 Modules PV'!C35","v":0},{"$f":"'100 Modules PV'!D35","v":"145.000"},null,null,null,{"$f":"'100 Modules PV'!E35","v":"Petite taille (< 1 m²) ; < 25 kg"},{"$f":"'100 Modules PV'!F35","v":""},null,null,0]
[{"$f":"'100 Modules PV'!B36","v":0},{"$f":"'100 Modules PV'!C36","v":0},{"$f":"'100 Modules PV'!D36","v":"146.000"},null,null,null,{"$f":"'100 Modules PV'!E36","v":"Petite taille (< 1 m²) ; > 25 kg"},{"$f":"'100 Modules PV'!F36","v":""},null,null,0]
[{"$f":"'100 Modules PV'!B37","v":0},{"$f":"'100 Modules PV'!C37","v":0},{"$f":"'100 Modules PV'!D37","v":0},null,null,null,{"$f":"'100 Modules PV'!E37","v":0},{"$f":"'100 Modules PV'!F37","v":""},null,null,0]
[{"$f":"'100 Modules PV'!B38","v":0},{"$f":"'100 Modules PV'!C38","v":0},{"$f":"'100 Modules PV'!D38","v":"150.000"},null,null,null,{"$f":"'100 Modules PV'!E38","v":"Verre/film avec cadre, intégré"},{"$f":"'100 Modules PV'!F38","v":""},null,null,0]
[{"$f":"'100 Modules PV'!B39","v":0},{"$f":"'100 Modules PV'!C39","v":0},{"$f":"'100 Modules PV'!D39","v":"151.000"},null,null,null,{"$f":"'100 Modules PV'!E39","v":"Taille standard (1 à 2 m²), < 25 kg"},{"$f":"'100 Modules PV'!F39","v":""},null,null,0]
[{"$f":"'100 Modules PV'!B40","v":0},{"$f":"'100 Modules PV'!C40","v":0},{"$f":"'100 Modules PV'!D40","v":"152.000"},null,null,null,{"$f":"'100 Modules PV'!E40","v":"Taille standard (1 à 2 m²), > 25 kg"},{"$f":"'100 Modules PV'!F40","v":""},null,null,0]
[{"$f":"'100 Modules PV'!B41","v":0},{"$f":"'100 Modules PV'!C41","v":0},{"$f":"'100 Modules PV'!D41","v":"153.000"},null,null,null,{"$f":"'100 Modules PV'!E41","v":"Grande taille (> 2 m²) < 25 kg"},{"$f":"'100 Modules PV'!F41","v":""},null,null,0]
[{"$f":"'100 Modules PV'!B42","v":0},{"$f":"'100 Modules PV'!C42","v":0},{"$f":"'100 Modules PV'!D42","v":"154.000"},null,null,null,{"$f":"'100 Modules PV'!E42","v":"Grande taille (> 2 m²) > 25 kg"},{"$f":"'100 Modules PV'!F42","v":""},null,null,0]
[{"$f":"'100 Modules PV'!B43","v":0},{"$f":"'100 Modules PV'!C43","v":0},{"$f":"'100 Modules PV'!D43","v":"155.000"},null,null,null,{"$f":"'100 Modules PV'!E43","v":"Petite taille (< 1 m²) ; < 25 kg"},{"$f":"'100 Modules PV'!F43","v":""},null,null,0]
[{"$f":"'100 Modules PV'!B44","v":0},{"$f":"'100 Modules PV'!C44","v":0},{"$f":"'100 Modules PV'!D44","v":"156.000"},null,null,null,{"$f":"'100 Modules PV'!E44","v":"Petite taille (< 1 m²) ; > 25 kg"},{"$f":"'100 Modules PV'!F44","v":""},null,null,0]
[{"$f":"'100 Modules PV'!B45","v":0},{"$f":"'100 Modules PV'!C45","v":0},{"$f":"'100 Modules PV'!D45","v":0},null,null,null,{"$f":"'100 Modules PV'!E45","v":0},{"$f":"'100 Modules PV'!F45","v":""},null,null,0]
[{"$f":"'100 Modules PV'!B46","v":0},{"$f":"'100 Modules PV'!C46","v":0},{"$f":"'100 Modules PV'!D46","v":"160.000"},null,null,null,{"$f":"'100 Modules PV'!E46","v":"Verre/film sans cadre, intégré"},{"$f":"'100 Modules PV'!F46","v":""},null,null,0]
[{"$f":"'100 Modules PV'!B47","v":0},{"$f":"'100 Modules PV'!C47","v":0},{"$f":"'100 Modules PV'!D47","v":"161.000"},null,null,null,{"$f":"'100 Modules PV'!E47","v":"Taille standard (1 à 2 m²), < 25 kg"},{"$f":"'100 Modules PV'!F47","v":""},null,null,0]
[{"$f":"'100 Modules PV'!B48","v":0},{"$f":"'100 Modules PV'!C48","v":0},{"$f":"'100 Modules PV'!D48","v":"162.000"},null,null,null,{"$f":"'100 Modules PV'!E48","v":"Taille standard (1 à 2 m²), > 25 kg"},{"$f":"'100 Modules PV'!F48","v":""},null,null,0]
[{"$f":"'100 Modules PV'!B49","v":0},{"$f":"'100 Modules PV'!C49","v":0},{"$f":"'100 Modules PV'!D49","v":"163.000"},null,null,null,{"$f":"'100 Modules PV'!E49","v":"Grande taille (> 2 m²) < 25 kg"},{"$f":"'100 Modules PV'!F49","v":""},null,null,0]
[{"$f":"'100 Modules PV'!B50","v":0},{"$f":"'100 Modules PV'!C50","v":0},{"$f":"'100 Modules PV'!D50","v":"164.000"},null,null,null,{"$f":"'100 Modules PV'!E50","v":"Grande taille (> 2 m²) > 25 kg"},{"$f":"'100 Modules PV'!F50","v":""},null,null,0]
[{"$f":"'100 Modules PV'!B51","v":0},{"$f":"'100 Modules PV'!C51","v":0},{"$f":"'100 Modules PV'!D51","v":"165.000"},null,null,null,{"$f":"'100 Modules PV'!E51","v":"Petite taille (< 1 m²) ; < 25 kg"},{"$f":"'100 Modules PV'!F51","v":""},null,null,0]
[{"$f":"'100 Modules PV'!B52","v":0},{"$f":"'100 Modules PV'!C52","v":0},{"$f":"'100 Modules PV'!D52","v":"166.000"},null,null,null,{"$f":"'100 Modules PV'!E52","v":"Petite taille (< 1 m²) ; > 25 kg"},{"$f":"'100 Modules PV'!F52","v":""},null,null,0]
[{"$f":"'100 Modules PV'!B53","v":0},{"$f":"'100 Modules PV'!C53","v":0},{"$f":"'100 Modules PV'!D53","v":0},null,null,null,{"$f":"'100 Modules PV'!E53","v":0},{"$f":"'100 Modules PV'!F53","v":""},null,null,0]
[{"$f":"'100 Modules PV'!B54","v":0},{"$f":"'100 Modules PV'!C54","v":0},{"$f":"'100 Modules PV'!D54","v":"170.000"},null,null,null,{"$f":"'100 Modules PV'!E54","v":"Verre/verre avec cadre, intégré"},{"$f":"'100 Modules PV'!F54","v":""},null,null,0]
[{"$f":"'100 Modules PV'!B55","v":0},{"$f":"'100 Modules PV'!C55","v":0},{"$f":"'100 Modules PV'!D55","v":"171.000"},null,null,null,{"$f":"'100 Modules PV'!E55","v":"Taille standard (1 à 2 m²), < 25 kg"},{"$f":"'100 Modules PV'!F55","v":""},null,null,0]
[{"$f":"'100 Modules PV'!B56","v":0},{"$f":"'100 Modules PV'!C56","v":0},{"$f":"'100 Modules PV'!D56","v":"172.000"},null,null,null,{"$f":"'100 Modules PV'!E56","v":"Taille standard (1 à 2 m²), > 25 kg"},{"$f":"'100 Modules PV'!F56","v":""},null,null,0]
[{"$f":"'100 Modules PV'!B57","v":0},{"$f":"'100 Modules PV'!C57","v":0},{"$f":"'100 Modules PV'!D57","v":"173.000"},null,null,null,{"$f":"'100 Modules PV'!E57","v":"Grande taille (> 2 m²) < 25 kg"},{"$f":"'100 Modules PV'!F57","v":""},null,null,0]
[{"$f":"'100 Modules PV'!B58","v":0},{"$f":"'100 Modules PV'!C58","v":0},{"$f":"'100 Modules PV'!D58","v":"174.000"},null,null,null,{"$f":"'100 Modules PV'!E58","v":"Grande taille (> 2 m²) > 25 kg"},{"$f":"'100 Modules PV'!F58","v":""},null,null,0]
[{"$f":"'100 Modules PV'!B59","v":0},{"$f":"'100 Modules PV'!C59","v":0},{"$f":"'100 Modules PV'!D59","v":"175.000"},null,null,null,{"$f":"'100 Modules PV'!E59","v":"Petite taille (< 1 m²) ; < 25 kg"},{"$f":"'100 Modules PV'!F59","v":""},null,null,0]
[{"$f":"'100 Modules PV'!B60","v":0},{"$f":"'100 Modules PV'!C60","v":0},{"$f":"'100 Modules PV'!D60","v":"176.000"},null,null,null,{"$f":"'100 Modules PV'!E60","v":"Petite taille (< 1 m²) ; > 25 kg"},{"$f":"'100 Modules PV'!F60","v":""},null,null,0]
[{"$f":"'100 Modules PV'!B61","v":0},{"$f":"'100 Modules PV'!C61","v":0},{"$f":"'100 Modules PV'!D61","v":0},null,null,null,{"$f":"'100 Modules PV'!E61","v":0},{"$f":"'100 Modules PV'!F61","v":""},null,null,0]
[{"$f":"'100 Modules PV'!B62","v":1},{"$f":"'100 Modules PV'!C62","v":0},{"$f":"'100 Modules PV'!D62","v":"180.000"},null,null,null,{"$f":"'100 Modules PV'!E62","v":"Verre/verre sans cadre, intégré"},{"$f":"'100 Modules PV'!F62","v":""},null,null,0]
[{"$f":"'100 Modules PV'!B63","v":1},{"$f":"'100 Modules PV'!C63","v":1},{"$f":"'100 Modules PV'!D63","v":"181.000"},null,null,null,{"$f":"'100 Modules PV'!E63","v":"Taille standard (1 à 2 m²), < 25 kg"},{"$f":"'100 Modules PV'!F63","v":"Pce "},null,null,0]
[{"$f":"'100 Modules PV'!B64","v":0},{"$f":"'100 Modules PV'!C64","v":0},{"$f":"'100 Modules PV'!D64","v":"182.000"},null,null,null,{"$f":"'100 Modules PV'!E64","v":"Taille standard (1 à 2 m²), > 25 kg"},{"$f":"'100 Modules PV'!F64","v":""},null,null,0]
[{"$f":"'100 Modules PV'!B65","v":0},{"$f":"'100 Modules PV'!C65","v":0},{"$f":"'100 Modules PV'!D65","v":"183.000"},null,null,null,{"$f":"'100 Modules PV'!E65","v":"Grande taille (> 2 m²) < 25 kg"},{"$f":"'100 Modules PV'!F65","v":""},null,null,0]
[{"$f":"'100 Modules PV'!B66","v":0},{"$f":"'100 Modules PV'!C66","v":0},{"$f":"'100 Modules PV'!D66","v":"184.000"},null,null,null,{"$f":"'100 Modules PV'!E66","v":"Grande taille (> 2 m²) > 25 kg"},{"$f":"'100 Modules PV'!F66","v":""},null,null,0]
[{"$f":"'100 Modules PV'!B67","v":0},{"$f":"'100 Modules PV'!C67","v":0},{"$f":"'100 Modules PV'!D67","v":"185.000"},null,null,null,{"$f":"'100 Modules PV'!E67","v":"Petite taille (< 1 m²) ; < 25 kg"},{"$f":"'100 Modules PV'!F67","v":""},null,null,0]
[{"$f":"'100 Modules PV'!B68","v":0},{"$f":"'100 Modules PV'!C68","v":0},{"$f":"'100 Modules PV'!D68","v":"186.000"},null,null,null,{"$f":"'100 Modules PV'!E68","v":"Petite taille (< 1 m²) ; > 25 kg"},{"$f":"'100 Modules PV'!F68","v":""},null,null,0]
[{"$f":"'100 Modules PV'!B69","v":1},{"$f":"'100 Modules PV'!C69","v":0},{"$f":"'100 Modules PV'!D69","v":0},null,null,null,{"$f":"'100 Modules PV'!E69","v":0},{"$f":"'100 Modules PV'!F69","v":""},null,null,0]
[{"$f":"'100 Modules PV'!B70","v":0},{"$f":"'100 Modules PV'!C70","v":0},{"$f":"'100 Modules PV'!D70","v":"190.000"},null,null,null,{"$f":"'100 Modules PV'!E70","v":"Module spécial"},{"$f":"'100 Modules PV'!F70","v":""},null,null,0]
[{"$f":"'100 Modules PV'!B71","v":0},{"$f":"'100 Modules PV'!C71","v":0},{"$f":"'100 Modules PV'!D71","v":"191.000"},null,null,null,{"$f":"'100 Modules PV'!E71","v":"Verre incurvé"},{"$f":"'100 Modules PV'!F71","v":""},null,null,0]
[{"$f":"'100 Modules PV'!B72","v":0},{"$f":"'100 Modules PV'!C72","v":0},{"$f":"'100 Modules PV'!D72","v":"192.000"},null,null,null,{"$f":"'100 Modules PV'!E72","v":"Plexiglas"},{"$f":"'100 Modules PV'!F72","v":""},null,null,{"$f":"J301*I301","v":0}]
[{"$f":"'100 Modules PV'!B73","v":0},{"$f":"'100 Modules PV'!C73","v":0},{"$f":"'100 Modules PV'!D73","v":"193.000"},null,null,null,{"$f":"'100 Modules PV'!E73","v":"Films flexibles"},{"$f":"'100 Modules PV'!F73","v":""},null,null,0]
[{"$f":"'100 Modules PV'!B74","v":0},{"$f":"'100 Modules PV'!C74","v":0},{"$f":"'100 Modules PV'!D74","v":"194.000"},null,null,null,{"$f":"'100 Modules PV'!E74","v":"Modules factices encadrés"},{"$f":"'100 Modules PV'!F74","v":""},null,null,0]
[{"$f":"'100 Modules PV'!B75","v":0},{"$f":"'100 Modules PV'!C75","v":0},{"$f":"'100 Modules PV'!D75","v":"195.000"},null,null,null,{"$f":"'100 Modules PV'!E75","v":"Modules factices intégré"},{"$f":"'100 Modules PV'!F75","v":""},null,null,0]
[{"$f":"'100 Modules PV'!B76","v":0},{"$f":"'100 Modules PV'!C76","v":0},{"$f":"'100 Modules PV'!D76","v":"196.000"},null,null,null,{"$f":"'100 Modules PV'!E76","v":"Modules factices pour façade"},{"$f":"'100 Modules PV'!F76","v":""},null,null,0]
[{"$f":"'100 Modules PV'!B77","v":0},{"$f":"'100 Modules PV'!C77","v":0},{"$f":"'100 Modules PV'!D77","v":"197.000"},null,null,null,{"$f":"'100 Modules PV'!E77","v":"Module hybride PVT"},{"$f":"'100 Modules PV'!F77","v":""},null,null,0]
[{"$f":"'100 Modules PV'!B78","v":0},{"$f":"'100 Modules PV'!A78","v":0},{"$f":"'100 Modules PV'!D78","v":0},null,null,null,{"$f":"'100 Modules PV'!E78","v":0},{"$f":"'100 Modules PV'!F78","v":0},null,null,0]
[1,1,null,null,null,null,"Sous-total Modules PV",null,null,null,{"$f":"SUM(K233:K307)","v":0}]
[1]
[1,null,"200.000",null,null,null,"Système de montage PV"]
[1]
[{"$f":"'200 Syst. montage PV'!B6","v":0},{"$f":"'200 Syst. montage PV'!C6","v":0},{"$f":"'200 Syst. montage PV'!D6","v":"210.000"},null,null,null,{"$f":"'200 Syst. montage PV'!E6","v":"Toit incliné, systéme ajouté, parallèle à la toiture"},{"$f":"'200 Syst. montage PV'!F6","v":""}]
[{"$f":"'200 Syst. montage PV'!B7","v":0},{"$f":"'200 Syst. montage PV'!C7","v":0},{"$f":"'200 Syst. montage PV'!D7","v":"211.000"},null,null,null,{"$f":"'200 Syst. montage PV'!E7","v":"Tuiles, fixation sur chevrons"},{"$f":"'200 Syst. montage PV'!F7","v":""}]
[{"$f":"'200 Syst. montage PV'!B8","v":0},{"$f":"'200 Syst. montage PV'!C8","v":0},{"$f":"'200 Syst. montage PV'!D8","v":"212.000"},null,null,null,{"$f":"'200 Syst. montage PV'!E8","v":"Tuiles plates, fixation sur chevrons"},{"$f":"'200 Syst. montage PV'!F8","v":""}]
[{"$f":"'200 Syst. montage PV'!B9","v":0},{"$f":"'200 Syst. montage PV'!C9","v":0},{"$f":"'200 Syst. montage PV'!D9","v":"213.000"},null,null,null,{"$f":"'200 Syst. montage PV'!E9","v":"Ardoise ou panneaux, fixation sur chevrons à travers la couverture du toit"},{"$f":"'200 Syst. montage PV'!F9","v":""}]
[{"$f":"'200 Syst. montage PV'!B10","v":0},{"$f":"'200 Syst. montage PV'!C10","v":0},{"$f":"'200 Syst. montage PV'!D10","v":"214.000"},null,null,null,{"$f":"'200 Syst. montage PV'!E10","v":"Panneaux grand format ondulés ou profilés, fixation dans les pannes à travers la couverture du toit (p. ex. Eternit ondulé)"},{"$f":"'200 Syst. montage PV'!F10","v":""}]
[{"$f":"'200 Syst. montage PV'!B11","v":0},{"$f":"'200 Syst. montage PV'!C11","v":0},{"$f":"'200 Syst. montage PV'!D11","v":"215.000"},null,null,null,{"$f":"'200 Syst. montage PV'!E11","v":"Panneaux grand format ondulés ou profilés, fixation dans la couverture extérieure du toit (p. ex. tôle trapézoïdale)"},{"$f":"'200 Syst. montage PV'!F11","v":""}]
[{"$f":"'200 Syst. montage PV'!B12","v":0},{"$f":"'200 Syst. montage PV'!C12","v":0},{"$f":"'200 Syst. montage PV'!D12","v":"216.000"},null,null,null,{"$f":"'200 Syst. montage PV'!E12","v":"Tôle à joint debout, accrochage / serrage à la couverture extérieure du toit"},{"$f":"'200 Syst. montage PV'!F12","v":""}]
[{"$f":"'200 Syst. montage PV'!B13","v":0},{"$f":"'200 Syst. montage PV'!C13","v":0},{"$f":"'200 Syst. montage PV'!D13","v":"217.000"},null,null,null,{"$f":"'200 Syst. montage PV'!E13","v":"Autres"},{"$f":"'200 Syst. montage PV'!F13","v":""}]
[{"$f":"'200 Syst. montage PV'!B14","v":0},{"$f":"'200 Syst. montage PV'!C14","v":0},{"$f":"'200 Syst. montage PV'!D14","v":0},null,null,null,{"$f":"'200 Syst. montage PV'!E14","v":0},{"$f":"'200 Syst. montage PV'!F14","v":""}]
[{"$f":"'200 Syst. montage PV'!B15","v":0},{"$f":"'200 Syst. montage PV'!C15","v":0},{"$f":"'200 Syst. montage PV'!D15","v":"220.000"},null,null,null,{"$f":"'200 Syst. montage PV'!E15","v":"Toit incliné, système intégré, parallèle à la toiture"},{"$f":"'200 Syst. montage PV'!F15","v":""}]
[{"$f":"'200 Syst. montage PV'!B16","v":0},{"$f":"'200 Syst. montage PV'!C16","v":0},{"$f":"'200 Syst. montage PV'!D16","v":"221.000"},null,null,null,{"$f":"'200 Syst. montage PV'!E16","v":"Fixation sur contre-latte"},{"$f":"'200 Syst. montage PV'!F16","v":""}]
[{"$f":"'200 Syst. montage PV'!B17","v":0},{"$f":"'200 Syst. montage PV'!C17","v":0},{"$f":"'200 Syst. montage PV'!D17","v":"222.000"},null,null,null,{"$f":"'200 Syst. montage PV'!E17","v":"Fixation sur lattage"},{"$f":"'200 Syst. montage PV'!F17","v":""}]
[{"$f":"'200 Syst. montage PV'!B18","v":0},{"$f":"'200 Syst. montage PV'!C18","v":0},{"$f":"'200 Syst. montage PV'!D18","v":"223.000"},null,null,null,{"$f":"'200 Syst. montage PV'!E18","v":"Fixation sur chevrons"},{"$f":"'200 Syst. montage PV'!F18","v":""}]
[{"$f":"'200 Syst. montage PV'!B19","v":0},{"$f":"'200 Syst. montage PV'!C19","v":0},{"$f":"'200 Syst. montage PV'!D19","v":"224.000"},null,null,null,{"$f":"'200 Syst. montage PV'!E19","v":"Fixation sur pannes"},{"$f":"'200 Syst. montage PV'!F19","v":""}]
[{"$f":"'200 Syst. montage PV'!B20","v":0},{"$f":"'200 Syst. montage PV'!C20","v":0},{"$f":"'200 Syst. montage PV'!D20","v":"225.000"},null,null,null,{"$f":"'200 Syst. montage PV'!E20","v":"Fixation sur système de lattage propre"},{"$f":"'200 Syst. montage PV'!F20","v":""}]
[{"$f":"'200 Syst. montage PV'!B21","v":0},{"$f":"'200 Syst. montage PV'!C21","v":0},{"$f":"'200 Syst. montage PV'!D21","v":0},null,null,null,{"$f":"'200 Syst. montage PV'!E21","v":0},{"$f":"'200 Syst. montage PV'!F21","v":""}]
[{"$f":"'200 Syst. montage PV'!B22","v":1},{"$f":"'200 Syst. montage PV'!C22","v":0},{"$f":"'200 Syst. montage PV'!D22","v":"230.000"},null,null,null,{"$f":"'200 Syst. montage PV'!E22","v":"Toit plat (sans percement) syst. de montage avec deux orientations opposées (est/ouest)"},{"$f":"'200 Syst. montage PV'!F22","v":""}]
[{"$f":"'200 Syst. montage PV'!B23","v":0},{"$f":"'200 Syst. montage PV'!C23","v":0},{"$f":"'200 Syst. montage PV'!D23","v":"231.000"},null,null,null,{"$f":"'200 Syst. montage PV'!E23","v":"Sur toit plat sans revêtement de protection"},{"$f":"'200 Syst. montage PV'!F23","v":""}]
[{"$f":"'200 Syst. montage PV'!B24","v":1},{"$f":"'200 Syst. montage PV'!C24","v":1},{"$f":"'200 Syst. montage PV'!D24","v":"232.000"},null,null,null,{"$f":"'200 Syst. montage PV'!E24","v":"Sous le gravier\nSystème de serrage"},{"$f":"'200 Syst. montage PV'!F24","v":"Module"}]
[{"$f":"'200 Syst. montage PV'!B25","v":0},{"$f":"'200 Syst. montage PV'!C25","v":0},{"$f":"'200 Syst. montage PV'!D25","v":"233.000"},null,null,null,{"$f":"'200 Syst. montage PV'!E25","v":"Sur le gravier"},{"$f":"'200 Syst. montage PV'!F25","v":""}]
[{"$f":"'200 Syst. montage PV'!B26","v":0},{"$f":"'200 Syst. montage PV'!C26","v":0},{"$f":"'200 Syst. montage PV'!D26","v":"234.000"},null,null,null,{"$f":"'200 Syst. montage PV'!E26","v":"Sous la végétation, construction surélevée"},{"$f":"'200 Syst. montage PV'!F26","v":""}]
[{"$f":"'200 Syst. montage PV'!B27","v":0},{"$f":"'200 Syst. montage PV'!C27","v":0},{"$f":"'200 Syst. montage PV'!D27","v":"235.000"},null,null,null,{"$f":"'200 Syst. montage PV'!E27","v":"Sur la végétation, construction surélevée"},{"$f":"'200 Syst. montage PV'!F27","v":""}]
[{"$f":"'200 Syst. montage PV'!B28","v":0},{"$f":"'200 Syst. montage PV'!C28","v":0},{"$f":"'200 Syst. montage PV'!D28","v":"236.000"},null,null,null,{"$f":"'200 Syst. montage PV'!E28","v":"Monté sur dalles"},{"$f":"'200 Syst. montage PV'!F28","v":""}]
[{"$f":"'200 Syst. montage PV'!B29","v":0},{"$f":"'200 Syst. montage PV'!C29","v":0},{"$f":"'200 Syst. montage PV'!D29","v":"237.000"},null,null,null,{"$f":"'200 Syst. montage PV'!E29","v":"Autres"},{"$f":"'200 Syst. montage PV'!F29","v":""}]
[{"$f":"'200 Syst. montage PV'!B30","v":1},{"$f":"'200 Syst. montage PV'!C30","v":0},{"$f":"'200 Syst. montage PV'!D30","v":0},null,null,null,{"$f":"'200 Syst. montage PV'!E30","v":0},{"$f":"'200 Syst. montage PV'!F30","v":""}]
[{"$f":"'200 Syst. montage PV'!B31","v":0},{"$f":"'200 Syst. montage PV'!C31","v":0},{"$f":"'200 Syst. montage PV'!D31","v":"240.000"},null,null,null,{"$f":"'200 Syst. montage PV'!E31","v":"Toit plat (sans ouverture) syst. de montage avec une orientation (p.e. sud)"},{"$f":"'200 Syst. montage PV'!F31","v":""}]
[{"$f":"'200 Syst. montage PV'!B32","v":0},{"$f":"'200 Syst. montage PV'!C32","v":0},{"$f":"'200 Syst. montage PV'!D32","v":"241.000"},null,null,null,{"$f":"'200 Syst. montage PV'!E32","v":"Sur toit plat sans revêtement de protection"},{"$f":"'200 Syst. montage PV'!F32","v":""}]
[{"$f":"'200 Syst. montage PV'!B33","v":0},{"$f":"'200 Syst. montage PV'!C33","v":0},{"$f":"'200 Syst. montage PV'!D33","v":"242.000"},null,null,null,{"$f":"'200 Syst. montage PV'!E33","v":"Sous le gravier"},{"$f":"'200 Syst. montage PV'!F33","v":""}]
[{"$f":"'200 Syst. montage PV'!B34","v":0},{"$f":"'200 Syst. montage PV'!C34","v":0},{"$f":"'200 Syst. montage PV'!D34","v":"243.000"},null,null,null,{"$f":"'200 Syst. montage PV'!E34","v":"Sur le gravier"},{"$f":"'200 Syst. montage PV'!F34","v":""}]
[{"$f":"'200 Syst. montage PV'!B35","v":0},{"$f":"'200 Syst. montage PV'!C35","v":0},{"$f":"'200 Syst. montage PV'!D35","v":"244.000"},null,null,null,{"$f":"'200 Syst. montage PV'!E35","v":"Sous la végétation, construction surélevée"},{"$f":"'200 Syst. montage PV'!F35","v":""}]
[{"$f":"'200 Syst. montage PV'!B36","v":0},{"$f":"'200 Syst. montage PV'!C36","v":0},{"$f":"'200 Syst. montage PV'!D36","v":"245.000"},null,null,null,{"$f":"'200 Syst. montage PV'!E36","v":"Sur la végétation, construction surélevée"},{"$f":"'200 Syst. montage PV'!F36","v":""}]
[{"$f":"'200 Syst. montage PV'!B37","v":0},{"$f":"'200 Syst. montage PV'!C37","v":0},{"$f":"'200 Syst. montage PV'!D37","v":"246.000"},null,null,null,{"$f":"'200 Syst. montage PV'!E37","v":"Monté sur dalles"},{"$f":"'200 Syst. montage PV'!F37","v":""}]
[{"$f":"'200 Syst. montage PV'!B38","v":0},{"$f":"'200 Syst. montage PV'!C38","v":0},{"$f":"'200 Syst. montage PV'!D38","v":0},null,null,null,{"$f":"'200 Syst. montage PV'!E38","v":0},{"$f":"'200 Syst. montage PV'!F38","v":""}]
[{"$f":"'200 Syst. montage PV'!B39","v":0},{"$f":"'200 Syst. montage PV'!C39","v":0},{"$f":"'200 Syst. montage PV'!D39","v":"250.000"},null,null,null,{"$f":"'200 Syst. montage PV'!E39","v":"Façade"},{"$f":"'200 Syst. montage PV'!F39","v":""}]
[{"$f":"'200 Syst. montage PV'!B40","v":0},{"$f":"'200 Syst. montage PV'!C40","v":0},{"$f":"'200 Syst. montage PV'!D40","v":"251.000"},null,null,null,{"$f":"'200 Syst. montage PV'!E40","v":"Module standard intégré parallèlement au bâtiment"},{"$f":"'200 Syst. montage PV'!F40","v":""}]
[{"$f":"'200 Syst. montage PV'!B41","v":0},{"$f":"'200 Syst. montage PV'!C41","v":0},{"$f":"'200 Syst. montage PV'!D41","v":"252.000"},null,null,null,{"$f":"'200 Syst. montage PV'!E41","v":"Module taille spéciale intégré parallèlement au bâtiment"},{"$f":"'200 Syst. montage PV'!F41","v":""}]
[{"$f":"'200 Syst. montage PV'!B42","v":0},{"$f":"'200 Syst. montage PV'!C42","v":0},{"$f":"'200 Syst. montage PV'!D42","v":"253.000"},null,null,null,{"$f":"'200 Syst. montage PV'!E42","v":"Module standard ajouté parallèlement au bâtiment"},{"$f":"'200 Syst. montage PV'!F42","v":""}]
[{"$f":"'200 Syst. montage PV'!B43","v":0},{"$f":"'200 Syst. montage PV'!C43","v":0},{"$f":"'200 Syst. montage PV'!D43","v":"254.000"},null,null,null,{"$f":"'200 Syst. montage PV'!E43","v":"Module taille spéciale ajouté parallèlement au bâtiment"},{"$f":"'200 Syst. montage PV'!F43","v":""}]
[{"$f":"'200 Syst. montage PV'!B44","v":0},{"$f":"'200 Syst. montage PV'!C44","v":0},{"$f":"'200 Syst. montage PV'!D44","v":"255.000"},null,null,null,{"$f":"'200 Syst. montage PV'!E44","v":"Module standard ajouté et incliné"},{"$f":"'200 Syst. montage PV'!F44","v":""}]
[{"$f":"'200 Syst. montage PV'!B45","v":0},{"$f":"'200 Syst. montage PV'!C45","v":0},{"$f":"'200 Syst. montage PV'!D45","v":"256.000"},null,null,null,{"$f":"'200 Syst. montage PV'!E45","v":"Module taille spéciale ajouté et incliné"},{"$f":"'200 Syst. montage PV'!F45","v":""}]
[{"$f":"'200 Syst. montage PV'!B46","v":0},{"$f":"'200 Syst. montage PV'!C46","v":0},{"$f":"'200 Syst. montage PV'!D46","v":"257.000"},null,null,null,{"$f":"'200 Syst. montage PV'!E46","v":"Modules avec recouvrement"},{"$f":"'200 Syst. montage PV'!F46","v":""}]
[{"$f":"'200 Syst. montage PV'!B47","v":0},{"$f":"'200 Syst. montage PV'!C47","v":0},{"$f":"'200 Syst. montage PV'!D47","v":0},null,null,null,{"$f":"'200 Syst. montage PV'!E47","v":0},{"$f":"'200 Syst. montage PV'!F47","v":""}]
[{"$f":"'200 Syst. montage PV'!B48","v":0},{"$f":"'200 Syst. montage PV'!C48","v":0},{"$f":"'200 Syst. montage PV'!D48","v":"260.000"},null,null,null,{"$f":"'200 Syst. montage PV'!E48","v":"Hors bâtiment"},{"$f":"'200 Syst. montage PV'!F48","v":""}]
[{"$f":"'200 Syst. montage PV'!B49","v":0},{"$f":"'200 Syst. montage PV'!C49","v":0},{"$f":"'200 Syst. montage PV'!D49","v":"261.000"},null,null,null,{"$f":"'200 Syst. montage PV'!E49","v":"Avec fondations"},{"$f":"'200 Syst. montage PV'!F49","v":""}]
[{"$f":"'200 Syst. montage PV'!B50","v":0},{"$f":"'200 Syst. montage PV'!C50","v":0},{"$f":"'200 Syst. montage PV'!D50","v":"262.000"},null,null,null,{"$f":"'200 Syst. montage PV'!E50","v":"Sans fondation (posé au sol)"},{"$f":"'200 Syst. montage PV'!F50","v":""}]
[{"$f":"'200 Syst. montage PV'!B51","v":0},{"$f":"'200 Syst. montage PV'!C51","v":0},{"$f":"'200 Syst. montage PV'!D51","v":"263.000"},null,null,null,{"$f":"'200 Syst. montage PV'!E51","v":"Carport pour voitures"},{"$f":"'200 Syst. montage PV'!F51","v":""}]
[{"$f":"'200 Syst. montage PV'!B52","v":0},{"$f":"'200 Syst. montage PV'!C52","v":0},{"$f":"'200 Syst. montage PV'!D52","v":"264.000"},null,null,null,{"$f":"'200 Syst. montage PV'!E52","v":"Abris à vélos"},{"$f":"'200 Syst. montage PV'!F52","v":""}]
[{"$f":"'200 Syst. montage PV'!B53","v":0},{"$f":"'200 Syst. montage PV'!C53","v":0},{"$f":"'200 Syst. montage PV'!D53","v":"265.000"},null,null,null,{"$f":"'200 Syst. montage PV'!E53","v":"Flottant"},{"$f":"'200 Syst. montage PV'!F53","v":""}]
[{"$f":"'200 Syst. montage PV'!B54","v":0},{"$f":"'200 Syst. montage PV'!C54","v":0},{"$f":"'200 Syst. montage PV'!D54","v":0},null,null,null,{"$f":"'200 Syst. montage PV'!E54","v":0},{"$f":"'200 Syst. montage PV'!F54","v":""}]
[{"$f":"'200 Syst. montage PV'!B55","v":0},{"$f":"'200 Syst. montage PV'!C55","v":0},{"$f":"'200 Syst. montage PV'!D55","v":"270.000"},null,null,null,{"$f":"'200 Syst. montage PV'!E55","v":"Autres"},{"$f":"'200 Syst. montage PV'!F55","v":""}]
[{"$f":"'200 Syst. montage PV'!B56","v":0},{"$f":"'200 Syst. montage PV'!C56","v":0},{"$f":"'200 Syst. montage PV'!D56","v":"271.000"},null,null,null,{"$f":"'200 Syst. montage PV'!E56","v":"Toit incliné, montage sur châssis"},{"$f":"'200 Syst. montage PV'!F56","v":""}]
[{"$f":"'200 Syst. montage PV'!B57","v":0},{"$f":"'200 Syst. montage PV'!C57","v":0},{"$f":"'200 Syst. montage PV'!D57","v":0},null,null,null,{"$f":"'200 Syst. montage PV'!E57","v":0},{"$f":"'200 Syst. montage PV'!F57","v":""}]
[{"$f":"'200 Syst. montage PV'!B58","v":0},{"$f":"'200 Syst. montage PV'!C58","v":0},{"$f":"'200 Syst. montage PV'!D58","v":"280.000"},null,null,null,{"$f":"'200 Syst. montage PV'!E58","v":"Matériel supplémentaire"},{"$f":"'200 Syst. montage PV'!F58","v":""}]
[{"$f":"'200 Syst. montage PV'!B59","v":0},{"$f":"'200 Syst. montage PV'!C59","v":0},{"$f":"'200 Syst. montage PV'!D59","v":"281.000"},null,null,null,{"$f":"'200 Syst. montage PV'!E59","v":"Toile anti-croissance des végétaux (résistante aux UV)"},{"$f":"'200 Syst. montage PV'!F59","v":""}]
[{"$f":"'200 Syst. montage PV'!B60","v":0},{"$f":"'200 Syst. montage PV'!C60","v":0},{"$f":"'200 Syst. montage PV'!D60","v":"282.000"},null,null,null,{"$f":"'200 Syst. montage PV'!E60","v":"Ferblanterie pour instalation intégrée sur toit incliné"},{"$f":"'200 Syst. montage PV'!F60","v":""}]
[{"$f":"'200 Syst. montage PV'!B61","v":0},{"$f":"'200 Syst. montage PV'!C61","v":0},{"$f":"'200 Syst. montage PV'!D61","v":"283.000"},null,null,null,{"$f":"'200 Syst. montage PV'!E61","v":"Barre à neige"},{"$f":"'200 Syst. montage PV'!F61","v":""}]
[{"$f":"'200 Syst. montage PV'!B62","v":0},{"$f":"'200 Syst. montage PV'!C62","v":0},{"$f":"'200 Syst. montage PV'!D62","v":"284.000"},null,null,null,{"$f":"'200 Syst. montage PV'!E62","v":"Crochets pare-neige "},{"$f":"'200 Syst. montage PV'!F62","v":""}]
[{"$f":"'200 Syst. montage PV'!B63","v":0},{"$f":"'200 Syst. montage PV'!C63","v":0},{"$f":"'200 Syst. montage PV'!D63","v":"285.000"},null,null,null,{"$f":"'200 Syst. montage PV'!E63","v":"Fenêtre de toit pour installations intégrées à la toiture"},{"$f":"'200 Syst. montage PV'!F63","v":""}]
[{"$f":"'200 Syst. montage PV'!B64","v":0},{"$f":"'200 Syst. montage PV'!C64","v":0},{"$f":"'200 Syst. montage PV'!D64","v":"286.000"},null,null,null,{"$f":"'200 Syst. montage PV'!E64","v":"Collecteur thermique pour installations intégrées à la toiture"},{"$f":"'200 Syst. montage PV'!F64","v":""}]
[{"$f":"'200 Syst. montage PV'!B65","v":0},{"$f":"'200 Syst. montage PV'!C65","v":0},{"$f":"'200 Syst. montage PV'!D65","v":0},null,null,null,{"$f":"'200 Syst. montage PV'!E65","v":0},{"$f":"'200 Syst. montage PV'!F65","v":0}]
[1,1,null,null,null,null,"Sous-total Système de montage PV"]
[1]
[1,null,"300.000",null,null,null,"Appareils raccordés"]
[1]
[{"$f":"'300 Appareils raccordés'!B6","v":1},{"$f":"'300 Appareils raccordés'!C6","v":0},{"$f":"'300 Appareils raccordés'!D6","v":"310.000"},null,null,null,{"$f":"'300 Appareils raccordés'!E6","v":"Onduleurs string raccordés réseau"},{"$f":"'300 Appareils raccordés'!F6","v":""}]
[{"$f":"'300 Appareils raccordés'!B7","v":1},{"$f":"'300 Appareils raccordés'!C7","v":1},{"$f":"'300 Appareils raccordés'!D7","v":"311.000"},null,null,null,{"$f":"'300 Appareils raccordés'!E7","v":"Onduleur string BT sans fonction hybride\nPropriétés : \nNombre de MPPT\nProtection IP\nPoint de sectionnement DC"},{"$f":"'300 Appareils raccordés'!F7","v":"Pce "}]
[{"$f":"'300 Appareils raccordés'!B8","v":0},{"$f":"'300 Appareils raccordés'!C8","v":0},{"$f":"'300 Appareils raccordés'!D8","v":"312.000"},null,null,null,{"$f":"'300 Appareils raccordés'!E8","v":"Onduleur string BT avec fonction hybride"},{"$f":"'300 Appareils raccordés'!F8","v":""}]
[{"$f":"'300 Appareils raccordés'!B9","v":0},{"$f":"'300 Appareils raccordés'!C9","v":0},{"$f":"'300 Appareils raccordés'!D9","v":"313.000"},null,null,null,{"$f":"'300 Appareils raccordés'!E9","v":"Onduleur string tension spécifique"},{"$f":"'300 Appareils raccordés'!F9","v":""}]
[{"$f":"'300 Appareils raccordés'!B10","v":0},{"$f":"'300 Appareils raccordés'!C10","v":0},{"$f":"'300 Appareils raccordés'!D10","v":"314.000"},null,null,null,{"$f":"'300 Appareils raccordés'!E10","v":"Micro-onduleur"},{"$f":"'300 Appareils raccordés'!F10","v":""}]
[{"$f":"'300 Appareils raccordés'!B11","v":1},{"$f":"'300 Appareils raccordés'!C11","v":0},{"$f":"'300 Appareils raccordés'!D11","v":0},null,null,null,{"$f":"'300 Appareils raccordés'!E11","v":0},{"$f":"'300 Appareils raccordés'!F11","v":""}]
[{"$f":"'300 Appareils raccordés'!B12","v":0},{"$f":"'300 Appareils raccordés'!C12","v":0},{"$f":"'300 Appareils raccordés'!D12","v":"320.000"},null,null,null,{"$f":"'300 Appareils raccordés'!E12","v":"Onduleur central raccordé réseau"},{"$f":"'300 Appareils raccordés'!F12","v":""}]
[{"$f":"'300 Appareils raccordés'!B13","v":0},{"$f":"'300 Appareils raccordés'!C13","v":0},{"$f":"'300 Appareils raccordés'!D13","v":"321.000"},null,null,null,{"$f":"'300 Appareils raccordés'!E13","v":"Onduleur central BT"},{"$f":"'300 Appareils raccordés'!F13","v":""}]
[{"$f":"'300 Appareils raccordés'!B14","v":0},{"$f":"'300 Appareils raccordés'!C14","v":0},{"$f":"'300 Appareils raccordés'!D14","v":"322.000"},null,null,null,{"$f":"'300 Appareils raccordés'!E14","v":"Onduleur central tension spécifique"},{"$f":"'300 Appareils raccordés'!F14","v":""}]
[{"$f":"'300 Appareils raccordés'!B15","v":0},{"$f":"'300 Appareils raccordés'!C15","v":0},{"$f":"'300 Appareils raccordés'!D15","v":0},null,null,null,{"$f":"'300 Appareils raccordés'!E15","v":0},{"$f":"'300 Appareils raccordés'!F15","v":""}]
[{"$f":"'300 Appareils raccordés'!B16","v":1},{"$f":"'300 Appareils raccordés'!C16","v":0},{"$f":"'300 Appareils raccordés'!D16","v":"330.000"},null,null,null,{"$f":"'300 Appareils raccordés'!E16","v":"Boîtier de raccordement de générateur"},{"$f":"'300 Appareils raccordés'!F16","v":""}]
[{"$f":"'300 Appareils raccordés'!B17","v":0},{"$f":"'300 Appareils raccordés'!C17","v":0},{"$f":"'300 Appareils raccordés'!D17","v":"331.000"},null,null,null,{"$f":"'300 Appareils raccordés'!E17","v":"sans SPD, sans coupure"},{"$f":"'300 Appareils raccordés'!F17","v":""}]
[{"$f":"'300 Appareils raccordés'!B18","v":0},{"$f":"'300 Appareils raccordés'!C18","v":0},{"$f":"'300 Appareils raccordés'!D18","v":"332.000"},null,null,null,{"$f":"'300 Appareils raccordés'!E18","v":"sans SPD, avec coupure"},{"$f":"'300 Appareils raccordés'!F18","v":""}]
[{"$f":"'300 Appareils raccordés'!B19","v":0},{"$f":"'300 Appareils raccordés'!C19","v":0},{"$f":"'300 Appareils raccordés'!D19","v":"333.000"},null,null,null,{"$f":"'300 Appareils raccordés'!E19","v":"avec SPD T2, sans coupure"},{"$f":"'300 Appareils raccordés'!F19","v":""}]
[{"$f":"'300 Appareils raccordés'!B20","v":0},{"$f":"'300 Appareils raccordés'!C20","v":0},{"$f":"'300 Appareils raccordés'!D20","v":"334.000"},null,null,null,{"$f":"'300 Appareils raccordés'!E20","v":"avec SPD T2, avec coupure"},{"$f":"'300 Appareils raccordés'!F20","v":""}]
[{"$f":"'300 Appareils raccordés'!B21","v":1},{"$f":"'300 Appareils raccordés'!C21","v":1},{"$f":"'300 Appareils raccordés'!D21","v":"335.000"},null,null,null,{"$f":"'300 Appareils raccordés'!E21","v":"avec SPD T1+2, sans coupure"},{"$f":"'300 Appareils raccordés'!F21","v":"Pce "}]
[{"$f":"'300 Appareils raccordés'!B22","v":0},{"$f":"'300 Appareils raccordés'!C22","v":0},{"$f":"'300 Appareils raccordés'!D22","v":"336.000"},null,null,null,{"$f":"'300 Appareils raccordés'!E22","v":"avec SPD T1+2, avec coupure"},{"$f":"'300 Appareils raccordés'!F22","v":""}]
[{"$f":"'300 Appareils raccordés'!B23","v":0},{"$f":"'300 Appareils raccordés'!C23","v":0},{"$f":"'300 Appareils raccordés'!D23","v":"337.000"},null,null,null,{"$f":"'300 Appareils raccordés'!E23","v":"Fusibles DC"},{"$f":"'300 Appareils raccordés'!F23","v":""}]
[{"$f":"'300 Appareils raccordés'!B24","v":0},{"$f":"'300 Appareils raccordés'!C24","v":0},{"$f":"'300 Appareils raccordés'!D24","v":"338.000"},null,null,null,{"$f":"'300 Appareils raccordés'!E24","v":"Cartouches SPD enfichables"},{"$f":"'300 Appareils raccordés'!F24","v":""}]
[{"$f":"'300 Appareils raccordés'!B25","v":1},{"$f":"'300 Appareils raccordés'!C25","v":0},{"$f":"'300 Appareils raccordés'!D25","v":0},null,null,null,{"$f":"'300 Appareils raccordés'!E25","v":0},{"$f":"'300 Appareils raccordés'!F25","v":""}]
[{"$f":"'300 Appareils raccordés'!B26","v":0},{"$f":"'300 Appareils raccordés'!C26","v":0},{"$f":"'300 Appareils raccordés'!D26","v":"340.000"},null,null,null,{"$f":"'300 Appareils raccordés'!E26","v":"Batteries systèmes DC"},{"$f":"'300 Appareils raccordés'!F26","v":""}]
[{"$f":"'300 Appareils raccordés'!B27","v":0},{"$f":"'300 Appareils raccordés'!C27","v":0},{"$f":"'300 Appareils raccordés'!D27","v":"341.000"},null,null,null,{"$f":"'300 Appareils raccordés'!E27","v":"Conteneur (application extérieure, système complet)"},{"$f":"'300 Appareils raccordés'!F27","v":""}]
[{"$f":"'300 Appareils raccordés'!B28","v":0},{"$f":"'300 Appareils raccordés'!C28","v":0},{"$f":"'300 Appareils raccordés'!D28","v":"342.000"},null,null,null,{"$f":"'300 Appareils raccordés'!E28","v":"Système de batterie (y compris onduleur et régulateur de charge)"},{"$f":"'300 Appareils raccordés'!F28","v":""}]
[{"$f":"'300 Appareils raccordés'!B29","v":0},{"$f":"'300 Appareils raccordés'!C29","v":0},{"$f":"'300 Appareils raccordés'!D29","v":"343.000"},null,null,null,{"$f":"'300 Appareils raccordés'!E29","v":"Système de batterie (sans onduleur et régulateur de charge)"},{"$f":"'300 Appareils raccordés'!F29","v":""}]
[{"$f":"'300 Appareils raccordés'!B30","v":0},{"$f":"'300 Appareils raccordés'!C30","v":0},{"$f":"'300 Appareils raccordés'!D30","v":"344.000"},null,null,null,{"$f":"'300 Appareils raccordés'!E30","v":"Régulateur de charge de batterie"},{"$f":"'300 Appareils raccordés'!F30","v":""}]
[{"$f":"'300 Appareils raccordés'!B31","v":0},{"$f":"'300 Appareils raccordés'!C31","v":0},{"$f":"'300 Appareils raccordés'!D31","v":"345.000"},null,null,null,{"$f":"'300 Appareils raccordés'!E31","v":"Unité de stockage (pour batterie modulaire)"},{"$f":"'300 Appareils raccordés'!F31","v":""}]
[{"$f":"'300 Appareils raccordés'!B32","v":0},{"$f":"'300 Appareils raccordés'!C32","v":0},{"$f":"'300 Appareils raccordés'!D32","v":0},null,null,null,{"$f":"'300 Appareils raccordés'!E32","v":0},{"$f":"'300 Appareils raccordés'!F32","v":""}]
[{"$f":"'300 Appareils raccordés'!B33","v":0},{"$f":"'300 Appareils raccordés'!C33","v":0},{"$f":"'300 Appareils raccordés'!D33","v":"350.000"},null,null,null,{"$f":"'300 Appareils raccordés'!E33","v":"Batterie système AC"},{"$f":"'300 Appareils raccordés'!F33","v":""}]
[{"$f":"'300 Appareils raccordés'!B34","v":0},{"$f":"'300 Appareils raccordés'!C34","v":0},{"$f":"'300 Appareils raccordés'!D34","v":"351.000"},null,null,null,{"$f":"'300 Appareils raccordés'!E34","v":"Module conteneur (application extérieure, système complet)"},{"$f":"'300 Appareils raccordés'!F34","v":""}]
[{"$f":"'300 Appareils raccordés'!B35","v":0},{"$f":"'300 Appareils raccordés'!C35","v":0},{"$f":"'300 Appareils raccordés'!D35","v":"352.000"},null,null,null,{"$f":"'300 Appareils raccordés'!E35","v":"Systèmes de batteries (y compris onduleur)"},{"$f":"'300 Appareils raccordés'!F35","v":""}]
[{"$f":"'300 Appareils raccordés'!B36","v":0},{"$f":"'300 Appareils raccordés'!C36","v":0},{"$f":"'300 Appareils raccordés'!D36","v":"353.000"},null,null,null,{"$f":"'300 Appareils raccordés'!E36","v":"Unité de stockage (pour batterie modulaire)"},{"$f":"'300 Appareils raccordés'!F36","v":""}]
[{"$f":"'300 Appareils raccordés'!B37","v":0},{"$f":"'300 Appareils raccordés'!C37","v":0},{"$f":"'300 Appareils raccordés'!D37","v":0},null,null,null,{"$f":"'300 Appareils raccordés'!E37","v":0},{"$f":"'300 Appareils raccordés'!F37","v":""}]
[{"$f":"'300 Appareils raccordés'!B38","v":1},{"$f":"'300 Appareils raccordés'!C38","v":0},{"$f":"'300 Appareils raccordés'!D38","v":"360.000"},null,null,null,{"$f":"'300 Appareils raccordés'!E38","v":"Équipements périphériques onduleur/batterie"},{"$f":"'300 Appareils raccordés'!F38","v":""}]
[{"$f":"'300 Appareils raccordés'!B39","v":0},{"$f":"'300 Appareils raccordés'!C39","v":0},{"$f":"'300 Appareils raccordés'!D39","v":"361.000"},null,null,null,{"$f":"'300 Appareils raccordés'!E39","v":"Optimiseur de module"},{"$f":"'300 Appareils raccordés'!F39","v":""}]
[{"$f":"'300 Appareils raccordés'!B40","v":0},{"$f":"'300 Appareils raccordés'!C40","v":0},{"$f":"'300 Appareils raccordés'!D40","v":"362.000"},null,null,null,{"$f":"'300 Appareils raccordés'!E40","v":"Optimiseur de string"},{"$f":"'300 Appareils raccordés'!F40","v":""}]
[{"$f":"'300 Appareils raccordés'!B41","v":0},{"$f":"'300 Appareils raccordés'!C41","v":0},{"$f":"'300 Appareils raccordés'!D41","v":"363.000"},null,null,null,{"$f":"'300 Appareils raccordés'!E41","v":"Datalogger"},{"$f":"'300 Appareils raccordés'!F41","v":""}]
[{"$f":"'300 Appareils raccordés'!B42","v":0},{"$f":"'300 Appareils raccordés'!C42","v":0},{"$f":"'300 Appareils raccordés'!D42","v":"364.000"},null,null,null,{"$f":"'300 Appareils raccordés'!E42","v":"Capteurs météorologiques"},{"$f":"'300 Appareils raccordés'!F42","v":""}]
[{"$f":"'300 Appareils raccordés'!B43","v":1},{"$f":"'300 Appareils raccordés'!C43","v":1},{"$f":"'300 Appareils raccordés'!D43","v":"365.000"},null,null,null,{"$f":"'300 Appareils raccordés'!E43","v":"SmartMeter\nPropriétés : \nTriphasé\nMesure directe"},{"$f":"'300 Appareils raccordés'!F43","v":"Pce "}]
[{"$f":"'300 Appareils raccordés'!B44","v":1},{"$f":"'300 Appareils raccordés'!C44","v":1},{"$f":"'300 Appareils raccordés'!D44","v":"366.000"},null,null,null,{"$f":"'300 Appareils raccordés'!E44","v":"Commande consommateur (p. ex. élément chauffant électrique ou borne de recharge électrique)\nPropriétés : \nNombre de contacts sans potentiel"},{"$f":"'300 Appareils raccordés'!F44","v":"Pce "}]
[{"$f":"'300 Appareils raccordés'!B45","v":1},{"$f":"'300 Appareils raccordés'!C45","v":1},{"$f":"'300 Appareils raccordés'!D45","v":"367.000"},null,null,null,{"$f":"'300 Appareils raccordés'!E45","v":"Routeur avec carte SIM"},{"$f":"'300 Appareils raccordés'!F45","v":"Pce "}]
[{"$f":"'300 Appareils raccordés'!B46","v":0},{"$f":"'300 Appareils raccordés'!C46","v":0},{"$f":"'300 Appareils raccordés'!D46","v":"368.000"},null,null,null,{"$f":"'300 Appareils raccordés'!E46","v":"Visualisation"},{"$f":"'300 Appareils raccordés'!F46","v":""}]
[{"$f":"'300 Appareils raccordés'!B47","v":1},{"$f":"'300 Appareils raccordés'!C47","v":0},{"$f":"'300 Appareils raccordés'!D47","v":0},null,null,null,{"$f":"'300 Appareils raccordés'!E47","v":0},{"$f":"'300 Appareils raccordés'!F47","v":""}]
[{"$f":"'300 Appareils raccordés'!B48","v":1},{"$f":"'300 Appareils raccordés'!C48","v":0},{"$f":"'300 Appareils raccordés'!D48","v":"370.000"},null,null,null,{"$f":"'300 Appareils raccordés'!E48","v":"Consommateurs commandés/SmartEnergy"},{"$f":"'300 Appareils raccordés'!F48","v":""}]
[{"$f":"'300 Appareils raccordés'!B49","v":1},{"$f":"'300 Appareils raccordés'!C49","v":1},{"$f":"'300 Appareils raccordés'!D49","v":"371.000"},null,null,null,{"$f":"'300 Appareils raccordés'!E49","v":"Bornes de recharge électrique \nPropriétés : \nType de connecteur (type 1, type 2, CCS, CHAdeMO)"},{"$f":"'300 Appareils raccordés'!F49","v":"Pce "}]
[{"$f":"'300 Appareils raccordés'!B50","v":0},{"$f":"'300 Appareils raccordés'!C50","v":0},{"$f":"'300 Appareils raccordés'!D50","v":"372.000"},null,null,null,{"$f":"'300 Appareils raccordés'!E50","v":"Générateur de chaleur"},{"$f":"'300 Appareils raccordés'!F50","v":""}]
[{"$f":"'300 Appareils raccordés'!B51","v":0},{"$f":"'300 Appareils raccordés'!C51","v":0},{"$f":"'300 Appareils raccordés'!D51","v":"373.000"},null,null,null,{"$f":"'300 Appareils raccordés'!E51","v":"Appareils SmartEnergy"},{"$f":"'300 Appareils raccordés'!F51","v":""}]
[{"$f":"'300 Appareils raccordés'!B52","v":1},{"$f":"'300 Appareils raccordés'!C52","v":0},{"$f":"'300 Appareils raccordés'!D52","v":0},null,null,null,{"$f":"'300 Appareils raccordés'!E52","v":0},{"$f":"'300 Appareils raccordés'!F52","v":""}]
[{"$f":"'300 Appareils raccordés'!B53","v":0},{"$f":"'300 Appareils raccordés'!C53","v":0},{"$f":"'300 Appareils raccordés'!D53","v":"380.000"},null,null,null,{"$f":"'300 Appareils raccordés'!E53","v":"Composants pour installation en îlotage"},{"$f":"'300 Appareils raccordés'!F53","v":""}]
[{"$f":"'300 Appareils raccordés'!B54","v":0},{"$f":"'300 Appareils raccordés'!C54","v":0},{"$f":"'300 Appareils raccordés'!D54","v":"381.000"},null,null,null,{"$f":"'300 Appareils raccordés'!E54","v":"Onduleurs en îlotage"},{"$f":"'300 Appareils raccordés'!F54","v":""}]
[{"$f":"'300 Appareils raccordés'!B55","v":0},{"$f":"'300 Appareils raccordés'!C55","v":0},{"$f":"'300 Appareils raccordés'!D55","v":"382.000"},null,null,null,{"$f":"'300 Appareils raccordés'!E55","v":"Régulateur de charge solaire"},{"$f":"'300 Appareils raccordés'!F55","v":""}]
[{"$f":"'300 Appareils raccordés'!B56","v":0},{"$f":"'300 Appareils raccordés'!C56","v":0},{"$f":"'300 Appareils raccordés'!D56","v":"383.000"},null,null,null,{"$f":"'300 Appareils raccordés'!E56","v":"Batteries autonomes"},{"$f":"'300 Appareils raccordés'!F56","v":""}]
[{"$f":"'300 Appareils raccordés'!B57","v":0},{"$f":"'300 Appareils raccordés'!C57","v":0},{"$f":"'300 Appareils raccordés'!D57","v":"384.000"},null,null,null,{"$f":"'300 Appareils raccordés'!E57","v":"Élément chauffant électrique DC (raccordement direct au générateur PV)"},{"$f":"'300 Appareils raccordés'!F57","v":""}]
[{"$f":"'300 Appareils raccordés'!B58","v":0},{"$f":"'300 Appareils raccordés'!C58","v":0},{"$f":"'300 Appareils raccordés'!D58","v":"385.000"},null,null,null,{"$f":"'300 Appareils raccordés'!E58","v":"Système d’éclairage DC"},{"$f":"'300 Appareils raccordés'!F58","v":""}]
[{"$f":"'300 Appareils raccordés'!B59","v":0},{"$f":"'300 Appareils raccordés'!C59","v":0},{"$f":"'300 Appareils raccordés'!D59","v":"386.000"},null,null,null,{"$f":"'300 Appareils raccordés'!E59","v":"Réfrigérateur DC"},{"$f":"'300 Appareils raccordés'!F59","v":""}]
[{"$f":"'300 Appareils raccordés'!B60","v":0},{"$f":"'300 Appareils raccordés'!C60","v":0},{"$f":"'300 Appareils raccordés'!D60","v":"387.000"},null,null,null,{"$f":"'300 Appareils raccordés'!E60","v":"Autres"},{"$f":"'300 Appareils raccordés'!F60","v":""}]
[{"$f":"'300 Appareils raccordés'!B61","v":0},{"$f":"'300 Appareils raccordés'!C61","v":0},{"$f":"'300 Appareils raccordés'!D61","v":0},null,null,null,{"$f":"'300 Appareils raccordés'!E61","v":0},{"$f":"'300 Appareils raccordés'!F61","v":""}]
[1,1,null,null,null,null,"Sous-total Appareils raccordés"]
[1]
[1,{"$f":"'400 Installation DC'!C6","v":0},"400.000",null,null,null,"Installation DC",{"$f":"'400 Installation DC'!F6","v":""}]
[1]
[{"$f":"'400 Installation DC'!B9","v":1},{"$f":"'400 Installation DC'!C9","v":1},{"$f":"'400 Installation DC'!D9","v":"410.000"},null,null,null,{"$f":"'400 Installation DC'!E9","v":"Lignes solaires DC"},{"$f":"'400 Installation DC'!F9","v":"forf."}]
[{"$f":"'400 Installation DC'!B10","v":1},{"$f":"'400 Installation DC'!C10","v":0},{"$f":"'400 Installation DC'!D10","v":0},null,null,null,{"$f":"'400 Installation DC'!E10","v":"Propriétés : \nSection\nRésistant aux UV"},{"$f":"'400 Installation DC'!F10","v":""}]
[{"$f":"'400 Installation DC'!B11","v":0},{"$f":"'400 Installation DC'!C11","v":0},{"$f":"'400 Installation DC'!D11","v":"411.000"},null,null,null,{"$f":"'400 Installation DC'!E11","v":"Cu 4 mm²"},{"$f":"'400 Installation DC'!F11","v":""}]
[{"$f":"'400 Installation DC'!B12","v":0},{"$f":"'400 Installation DC'!C12","v":0},{"$f":"'400 Installation DC'!D12","v":"412.000"},null,null,null,{"$f":"'400 Installation DC'!E12","v":"Cu 6 mm²"},{"$f":"'400 Installation DC'!F12","v":""}]
[{"$f":"'400 Installation DC'!B13","v":0},{"$f":"'400 Installation DC'!C13","v":0},{"$f":"'400 Installation DC'!D13","v":"413.000"},null,null,null,{"$f":"'400 Installation DC'!E13","v":"Cu 10 mm²"},{"$f":"'400 Installation DC'!F13","v":""}]
[{"$f":"'400 Installation DC'!B14","v":0},{"$f":"'400 Installation DC'!C14","v":0},{"$f":"'400 Installation DC'!D14","v":"414.000"},null,null,null,{"$f":"'400 Installation DC'!E14","v":"Cu 16 mm²"},{"$f":"'400 Installation DC'!F14","v":""}]
[{"$f":"'400 Installation DC'!B15","v":0},{"$f":"'400 Installation DC'!C15","v":0},{"$f":"'400 Installation DC'!D15","v":"415.000"},null,null,null,{"$f":"'400 Installation DC'!E15","v":"Cu 25 mm²"},{"$f":"'400 Installation DC'!F15","v":""}]
[{"$f":"'400 Installation DC'!B16","v":0},{"$f":"'400 Installation DC'!C16","v":0},{"$f":"'400 Installation DC'!D16","v":"416.000"},null,null,null,{"$f":"'400 Installation DC'!E16","v":"Cu 35 mm²"},{"$f":"'400 Installation DC'!F16","v":""}]
[{"$f":"'400 Installation DC'!B17","v":0},{"$f":"'400 Installation DC'!C17","v":0},{"$f":"'400 Installation DC'!D17","v":"417.000"},null,null,null,{"$f":"'400 Installation DC'!E17","v":"Cu 50 mm²"},{"$f":"'400 Installation DC'!F17","v":""}]
[{"$f":"'400 Installation DC'!B18","v":0},{"$f":"'400 Installation DC'!C18","v":0},{"$f":"'400 Installation DC'!D18","v":"418.000"},null,null,null,{"$f":"'400 Installation DC'!E18","v":"Al"},{"$f":"'400 Installation DC'!F18","v":""}]
[{"$f":"'400 Installation DC'!B19","v":1},{"$f":"'400 Installation DC'!C19","v":0},{"$f":"'400 Installation DC'!D19","v":0},null,null,null,{"$f":"'400 Installation DC'!E19","v":0},{"$f":"'400 Installation DC'!F19","v":""}]
[{"$f":"'400 Installation DC'!B20","v":1},{"$f":"'400 Installation DC'!C20","v":1},{"$f":"'400 Installation DC'!D20","v":"420.000"},null,null,null,{"$f":"'400 Installation DC'!E20","v":"Connecteurs solaires "},{"$f":"'400 Installation DC'!F20","v":"forf."}]
[{"$f":"'400 Installation DC'!B21","v":1},{"$f":"'400 Installation DC'!C21","v":0},{"$f":"'400 Installation DC'!D21","v":0},null,null,null,{"$f":"'400 Installation DC'!E21","v":"Propriétés : \nConnecteur d’origine du fabricant (selon la NIBT)"},{"$f":"'400 Installation DC'!F21","v":""}]
[{"$f":"'400 Installation DC'!B22","v":0},{"$f":"'400 Installation DC'!C22","v":0},{"$f":"'400 Installation DC'!D22","v":"421.000"},null,null,null,{"$f":"'400 Installation DC'!E22","v":"4 mm²"},{"$f":"'400 Installation DC'!F22","v":""}]
[{"$f":"'400 Installation DC'!B23","v":0},{"$f":"'400 Installation DC'!C23","v":0},{"$f":"'400 Installation DC'!D23","v":"422.000"},null,null,null,{"$f":"'400 Installation DC'!E23","v":"6 mm²"},{"$f":"'400 Installation DC'!F23","v":""}]
[{"$f":"'400 Installation DC'!B24","v":0},{"$f":"'400 Installation DC'!C24","v":0},{"$f":"'400 Installation DC'!D24","v":"423.000"},null,null,null,{"$f":"'400 Installation DC'!E24","v":"10 mm²"},{"$f":"'400 Installation DC'!F24","v":""}]
[{"$f":"'400 Installation DC'!B25","v":0},{"$f":"'400 Installation DC'!C25","v":0},{"$f":"'400 Installation DC'!D25","v":"424.000"},null,null,null,{"$f":"'400 Installation DC'!E25","v":"Connecteur en Y"},{"$f":"'400 Installation DC'!F25","v":""}]
[{"$f":"'400 Installation DC'!B26","v":1},{"$f":"'400 Installation DC'!C26","v":0},{"$f":"'400 Installation DC'!D26","v":0},null,null,null,{"$f":"'400 Installation DC'!E26","v":0},{"$f":"'400 Installation DC'!F26","v":""}]
[{"$f":"'400 Installation DC'!B27","v":1},{"$f":"'400 Installation DC'!C27","v":0},{"$f":"'400 Installation DC'!D27","v":"430.000"},null,null,null,{"$f":"'400 Installation DC'!E27","v":"Protection des câbles"},{"$f":"'400 Installation DC'!F27","v":""}]
[{"$f":"'400 Installation DC'!B28","v":0},{"$f":"'400 Installation DC'!C28","v":0},{"$f":"'400 Installation DC'!D28","v":0},null,null,null,{"$f":"'400 Installation DC'!E28","v":""},{"$f":"'400 Installation DC'!F28","v":""}]
[{"$f":"'400 Installation DC'!B29","v":1},{"$f":"'400 Installation DC'!C29","v":1},{"$f":"'400 Installation DC'!D29","v":"431.000"},null,null,null,{"$f":"'400 Installation DC'!E29","v":"Tracés\nPropriétés : \navec couvercle\nGalvanisé à chaud"},{"$f":"'400 Installation DC'!F29","v":"ml"}]
[{"$f":"'400 Installation DC'!B30","v":0},{"$f":"'400 Installation DC'!C30","v":0},{"$f":"'400 Installation DC'!D30","v":"432.000"},null,null,null,{"$f":"'400 Installation DC'!E30","v":"Canalisations"},{"$f":"'400 Installation DC'!F30","v":""}]
[{"$f":"'400 Installation DC'!B31","v":0},{"$f":"'400 Installation DC'!C31","v":0},{"$f":"'400 Installation DC'!D31","v":"433.000"},null,null,null,{"$f":"'400 Installation DC'!E31","v":"Tubes"},{"$f":"'400 Installation DC'!F31","v":""}]
[{"$f":"'400 Installation DC'!B32","v":0},{"$f":"'400 Installation DC'!C32","v":0},{"$f":"'400 Installation DC'!D32","v":"434.000"},null,null,null,{"$f":"'400 Installation DC'!E32","v":"Gaînes"},{"$f":"'400 Installation DC'!F32","v":""}]
[{"$f":"'400 Installation DC'!B33","v":0},{"$f":"'400 Installation DC'!C33","v":0},{"$f":"'400 Installation DC'!D33","v":"435.000"},null,null,null,{"$f":"'400 Installation DC'!E33","v":"Dalles en pierre (dalles de jardin)"},{"$f":"'400 Installation DC'!F33","v":""}]
[{"$f":"'400 Installation DC'!B34","v":0},{"$f":"'400 Installation DC'!C34","v":0},{"$f":"'400 Installation DC'!D34","v":"436.000"},null,null,null,{"$f":"'400 Installation DC'!E34","v":"Protection arêtes coupantes"},{"$f":"'400 Installation DC'!F34","v":""}]
[{"$f":"'400 Installation DC'!B35","v":1},{"$f":"'400 Installation DC'!C35","v":0},{"$f":"'400 Installation DC'!D35","v":0},null,null,null,{"$f":"'400 Installation DC'!E35","v":0},{"$f":"'400 Installation DC'!F35","v":""}]
[{"$f":"'400 Installation DC'!B36","v":1},{"$f":"'400 Installation DC'!C36","v":0},{"$f":"'400 Installation DC'!D36","v":"440.000"},null,null,null,{"$f":"'400 Installation DC'!E36","v":"Consommables"},{"$f":"'400 Installation DC'!F36","v":""}]
[{"$f":"'400 Installation DC'!B37","v":0},{"$f":"'400 Installation DC'!C37","v":0},{"$f":"'400 Installation DC'!D37","v":0},null,null,null,{"$f":"'400 Installation DC'!E37","v":""},{"$f":"'400 Installation DC'!F37","v":""}]
[{"$f":"'400 Installation DC'!B38","v":1},{"$f":"'400 Installation DC'!C38","v":1},{"$f":"'400 Installation DC'!D38","v":"441.000"},null,null,null,{"$f":"'400 Installation DC'!E38","v":"Etiquettes de câbles\nPropriétés : \nRésistant aux UV"},{"$f":"'400 Installation DC'!F38","v":"Pce "}]
[{"$f":"'400 Installation DC'!B39","v":1},{"$f":"'400 Installation DC'!C39","v":1},{"$f":"'400 Installation DC'!D39","v":"442.000"},null,null,null,{"$f":"'400 Installation DC'!E39","v":"Matériel de fixation de câbles\nPropriétés : \nRésistant aux UV"},{"$f":"'400 Installation DC'!F39","v":"Pce "}]
[{"$f":"'400 Installation DC'!B40","v":1},{"$f":"'400 Installation DC'!C40","v":0},{"$f":"'400 Installation DC'!D40","v":0},null,null,null,{"$f":"'400 Installation DC'!E40","v":0},{"$f":"'400 Installation DC'!F40","v":""}]
[{"$f":"'400 Installation DC'!B41","v":1},{"$f":"'400 Installation DC'!C41","v":0},{"$f":"'400 Installation DC'!D41","v":"450.000"},null,null,null,{"$f":"'400 Installation DC'!E41","v":"Liaison équipotentielle"},{"$f":"'400 Installation DC'!F41","v":""}]
[{"$f":"'400 Installation DC'!B42","v":0},{"$f":"'400 Installation DC'!C42","v":0},{"$f":"'400 Installation DC'!D42","v":0},null,null,null,{"$f":"'400 Installation DC'!E42","v":""},{"$f":"'400 Installation DC'!F42","v":""}]
[{"$f":"'400 Installation DC'!B43","v":1},{"$f":"'400 Installation DC'!C43","v":1},{"$f":"'400 Installation DC'!D43","v":"451.000"},null,null,null,{"$f":"'400 Installation DC'!E43","v":"Conducteur\nPropriétés : \n16 mm²"},{"$f":"'400 Installation DC'!F43","v":"ml"}]
[{"$f":"'400 Installation DC'!B44","v":1},{"$f":"'400 Installation DC'!C44","v":1},{"$f":"'400 Installation DC'!D44","v":"452.000"},null,null,null,{"$f":"'400 Installation DC'!E44","v":"Serre-fils (pièce de raccordement)\nPropriétés : \nInoxydable"},{"$f":"'400 Installation DC'!F44","v":"Pce "}]
[{"$f":"'400 Installation DC'!B45","v":0},{"$f":"'400 Installation DC'!C45","v":0},{"$f":"'400 Installation DC'!D45","v":"453.000"},null,null,null,{"$f":"'400 Installation DC'!E45","v":"Cosses de câbles"},{"$f":"'400 Installation DC'!F45","v":""}]
[{"$f":"'400 Installation DC'!B46","v":1},{"$f":"'400 Installation DC'!C46","v":1},{"$f":"'400 Installation DC'!D46","v":"454.000"},null,null,null,{"$f":"'400 Installation DC'!E46","v":"Barrette de terre"},{"$f":"'400 Installation DC'!F46","v":"Pce "}]
[{"$f":"'400 Installation DC'!B47","v":1},{"$f":"'400 Installation DC'!C47","v":0},{"$f":"'400 Installation DC'!D47","v":0},null,null,null,{"$f":"'400 Installation DC'!E47","v":0},{"$f":"'400 Installation DC'!F47","v":""}]
[{"$f":"'400 Installation DC'!B48","v":1},{"$f":"'400 Installation DC'!C48","v":0},{"$f":"'400 Installation DC'!D48","v":"460.000"},null,null,null,{"$f":"'400 Installation DC'!E48","v":"Raccordement à la protection contre la foudre existante"},{"$f":"'400 Installation DC'!F48","v":""}]
[{"$f":"'400 Installation DC'!B49","v":0},{"$f":"'400 Installation DC'!C49","v":0},{"$f":"'400 Installation DC'!D49","v":0},null,null,null,{"$f":"'400 Installation DC'!E49","v":""},{"$f":"'400 Installation DC'!F49","v":""}]
[{"$f":"'400 Installation DC'!B50","v":1},{"$f":"'400 Installation DC'!C50","v":1},{"$f":"'400 Installation DC'!D50","v":"461.000"},null,null,null,{"$f":"'400 Installation DC'!E50","v":"Conducteur"},{"$f":"'400 Installation DC'!F50","v":"ml"}]
[{"$f":"'400 Installation DC'!B51","v":1},{"$f":"'400 Installation DC'!C51","v":1},{"$f":"'400 Installation DC'!D51","v":"462.000"},null,null,null,{"$f":"'400 Installation DC'!E51","v":"Serre-fils (pièce de raccordement)"},{"$f":"'400 Installation DC'!F51","v":"Pce "}]
[{"$f":"'400 Installation DC'!B52","v":0},{"$f":"'400 Installation DC'!C52","v":0},{"$f":"'400 Installation DC'!D52","v":"463.000"},null,null,null,{"$f":"'400 Installation DC'!E52","v":"Supports de conducteurs de parafoudre"},{"$f":"'400 Installation DC'!F52","v":""}]
[{"$f":"'400 Installation DC'!B53","v":0},{"$f":"'400 Installation DC'!C53","v":0},{"$f":"'400 Installation DC'!D53","v":0},null,null,null,{"$f":"'400 Installation DC'!E53","v":0},{"$f":"'400 Installation DC'!F53","v":0}]
[1,1,null,null,null,null,"Sous-total Installation DC"]
[1]
[1,null,"500.000",null,null,null,"Installation AC"]
[1]
[{"$f":"'500 Installations AC'!B6","v":1},{"$f":"'500 Installations AC'!C6","v":1},{"$f":"'500 Installations AC'!D6","v":"510.000"},null,null,null,{"$f":"'500 Installations AC'!E6","v":"Lignes AC"},{"$f":"'500 Installations AC'!F6","v":"forf."}]
[{"$f":"'500 Installations AC'!B7","v":1},{"$f":"'500 Installations AC'!C7","v":0},{"$f":"'500 Installations AC'!D7","v":0},null,null,null,{"$f":"'500 Installations AC'!E7","v":"Propriétés : \nSection\n6 mm²\nCâble PUR"},{"$f":"'500 Installations AC'!F7","v":0}]
[{"$f":"'500 Installations AC'!B8","v":0},{"$f":"'500 Installations AC'!C8","v":0},{"$f":"'500 Installations AC'!D8","v":"511.000"},null,null,null,{"$f":"'500 Installations AC'!E8","v":"Câble extérieur (installation en plein air)"},{"$f":"'500 Installations AC'!F8","v":""}]
[{"$f":"'500 Installations AC'!B9","v":0},{"$f":"'500 Installations AC'!C9","v":0},{"$f":"'500 Installations AC'!D9","v":"512.000"},null,null,null,{"$f":"'500 Installations AC'!E9","v":"Câble intérieure (installation dans le bâtiment)"},{"$f":"'500 Installations AC'!F9","v":""}]
[{"$f":"'500 Installations AC'!B10","v":0},{"$f":"'500 Installations AC'!C10","v":0},{"$f":"'500 Installations AC'!D10","v":"513.000"},null,null,null,{"$f":"'500 Installations AC'!E10","v":"Câble enterré"},{"$f":"'500 Installations AC'!F10","v":""}]
[{"$f":"'500 Installations AC'!B11","v":1},{"$f":"'500 Installations AC'!C11","v":0},{"$f":"'500 Installations AC'!D11","v":0},null,null,null,{"$f":"'500 Installations AC'!E11","v":0},{"$f":"'500 Installations AC'!F11","v":""}]
[{"$f":"'500 Installations AC'!B12","v":1},{"$f":"'500 Installations AC'!C12","v":0},{"$f":"'500 Installations AC'!D12","v":"520.000"},null,null,null,{"$f":"'500 Installations AC'!E12","v":"Appareils de commande, de protection et de mesure BT"},{"$f":"'500 Installations AC'!F12","v":""}]
[{"$f":"'500 Installations AC'!B13","v":1},{"$f":"'500 Installations AC'!C13","v":1},{"$f":"'500 Installations AC'!D13","v":"521.000"},null,null,null,{"$f":"'500 Installations AC'!E13","v":"Interrupteur AC\nPropriétés : \nIntensité maximale admissible"},{"$f":"'500 Installations AC'!F13","v":"Pce "}]
[{"$f":"'500 Installations AC'!B14","v":0},{"$f":"'500 Installations AC'!C14","v":0},{"$f":"'500 Installations AC'!D14","v":"522.000"},null,null,null,{"$f":"'500 Installations AC'!E14","v":"Ensemble d’appareillages (distribution BT)"},{"$f":"'500 Installations AC'!F14","v":""}]
[{"$f":"'500 Installations AC'!B15","v":0},{"$f":"'500 Installations AC'!C15","v":0},{"$f":"'500 Installations AC'!D15","v":"523.000"},null,null,null,{"$f":"'500 Installations AC'!E15","v":"Protection contre les surintensités AC"},{"$f":"'500 Installations AC'!F15","v":""}]
[{"$f":"'500 Installations AC'!B16","v":1},{"$f":"'500 Installations AC'!C16","v":1},{"$f":"'500 Installations AC'!D16","v":"524.000"},null,null,null,{"$f":"'500 Installations AC'!E16","v":"Protection RI\nPropriétés : \nIntégré dans l’onduleur"},{"$f":"'500 Installations AC'!F16","v":"Pce "}]
[{"$f":"'500 Installations AC'!B17","v":1},{"$f":"'500 Installations AC'!C17","v":1},{"$f":"'500 Installations AC'!D17","v":"525.000"},null,null,null,{"$f":"'500 Installations AC'!E17","v":"SPD "},{"$f":"'500 Installations AC'!F17","v":"Pce "}]
[{"$f":"'500 Installations AC'!B18","v":1},{"$f":"'500 Installations AC'!C18","v":1},{"$f":"'500 Installations AC'!D18","v":"526.000"},null,null,null,{"$f":"'500 Installations AC'!E18","v":"Compteur"},{"$f":"'500 Installations AC'!F18","v":"Pce "}]
[{"$f":"'500 Installations AC'!B19","v":1},{"$f":"'500 Installations AC'!C19","v":1},{"$f":"'500 Installations AC'!D19","v":"527.000"},null,null,null,{"$f":"'500 Installations AC'!E19","v":"Transformateur de courant"},{"$f":"'500 Installations AC'!F19","v":"Pce "}]
[{"$f":"'500 Installations AC'!B20","v":1},{"$f":"'500 Installations AC'!C20","v":0},{"$f":"'500 Installations AC'!D20","v":0},null,null,null,{"$f":"'500 Installations AC'!E20","v":0},{"$f":"'500 Installations AC'!F20","v":""}]
[{"$f":"'500 Installations AC'!B21","v":1},{"$f":"'500 Installations AC'!C21","v":1},{"$f":"'500 Installations AC'!D21","v":"530.000"},null,null,null,{"$f":"'500 Installations AC'!E21","v":"Câblage/protection des câbles"},{"$f":"'500 Installations AC'!F21","v":"forf."}]
[{"$f":"'500 Installations AC'!B22","v":0},{"$f":"'500 Installations AC'!C22","v":0},{"$f":"'500 Installations AC'!D22","v":0},null,null,null,{"$f":"'500 Installations AC'!E22","v":""},{"$f":"'500 Installations AC'!F22","v":""}]
[{"$f":"'500 Installations AC'!B23","v":1},{"$f":"'500 Installations AC'!C23","v":1},{"$f":"'500 Installations AC'!D23","v":"531.000"},null,null,null,{"$f":"'500 Installations AC'!E23","v":"Tracés\nPropriétés : \nGalvanisé à chaud"},{"$f":"'500 Installations AC'!F23","v":"ml"}]
[{"$f":"'500 Installations AC'!B24","v":0},{"$f":"'500 Installations AC'!C24","v":0},{"$f":"'500 Installations AC'!D24","v":"532.000"},null,null,null,{"$f":"'500 Installations AC'!E24","v":"Canalisations"},{"$f":"'500 Installations AC'!F24","v":""}]
[{"$f":"'500 Installations AC'!B25","v":0},{"$f":"'500 Installations AC'!C25","v":0},{"$f":"'500 Installations AC'!D25","v":"533.000"},null,null,null,{"$f":"'500 Installations AC'!E25","v":"Tubes"},{"$f":"'500 Installations AC'!F25","v":""}]
[{"$f":"'500 Installations AC'!B26","v":0},{"$f":"'500 Installations AC'!C26","v":0},{"$f":"'500 Installations AC'!D26","v":"534.000"},null,null,null,{"$f":"'500 Installations AC'!E26","v":"Gaînes"},{"$f":"'500 Installations AC'!F26","v":""}]
[{"$f":"'500 Installations AC'!B27","v":0},{"$f":"'500 Installations AC'!C27","v":0},{"$f":"'500 Installations AC'!D27","v":"535.000"},null,null,null,{"$f":"'500 Installations AC'!E27","v":"Dalles en pierre (dalles de jardin)"},{"$f":"'500 Installations AC'!F27","v":""}]
[{"$f":"'500 Installations AC'!B28","v":1},{"$f":"'500 Installations AC'!C28","v":0},{"$f":"'500 Installations AC'!D28","v":0},null,null,null,{"$f":"'500 Installations AC'!E28","v":0},{"$f":"'500 Installations AC'!F28","v":""}]
[{"$f":"'500 Installations AC'!B29","v":1},{"$f":"'500 Installations AC'!C29","v":0},{"$f":"'500 Installations AC'!D29","v":"540.000"},null,null,null,{"$f":"'500 Installations AC'!E29","v":"Liaison équipotentielle"},{"$f":"'500 Installations AC'!F29","v":""}]
[{"$f":"'500 Installations AC'!B30","v":0},{"$f":"'500 Installations AC'!C30","v":0},{"$f":"'500 Installations AC'!D30","v":0},null,null,null,{"$f":"'500 Installations AC'!E30","v":""},{"$f":"'500 Installations AC'!F30","v":""}]
[{"$f":"'500 Installations AC'!B31","v":1},{"$f":"'500 Installations AC'!C31","v":1},{"$f":"'500 Installations AC'!D31","v":"541.000"},null,null,null,{"$f":"'500 Installations AC'!E31","v":"Conducteur\nPropriétés : \n16 mm²"},{"$f":"'500 Installations AC'!F31","v":"ml"}]
[{"$f":"'500 Installations AC'!B32","v":1},{"$f":"'500 Installations AC'!C32","v":1},{"$f":"'500 Installations AC'!D32","v":"542.000"},null,null,null,{"$f":"'500 Installations AC'!E32","v":"Serre-fils (pièce de raccordement)\nPropriétés : \nInoxydable"},{"$f":"'500 Installations AC'!F32","v":"Pce "}]
[{"$f":"'500 Installations AC'!B33","v":0},{"$f":"'500 Installations AC'!C33","v":0},{"$f":"'500 Installations AC'!D33","v":"543.000"},null,null,null,{"$f":"'500 Installations AC'!E33","v":"Cosses de câbles"},{"$f":"'500 Installations AC'!F33","v":""}]
[{"$f":"'500 Installations AC'!B34","v":0},{"$f":"'500 Installations AC'!C34","v":0},{"$f":"'500 Installations AC'!D34","v":"544.000"},null,null,null,{"$f":"'500 Installations AC'!E34","v":"Barrette de terre"},{"$f":"'500 Installations AC'!F34","v":""}]
[{"$f":"'500 Installations AC'!B35","v":1},{"$f":"'500 Installations AC'!C35","v":0},{"$f":"'500 Installations AC'!D35","v":0},null,null,null,{"$f":"'500 Installations AC'!E35","v":0},{"$f":"'500 Installations AC'!F35","v":""}]
[{"$f":"'500 Installations AC'!B36","v":0},{"$f":"'500 Installations AC'!C36","v":0},{"$f":"'500 Installations AC'!D36","v":"550.000"},null,null,null,{"$f":"'500 Installations AC'!E36","v":"Installations MT"},{"$f":"'500 Installations AC'!F36","v":""}]
[{"$f":"'500 Installations AC'!B37","v":0},{"$f":"'500 Installations AC'!C37","v":0},{"$f":"'500 Installations AC'!D37","v":"551.000"},null,null,null,{"$f":"'500 Installations AC'!E37","v":"Transfo MT/BT"},{"$f":"'500 Installations AC'!F37","v":""}]
[{"$f":"'500 Installations AC'!B38","v":0},{"$f":"'500 Installations AC'!C38","v":0},{"$f":"'500 Installations AC'!D38","v":"552.000"},null,null,null,{"$f":"'500 Installations AC'!E38","v":"Module conteneur MT"},{"$f":"'500 Installations AC'!F38","v":""}]
[{"$f":"'500 Installations AC'!B39","v":0},{"$f":"'500 Installations AC'!C39","v":0},{"$f":"'500 Installations AC'!D39","v":"553.000"},null,null,null,{"$f":"'500 Installations AC'!E39","v":"Lignes MT"},{"$f":"'500 Installations AC'!F39","v":""}]
[{"$f":"'500 Installations AC'!B40","v":0},{"$f":"'500 Installations AC'!C40","v":0},{"$f":"'500 Installations AC'!D40","v":"554.000"},null,null,null,{"$f":"'500 Installations AC'!E40","v":"Cellules MT"},{"$f":"'500 Installations AC'!F40","v":""}]
[{"$f":"'500 Installations AC'!B41","v":0},{"$f":"'500 Installations AC'!C41","v":0},{"$f":"'500 Installations AC'!D41","v":"555.000"},null,null,null,{"$f":"'500 Installations AC'!E41","v":"Protection RI"},{"$f":"'500 Installations AC'!F41","v":""}]
[{"$f":"'500 Installations AC'!B42","v":0},{"$f":"'500 Installations AC'!C42","v":0},{"$f":"'500 Installations AC'!D42","v":"556.000"},null,null,null,{"$f":"'500 Installations AC'!E42","v":"SPD"},{"$f":"'500 Installations AC'!F42","v":""}]
[{"$f":"'500 Installations AC'!B43","v":0},{"$f":"'500 Installations AC'!C43","v":0},{"$f":"'500 Installations AC'!D43","v":"557.000"},null,null,null,{"$f":"'500 Installations AC'!E43","v":"Technique de commande/protection"},{"$f":"'500 Installations AC'!F43","v":""}]
[{"$f":"'500 Installations AC'!B44","v":0},{"$f":"'500 Installations AC'!C44","v":0},{"$f":"'500 Installations AC'!D44","v":0},null,null,null,{"$f":"'500 Installations AC'!E44","v":0},{"$f":"'500 Installations AC'!F44","v":""}]
[{"$f":"'500 Installations AC'!B45","v":1},{"$f":"'500 Installations AC'!C45","v":0},{"$f":"'500 Installations AC'!D45","v":"560.000"},null,null,null,{"$f":"'500 Installations AC'!E45","v":"Installations RCP"},{"$f":"'500 Installations AC'!F45","v":""}]
[{"$f":"'500 Installations AC'!B46","v":1},{"$f":"'500 Installations AC'!C46","v":1},{"$f":"'500 Installations AC'!D46","v":"561.000"},null,null,null,{"$f":"'500 Installations AC'!E46","v":"Compteur électrique privé\nPropriétés : \nCompteurs calibrés (certifiés MID)\nMesure directe"},{"$f":"'500 Installations AC'!F46","v":"Pce "}]
[{"$f":"'500 Installations AC'!B47","v":0},{"$f":"'500 Installations AC'!C47","v":0},{"$f":"'500 Installations AC'!D47","v":"562.000"},null,null,null,{"$f":"'500 Installations AC'!E47","v":"Transformateur de courant pour compteur"},{"$f":"'500 Installations AC'!F47","v":""}]
[{"$f":"'500 Installations AC'!B48","v":0},{"$f":"'500 Installations AC'!C48","v":0},{"$f":"'500 Installations AC'!D48","v":"563.000"},null,null,null,{"$f":"'500 Installations AC'!E48","v":"Compteur eau froide"},{"$f":"'500 Installations AC'!F48","v":""}]
[{"$f":"'500 Installations AC'!B49","v":0},{"$f":"'500 Installations AC'!C49","v":0},{"$f":"'500 Installations AC'!D49","v":"564.000"},null,null,null,{"$f":"'500 Installations AC'!E49","v":"Compteur eau chaude"},{"$f":"'500 Installations AC'!F49","v":""}]
[{"$f":"'500 Installations AC'!B50","v":0},{"$f":"'500 Installations AC'!C50","v":0},{"$f":"'500 Installations AC'!D50","v":"565.000"},null,null,null,{"$f":"'500 Installations AC'!E50","v":"Compteur chaleur"},{"$f":"'500 Installations AC'!F50","v":""}]
[{"$f":"'500 Installations AC'!B51","v":1},{"$f":"'500 Installations AC'!C51","v":1},{"$f":"'500 Installations AC'!D51","v":"566.000"},null,null,null,{"$f":"'500 Installations AC'!E51","v":"Datalogger"},{"$f":"'500 Installations AC'!F51","v":"Pce "}]
[{"$f":"'500 Installations AC'!B52","v":1},{"$f":"'500 Installations AC'!C52","v":1},{"$f":"'500 Installations AC'!D52","v":"567.000"},null,null,null,{"$f":"'500 Installations AC'!E52","v":"Système de communication (p.e. routeur)"},{"$f":"'500 Installations AC'!F52","v":"Pce "}]
[{"$f":"'500 Installations AC'!B53","v":1},{"$f":"'500 Installations AC'!C53","v":1},{"$f":"'500 Installations AC'!D53","v":"568.000"},null,null,null,{"$f":"'500 Installations AC'!E53","v":"Configuration"},{"$f":"'500 Installations AC'!F53","v":"Pce "}]
[{"$f":"'500 Installations AC'!B54","v":0},{"$f":"'500 Installations AC'!C54","v":0},{"$f":"'500 Installations AC'!D54","v":0},null,null,null,{"$f":"'500 Installations AC'!E54","v":0},{"$f":"'500 Installations AC'!F54","v":0}]
[1,1,null,null,null,null,"Sous-total Installation AC"]
[1]
[1,null,"600.000",null,null,null,"Préparation des travaux et planification"]
[1]
[{"$f":"'600 Prép. trav., planification'!B6","v":1},{"$f":"'600 Prép. trav., planification'!C6","v":0},{"$f":"'600 Prép. trav., planification'!D6","v":"610.000"},null,null,null,{"$f":"'600 Prép. trav., planification'!G6","v":"Installation de chantier/logistique"},{"$f":"'600 Prép. trav., planification'!H6","v":""}]
[{"$f":"'600 Prép. trav., planification'!B7","v":1},{"$f":"'600 Prép. trav., planification'!C7","v":1},{"$f":"'600 Prép. trav., planification'!D7","v":"611.000"},null,null,null,{"$f":"'600 Prép. trav., planification'!G7","v":"Installation de chantier"},{"$f":"'600 Prép. trav., planification'!H7","v":"forf."}]
[{"$f":"'600 Prép. trav., planification'!B8","v":0},{"$f":"'600 Prép. trav., planification'!C8","v":0},null,{"$f":"'600 Prép. trav., planification'!E8","v":"611.100"},null,null,{"$f":"'600 Prép. trav., planification'!G8","v":"Installation de chantier générale"},{"$f":"'600 Prép. trav., planification'!H8","v":""}]
[{"$f":"'600 Prép. trav., planification'!B9","v":0},{"$f":"'600 Prép. trav., planification'!C9","v":0},null,{"$f":"'600 Prép. trav., planification'!E9","v":"611.200"},null,null,{"$f":"'600 Prép. trav., planification'!G9","v":"Raccordement électrique"},{"$f":"'600 Prép. trav., planification'!H9","v":""}]
[{"$f":"'600 Prép. trav., planification'!B10","v":0},{"$f":"'600 Prép. trav., planification'!C10","v":0},null,{"$f":"'600 Prép. trav., planification'!E10","v":"611.300"},null,null,{"$f":"'600 Prép. trav., planification'!G10","v":"Conteneurs"},{"$f":"'600 Prép. trav., planification'!H10","v":""}]
[{"$f":"'600 Prép. trav., planification'!B11","v":1},{"$f":"'600 Prép. trav., planification'!C11","v":1},{"$f":"'600 Prép. trav., planification'!D11","v":"612.000"},null,null,null,{"$f":"'600 Prép. trav., planification'!G11","v":"Transport jusqu’au chantier"},{"$f":"'600 Prép. trav., planification'!H11","v":"forf."}]
[{"$f":"'600 Prép. trav., planification'!B12","v":1},{"$f":"'600 Prép. trav., planification'!C12","v":1},{"$f":"'600 Prép. trav., planification'!D12","v":"613.000"},null,null,null,{"$f":"'600 Prép. trav., planification'!G12","v":"Dispositifs de levage"},{"$f":"'600 Prép. trav., planification'!H12","v":"forf."}]
[{"$f":"'600 Prép. trav., planification'!B13","v":0},{"$f":"'600 Prép. trav., planification'!C13","v":0},null,{"$f":"'600 Prép. trav., planification'!E13","v":"613.100"},null,null,{"$f":"'600 Prép. trav., planification'!G13","v":"Grue"},{"$f":"'600 Prép. trav., planification'!H13","v":""}]
[{"$f":"'600 Prép. trav., planification'!B14","v":0},{"$f":"'600 Prép. trav., planification'!C14","v":0},null,null,{"$f":"'600 Prép. trav., planification'!F14","v":"613.110"},null,{"$f":"'600 Prép. trav., planification'!G14","v":"Grue mobile"},{"$f":"'600 Prép. trav., planification'!H14","v":""}]
[{"$f":"'600 Prép. trav., planification'!B15","v":0},{"$f":"'600 Prép. trav., planification'!C15","v":0},null,{"$f":"'600 Prép. trav., planification'!E15","v":"613.200"},null,null,{"$f":"'600 Prép. trav., planification'!G15","v":"Engin télescopique"},{"$f":"'600 Prép. trav., planification'!H15","v":""}]
[{"$f":"'600 Prép. trav., planification'!B16","v":0},{"$f":"'600 Prép. trav., planification'!C16","v":0},null,{"$f":"'600 Prép. trav., planification'!E16","v":"613.300"},null,null,{"$f":"'600 Prép. trav., planification'!G16","v":"Chariot élévateur"},{"$f":"'600 Prép. trav., planification'!H16","v":""}]
[{"$f":"'600 Prép. trav., planification'!B17","v":0},{"$f":"'600 Prép. trav., planification'!C17","v":0},null,{"$f":"'600 Prép. trav., planification'!E17","v":"613.400"},null,null,{"$f":"'600 Prép. trav., planification'!G17","v":"Camion grue"},{"$f":"'600 Prép. trav., planification'!H17","v":""}]
[{"$f":"'600 Prép. trav., planification'!B18","v":0},{"$f":"'600 Prép. trav., planification'!C18","v":0},null,{"$f":"'600 Prép. trav., planification'!E18","v":"613.500"},null,null,{"$f":"'600 Prép. trav., planification'!G18","v":"Monte-charge"},{"$f":"'600 Prép. trav., planification'!H18","v":""}]
[{"$f":"'600 Prép. trav., planification'!B19","v":0},{"$f":"'600 Prép. trav., planification'!C19","v":0},null,{"$f":"'600 Prép. trav., planification'!E19","v":"613.600"},null,null,{"$f":"'600 Prép. trav., planification'!G19","v":"Hélicoptère"},{"$f":"'600 Prép. trav., planification'!H19","v":""}]
[{"$f":"'600 Prép. trav., planification'!B20","v":1},{"$f":"'600 Prép. trav., planification'!C20","v":1},{"$f":"'600 Prép. trav., planification'!D20","v":"614.000"},null,null,null,{"$f":"'600 Prép. trav., planification'!G20","v":"Élimination"},{"$f":"'600 Prép. trav., planification'!H20","v":"forf."}]
[{"$f":"'600 Prép. trav., planification'!B21","v":0},{"$f":"'600 Prép. trav., planification'!C21","v":0},null,{"$f":"'600 Prép. trav., planification'!E21","v":"614.100"},null,null,{"$f":"'600 Prép. trav., planification'!G21","v":"Bennes"},{"$f":"'600 Prép. trav., planification'!H21","v":""}]
[{"$f":"'600 Prép. trav., planification'!B22","v":0},{"$f":"'600 Prép. trav., planification'!C22","v":0},null,{"$f":"'600 Prép. trav., planification'!E22","v":"614.200"},null,null,{"$f":"'600 Prép. trav., planification'!G22","v":"Élimination des déchets de chantier"},{"$f":"'600 Prép. trav., planification'!H22","v":""}]
[{"$f":"'600 Prép. trav., planification'!B23","v":0},{"$f":"'600 Prép. trav., planification'!C23","v":0},{"$f":"'600 Prép. trav., planification'!D23","v":"615.000"},null,null,null,{"$f":"'600 Prép. trav., planification'!G23","v":"WC, installations sanitaires"},{"$f":"'600 Prép. trav., planification'!H23","v":""}]
[{"$f":"'600 Prép. trav., planification'!B24","v":0},{"$f":"'600 Prép. trav., planification'!C24","v":0},null,{"$f":"'600 Prép. trav., planification'!E24","v":"615.100"},null,null,{"$f":"'600 Prép. trav., planification'!G24","v":"Travaux de raccordement pour les toilettes"},{"$f":"'600 Prép. trav., planification'!H24","v":""}]
[{"$f":"'600 Prép. trav., planification'!B25","v":0},{"$f":"'600 Prép. trav., planification'!C25","v":0},{"$f":"'600 Prép. trav., planification'!D25","v":"616.000"},null,null,null,{"$f":"'600 Prép. trav., planification'!G25","v":"Places de stationnement"},{"$f":"'600 Prép. trav., planification'!H25","v":""}]
[{"$f":"'600 Prép. trav., planification'!B26","v":0},{"$f":"'600 Prép. trav., planification'!C26","v":0},{"$f":"'600 Prép. trav., planification'!D26","v":"617.000"},null,null,null,{"$f":"'600 Prép. trav., planification'!G26","v":"Zone de déchargement"},{"$f":"'600 Prép. trav., planification'!H26","v":""}]
[{"$f":"'600 Prép. trav., planification'!B27","v":0},{"$f":"'600 Prép. trav., planification'!C27","v":0},{"$f":"'600 Prép. trav., planification'!D27","v":"618.000"},null,null,null,{"$f":"'600 Prép. trav., planification'!G27","v":"Zone de stockage temporaire"},{"$f":"'600 Prép. trav., planification'!H27","v":""}]
[{"$f":"'600 Prép. trav., planification'!B28","v":1},{"$f":"'600 Prép. trav., planification'!C28","v":0},{"$f":"'600 Prép. trav., planification'!D28","v":0},null,null,null,{"$f":"'600 Prép. trav., planification'!G28","v":0},{"$f":"'600 Prép. trav., planification'!H28","v":""}]
[{"$f":"'600 Prép. trav., planification'!B29","v":1},{"$f":"'600 Prép. trav., planification'!C29","v":0},{"$f":"'600 Prép. trav., planification'!D29","v":"620.000"},null,null,null,{"$f":"'600 Prép. trav., planification'!G29","v":"Sécurité de chantier"},{"$f":"'600 Prép. trav., planification'!H29","v":""}]
[{"$f":"'600 Prép. trav., planification'!B30","v":0},{"$f":"'600 Prép. trav., planification'!C30","v":0},{"$f":"'600 Prép. trav., planification'!D30","v":"621.000"},null,null,null,{"$f":"'600 Prép. trav., planification'!G30","v":"Concept de sécurité au travail"},{"$f":"'600 Prép. trav., planification'!H30","v":""}]
[{"$f":"'600 Prép. trav., planification'!B31","v":1},{"$f":"'600 Prép. trav., planification'!C31","v":0},{"$f":"'600 Prép. trav., planification'!D31","v":"622.000"},null,null,null,{"$f":"'600 Prép. trav., planification'!G31","v":"Équipements de sécurité de chantier"},{"$f":"'600 Prép. trav., planification'!H31","v":""}]
[{"$f":"'600 Prép. trav., planification'!B32","v":1},{"$f":"'600 Prép. trav., planification'!C32","v":1},null,{"$f":"'600 Prép. trav., planification'!E32","v":"622.100"},null,null,{"$f":"'600 Prép. trav., planification'!G32","v":"Tour d’échafaudage "},{"$f":"'600 Prép. trav., planification'!H32","v":"ml"}]
[{"$f":"'600 Prép. trav., planification'!B33","v":1},{"$f":"'600 Prép. trav., planification'!C33","v":1},null,{"$f":"'600 Prép. trav., planification'!E33","v":"622.200"},null,null,{"$f":"'600 Prép. trav., planification'!G33","v":"Échafaudage de façade pour toit plat "},{"$f":"'600 Prép. trav., planification'!H33","v":"m²"}]
[{"$f":"'600 Prép. trav., planification'!B34","v":0},{"$f":"'600 Prép. trav., planification'!C34","v":0},null,{"$f":"'600 Prép. trav., planification'!E34","v":"622.300"},null,null,{"$f":"'600 Prép. trav., planification'!G34","v":"Tour d'échafaudage avec garde-corps"},{"$f":"'600 Prép. trav., planification'!H34","v":""}]
[{"$f":"'600 Prép. trav., planification'!B35","v":0},{"$f":"'600 Prép. trav., planification'!C35","v":0},null,{"$f":"'600 Prép. trav., planification'!E35","v":"622.400"},null,null,{"$f":"'600 Prép. trav., planification'!G35","v":"Délimitation et clôture des zones "},{"$f":"'600 Prép. trav., planification'!H35","v":""}]
[{"$f":"'600 Prép. trav., planification'!B36","v":0},{"$f":"'600 Prép. trav., planification'!C36","v":0},null,{"$f":"'600 Prép. trav., planification'!E36","v":"622.500"},null,null,{"$f":"'600 Prép. trav., planification'!G36","v":"Sécurisation de lanterneau "},{"$f":"'600 Prép. trav., planification'!H36","v":""}]
[{"$f":"'600 Prép. trav., planification'!B37","v":0},{"$f":"'600 Prép. trav., planification'!C37","v":0},null,{"$f":"'600 Prép. trav., planification'!E37","v":"622.600"},null,null,{"$f":"'600 Prép. trav., planification'!G37","v":"Filet anti-chute"},{"$f":"'600 Prép. trav., planification'!H37","v":""}]
[{"$f":"'600 Prép. trav., planification'!B38","v":0},{"$f":"'600 Prép. trav., planification'!C38","v":0},null,{"$f":"'600 Prép. trav., planification'!E38","v":"622.700"},null,null,{"$f":"'600 Prép. trav., planification'!G38","v":"Dispositifs de sécurité et de protection (éclairage, signalisation, etc.)"},{"$f":"'600 Prép. trav., planification'!H38","v":""}]
[{"$f":"'600 Prép. trav., planification'!B39","v":0},{"$f":"'600 Prép. trav., planification'!C39","v":0},null,{"$f":"'600 Prép. trav., planification'!E39","v":"622.800"},null,null,{"$f":"'600 Prép. trav., planification'!G39","v":"Sécurisation avant-toit"},{"$f":"'600 Prép. trav., planification'!H39","v":""}]
[{"$f":"'600 Prép. trav., planification'!B40","v":1},{"$f":"'600 Prép. trav., planification'!C40","v":0},{"$f":"'600 Prép. trav., planification'!D40","v":0},null,null,null,{"$f":"'600 Prép. trav., planification'!G40","v":0},{"$f":"'600 Prép. trav., planification'!H40","v":""}]
[{"$f":"'600 Prép. trav., planification'!B41","v":1},{"$f":"'600 Prép. trav., planification'!C41","v":0},{"$f":"'600 Prép. trav., planification'!D41","v":"630.000"},null,null,null,{"$f":"'600 Prép. trav., planification'!G41","v":"Sécurité permanente"},{"$f":"'600 Prép. trav., planification'!H41","v":""}]
[{"$f":"'600 Prép. trav., planification'!B42","v":1},{"$f":"'600 Prép. trav., planification'!C42","v":0},{"$f":"'600 Prép. trav., planification'!D42","v":"631.000"},null,null,null,{"$f":"'600 Prép. trav., planification'!G42","v":"Point d’ancrage unique"},{"$f":"'600 Prép. trav., planification'!H42","v":""}]
[{"$f":"'600 Prép. trav., planification'!B43","v":1},{"$f":"'600 Prép. trav., planification'!C43","v":1},null,{"$f":"'600 Prép. trav., planification'!E43","v":"631.100"},null,null,{"$f":"'600 Prép. trav., planification'!G43","v":"Point d’ancrage unique fixé à la toiture"},{"$f":"'600 Prép. trav., planification'!H43","v":"Pce "}]
[{"$f":"'600 Prép. trav., planification'!B44","v":0},{"$f":"'600 Prép. trav., planification'!C44","v":0},null,{"$f":"'600 Prép. trav., planification'!E44","v":"631.200"},null,null,{"$f":"'600 Prép. trav., planification'!G44","v":"Point d’ancrage unique lesté avec des gravillons/du substrat"},{"$f":"'600 Prép. trav., planification'!H44","v":""}]
[{"$f":"'600 Prép. trav., planification'!B45","v":0},{"$f":"'600 Prép. trav., planification'!C45","v":0},null,{"$f":"'600 Prép. trav., planification'!E45","v":"631.300"},null,null,{"$f":"'600 Prép. trav., planification'!G45","v":"Point d’ancrage unique lesté avec des dalles"},{"$f":"'600 Prép. trav., planification'!H45","v":""}]
[{"$f":"'600 Prép. trav., planification'!B46","v":0},{"$f":"'600 Prép. trav., planification'!C46","v":0},null,{"$f":"'600 Prép. trav., planification'!E46","v":"631.400"},null,null,{"$f":"'600 Prép. trav., planification'!G46","v":"Point d’ancrage unique monté sur sous-construction"},{"$f":"'600 Prép. trav., planification'!H46","v":""}]
[{"$f":"'600 Prép. trav., planification'!B47","v":0},{"$f":"'600 Prép. trav., planification'!C47","v":0},null,{"$f":"'600 Prép. trav., planification'!E47","v":"631.500"},null,null,{"$f":"'600 Prép. trav., planification'!G47","v":"Point d’ancrage unique monté au mur/plafond"},{"$f":"'600 Prép. trav., planification'!H47","v":""}]
[{"$f":"'600 Prép. trav., planification'!B48","v":1},{"$f":"'600 Prép. trav., planification'!C48","v":0},{"$f":"'600 Prép. trav., planification'!D48","v":"632.000"},null,null,null,{"$f":"'600 Prép. trav., planification'!G48","v":"Système de câbles ou de rails"},{"$f":"'600 Prép. trav., planification'!H48","v":""}]
[{"$f":"'600 Prép. trav., planification'!B49","v":1},{"$f":"'600 Prép. trav., planification'!C49","v":1},null,{"$f":"'600 Prép. trav., planification'!E49","v":"632.100"},null,null,{"$f":"'600 Prép. trav., planification'!G49","v":"Système de câbles ou de rails monté dans le toit"},{"$f":"'600 Prép. trav., planification'!H49","v":"ml"}]
[{"$f":"'600 Prép. trav., planification'!B50","v":0},{"$f":"'600 Prép. trav., planification'!C50","v":0},null,{"$f":"'600 Prép. trav., planification'!E50","v":"632.200"},null,null,{"$f":"'600 Prép. trav., planification'!G50","v":"Système de câbles ou de rails lesté avec des gravillons/du substrat"},{"$f":"'600 Prép. trav., planification'!H50","v":""}]
[{"$f":"'600 Prép. trav., planification'!B51","v":0},{"$f":"'600 Prép. trav., planification'!C51","v":0},null,{"$f":"'600 Prép. trav., planification'!E51","v":"632.300"},null,null,{"$f":"'600 Prép. trav., planification'!G51","v":"Système de câbles ou de rails lesté avec des dalles"},{"$f":"'600 Prép. trav., planification'!H51","v":""}]
[{"$f":"'600 Prép. trav., planification'!B52","v":0},{"$f":"'600 Prép. trav., planification'!C52","v":0},null,{"$f":"'600 Prép. trav., planification'!E52","v":"632.400"},null,null,{"$f":"'600 Prép. trav., planification'!G52","v":"Système de câbles ou de rails monté sur sous-construction"},{"$f":"'600 Prép. trav., planification'!H52","v":""}]
[{"$f":"'600 Prép. trav., planification'!B53","v":0},{"$f":"'600 Prép. trav., planification'!C53","v":0},null,{"$f":"'600 Prép. trav., planification'!E53","v":"632.500"},null,null,{"$f":"'600 Prép. trav., planification'!G53","v":"Système de câbles ou de rails monté au mur/plafond"},{"$f":"'600 Prép. trav., planification'!H53","v":""}]
[{"$f":"'600 Prép. trav., planification'!B54","v":0},{"$f":"'600 Prép. trav., planification'!C54","v":0},{"$f":"'600 Prép. trav., planification'!D54","v":"633.000"},null,null,null,{"$f":"'600 Prép. trav., planification'!G54","v":"Accès au toit"},{"$f":"'600 Prép. trav., planification'!H54","v":""}]
[{"$f":"'600 Prép. trav., planification'!B55","v":0},{"$f":"'600 Prép. trav., planification'!C55","v":0},null,{"$f":"'600 Prép. trav., planification'!E55","v":"633.100"},null,null,{"$f":"'600 Prép. trav., planification'!G55","v":"Échelle avec dispositif antichute"},{"$f":"'600 Prép. trav., planification'!H55","v":""}]
[{"$f":"'600 Prép. trav., planification'!B56","v":0},{"$f":"'600 Prép. trav., planification'!C56","v":0},null,{"$f":"'600 Prép. trav., planification'!E56","v":"633.200"},null,null,{"$f":"'600 Prép. trav., planification'!G56","v":"Accès au toit"},{"$f":"'600 Prép. trav., planification'!H56","v":""}]
[{"$f":"'600 Prép. trav., planification'!B57","v":0},{"$f":"'600 Prép. trav., planification'!C57","v":0},null,{"$f":"'600 Prép. trav., planification'!E57","v":"633.300"},null,null,{"$f":"'600 Prép. trav., planification'!G57","v":"Escalier extérieur"},{"$f":"'600 Prép. trav., planification'!H57","v":""}]
[{"$f":"'600 Prép. trav., planification'!B58","v":1},{"$f":"'600 Prép. trav., planification'!C58","v":0},{"$f":"'600 Prép. trav., planification'!D58","v":"634.000"},null,null,null,{"$f":"'600 Prép. trav., planification'!G58","v":"Protection antichute au travers de la toiture (p.e. puits de lumière)"},{"$f":"'600 Prép. trav., planification'!H58","v":""}]
[{"$f":"'600 Prép. trav., planification'!B59","v":1},{"$f":"'600 Prép. trav., planification'!C59","v":1},null,{"$f":"'600 Prép. trav., planification'!E59","v":"634.100"},null,null,{"$f":"'600 Prép. trav., planification'!G59","v":"Protection antichute (grille) au niveau des puits de lumière ou similaire"},{"$f":"'600 Prép. trav., planification'!H59","v":"m²"}]
[{"$f":"'600 Prép. trav., planification'!B60","v":0},{"$f":"'600 Prép. trav., planification'!C60","v":0},null,{"$f":"'600 Prép. trav., planification'!E60","v":"634.200"},null,null,{"$f":"'600 Prép. trav., planification'!G60","v":"Protection antichute (filets) au niveau des puits de lumière ou similaire"},{"$f":"'600 Prép. trav., planification'!H60","v":""}]
[{"$f":"'600 Prép. trav., planification'!B61","v":0},{"$f":"'600 Prép. trav., planification'!C61","v":0},null,{"$f":"'600 Prép. trav., planification'!E61","v":"634.300"},null,null,{"$f":"'600 Prép. trav., planification'!G61","v":"Protection antichute (garde-corps) au niveau des puits de lumière ou similaire"},{"$f":"'600 Prép. trav., planification'!H61","v":""}]
[{"$f":"'600 Prép. trav., planification'!B62","v":0},{"$f":"'600 Prép. trav., planification'!C62","v":0},{"$f":"'600 Prép. trav., planification'!D62","v":"635.000"},null,null,null,{"$f":"'600 Prép. trav., planification'!G62","v":"Plateformes (pour accéder aux onduleurs, etc.)"},{"$f":"'600 Prép. trav., planification'!H62","v":""}]
[{"$f":"'600 Prép. trav., planification'!B63","v":0},{"$f":"'600 Prép. trav., planification'!C63","v":0},{"$f":"'600 Prép. trav., planification'!D63","v":"636.000"},null,null,null,{"$f":"'600 Prép. trav., planification'!G63","v":"Garde-corps"},{"$f":"'600 Prép. trav., planification'!H63","v":""}]
[{"$f":"'600 Prép. trav., planification'!B64","v":0},{"$f":"'600 Prép. trav., planification'!C64","v":0},null,{"$f":"'600 Prép. trav., planification'!E64","v":"636.100"},null,null,{"$f":"'600 Prép. trav., planification'!G64","v":"Garde-corps repliable"},{"$f":"'600 Prép. trav., planification'!H64","v":""}]
[{"$f":"'600 Prép. trav., planification'!B65","v":1},{"$f":"'600 Prép. trav., planification'!C65","v":0},{"$f":"'600 Prép. trav., planification'!D65","v":0},null,null,null,{"$f":"'600 Prép. trav., planification'!G65","v":0},{"$f":"'600 Prép. trav., planification'!H65","v":""}]
[{"$f":"'600 Prép. trav., planification'!B66","v":1},{"$f":"'600 Prép. trav., planification'!C66","v":0},{"$f":"'600 Prép. trav., planification'!D66","v":"640.000"},null,null,null,{"$f":"'600 Prép. trav., planification'!G66","v":"Autorisations/demande de subvention"},{"$f":"'600 Prép. trav., planification'!H66","v":""}]
[{"$f":"'600 Prép. trav., planification'!B67","v":0},{"$f":"'600 Prép. trav., planification'!C67","v":0},{"$f":"'600 Prép. trav., planification'!D67","v":"641.000"},null,null,null,{"$f":"'600 Prép. trav., planification'!G67","v":"Élaboration, soumission et finalisation DRT"},{"$f":"'600 Prép. trav., planification'!H67","v":""}]
[{"$f":"'600 Prép. trav., planification'!B68","v":1},{"$f":"'600 Prép. trav., planification'!C68","v":1},{"$f":"'600 Prép. trav., planification'!D68","v":"642.000"},null,null,null,{"$f":"'600 Prép. trav., planification'!G68","v":"Élaboration, soumission et finalisation AI (avis d'installation)"},{"$f":"'600 Prép. trav., planification'!H68","v":"h"}]
[{"$f":"'600 Prép. trav., planification'!B69","v":0},{"$f":"'600 Prép. trav., planification'!C69","v":0},{"$f":"'600 Prép. trav., planification'!D69","v":"643.000"},null,null,null,{"$f":"'600 Prép. trav., planification'!G69","v":"Élaboration, soumission et finalisation demande de permis de construire"},{"$f":"'600 Prép. trav., planification'!H69","v":""}]
[{"$f":"'600 Prép. trav., planification'!B70","v":1},{"$f":"'600 Prép. trav., planification'!C70","v":1},{"$f":"'600 Prép. trav., planification'!D70","v":"644.000"},null,null,null,{"$f":"'600 Prép. trav., planification'!G70","v":"Élaboration, soumission et finalisation annonce de l'installation"},{"$f":"'600 Prép. trav., planification'!H70","v":"h"}]
[{"$f":"'600 Prép. trav., planification'!B71","v":0},{"$f":"'600 Prép. trav., planification'!C71","v":0},{"$f":"'600 Prép. trav., planification'!D71","v":"645.000"},null,null,null,{"$f":"'600 Prép. trav., planification'!G71","v":"Élaboration, soumission et finalisation présentation des plans à l’ESTI pour PV"},{"$f":"'600 Prép. trav., planification'!H71","v":""}]
[{"$f":"'600 Prép. trav., planification'!B72","v":0},{"$f":"'600 Prép. trav., planification'!C72","v":0},{"$f":"'600 Prép. trav., planification'!D72","v":"646.000"},null,null,null,{"$f":"'600 Prép. trav., planification'!G72","v":"Élaboration, soumission et finalisation présentation des plans à l’ESTI pour MT"},{"$f":"'600 Prép. trav., planification'!H72","v":""}]
[{"$f":"'600 Prép. trav., planification'!B73","v":0},{"$f":"'600 Prép. trav., planification'!C73","v":0},{"$f":"'600 Prép. trav., planification'!D73","v":"647.000"},null,null,null,{"$f":"'600 Prép. trav., planification'!G73","v":"Élaboration, soumission et finalisation annonce subvention"},{"$f":"'600 Prép. trav., planification'!H73","v":""}]
[{"$f":"'600 Prép. trav., planification'!B74","v":0},{"$f":"'600 Prép. trav., planification'!C74","v":0},null,{"$f":"'600 Prép. trav., planification'!E74","v":"647.100"},null,null,{"$f":"'600 Prép. trav., planification'!G74","v":"Élaboration, soumission et finalisation annonce Pronovo"},{"$f":"'600 Prép. trav., planification'!H74","v":""}]
[{"$f":"'600 Prép. trav., planification'!B75","v":0},{"$f":"'600 Prép. trav., planification'!C75","v":0},null,{"$f":"'600 Prép. trav., planification'!E75","v":"647.200"},null,null,{"$f":"'600 Prép. trav., planification'!G75","v":"Élaboration, soumission et finalisation d’annonce de subvention canton ou commune"},{"$f":"'600 Prép. trav., planification'!H75","v":""}]
[{"$f":"'600 Prép. trav., planification'!B76","v":1},{"$f":"'600 Prép. trav., planification'!C76","v":0},{"$f":"'600 Prép. trav., planification'!D76","v":"648.000"},null,null,null,{"$f":"'600 Prép. trav., planification'!G76","v":"Emoluments"},{"$f":"'600 Prép. trav., planification'!H76","v":""}]
[{"$f":"'600 Prép. trav., planification'!B77","v":0},{"$f":"'600 Prép. trav., planification'!C77","v":0},null,{"$f":"'600 Prép. trav., planification'!E77","v":"648.100"},null,null,{"$f":"'600 Prép. trav., planification'!G77","v":"Emoluments demande de permis de construire"},{"$f":"'600 Prép. trav., planification'!H77","v":""}]
[{"$f":"'600 Prép. trav., planification'!B78","v":0},{"$f":"'600 Prép. trav., planification'!C78","v":0},null,{"$f":"'600 Prép. trav., planification'!E78","v":"648.200"},null,null,{"$f":"'600 Prép. trav., planification'!G78","v":"Emoluments GRD"},{"$f":"'600 Prép. trav., planification'!H78","v":""}]
[{"$f":"'600 Prép. trav., planification'!B79","v":1},{"$f":"'600 Prép. trav., planification'!C79","v":1},null,{"$f":"'600 Prép. trav., planification'!E79","v":"648.300"},null,null,{"$f":"'600 Prép. trav., planification'!G79","v":"Emoluments ESTI"},{"$f":"'600 Prép. trav., planification'!H79","v":"Pce "}]
[{"$f":"'600 Prép. trav., planification'!B80","v":1},{"$f":"'600 Prép. trav., planification'!C80","v":0},{"$f":"'600 Prép. trav., planification'!D80","v":0},null,null,null,{"$f":"'600 Prép. trav., planification'!G80","v":0},{"$f":"'600 Prép. trav., planification'!H80","v":""}]
[{"$f":"'600 Prép. trav., planification'!B81","v":1},{"$f":"'600 Prép. trav., planification'!C81","v":0},{"$f":"'600 Prép. trav., planification'!D81","v":"650.000"},null,null,null,{"$f":"'600 Prép. trav., planification'!G81","v":"Projet d’exécution"},{"$f":"'600 Prép. trav., planification'!H81","v":""}]
[{"$f":"'600 Prép. trav., planification'!B82","v":0},{"$f":"'600 Prép. trav., planification'!C82","v":0},{"$f":"'600 Prép. trav., planification'!D82","v":"651.000"},null,null,null,{"$f":"'600 Prép. trav., planification'!G82","v":"Vérification de l'existant"},{"$f":"'600 Prép. trav., planification'!H82","v":""}]
[{"$f":"'600 Prép. trav., planification'!B83","v":0},{"$f":"'600 Prép. trav., planification'!C83","v":0},null,{"$f":"'600 Prép. trav., planification'!E83","v":"651.100"},null,null,{"$f":"'600 Prép. trav., planification'!G83","v":"Expertise"},{"$f":"'600 Prép. trav., planification'!H83","v":""}]
[{"$f":"'600 Prép. trav., planification'!B84","v":0},{"$f":"'600 Prép. trav., planification'!C84","v":0},null,{"$f":"'600 Prép. trav., planification'!E84","v":"651.200"},null,null,{"$f":"'600 Prép. trav., planification'!G84","v":"Réception"},{"$f":"'600 Prép. trav., planification'!H84","v":""}]
[{"$f":"'600 Prép. trav., planification'!B85","v":0},{"$f":"'600 Prép. trav., planification'!C85","v":0},null,{"$f":"'600 Prép. trav., planification'!E85","v":"651.300"},null,null,{"$f":"'600 Prép. trav., planification'!G85","v":"États des lieux"},{"$f":"'600 Prép. trav., planification'!H85","v":""}]
[{"$f":"'600 Prép. trav., planification'!B86","v":0},{"$f":"'600 Prép. trav., planification'!C86","v":0},null,{"$f":"'600 Prép. trav., planification'!E86","v":"651.400"},null,null,{"$f":"'600 Prép. trav., planification'!G86","v":"Contrôle des cotes sur le chantier"},{"$f":"'600 Prép. trav., planification'!H86","v":""}]
[{"$f":"'600 Prép. trav., planification'!B87","v":0},{"$f":"'600 Prép. trav., planification'!C87","v":0},null,{"$f":"'600 Prép. trav., planification'!E87","v":"651.500"},null,null,{"$f":"'600 Prép. trav., planification'!G87","v":"Sondages"},{"$f":"'600 Prép. trav., planification'!H87","v":""}]
[{"$f":"'600 Prép. trav., planification'!B88","v":1},{"$f":"'600 Prép. trav., planification'!C88","v":1},{"$f":"'600 Prép. trav., planification'!D88","v":"652.000"},null,null,null,{"$f":"'600 Prép. trav., planification'!G88","v":"Élaboration/réalisation des plans d’exécution"},{"$f":"'600 Prép. trav., planification'!H88","v":"h"}]
[{"$f":"'600 Prép. trav., planification'!B89","v":0},{"$f":"'600 Prép. trav., planification'!C89","v":0},null,{"$f":"'600 Prép. trav., planification'!E89","v":"652.100"},null,null,{"$f":"'600 Prép. trav., planification'!G89","v":"Plan de calepinage"},{"$f":"'600 Prép. trav., planification'!H89","v":""}]
[{"$f":"'600 Prép. trav., planification'!B90","v":0},{"$f":"'600 Prép. trav., planification'!C90","v":0},null,{"$f":"'600 Prép. trav., planification'!E90","v":"652.200"},null,null,{"$f":"'600 Prép. trav., planification'!G90","v":"Plan de string"},{"$f":"'600 Prép. trav., planification'!H90","v":""}]
[{"$f":"'600 Prép. trav., planification'!B91","v":0},{"$f":"'600 Prép. trav., planification'!C91","v":0},null,{"$f":"'600 Prép. trav., planification'!E91","v":"652.300"},null,null,{"$f":"'600 Prép. trav., planification'!G91","v":"Concept logistique"},{"$f":"'600 Prép. trav., planification'!H91","v":""}]
[{"$f":"'600 Prép. trav., planification'!B92","v":0},{"$f":"'600 Prép. trav., planification'!C92","v":0},null,{"$f":"'600 Prép. trav., planification'!E92","v":"652.400"},null,null,{"$f":"'600 Prép. trav., planification'!G92","v":"Dimensionnements, plans et schémas d'implantation des onduleurs"},{"$f":"'600 Prép. trav., planification'!H92","v":""}]
[{"$f":"'600 Prép. trav., planification'!B93","v":0},{"$f":"'600 Prép. trav., planification'!C93","v":0},null,{"$f":"'600 Prép. trav., planification'!E93","v":"652.500"},null,null,{"$f":"'600 Prép. trav., planification'!G93","v":"Dimensionnements, plans et schémas d'implantation de la distribution PV et du TGBT"},{"$f":"'600 Prép. trav., planification'!H93","v":""}]
[{"$f":"'600 Prép. trav., planification'!B94","v":0},{"$f":"'600 Prép. trav., planification'!C94","v":0},{"$f":"'600 Prép. trav., planification'!D94","v":"653.000"},null,null,null,{"$f":"'600 Prép. trav., planification'!G94","v":"Élaboration justificatif statique du bâtiment"},{"$f":"'600 Prép. trav., planification'!H94","v":""}]
[{"$f":"'600 Prép. trav., planification'!B95","v":0},{"$f":"'600 Prép. trav., planification'!C95","v":0},{"$f":"'600 Prép. trav., planification'!D95","v":"654.000"},null,null,null,{"$f":"'600 Prép. trav., planification'!G95","v":"Élaboration rapport statique structure de montage"},{"$f":"'600 Prép. trav., planification'!H95","v":""}]
[{"$f":"'600 Prép. trav., planification'!B96","v":0},{"$f":"'600 Prép. trav., planification'!C96","v":0},{"$f":"'600 Prép. trav., planification'!D96","v":"655.000"},null,null,null,{"$f":"'600 Prép. trav., planification'!G96","v":"Élaboration rapport statique entrepreneur"},{"$f":"'600 Prép. trav., planification'!H96","v":""}]
[{"$f":"'600 Prép. trav., planification'!B97","v":0},{"$f":"'600 Prép. trav., planification'!C97","v":0},{"$f":"'600 Prép. trav., planification'!D97","v":"656.000"},null,null,null,{"$f":"'600 Prép. trav., planification'!G97","v":"Élaboration concept de protection incendie"},{"$f":"'600 Prép. trav., planification'!H97","v":""}]
[{"$f":"'600 Prép. trav., planification'!B98","v":0},{"$f":"'600 Prép. trav., planification'!C98","v":0},{"$f":"'600 Prép. trav., planification'!D98","v":"657.000"},null,null,null,{"$f":"'600 Prép. trav., planification'!G98","v":"Élaboration concept de protection contre la foudre et les surtensions"},{"$f":"'600 Prép. trav., planification'!H98","v":""}]
[{"$f":"'600 Prép. trav., planification'!B99","v":0},{"$f":"'600 Prép. trav., planification'!C99","v":0},{"$f":"'600 Prép. trav., planification'!D99","v":"658.000"},null,null,null,{"$f":"'600 Prép. trav., planification'!G99","v":"Justificatif de sélectivité"},{"$f":"'600 Prép. trav., planification'!H99","v":""}]
[{"$f":"'600 Prép. trav., planification'!B100","v":0},{"$f":"'600 Prép. trav., planification'!C100","v":0},{"$f":"'600 Prép. trav., planification'!D100","v":"659.000"},null,null,null,{"$f":"'600 Prép. trav., planification'!G100","v":"Échantillon"},{"$f":"'600 Prép. trav., planification'!H100","v":""}]
[{"$f":"'600 Prép. trav., planification'!B101","v":0},{"$f":"'600 Prép. trav., planification'!C101","v":0},null,{"$f":"'600 Prép. trav., planification'!E101","v":"659.100"},null,null,{"$f":"'600 Prép. trav., planification'!G101","v":"Petit échantillon"},{"$f":"'600 Prép. trav., planification'!H101","v":""}]
[{"$f":"'600 Prép. trav., planification'!B102","v":0},{"$f":"'600 Prép. trav., planification'!C102","v":0},null,{"$f":"'600 Prép. trav., planification'!E102","v":"659.200"},null,null,{"$f":"'600 Prép. trav., planification'!G102","v":"Élaboration maquette"},{"$f":"'600 Prép. trav., planification'!H102","v":""}]
[{"$f":"'600 Prép. trav., planification'!B103","v":1},{"$f":"'600 Prép. trav., planification'!C103","v":0},{"$f":"'600 Prép. trav., planification'!D103","v":0},null,null,null,{"$f":"'600 Prép. trav., planification'!G103","v":0},{"$f":"'600 Prép. trav., planification'!H103","v":""}]
[{"$f":"'600 Prép. trav., planification'!B104","v":1},{"$f":"'600 Prép. trav., planification'!C104","v":0},{"$f":"'600 Prép. trav., planification'!D104","v":"660.000"},null,null,null,{"$f":"'600 Prép. trav., planification'!G104","v":"Direction du projet et des travaux"},{"$f":"'600 Prép. trav., planification'!H104","v":""}]
[{"$f":"'600 Prép. trav., planification'!B105","v":1},{"$f":"'600 Prép. trav., planification'!C105","v":1},{"$f":"'600 Prép. trav., planification'!D105","v":"661.000"},null,null,null,{"$f":"'600 Prép. trav., planification'!G105","v":"Direction du projet"},{"$f":"'600 Prép. trav., planification'!H105","v":"h"}]
[{"$f":"'600 Prép. trav., planification'!B106","v":1},{"$f":"'600 Prép. trav., planification'!C106","v":1},{"$f":"'600 Prép. trav., planification'!D106","v":"662.000"},null,null,null,{"$f":"'600 Prép. trav., planification'!G106","v":"Direction des travaux"},{"$f":"'600 Prép. trav., planification'!H106","v":"h"}]
[{"$f":"'600 Prép. trav., planification'!B107","v":0},{"$f":"'600 Prép. trav., planification'!C107","v":1},{"$f":"'600 Prép. trav., planification'!D107","v":"663.000"},null,null,null,{"$f":"'600 Prép. trav., planification'!G107","v":"Mise en service"},{"$f":"'600 Prép. trav., planification'!H107","v":"h"}]
[{"$f":"'600 Prép. trav., planification'!B108","v":0},{"$f":"'600 Prép. trav., planification'!C108","v":0},null,{"$f":"'600 Prép. trav., planification'!E108","v":"663.100"},null,null,{"$f":"'600 Prép. trav., planification'!G108","v":"Mise en service de l'installation PV"},{"$f":"'600 Prép. trav., planification'!H108","v":""}]
[{"$f":"'600 Prép. trav., planification'!B109","v":0},{"$f":"'600 Prép. trav., planification'!C109","v":0},null,{"$f":"'600 Prép. trav., planification'!E109","v":"663.200"},null,null,{"$f":"'600 Prép. trav., planification'!G109","v":"Programmation de commandes"},{"$f":"'600 Prép. trav., planification'!H109","v":""}]
[{"$f":"'600 Prép. trav., planification'!B110","v":1},{"$f":"'600 Prép. trav., planification'!C110","v":1},{"$f":"'600 Prép. trav., planification'!D110","v":"664.000"},null,null,null,{"$f":"'600 Prép. trav., planification'!G110","v":"Documentation de l’installation"},{"$f":"'600 Prép. trav., planification'!H110","v":"h"}]
[{"$f":"'600 Prép. trav., planification'!B111","v":1},{"$f":"'600 Prép. trav., planification'!C111","v":1},{"$f":"'600 Prép. trav., planification'!D111","v":"665.000"},null,null,null,{"$f":"'600 Prép. trav., planification'!G111","v":"Instructions à l'exploitant"},{"$f":"'600 Prép. trav., planification'!H111","v":"h"}]
[{"$f":"'600 Prép. trav., planification'!B112","v":0},{"$f":"'600 Prép. trav., planification'!C112","v":0},{"$f":"'600 Prép. trav., planification'!D112","v":"666.000"},null,null,null,{"$f":"'600 Prép. trav., planification'!G112","v":"Taux de régie"},{"$f":"'600 Prép. trav., planification'!H112","v":""}]
[{"$f":"'600 Prép. trav., planification'!B113","v":1},{"$f":"'600 Prép. trav., planification'!C113","v":0},{"$f":"'600 Prép. trav., planification'!D113","v":0},null,null,null,{"$f":"'600 Prép. trav., planification'!G113","v":0},{"$f":"'600 Prép. trav., planification'!H113","v":""}]
[{"$f":"'600 Prép. trav., planification'!B114","v":1},{"$f":"'600 Prép. trav., planification'!C114","v":0},{"$f":"'600 Prép. trav., planification'!D114","v":"670.000"},null,null,null,{"$f":"'600 Prép. trav., planification'!G114","v":"Réceptions"},{"$f":"'600 Prép. trav., planification'!H114","v":""}]
[{"$f":"'600 Prép. trav., planification'!B115","v":1},{"$f":"'600 Prép. trav., planification'!C115","v":1},{"$f":"'600 Prép. trav., planification'!D115","v":"671.000"},null,null,null,{"$f":"'600 Prép. trav., planification'!G115","v":"Réception planificateur/maître d’ouvrage/autorité/GRD"},{"$f":"'600 Prép. trav., planification'!H115","v":"h"}]
[{"$f":"'600 Prép. trav., planification'!B116","v":1},{"$f":"'600 Prép. trav., planification'!C116","v":1},{"$f":"'600 Prép. trav., planification'!D116","v":"672.000"},null,null,null,{"$f":"'600 Prép. trav., planification'!G116","v":"Élaboration RS"},{"$f":"'600 Prép. trav., planification'!H116","v":"h"}]
[{"$f":"'600 Prép. trav., planification'!B117","v":1},{"$f":"'600 Prép. trav., planification'!C117","v":1},{"$f":"'600 Prép. trav., planification'!D117","v":"673.000"},null,null,null,{"$f":"'600 Prép. trav., planification'!G117","v":"Élaboration PM PV (protocole d'essais-mesures)"},{"$f":"'600 Prép. trav., planification'!H117","v":"h"}]
[{"$f":"'600 Prép. trav., planification'!B118","v":1},{"$f":"'600 Prép. trav., planification'!C118","v":1},{"$f":"'600 Prép. trav., planification'!D118","v":"674.000"},null,null,null,{"$f":"'600 Prép. trav., planification'!G118","v":"Contrôle réception DC par un organisme d'inspection acccrédité"},{"$f":"'600 Prép. trav., planification'!H118","v":"h"}]
[{"$f":"'600 Prép. trav., planification'!B119","v":1},{"$f":"'600 Prép. trav., planification'!C119","v":1},{"$f":"'600 Prép. trav., planification'!D119","v":"675.000"},null,null,null,{"$f":"'600 Prép. trav., planification'!G119","v":"Contrôle réception AC indépendant"},{"$f":"'600 Prép. trav., planification'!H119","v":"h"}]
[{"$f":"'600 Prép. trav., planification'!B120","v":1},{"$f":"'600 Prép. trav., planification'!C120","v":1},{"$f":"'600 Prép. trav., planification'!D120","v":"676.000"},null,null,null,{"$f":"'600 Prép. trav., planification'!G120","v":"Certification Pronovo par auditeur, y compris soumission Pronovo"},{"$f":"'600 Prép. trav., planification'!H120","v":"h"}]
[{"$f":"'600 Prép. trav., planification'!B121","v":0},{"$f":"'600 Prép. trav., planification'!C121","v":0},null,{"$f":"'600 Prép. trav., planification'!E121","v":"676.100"},null,null,{"$f":"'600 Prép. trav., planification'!G121","v":"Certification Pronovo par auditeur, y compris soumission Pronovo et GO"},{"$f":"'600 Prép. trav., planification'!H121","v":""}]
[{"$f":"'600 Prép. trav., planification'!B122","v":0},{"$f":"'600 Prép. trav., planification'!C122","v":0},{"$f":"'600 Prép. trav., planification'!D122","v":"677.000"},null,null,null,{"$f":"'600 Prép. trav., planification'!G122","v":"Présence sur site lors du contrôle ESTI"},{"$f":"'600 Prép. trav., planification'!H122","v":""}]
[{"$f":"'600 Prép. trav., planification'!B123","v":0},{"$f":"'600 Prép. trav., planification'!C123","v":0},{"$f":"'600 Prép. trav., planification'!D123","v":"678.000"},null,null,null,{"$f":"'600 Prép. trav., planification'!G123","v":"Certificat de conformité du système de protection contre la foudre"},{"$f":"'600 Prép. trav., planification'!H123","v":""}]
[{"$f":"'600 Prép. trav., planification'!B124","v":1},{"$f":"'600 Prép. trav., planification'!C124","v":0},{"$f":"'600 Prép. trav., planification'!D124","v":0},null,null,null,{"$f":"'600 Prép. trav., planification'!G124","v":0},{"$f":"'600 Prép. trav., planification'!H124","v":0}]
[1,1,null,null,null,null,"Sous-total Préparation des travaux et planification"]
[1]
[1,null,"700.000",null,null,null,"Travaux de bâtiment"]
[1]
[{"$f":"'700 Travaux de bâtiment'!B6","v":0},{"$f":"'700 Travaux de bâtiment'!C6","v":0},{"$f":"'700 Travaux de bâtiment'!D6","v":"710.000"},null,null,null,{"$f":"'700 Travaux de bâtiment'!F6","v":"Travaux de ferblanterie"},{"$f":"'700 Travaux de bâtiment'!G6","v":""}]
[{"$f":"'700 Travaux de bâtiment'!B7","v":0},{"$f":"'700 Travaux de bâtiment'!C7","v":0},{"$f":"'700 Travaux de bâtiment'!D7","v":0},null,null,null,{"$f":"'700 Travaux de bâtiment'!F7","v":""},{"$f":"'700 Travaux de bâtiment'!G7","v":0}]
[{"$f":"'700 Travaux de bâtiment'!B8","v":0},{"$f":"'700 Travaux de bâtiment'!C8","v":0},{"$f":"'700 Travaux de bâtiment'!D8","v":"711.000"},null,null,null,{"$f":"'700 Travaux de bâtiment'!F8","v":"Travaux de ferblanterie sur toits inclinés"},{"$f":"'700 Travaux de bâtiment'!G8","v":""}]
[{"$f":"'700 Travaux de bâtiment'!B9","v":0},{"$f":"'700 Travaux de bâtiment'!C9","v":0},null,{"$f":"'700 Travaux de bâtiment'!E9","v":"711.100"},null,null,{"$f":"'700 Travaux de bâtiment'!F9","v":"Tôle de raccordement lucarne"},{"$f":"'700 Travaux de bâtiment'!G9","v":""}]
[{"$f":"'700 Travaux de bâtiment'!B10","v":0},{"$f":"'700 Travaux de bâtiment'!C10","v":0},null,{"$f":"'700 Travaux de bâtiment'!E10","v":"711.200"},null,null,{"$f":"'700 Travaux de bâtiment'!F10","v":"Tôle de bordure de rive"},{"$f":"'700 Travaux de bâtiment'!G10","v":""}]
[{"$f":"'700 Travaux de bâtiment'!B11","v":0},{"$f":"'700 Travaux de bâtiment'!C11","v":0},null,{"$f":"'700 Travaux de bâtiment'!E11","v":"711.300"},null,null,{"$f":"'700 Travaux de bâtiment'!F11","v":"Tôle de faîtage"},{"$f":"'700 Travaux de bâtiment'!G11","v":""}]
[{"$f":"'700 Travaux de bâtiment'!B12","v":0},{"$f":"'700 Travaux de bâtiment'!C12","v":0},null,{"$f":"'700 Travaux de bâtiment'!E12","v":"711.400"},null,null,{"$f":"'700 Travaux de bâtiment'!F12","v":"Bavette chéneau"},{"$f":"'700 Travaux de bâtiment'!G12","v":""}]
[{"$f":"'700 Travaux de bâtiment'!B13","v":0},{"$f":"'700 Travaux de bâtiment'!C13","v":0},null,{"$f":"'700 Travaux de bâtiment'!E13","v":"711.500"},null,null,{"$f":"'700 Travaux de bâtiment'!F13","v":"Chéneau"},{"$f":"'700 Travaux de bâtiment'!G13","v":""}]
[{"$f":"'700 Travaux de bâtiment'!B14","v":0},{"$f":"'700 Travaux de bâtiment'!C14","v":0},null,{"$f":"'700 Travaux de bâtiment'!E14","v":"711.600"},null,null,{"$f":"'700 Travaux de bâtiment'!F14","v":"Tôle perforée"},{"$f":"'700 Travaux de bâtiment'!G14","v":""}]
[{"$f":"'700 Travaux de bâtiment'!B15","v":0},{"$f":"'700 Travaux de bâtiment'!C15","v":0},null,{"$f":"'700 Travaux de bâtiment'!E15","v":"711.700"},null,null,{"$f":"'700 Travaux de bâtiment'!F15","v":"Tôle pliée"},{"$f":"'700 Travaux de bâtiment'!G15","v":""}]
[{"$f":"'700 Travaux de bâtiment'!B16","v":0},{"$f":"'700 Travaux de bâtiment'!C16","v":0},{"$f":"'700 Travaux de bâtiment'!D16","v":"712.000"},null,null,null,{"$f":"'700 Travaux de bâtiment'!F16","v":"Travaux de ferblanterie sur toits plats"},{"$f":"'700 Travaux de bâtiment'!G16","v":""}]
[{"$f":"'700 Travaux de bâtiment'!B17","v":0},{"$f":"'700 Travaux de bâtiment'!C17","v":0},null,{"$f":"'700 Travaux de bâtiment'!E17","v":"712.100"},null,null,{"$f":"'700 Travaux de bâtiment'!F17","v":"Garniture col de cygne"},{"$f":"'700 Travaux de bâtiment'!G17","v":""}]
[{"$f":"'700 Travaux de bâtiment'!B18","v":0},{"$f":"'700 Travaux de bâtiment'!C18","v":0},null,{"$f":"'700 Travaux de bâtiment'!E18","v":"712.200"},null,null,{"$f":"'700 Travaux de bâtiment'!F18","v":"Coffret d’insertion de câbles dans le toit"},{"$f":"'700 Travaux de bâtiment'!G18","v":""}]
[{"$f":"'700 Travaux de bâtiment'!B19","v":0},{"$f":"'700 Travaux de bâtiment'!C19","v":0},{"$f":"'700 Travaux de bâtiment'!D19","v":"713.000"},null,null,null,{"$f":"'700 Travaux de bâtiment'!F19","v":"Travaux de ferblanterie sur façades"},{"$f":"'700 Travaux de bâtiment'!G19","v":""}]
[{"$f":"'700 Travaux de bâtiment'!B20","v":0},{"$f":"'700 Travaux de bâtiment'!C20","v":0},null,{"$f":"'700 Travaux de bâtiment'!E20","v":"713.100"},null,null,{"$f":"'700 Travaux de bâtiment'!F20","v":"Profilé d’angle"},{"$f":"'700 Travaux de bâtiment'!G20","v":""}]
[{"$f":"'700 Travaux de bâtiment'!B21","v":0},{"$f":"'700 Travaux de bâtiment'!C21","v":0},null,{"$f":"'700 Travaux de bâtiment'!E21","v":"713.200"},null,null,{"$f":"'700 Travaux de bâtiment'!F21","v":"Tôle d’ornement"},{"$f":"'700 Travaux de bâtiment'!G21","v":""}]
[{"$f":"'700 Travaux de bâtiment'!B22","v":0},{"$f":"'700 Travaux de bâtiment'!C22","v":0},null,{"$f":"'700 Travaux de bâtiment'!E22","v":"713.300"},null,null,{"$f":"'700 Travaux de bâtiment'!F22","v":"Tôle bordure du toit/acrotère"},{"$f":"'700 Travaux de bâtiment'!G22","v":""}]
[{"$f":"'700 Travaux de bâtiment'!B23","v":0},{"$f":"'700 Travaux de bâtiment'!C23","v":0},null,{"$f":"'700 Travaux de bâtiment'!E23","v":"713.400"},null,null,{"$f":"'700 Travaux de bâtiment'!F23","v":"Tôle de raccordement/protection de socle"},{"$f":"'700 Travaux de bâtiment'!G23","v":""}]
[{"$f":"'700 Travaux de bâtiment'!B24","v":0},{"$f":"'700 Travaux de bâtiment'!C24","v":0},null,{"$f":"'700 Travaux de bâtiment'!E24","v":"713.500"},null,null,{"$f":"'700 Travaux de bâtiment'!F24","v":"Châssis"},{"$f":"'700 Travaux de bâtiment'!G24","v":""}]
[{"$f":"'700 Travaux de bâtiment'!B25","v":0},{"$f":"'700 Travaux de bâtiment'!C25","v":0},null,{"$f":"'700 Travaux de bâtiment'!E25","v":"713.600"},null,null,{"$f":"'700 Travaux de bâtiment'!F25","v":"Rebord de fenêtre"},{"$f":"'700 Travaux de bâtiment'!G25","v":""}]
[{"$f":"'700 Travaux de bâtiment'!B26","v":0},{"$f":"'700 Travaux de bâtiment'!C26","v":0},null,{"$f":"'700 Travaux de bâtiment'!E26","v":"713.700"},null,null,{"$f":"'700 Travaux de bâtiment'!F26","v":"Tôle perforée"},{"$f":"'700 Travaux de bâtiment'!G26","v":""}]
[{"$f":"'700 Travaux de bâtiment'!B27","v":0},{"$f":"'700 Travaux de bâtiment'!C27","v":0},null,{"$f":"'700 Travaux de bâtiment'!E27","v":"713.800"},null,null,{"$f":"'700 Travaux de bâtiment'!F27","v":"Tôle pliée"},{"$f":"'700 Travaux de bâtiment'!G27","v":""}]
[{"$f":"'700 Travaux de bâtiment'!B28","v":0},{"$f":"'700 Travaux de bâtiment'!C28","v":0},null,{"$f":"'700 Travaux de bâtiment'!E28","v":"713.900"},null,null,{"$f":"'700 Travaux de bâtiment'!F28","v":"Coupe-feu façade ventilée"},{"$f":"'700 Travaux de bâtiment'!G28","v":""}]
[{"$f":"'700 Travaux de bâtiment'!B29","v":0},{"$f":"'700 Travaux de bâtiment'!C29","v":0},{"$f":"'700 Travaux de bâtiment'!D29","v":0},null,null,null,{"$f":"'700 Travaux de bâtiment'!F29","v":0},{"$f":"'700 Travaux de bâtiment'!G29","v":""}]
[{"$f":"'700 Travaux de bâtiment'!B30","v":0},{"$f":"'700 Travaux de bâtiment'!C30","v":0},{"$f":"'700 Travaux de bâtiment'!D30","v":"720.000"},null,null,null,{"$f":"'700 Travaux de bâtiment'!F30","v":"Adaptations au niveau de toits en pente"},{"$f":"'700 Travaux de bâtiment'!G30","v":""}]
[{"$f":"'700 Travaux de bâtiment'!B31","v":0},{"$f":"'700 Travaux de bâtiment'!C31","v":0},{"$f":"'700 Travaux de bâtiment'!D31","v":"721.000"},null,null,null,{"$f":"'700 Travaux de bâtiment'!F31","v":"Tuiles"},{"$f":"'700 Travaux de bâtiment'!G31","v":""}]
[{"$f":"'700 Travaux de bâtiment'!B32","v":0},{"$f":"'700 Travaux de bâtiment'!C32","v":0},null,{"$f":"'700 Travaux de bâtiment'!E32","v":"721.100"},null,null,{"$f":"'700 Travaux de bâtiment'!F32","v":"Tuiles"},{"$f":"'700 Travaux de bâtiment'!G32","v":""}]
[{"$f":"'700 Travaux de bâtiment'!B33","v":0},{"$f":"'700 Travaux de bâtiment'!C33","v":0},null,{"$f":"'700 Travaux de bâtiment'!E33","v":"721.200"},null,null,{"$f":"'700 Travaux de bâtiment'!F33","v":"Tuiles faîtières"},{"$f":"'700 Travaux de bâtiment'!G33","v":""}]
[{"$f":"'700 Travaux de bâtiment'!B34","v":0},{"$f":"'700 Travaux de bâtiment'!C34","v":0},null,{"$f":"'700 Travaux de bâtiment'!E34","v":"721.300"},null,null,{"$f":"'700 Travaux de bâtiment'!F34","v":"Tuiles de rives"},{"$f":"'700 Travaux de bâtiment'!G34","v":""}]
[{"$f":"'700 Travaux de bâtiment'!B35","v":0},{"$f":"'700 Travaux de bâtiment'!C35","v":0},{"$f":"'700 Travaux de bâtiment'!D35","v":"722.000"},null,null,null,{"$f":"'700 Travaux de bâtiment'!F35","v":"Tuiles en tôle"},{"$f":"'700 Travaux de bâtiment'!G35","v":""}]
[{"$f":"'700 Travaux de bâtiment'!B36","v":0},{"$f":"'700 Travaux de bâtiment'!C36","v":0},{"$f":"'700 Travaux de bâtiment'!D36","v":"723.000"},null,null,null,{"$f":"'700 Travaux de bâtiment'!F36","v":"Lattage pour installations intégrées à la toiture"},{"$f":"'700 Travaux de bâtiment'!G36","v":""}]
[{"$f":"'700 Travaux de bâtiment'!B37","v":0},{"$f":"'700 Travaux de bâtiment'!C37","v":0},{"$f":"'700 Travaux de bâtiment'!D37","v":"724.000"},null,null,null,{"$f":"'700 Travaux de bâtiment'!F37","v":"Bois raboté"},{"$f":"'700 Travaux de bâtiment'!G37","v":""}]
[{"$f":"'700 Travaux de bâtiment'!B38","v":0},{"$f":"'700 Travaux de bâtiment'!C38","v":0},{"$f":"'700 Travaux de bâtiment'!D38","v":"725.000"},null,null,null,{"$f":"'700 Travaux de bâtiment'!F38","v":"Planche de coffrage 3 plis"},{"$f":"'700 Travaux de bâtiment'!G38","v":""}]
[{"$f":"'700 Travaux de bâtiment'!B39","v":0},{"$f":"'700 Travaux de bâtiment'!C39","v":0},{"$f":"'700 Travaux de bâtiment'!D39","v":"726.000"},null,null,null,{"$f":"'700 Travaux de bâtiment'!F39","v":"Pare neige"},{"$f":"'700 Travaux de bâtiment'!G39","v":""}]
[{"$f":"'700 Travaux de bâtiment'!B40","v":0},{"$f":"'700 Travaux de bâtiment'!C40","v":0},{"$f":"'700 Travaux de bâtiment'!D40","v":"727.000"},null,null,null,{"$f":"'700 Travaux de bâtiment'!F40","v":"Lucarne"},{"$f":"'700 Travaux de bâtiment'!G40","v":""}]
[{"$f":"'700 Travaux de bâtiment'!B41","v":0},{"$f":"'700 Travaux de bâtiment'!C41","v":0},{"$f":"'700 Travaux de bâtiment'!D41","v":0},null,null,null,{"$f":"'700 Travaux de bâtiment'!F41","v":0},{"$f":"'700 Travaux de bâtiment'!G41","v":""}]
[{"$f":"'700 Travaux de bâtiment'!B42","v":1},{"$f":"'700 Travaux de bâtiment'!C42","v":0},{"$f":"'700 Travaux de bâtiment'!D42","v":"730.000"},null,null,null,{"$f":"'700 Travaux de bâtiment'!F42","v":"Adaptations au niveau de toits plats"},{"$f":"'700 Travaux de bâtiment'!G42","v":""}]
[{"$f":"'700 Travaux de bâtiment'!B43","v":1},{"$f":"'700 Travaux de bâtiment'!C43","v":0},{"$f":"'700 Travaux de bâtiment'!D43","v":"731.000"},null,null,null,{"$f":"'700 Travaux de bâtiment'!F43","v":"Graviers"},{"$f":"'700 Travaux de bâtiment'!G43","v":""}]
[{"$f":"'700 Travaux de bâtiment'!B44","v":0},{"$f":"'700 Travaux de bâtiment'!C44","v":0},null,{"$f":"'700 Travaux de bâtiment'!E44","v":"731.100"},null,null,{"$f":"'700 Travaux de bâtiment'!F44","v":"Aspirer les graviers depuis la toiture et évacuer"},{"$f":"'700 Travaux de bâtiment'!G44","v":""}]
[{"$f":"'700 Travaux de bâtiment'!B45","v":0},{"$f":"'700 Travaux de bâtiment'!C45","v":0},null,{"$f":"'700 Travaux de bâtiment'!E45","v":"731.200"},null,null,{"$f":"'700 Travaux de bâtiment'!F45","v":"Souffler les graviers sur la toiture"},{"$f":"'700 Travaux de bâtiment'!G45","v":""}]
[{"$f":"'700 Travaux de bâtiment'!B46","v":1},{"$f":"'700 Travaux de bâtiment'!C46","v":1},null,{"$f":"'700 Travaux de bâtiment'!E46","v":"731.300"},null,null,{"$f":"'700 Travaux de bâtiment'!F46","v":"Déplacer les graviers manuellement"},{"$f":"'700 Travaux de bâtiment'!G46","v":"m²"}]
[{"$f":"'700 Travaux de bâtiment'!B47","v":0},{"$f":"'700 Travaux de bâtiment'!C47","v":0},{"$f":"'700 Travaux de bâtiment'!D47","v":"732.000"},null,null,null,{"$f":"'700 Travaux de bâtiment'!F47","v":"Végétation"},{"$f":"'700 Travaux de bâtiment'!G47","v":""}]
[{"$f":"'700 Travaux de bâtiment'!B48","v":0},{"$f":"'700 Travaux de bâtiment'!C48","v":0},null,{"$f":"'700 Travaux de bâtiment'!E48","v":"732.100"},null,null,{"$f":"'700 Travaux de bâtiment'!F48","v":"Aplanir / niveler le substrat (m²)"},{"$f":"'700 Travaux de bâtiment'!G48","v":""}]
[{"$f":"'700 Travaux de bâtiment'!B49","v":0},{"$f":"'700 Travaux de bâtiment'!C49","v":0},null,{"$f":"'700 Travaux de bâtiment'!E49","v":"732.200"},null,null,{"$f":"'700 Travaux de bâtiment'!F49","v":"Aspirer le substrat depuis la toiture et évacuer"},{"$f":"'700 Travaux de bâtiment'!G49","v":""}]
[{"$f":"'700 Travaux de bâtiment'!B50","v":0},{"$f":"'700 Travaux de bâtiment'!C50","v":0},null,{"$f":"'700 Travaux de bâtiment'!E50","v":"732.300"},null,null,{"$f":"'700 Travaux de bâtiment'!F50","v":"Souffler le substrat sur la toiture"},{"$f":"'700 Travaux de bâtiment'!G50","v":""}]
[{"$f":"'700 Travaux de bâtiment'!B51","v":0},{"$f":"'700 Travaux de bâtiment'!C51","v":0},null,{"$f":"'700 Travaux de bâtiment'!E51","v":"732.400"},null,null,{"$f":"'700 Travaux de bâtiment'!F51","v":"Enlever les plantes et évacuer"},{"$f":"'700 Travaux de bâtiment'!G51","v":""}]
[{"$f":"'700 Travaux de bâtiment'!B52","v":1},{"$f":"'700 Travaux de bâtiment'!C52","v":1},{"$f":"'700 Travaux de bâtiment'!D52","v":"733.000"},null,null,null,{"$f":"'700 Travaux de bâtiment'!F52","v":"Dalles"},{"$f":"'700 Travaux de bâtiment'!G52","v":"forf."}]
[{"$f":"'700 Travaux de bâtiment'!B53","v":1},{"$f":"'700 Travaux de bâtiment'!C53","v":0},{"$f":"'700 Travaux de bâtiment'!D53","v":"734.000"},null,null,null,{"$f":"'700 Travaux de bâtiment'!F53","v":"Couches protectrices"},{"$f":"'700 Travaux de bâtiment'!G53","v":""}]
[{"$f":"'700 Travaux de bâtiment'!B54","v":1},{"$f":"'700 Travaux de bâtiment'!C54","v":1},null,{"$f":"'700 Travaux de bâtiment'!E54","v":"734.100"},null,null,{"$f":"'700 Travaux de bâtiment'!F54","v":"Non-tissé\nPropriétés : \nÉpaisseur (mm)"},{"$f":"'700 Travaux de bâtiment'!G54","v":"m²"}]
[{"$f":"'700 Travaux de bâtiment'!B55","v":0},{"$f":"'700 Travaux de bâtiment'!C55","v":0},null,{"$f":"'700 Travaux de bâtiment'!E55","v":"734.200"},null,null,{"$f":"'700 Travaux de bâtiment'!F55","v":"Granulés de caoutchouc"},{"$f":"'700 Travaux de bâtiment'!G55","v":""}]
[{"$f":"'700 Travaux de bâtiment'!B56","v":0},{"$f":"'700 Travaux de bâtiment'!C56","v":0},null,{"$f":"'700 Travaux de bâtiment'!E56","v":"734.300"},null,null,{"$f":"'700 Travaux de bâtiment'!F56","v":"Nattes de rétention"},{"$f":"'700 Travaux de bâtiment'!G56","v":""}]
[{"$f":"'700 Travaux de bâtiment'!B57","v":0},{"$f":"'700 Travaux de bâtiment'!C57","v":0},{"$f":"'700 Travaux de bâtiment'!D57","v":"735.000"},null,null,null,{"$f":"'700 Travaux de bâtiment'!F57","v":"Démontage point d'ancrage unique (PAU), y compris travaux d’étanchéité"},{"$f":"'700 Travaux de bâtiment'!G57","v":""}]
[{"$f":"'700 Travaux de bâtiment'!B58","v":0},{"$f":"'700 Travaux de bâtiment'!C58","v":0},{"$f":"'700 Travaux de bâtiment'!D58","v":"736.000"},null,null,null,{"$f":"'700 Travaux de bâtiment'!F58","v":"Déformer les conduites de ventillation d'eaux usées"},{"$f":"'700 Travaux de bâtiment'!G58","v":""}]
[{"$f":"'700 Travaux de bâtiment'!B59","v":1},{"$f":"'700 Travaux de bâtiment'!C59","v":0},{"$f":"'700 Travaux de bâtiment'!D59","v":0},null,null,null,{"$f":"'700 Travaux de bâtiment'!F59","v":0},{"$f":"'700 Travaux de bâtiment'!G59","v":""}]
[{"$f":"'700 Travaux de bâtiment'!B60","v":0},{"$f":"'700 Travaux de bâtiment'!C60","v":0},{"$f":"'700 Travaux de bâtiment'!D60","v":"740.000"},null,null,null,{"$f":"'700 Travaux de bâtiment'!F60","v":"Adaptations façades"},{"$f":"'700 Travaux de bâtiment'!G60","v":""}]
[{"$f":"'700 Travaux de bâtiment'!B61","v":0},{"$f":"'700 Travaux de bâtiment'!C61","v":0},{"$f":"'700 Travaux de bâtiment'!D61","v":"741.000"},null,null,null,{"$f":"'700 Travaux de bâtiment'!F61","v":"Sciage du béton"},{"$f":"'700 Travaux de bâtiment'!G61","v":""}]
[{"$f":"'700 Travaux de bâtiment'!B62","v":0},{"$f":"'700 Travaux de bâtiment'!C62","v":0},{"$f":"'700 Travaux de bâtiment'!D62","v":"742.000"},null,null,null,{"$f":"'700 Travaux de bâtiment'!F62","v":"Ajustement de la tôle sur site"},{"$f":"'700 Travaux de bâtiment'!G62","v":""}]
[{"$f":"'700 Travaux de bâtiment'!B63","v":0},{"$f":"'700 Travaux de bâtiment'!C63","v":0},{"$f":"'700 Travaux de bâtiment'!D63","v":"743.000"},null,null,null,{"$f":"'700 Travaux de bâtiment'!F63","v":"Crépi"},{"$f":"'700 Travaux de bâtiment'!G63","v":""}]
[{"$f":"'700 Travaux de bâtiment'!B64","v":0},{"$f":"'700 Travaux de bâtiment'!C64","v":0},{"$f":"'700 Travaux de bâtiment'!D64","v":"744.000"},null,null,null,{"$f":"'700 Travaux de bâtiment'!F64","v":"Planche"},{"$f":"'700 Travaux de bâtiment'!G64","v":""}]
[{"$f":"'700 Travaux de bâtiment'!B65","v":0},{"$f":"'700 Travaux de bâtiment'!C65","v":0},{"$f":"'700 Travaux de bâtiment'!D65","v":"745.000"},null,null,null,{"$f":"'700 Travaux de bâtiment'!F65","v":"Lattage"},{"$f":"'700 Travaux de bâtiment'!G65","v":""}]
[{"$f":"'700 Travaux de bâtiment'!B66","v":0},{"$f":"'700 Travaux de bâtiment'!C66","v":0},{"$f":"'700 Travaux de bâtiment'!D66","v":"746.000"},null,null,null,{"$f":"'700 Travaux de bâtiment'!F66","v":"Carottage"},{"$f":"'700 Travaux de bâtiment'!G66","v":""}]
[{"$f":"'700 Travaux de bâtiment'!B67","v":0},{"$f":"'700 Travaux de bâtiment'!C67","v":0},{"$f":"'700 Travaux de bâtiment'!D67","v":0},null,null,null,{"$f":"'700 Travaux de bâtiment'!F67","v":0},{"$f":"'700 Travaux de bâtiment'!G67","v":""}]
[{"$f":"'700 Travaux de bâtiment'!B68","v":1},{"$f":"'700 Travaux de bâtiment'!C68","v":0},{"$f":"'700 Travaux de bâtiment'!D68","v":"750.000"},null,null,null,{"$f":"'700 Travaux de bâtiment'!F68","v":"Protection contre la foudre"},{"$f":"'700 Travaux de bâtiment'!G68","v":""}]
[{"$f":"'700 Travaux de bâtiment'!B69","v":0},{"$f":"'700 Travaux de bâtiment'!C69","v":0},{"$f":"'700 Travaux de bâtiment'!D69","v":"751.000"},null,null,null,{"$f":"'700 Travaux de bâtiment'!F69","v":"Démontage de la protection contre la foudre et évacuation"},{"$f":"'700 Travaux de bâtiment'!G69","v":""}]
[{"$f":"'700 Travaux de bâtiment'!B70","v":0},{"$f":"'700 Travaux de bâtiment'!C70","v":0},{"$f":"'700 Travaux de bâtiment'!D70","v":"752.000"},null,null,null,{"$f":"'700 Travaux de bâtiment'!F70","v":"Protection contre la foudre toiture en pente"},{"$f":"'700 Travaux de bâtiment'!G70","v":""}]
[{"$f":"'700 Travaux de bâtiment'!B71","v":1},{"$f":"'700 Travaux de bâtiment'!C71","v":1},{"$f":"'700 Travaux de bâtiment'!D71","v":"753.000"},null,null,null,{"$f":"'700 Travaux de bâtiment'!F71","v":"Protection contre la foudre toit plat"},{"$f":"'700 Travaux de bâtiment'!G71","v":"ml"}]
[{"$f":"'700 Travaux de bâtiment'!B72","v":0},{"$f":"'700 Travaux de bâtiment'!C72","v":0},{"$f":"'700 Travaux de bâtiment'!D72","v":"754.000"},null,null,null,{"$f":"'700 Travaux de bâtiment'!F72","v":"Protection contre la foudre façade"},{"$f":"'700 Travaux de bâtiment'!G72","v":""}]
[{"$f":"'700 Travaux de bâtiment'!B73","v":1},{"$f":"'700 Travaux de bâtiment'!C73","v":0},{"$f":"'700 Travaux de bâtiment'!D73","v":0},null,null,null,{"$f":"'700 Travaux de bâtiment'!F73","v":0},{"$f":"'700 Travaux de bâtiment'!G73","v":""}]
[{"$f":"'700 Travaux de bâtiment'!B74","v":1},{"$f":"'700 Travaux de bâtiment'!C74","v":0},{"$f":"'700 Travaux de bâtiment'!D74","v":"760.000"},null,null,null,{"$f":"'700 Travaux de bâtiment'!F74","v":"Travaux de serrurerie"},{"$f":"'700 Travaux de bâtiment'!G74","v":""}]
[{"$f":"'700 Travaux de bâtiment'!B75","v":0},{"$f":"'700 Travaux de bâtiment'!C75","v":0},{"$f":"'700 Travaux de bâtiment'!D75","v":0},null,null,null,{"$f":"'700 Travaux de bâtiment'!F75","v":""},{"$f":"'700 Travaux de bâtiment'!G75","v":""}]
[{"$f":"'700 Travaux de bâtiment'!B76","v":1},{"$f":"'700 Travaux de bâtiment'!C76","v":0},{"$f":"'700 Travaux de bâtiment'!D76","v":"761.000"},null,null,null,{"$f":"'700 Travaux de bâtiment'!F76","v":"Châssis de montage"},{"$f":"'700 Travaux de bâtiment'!G76","v":""}]
[{"$f":"'700 Travaux de bâtiment'!B77","v":0},{"$f":"'700 Travaux de bâtiment'!C77","v":0},null,{"$f":"'700 Travaux de bâtiment'!E77","v":"761.100"},null,null,{"$f":"'700 Travaux de bâtiment'!F77","v":"Châssis de montage mur"},{"$f":"'700 Travaux de bâtiment'!G77","v":""}]
[{"$f":"'700 Travaux de bâtiment'!B78","v":1},{"$f":"'700 Travaux de bâtiment'!C78","v":1},null,{"$f":"'700 Travaux de bâtiment'!E78","v":"761.200"},null,null,{"$f":"'700 Travaux de bâtiment'!F78","v":"Châssis de montage en pose libre et lesté"},{"$f":"'700 Travaux de bâtiment'!G78","v":"forf."}]
[{"$f":"'700 Travaux de bâtiment'!B79","v":1},{"$f":"'700 Travaux de bâtiment'!C79","v":1},{"$f":"'700 Travaux de bâtiment'!D79","v":"762.000"},null,null,null,{"$f":"'700 Travaux de bâtiment'!F79","v":"Protection contre les intempéries"},{"$f":"'700 Travaux de bâtiment'!G79","v":"forf."}]
[{"$f":"'700 Travaux de bâtiment'!B80","v":0},{"$f":"'700 Travaux de bâtiment'!C80","v":0},null,{"$f":"'700 Travaux de bâtiment'!E80","v":"762.100"},null,null,{"$f":"'700 Travaux de bâtiment'!F80","v":"Protection contre les intempéries grillagée, verrouillable"},{"$f":"'700 Travaux de bâtiment'!G80","v":""}]
[{"$f":"'700 Travaux de bâtiment'!B81","v":0},{"$f":"'700 Travaux de bâtiment'!C81","v":0},null,{"$f":"'700 Travaux de bâtiment'!E81","v":"762.200"},null,null,{"$f":"'700 Travaux de bâtiment'!F81","v":"Casquette de protection contre les intempéries"},{"$f":"'700 Travaux de bâtiment'!G81","v":""}]
[{"$f":"'700 Travaux de bâtiment'!B82","v":0},{"$f":"'700 Travaux de bâtiment'!C82","v":0},null,{"$f":"'700 Travaux de bâtiment'!E82","v":"762.300"},null,null,{"$f":"'700 Travaux de bâtiment'!F82","v":"Conteneur de protection contre les intempéries"},{"$f":"'700 Travaux de bâtiment'!G82","v":""}]
[{"$f":"'700 Travaux de bâtiment'!B83","v":0},{"$f":"'700 Travaux de bâtiment'!C83","v":0},{"$f":"'700 Travaux de bâtiment'!D83","v":"763.000"},null,null,null,{"$f":"'700 Travaux de bâtiment'!F83","v":"Protection contre les contacts (protection contre le vandalisme)"},{"$f":"'700 Travaux de bâtiment'!G83","v":""}]
[{"$f":"'700 Travaux de bâtiment'!B84","v":0},{"$f":"'700 Travaux de bâtiment'!C84","v":0},{"$f":"'700 Travaux de bâtiment'!D84","v":"764.000"},null,null,null,{"$f":"'700 Travaux de bâtiment'!F84","v":"Consoles spéciales"},{"$f":"'700 Travaux de bâtiment'!G84","v":""}]
[{"$f":"'700 Travaux de bâtiment'!B85","v":0},{"$f":"'700 Travaux de bâtiment'!C85","v":0},{"$f":"'700 Travaux de bâtiment'!D85","v":"765.000"},null,null,null,{"$f":"'700 Travaux de bâtiment'!F85","v":"Tube carré soudé"},{"$f":"'700 Travaux de bâtiment'!G85","v":""}]
[{"$f":"'700 Travaux de bâtiment'!B86","v":0},{"$f":"'700 Travaux de bâtiment'!C86","v":0},{"$f":"'700 Travaux de bâtiment'!D86","v":"766.000"},null,null,null,{"$f":"'700 Travaux de bâtiment'!F86","v":"Tôle"},{"$f":"'700 Travaux de bâtiment'!G86","v":""}]
[{"$f":"'700 Travaux de bâtiment'!B87","v":0},{"$f":"'700 Travaux de bâtiment'!C87","v":0},{"$f":"'700 Travaux de bâtiment'!D87","v":"767.000"},null,null,null,{"$f":"'700 Travaux de bâtiment'!F87","v":"Tôle pliée"},{"$f":"'700 Travaux de bâtiment'!G87","v":""}]
[{"$f":"'700 Travaux de bâtiment'!B88","v":1},{"$f":"'700 Travaux de bâtiment'!C88","v":0},{"$f":"'700 Travaux de bâtiment'!D88","v":0},null,null,null,{"$f":"'700 Travaux de bâtiment'!F88","v":0},{"$f":"'700 Travaux de bâtiment'!G88","v":""}]
[{"$f":"'700 Travaux de bâtiment'!B89","v":1},{"$f":"'700 Travaux de bâtiment'!C89","v":0},{"$f":"'700 Travaux de bâtiment'!D89","v":"770.000"},null,null,null,{"$f":"'700 Travaux de bâtiment'!F89","v":"Percements/carottages"},{"$f":"'700 Travaux de bâtiment'!G89","v":""}]
[{"$f":"'700 Travaux de bâtiment'!B90","v":1},{"$f":"'700 Travaux de bâtiment'!C90","v":1},{"$f":"'700 Travaux de bâtiment'!D90","v":"771.000"},null,null,null,{"$f":"'700 Travaux de bâtiment'!F90","v":"Carottage "},{"$f":"'700 Travaux de bâtiment'!G90","v":"Pce "}]
[{"$f":"'700 Travaux de bâtiment'!B91","v":0},{"$f":"'700 Travaux de bâtiment'!C91","v":0},{"$f":"'700 Travaux de bâtiment'!D91","v":"772.000"},null,null,null,{"$f":"'700 Travaux de bâtiment'!F91","v":"Fraisage"},{"$f":"'700 Travaux de bâtiment'!G91","v":""}]
[{"$f":"'700 Travaux de bâtiment'!B92","v":0},{"$f":"'700 Travaux de bâtiment'!C92","v":0},{"$f":"'700 Travaux de bâtiment'!D92","v":"773.000"},null,null,null,{"$f":"'700 Travaux de bâtiment'!F92","v":"Joints d’étanchéité"},{"$f":"'700 Travaux de bâtiment'!G92","v":""}]
[{"$f":"'700 Travaux de bâtiment'!B93","v":1},{"$f":"'700 Travaux de bâtiment'!C93","v":1},{"$f":"'700 Travaux de bâtiment'!D93","v":"774.000"},null,null,null,{"$f":"'700 Travaux de bâtiment'!F93","v":"Fermer la cloison coupe-feu"},{"$f":"'700 Travaux de bâtiment'!G93","v":"Pce "}]
[{"$f":"'700 Travaux de bâtiment'!B94","v":1},{"$f":"'700 Travaux de bâtiment'!C94","v":0},{"$f":"'700 Travaux de bâtiment'!D94","v":0},null,null,null,{"$f":"'700 Travaux de bâtiment'!F94","v":0},{"$f":"'700 Travaux de bâtiment'!G94","v":""}]
[{"$f":"'700 Travaux de bâtiment'!B95","v":0},{"$f":"'700 Travaux de bâtiment'!C95","v":0},{"$f":"'700 Travaux de bâtiment'!D95","v":"780.000"},null,null,null,{"$f":"'700 Travaux de bâtiment'!F95","v":"Revêtements/capots"},{"$f":"'700 Travaux de bâtiment'!G95","v":""}]
[{"$f":"'700 Travaux de bâtiment'!B96","v":0},{"$f":"'700 Travaux de bâtiment'!C96","v":0},{"$f":"'700 Travaux de bâtiment'!D96","v":"781.000"},null,null,null,{"$f":"'700 Travaux de bâtiment'!F96","v":"Plaque de plâtre fibrée"},{"$f":"'700 Travaux de bâtiment'!G96","v":""}]
[{"$f":"'700 Travaux de bâtiment'!B97","v":0},{"$f":"'700 Travaux de bâtiment'!C97","v":0},{"$f":"'700 Travaux de bâtiment'!D97","v":"782.000"},null,null,null,{"$f":"'700 Travaux de bâtiment'!F97","v":"Bois verni"},{"$f":"'700 Travaux de bâtiment'!G97","v":""}]
[{"$f":"'700 Travaux de bâtiment'!B98","v":0},{"$f":"'700 Travaux de bâtiment'!C98","v":0},{"$f":"'700 Travaux de bâtiment'!D98","v":"783.000"},null,null,null,{"$f":"'700 Travaux de bâtiment'!F98","v":"Bois naturel"},{"$f":"'700 Travaux de bâtiment'!G98","v":""}]
[{"$f":"'700 Travaux de bâtiment'!B99","v":0},{"$f":"'700 Travaux de bâtiment'!C99","v":0},{"$f":"'700 Travaux de bâtiment'!D99","v":"784.000"},null,null,null,{"$f":"'700 Travaux de bâtiment'!F99","v":"Tôle"},{"$f":"'700 Travaux de bâtiment'!G99","v":""}]
[{"$f":"'700 Travaux de bâtiment'!B100","v":0},{"$f":"'700 Travaux de bâtiment'!C100","v":0},{"$f":"'700 Travaux de bâtiment'!D100","v":"785.000"},null,null,null,{"$f":"'700 Travaux de bâtiment'!F100","v":"Plaque de fibrociment"},{"$f":"'700 Travaux de bâtiment'!G100","v":""}]
[{"$f":"'700 Travaux de bâtiment'!B101","v":0},{"$f":"'700 Travaux de bâtiment'!C101","v":0},{"$f":"'700 Travaux de bâtiment'!D101","v":0},null,null,null,{"$f":"'700 Travaux de bâtiment'!F101","v":0},{"$f":"'700 Travaux de bâtiment'!G101","v":0}]
[1,1,null,null,null,null,"Sous-total Travaux de bâtiment"]
[1]
[1,null,"800.000",null,null,null,"Prestations"]
[1]
[{"$f":"'800 Prestations'!B6","v":1},{"$f":"'800 Prestations'!C6","v":0},{"$f":"'800 Prestations'!D6","v":"810.000"},null,null,null,{"$f":"'800 Prestations'!F6","v":"Maintenance"},{"$f":"'800 Prestations'!G6","v":""}]
[{"$f":"'800 Prestations'!B7","v":0},{"$f":"'800 Prestations'!C7","v":0},{"$f":"'800 Prestations'!D7","v":"811.000"},null,null,null,{"$f":"'800 Prestations'!F7","v":"Contrat de maintenance\nPropriétés: \nSynthèse de rendement annuelle"},{"$f":"'800 Prestations'!G7","v":""}]
[{"$f":"'800 Prestations'!B8","v":0},{"$f":"'800 Prestations'!C8","v":0},{"$f":"'800 Prestations'!E8","v":"811.100"},null,null,null,{"$f":"'800 Prestations'!F8","v":"Taux horaires réparations"},{"$f":"'800 Prestations'!G8","v":""}]
[{"$f":"'800 Prestations'!B9","v":1},{"$f":"'800 Prestations'!C9","v":1},{"$f":"'800 Prestations'!D9","v":"812.000"},null,null,null,{"$f":"'800 Prestations'!F9","v":"Nettoyage"},{"$f":"'800 Prestations'!G9","v":"forf."}]
[{"$f":"'800 Prestations'!B10","v":0},{"$f":"'800 Prestations'!C10","v":0},{"$f":"'800 Prestations'!E10","v":"812.100"},null,null,null,{"$f":"'800 Prestations'!F10","v":"Entretien des espaces verts"},{"$f":"'800 Prestations'!G10","v":""}]
[{"$f":"'800 Prestations'!B11","v":1},{"$f":"'800 Prestations'!C11","v":1},{"$f":"'800 Prestations'!D11","v":"813.000"},null,null,null,{"$f":"'800 Prestations'!F11","v":"Contrôle d’installation"},{"$f":"'800 Prestations'!G11","v":"forf."}]
[{"$f":"'800 Prestations'!B12","v":0},{"$f":"'800 Prestations'!C12","v":0},{"$f":"'800 Prestations'!E12","v":"813.100"},null,null,null,{"$f":"'800 Prestations'!F12","v":"Contrôle visuel"},{"$f":"'800 Prestations'!G12","v":""}]
[{"$f":"'800 Prestations'!B13","v":0},{"$f":"'800 Prestations'!C13","v":0},{"$f":"'800 Prestations'!D13","v":"814.000"},null,null,null,{"$f":"'800 Prestations'!F13","v":"Évaluation de la production/consommation"},{"$f":"'800 Prestations'!G13","v":""}]
[{"$f":"'800 Prestations'!B14","v":0},{"$f":"'800 Prestations'!C14","v":0},{"$f":"'800 Prestations'!D14","v":"815.000"},null,null,null,{"$f":"'800 Prestations'!F14","v":"Mesures/relevés"},{"$f":"'800 Prestations'!G14","v":""}]
[{"$f":"'800 Prestations'!B15","v":0},{"$f":"'800 Prestations'!C15","v":0},{"$f":"'800 Prestations'!E15","v":"815.100"},null,null,null,{"$f":"'800 Prestations'!F15","v":"Mesures I/U"},{"$f":"'800 Prestations'!G15","v":""}]
[{"$f":"'800 Prestations'!B16","v":0},{"$f":"'800 Prestations'!C16","v":0},{"$f":"'800 Prestations'!E16","v":"815.200"},null,null,null,{"$f":"'800 Prestations'!F16","v":"Mesures ISO"},{"$f":"'800 Prestations'!G16","v":""}]
[{"$f":"'800 Prestations'!B17","v":0},{"$f":"'800 Prestations'!C17","v":0},{"$f":"'800 Prestations'!E17","v":"815.300"},null,null,null,{"$f":"'800 Prestations'!F17","v":"Mesure de courbes caractéristiques"},{"$f":"'800 Prestations'!G17","v":""}]
[{"$f":"'800 Prestations'!B18","v":0},{"$f":"'800 Prestations'!C18","v":0},{"$f":"'800 Prestations'!E18","v":"815.400"},null,null,null,{"$f":"'800 Prestations'!F18","v":"Thermographie"},{"$f":"'800 Prestations'!G18","v":""}]
[{"$f":"'800 Prestations'!B19","v":0},{"$f":"'800 Prestations'!C19","v":0},{"$f":"'800 Prestations'!E19","v":"815.500"},null,null,null,{"$f":"'800 Prestations'!F19","v":"Électroluminescence"},{"$f":"'800 Prestations'!G19","v":""}]
[{"$f":"'800 Prestations'!B20","v":0},{"$f":"'800 Prestations'!C20","v":0},{"$f":"'800 Prestations'!D20","v":"816.000"},null,null,null,{"$f":"'800 Prestations'!F20","v":"Contrôle de modules en laboratoire"},{"$f":"'800 Prestations'!G20","v":""}]
[{"$f":"'800 Prestations'!B21","v":0},{"$f":"'800 Prestations'!C21","v":0},{"$f":"'800 Prestations'!E21","v":"816.100"},null,null,null,{"$f":"'800 Prestations'!F21","v":"Puissance du module"},{"$f":"'800 Prestations'!G21","v":""}]
[{"$f":"'800 Prestations'!B22","v":0},{"$f":"'800 Prestations'!C22","v":0},{"$f":"'800 Prestations'!E22","v":"816.200"},null,null,null,{"$f":"'800 Prestations'!F22","v":"Électroluminescence"},{"$f":"'800 Prestations'!G22","v":""}]
[{"$f":"'800 Prestations'!B23","v":1},{"$f":"'800 Prestations'!C23","v":1},{"$f":"'800 Prestations'!D23","v":"817.000"},null,null,null,{"$f":"'800 Prestations'!F23","v":"Contrôle périodique (renouvellement rapport de sécurité)"},{"$f":"'800 Prestations'!G23","v":"forf."}]
[{"$f":"'800 Prestations'!B24","v":0},{"$f":"'800 Prestations'!C24","v":0},{"$f":"'800 Prestations'!D24","v":"818.000"},null,null,null,{"$f":"'800 Prestations'!F24","v":"Nouvel audit Pronovo (> 300 kWp)"},{"$f":"'800 Prestations'!G24","v":""}]
[{"$f":"'800 Prestations'!B25","v":1},{"$f":"'800 Prestations'!C25","v":0},{"$f":"'800 Prestations'!D25","v":0},null,null,null,{"$f":"'800 Prestations'!F25","v":0},{"$f":"'800 Prestations'!G25","v":""}]
[{"$f":"'800 Prestations'!B26","v":1},{"$f":"'800 Prestations'!C26","v":0},{"$f":"'800 Prestations'!D26","v":"820.000"},null,null,null,{"$f":"'800 Prestations'!F26","v":"Décompte de la consommation propre (RCP)"},{"$f":"'800 Prestations'!G26","v":""}]
[{"$f":"'800 Prestations'!B27","v":1},{"$f":"'800 Prestations'!C27","v":1},{"$f":"'800 Prestations'!D27","v":"821.000"},null,null,null,{"$f":"'800 Prestations'!F27","v":"Décompte RCP"},{"$f":"'800 Prestations'!G27","v":"forf."}]
[{"$f":"'800 Prestations'!B28","v":0},{"$f":"'800 Prestations'!C28","v":0},{"$f":"'800 Prestations'!D28","v":"822.000"},null,null,null,{"$f":"'800 Prestations'!F28","v":"Décompte GRD"},{"$f":"'800 Prestations'!G28","v":""}]
[{"$f":"'800 Prestations'!B29","v":0},{"$f":"'800 Prestations'!C29","v":0},{"$f":"'800 Prestations'!D29","v":"823.000"},null,null,null,{"$f":"'800 Prestations'!F29","v":"Décompte consommateur d’énergie individuel"},{"$f":"'800 Prestations'!G29","v":""}]
[{"$f":"'800 Prestations'!B30","v":0},{"$f":"'800 Prestations'!C30","v":0},{"$f":"'800 Prestations'!D30","v":"824.000"},null,null,null,{"$f":"'800 Prestations'!F30","v":"Décompte compteur d’eau"},{"$f":"'800 Prestations'!G30","v":""}]
[{"$f":"'800 Prestations'!B31","v":0},{"$f":"'800 Prestations'!C31","v":0},{"$f":"'800 Prestations'!D31","v":"825.000"},null,null,null,{"$f":"'800 Prestations'!F31","v":"Décompte compteur de chaleur"},{"$f":"'800 Prestations'!G31","v":""}]
[{"$f":"'800 Prestations'!B32","v":0},{"$f":"'800 Prestations'!C32","v":0},{"$f":"'800 Prestations'!D32","v":"826.000"},null,null,null,{"$f":"'800 Prestations'!F32","v":"Prestations complémentaires"},{"$f":"'800 Prestations'!G32","v":""}]
[{"$f":"'800 Prestations'!B33","v":1},{"$f":"'800 Prestations'!C33","v":0},{"$f":"'800 Prestations'!D33","v":0},null,null,null,{"$f":"'800 Prestations'!F33","v":0},{"$f":"'800 Prestations'!G33","v":""}]
[{"$f":"'800 Prestations'!B34","v":1},{"$f":"'800 Prestations'!C34","v":0},{"$f":"'800 Prestations'!D34","v":"830.000"},null,null,null,{"$f":"'800 Prestations'!F34","v":"Prestations de sécurité"},{"$f":"'800 Prestations'!G34","v":""}]
[{"$f":"'800 Prestations'!B35","v":1},{"$f":"'800 Prestations'!C35","v":1},{"$f":"'800 Prestations'!D35","v":"831.000"},null,null,null,{"$f":"'800 Prestations'!F35","v":"Garantie de bonne exécution"},{"$f":"'800 Prestations'!G35","v":"forf."}]
[{"$f":"'800 Prestations'!B36","v":0},{"$f":"'800 Prestations'!C36","v":0},{"$f":"'800 Prestations'!E36","v":"832.100"},null,null,null,{"$f":"'800 Prestations'!F36","v":"Réassurance"},{"$f":"'800 Prestations'!G36","v":""}]
[{"$f":"'800 Prestations'!B37","v":0},{"$f":"'800 Prestations'!C37","v":0},{"$f":"'800 Prestations'!D37","v":"832.000"},null,null,null,{"$f":"'800 Prestations'!F37","v":"Garantie pour les défauts de l’ouvrage"},{"$f":"'800 Prestations'!G37","v":""}]
[{"$f":"'800 Prestations'!B38","v":1},{"$f":"'800 Prestations'!C38","v":1},{"$f":"'800 Prestations'!D38","v":"833.000"},null,null,null,{"$f":"'800 Prestations'!F38","v":"Garantie de production"},{"$f":"'800 Prestations'!G38","v":"forf."}]
[{"$f":"'800 Prestations'!B39","v":1},{"$f":"'800 Prestations'!C39","v":0},{"$f":"'800 Prestations'!D39","v":0},null,null,null,{"$f":"'800 Prestations'!F39","v":0},{"$f":"'800 Prestations'!G39","v":0}]
[1,1,null,null,null,null,"Sous-total Prestations"]
[1]
[1,1,null,null,null,null,"Total",null,null,null,{"$f":"SUM(K795,K757,K657,K534,K481,K432,K372,K308,K231)","v":0}]