{"text_format":"1","workbook":"xlsx","n_sheets":21,"sheets":["Anleitung","Leistungsverzeichnis","000 Bedingungen","100 PV- Module","200 PV- Montagesyst.","300 Anschlussgeräte","400 DC- Installation","500 AC- Installationen","600 Bauvorber., Planung","700 Gebäudearbeiten","800 Dienstleistungen","E_Box000","E_Box100","E_Box200","E_Box300","E_Box400","E_Box500","E_Box600","E_Box700","E_Box800","Gesamtverzeichnis"],"not_rendered":{"charts":0,"images":10,"macros":1,"external_links":0,"defined_names":77,"comments":0,"pivot_tables":0},"unopened":[],"bounds":{"document_bytes":16777216,"sheet_cells":100000,"rows_first":2000,"rows_last":500,"rows_between":2000,"halvings":0,"cell_chars":16384,"cell_head_chars":4096},"cells_cut":0,"cells_raw":0,"read":"whole","date_system":"1900"}

{"sheet":"Anleitung","index":0,"n_rows":78,"n_cols":1,"rows_kept":78,"cut":false,"hidden":false,"merged":[]}
[]
["Feedbacks zum SOQ-Offertstruktur-Generator an:"]
["info@swissolar.ch"]
[]
[]
[]
[]
["Impressum"]
["Der SOQ-Offertstruktur-Generator für PV-Anlagen wurde von einer Arbeitsgruppe von Swissolar erarbeitet und durch EnergieSchweiz gefördert. Die Rechte liegen voll und ganz bei Swissolar. Jegliche Haftung wird abgelehnt."]
[]
["Kurzanleitung SOQ-Offertstruktur-Generator"]
["Version 1.3.1 - Mac"]
["März 2022"]
[]
["Dies ist eine Kurzanleitung zum SOQ-Offertstruktur-Generator, Details und Erklärungen zur SOQ-Offertstruktur sind im Leitfaden zu finden."]
[]
["Systemanforderungen"]
[]
["Der SOQ-Offertstruktur-Generator wurde für MS-Office (ab Version 2013) und das Betriebssystem macOS entwickelt."]
[]
["Struktur Hauptgruppen"]
[]
["Die Struktur-Hauptgruppen sind als einzelne Tabellenblätter abgelegt."]
[]
[]
[]
[]
[]
["Farbcodes in den Tabellenblätter der Hauptgruppe"]
[]
["In den einzelnen Tabellenblättern wird jeweils folgender Farbcode verwendet:\n- grün: verbindliche Strukturebene, bis zu welcher die Positionen mindestens definiert werden müssen\n- braun: Optionale Strukturebene, die zusätzlich ausgewählt werden kann\n- grau: Eingabefelder der Leistungseinheiten und Positionswahlfelder (alle anderen Felder sind gesperrt)"]
[]
[]
[]
[]
[]
["Die verbindlichen und optionalen Strukturebenen sind pro Hauptstrukturebene unterschiedlich definiert. Nicht verwendete Strukturebenen sind ausgeblendet. Die maximale Tiefe der Strukturebenen ist 6."]
[]
["Auswahl von Einzelpositionen mit Einheiten"]
[]
["Hauptstrukturebene \"000 Bedingungen\""]
["Die erste Hauptstrukturebene unterscheidet sich von den anderen Hauptstrukturebenen da es sich nicht um Leistungspositionen des Leistungsverzeichnisses handelt, sondern um Bedingungen zum Angebot, die insbesondere vom Fachplaner zur Anlagenspezifizierung verwendet werden.\nEntsprechend müssen hier lediglich die gewünschten Positionen, durch Setzen eines \"x\" im Feld \"Position Hinzufügen\", ausgewählt werden. Die Positionen auf der Strukturebene 2 werden als Überschrift automatisch ausgewählt, wenn eine Position auf der Ebene 3 oder tiefer aktiviert wird."]
[]
[]
[]
[]
[]
[]
[]
[]
[]
[]
[]
["Hauptstrukturebene \"100 PV- Modul\" bis \"800 Dienstleistungen\""]
["Bei den Hauptstrukturebenen 100 bis 800 handelt es sich um SOQ-Positionsgruppen, die je nach Verbindlichkeit definiert werden müssen oder auch genauer spezifiziert werden können. \nDie gewünschten SOQ-Positionen können durch Setzen eines \"x\" im Feld \"Position Hinzufügen\", ausgewählt werden. Für Mehrfachpositionen (z.B. zwei verschiedene Module von der gleichen Kategorie), kann anstatt des x eine Zahl eingefüllt werden.\nDie SOQ-Positionen auf der Strukturebene 2 werden als Überschrift automatisch ausgewählt, wenn eine SOQ-Position auf der Ebene 3 oder tiefer aktiviert wird. In einigen Hauptstrukturebenen können auch die SOQ- Positionen auf Strukturebene 2 als Sammelposition mit einem \"x\" ausgewählt werden. Da es sich um eine Pauschalpositon handelt ist keine Mehrfachauswahl mit einer Zahl möglich (Zahlen werden ignoriert). Eine Pauschale SOQ-Position auf Strukturebene 2 kann auch mit  Positionen auf Strukturebene 3 oder tiefer ergänzt werden. "]
["Die Einheiten können für jede Position definiert werden. Es stehen die verbindlichen Einheiten pro SOQ- Position zu Verfügung. Für Positionen auf der Strukturebene 2, die als Pauschalposition verwendet werden sollen, muss die Einheit pauschal gewählt werden. Folgende Einheiten stehen je nach Position zur Verfügung:\n\nStk. - Stück\nModul \nlfm - Laufmeter\nm2 - Quadratmeter\nm3 - Kubikmeter\nStd. - Stunden\nMonat\na - Jahr\nkWp - Kilowatt Leistung bei Standardtestbedingungen STC\npau - Pauschalbetrag"]
[]
[" "]
[]
[]
[]
[]
[]
[]
[]
["Eigenschaftsboxen"]
[]
["Im Feld E-Box können ausgewählten Positionen zusätzliche Eigenschaften hinzugefügt werden. Es steht eine Dropdownliste von vordefinierten Eigenschaften zur Verfügung. Es können mehrere Positionen hintereinander von der Liste ausgewählt werden, die in der Box aufgereiht werden. Bei Mehrfachpositionen kann die E- Box nur einmal definiert werden;  für Anpassungen der Einzelpositionen sind die Änderungen manuell vorzunehmen.\nPositionen können manuell im Feld bearbeitet oder gelöscht werden.\nDas Feld kann auch in ein anderes Feld kopiert werden."]
[]
[]
[]
[]
[]
[]
[]
["Erstellen des Leistungsverzeichnisses"]
[]
["Sind die Auswahlen in den Hauptstrukturebenen getroffen, kann das Leistungsverzeichnis erstellt werden. Dazu muss im Tabellenblatt Leistungsverzeichnis der Button \"Leistungsverzeichnis erstellen\" gedrückt werden. Das bestehende Leistungsverzeichnis wird dadurch überschrieben.\nDas Leistungsverzeichnis kann nun zur weiteren Bearbeitung in ein leeres Exceldokument kopiert werden."]

{"sheet":"Leistungsverzeichnis","index":1,"n_rows":304,"n_cols":11,"rows_kept":304,"cut":false,"hidden":false,"merged":[]}
[1]
[1,null,"Leistungsverzeichniss"]
[1,null,"nach SOQ-Offertstruktur Version 1.4 - Mac"]
[1]
[1,null,"SOQ-Position",null,null,null,"Beschreibung","Einheit","Menge","Einheitspreis","Betrag"]
[1]
[1,null,"000.000",null,null,null,"Bedingungen"]
[1]
[1,null,"010.000",null,null,null,"Allgemeine Bedingungen",0]
[1,null,"011.000",null,null,null,"Begriffe, Abkürzungen",0]
[1,null,"012.000",null,null,null,"Normen\nEigenschaften: \nSIA-Regelwerk\nVKF Brandschutzvorschriften\nStand der Technik Papiere\nVSE Branchendokumente\nStand der Technik Papiere\nVSE Branchendokumente",0]
[1,null,"013.000",null,null,null,"Bewilligungen, Auflagen",0]
[1,null,null,"013.100",null,null,"Baubewilligung",0]
[1,null,0,null,null,null,0,0]
[1,null,"020.000",null,null,null,"Organisation",0]
[1,null,"021.000",null,null,null,"Bauherrschaft",0]
[1,null,"022.000",null,null,null,"Architektur",0]
[1,null,"023.000",null,null,null,"Bauleitung",0]
[1,null,"024.000",null,null,null,"PV-Planer",0]
[1,null,"025.000",null,null,null,"Weitere Planer",0]
[1,null,null,"025.100",null,null,"Elektroplaner",0]
[1,null,0,null,null,null,0,0]
[1,null,"030.000",null,null,null,"Ausschreibungskriterien",0]
[1,null,"031.000",null,null,null,"Art Ausschreibungsverfahren",0]
[1,null,null,"031.300",null,null,"Einladungsverfahren",0]
[1,null,"032.000",null,null,null,"Angebot",0]
[1,null,null,"032.100",null,null,"Angebotsform",0]
[1,null,null,null,"032.120",null,"Kostendach",0]
[1,null,null,"032.300",null,null,"Varianten",0]
[1,null,"033.000",null,null,null,"Kriterien, Vorbehalte",0]
[1,null,null,"033.100",null,null,"Eignungskriterien Unternehmer",0]
[1,null,null,null,"033.110",null,"ESTI-Bewilligung NIV9 oder NIV 14",0]
[1,null,null,null,"033.120",null,"Fähigkeitsausweis Solarprofi",0]
[1,null,null,null,"033.130",null,"Einhaltung / Deklaration GAV",0]
[1,null,null,null,"033.140",null,"Referenzen",0]
[1,null,null,"033.200",null,null,"Zuschlagskriterien",0]
[1,null,null,null,"033.210",null,"Preis / PV- Leistung",0]
[1,null,null,null,"033.230",null,"Qualität",0]
[1,null,null,null,"033.240",null,"Anlagenkonzept",0]
[1,null,null,"033.300",null,null,"Ausschlusskriterien",0]
[1,null,null,null,"033.310",null,"Unvollständiges Leistungsverzeichnis",0]
[1,null,null,null,"033.320",null,"Unvollständige Unternehmerangaben",0]
[1,null,null,null,"033.330",null,"Unvollständige Referenzangaben",0]
[1,null,null,"033.400",null,null,"Verhandlungen",0]
[1,null,null,null,"033.410",null,"Abgebote",0]
[1,null,"034.000",null,null,null,"Ausschreibungtermine, Fristen",0]
[1,null,null,"034.200",null,null,"Begehung",0]
[1,null,null,"034.300",null,null,"Fragestellungen, Frage Beantwortung",0]
[1,null,null,"034.400",null,null,"Einreichen Angebot",0]
[1,null,"035.000",null,null,null,"Ausschreibungsunterlagen",0]
[1,null,null,"035.100",null,null,"Allgemeine Bedingungen",0]
[1,null,null,"035.200",null,null,"Pläne",0]
[1,null,null,null,"035.210",null,"Situationsplan",0]
[1,null,null,null,"035.230",null,"Dachaufsicht",0]
[1,null,null,null,"035.250",null,"Gebäudeschnitt",0]
[1,null,null,"035.300",null,null,"Prinzipschema",0]
[1,null,null,"035.400",null,null,"Fotodokumentation",0]
[1,null,"036.000",null,null,null,"Eingabeunterlagen",0]
[1,null,null,"036.100",null,null,"Pläne",0]
[1,null,null,"036.200",null,null,"technische Dokumentation",0]
[1,null,null,"036.400",null,null,"Unternehmerangaben",0]
[1,null,null,"036.500",null,null,"Servicevertrag",0]
[1,null,"037.000",null,null,null,"Sicherheitsleistungen",0]
[1,null,null,"037.100",null,null,"Erfüllungsgarantie",0]
[1,null,"038.000",null,null,null,"Vorbehalte",0]
[1,null,null,"038.100",null,null,"Finanzierung",0]
[1,null,0,null,null,null,0,0]
[1,null,"040.000",null,null,null,"Vergütungsregeln",0]
[1,null,"041.000",null,null,null,"Enthaltene Leistungen / Grundbedingungen",0]
[1,null,null,"041.100",null,null,"Planung",0]
[1,null,null,"041.200",null,null,"Montagekonstruktion",0]
[1,null,null,"041.300",null,null,"PV-Module",0]
[1,null,null,"041.400",null,null,"Bauausführung ",0]
[1,null,"042.000",null,null,null,"Währung",0]
[1,null,null,"042.100",null,null,"Währung der Eingabe",0]
[1,null,"043.000",null,null,null,"Bauabzüge",0]
[1,null,0,null,null,null,0,0]
[1,null,"050.000",null,null,null,"Objektspezifische Angaben",0]
[1,null,"051.000",null,null,null,"Angaben zum Bauobjekt",0]
[1,null,null,"051.100",null,null,"Adresse",0]
[1,null,null,"051.200",null,null,"Höhenlage Bauobjekt",0]
[1,null,null,"051.300",null,null,"Gebäudehöhe",0]
[1,null,null,"051.500",null,null,"Dachaufbau",0]
[1,null,null,null,"051.510",null,"Max. Punktlast Dach bei Flachdach",0]
[1,null,null,"051.600",null,null,"Dachneigung",0]
[1,null,null,"051.700",null,null,"Gebäudestatik",0]
[1,null,null,null,"051.720",null,"Angabe Lastreserve Dach",0]
[1,null,"052.000",null,null,null,"Umfang der Arbeiten",0]
[1,null,null,"052.100",null,null,"Beschreibung PVA",0]
[1,null,null,"052.200",null,null,"Beschreibung Leitungsführung",0]
[1,null,null,"052.300",null,null,"Beschreibung WR-Standort",0]
[1,null,null,null,"052.320",null,"WR Aufstellung aussen",0]
[1,null,null,"052.400",null,null,"Beschreibung Netzeinbindung",0]
[1,null,null,"052.500",null,null,"Beschreibung Erdungs-, Blitzschutz- und Überspannungsschutzkonzept",0]
[1,null,null,null,"052.510",null,"",0]
[1,null,"053.000",null,null,null,"Infrastruktur",0]
[1,null,null,"053.100",null,null,"Zufahrt",0]
[1,null,null,"053.200",null,null,"Parkplätze",0]
[1,null,null,"053.400",null,null,"Aufzugseinrichtungen",0]
[1,null,"054.000",null,null,null,"Spezielle Bestimmungen Baustelle",0]
[1,null,null,"054.400",null,null,"Abfall, Entsorgung",0]
[1,null,"055.000",null,null,null,"Sicherheit",0]
[1,null,null,"055.100",null,null,"Arbeitssicherheit temporär (Bestand)",0]
[1,null,null,null,"055.110",null,"Geländer Dachrand",0]
[1,null,null,null,"055.150",null,"Gerüstturm",0]
[1,null,0,null,null,null,0,0]
[1,null,"060.000",null,null,null,"Bauablauf, Fristen",0]
[1,null,"061.000",null,null,null,"Bauablauf",0]
[1,null,null,"061.100",null,null,"Bauprogramm",0]
[1,null,"062.000",null,null,null,"Termine, Fristen",0]
[1,null,null,"062.100",null,null,"Baubeginn",0]
[1,null,null,"062.200",null,null,"Inbetriebnahme",0]
[1,null,"063.000",null,null,null,"Prämien, Strafen",0]
[1,null,null,"063.200",null,null,"Konventionalstrafen",0]
[1,null,0,null,null,null,0,0]
[1,null,"070.000",null,null,null,"Schnittstellen, Zuständigkeiten (Schnittstellenpapier)",0]
[1,null,"071.000",null,null,null,"Schnittstellen elektrisch",0]
[1,null,null,"071.300",null,null,"Netzeinbindung komplett",0]
[1,null,null,"071.400",null,null,"Schnittstelle Blitzschutz",0]
[1,null,"072.000",null,null,null,"Schnittstellen mechanisch",0]
[1,null,0,null,null,null,0,0]
[1,null,"080.000",null,null,null,"Versicherungen, Abrechnung",0]
[1,null,"081.000",null,null,null,"Versicherungen Bauherr",0]
[1,null,null,"081.200",null,null,"Bauwesenversicherung",0]
[1,null,"082.000",null,null,null,"Versicherungen Unternehmer",0]
[1,null,null,"082.200",null,null,"Unternehmerhaftpflichtversicherung",0]
[1,null,"083.000",null,null,null,"Abechnung",0]
[1,null,null,"083.100",null,null,"Zahlungsplan",0]
[1,null,null,null,null,null,"Zwischensumme"]
[1]
[1,null,"100.000",null,null,null,"PV- Module",null,null,null,0]
[1,null,null,null,null,null,null,null,null,null,0]
[1,0,"110.000",null,null,null,"Glas/Folie mit Rahmen, Aufdach","",null,null,0]
[2,1,"111.000",null,null,null,"Standardgrösse (1 - 2m2), < 25 kg\nEigenschaften: \nRahmen silber\nBacksheet weiss","Stk. ",null,null,0]
[2,1,"111.000",null,null,null,"Standardgrösse (1 - 2m2), < 25 kg\nEigenschaften: \nRahmen silber\nBacksheet weiss","Stk. ",null,null,0]
[1,1,"112.000",null,null,null,"Standardgrösse (1 - 2m2), > 25 kg\nEigenschaften: \nRahmen schwarz\nBacksheet schwarz\nBusbars abgedeckt","Stk. ",null,null,0]
[1,0,0,null,null,null,0,"",null,null,0]
[1,0,"180.000",null,null,null,"Glas/Glas ohne Rahmen, integriert","",null,null,0]
[1,1,"181.000",null,null,null,"Standardgrösse (1 - 2m2), < 25 kg","Stk. ",null,null,0]
[1,0,0,null,null,null,0,"",null,null,0]
[1,1,null,null,null,null,"Zwischensumme PV- Module",null,null,null,0]
[1]
[1,null,"200.000",null,null,null,"PV- Montagesysteme"]
[1]
[1,0,"230.000",null,null,null,"Flachdach (ohne Dachdurchdringung) Montagesyst. mit zwei entgegengesetzten Ausrichtungen (Ost-West)",""]
[1,1,"232.000",null,null,null,"Unter Kies\nEigenschaften: \nKlemmsystem","Modul"]
[1,0,0,null,null,null,0,""]
[1,1,null,null,null,null,"Zwischensumme PV- Montagesysteme"]
[1]
[1,null,"300.000",null,null,null,"Anschlussgeräte"]
[1]
[1,0,"310.000",null,null,null,"Stringwechselrichter netzgeführt",""]
[1,1,"311.000",null,null,null,"Stringwechselrichter für NS ohne Hybridfunktion\nEigenschaften: \nAnzahl MPPT\nIP-Schutz\nDC-Trennstelle","Stk. "]
[1,0,0,null,null,null,0,""]
[1,0,"330.000",null,null,null,"Generatoranschlusskasten",""]
[1,1,"335.000",null,null,null,"mit SPD 1+ 2, ohne Trennschalter\nEigenschaften: \nAnzahl MPPT\nEinhausungstyp Metall/Kunststoff","Stk. "]
[1,0,0,null,null,null,0,""]
[1,0,"360.000",null,null,null,"Peripheriegeräte WR/Batterie",""]
[1,1,"365.000",null,null,null,"SmartMeter\nEigenschaften: \n3- phasig\nDirektmessung","Stk. "]
[1,1,"366.000",null,null,null,"Steuerung Verbraucher (z.B. Elektro-Heizeinsatz od. Elektroladestation)\nEigenschaften: \nAnzahl potentialfreie Kontakte","Stk. "]
[1,1,"367.000",null,null,null,"SIM-Router","Stk. "]
[1,0,0,null,null,null,0,""]
[1,0,"370.000",null,null,null,"Angesteuerte Verbraucher/Smart Energy",""]
[1,1,"371.000",null,null,null,"Elektroladestationen \nEigenschaften: \nSteckertyp (Typ 1, Typ 2, CCS, CHAdeMO)","Stk. "]
[1,0,0,null,null,null,0,""]
[1,1,null,null,null,null,"Zwischensumme Anschlussgeräte"]
[1]
[1,0,"400.000",null,null,null,"DC- Installation",""]
[1]
[1,1,"410.000",null,null,null,"DC-Solarleitungen","pau"]
[1,0,0,null,null,null,"Eigenschaften: \nQuerschnitt\nUV-beständig",""]
[1,0,0,null,null,null,0,""]
[1,1,"420.000",null,null,null,"Solarstecker ","pau"]
[1,0,0,null,null,null,"Eigenschaften: \nOriginalstecker vom Hersteller (gemäss NIN)",""]
[1,0,0,null,null,null,0,""]
[1,0,"430.000",null,null,null,"Kabelschutz/Kabelführung",""]
[1,1,"431.000",null,null,null,"Trassen\nEigenschaften: \nmit Deckel\nFeuerverzinkt","lfm"]
[1,0,0,null,null,null,0,""]
[1,0,"440.000",null,null,null,"Verbrauchsmaterial",""]
[1,1,"441.000",null,null,null,"Kabelbeschriftung\nEigenschaften: \nUV-beständig","Stk. "]
[1,1,"442.000",null,null,null,"Kabelbefestigungsmaterial\nEigenschaften: \nUV-beständig","Stk. "]
[1,0,0,null,null,null,0,""]
[1,0,"450.000",null,null,null,"POT-Ausgleich",""]
[1,1,"451.000",null,null,null,"Leiter\nEigenschaften: \n16mm2","lfm"]
[1,1,"452.000",null,null,null,"Klemmen\nEigenschaften: \nRostfrei","Stk. "]
[1,1,"454.000",null,null,null,"POT-Schiene","Stk. "]
[1,0,0,null,null,null,0,""]
[1,0,"460.000",null,null,null,"Anschluss an bestehenden Blitzschutz",""]
[1,1,"461.000",null,null,null,"Draht","lfm"]
[1,1,"462.000",null,null,null,"Klemmen","Stk. "]
[1,1,null,null,null,null,"Zwischensumme DC- Installation"]
[1]
[1,null,"500.000",null,null,null,"AC- Installation"]
[1]
[1,1,"510.000",null,null,null,"AC-Leitungen","pau"]
[1,0,0,null,null,null,"Eigenschaften: \nQuerschnitt\n6mm2\nPur- Kabel",0]
[1,0,0,null,null,null,0,""]
[1,0,"520.000",null,null,null,"NS-Schalt-, Schutz- und Messgeräte",""]
[1,1,"521.000",null,null,null,"AC-Schalter\nEigenschaften: \nStrombelastbarkeit","Stk. "]
[1,1,"524.000",null,null,null,"NA-Schutz\nEigenschaften: \nIn WR integriert","Stk. "]
[1,1,"525.000",null,null,null,"SPD ","Stk. "]
[1,1,"526.000",null,null,null,"Zähler","Stk. "]
[1,1,"527.000",null,null,null,"Stromwandler","Stk. "]
[1,0,0,null,null,null,0,""]
[1,1,"530.000",null,null,null,"Leitungsführung/Kabelschutz","pau"]
[1,1,"531.000",null,null,null,"Trassen\nEigenschaften: \nFeuerverzinkt","lfm"]
[1,0,0,null,null,null,0,""]
[1,0,"540.000",null,null,null,"POT-Ausgleich",""]
[1,1,"541.000",null,null,null,"Leiter\nEigenschaften: \n16mm2","lfm"]
[1,1,"542.000",null,null,null,"Klemmen\nEigenschaften: \nRostfrei","Stk. "]
[1,0,0,null,null,null,0,""]
[1,0,"560.000",null,null,null,"ZEV-Installationen",""]
[1,1,"561.000",null,null,null,"Zähler Strom\nEigenschaften: \nGeeichte Zähler (MID-zertifiziert)\nDirektmessung","Stk. "]
[1,1,"566.000",null,null,null,"Datenlogger","Stk. "]
[1,1,"567.000",null,null,null,"Kommunikation/Auslesung","Stk. "]
[1,1,"568.000",null,null,null,"Konfiguration","Stk. "]
[1,1,null,null,null,null,"Zwischensumme AC- Installation"]
[1]
[1,null,"600.000",null,null,null,"Bauvorbereitung und Planung"]
[1]
[1,0,"610.000",null,null,null,"Baustelleneinrichtung/Logistik",""]
[1,1,"611.000",null,null,null,"Baustelleneinrichtung","pau"]
[1,1,"612.000",null,null,null,"Transport bis Baustelle","pau"]
[1,1,"613.000",null,null,null,"Hebemittel","pau"]
[1,1,"614.000",null,null,null,"Entsorgung","pau"]
[1,0,0,null,null,null,0,""]
[1,0,"620.000",null,null,null,"Arbeitssicherheit temporär",""]
[1,0,"622.000",null,null,null,"Arbeitssicherheitseinrichtungen",""]
[1,1,null,"622.100",null,null,"Gerüstturm ","lfm"]
[1,1,null,"622.200",null,null,"Fassadengerüst Flachdach ","m2"]
[1,0,0,null,null,null,0,""]
[1,0,"630.000",null,null,null,"Arbeitssicherheit permanent",""]
[1,0,"631.000",null,null,null,"Einzelanschlagpunkt",""]
[1,1,null,"631.100",null,null,"Einzelanschlagpunkt ins Dach montiert","Stk. "]
[1,0,"632.000",null,null,null,"Seil- oder Schienensystem",""]
[1,1,null,"632.100",null,null,"Seil- oder Schienensystem ins Dach montiert","lfm"]
[1,0,"634.000",null,null,null,"Oblicht-Durchsturzsicherung",""]
[1,1,null,"634.100",null,null,"Oblicht-Durchsturzsicherung Gitter","m2"]
[1,0,0,null,null,null,0,""]
[1,0,"640.000",null,null,null,"Bewilligungen/Föderbenantragung",""]
[1,1,"642.000",null,null,null,"Erstellen & Einreichen  & Abschluss IA ","Std."]
[1,1,"644.000",null,null,null,"Erstellen & Einreichen  & Abschluss Baumeldung","Std."]
[1,0,"648.000",null,null,null,"Gebühren",""]
[1,1,null,"648.300",null,null,"Gebühren ESTI","Stk. "]
[1,0,0,null,null,null,0,""]
[1,0,"650.000",null,null,null,"Ausführungsplanung",""]
[1,1,"652.000",null,null,null,"Ausführungspläne erstellen/zeichnen","Std."]
[1,0,0,null,null,null,0,""]
[1,0,"660.000",null,null,null,"Projekt- und Bauleitung",""]
[1,1,"661.000",null,null,null,"Projektleitung","Std."]
[1,1,"662.000",null,null,null,"Bauleitung","Std."]
[1,1,"664.000",null,null,null,"Anlagendokumentation","Std."]
[1,1,"665.000",null,null,null,"Instruktion","Std."]
[1,0,0,null,null,null,0,""]
[1,0,"670.000",null,null,null,"Abnahmen",""]
[1,1,"671.000",null,null,null,"Abnahme Planer/Bauherr/Behörde/VNB","Std."]
[1,1,"672.000",null,null,null,"Erstellen SiNa","Std."]
[1,1,"673.000",null,null,null,"Erstellen MP PV (Mess- und Prüfprotokoll)","Std."]
[1,1,"674.000",null,null,null,"Akkreditierte Kontrolle DC","Std."]
[1,1,"675.000",null,null,null,"Unabhängige Kontrolle AC","Std."]
[1,1,"676.000",null,null,null,"Beglaubigung Pronovo durch Auditor inkl. Einreichen Pronovo","Std."]
[1,0,0,null,null,null,0,0]
[1,1,null,null,null,null,"Zwischensumme Bauvorbereitung und Planung"]
[1]
[1,null,"700.000",null,null,null,"Gebäudearbeiten"]
[1]
[1,0,"730.000",null,null,null,"Anpassungen auf Flachdächer",""]
[1,0,"731.000",null,null,null,"Kies",""]
[1,1,null,"731.300",null,null,"Kies manuell versetzen","m2"]
[1,1,"733.000",null,null,null,"Gehwegplatten","pau"]
[1,0,"734.000",null,null,null,"Schutzschichten",""]
[1,1,null,"734.100",null,null,"Vlies\nEigenschaften: \nStärke (mm )","m2"]
[1,0,0,null,null,null,0,""]
[1,0,"750.000",null,null,null,"Blitzschutz",""]
[1,1,"753.000",null,null,null,"Blitzschutz Flachdach","lfm"]
[1,0,0,null,null,null,0,""]
[1,0,"760.000",null,null,null,"Metallarbeiten",""]
[1,0,"761.000",null,null,null,"Montagegestell",""]
[1,1,null,"761.200",null,null,"Montaggestell frei aufgestellt auflastgehalten","pau"]
[1,1,"762.000",null,null,null,"Witterungsschutz","pau"]
[1,0,0,null,null,null,0,""]
[1,0,"770.000",null,null,null,"Durchbrüche/Bohrungen",""]
[1,1,"771.000",null,null,null,"Kernbohrung ","Stk. "]
[1,1,"774.000",null,null,null,"Brandschott schliessen","Stk. "]
[1,0,0,null,null,null,0,""]
[1,1,null,null,null,null,"Zwischensumme Gebäudearbeiten"]
[1]
[1,null,"800.000",null,null,null,"Dienstleistungen"]
[1]
[1,0,"810.000",null,null,null,"Wartung",""]
[1,1,"812.000",null,null,null,"Reinigung","pau"]
[1,1,"813.000",null,null,null,"Anlagen-Check","pau"]
[1,1,"817.000",null,null,null,"Periodische Kontrolle (Erneuerung Sicherheitsnachweis)","pau"]
[1,0,0,null,null,null,0,""]
[1,0,"820.000",null,null,null,"Eigenverbrauchsabrechnung (ZEV)",""]
[1,1,"821.000",null,null,null,"Abrechnung ZEV","pau"]
[1,0,0,null,null,null,0,""]
[1,0,"830.000",null,null,null,"Sicherheitsleistungen",""]
[1,1,"831.000",null,null,null,"Erfüllungsgarantie","pau"]
[1,1,"833.000",null,null,null,"Ertragsgarantie","pau"]
[1,0,0,null,null,null,0,0]
[1,1,null,null,null,null,"Zwischensumme Dienstleistungen"]
[1]
[1,1,null,null,null,null,"Total",null,null,null,0]

{"sheet":"000 Bedingungen","index":2,"n_rows":226,"n_cols":22,"rows_kept":226,"cut":false,"hidden":false,"merged":[[1,8,1,9],[3,16,3,17],[2,12,2,17],[3,8,3,9],[3,10,3,11],[3,12,3,13],[2,8,2,11],[3,14,3,15]]}
[null,null,null,null,null,null,null,null,null,null,null,null,null,null,null,null,null,null,null,null,null,"AUSBLENDEN"]
[null,null,null,null,null,null,"Ausblenden",null,"Strukturebene 1:",null,0,"Bedingungen"]
[null,null,null,null,null,null,null,null,"Verbindlich",null,null,null,"Optional"]
[null,"Show","SOQ-Nr.",null,null,null,"Beschreibung","Einheit","Strukturebene 2",null,"Strukturebene 3",null,"Strukturebene 4",null,"Strukturebene 5",null,"Strukturebene 6",null,"Position Hinzufügen","E- Box",null,"E-Box"]
[]
[null,{"$f":"IF(SUM(B7:B11)>0,1,0)","v":1},{"$f":"I6","v":"010.000"},null,null,null,{"$f":"J6","v":"Allgemeine Bedingungen"},null,"010.000","Allgemeine Bedingungen"]
[null,{"$f":"IF(S7=\"x\",1,IF(ISNUMBER(S7),S7,0))","v":1},{"$f":"K7","v":"011.000"},null,null,null,{"$f":"L7 & IF(T7<>\"\",CHAR(10) & T7,\"\")","v":"Begriffe, Abkürzungen"},null,null,null,"011.000","Begriffe, Abkürzungen",null,null,null,null,null,null,"x",null,null,"E000_Begriffe_Abkürzungen"]
[null,{"$f":"IF(S8=\"x\",1,IF(ISNUMBER(S8),S8,0))","v":1},{"$f":"K8","v":"012.000"},null,null,null,{"$f":"L8& IF(T8<>\"\",CHAR(10) & T8,\"\")","v":"Normen\nEigenschaften: \nSIA-Regelwerk\nVKF Brandschutzvorschriften\nStand der Technik Papiere\nVSE Branchendokumente\nStand der Technik Papiere\nVSE Branchendokumente"},null,null,null,"012.000","Normen",null,null,null,null,null,null,"x","Eigenschaften: \nSIA-Regelwerk\nVKF Brandschutzvorschriften\nStand der Technik Papiere\nVSE Branchendokumente\nStand der Technik Papiere\nVSE Branchendokumente",null,"E000_Normen"]
[null,{"$f":"IF(S9=\"x\",1,IF(SUM(B10:B11)>0,1,0))","v":1},"013.000",null,null,null,{"$f":"L9& IF(T9<>\"\",CHAR(10) & T9,\"\")","v":"Bewilligungen, Auflagen"},null,null,null,"013.000","Bewilligungen, Auflagen"]
[null,{"$f":"IF(S10=\"x\",1,IF(ISNUMBER(S10),S10,0))","v":1},null,{"$f":"M10","v":"013.100"},null,null,{"$f":"N10& IF(T10<>\"\",CHAR(10) & T10,\"\")","v":"Baubewilligung"},null,null,null,null,null,"013.100","Baubewilligung",null,null,null,null,"x"]
[null,{"$f":"IF(S11=\"x\",1,IF(ISNUMBER(S11),S11,0))","v":0},null,{"$f":"M11","v":"013.200"},null,null,{"$f":"N11& IF(T11<>\"\",CHAR(10) & T11,\"\")","v":"Behördenauflagen"},null,null,null,null,null,"013.200","Behördenauflagen"]
[null,{"$f":"B6","v":1}]
[null,{"$f":"IF(SUM(B14:B22)>0,1,0)","v":1},{"$f":"I13","v":"020.000"},null,null,null,{"$f":"J13","v":"Organisation"},null,"020.000","Organisation"]
[null,{"$f":"IF(S14=\"x\",1,IF(ISNUMBER(S14),S14,0))","v":1},{"$f":"K14","v":"021.000"},null,null,null,{"$f":"L14& IF(T14<>\"\",CHAR(10) & T14,\"\")","v":"Bauherrschaft"},null,null,null,"021.000","Bauherrschaft",null,null,null,null,null,null,"x"]
[null,1,{"$f":"K15","v":"022.000"},null,null,null,"Architektur",null,null,null,"022.000","Architektur",null,null,null,null,null,null,"x"]
[null,1,"023.000",null,null,null,"Bauleitung",null,null,null,"023.000","Bauleitung",null,null,null,null,null,null,"x"]
[null,1,"024.000",null,null,null,"PV-Planer",null,null,null,"024.000","PV-Planer",null,null,null,null,null,null,"x"]
[null,{"$f":"IF(S18=\"x\",1,IF(SUM(B19:B21)>0,1,0))","v":1},"025.000",null,null,null,"Weitere Planer",null,null,null,"025.000","Weitere Planer"]
[null,1,null,{"$f":"M19","v":"025.100"},null,null,{"$f":"N19& IF(T19<>\"\",CHAR(10) & T19,\"\")","v":"Elektroplaner"},null,null,null,null,null,"025.100","Elektroplaner",null,null,null,null,"x"]
[null,0,null,{"$f":"M20","v":"025.200"},null,null,"Bauingenieur/Gebäudestatiker",null,null,null,null,null,"025.200","Bauingenieur/Gebäudestatiker"]
[null,0,null,{"$f":"M21","v":"025.300"},null,null,"HLK Planer",null,null,null,null,null,"025.300","HLK Planer"]
[null,0,{"$f":"K22","v":"026.000"},null,null,null,{"$f":"L22& IF(T22<>\"\",CHAR(10) & T22,\"\")","v":"Berater"},null,null,null,"026.000","Berater"]
[null,{"$f":"B13","v":1}]
[null,{"$f":"IF(SUM(B25:B105)>0,1,0)","v":1},{"$f":"I24","v":"030.000"},null,null,null,{"$f":"J24","v":"Ausschreibungskriterien"},null,"030.000","Ausschreibungskriterien"]
[null,{"$f":"IF(S25=\"x\",1,IF(SUM(B26:B29)>0,1,0))","v":1},{"$f":"K25","v":"031.000"},null,null,null,{"$f":"L25& IF(T25<>\"\",CHAR(10) & T25,\"\")","v":"Art Ausschreibungsverfahren"},null,null,null,"031.000","Art Ausschreibungsverfahren"]
[null,{"$f":"IF(S26=\"x\",1,IF(ISNUMBER(S26),S26,0))","v":0},null,{"$f":"M26","v":"031.100"},null,null,{"$f":"N26& IF(T26<>\"\",CHAR(10) & T26,\"\")","v":"Offenes Verfahren"},null,null,null,null,null,"031.100","Offenes Verfahren"]
[null,{"$f":"IF(S27=\"x\",1,IF(ISNUMBER(S27),S27,0))","v":0},null,{"$f":"M27","v":"031.200"},null,null,"Selektives Verfahren (zweistufig, mit Präqualifikation)",null,null,null,null,null,"031.200","Selektives Verfahren (zweistufig, mit Präqualifikation)"]
[null,{"$f":"IF(S28=\"x\",1,IF(ISNUMBER(S28),S28,0))","v":1},null,{"$f":"M28","v":"031.300"},null,null,"Einladungsverfahren",null,null,null,null,null,"031.300","Einladungsverfahren",null,null,null,null,"x"]
[null,{"$f":"IF(S29=\"x\",1,IF(ISNUMBER(S29),S29,0))","v":0},null,{"$f":"M29","v":"031.400"},null,null,"Freihändiges Verfahren",null,null,null,null,null,"031.400","Freihändiges Verfahren"]
[null,{"$f":"IF(S30=\"x\",1,IF(SUM(B31:B39)>0,1,0))","v":1},{"$f":"K30","v":"032.000"},null,null,null,{"$f":"L30& IF(T30<>\"\",CHAR(10) & T30,\"\")","v":"Angebot"},null,null,null,"032.000","Angebot"]
[null,{"$f":"IF(S31=\"x\",1,IF(SUM(B32:B34)>0,1,0))","v":1},null,{"$f":"M31","v":"032.100"},null,null,{"$f":"N31& IF(T31<>\"\",CHAR(10) & T31,\"\")","v":"Angebotsform"},null,null,null,null,null,"032.100","Angebotsform"]
[null,{"$f":"IF(S32=\"x\",1,IF(ISNUMBER(S32),S32,0))","v":0},null,null,{"$f":"O32","v":"032.110"},null,{"$f":"P32& IF(T32<>\"\",CHAR(10) & T32,\"\")","v":"Ausmass"},null,null,null,null,null,null,null,"032.110","Ausmass"]
[null,1,null,null,{"$f":"O33","v":"032.120"},null,{"$f":"P33& IF(T33<>\"\",CHAR(10) & T33,\"\")","v":"Kostendach"},null,null,null,null,null,null,null,"032.120","Kostendach",null,null,"x"]
[null,0,null,null,{"$f":"O34","v":"032.130"},null,"Pauschal",null,null,null,null,null,null,null,"032.130","Pauschal"]
[null,0,null,{"$f":"M35","v":"032.200"},null,null,{"$f":"N35& IF(T35<>\"\",CHAR(10) & T35,\"\")","v":"Teilangebote"},null,null,null,null,null,"032.200","Teilangebote"]
[null,1,null,{"$f":"M36","v":"032.300"},null,null,"Varianten",null,null,null,null,null,"032.300","Varianten",null,null,null,null,"x"]
[null,0,null,{"$f":"M37","v":"032.400"},null,null,"Subunternehmer",null,null,null,null,null,"032.400","Subunternehmer"]
[null,0,null,{"$f":"M38","v":"032.500"},null,null,"ARGE",null,null,null,null,null,"032.500","ARGE"]
[null,0,null,{"$f":"M39","v":"032.600"},null,null,"Gültigkeit Angebot",null,null,null,null,null,"032.600","Gültigkeit Angebot"]
[null,{"$f":"IF(S40=\"x\",1,IF(SUM(B41:B46)>0,1,0))","v":1},{"$f":"K40","v":"033.000"},null,null,null,{"$f":"L40& IF(T40<>\"\",CHAR(10) & T40,\"\")","v":"Kriterien, Vorbehalte"},null,null,null,"033.000","Kriterien, Vorbehalte"]
[null,{"$f":"IF(S41=\"x\",1,IF(SUM(B42:B46)>0,1,0))","v":1},null,{"$f":"M41","v":"033.100"},null,null,{"$f":"N41& IF(T41<>\"\",CHAR(10) & T41,\"\")","v":"Eignungskriterien Unternehmer"},null,null,null,null,null,"033.100","Eignungskriterien Unternehmer"]
[null,{"$f":"IF(S42=\"x\",1,IF(ISNUMBER(S42),S42,0))","v":1},null,null,{"$f":"O42","v":"033.110"},null,{"$f":"P42& IF(T42<>\"\",CHAR(10) & T42,\"\")","v":"ESTI-Bewilligung NIV9 oder NIV 14"},null,null,null,null,null,null,null,"033.110","ESTI-Bewilligung NIV9 oder NIV 14",null,null,"x"]
[null,{"$f":"IF(S43=\"x\",1,IF(ISNUMBER(S43),S43,0))","v":1},null,null,{"$f":"O43","v":"033.120"},null,"Fähigkeitsausweis Solarprofi",null,null,null,null,null,null,null,"033.120","Fähigkeitsausweis Solarprofi",null,null,"x"]
[null,{"$f":"IF(S44=\"x\",1,IF(ISNUMBER(S44),S44,0))","v":1},null,null,{"$f":"O44","v":"033.130"},null,"Einhaltung / Deklaration GAV",null,null,null,null,null,null,null,"033.130","Einhaltung / Deklaration GAV",null,null,"x"]
[null,{"$f":"IF(S45=\"x\",1,IF(ISNUMBER(S45),S45,0))","v":1},null,null,{"$f":"O45","v":"033.140"},null,"Referenzen",null,null,null,null,null,null,null,"033.140","Referenzen",null,null,"x"]
[null,{"$f":"IF(S46=\"x\",1,IF(ISNUMBER(S46),S46,0))","v":0},null,null,{"$f":"O46","v":"033.150"},null,"Weitere",null,null,null,null,null,null,null,"033.150","Weitere"]
[null,{"$f":"IF(S47=\"x\",1,IF(SUM(B48:B55)>0,1,0))","v":1},null,{"$f":"M47","v":"033.200"},null,null,{"$f":"N47& IF(T47<>\"\",CHAR(10) & T47,\"\")","v":"Zuschlagskriterien"},null,null,null,null,null,"033.200","Zuschlagskriterien"]
[null,{"$f":"IF(S48=\"x\",1,IF(ISNUMBER(S48),S48,0))","v":1},null,null,{"$f":"O48","v":"033.210"},null,{"$f":"P48& IF(T48<>\"\",CHAR(10) & T48,\"\")","v":"Preis / PV- Leistung"},null,null,null,null,null,null,null,"033.210","Preis / PV- Leistung",null,null,"x"]
[null,0,null,null,"033.220",null,"Leistung",null,null,null,null,null,null,null,"033.220","Leistung"]
[null,1,null,null,"033.230",null,"Qualität",null,null,null,null,null,null,null,"033.230","Qualität",null,null,"x"]
[null,1,null,null,"033.240",null,"Anlagenkonzept",null,null,null,null,null,null,null,"033.240","Anlagenkonzept",null,null,"x"]
[null,0,null,null,"033.250",null,"Unterhalts- und Serviceleistungen",null,null,null,null,null,null,null,"033.250","Unterhalts- und Serviceleistungen"]
[null,0,null,null,"033.260",null,"Referenzen",null,null,null,null,null,null,null,"033.260","Referenzen"]
[null,0,null,null,"033.270",null,"Unternehmen",null,null,null,null,null,null,null,"033.270","Unternehmen"]
[null,0,null,null,"033.280",null,"Weitere",null,null,null,null,null,null,null,"033.280","Weitere"]
[null,{"$f":"IF(S56=\"x\",1,IF(SUM(B57:B61)>0,1,0))","v":1},null,{"$f":"M56","v":"033.300"},null,null,{"$f":"N56& IF(T56<>\"\",CHAR(10) & T56,\"\")","v":"Ausschlusskriterien"},null,null,null,null,null,"033.300","Ausschlusskriterien"]
[null,{"$f":"IF(S57=\"x\",1,IF(ISNUMBER(S57),S57,0))","v":1},null,null,{"$f":"O57","v":"033.310"},null,{"$f":"P57& IF(T57<>\"\",CHAR(10) & T57,\"\")","v":"Unvollständiges Leistungsverzeichnis"},null,null,null,null,null,null,null,"033.310","Unvollständiges Leistungsverzeichnis",null,null,"x"]
[null,{"$f":"IF(S58=\"x\",1,IF(ISNUMBER(S58),S58,0))","v":1},null,null,{"$f":"O58","v":"033.320"},null,"Unvollständige Unternehmerangaben",null,null,null,null,null,null,null,"033.320","Unvollständige Unternehmerangaben",null,null,"x"]
[null,{"$f":"IF(S59=\"x\",1,IF(ISNUMBER(S59),S59,0))","v":1},null,null,{"$f":"O59","v":"033.330"},null,"Unvollständige Referenzangaben",null,null,null,null,null,null,null,"033.330","Unvollständige Referenzangaben",null,null,"x"]
[null,{"$f":"IF(S60=\"x\",1,IF(ISNUMBER(S60),S60,0))","v":0},null,null,{"$f":"O60","v":"033.340"},null,"Realisierbarkeit und Termineinhaltung",null,null,null,null,null,null,null,"033.340","Realisierbarkeit und Termineinhaltung"]
[null,{"$f":"IF(S61=\"x\",1,IF(ISNUMBER(S61),S61,0))","v":0},null,null,{"$f":"O61","v":"033.350"},null,"Weitere",null,null,null,null,null,null,null,"033.350","Weitere"]
[null,{"$f":"IF(S62=\"x\",1,IF(SUM(B63)>0,1,0))","v":1},null,{"$f":"M62","v":"033.400"},null,null,{"$f":"N62& IF(T62<>\"\",CHAR(10) & T62,\"\")","v":"Verhandlungen"},null,null,null,null,null,"033.400","Verhandlungen"]
[null,{"$f":"IF(S63=\"x\",1,IF(ISNUMBER(S63),S63,0))","v":1},null,null,{"$f":"O63","v":"033.410"},null,{"$f":"P63& IF(T63<>\"\",CHAR(10) & T63,\"\")","v":"Abgebote"},null,null,null,null,null,null,null,"033.410","Abgebote",null,null,"x"]
[null,{"$f":"IF(S64=\"x\",1,IF(SUM(B65:B70)>0,1,0))","v":1},{"$f":"K64","v":"034.000"},null,null,null,{"$f":"L64& IF(T64<>\"\",CHAR(10) & T64,\"\")","v":"Ausschreibungtermine, Fristen"},null,null,null,"034.000","Ausschreibungtermine, Fristen"]
[null,{"$f":"IF(S65=\"x\",1,IF(ISNUMBER(S65),S65,0))","v":0},null,{"$f":"M65","v":"034.100"},null,null,{"$f":"N65& IF(T65<>\"\",CHAR(10) & T65,\"\")","v":"Bezug Unterlagen"},null,null,null,null,null,"034.100","Bezug Unterlagen"]
[null,1,null,"034.200",null,null,"Begehung",null,null,null,null,null,"034.200","Begehung",null,null,null,null,"x"]
[null,1,null,"034.300",null,null,"Fragestellungen, Frage Beantwortung",null,null,null,null,null,"034.300","Fragestellungen, Frage Beantwortung",null,null,null,null,"x"]
[null,1,null,"034.400",null,null,"Einreichen Angebot",null,null,null,null,null,"034.400","Einreichen Angebot",null,null,null,null,"x"]
[null,0,null,"034.500",null,null,"Angebotsöffnung, Vergabspiegel",null,null,null,null,null,"034.500","Angebotsöffnung, Vergabspiegel"]
[null,0,null,"034.600",null,null,"Vergabe",null,null,null,null,null,"034.600","Vergabe"]
[null,{"$f":"IF(S71=\"x\",1,IF(SUM(B72:B81)>0,1,0))","v":1},{"$f":"K71","v":"035.000"},null,null,null,{"$f":"L71& IF(T71<>\"\",CHAR(10) & T71,\"\")","v":"Ausschreibungsunterlagen"},null,null,null,"035.000","Ausschreibungsunterlagen"]
[null,{"$f":"IF(S72=\"x\",1,IF(ISNUMBER(S72),S72,0))","v":1},null,{"$f":"M72","v":"035.100"},null,null,{"$f":"N72& IF(T72<>\"\",CHAR(10) & T72,\"\")","v":"Allgemeine Bedingungen"},null,null,null,null,null,"035.100","Allgemeine Bedingungen",null,null,null,null,"x"]
[null,{"$f":"IF(S73=\"x\",1,IF(SUM(B74:B79)>0,1,0))","v":1},null,{"$f":"M73","v":"035.200"},null,null,"Pläne",null,null,null,null,null,"035.200","Pläne"]
[null,1,null,null,{"$f":"O74","v":"035.210"},null,{"$f":"P74& IF(T74<>\"\",CHAR(10) & T74,\"\")","v":"Situationsplan"},null,null,null,null,null,null,null,"035.210","Situationsplan",null,null,"x"]
[null,0,null,null,"035.220",null,"Situationsplan, vermasst",null,null,null,null,null,null,null,"035.220","Situationsplan, vermasst"]
[null,1,null,null,"035.230",null,"Dachaufsicht",null,null,null,null,null,null,null,"035.230","Dachaufsicht",null,null,"x"]
[null,0,null,null,"035.240",null,"Dachaufsicht, vermasst",null,null,null,null,null,null,null,"035.240","Dachaufsicht, vermasst"]
[null,1,null,null,"035.250",null,"Gebäudeschnitt",null,null,null,null,null,null,null,"035.250","Gebäudeschnitt",null,null,"x"]
[null,0,null,null,"035.260",null,"Gebäudeschnitt, vermasst",null,null,null,null,null,null,null,"035.260","Gebäudeschnitt, vermasst"]
[null,1,null,{"$f":"M80","v":"035.300"},null,null,{"$f":"N80& IF(T80<>\"\",CHAR(10) & T80,\"\")","v":"Prinzipschema"},null,null,null,null,null,"035.300","Prinzipschema",null,null,null,null,"x"]
[null,1,null,{"$f":"M81","v":"035.400"},null,null,"Fotodokumentation",null,null,null,null,null,"035.400","Fotodokumentation",null,null,null,null,"x"]
[null,{"$f":"IF(S82=\"x\",1,IF(SUM(B83:B97)>0,1,0))","v":1},{"$f":"K82","v":"036.000"},null,null,null,{"$f":"L82& IF(T82<>\"\",CHAR(10) & T82,\"\")","v":"Eingabeunterlagen"},null,null,null,"036.000","Eingabeunterlagen"]
[null,{"$f":"IF(S83=\"x\",1,IF(SUM(B84:B86)>0,1,0))","v":1},null,{"$f":"M83","v":"036.100"},null,null,{"$f":"N83& IF(T83<>\"\",CHAR(10) & T83,\"\")","v":"Pläne"},null,null,null,null,null,"036.100","Pläne",null,null,null,null,"x"]
[null,{"$f":"IF(S84=\"x\",1,IF(ISNUMBER(S84),S84,0))","v":0},null,null,{"$f":"O84","v":"036.110"},null,{"$f":"P84& IF(T84<>\"\",CHAR(10) & T84,\"\")","v":"Anlagenlayout"},null,null,null,null,null,null,null,"036.110","Anlagenlayout"]
[null,0,null,null,{"$f":"O85","v":"036.120"},null,"Schnitt Modulfeld",null,null,null,null,null,null,null,"036.120","Schnitt Modulfeld"]
[null,0,null,null,{"$f":"O86","v":"036.130"},null,"Weitere",null,null,null,null,null,null,null,"036.130","Weitere"]
[null,{"$f":"IF(S87=\"x\",1,IF(SUM(B88:B90)>0,1,0))","v":1},null,{"$f":"M87","v":"036.200"},null,null,{"$f":"N87& IF(T87<>\"\",CHAR(10) & T87,\"\")","v":"technische Dokumentation"},null,null,null,null,null,"036.200","technische Dokumentation",null,null,null,null,"x"]
[null,0,null,null,{"$f":"O88","v":"036.210"},null,{"$f":"P88& IF(T88<>\"\",CHAR(10) & T88,\"\")","v":"Prinzipschema"},null,null,null,null,null,null,null,"036.210","Prinzipschema"]
[null,0,null,null,{"$f":"O89","v":"036.220"},null,"Datenblätter Komponenten",null,null,null,null,null,null,null,"036.220","Datenblätter Komponenten"]
[null,0,null,null,{"$f":"O90","v":"036.230"},null,"Weitere",null,null,null,null,null,null,null,"036.230","Weitere"]
[null,0,null,{"$f":"M91","v":"036.300"},null,null,{"$f":"N91& IF(T91<>\"\",CHAR(10) & T91,\"\")","v":"Arbeitssicherheitskonzept"},null,null,null,null,null,"036.300","Arbeitssicherheitskonzept"]
[null,{"$f":"IF(S92=\"x\",1,IF(SUM(B93:B96)>0,1,0))","v":1},null,{"$f":"M92","v":"036.400"},null,null,"Unternehmerangaben",null,null,null,null,null,"036.400","Unternehmerangaben",null,null,null,null,"x"]
[null,0,null,null,{"$f":"O93","v":"036.410"},null,{"$f":"P93& IF(T93<>\"\",CHAR(10) & T93,\"\")","v":"Angaben zu den Eingungskriterien"},null,null,null,null,null,null,null,"036.410","Angaben zu den Eingungskriterien"]
[null,0,null,null,{"$f":"O94","v":"036.420"},null,"GAV- Bestätigung",null,null,null,null,null,null,null,"036.420","GAV- Bestätigung"]
[null,0,null,null,{"$f":"O95","v":"036.430"},null,"Bestätigung der Haftpflichtversicherung",null,null,null,null,null,null,null,"036.430","Bestätigung der Haftpflichtversicherung"]
[null,0,null,null,{"$f":"O96","v":"036.440"},null,"Weitere",null,null,null,null,null,null,null,"036.440","Weitere"]
[null,1,null,{"$f":"M97","v":"036.500"},null,null,{"$f":"N97& IF(T97<>\"\",CHAR(10) & T97,\"\")","v":"Servicevertrag"},null,null,null,null,null,"036.500","Servicevertrag",null,null,null,null,"x"]
[null,{"$f":"IF(S98=\"x\",1,IF(SUM(B99:B102)>0,1,0))","v":1},{"$f":"K98","v":"037.000"},null,null,null,{"$f":"L98& IF(T98<>\"\",CHAR(10) & T98,\"\")","v":"Sicherheitsleistungen"},null,null,null,"037.000","Sicherheitsleistungen"]
[null,{"$f":"IF(S99=\"x\",1,IF(ISNUMBER(S99),S99,0))","v":1},null,{"$f":"M99","v":"037.100"},null,null,{"$f":"N99& IF(T99<>\"\",CHAR(10) & T99,\"\")","v":"Erfüllungsgarantie"},null,null,null,null,null,"037.100","Erfüllungsgarantie",null,null,null,null,"x"]
[null,{"$f":"IF(S100=\"x\",1,IF(ISNUMBER(S100),S100,0))","v":0},null,{"$f":"M100","v":"037.200"},null,null,"Anzahlungsgarantie",null,null,null,null,null,"037.200","Anzahlungsgarantie"]
[null,{"$f":"IF(S101=\"x\",1,IF(ISNUMBER(S101),S101,0))","v":0},null,{"$f":"M101","v":"037.300"},null,null,"Gewährleistungsgarantie",null,null,null,null,null,"037.300","Gewährleistungsgarantie"]
[null,{"$f":"IF(S102=\"x\",1,IF(ISNUMBER(S102),S102,0))","v":0},null,{"$f":"M102","v":"037.400"},null,null,"Ertragsgarantie",null,null,null,null,null,"037.400","Ertragsgarantie"]
[null,{"$f":"IF(S103=\"x\",1,IF(SUM(B104:B105)>0,1,0))","v":1},{"$f":"K103","v":"038.000"},null,null,null,{"$f":"L103& IF(T103<>\"\",CHAR(10) & T103,\"\")","v":"Vorbehalte"},null,null,null,"038.000","Vorbehalte"]
[null,{"$f":"IF(S104=\"x\",1,IF(ISNUMBER(S104),S104,0))","v":1},null,{"$f":"M104","v":"038.100"},null,null,{"$f":"N104& IF(T104<>\"\",CHAR(10) & T104,\"\")","v":"Finanzierung"},null,null,null,null,null,"038.100","Finanzierung",null,null,null,null,"x"]
[null,{"$f":"IF(S105=\"x\",1,IF(ISNUMBER(S105),S105,0))","v":0},null,{"$f":"M105","v":"038.200"},null,null,"Bewilligung",null,null,null,null,null,"038.200","Bewilligung"]
[null,{"$f":"B24","v":1}]
[null,{"$f":"IF(SUM(B108:B135)>0,1,0)","v":1},{"$f":"I107","v":"040.000"},null,null,null,{"$f":"J107","v":"Vergütungsregeln"},null,"040.000","Vergütungsregeln"]
[null,{"$f":"IF(S108=\"x\",1,IF(SUM(B109:B128)>0,1,0))","v":1},{"$f":"K108","v":"041.000"},null,null,null,{"$f":"L108& IF(T108<>\"\",CHAR(10) & T108,\"\")","v":"Enthaltene Leistungen / Grundbedingungen"},null,null,null,"041.000","Enthaltene Leistungen / Grundbedingungen"]
[null,{"$f":"IF(S109=\"x\",1,IF(SUM(B110:B112)>0,1,0))","v":1},null,{"$f":"M109","v":"041.100"},null,null,{"$f":"N109& IF(T109<>\"\",CHAR(10) & T109,\"\")","v":"Planung"},null,null,null,null,null,"041.100","Planung",null,null,null,null,"x"]
[null,{"$f":"IF(S110=\"x\",1,IF(ISNUMBER(S110),S110,0))","v":0},null,null,{"$f":"O110","v":"041.110"},null,{"$f":"P110& IF(T110<>\"\",CHAR(10) & T110,\"\")","v":"Nachweis Tragfähigkeit Gebäude"},null,null,null,null,null,null,null,"041.110","Nachweis Tragfähigkeit Gebäude"]
[null,0,null,null,{"$f":"O111","v":"041.120"},null,"Zur Verfügungstellung der Notwendige Unterlagen für Drittuntnehmer für die Funktionstüchtigkeit der PV-Anlage",null,null,null,null,null,null,null,"041.120","Zur Verfügungstellung der Notwendige Unterlagen für Drittuntnehmer für die Funktionstüchtigkeit der PV-Anlage"]
[null,0,null,null,{"$f":"O112","v":"041.130"},null,"Koordination Drittunternehmer zur Sicherstellung der Funktionstüchtigkeit der PVA",null,null,null,null,null,null,null,"041.130","Koordination Drittunternehmer zur Sicherstellung der Funktionstüchtigkeit der PVA"]
[null,{"$f":"IF(S113=\"x\",1,IF(SUM(B114:B116)>0,1,0))","v":1},null,{"$f":"M113","v":"041.200"},null,null,{"$f":"N113& IF(T113<>\"\",CHAR(10) & T113,\"\")","v":"Montagekonstruktion"},null,null,null,null,null,"041.200","Montagekonstruktion",null,null,null,null,"x"]
[null,0,null,null,{"$f":"O114","v":"041.210"},null,{"$f":"P114& IF(T114<>\"\",CHAR(10) & T114,\"\")","v":"Nachweis Gebrauchstauglichkeit PV-Montagesystem"},null,null,null,null,null,null,null,"041.210","Nachweis Gebrauchstauglichkeit PV-Montagesystem"]
[null,0,null,null,{"$f":"O115","v":"041.220"},null,"Die Montagekonstruktion wird anhand des vorgegebenen Modullayouts berechnet. Bei Änderung des Layouts kann sich die Berechnung pro Leistungseinheit ändern. Der Unternehmer muss eine plausible und nachvollziehbare Neukalkulation vorlegen.",null,null,null,null,null,null,null,"041.220","Die Montagekonstruktion wird anhand des vorgegebenen Modullayouts berechnet. Bei Änderung des Layouts kann sich die Berechnung pro Leistungseinheit ändern. Der Unternehmer muss eine plausible und nachvollziehbare Neukalkulation vorlegen."]
[null,0,null,null,{"$f":"O116","v":"041.230"},null,"Bautoleranzen",null,null,null,null,null,null,null,"041.230","Bautoleranzen"]
[null,{"$f":"IF(S117=\"x\",1,IF(SUM(B118:B120)>0,1,0))","v":1},null,{"$f":"M117","v":"041.300"},null,null,{"$f":"N117& IF(T117<>\"\",CHAR(10) & T117,\"\")","v":"PV-Module"},null,null,null,null,null,"041.300","PV-Module",null,null,null,null,"x"]
[null,0,null,null,{"$f":"O118","v":"041.310"},null,{"$f":"P118& IF(T118<>\"\",CHAR(10) & T118,\"\")","v":"Garantien PV-Modul: Produktgarantie 10a, Leistungsgarantie 80% 25a"},null,null,null,null,null,null,null,"041.310","Garantien PV-Modul: Produktgarantie 10a, Leistungsgarantie 80% 25a"]
[null,0,null,null,{"$f":"O119","v":"041.320"},null,"Nachweis Gebrauchstauglichkeit PV-Modul auf Montagesystem",null,null,null,null,null,null,null,"041.320","Nachweis Gebrauchstauglichkeit PV-Modul auf Montagesystem"]
[null,0,null,null,{"$f":"O120","v":"041.330"},null,"Normkonforme Steckverbindungen am PV-Modul",null,null,null,null,null,null,null,"041.330","Normkonforme Steckverbindungen am PV-Modul"]
[null,{"$f":"IF(S121=\"x\",1,IF(SUM(B122:B126)>0,1,0))","v":1},null,{"$f":"M121","v":"041.400"},null,null,{"$f":"N121& IF(T121<>\"\",CHAR(10) & T121,\"\")","v":"Bauausführung "},null,null,null,null,null,"041.400","Bauausführung ",null,null,null,null,"x"]
[null,0,null,null,{"$f":"O122","v":"041.410"},null,{"$f":"P122& IF(T122<>\"\",CHAR(10) & T122,\"\")","v":"Witterungsbedingte Arbeitunterbrüche"},null,null,null,null,null,null,null,"041.410","Witterungsbedingte Arbeitunterbrüche"]
[null,0,null,null,{"$f":"O123","v":"041.420"},null,"Schutz vor Verschmutzung der Komponenten bis zur Inbetriebnahme",null,null,null,null,null,null,null,"041.420","Schutz vor Verschmutzung der Komponenten bis zur Inbetriebnahme"]
[null,0,null,null,{"$f":"O124","v":"041.430"},null,"Teilnahme am notwendigen Bausitzungen",null,null,null,null,null,null,null,"041.430","Teilnahme am notwendigen Bausitzungen"]
[null,0,null,null,{"$f":"O125","v":"041.440"},null,"Verschnitt von angebotenen Materialien ist einzurechnen",null,null,null,null,null,null,null,"041.440","Verschnitt von angebotenen Materialien ist einzurechnen"]
[null,0,null,null,{"$f":"O126","v":"041.450"},null,"Einmalige Instruktion",null,null,null,null,null,null,null,"041.450","Einmalige Instruktion"]
[null,{"$f":"IF(S127=\"x\",1,IF(SUM(B128)>0,1,0))","v":0},null,{"$f":"M127","v":"041.500"},null,null,{"$f":"N127& IF(T127<>\"\",CHAR(10) & T127,\"\")","v":"Zusätzliche Leistungen"},null,null,null,null,null,"041.500","Zusätzliche Leistungen"]
[null,0,null,null,{"$f":"O128","v":"041.510"},null,{"$f":"P128& IF(T128<>\"\",CHAR(10) & T128,\"\")","v":"Produktgebühren (z.B. VRG)"},null,null,null,null,null,null,null,"041.510","Produktgebühren (z.B. VRG)"]
[null,{"$f":"IF(S129=\"x\",1,IF(SUM(B130:B131)>0,1,0))","v":1},{"$f":"K129","v":"042.000"},null,null,null,{"$f":"L129& IF(T129<>\"\",CHAR(10) & T129,\"\")","v":"Währung"},null,null,null,"042.000","Währung"]
[null,{"$f":"IF(S130=\"x\",1,IF(ISNUMBER(S130),S130,0))","v":1},null,{"$f":"M130","v":"042.100"},null,null,{"$f":"N130& IF(T130<>\"\",CHAR(10) & T130,\"\")","v":"Währung der Eingabe"},null,null,null,null,null,"042.100","Währung der Eingabe",null,null,null,null,"x"]
[null,{"$f":"IF(S131=\"x\",1,IF(ISNUMBER(S131),S131,0))","v":0},null,{"$f":"M131","v":"042.200"},null,null,"Währungsrisiko",null,null,null,null,null,"042.200","Währungsrisiko"]
[null,{"$f":"IF(S132=\"x\",1,IF(SUM(B133:B135)>0,1,0))","v":1},{"$f":"K132","v":"043.000"},null,null,null,{"$f":"L132& IF(T132<>\"\",CHAR(10) & T132,\"\")","v":"Bauabzüge"},null,null,null,"043.000","Bauabzüge",null,null,null,null,null,null,"x"]
[null,{"$f":"IF(S133=\"x\",1,IF(ISNUMBER(S133),S133,0))","v":0},null,{"$f":"M133","v":"043.100"},null,null,{"$f":"N133& IF(T133<>\"\",CHAR(10) & T133,\"\")","v":"Allg. Bauabzug (Wasser, Strom, Reinigung)"},null,null,null,null,null,"043.100","Allg. Bauabzug (Wasser, Strom, Reinigung)"]
[null,{"$f":"IF(S134=\"x\",1,IF(ISNUMBER(S134),S134,0))","v":0},null,{"$f":"M134","v":"043.200"},null,null,"Reklame",null,null,null,null,null,"043.200","Reklame"]
[null,{"$f":"IF(S135=\"x\",1,IF(ISNUMBER(S135),S135,0))","v":0},null,{"$f":"M135","v":"043.300"},null,null,"Versicherungen",null,null,null,null,null,"043.300","Versicherungen"]
[null,{"$f":"B107","v":1}]
[null,{"$f":"IF(SUM(B138:B190)>0,1,0)","v":1},{"$f":"I137","v":"050.000"},null,null,null,{"$f":"J137","v":"Objektspezifische Angaben"},null,"050.000","Objektspezifische Angaben"]
[null,{"$f":"IF(S138=\"x\",1,IF(SUM(B139:B149)>0,1,0))","v":1},{"$f":"K138","v":"051.000"},null,null,null,{"$f":"L138& IF(T138<>\"\",CHAR(10) & T138,\"\")","v":"Angaben zum Bauobjekt"},null,null,null,"051.000","Angaben zum Bauobjekt"]
[null,{"$f":"IF(S139=\"x\",1,IF(ISNUMBER(S139),S139,0))","v":1},null,{"$f":"M139","v":"051.100"},null,null,{"$f":"N139& IF(T139<>\"\",CHAR(10) & T139,\"\")","v":"Adresse"},null,null,null,null,null,"051.100","Adresse",null,null,null,null,"x"]
[null,1,null,{"$f":"M140","v":"051.200"},null,null,"Höhenlage Bauobjekt",null,null,null,null,null,"051.200","Höhenlage Bauobjekt",null,null,null,null,"x"]
[null,1,null,{"$f":"M141","v":"051.300"},null,null,"Gebäudehöhe",null,null,null,null,null,"051.300","Gebäudehöhe",null,null,null,null,"x"]
[null,0,null,{"$f":"M142","v":"051.400"},null,null,"Gebäudeabmessungen",null,null,null,null,null,"051.400","Gebäudeabmessungen"]
[null,{"$f":"IF(S143=\"x\",1,IF(SUM(B144)>0,1,0))","v":1},null,{"$f":"M143","v":"051.500"},null,null,"Dachaufbau",null,null,null,null,null,"051.500","Dachaufbau",null,null,null,null,"x"]
[null,1,null,null,{"$f":"O144","v":"051.510"},null,{"$f":"P144& IF(T144<>\"\",CHAR(10) & T144,\"\")","v":"Max. Punktlast Dach bei Flachdach"},null,null,null,null,null,null,null,"051.510","Max. Punktlast Dach bei Flachdach",null,null,"x"]
[null,1,null,{"$f":"M145","v":"051.600"},null,null,{"$f":"N145& IF(T145<>\"\",CHAR(10) & T145,\"\")","v":"Dachneigung"},null,null,null,null,null,"051.600","Dachneigung",null,null,null,null,"x"]
[null,{"$f":"IF(S146=\"x\",1,IF(SUM(B147:B148)>0,1,0))","v":1},null,{"$f":"M146","v":"051.700"},null,null,"Gebäudestatik",null,null,null,null,null,"051.700","Gebäudestatik"]
[null,0,null,null,{"$f":"O147","v":"051.710"},null,{"$f":"P147& IF(T147<>\"\",CHAR(10) & T147,\"\")","v":"Nutzervereinbarung Dach"},null,null,null,null,null,null,null,"051.710","Nutzervereinbarung Dach"]
[null,1,null,null,{"$f":"O148","v":"051.720"},null,"Angabe Lastreserve Dach",null,null,null,null,null,null,null,"051.720","Angabe Lastreserve Dach",null,null,"x"]
[null,0,null,{"$f":"M149","v":"051.800"},null,null,{"$f":"N149& IF(T149<>\"\",CHAR(10) & T149,\"\")","v":"Angabe max. temporäre Dachbelastung"},null,null,null,null,null,"051.800","Angabe max. temporäre Dachbelastung"]
[null,{"$f":"IF(S150=\"x\",1,IF(SUM(B151:B165)>0,1,0))","v":1},{"$f":"K150","v":"052.000"},null,null,null,{"$f":"L150& IF(T150<>\"\",CHAR(10) & T150,\"\")","v":"Umfang der Arbeiten"},null,null,null,"052.000","Umfang der Arbeiten",null,null,null,null,null,null,"x"]
[null,1,null,{"$f":"M151","v":"052.100"},null,null,{"$f":"N151& IF(T151<>\"\",CHAR(10) & T151,\"\")","v":"Beschreibung PVA"},null,null,null,null,null,"052.100","Beschreibung PVA",null,null,null,null,"x"]
[null,{"$f":"IF(S152=\"x\",1,IF(SUM(B153:B154)>0,1,0))","v":1},null,{"$f":"M152","v":"052.200"},null,null,"Beschreibung Leitungsführung",null,null,null,null,null,"052.200","Beschreibung Leitungsführung",null,null,null,null,"x"]
[null,0,null,null,{"$f":"O153","v":"052.210"},null,{"$f":"P153& IF(T153<>\"\",CHAR(10) & T153,\"\")","v":"Kabelweg innen"},null,null,null,null,null,null,null,"052.210","Kabelweg innen"]
[null,0,null,null,{"$f":"O154","v":"052.220"},null,"Kabelweg aussen",null,null,null,null,null,null,null,"052.220","Kabelweg aussen"]
[null,{"$f":"IF(S155=\"x\",1,IF(SUM(B156:B157)>0,1,0))","v":1},null,{"$f":"M155","v":"052.300"},null,null,{"$f":"N155& IF(T155<>\"\",CHAR(10) & T155,\"\")","v":"Beschreibung WR-Standort"},null,null,null,null,null,"052.300","Beschreibung WR-Standort"]
[null,0,null,null,{"$f":"O156","v":"052.310"},null,{"$f":"P156& IF(T156<>\"\",CHAR(10) & T156,\"\")","v":"WR Aufstellung innen"},null,null,null,null,null,null,null,"052.310","WR Aufstellung innen"]
[null,1,null,null,{"$f":"O157","v":"052.320"},null,"WR Aufstellung aussen",null,null,null,null,null,null,null,"052.320","WR Aufstellung aussen",null,null,"x"]
[null,1,null,{"$f":"M158","v":"052.400"},null,null,{"$f":"N158& IF(T158<>\"\",CHAR(10) & T158,\"\")","v":"Beschreibung Netzeinbindung"},null,null,null,null,null,"052.400","Beschreibung Netzeinbindung",null,null,null,null,"x"]
[null,{"$f":"IF(S159=\"x\",1,IF(SUM(B160:B165)>0,1,0))","v":1},null,{"$f":"M159","v":"052.500"},null,null,{"$f":"N159& IF(T159<>\"\",CHAR(10) & T159,\"\")","v":"Beschreibung Erdungs-, Blitzschutz- und Überspannungsschutzkonzept"},null,null,null,null,null,"052.500","Beschreibung Erdungs-, Blitzschutz- und Überspannungsschutzkonzept"]
[null,{"$f":"IF(S160=\"x\",1,IF(SUM(B161:B163)>0,1,0))","v":1},null,null,{"$f":"O160","v":"052.510"},null,{"$f":"N160& IF(T160<>\"\",CHAR(10) & T160,\"\")","v":""},null,null,null,null,null,null,null,"052.510","Gebäude mit Blitzschutz",null,null,"x"]
[null,0,null,null,null,{"$f":"Q161","v":"052.511"},{"$f":"R161& IF(T161<>\"\",CHAR(10) & T161,\"\")","v":"Gebäude mit Blitzschutzklasse I"},null,null,null,null,null,null,null,null,null,"052.511","Gebäude mit Blitzschutzklasse I"]
[null,0,null,null,null,{"$f":"Q162","v":"052.512"},{"$f":"R162& IF(T162<>\"\",CHAR(10) & T162,\"\")","v":"Gebäude mit Blitzschutzklasse II"},null,null,null,null,null,null,null,null,null,"052.512","Gebäude mit Blitzschutzklasse II"]
[null,0,null,null,null,{"$f":"Q163","v":"052.513"},"Gebäude mit Blitzschutzklasse III",null,null,null,null,null,null,null,null,null,"052.513","Gebäude mit Blitzschutzklasse III"]
[null,0,null,null,{"$f":"O164","v":"052.520"},null,{"$f":"N164& IF(T164<>\"\",CHAR(10) & T164,\"\")","v":""},null,null,null,null,null,null,null,"052.520","Gebäude ohne Blitzschutz"]
[null,0,null,null,{"$f":"O165","v":"052.530"},null,"",null,null,null,null,null,null,null,"052.530","Erdungskonzept"]
[null,{"$f":"IF(S166=\"x\",1,IF(SUM(B167:B174)>0,1,0))","v":1},{"$f":"K166","v":"053.000"},null,null,null,{"$f":"L166& IF(T166<>\"\",CHAR(10) & T166,\"\")","v":"Infrastruktur"},null,null,null,"053.000","Infrastruktur"]
[null,1,null,{"$f":"M167","v":"053.100"},null,null,{"$f":"N167& IF(T167<>\"\",CHAR(10) & T167,\"\")","v":"Zufahrt"},null,null,null,null,null,"053.100","Zufahrt",null,null,null,null,"x"]
[null,1,null,{"$f":"M168","v":"053.200"},null,null,"Parkplätze",null,null,null,null,null,"053.200","Parkplätze",null,null,null,null,"x"]
[null,0,null,{"$f":"M169","v":"053.300"},null,null,"Lagerplätze",null,null,null,null,null,"053.300","Lagerplätze"]
[null,{"$f":"IF(S170=\"x\",1,IF(SUM(B171)>0,1,0))","v":1},null,{"$f":"M170","v":"053.400"},null,null,"Aufzugseinrichtungen",null,null,null,null,null,"053.400","Aufzugseinrichtungen",null,null,null,null,"x"]
[null,{"$f":"IF(S171=\"x\",1,IF(ISNUMBER(S171),S171,0))","v":0},null,null,{"$f":"O171","v":"053.410"},null,{"$f":"P171& IF(T171<>\"\",CHAR(10) & T171,\"\")","v":"Angabe Bodenbelastbarkeit"},null,null,null,null,null,null,null,"053.410","Angabe Bodenbelastbarkeit"]
[null,0,null,{"$f":"M172","v":"053.500"},null,null,{"$f":"N172& IF(T172<>\"\",CHAR(10) & T172,\"\")","v":"Elektroanschluss"},null,null,null,null,null,"053.500","Elektroanschluss"]
[null,0,null,{"$f":"M173","v":"053.600"},null,null,"Sanitäre Einrichtungen",null,null,null,null,null,"053.600","Sanitäre Einrichtungen"]
[null,0,null,{"$f":"M174","v":"053.700"},null,null,"Unterkünfte",null,null,null,null,null,"053.700","Unterkünfte"]
[null,{"$f":"IF(S175=\"x\",1,IF(SUM(B176:B180)>0,1,0))","v":1},{"$f":"K175","v":"054.000"},null,null,null,{"$f":"L175& IF(T175<>\"\",CHAR(10) & T175,\"\")","v":"Spezielle Bestimmungen Baustelle"},null,null,null,"054.000","Spezielle Bestimmungen Baustelle"]
[null,0,null,{"$f":"M176","v":"054.100"},null,null,{"$f":"N176& IF(T176<>\"\",CHAR(10) & T176,\"\")","v":"Arbeitszeiten"},null,null,null,null,null,"054.100","Arbeitszeiten"]
[null,0,null,{"$f":"M177","v":"054.200"},null,null,"Zugangskontrollen",null,null,null,null,null,"054.200","Zugangskontrollen"]
[null,0,null,{"$f":"M178","v":"054.300"},null,null,"QS-System",null,null,null,null,null,"054.300","QS-System"]
[null,1,null,{"$f":"M179","v":"054.400"},null,null,"Abfall, Entsorgung",null,null,null,null,null,"054.400","Abfall, Entsorgung",null,null,null,null,"x"]
[null,0,null,{"$f":"M180","v":"054.500"},null,null,"Bauen ökologisch, Ethikcodex",null,null,null,null,null,"054.500","Bauen ökologisch, Ethikcodex"]
[null,{"$f":"IF(S181=\"x\",1,IF(SUM(B182:B190)>0,1,0))","v":1},{"$f":"K181","v":"055.000"},null,null,null,{"$f":"L181& IF(T181<>\"\",CHAR(10) & T181,\"\")","v":"Sicherheit"},null,null,null,"055.000","Sicherheit"]
[null,{"$f":"IF(S182=\"x\",1,IF(SUM(B183:B187)>0,1,0))","v":1},null,{"$f":"M182","v":"055.100"},null,null,"Arbeitssicherheit temporär (Bestand)",null,null,null,null,null,"055.100","Arbeitssicherheit temporär (Bestand)"]
[null,1,null,null,{"$f":"O183","v":"055.110"},null,{"$f":"P183& IF(T183<>\"\",CHAR(10) & T183,\"\")","v":"Geländer Dachrand"},null,null,null,null,null,null,null,"055.110","Geländer Dachrand",null,null,"x"]
[null,0,null,null,{"$f":"O184","v":"055.120"},null,"Gerüst",null,null,null,null,null,null,null,"055.120","Gerüst"]
[null,0,null,null,{"$f":"O185","v":"055.130"},null,"Zonenabschrankung",null,null,null,null,null,null,null,"055.130","Zonenabschrankung"]
[null,0,null,null,{"$f":"O186","v":"055.140"},null,"Oblichtsicherung",null,null,null,null,null,null,null,"055.140","Oblichtsicherung"]
[null,1,null,null,{"$f":"O187","v":"055.150"},null,"Gerüstturm",null,null,null,null,null,null,null,"055.150","Gerüstturm",null,null,"x"]
[null,{"$f":"IF(S188=\"x\",1,IF(SUM(B189:B190)>0,1,0))","v":0},null,{"$f":"M188","v":"055.200"},null,null,{"$f":"N188& IF(T188<>\"\",CHAR(10) & T188,\"\")","v":"Arbeitssicherheit permanent (Bestand)"},null,null,null,null,null,"055.200","Arbeitssicherheit permanent (Bestand)"]
[null,0,null,null,{"$f":"O189","v":"055.210"},null,{"$f":"P189& IF(T189<>\"\",CHAR(10) & T189,\"\")","v":"Dachzugang"},null,null,null,null,null,null,null,"055.210","Dachzugang"]
[null,0,null,null,{"$f":"O190","v":"055.220"},null,"Arbeitssicherheitskonzept",null,null,null,null,null,null,null,"055.220","Arbeitssicherheitskonzept"]
[null,{"$f":"B137","v":1}]
[null,{"$f":"IF(SUM(B193:B203)>0,1,0)","v":1},{"$f":"I192","v":"060.000"},null,null,null,{"$f":"J192","v":"Bauablauf, Fristen"},null,"060.000","Bauablauf, Fristen"]
[null,{"$f":"IF(SUM(B194:B195)>0,1,0)","v":1},{"$f":"K193","v":"061.000"},null,null,null,{"$f":"L193& IF(T193<>\"\",CHAR(10) & T193,\"\")","v":"Bauablauf"},null,null,null,"061.000","Bauablauf"]
[null,{"$f":"IF(S194=\"x\",1,IF(ISNUMBER(S194),S194,0))","v":1},null,{"$f":"M194","v":"061.100"},null,null,{"$f":"N194& IF(T194<>\"\",CHAR(10) & T194,\"\")","v":"Bauprogramm"},null,null,null,null,null,"061.100","Bauprogramm",null,null,null,null,"x"]
[null,0,null,{"$f":"M195","v":"061.200"},null,null,"Bauphasen (Etappierung)",null,null,null,null,null,"061.200","Bauphasen (Etappierung)"]
[null,{"$f":"IF(SUM(B197:B199)>0,1,0)","v":1},{"$f":"K196","v":"062.000"},null,null,null,{"$f":"L196& IF(T196<>\"\",CHAR(10) & T196,\"\")","v":"Termine, Fristen"},null,null,null,"062.000","Termine, Fristen"]
[null,1,null,{"$f":"M197","v":"062.100"},null,null,{"$f":"N197& IF(T197<>\"\",CHAR(10) & T197,\"\")","v":"Baubeginn"},null,null,null,null,null,"062.100","Baubeginn",null,null,null,null,"x"]
[null,1,null,{"$f":"M198","v":"062.200"},null,null,"Inbetriebnahme",null,null,null,null,null,"062.200","Inbetriebnahme",null,null,null,null,"x"]
[null,0,null,{"$f":"M199","v":"062.300"},null,null,"Abnahme",null,null,null,null,null,"062.300","Abnahme"]
[null,{"$f":"IF(SUM(B201:B203)>0,1,0)","v":1},{"$f":"K200","v":"063.000"},null,null,null,{"$f":"L200& IF(T200<>\"\",CHAR(10) & T200,\"\")","v":"Prämien, Strafen"},null,null,null,"063.000","Prämien, Strafen"]
[null,0,null,{"$f":"M201","v":"063.100"},null,null,{"$f":"N201& IF(T201<>\"\",CHAR(10) & T201,\"\")","v":"Prämien"},null,null,null,null,null,"063.100","Prämien"]
[null,1,null,{"$f":"M202","v":"063.200"},null,null,"Konventionalstrafen",null,null,null,null,null,"063.200","Konventionalstrafen",null,null,null,null,"x"]
[null,0,null,{"$f":"M203","v":"063.300"},null,null,"Streiterledigung, Schlichtung",null,null,null,null,null,"063.300","Streiterledigung, Schlichtung"]
[null,{"$f":"B192","v":1}]
[null,1,{"$f":"I205","v":"070.000"},null,null,null,{"$f":"J205","v":"Schnittstellen, Zuständigkeiten (Schnittstellenpapier)"},null,"070.000","Schnittstellen, Zuständigkeiten (Schnittstellenpapier)"]
[null,{"$f":"IF(SUM(B207:B210)>0,1,0)","v":1},{"$f":"K206","v":"071.000"},null,null,null,{"$f":"L206& IF(T206<>\"\",CHAR(10) & T206,\"\")","v":"Schnittstellen elektrisch"},null,null,null,"071.000","Schnittstellen elektrisch",null,null,null,null,null,null,"x"]
[null,{"$f":"IF(S207=\"x\",1,IF(ISNUMBER(S207),S207,0))","v":0},null,{"$f":"M207","v":"071.100"},null,null,{"$f":"N207& IF(T207<>\"\",CHAR(10) & T207,\"\")","v":"Bis und mit WR"},null,null,null,null,null,"071.100","Bis und mit WR"]
[null,0,null,{"$f":"M208","v":"071.200"},null,null,"Bis und mit UV Solar",null,null,null,null,null,"071.200","Bis und mit UV Solar"]
[null,1,null,{"$f":"M209","v":"071.300"},null,null,"Netzeinbindung komplett",null,null,null,null,null,"071.300","Netzeinbindung komplett",null,null,null,null,"x"]
[null,1,null,{"$f":"M210","v":"071.400"},null,null,"Schnittstelle Blitzschutz",null,null,null,null,null,"071.400","Schnittstelle Blitzschutz",null,null,null,null,"x"]
[null,1,{"$f":"K211","v":"072.000"},null,null,null,{"$f":"L211& IF(T211<>\"\",CHAR(10) & T211,\"\")","v":"Schnittstellen mechanisch"},null,null,null,"072.000","Schnittstellen mechanisch",null,null,null,null,null,null,"x"]
[null,0,{"$f":"K212","v":"073.000"},null,null,null,"Schnittstellen administrativ",null,null,null,"073.000","Schnittstellen administrativ"]
[null,{"$f":"B205","v":1}]
[null,{"$f":"IF(SUM(B215:B226)>0,1,0)","v":1},{"$f":"I214","v":"080.000"},null,null,null,{"$f":"J214","v":"Versicherungen, Abrechnung"},null,"080.000","Versicherungen, Abrechnung"]
[null,{"$f":"IF(SUM(B216:B217)>0,1,0)","v":1},{"$f":"K215","v":"081.000"},null,null,null,{"$f":"L215& IF(T215<>\"\",CHAR(10) & T215,\"\")","v":"Versicherungen Bauherr"},null,null,null,"081.000","Versicherungen Bauherr"]
[null,{"$f":"IF(S216=\"x\",1,IF(ISNUMBER(S216),S216,0))","v":0},null,{"$f":"M216","v":"081.100"},null,null,{"$f":"N216& IF(T216<>\"\",CHAR(10) & T216,\"\")","v":"Bauherrenhaftpflichtversicherung"},null,null,null,null,null,"081.100","Bauherrenhaftpflichtversicherung"]
[null,1,null,{"$f":"M217","v":"081.200"},null,null,"Bauwesenversicherung",null,null,null,null,null,"081.200","Bauwesenversicherung",null,null,null,null,"x"]
[null,{"$f":"IF(SUM(B219:B221)>0,1,0)","v":1},{"$f":"K218","v":"082.000"},null,null,null,{"$f":"L218& IF(T218<>\"\",CHAR(10) & T218,\"\")","v":"Versicherungen Unternehmer"},null,null,null,"082.000","Versicherungen Unternehmer"]
[null,0,null,{"$f":"M219","v":"082.100"},null,null,{"$f":"N219& IF(T219<>\"\",CHAR(10) & T219,\"\")","v":"Montageversicherung"},null,null,null,null,null,"082.100","Montageversicherung"]
[null,1,null,{"$f":"M220","v":"082.200"},null,null,"Unternehmerhaftpflichtversicherung",null,null,null,null,null,"082.200","Unternehmerhaftpflichtversicherung",null,null,null,null,"x"]
[null,0,null,{"$f":"M221","v":"082.300"},null,null,"Montagehaftpflichtversicherung",null,null,null,null,null,"082.300","Montagehaftpflichtversicherung"]
[null,{"$f":"IF(SUM(B223:B224)>0,1,0)","v":1},{"$f":"K222","v":"083.000"},null,null,null,{"$f":"L222& IF(T222<>\"\",CHAR(10) & T222,\"\")","v":"Abechnung"},null,null,null,"083.000","Abechnung"]
[null,1,null,{"$f":"M223","v":"083.100"},null,null,{"$f":"N223& IF(T223<>\"\",CHAR(10) & T223,\"\")","v":"Zahlungsplan"},null,null,null,null,null,"083.100","Zahlungsplan",null,null,null,null,"x"]
[null,0,null,{"$f":"M224","v":"083.200"},null,null,"Zahlungsfristen",null,null,null,null,null,"083.200","Zahlungsfristen"]
[null,{"$f":"IF(SUM(B226)>0,1,0)","v":0},{"$f":"K225","v":"084.000"},null,null,null,{"$f":"L225& IF(T225<>\"\",CHAR(10) & T225,\"\")","v":"Regiearbeiten"},null,null,null,"084.000","Regiearbeiten"]
[null,0,null,{"$f":"M226","v":"084.100"},null,null,{"$f":"N226& IF(T226<>\"\",CHAR(10) & T226,\"\")","v":"Regiebedingungen"},null,null,null,null,null,"084.100","Regiebedingungen"]

{"sheet":"100 PV- Module","index":3,"n_rows":77,"n_cols":52,"rows_kept":77,"cut":false,"hidden":false,"merged":[[1,6,1,7],[3,6,3,7],[3,8,3,9],[2,6,2,9],[0,19,0,51]]}
[null,null,null,null,null,null,null,null,null,null,null,null,null,null,null,null,null,null,null,"AUSBLENDEN"]
[null,null,null,null,"Ausblenden",null,"Strukturebene 1:",null,100,"PV- Module"]
[null,null,null,null,null,null,"Verbindlich"]
[null,"Show","Fill","SOQ-Nr.","Beschreibung","Einheit","Strukturebene 2",null,"Strukturebene 3",null,"Leistungs-Einheit","Position Hinzufügen","E- Box",null,null,null,null,null,null,"E-Box","Stk. ","Modul","lfm","m2","m3","Std.","Monate","Jahre","kWp","pau",null,"Pos1","Pos2","Pos3","Pos4","Pos5","Pos6","Pos7","Pos8","Pos9","Pos10",null,"Pos1","Pos2","Pos3","Pos4","Pos5","Pos6","Pos7","Pos8","Pos9","Pos10"]
[]
[null,{"$f":"IF(SUM(B7:B12)>0,1,0)","v":1},{"$f":"IF(L6=\"x\",1,IF(ISNUMBER(L6),1,0))","v":0},{"$f":"G6","v":"110.000"},{"$f":"H6","v":"Glas/Folie mit Rahmen, Aufdach"},{"$f":"IF(C6=1,K6,\"\")","v":""},"110.000","Glas/Folie mit Rahmen, Aufdach",null,null,null,null,null,null,null,null,null,null,null,null,null,null,null,null,null,null,null,null,null,null,null,{"$f":"\nIF(U6=\"x\",U$4,\nIF(V6=\"x\",V$4,\nIF(W6=\"x\",W$4,\nIF(X6=\"x\",X$4,\nIF(Y6=\"x\",Y$4,\nIF(Z6=\"x\",Z$4,\nIF(AA6=\"x\",AA$4,\nIF(AB6=\"x\",AB$4,\nIF(AC6=\"x\",AC$4,\nIF(AD6=\"x\",AD$4,\n\"\"))))))))))","v":""},{"$f":"\nIF(V6=\"x\",V$4,\nIF(W6=\"x\",W$4,\nIF(X6=\"x\",X$4,\nIF(Y6=\"x\",Y$4,\nIF(Z6=\"x\",Z$4,\nIF(AA6=\"x\",AA$4,\nIF(AB6=\"x\",AB$4,\nIF(AC6=\"x\",AC$4,\nIF(AD6=\"x\",AD$4,\n\"\")))))))))","v":""},{"$f":"\nIF(W6=\"x\",W$4,\nIF(X6=\"x\",X$4,\nIF(Y6=\"x\",Y$4,\nIF(Z6=\"x\",Z$4,\nIF(AA6=\"x\",AA$4,\nIF(AB6=\"x\",AB$4,\nIF(AC6=\"x\",AC$4,\nIF(AD6=\"x\",AD$4,\n\"\"))))))))","v":""},{"$f":"\nIF(X6=\"x\",X$4,\nIF(Y6=\"x\",Y$4,\nIF(Z6=\"x\",Z$4,\nIF(AA6=\"x\",AA$4,\nIF(AB6=\"x\",AB$4,\nIF(AC6=\"x\",AC$4,\nIF(AD6=\"x\",AD$4,\n\"\")))))))","v":""},{"$f":"\nIF(Y6=\"x\",Y$4,\nIF(Z6=\"x\",Z$4,\nIF(AA6=\"x\",AA$4,\nIF(AB6=\"x\",AB$4,\nIF(AC6=\"x\",AC$4,\nIF(AD6=\"x\",AD$4,\n\"\"))))))","v":""},{"$f":"\nIF(Z6=\"x\",Z$4,\nIF(AA6=\"x\",AA$4,\nIF(AB6=\"x\",AB$4,\nIF(AC6=\"x\",AC$4,\nIF(AD6=\"x\",AD$4,\n\"\")))))","v":""},{"$f":"\nIF(AA6=\"x\",AA$4,\nIF(AB6=\"x\",AB$4,\nIF(AC6=\"x\",AC$4,\nIF(AD6=\"x\",AD$4,\n\"\"))))","v":""},{"$f":"\nIF(AB6=\"x\",AB$4,\nIF(AC6=\"x\",AC$4,\nIF(AD6=\"x\",AD$4,\n\"\")))","v":""},{"$f":"\nIF(AC6=\"x\",AC$4,\nIF(AD6=\"x\",AD$4,\n\"\"))","v":""},{"$f":"\nIF(AD6=\"x\",AD$4,\n\"\")","v":""},null,{"$f":"AF6","v":""},{"$f":"IF(AQ6=\"\",\"\",\nIF(AQ6<>$AF6,$AF6,\nIF(AQ6<>$AG6,$AG6,\nIF(AQ6<>$AH6,$AH6,\nIF(AQ6<>$AI6,$AI6,\nIF(AQ6<>$AJ6,$AJ6,\nIF(AQ6<>$AK6,$AK6,\nIF(AQ6<>$AL6,$AL6,\nIF(AQ6<>$AM6,$AM6,\nIF(AQ6<>$AN6,$AN6,\nIF(AQ6<>$AO6,$AO6,\n\"\")))))))))))","v":""},{"$f":"IF(AR6=\"\",\"\",\nIF(AND(AR6<>$AF6,AQ6<>$AF6),$AF6,\nIF(AND(AR6<>$AG6,AQ6<>$AG6),$AG6,\nIF(AND(AR6<>$AH6,AQ6<>$AH6),$AH6,\nIF(AND(AR6<>$AI6,AQ6<>$AI6),$AI6,\nIF(AND(AR6<>$AJ6,AQ6<>$AJ6),$AJ6,\nIF(AND(AR6<>$AK6,AQ6<>$AK6),$AK6,\nIF(AND(AR6<>$AL6,AQ6<>$AL6),$AL6,\nIF(AND(AR6<>$AM6,AQ6<>$AM6),$AM6,\nIF(AND(AR6<>$AN6,AQ6<>$AN6),$AN6,\nIF(AND(AR6<>$AO6,AQ6<>$AO6),$AO6,\n\"\")))))))))))","v":""},{"$f":"IF(AS6=\"\",\"\",\nIF(AND(AQ6<>$AF6,AS6<>$AF6,AR6<>$AF6),$AF6,\nIF(AND(AQ6<>$AG6,AS6<>$AG6,AR6<>$AG6),$AG6,\nIF(AND(AQ6<>$AH6,AS6<>$AH6,AR6<>$AH6),$AH6,\nIF(AND(AQ6<>$AI6,AS6<>$AI6,AR6<>$AI6),$AI6,\nIF(AND(AQ6<>$AJ6,AS6<>$AJ6,AR6<>$AJ6),$AJ6,\nIF(AND(AQ6<>$AK6,AS6<>$AK6,AR6<>$AK6),$AK6,\nIF(AND(AQ6<>$AL6,AS6<>$AL6,AR6<>$AL6),$AL6,\nIF(AND(AQ6<>$AM6,AS6<>$AM6,AR6<>$AM6),$AM6,\nIF(AND(AQ6<>$AN6,AS6<>$AN6,AR6<>$AN6),$AN6,\nIF(AND(AQ6<>$AO6,AS6<>$AO6,AR6<>$AO6),$AO6,\n\"\")))))))))))","v":""},{"$f":"IF(AT6=\"\",\"\",\nIF(AND(AQ6<>$AF6,AR6<>$AF6,AT6<>$AF6,AS6<>$AF6),$AF6,\nIF(AND(AQ6<>$AG6,AR6<>$AG6,AT6<>$AG6,AS6<>$AG6),$AG6,\nIF(AND(AQ6<>$AH6,AR6<>$AH6,AT6<>$AH6,AS6<>$AH6),$AH6,\nIF(AND(AQ6<>$AI6,AR6<>$AI6,AT6<>$AI6,AS6<>$AI6),$AI6,\nIF(AND(AQ6<>$AJ6,AR6<>$AJ6,AT6<>$AJ6,AS6<>$AJ6),$AJ6,\nIF(AND(AQ6<>$AK6,AR6<>$AK6,AT6<>$AK6,AS6<>$AK6),$AK6,\nIF(AND(AQ6<>$AL6,AR6<>$AL6,AT6<>$AL6,AS6<>$AL6),$AL6,\nIF(AND(AQ6<>$AM6,AR6<>$AM6,AT6<>$AM6,AS6<>$AM6),$AM6,\nIF(AND(AQ6<>$AN6,AR6<>$AN6,AT6<>$AN6,AS6<>$AN6),$AN6,\nIF(AND(AQ6<>$AO6,AR6<>$AO6,AT6<>$AO6,AS6<>$AO6),$AO6,\n\"\")))))))))))","v":""},{"$f":"IF(AU6=\"\",\"\",\nIF(AND(AQ6<>$AF6,AR6<>$AF6,AS6<>$AF6,AU6<>$AF6,AT6<>$AF6),$AF6,\nIF(AND(AQ6<>$AG6,AR6<>$AG6,AS6<>$AG6,AU6<>$AG6,AT6<>$AG6),$AG6,\nIF(AND(AQ6<>$AH6,AR6<>$AH6,AS6<>$AH6,AU6<>$AH6,AT6<>$AH6),$AH6,\nIF(AND(AQ6<>$AI6,AR6<>$AI6,AS6<>$AI6,AU6<>$AI6,AT6<>$AI6),$AI6,\nIF(AND(AQ6<>$AJ6,AR6<>$AJ6,AS6<>$AJ6,AU6<>$AJ6,AT6<>$AJ6),$AJ6,\nIF(AND(AQ6<>$AK6,AR6<>$AK6,AS6<>$AK6,AU6<>$AK6,AT6<>$AK6),$AK6,\nIF(AND(AQ6<>$AL6,AR6<>$AL6,AS6<>$AL6,AU6<>$AL6,AT6<>$AL6),$AL6,\nIF(AND(AQ6<>$AM6,AR6<>$AM6,AS6<>$AM6,AU6<>$AM6,AT6<>$AM6),$AM6,\nIF(AND(AQ6<>$AN6,AR6<>$AN6,AS6<>$AN6,AU6<>$AN6,AT6<>$AN6),$AN6,\nIF(AND(AQ6<>$AO6,AR6<>$AO6,AS6<>$AO6,AU6<>$AO6,AT6<>$AO6),$AO6,\n\"\")))))))))))","v":""},{"$f":"IF(AV6=\"\",\"\",\nIF(AND(AQ6<>$AF6,AR6<>$AF6,AS6<>$AF6,AT6<>$AF6,AV6<>$AF6,AU6<>$AF6),$AF6,\nIF(AND(AQ6<>$AG6,AR6<>$AG6,AS6<>$AG6,AT6<>$AG6,AV6<>$AG6,AU6<>$AG6),$AG6,\nIF(AND(AQ6<>$AH6,AR6<>$AH6,AS6<>$AH6,AT6<>$AH6,AV6<>$AH6,AU6<>$AH6),$AH6,\nIF(AND(AQ6<>$AI6,AR6<>$AI6,AS6<>$AI6,AT6<>$AI6,AV6<>$AI6,AU6<>$AI6),$AI6,\nIF(AND(AQ6<>$AJ6,AR6<>$AJ6,AS6<>$AJ6,AT6<>$AJ6,AV6<>$AJ6,AU6<>$AJ6),$AJ6,\nIF(AND(AQ6<>$AK6,AR6<>$AK6,AS6<>$AK6,AT6<>$AK6,AV6<>$AK6,AU6<>$AK6),$AK6,\nIF(AND(AQ6<>$AL6,AR6<>$AL6,AS6<>$AL6,AT6<>$AL6,AV6<>$AL6,AU6<>$AL6),$AL6,\nIF(AND(AQ6<>$AM6,AR6<>$AM6,AS6<>$AM6,AT6<>$AM6,AV6<>$AM6,AU6<>$AM6),$AM6,\nIF(AND(AQ6<>$AN6,AR6<>$AN6,AS6<>$AN6,AT6<>$AN6,AV6<>$AN6,AU6<>$AN6),$AN6,\nIF(AND(AQ6<>$AO6,AR6<>$AO6,AS6<>$AO6,AT6<>$AO6,AV6<>$AO6,AU6<>$AO6),$AO6,\n\"\")))))))))))","v":""},{"$f":"IF(AW6=\"\",\"\",\nIF(AND(AQ6<>$AF6,AR6<>$AF6,AS6<>$AF6,AT6<>$AF6,AU6<>$AF6,AW6<>$AF6,AV6<>$AF6),$AF6,\nIF(AND(AQ6<>$AG6,AR6<>$AG6,AS6<>$AG6,AT6<>$AG6,AU6<>$AG6,AW6<>$AG6,AV6<>$AG6),$AG6,\nIF(AND(AQ6<>$AH6,AR6<>$AH6,AS6<>$AH6,AT6<>$AH6,AU6<>$AH6,AW6<>$AH6,AV6<>$AH6),$AH6,\nIF(AND(AQ6<>$AI6,AR6<>$AI6,AS6<>$AI6,AT6<>$AI6,AU6<>$AI6,AW6<>$AI6,AV6<>$AI6),$AI6,\nIF(AND(AQ6<>$AJ6,AR6<>$AJ6,AS6<>$AJ6,AT6<>$AJ6,AU6<>$AJ6,AW6<>$AJ6,AV6<>$AJ6),$AJ6,\nIF(AND(AQ6<>$AK6,AR6<>$AK6,AS6<>$AK6,AT6<>$AK6,AU6<>$AK6,AW6<>$AK6,AV6<>$AK6),$AK6,\nIF(AND(AQ6<>$AL6,AR6<>$AL6,AS6<>$AL6,AT6<>$AL6,AU6<>$AL6,AW6<>$AL6,AV6<>$AL6),$AL6,\nIF(AND(AQ6<>$AM6,AR6<>$AM6,AS6<>$AM6,AT6<>$AM6,AU6<>$AM6,AW6<>$AM6,AV6<>$AM6),$AM6,\nIF(AND(AQ6<>$AN6,AR6<>$AN6,AS6<>$AN6,AT6<>$AN6,AU6<>$AN6,AW6<>$AN6,AV6<>$AN6),$AN6,\nIF(AND(AQ6<>$AO6,AR6<>$AO6,AS6<>$AO6,AT6<>$AO6,AU6<>$AO6,AW6<>$AO6,AV6<>$AO6),$AO6,\n\"\")))))))))))","v":""},{"$f":"IF(AX6=\"\",\"\",\nIF(AND(AQ6<>$AF6,AR6<>$AF6,AS6<>$AF6,AT6<>$AF6,AU6<>$AF6,AV6<>$AF6,AX6<>$AF6,AW6<>$AF6),$AF6,\nIF(AND(AQ6<>$AG6,AR6<>$AG6,AS6<>$AG6,AT6<>$AG6,AU6<>$AG6,AV6<>$AG6,AX6<>$AG6,AW6<>$AG6),$AG6,\nIF(AND(AQ6<>$AH6,AR6<>$AH6,AS6<>$AH6,AT6<>$AH6,AU6<>$AH6,AV6<>$AH6,AX6<>$AH6,AW6<>$AH6),$AH6,\nIF(AND(AQ6<>$AI6,AR6<>$AI6,AS6<>$AI6,AT6<>$AI6,AU6<>$AI6,AV6<>$AI6,AX6<>$AI6,AW6<>$AI6),$AI6,\nIF(AND(AQ6<>$AJ6,AR6<>$AJ6,AS6<>$AJ6,AT6<>$AJ6,AU6<>$AJ6,AV6<>$AJ6,AX6<>$AJ6,AW6<>$AJ6),$AJ6,\nIF(AND(AQ6<>$AK6,AR6<>$AK6,AS6<>$AK6,AT6<>$AK6,AU6<>$AK6,AV6<>$AK6,AX6<>$AK6,AW6<>$AK6),$AK6,\nIF(AND(AQ6<>$AL6,AR6<>$AL6,AS6<>$AL6,AT6<>$AL6,AU6<>$AL6,AV6<>$AL6,AX6<>$AL6,AW6<>$AL6),$AL6,\nIF(AND(AQ6<>$AM6,AR6<>$AM6,AS6<>$AM6,AT6<>$AM6,AU6<>$AM6,AV6<>$AM6,AX6<>$AM6,AW6<>$AM6),$AM6,\nIF(AND(AQ6<>$AN6,AR6<>$AN6,AS6<>$AN6,AT6<>$AN6,AU6<>$AN6,AV6<>$AN6,AX6<>$AN6,AW6<>$AN6),$AN6,\nIF(AND(AQ6<>$AO6,AR6<>$AO6,AS6<>$AO6,AT6<>$AO6,AU6<>$AO6,AV6<>$AO6,AX6<>$AO6,AW6<>$AO6),$AO6,\n\"\")))))))))))","v":""},{"$f":"IF(AY6=\"\",\"\",\nIF(AND(AQ6<>$AF6,AR6<>$AF6,AS6<>$AF6,AT6<>$AF6,AU6<>$AF6,AV6<>$AF6,AW6<>$AF6,AY6<>$AF6,AX6<>$AF6),$AF6,\nIF(AND(AQ6<>$AG6,AR6<>$AG6,AS6<>$AG6,AT6<>$AG6,AU6<>$AG6,AV6<>$AG6,AW6<>$AG6,AY6<>$AG6,AX6<>$AG6),$AG6,\nIF(AND(AQ6<>$AH6,AR6<>$AH6,AS6<>$AH6,AT6<>$AH6,AU6<>$AH6,AV6<>$AH6,AW6<>$AH6,AY6<>$AH6,AX6<>$AH6),$AH6,\nIF(AND(AQ6<>$AI6,AR6<>$AI6,AS6<>$AI6,AT6<>$AI6,AU6<>$AI6,AV6<>$AI6,AW6<>$AI6,AY6<>$AI6,AX6<>$AI6),$AI6,\nIF(AND(AQ6<>$AJ6,AR6<>$AJ6,AS6<>$AJ6,AT6<>$AJ6,AU6<>$AJ6,AV6<>$AJ6,AW6<>$AJ6,AY6<>$AJ6,AX6<>$AJ6),$AJ6,\nIF(AND(AQ6<>$AK6,AR6<>$AK6,AS6<>$AK6,AT6<>$AK6,AU6<>$AK6,AV6<>$AK6,AW6<>$AK6,AY6<>$AK6,AX6<>$AK6),$AK6,\nIF(AND(AQ6<>$AL6,AR6<>$AL6,AS6<>$AL6,AT6<>$AL6,AU6<>$AL6,AV6<>$AL6,AW6<>$AL6,AY6<>$AL6,AX6<>$AL6),$AL6,\nIF(AND(AQ6<>$AM6,AR6<>$AM6,AS6<>$AM6,AT6<>$AM6,AU6<>$AM6,AV6<>$AM6,AW6<>$AM6,AY6<>$AM6,AX6<>$AM6),$AM6,\nIF(AND(AQ6<>$AN6,AR6<>$AN6,AS6<>$AN6,AT6<>$AN6,AU6<>$AN6,AV6<>$AN6,AW6<>$AN6,AY6<>$AN6,AX6<>$AN6),$AN6,\nIF(AND(AQ6<>$AO6,AR6<>$AO6,AS6<>$AO6,AT6<>$AO6,AU6<>$AO6,AV6<>$AO6,AW6<>$AO6,AY6<>$AO6,AX6<>$AO6),$AO6,\n\"\")))))))))))","v":""}]
[null,{"$f":"IF(L7=\"x\",1,IF(ISNUMBER(L7),L7,0))","v":2},1,{"$f":"I7","v":"111.000"},{"$f":"J7 & IF(M7<>\"\",CHAR(10) & M7,\"\")","v":"Standardgrösse (1 - 2m2), < 25 kg\nEigenschaften: \nRahmen silber\nBacksheet weiss"},{"$f":"IF(C7=1,K7,\"\")","v":"Stk. "},null,null,"111.000","Standardgrösse (1 - 2m2), < 25 kg","Stk. ",2,"Eigenschaften: \nRahmen silber\nBacksheet weiss",null,null,null,null,null,null,"E100_PV_Module","x",null,null,null,null,null,null,null,null,null,null,{"$f":"\nIF(U7=\"x\",U$4,\nIF(V7=\"x\",V$4,\nIF(W7=\"x\",W$4,\nIF(X7=\"x\",X$4,\nIF(Y7=\"x\",Y$4,\nIF(Z7=\"x\",Z$4,\nIF(AA7=\"x\",AA$4,\nIF(AB7=\"x\",AB$4,\nIF(AC7=\"x\",AC$4,\nIF(AD7=\"x\",AD$4,\n\"\"))))))))))","v":"Stk. "},{"$f":"\nIF(V7=\"x\",V$4,\nIF(W7=\"x\",W$4,\nIF(X7=\"x\",X$4,\nIF(Y7=\"x\",Y$4,\nIF(Z7=\"x\",Z$4,\nIF(AA7=\"x\",AA$4,\nIF(AB7=\"x\",AB$4,\nIF(AC7=\"x\",AC$4,\nIF(AD7=\"x\",AD$4,\n\"\")))))))))","v":""},{"$f":"\nIF(W7=\"x\",W$4,\nIF(X7=\"x\",X$4,\nIF(Y7=\"x\",Y$4,\nIF(Z7=\"x\",Z$4,\nIF(AA7=\"x\",AA$4,\nIF(AB7=\"x\",AB$4,\nIF(AC7=\"x\",AC$4,\nIF(AD7=\"x\",AD$4,\n\"\"))))))))","v":""},{"$f":"\nIF(X7=\"x\",X$4,\nIF(Y7=\"x\",Y$4,\nIF(Z7=\"x\",Z$4,\nIF(AA7=\"x\",AA$4,\nIF(AB7=\"x\",AB$4,\nIF(AC7=\"x\",AC$4,\nIF(AD7=\"x\",AD$4,\n\"\")))))))","v":""},{"$f":"\nIF(Y7=\"x\",Y$4,\nIF(Z7=\"x\",Z$4,\nIF(AA7=\"x\",AA$4,\nIF(AB7=\"x\",AB$4,\nIF(AC7=\"x\",AC$4,\nIF(AD7=\"x\",AD$4,\n\"\"))))))","v":""},{"$f":"\nIF(Z7=\"x\",Z$4,\nIF(AA7=\"x\",AA$4,\nIF(AB7=\"x\",AB$4,\nIF(AC7=\"x\",AC$4,\nIF(AD7=\"x\",AD$4,\n\"\")))))","v":""},{"$f":"\nIF(AA7=\"x\",AA$4,\nIF(AB7=\"x\",AB$4,\nIF(AC7=\"x\",AC$4,\nIF(AD7=\"x\",AD$4,\n\"\"))))","v":""},{"$f":"\nIF(AB7=\"x\",AB$4,\nIF(AC7=\"x\",AC$4,\nIF(AD7=\"x\",AD$4,\n\"\")))","v":""},{"$f":"\nIF(AC7=\"x\",AC$4,\nIF(AD7=\"x\",AD$4,\n\"\"))","v":""},{"$f":"\nIF(AD7=\"x\",AD$4,\n\"\")","v":""},null,{"$f":"AF7","v":"Stk. "},"",{"$f":"IF(AR7=\"\",\"\",\nIF(AND(AR7<>$AF7,AQ7<>$AF7),$AF7,\nIF(AND(AR7<>$AG7,AQ7<>$AG7),$AG7,\nIF(AND(AR7<>$AH7,AQ7<>$AH7),$AH7,\nIF(AND(AR7<>$AI7,AQ7<>$AI7),$AI7,\nIF(AND(AR7<>$AJ7,AQ7<>$AJ7),$AJ7,\nIF(AND(AR7<>$AK7,AQ7<>$AK7),$AK7,\nIF(AND(AR7<>$AL7,AQ7<>$AL7),$AL7,\nIF(AND(AR7<>$AM7,AQ7<>$AM7),$AM7,\nIF(AND(AR7<>$AN7,AQ7<>$AN7),$AN7,\nIF(AND(AR7<>$AO7,AQ7<>$AO7),$AO7,\n\"\")))))))))))","v":""},{"$f":"IF(AS7=\"\",\"\",\nIF(AND(AQ7<>$AF7,AS7<>$AF7,AR7<>$AF7),$AF7,\nIF(AND(AQ7<>$AG7,AS7<>$AG7,AR7<>$AG7),$AG7,\nIF(AND(AQ7<>$AH7,AS7<>$AH7,AR7<>$AH7),$AH7,\nIF(AND(AQ7<>$AI7,AS7<>$AI7,AR7<>$AI7),$AI7,\nIF(AND(AQ7<>$AJ7,AS7<>$AJ7,AR7<>$AJ7),$AJ7,\nIF(AND(AQ7<>$AK7,AS7<>$AK7,AR7<>$AK7),$AK7,\nIF(AND(AQ7<>$AL7,AS7<>$AL7,AR7<>$AL7),$AL7,\nIF(AND(AQ7<>$AM7,AS7<>$AM7,AR7<>$AM7),$AM7,\nIF(AND(AQ7<>$AN7,AS7<>$AN7,AR7<>$AN7),$AN7,\nIF(AND(AQ7<>$AO7,AS7<>$AO7,AR7<>$AO7),$AO7,\n\"\")))))))))))","v":""},{"$f":"IF(AT7=\"\",\"\",\nIF(AND(AQ7<>$AF7,AR7<>$AF7,AT7<>$AF7,AS7<>$AF7),$AF7,\nIF(AND(AQ7<>$AG7,AR7<>$AG7,AT7<>$AG7,AS7<>$AG7),$AG7,\nIF(AND(AQ7<>$AH7,AR7<>$AH7,AT7<>$AH7,AS7<>$AH7),$AH7,\nIF(AND(AQ7<>$AI7,AR7<>$AI7,AT7<>$AI7,AS7<>$AI7),$AI7,\nIF(AND(AQ7<>$AJ7,AR7<>$AJ7,AT7<>$AJ7,AS7<>$AJ7),$AJ7,\nIF(AND(AQ7<>$AK7,AR7<>$AK7,AT7<>$AK7,AS7<>$AK7),$AK7,\nIF(AND(AQ7<>$AL7,AR7<>$AL7,AT7<>$AL7,AS7<>$AL7),$AL7,\nIF(AND(AQ7<>$AM7,AR7<>$AM7,AT7<>$AM7,AS7<>$AM7),$AM7,\nIF(AND(AQ7<>$AN7,AR7<>$AN7,AT7<>$AN7,AS7<>$AN7),$AN7,\nIF(AND(AQ7<>$AO7,AR7<>$AO7,AT7<>$AO7,AS7<>$AO7),$AO7,\n\"\")))))))))))","v":""},{"$f":"IF(AU7=\"\",\"\",\nIF(AND(AQ7<>$AF7,AR7<>$AF7,AS7<>$AF7,AU7<>$AF7,AT7<>$AF7),$AF7,\nIF(AND(AQ7<>$AG7,AR7<>$AG7,AS7<>$AG7,AU7<>$AG7,AT7<>$AG7),$AG7,\nIF(AND(AQ7<>$AH7,AR7<>$AH7,AS7<>$AH7,AU7<>$AH7,AT7<>$AH7),$AH7,\nIF(AND(AQ7<>$AI7,AR7<>$AI7,AS7<>$AI7,AU7<>$AI7,AT7<>$AI7),$AI7,\nIF(AND(AQ7<>$AJ7,AR7<>$AJ7,AS7<>$AJ7,AU7<>$AJ7,AT7<>$AJ7),$AJ7,\nIF(AND(AQ7<>$AK7,AR7<>$AK7,AS7<>$AK7,AU7<>$AK7,AT7<>$AK7),$AK7,\nIF(AND(AQ7<>$AL7,AR7<>$AL7,AS7<>$AL7,AU7<>$AL7,AT7<>$AL7),$AL7,\nIF(AND(AQ7<>$AM7,AR7<>$AM7,AS7<>$AM7,AU7<>$AM7,AT7<>$AM7),$AM7,\nIF(AND(AQ7<>$AN7,AR7<>$AN7,AS7<>$AN7,AU7<>$AN7,AT7<>$AN7),$AN7,\nIF(AND(AQ7<>$AO7,AR7<>$AO7,AS7<>$AO7,AU7<>$AO7,AT7<>$AO7),$AO7,\n\"\")))))))))))","v":""},{"$f":"IF(AV7=\"\",\"\",\nIF(AND(AQ7<>$AF7,AR7<>$AF7,AS7<>$AF7,AT7<>$AF7,AV7<>$AF7,AU7<>$AF7),$AF7,\nIF(AND(AQ7<>$AG7,AR7<>$AG7,AS7<>$AG7,AT7<>$AG7,AV7<>$AG7,AU7<>$AG7),$AG7,\nIF(AND(AQ7<>$AH7,AR7<>$AH7,AS7<>$AH7,AT7<>$AH7,AV7<>$AH7,AU7<>$AH7),$AH7,\nIF(AND(AQ7<>$AI7,AR7<>$AI7,AS7<>$AI7,AT7<>$AI7,AV7<>$AI7,AU7<>$AI7),$AI7,\nIF(AND(AQ7<>$AJ7,AR7<>$AJ7,AS7<>$AJ7,AT7<>$AJ7,AV7<>$AJ7,AU7<>$AJ7),$AJ7,\nIF(AND(AQ7<>$AK7,AR7<>$AK7,AS7<>$AK7,AT7<>$AK7,AV7<>$AK7,AU7<>$AK7),$AK7,\nIF(AND(AQ7<>$AL7,AR7<>$AL7,AS7<>$AL7,AT7<>$AL7,AV7<>$AL7,AU7<>$AL7),$AL7,\nIF(AND(AQ7<>$AM7,AR7<>$AM7,AS7<>$AM7,AT7<>$AM7,AV7<>$AM7,AU7<>$AM7),$AM7,\nIF(AND(AQ7<>$AN7,AR7<>$AN7,AS7<>$AN7,AT7<>$AN7,AV7<>$AN7,AU7<>$AN7),$AN7,\nIF(AND(AQ7<>$AO7,AR7<>$AO7,AS7<>$AO7,AT7<>$AO7,AV7<>$AO7,AU7<>$AO7),$AO7,\n\"\")))))))))))","v":""},{"$f":"IF(AW7=\"\",\"\",\nIF(AND(AQ7<>$AF7,AR7<>$AF7,AS7<>$AF7,AT7<>$AF7,AU7<>$AF7,AW7<>$AF7,AV7<>$AF7),$AF7,\nIF(AND(AQ7<>$AG7,AR7<>$AG7,AS7<>$AG7,AT7<>$AG7,AU7<>$AG7,AW7<>$AG7,AV7<>$AG7),$AG7,\nIF(AND(AQ7<>$AH7,AR7<>$AH7,AS7<>$AH7,AT7<>$AH7,AU7<>$AH7,AW7<>$AH7,AV7<>$AH7),$AH7,\nIF(AND(AQ7<>$AI7,AR7<>$AI7,AS7<>$AI7,AT7<>$AI7,AU7<>$AI7,AW7<>$AI7,AV7<>$AI7),$AI7,\nIF(AND(AQ7<>$AJ7,AR7<>$AJ7,AS7<>$AJ7,AT7<>$AJ7,AU7<>$AJ7,AW7<>$AJ7,AV7<>$AJ7),$AJ7,\nIF(AND(AQ7<>$AK7,AR7<>$AK7,AS7<>$AK7,AT7<>$AK7,AU7<>$AK7,AW7<>$AK7,AV7<>$AK7),$AK7,\nIF(AND(AQ7<>$AL7,AR7<>$AL7,AS7<>$AL7,AT7<>$AL7,AU7<>$AL7,AW7<>$AL7,AV7<>$AL7),$AL7,\nIF(AND(AQ7<>$AM7,AR7<>$AM7,AS7<>$AM7,AT7<>$AM7,AU7<>$AM7,AW7<>$AM7,AV7<>$AM7),$AM7,\nIF(AND(AQ7<>$AN7,AR7<>$AN7,AS7<>$AN7,AT7<>$AN7,AU7<>$AN7,AW7<>$AN7,AV7<>$AN7),$AN7,\nIF(AND(AQ7<>$AO7,AR7<>$AO7,AS7<>$AO7,AT7<>$AO7,AU7<>$AO7,AW7<>$AO7,AV7<>$AO7),$AO7,\n\"\")))))))))))","v":""},{"$f":"IF(AX7=\"\",\"\",\nIF(AND(AQ7<>$AF7,AR7<>$AF7,AS7<>$AF7,AT7<>$AF7,AU7<>$AF7,AV7<>$AF7,AX7<>$AF7,AW7<>$AF7),$AF7,\nIF(AND(AQ7<>$AG7,AR7<>$AG7,AS7<>$AG7,AT7<>$AG7,AU7<>$AG7,AV7<>$AG7,AX7<>$AG7,AW7<>$AG7),$AG7,\nIF(AND(AQ7<>$AH7,AR7<>$AH7,AS7<>$AH7,AT7<>$AH7,AU7<>$AH7,AV7<>$AH7,AX7<>$AH7,AW7<>$AH7),$AH7,\nIF(AND(AQ7<>$AI7,AR7<>$AI7,AS7<>$AI7,AT7<>$AI7,AU7<>$AI7,AV7<>$AI7,AX7<>$AI7,AW7<>$AI7),$AI7,\nIF(AND(AQ7<>$AJ7,AR7<>$AJ7,AS7<>$AJ7,AT7<>$AJ7,AU7<>$AJ7,AV7<>$AJ7,AX7<>$AJ7,AW7<>$AJ7),$AJ7,\nIF(AND(AQ7<>$AK7,AR7<>$AK7,AS7<>$AK7,AT7<>$AK7,AU7<>$AK7,AV7<>$AK7,AX7<>$AK7,AW7<>$AK7),$AK7,\nIF(AND(AQ7<>$AL7,AR7<>$AL7,AS7<>$AL7,AT7<>$AL7,AU7<>$AL7,AV7<>$AL7,AX7<>$AL7,AW7<>$AL7),$AL7,\nIF(AND(AQ7<>$AM7,AR7<>$AM7,AS7<>$AM7,AT7<>$AM7,AU7<>$AM7,AV7<>$AM7,AX7<>$AM7,AW7<>$AM7),$AM7,\nIF(AND(AQ7<>$AN7,AR7<>$AN7,AS7<>$AN7,AT7<>$AN7,AU7<>$AN7,AV7<>$AN7,AX7<>$AN7,AW7<>$AN7),$AN7,\nIF(AND(AQ7<>$AO7,AR7<>$AO7,AS7<>$AO7,AT7<>$AO7,AU7<>$AO7,AV7<>$AO7,AX7<>$AO7,AW7<>$AO7),$AO7,\n\"\")))))))))))","v":""},{"$f":"IF(AY7=\"\",\"\",\nIF(AND(AQ7<>$AF7,AR7<>$AF7,AS7<>$AF7,AT7<>$AF7,AU7<>$AF7,AV7<>$AF7,AW7<>$AF7,AY7<>$AF7,AX7<>$AF7),$AF7,\nIF(AND(AQ7<>$AG7,AR7<>$AG7,AS7<>$AG7,AT7<>$AG7,AU7<>$AG7,AV7<>$AG7,AW7<>$AG7,AY7<>$AG7,AX7<>$AG7),$AG7,\nIF(AND(AQ7<>$AH7,AR7<>$AH7,AS7<>$AH7,AT7<>$AH7,AU7<>$AH7,AV7<>$AH7,AW7<>$AH7,AY7<>$AH7,AX7<>$AH7),$AH7,\nIF(AND(AQ7<>$AI7,AR7<>$AI7,AS7<>$AI7,AT7<>$AI7,AU7<>$AI7,AV7<>$AI7,AW7<>$AI7,AY7<>$AI7,AX7<>$AI7),$AI7,\nIF(AND(AQ7<>$AJ7,AR7<>$AJ7,AS7<>$AJ7,AT7<>$AJ7,AU7<>$AJ7,AV7<>$AJ7,AW7<>$AJ7,AY7<>$AJ7,AX7<>$AJ7),$AJ7,\nIF(AND(AQ7<>$AK7,AR7<>$AK7,AS7<>$AK7,AT7<>$AK7,AU7<>$AK7,AV7<>$AK7,AW7<>$AK7,AY7<>$AK7,AX7<>$AK7),$AK7,\nIF(AND(AQ7<>$AL7,AR7<>$AL7,AS7<>$AL7,AT7<>$AL7,AU7<>$AL7,AV7<>$AL7,AW7<>$AL7,AY7<>$AL7,AX7<>$AL7),$AL7,\nIF(AND(AQ7<>$AM7,AR7<>$AM7,AS7<>$AM7,AT7<>$AM7,AU7<>$AM7,AV7<>$AM7,AW7<>$AM7,AY7<>$AM7,AX7<>$AM7),$AM7,\nIF(AND(AQ7<>$AN7,AR7<>$AN7,AS7<>$AN7,AT7<>$AN7,AU7<>$AN7,AV7<>$AN7,AW7<>$AN7,AY7<>$AN7,AX7<>$AN7),$AN7,\nIF(AND(AQ7<>$AO7,AR7<>$AO7,AS7<>$AO7,AT7<>$AO7,AU7<>$AO7,AV7<>$AO7,AW7<>$AO7,AY7<>$AO7,AX7<>$AO7),$AO7,\n\"\")))))))))))","v":""}]
[null,1,1,{"$f":"I8","v":"112.000"},{"$f":"J8 & IF(M8<>\"\",CHAR(10) & M8,\"\")","v":"Standardgrösse (1 - 2m2), > 25 kg\nEigenschaften: \nRahmen schwarz\nBacksheet schwarz\nBusbars abgedeckt"},{"$f":"IF(C8=1,K8,\"\")","v":"Stk. "},null,null,"112.000","Standardgrösse (1 - 2m2), > 25 kg","Stk. ","x","Eigenschaften: \nRahmen schwarz\nBacksheet schwarz\nBusbars abgedeckt",null,null,null,null,null,null,"E100_PV_Module","x",null,null,null,null,null,null,null,null,null,null,{"$f":"\nIF(U8=\"x\",U$4,\nIF(V8=\"x\",V$4,\nIF(W8=\"x\",W$4,\nIF(X8=\"x\",X$4,\nIF(Y8=\"x\",Y$4,\nIF(Z8=\"x\",Z$4,\nIF(AA8=\"x\",AA$4,\nIF(AB8=\"x\",AB$4,\nIF(AC8=\"x\",AC$4,\nIF(AD8=\"x\",AD$4,\n\"\"))))))))))","v":"Stk. "},{"$f":"\nIF(V8=\"x\",V$4,\nIF(W8=\"x\",W$4,\nIF(X8=\"x\",X$4,\nIF(Y8=\"x\",Y$4,\nIF(Z8=\"x\",Z$4,\nIF(AA8=\"x\",AA$4,\nIF(AB8=\"x\",AB$4,\nIF(AC8=\"x\",AC$4,\nIF(AD8=\"x\",AD$4,\n\"\")))))))))","v":""},{"$f":"\nIF(W8=\"x\",W$4,\nIF(X8=\"x\",X$4,\nIF(Y8=\"x\",Y$4,\nIF(Z8=\"x\",Z$4,\nIF(AA8=\"x\",AA$4,\nIF(AB8=\"x\",AB$4,\nIF(AC8=\"x\",AC$4,\nIF(AD8=\"x\",AD$4,\n\"\"))))))))","v":""},{"$f":"\nIF(X8=\"x\",X$4,\nIF(Y8=\"x\",Y$4,\nIF(Z8=\"x\",Z$4,\nIF(AA8=\"x\",AA$4,\nIF(AB8=\"x\",AB$4,\nIF(AC8=\"x\",AC$4,\nIF(AD8=\"x\",AD$4,\n\"\")))))))","v":""},{"$f":"\nIF(Y8=\"x\",Y$4,\nIF(Z8=\"x\",Z$4,\nIF(AA8=\"x\",AA$4,\nIF(AB8=\"x\",AB$4,\nIF(AC8=\"x\",AC$4,\nIF(AD8=\"x\",AD$4,\n\"\"))))))","v":""},{"$f":"\nIF(Z8=\"x\",Z$4,\nIF(AA8=\"x\",AA$4,\nIF(AB8=\"x\",AB$4,\nIF(AC8=\"x\",AC$4,\nIF(AD8=\"x\",AD$4,\n\"\")))))","v":""},{"$f":"\nIF(AA8=\"x\",AA$4,\nIF(AB8=\"x\",AB$4,\nIF(AC8=\"x\",AC$4,\nIF(AD8=\"x\",AD$4,\n\"\"))))","v":""},{"$f":"\nIF(AB8=\"x\",AB$4,\nIF(AC8=\"x\",AC$4,\nIF(AD8=\"x\",AD$4,\n\"\")))","v":""},{"$f":"\nIF(AC8=\"x\",AC$4,\nIF(AD8=\"x\",AD$4,\n\"\"))","v":""},{"$f":"\nIF(AD8=\"x\",AD$4,\n\"\")","v":""},null,{"$f":"AF8","v":"Stk. "},"",{"$f":"IF(AR8=\"\",\"\",\nIF(AND(AR8<>$AF8,AQ8<>$AF8),$AF8,\nIF(AND(AR8<>$AG8,AQ8<>$AG8),$AG8,\nIF(AND(AR8<>$AH8,AQ8<>$AH8),$AH8,\nIF(AND(AR8<>$AI8,AQ8<>$AI8),$AI8,\nIF(AND(AR8<>$AJ8,AQ8<>$AJ8),$AJ8,\nIF(AND(AR8<>$AK8,AQ8<>$AK8),$AK8,\nIF(AND(AR8<>$AL8,AQ8<>$AL8),$AL8,\nIF(AND(AR8<>$AM8,AQ8<>$AM8),$AM8,\nIF(AND(AR8<>$AN8,AQ8<>$AN8),$AN8,\nIF(AND(AR8<>$AO8,AQ8<>$AO8),$AO8,\n\"\")))))))))))","v":""},{"$f":"IF(AS8=\"\",\"\",\nIF(AND(AQ8<>$AF8,AS8<>$AF8,AR8<>$AF8),$AF8,\nIF(AND(AQ8<>$AG8,AS8<>$AG8,AR8<>$AG8),$AG8,\nIF(AND(AQ8<>$AH8,AS8<>$AH8,AR8<>$AH8),$AH8,\nIF(AND(AQ8<>$AI8,AS8<>$AI8,AR8<>$AI8),$AI8,\nIF(AND(AQ8<>$AJ8,AS8<>$AJ8,AR8<>$AJ8),$AJ8,\nIF(AND(AQ8<>$AK8,AS8<>$AK8,AR8<>$AK8),$AK8,\nIF(AND(AQ8<>$AL8,AS8<>$AL8,AR8<>$AL8),$AL8,\nIF(AND(AQ8<>$AM8,AS8<>$AM8,AR8<>$AM8),$AM8,\nIF(AND(AQ8<>$AN8,AS8<>$AN8,AR8<>$AN8),$AN8,\nIF(AND(AQ8<>$AO8,AS8<>$AO8,AR8<>$AO8),$AO8,\n\"\")))))))))))","v":""},{"$f":"IF(AT8=\"\",\"\",\nIF(AND(AQ8<>$AF8,AR8<>$AF8,AT8<>$AF8,AS8<>$AF8),$AF8,\nIF(AND(AQ8<>$AG8,AR8<>$AG8,AT8<>$AG8,AS8<>$AG8),$AG8,\nIF(AND(AQ8<>$AH8,AR8<>$AH8,AT8<>$AH8,AS8<>$AH8),$AH8,\nIF(AND(AQ8<>$AI8,AR8<>$AI8,AT8<>$AI8,AS8<>$AI8),$AI8,\nIF(AND(AQ8<>$AJ8,AR8<>$AJ8,AT8<>$AJ8,AS8<>$AJ8),$AJ8,\nIF(AND(AQ8<>$AK8,AR8<>$AK8,AT8<>$AK8,AS8<>$AK8),$AK8,\nIF(AND(AQ8<>$AL8,AR8<>$AL8,AT8<>$AL8,AS8<>$AL8),$AL8,\nIF(AND(AQ8<>$AM8,AR8<>$AM8,AT8<>$AM8,AS8<>$AM8),$AM8,\nIF(AND(AQ8<>$AN8,AR8<>$AN8,AT8<>$AN8,AS8<>$AN8),$AN8,\nIF(AND(AQ8<>$AO8,AR8<>$AO8,AT8<>$AO8,AS8<>$AO8),$AO8,\n\"\")))))))))))","v":""},{"$f":"IF(AU8=\"\",\"\",\nIF(AND(AQ8<>$AF8,AR8<>$AF8,AS8<>$AF8,AU8<>$AF8,AT8<>$AF8),$AF8,\nIF(AND(AQ8<>$AG8,AR8<>$AG8,AS8<>$AG8,AU8<>$AG8,AT8<>$AG8),$AG8,\nIF(AND(AQ8<>$AH8,AR8<>$AH8,AS8<>$AH8,AU8<>$AH8,AT8<>$AH8),$AH8,\nIF(AND(AQ8<>$AI8,AR8<>$AI8,AS8<>$AI8,AU8<>$AI8,AT8<>$AI8),$AI8,\nIF(AND(AQ8<>$AJ8,AR8<>$AJ8,AS8<>$AJ8,AU8<>$AJ8,AT8<>$AJ8),$AJ8,\nIF(AND(AQ8<>$AK8,AR8<>$AK8,AS8<>$AK8,AU8<>$AK8,AT8<>$AK8),$AK8,\nIF(AND(AQ8<>$AL8,AR8<>$AL8,AS8<>$AL8,AU8<>$AL8,AT8<>$AL8),$AL8,\nIF(AND(AQ8<>$AM8,AR8<>$AM8,AS8<>$AM8,AU8<>$AM8,AT8<>$AM8),$AM8,\nIF(AND(AQ8<>$AN8,AR8<>$AN8,AS8<>$AN8,AU8<>$AN8,AT8<>$AN8),$AN8,\nIF(AND(AQ8<>$AO8,AR8<>$AO8,AS8<>$AO8,AU8<>$AO8,AT8<>$AO8),$AO8,\n\"\")))))))))))","v":""},{"$f":"IF(AV8=\"\",\"\",\nIF(AND(AQ8<>$AF8,AR8<>$AF8,AS8<>$AF8,AT8<>$AF8,AV8<>$AF8,AU8<>$AF8),$AF8,\nIF(AND(AQ8<>$AG8,AR8<>$AG8,AS8<>$AG8,AT8<>$AG8,AV8<>$AG8,AU8<>$AG8),$AG8,\nIF(AND(AQ8<>$AH8,AR8<>$AH8,AS8<>$AH8,AT8<>$AH8,AV8<>$AH8,AU8<>$AH8),$AH8,\nIF(AND(AQ8<>$AI8,AR8<>$AI8,AS8<>$AI8,AT8<>$AI8,AV8<>$AI8,AU8<>$AI8),$AI8,\nIF(AND(AQ8<>$AJ8,AR8<>$AJ8,AS8<>$AJ8,AT8<>$AJ8,AV8<>$AJ8,AU8<>$AJ8),$AJ8,\nIF(AND(AQ8<>$AK8,AR8<>$AK8,AS8<>$AK8,AT8<>$AK8,AV8<>$AK8,AU8<>$AK8),$AK8,\nIF(AND(AQ8<>$AL8,AR8<>$AL8,AS8<>$AL8,AT8<>$AL8,AV8<>$AL8,AU8<>$AL8),$AL8,\nIF(AND(AQ8<>$AM8,AR8<>$AM8,AS8<>$AM8,AT8<>$AM8,AV8<>$AM8,AU8<>$AM8),$AM8,\nIF(AND(AQ8<>$AN8,AR8<>$AN8,AS8<>$AN8,AT8<>$AN8,AV8<>$AN8,AU8<>$AN8),$AN8,\nIF(AND(AQ8<>$AO8,AR8<>$AO8,AS8<>$AO8,AT8<>$AO8,AV8<>$AO8,AU8<>$AO8),$AO8,\n\"\")))))))))))","v":""},{"$f":"IF(AW8=\"\",\"\",\nIF(AND(AQ8<>$AF8,AR8<>$AF8,AS8<>$AF8,AT8<>$AF8,AU8<>$AF8,AW8<>$AF8,AV8<>$AF8),$AF8,\nIF(AND(AQ8<>$AG8,AR8<>$AG8,AS8<>$AG8,AT8<>$AG8,AU8<>$AG8,AW8<>$AG8,AV8<>$AG8),$AG8,\nIF(AND(AQ8<>$AH8,AR8<>$AH8,AS8<>$AH8,AT8<>$AH8,AU8<>$AH8,AW8<>$AH8,AV8<>$AH8),$AH8,\nIF(AND(AQ8<>$AI8,AR8<>$AI8,AS8<>$AI8,AT8<>$AI8,AU8<>$AI8,AW8<>$AI8,AV8<>$AI8),$AI8,\nIF(AND(AQ8<>$AJ8,AR8<>$AJ8,AS8<>$AJ8,AT8<>$AJ8,AU8<>$AJ8,AW8<>$AJ8,AV8<>$AJ8),$AJ8,\nIF(AND(AQ8<>$AK8,AR8<>$AK8,AS8<>$AK8,AT8<>$AK8,AU8<>$AK8,AW8<>$AK8,AV8<>$AK8),$AK8,\nIF(AND(AQ8<>$AL8,AR8<>$AL8,AS8<>$AL8,AT8<>$AL8,AU8<>$AL8,AW8<>$AL8,AV8<>$AL8),$AL8,\nIF(AND(AQ8<>$AM8,AR8<>$AM8,AS8<>$AM8,AT8<>$AM8,AU8<>$AM8,AW8<>$AM8,AV8<>$AM8),$AM8,\nIF(AND(AQ8<>$AN8,AR8<>$AN8,AS8<>$AN8,AT8<>$AN8,AU8<>$AN8,AW8<>$AN8,AV8<>$AN8),$AN8,\nIF(AND(AQ8<>$AO8,AR8<>$AO8,AS8<>$AO8,AT8<>$AO8,AU8<>$AO8,AW8<>$AO8,AV8<>$AO8),$AO8,\n\"\")))))))))))","v":""},{"$f":"IF(AX8=\"\",\"\",\nIF(AND(AQ8<>$AF8,AR8<>$AF8,AS8<>$AF8,AT8<>$AF8,AU8<>$AF8,AV8<>$AF8,AX8<>$AF8,AW8<>$AF8),$AF8,\nIF(AND(AQ8<>$AG8,AR8<>$AG8,AS8<>$AG8,AT8<>$AG8,AU8<>$AG8,AV8<>$AG8,AX8<>$AG8,AW8<>$AG8),$AG8,\nIF(AND(AQ8<>$AH8,AR8<>$AH8,AS8<>$AH8,AT8<>$AH8,AU8<>$AH8,AV8<>$AH8,AX8<>$AH8,AW8<>$AH8),$AH8,\nIF(AND(AQ8<>$AI8,AR8<>$AI8,AS8<>$AI8,AT8<>$AI8,AU8<>$AI8,AV8<>$AI8,AX8<>$AI8,AW8<>$AI8),$AI8,\nIF(AND(AQ8<>$AJ8,AR8<>$AJ8,AS8<>$AJ8,AT8<>$AJ8,AU8<>$AJ8,AV8<>$AJ8,AX8<>$AJ8,AW8<>$AJ8),$AJ8,\nIF(AND(AQ8<>$AK8,AR8<>$AK8,AS8<>$AK8,AT8<>$AK8,AU8<>$AK8,AV8<>$AK8,AX8<>$AK8,AW8<>$AK8),$AK8,\nIF(AND(AQ8<>$AL8,AR8<>$AL8,AS8<>$AL8,AT8<>$AL8,AU8<>$AL8,AV8<>$AL8,AX8<>$AL8,AW8<>$AL8),$AL8,\nIF(AND(AQ8<>$AM8,AR8<>$AM8,AS8<>$AM8,AT8<>$AM8,AU8<>$AM8,AV8<>$AM8,AX8<>$AM8,AW8<>$AM8),$AM8,\nIF(AND(AQ8<>$AN8,AR8<>$AN8,AS8<>$AN8,AT8<>$AN8,AU8<>$AN8,AV8<>$AN8,AX8<>$AN8,AW8<>$AN8),$AN8,\nIF(AND(AQ8<>$AO8,AR8<>$AO8,AS8<>$AO8,AT8<>$AO8,AU8<>$AO8,AV8<>$AO8,AX8<>$AO8,AW8<>$AO8),$AO8,\n\"\")))))))))))","v":""},{"$f":"IF(AY8=\"\",\"\",\nIF(AND(AQ8<>$AF8,AR8<>$AF8,AS8<>$AF8,AT8<>$AF8,AU8<>$AF8,AV8<>$AF8,AW8<>$AF8,AY8<>$AF8,AX8<>$AF8),$AF8,\nIF(AND(AQ8<>$AG8,AR8<>$AG8,AS8<>$AG8,AT8<>$AG8,AU8<>$AG8,AV8<>$AG8,AW8<>$AG8,AY8<>$AG8,AX8<>$AG8),$AG8,\nIF(AND(AQ8<>$AH8,AR8<>$AH8,AS8<>$AH8,AT8<>$AH8,AU8<>$AH8,AV8<>$AH8,AW8<>$AH8,AY8<>$AH8,AX8<>$AH8),$AH8,\nIF(AND(AQ8<>$AI8,AR8<>$AI8,AS8<>$AI8,AT8<>$AI8,AU8<>$AI8,AV8<>$AI8,AW8<>$AI8,AY8<>$AI8,AX8<>$AI8),$AI8,\nIF(AND(AQ8<>$AJ8,AR8<>$AJ8,AS8<>$AJ8,AT8<>$AJ8,AU8<>$AJ8,AV8<>$AJ8,AW8<>$AJ8,AY8<>$AJ8,AX8<>$AJ8),$AJ8,\nIF(AND(AQ8<>$AK8,AR8<>$AK8,AS8<>$AK8,AT8<>$AK8,AU8<>$AK8,AV8<>$AK8,AW8<>$AK8,AY8<>$AK8,AX8<>$AK8),$AK8,\nIF(AND(AQ8<>$AL8,AR8<>$AL8,AS8<>$AL8,AT8<>$AL8,AU8<>$AL8,AV8<>$AL8,AW8<>$AL8,AY8<>$AL8,AX8<>$AL8),$AL8,\nIF(AND(AQ8<>$AM8,AR8<>$AM8,AS8<>$AM8,AT8<>$AM8,AU8<>$AM8,AV8<>$AM8,AW8<>$AM8,AY8<>$AM8,AX8<>$AM8),$AM8,\nIF(AND(AQ8<>$AN8,AR8<>$AN8,AS8<>$AN8,AT8<>$AN8,AU8<>$AN8,AV8<>$AN8,AW8<>$AN8,AY8<>$AN8,AX8<>$AN8),$AN8,\nIF(AND(AQ8<>$AO8,AR8<>$AO8,AS8<>$AO8,AT8<>$AO8,AU8<>$AO8,AV8<>$AO8,AW8<>$AO8,AY8<>$AO8,AX8<>$AO8),$AO8,\n\"\")))))))))))","v":""}]
[null,0,0,"113.000",{"$f":"J9 & IF(M9<>\"\",CHAR(10) & M9,\"\")","v":"Übergrösse (> 2 m2) < 25 kg"},"",null,null,"113.000","Übergrösse (> 2 m2) < 25 kg","Stk. ",null,null,null,null,null,null,null,null,"E100_PV_Module","x",null,null,null,null,null,null,null,null,null,null,"Stk. ","","","","","","","","","",null,"Stk. ","","","","","","","","",""]
[null,0,0,"114.000","Übergrösse (> 2 m2) > 25 kg","",null,null,"114.000","Übergrösse (> 2 m2) > 25 kg","Stk. ",null,null,null,null,null,null,null,null,"E100_PV_Module","x",null,null,null,null,null,null,null,null,null,null,"Stk. ","","","","","","","","","",null,"Stk. ","",{"$f":"IF(AR10=\"\",\"\",\nIF(AND(AR10<>$AF10,AQ10<>$AF10),$AF10,\nIF(AND(AR10<>$AG10,AQ10<>$AG10),$AG10,\nIF(AND(AR10<>$AH10,AQ10<>$AH10),$AH10,\nIF(AND(AR10<>$AI10,AQ10<>$AI10),$AI10,\nIF(AND(AR10<>$AJ10,AQ10<>$AJ10),$AJ10,\nIF(AND(AR10<>$AK10,AQ10<>$AK10),$AK10,\nIF(AND(AR10<>$AL10,AQ10<>$AL10),$AL10,\nIF(AND(AR10<>$AM10,AQ10<>$AM10),$AM10,\nIF(AND(AR10<>$AN10,AQ10<>$AN10),$AN10,\nIF(AND(AR10<>$AO10,AQ10<>$AO10),$AO10,\n\"\")))))))))))","v":""},{"$f":"IF(AS10=\"\",\"\",\nIF(AND(AQ10<>$AF10,AS10<>$AF10,AR10<>$AF10),$AF10,\nIF(AND(AQ10<>$AG10,AS10<>$AG10,AR10<>$AG10),$AG10,\nIF(AND(AQ10<>$AH10,AS10<>$AH10,AR10<>$AH10),$AH10,\nIF(AND(AQ10<>$AI10,AS10<>$AI10,AR10<>$AI10),$AI10,\nIF(AND(AQ10<>$AJ10,AS10<>$AJ10,AR10<>$AJ10),$AJ10,\nIF(AND(AQ10<>$AK10,AS10<>$AK10,AR10<>$AK10),$AK10,\nIF(AND(AQ10<>$AL10,AS10<>$AL10,AR10<>$AL10),$AL10,\nIF(AND(AQ10<>$AM10,AS10<>$AM10,AR10<>$AM10),$AM10,\nIF(AND(AQ10<>$AN10,AS10<>$AN10,AR10<>$AN10),$AN10,\nIF(AND(AQ10<>$AO10,AS10<>$AO10,AR10<>$AO10),$AO10,\n\"\")))))))))))","v":""},{"$f":"IF(AT10=\"\",\"\",\nIF(AND(AQ10<>$AF10,AR10<>$AF10,AT10<>$AF10,AS10<>$AF10),$AF10,\nIF(AND(AQ10<>$AG10,AR10<>$AG10,AT10<>$AG10,AS10<>$AG10),$AG10,\nIF(AND(AQ10<>$AH10,AR10<>$AH10,AT10<>$AH10,AS10<>$AH10),$AH10,\nIF(AND(AQ10<>$AI10,AR10<>$AI10,AT10<>$AI10,AS10<>$AI10),$AI10,\nIF(AND(AQ10<>$AJ10,AR10<>$AJ10,AT10<>$AJ10,AS10<>$AJ10),$AJ10,\nIF(AND(AQ10<>$AK10,AR10<>$AK10,AT10<>$AK10,AS10<>$AK10),$AK10,\nIF(AND(AQ10<>$AL10,AR10<>$AL10,AT10<>$AL10,AS10<>$AL10),$AL10,\nIF(AND(AQ10<>$AM10,AR10<>$AM10,AT10<>$AM10,AS10<>$AM10),$AM10,\nIF(AND(AQ10<>$AN10,AR10<>$AN10,AT10<>$AN10,AS10<>$AN10),$AN10,\nIF(AND(AQ10<>$AO10,AR10<>$AO10,AT10<>$AO10,AS10<>$AO10),$AO10,\n\"\")))))))))))","v":""},{"$f":"IF(AU10=\"\",\"\",\nIF(AND(AQ10<>$AF10,AR10<>$AF10,AS10<>$AF10,AU10<>$AF10,AT10<>$AF10),$AF10,\nIF(AND(AQ10<>$AG10,AR10<>$AG10,AS10<>$AG10,AU10<>$AG10,AT10<>$AG10),$AG10,\nIF(AND(AQ10<>$AH10,AR10<>$AH10,AS10<>$AH10,AU10<>$AH10,AT10<>$AH10),$AH10,\nIF(AND(AQ10<>$AI10,AR10<>$AI10,AS10<>$AI10,AU10<>$AI10,AT10<>$AI10),$AI10,\nIF(AND(AQ10<>$AJ10,AR10<>$AJ10,AS10<>$AJ10,AU10<>$AJ10,AT10<>$AJ10),$AJ10,\nIF(AND(AQ10<>$AK10,AR10<>$AK10,AS10<>$AK10,AU10<>$AK10,AT10<>$AK10),$AK10,\nIF(AND(AQ10<>$AL10,AR10<>$AL10,AS10<>$AL10,AU10<>$AL10,AT10<>$AL10),$AL10,\nIF(AND(AQ10<>$AM10,AR10<>$AM10,AS10<>$AM10,AU10<>$AM10,AT10<>$AM10),$AM10,\nIF(AND(AQ10<>$AN10,AR10<>$AN10,AS10<>$AN10,AU10<>$AN10,AT10<>$AN10),$AN10,\nIF(AND(AQ10<>$AO10,AR10<>$AO10,AS10<>$AO10,AU10<>$AO10,AT10<>$AO10),$AO10,\n\"\")))))))))))","v":""},{"$f":"IF(AV10=\"\",\"\",\nIF(AND(AQ10<>$AF10,AR10<>$AF10,AS10<>$AF10,AT10<>$AF10,AV10<>$AF10,AU10<>$AF10),$AF10,\nIF(AND(AQ10<>$AG10,AR10<>$AG10,AS10<>$AG10,AT10<>$AG10,AV10<>$AG10,AU10<>$AG10),$AG10,\nIF(AND(AQ10<>$AH10,AR10<>$AH10,AS10<>$AH10,AT10<>$AH10,AV10<>$AH10,AU10<>$AH10),$AH10,\nIF(AND(AQ10<>$AI10,AR10<>$AI10,AS10<>$AI10,AT10<>$AI10,AV10<>$AI10,AU10<>$AI10),$AI10,\nIF(AND(AQ10<>$AJ10,AR10<>$AJ10,AS10<>$AJ10,AT10<>$AJ10,AV10<>$AJ10,AU10<>$AJ10),$AJ10,\nIF(AND(AQ10<>$AK10,AR10<>$AK10,AS10<>$AK10,AT10<>$AK10,AV10<>$AK10,AU10<>$AK10),$AK10,\nIF(AND(AQ10<>$AL10,AR10<>$AL10,AS10<>$AL10,AT10<>$AL10,AV10<>$AL10,AU10<>$AL10),$AL10,\nIF(AND(AQ10<>$AM10,AR10<>$AM10,AS10<>$AM10,AT10<>$AM10,AV10<>$AM10,AU10<>$AM10),$AM10,\nIF(AND(AQ10<>$AN10,AR10<>$AN10,AS10<>$AN10,AT10<>$AN10,AV10<>$AN10,AU10<>$AN10),$AN10,\nIF(AND(AQ10<>$AO10,AR10<>$AO10,AS10<>$AO10,AT10<>$AO10,AV10<>$AO10,AU10<>$AO10),$AO10,\n\"\")))))))))))","v":""},{"$f":"IF(AW10=\"\",\"\",\nIF(AND(AQ10<>$AF10,AR10<>$AF10,AS10<>$AF10,AT10<>$AF10,AU10<>$AF10,AW10<>$AF10,AV10<>$AF10),$AF10,\nIF(AND(AQ10<>$AG10,AR10<>$AG10,AS10<>$AG10,AT10<>$AG10,AU10<>$AG10,AW10<>$AG10,AV10<>$AG10),$AG10,\nIF(AND(AQ10<>$AH10,AR10<>$AH10,AS10<>$AH10,AT10<>$AH10,AU10<>$AH10,AW10<>$AH10,AV10<>$AH10),$AH10,\nIF(AND(AQ10<>$AI10,AR10<>$AI10,AS10<>$AI10,AT10<>$AI10,AU10<>$AI10,AW10<>$AI10,AV10<>$AI10),$AI10,\nIF(AND(AQ10<>$AJ10,AR10<>$AJ10,AS10<>$AJ10,AT10<>$AJ10,AU10<>$AJ10,AW10<>$AJ10,AV10<>$AJ10),$AJ10,\nIF(AND(AQ10<>$AK10,AR10<>$AK10,AS10<>$AK10,AT10<>$AK10,AU10<>$AK10,AW10<>$AK10,AV10<>$AK10),$AK10,\nIF(AND(AQ10<>$AL10,AR10<>$AL10,AS10<>$AL10,AT10<>$AL10,AU10<>$AL10,AW10<>$AL10,AV10<>$AL10),$AL10,\nIF(AND(AQ10<>$AM10,AR10<>$AM10,AS10<>$AM10,AT10<>$AM10,AU10<>$AM10,AW10<>$AM10,AV10<>$AM10),$AM10,\nIF(AND(AQ10<>$AN10,AR10<>$AN10,AS10<>$AN10,AT10<>$AN10,AU10<>$AN10,AW10<>$AN10,AV10<>$AN10),$AN10,\nIF(AND(AQ10<>$AO10,AR10<>$AO10,AS10<>$AO10,AT10<>$AO10,AU10<>$AO10,AW10<>$AO10,AV10<>$AO10),$AO10,\n\"\")))))))))))","v":""},{"$f":"IF(AX10=\"\",\"\",\nIF(AND(AQ10<>$AF10,AR10<>$AF10,AS10<>$AF10,AT10<>$AF10,AU10<>$AF10,AV10<>$AF10,AX10<>$AF10,AW10<>$AF10),$AF10,\nIF(AND(AQ10<>$AG10,AR10<>$AG10,AS10<>$AG10,AT10<>$AG10,AU10<>$AG10,AV10<>$AG10,AX10<>$AG10,AW10<>$AG10),$AG10,\nIF(AND(AQ10<>$AH10,AR10<>$AH10,AS10<>$AH10,AT10<>$AH10,AU10<>$AH10,AV10<>$AH10,AX10<>$AH10,AW10<>$AH10),$AH10,\nIF(AND(AQ10<>$AI10,AR10<>$AI10,AS10<>$AI10,AT10<>$AI10,AU10<>$AI10,AV10<>$AI10,AX10<>$AI10,AW10<>$AI10),$AI10,\nIF(AND(AQ10<>$AJ10,AR10<>$AJ10,AS10<>$AJ10,AT10<>$AJ10,AU10<>$AJ10,AV10<>$AJ10,AX10<>$AJ10,AW10<>$AJ10),$AJ10,\nIF(AND(AQ10<>$AK10,AR10<>$AK10,AS10<>$AK10,AT10<>$AK10,AU10<>$AK10,AV10<>$AK10,AX10<>$AK10,AW10<>$AK10),$AK10,\nIF(AND(AQ10<>$AL10,AR10<>$AL10,AS10<>$AL10,AT10<>$AL10,AU10<>$AL10,AV10<>$AL10,AX10<>$AL10,AW10<>$AL10),$AL10,\nIF(AND(AQ10<>$AM10,AR10<>$AM10,AS10<>$AM10,AT10<>$AM10,AU10<>$AM10,AV10<>$AM10,AX10<>$AM10,AW10<>$AM10),$AM10,\nIF(AND(AQ10<>$AN10,AR10<>$AN10,AS10<>$AN10,AT10<>$AN10,AU10<>$AN10,AV10<>$AN10,AX10<>$AN10,AW10<>$AN10),$AN10,\nIF(AND(AQ10<>$AO10,AR10<>$AO10,AS10<>$AO10,AT10<>$AO10,AU10<>$AO10,AV10<>$AO10,AX10<>$AO10,AW10<>$AO10),$AO10,\n\"\")))))))))))","v":""},{"$f":"IF(AY10=\"\",\"\",\nIF(AND(AQ10<>$AF10,AR10<>$AF10,AS10<>$AF10,AT10<>$AF10,AU10<>$AF10,AV10<>$AF10,AW10<>$AF10,AY10<>$AF10,AX10<>$AF10),$AF10,\nIF(AND(AQ10<>$AG10,AR10<>$AG10,AS10<>$AG10,AT10<>$AG10,AU10<>$AG10,AV10<>$AG10,AW10<>$AG10,AY10<>$AG10,AX10<>$AG10),$AG10,\nIF(AND(AQ10<>$AH10,AR10<>$AH10,AS10<>$AH10,AT10<>$AH10,AU10<>$AH10,AV10<>$AH10,AW10<>$AH10,AY10<>$AH10,AX10<>$AH10),$AH10,\nIF(AND(AQ10<>$AI10,AR10<>$AI10,AS10<>$AI10,AT10<>$AI10,AU10<>$AI10,AV10<>$AI10,AW10<>$AI10,AY10<>$AI10,AX10<>$AI10),$AI10,\nIF(AND(AQ10<>$AJ10,AR10<>$AJ10,AS10<>$AJ10,AT10<>$AJ10,AU10<>$AJ10,AV10<>$AJ10,AW10<>$AJ10,AY10<>$AJ10,AX10<>$AJ10),$AJ10,\nIF(AND(AQ10<>$AK10,AR10<>$AK10,AS10<>$AK10,AT10<>$AK10,AU10<>$AK10,AV10<>$AK10,AW10<>$AK10,AY10<>$AK10,AX10<>$AK10),$AK10,\nIF(AND(AQ10<>$AL10,AR10<>$AL10,AS10<>$AL10,AT10<>$AL10,AU10<>$AL10,AV10<>$AL10,AW10<>$AL10,AY10<>$AL10,AX10<>$AL10),$AL10,\nIF(AND(AQ10<>$AM10,AR10<>$AM10,AS10<>$AM10,AT10<>$AM10,AU10<>$AM10,AV10<>$AM10,AW10<>$AM10,AY10<>$AM10,AX10<>$AM10),$AM10,\nIF(AND(AQ10<>$AN10,AR10<>$AN10,AS10<>$AN10,AT10<>$AN10,AU10<>$AN10,AV10<>$AN10,AW10<>$AN10,AY10<>$AN10,AX10<>$AN10),$AN10,\nIF(AND(AQ10<>$AO10,AR10<>$AO10,AS10<>$AO10,AT10<>$AO10,AU10<>$AO10,AV10<>$AO10,AW10<>$AO10,AY10<>$AO10,AX10<>$AO10),$AO10,\n\"\")))))))))))","v":""}]
[null,0,0,"115.000","PV-Schindeln (< 1 m2); < 25 kg","",null,null,"115.000","PV-Schindeln (< 1 m2); < 25 kg","Stk. ",null,null,null,null,null,null,null,null,"E100_PV_Module","x",null,null,null,null,null,null,null,null,null,null,"Stk. ","","","","","","","","","",null,"Stk. ","","","","","","","","",""]
[null,0,0,"116.000","PV-Schindeln (< 1 m2); > 25 kg","",null,null,"116.000","PV-Schindeln (< 1 m2); > 25 kg","Stk. ",null,null,null,null,null,null,null,null,"E100_PV_Module","x",null,null,null,null,null,null,null,null,null,null,"Stk. ","","","","","","","","","",null,"Stk. ","","","","","","","","",""]
[null,{"$f":"B6","v":1},0,null,null,"",null,null,null,null,null,null,null,null,null,null,null,null,null,null,null,null,null,null,null,null,null,null,null,null,null,"","","","","","","","","","",null,"","","","","","","","","",""]
[null,{"$f":"IF(SUM(B15:B20)>0,1,0)","v":0},0,{"$f":"G14","v":"120.000"},{"$f":"H14","v":"Glas/Folie ohne Rahmen, Aufdach"},"","120.000","Glas/Folie ohne Rahmen, Aufdach",null,null,null,null,null,null,null,null,null,null,null,"E100_PV_Module_rahmenlos",null,null,null,null,null,null,null,null,null,null,null,"","","","","","","","","","",null,"","","","","","","","","",""]
[null,{"$f":"IF(L15=\"x\",1,IF(ISNUMBER(L15),L15,0))","v":0},0,{"$f":"I15","v":"121.000"},{"$f":"J15 & IF(M15<>\"\",CHAR(10) & M15,\"\")","v":"Standardgrösse (1 - 2m2), < 25 kg"},"",null,null,"121.000","Standardgrösse (1 - 2m2), < 25 kg","Stk. ",null,null,null,null,null,null,null,null,"E100_PV_Module_rahmenlos","x",null,null,null,null,null,null,null,null,null,null,"Stk. ","","","","","","","","","",null,"Stk. ","","","","","","","","",""]
[null,0,0,{"$f":"I16","v":"122.000"},"Standardgrösse (1 - 2m2), > 25 kg","",null,null,"122.000","Standardgrösse (1 - 2m2), > 25 kg","Stk. ",null,null,null,null,null,null,null,null,"E100_PV_Module_rahmenlos","x",null,null,null,null,null,null,null,null,null,null,"Stk. ","","","","","","","","","",null,"Stk. ","","","","","","","","",""]
[null,0,0,"123.000","Übergrösse (> 2 m2) < 25 kg","",null,null,"123.000","Übergrösse (> 2 m2) < 25 kg","Stk. ",null,null,null,null,null,null,null,null,"E100_PV_Module_rahmenlos","x",null,null,null,null,null,null,null,null,null,null,"Stk. ","","","","","","","","","",null,"Stk. ","","","","","","","","",""]
[null,0,0,"124.000","Übergrösse (> 2 m2) > 25 kg","",null,null,"124.000","Übergrösse (> 2 m2) > 25 kg","Stk. ",null,null,null,null,null,null,null,null,"E100_PV_Module_rahmenlos","x",null,null,null,null,null,null,null,null,null,null,"Stk. ","","","","","","","","","",null,"Stk. ","","","","","","","","",""]
[null,0,0,"125.000","PV-Schindeln (< 1 m2); < 25 kg","",null,null,"125.000","PV-Schindeln (< 1 m2); < 25 kg","Stk. ",null,null,null,null,null,null,null,null,"E100_PV_Module_rahmenlos","x",null,null,null,null,null,null,null,null,null,null,"Stk. ","","","","","","","","","",null,"Stk. ","","","","","","","","",""]
[null,0,0,"126.000","PV-Schindeln (< 1 m2); > 25 kg","",null,null,"126.000","PV-Schindeln (< 1 m2); > 25 kg","Stk. ",null,null,null,null,null,null,null,null,"E100_PV_Module_rahmenlos","x",null,null,null,null,null,null,null,null,null,null,"Stk. ","","","","","","","","","",null,"Stk. ","","","","","","","","",""]
[null,{"$f":"B14","v":0},0,null,null,"",null,null,null,null,null,null,null,null,null,null,null,null,null,null,null,null,null,null,null,null,null,null,null,null,null,"","","","","","","","","","",null,"","","","","","","","","",""]
[null,{"$f":"IF(SUM(B23:B28)>0,1,0)","v":0},0,{"$f":"G22","v":"130.000"},{"$f":"H22","v":"Glas/Glas mit Rahmen, Aufdach"},"","130.000","Glas/Glas mit Rahmen, Aufdach",null,null,null,null,null,null,null,null,null,null,null,null,null,null,null,null,null,null,null,null,null,null,null,"","","","","","","","","","",null,"","","","","","","","","",""]
[null,{"$f":"IF(L23=\"x\",1,IF(ISNUMBER(L23),L23,0))","v":0},0,{"$f":"I23","v":"131.000"},{"$f":"J23 & IF(M23<>\"\",CHAR(10) & M23,\"\")","v":"Standardgrösse (1 - 2m2), < 25 kg"},"",null,null,"131.000","Standardgrösse (1 - 2m2), < 25 kg","Stk. ",null,null,null,null,null,null,null,null,"E100_PV_Module","x",null,null,null,null,null,null,null,null,null,null,"Stk. ","","","","","","","","","",null,"Stk. ","","","","","","","","",""]
[null,0,0,{"$f":"I24","v":"132.000"},"Standardgrösse (1 - 2m2), > 25 kg","",null,null,"132.000","Standardgrösse (1 - 2m2), > 25 kg","Stk. ",null,null,null,null,null,null,null,null,"E100_PV_Module","x",null,null,null,null,null,null,null,null,null,null,"Stk. ","","","","","","","","","",null,"Stk. ","","","","","","","","",""]
[null,0,0,"133.000","Übergrösse (> 2 m2) < 25 kg","",null,null,"133.000","Übergrösse (> 2 m2) < 25 kg","Stk. ",null,null,null,null,null,null,null,null,"E100_PV_Module","x",null,null,null,null,null,null,null,null,null,null,"Stk. ","","","","","","","","","",null,"Stk. ","","","","","","","","",""]
[null,0,0,"134.000","Übergrösse (> 2 m2) > 25 kg","",null,null,"134.000","Übergrösse (> 2 m2) > 25 kg","Stk. ",null,null,null,null,null,null,null,null,"E100_PV_Module","x",null,null,null,null,null,null,null,null,null,null,"Stk. ","","","","","","","","","",null,"Stk. ","","","","","","","","",""]
[null,0,0,"135.000","PV-Schindeln (< 1 m2); < 25 kg","",null,null,"135.000","PV-Schindeln (< 1 m2); < 25 kg","Stk. ",null,null,null,null,null,null,null,null,"E100_PV_Module","x",null,null,null,null,null,null,null,null,null,null,"Stk. ","","","","","","","","","",null,"Stk. ","","","","","","","","",""]
[null,0,0,"136.000","PV-Schindeln (< 1 m2); > 25 kg","",null,null,"136.000","PV-Schindeln (< 1 m2); > 25 kg","Stk. ",null,null,null,null,null,null,null,null,"E100_PV_Module","x",null,null,null,null,null,null,null,null,null,null,"Stk. ","","","","","","","","","",null,"Stk. ","","","","","","","","",""]
[null,{"$f":"B22","v":0},0,null,null,"",null,null,null,null,null,null,null,null,null,null,null,null,null,null,null,null,null,null,null,null,null,null,null,null,null,"","","","","","","","","","",null,"","","","","","","","","",""]
[null,{"$f":"IF(SUM(B31:B36)>0,1,0)","v":0},0,{"$f":"G30","v":"140.000"},{"$f":"H30","v":"Glas/Glas ohne Rahmen, Aufdach"},"","140.000","Glas/Glas ohne Rahmen, Aufdach",null,null,null,null,null,null,null,null,null,null,null,"E100_PV_Module_rahmenlos",null,null,null,null,null,null,null,null,null,null,null,"","","","","","","","","","",null,"","","","","","","","","",""]
[null,{"$f":"IF(L31=\"x\",1,IF(ISNUMBER(L31),L31,0))","v":0},0,{"$f":"I31","v":"141.000"},{"$f":"J31 & IF(M31<>\"\",CHAR(10) & M31,\"\")","v":"Standardgrösse (1 - 2m2), < 25 kg"},"",null,null,"141.000","Standardgrösse (1 - 2m2), < 25 kg","Stk. ",null,null,null,null,null,null,null,null,"E100_PV_Module_rahmenlos","x",null,null,null,null,null,null,null,null,null,null,"Stk. ","","","","","","","","","",null,"Stk. ","","","","","","","","",""]
[null,0,0,{"$f":"I32","v":"142.000"},"Standardgrösse (1 - 2m2), > 25 kg","",null,null,"142.000","Standardgrösse (1 - 2m2), > 25 kg","Stk. ",null,null,null,null,null,null,null,null,"E100_PV_Module_rahmenlos","x",null,null,null,null,null,null,null,null,null,null,"Stk. ","","","","","","","","","",null,"Stk. ","","","","","","","","",""]
[null,0,0,"143.000","Übergrösse (> 2 m2) < 25 kg","",null,null,"143.000","Übergrösse (> 2 m2) < 25 kg","Stk. ",null,null,null,null,null,null,null,null,"E100_PV_Module_rahmenlos","x",null,null,null,null,null,null,null,null,null,null,"Stk. ","","","","","","","","","",null,"Stk. ","","","","","","","","",""]
[null,0,0,"144.000","Übergrösse (> 2 m2) > 25 kg","",null,null,"144.000","Übergrösse (> 2 m2) > 25 kg","Stk. ",null,null,null,null,null,null,null,null,"E100_PV_Module_rahmenlos","x",null,null,null,null,null,null,null,null,null,null,"Stk. ","","","","","","","","","",null,"Stk. ","","","","","","","","",""]
[null,0,0,"145.000","PV-Schindeln (< 1 m2); < 25 kg","",null,null,"145.000","PV-Schindeln (< 1 m2); < 25 kg","Stk. ",null,null,null,null,null,null,null,null,"E100_PV_Module_rahmenlos","x",null,null,null,null,null,null,null,null,null,null,"Stk. ","","","","","","","","","",null,"Stk. ","","","","","","","","",""]
[null,0,0,"146.000","PV-Schindeln (< 1 m2); > 25 kg","",null,null,"146.000","PV-Schindeln (< 1 m2); > 25 kg","Stk. ",null,null,null,null,null,null,null,null,"E100_PV_Module_rahmenlos","x",null,null,null,null,null,null,null,null,null,null,"Stk. ","","","","","","","","","",null,"Stk. ","","","","","","","","",""]
[null,{"$f":"B30","v":0},0,null,null,"",null,null,null,null,null,null,null,null,null,null,null,null,null,null,null,null,null,null,null,null,null,null,null,null,null,"","","","","","","","","","",null,"","","","","","","","","",""]
[null,{"$f":"IF(SUM(B39:B44)>0,1,0)","v":0},{"$f":"IF(L38=\"x\",1,IF(ISNUMBER(L38),1,0))","v":0},{"$f":"G38","v":"150.000"},{"$f":"H38","v":"Glas/Folie mit Rahmen, integriert"},"","150.000","Glas/Folie mit Rahmen, integriert",null,null,null,null,null,null,null,null,null,null,null,"E100_PV_Module",null,null,null,null,null,null,null,null,null,null,null,"","","","","","","","","","",null,"",{"$f":"IF(AQ38=\"\",\"\",\nIF(AQ38<>$AF38,$AF38,\nIF(AQ38<>$AG38,$AG38,\nIF(AQ38<>$AH38,$AH38,\nIF(AQ38<>$AI38,$AI38,\nIF(AQ38<>$AJ38,$AJ38,\nIF(AQ38<>$AK38,$AK38,\nIF(AQ38<>$AL38,$AL38,\nIF(AQ38<>$AM38,$AM38,\nIF(AQ38<>$AN38,$AN38,\nIF(AQ38<>$AO38,$AO38,\n\"\")))))))))))","v":""},"","","","","","","",""]
[null,{"$f":"IF(L39=\"x\",1,IF(ISNUMBER(L39),L39,0))","v":0},0,{"$f":"I39","v":"151.000"},{"$f":"J39 & IF(M39<>\"\",CHAR(10) & M39,\"\")","v":"Standardgrösse (1 - 2m2), < 25 kg"},"",null,null,"151.000","Standardgrösse (1 - 2m2), < 25 kg","Stk. ",null,null,null,null,null,null,null,null,"E100_PV_Module","x",null,null,"x",null,null,null,null,null,null,null,"Stk. ","m2","m2","m2","","","","","","",null,"Stk. ","m2","","","","","","","",""]
[null,0,0,{"$f":"I40","v":"152.000"},"Standardgrösse (1 - 2m2), > 25 kg","",null,null,"152.000","Standardgrösse (1 - 2m2), > 25 kg","Stk. ",null,null,null,null,null,null,null,null,"E100_PV_Module","x",null,null,"x",null,null,null,null,null,null,null,"Stk. ","m2","m2","m2","","","","","","",null,"Stk. ","m2","","","","","","","",""]
[null,0,0,"153.000","Übergrösse (> 2 m2) < 25 kg","",null,null,"153.000","Übergrösse (> 2 m2) < 25 kg","Stk. ",null,null,null,null,null,null,null,null,"E100_PV_Module","x",null,null,"x",null,null,null,null,null,null,null,"Stk. ","m2","m2","m2","","","","","","",null,"Stk. ","m2","","","","","","","",""]
[null,0,0,"154.000","Übergrösse (> 2 m2) > 25 kg","",null,null,"154.000","Übergrösse (> 2 m2) > 25 kg","Stk. ",null,null,null,null,null,null,null,null,"E100_PV_Module","x",null,null,"x",null,null,null,null,null,null,null,"Stk. ","m2","m2","m2","","","","","","",null,"Stk. ","m2",{"$f":"IF(AR42=\"\",\"\",\nIF(AND(AR42<>$AF42,AQ42<>$AF42),$AF42,\nIF(AND(AR42<>$AG42,AQ42<>$AG42),$AG42,\nIF(AND(AR42<>$AH42,AQ42<>$AH42),$AH42,\nIF(AND(AR42<>$AI42,AQ42<>$AI42),$AI42,\nIF(AND(AR42<>$AJ42,AQ42<>$AJ42),$AJ42,\nIF(AND(AR42<>$AK42,AQ42<>$AK42),$AK42,\nIF(AND(AR42<>$AL42,AQ42<>$AL42),$AL42,\nIF(AND(AR42<>$AM42,AQ42<>$AM42),$AM42,\nIF(AND(AR42<>$AN42,AQ42<>$AN42),$AN42,\nIF(AND(AR42<>$AO42,AQ42<>$AO42),$AO42,\n\"\")))))))))))","v":""},{"$f":"IF(AS42=\"\",\"\",\nIF(AND(AQ42<>$AF42,AS42<>$AF42,AR42<>$AF42),$AF42,\nIF(AND(AQ42<>$AG42,AS42<>$AG42,AR42<>$AG42),$AG42,\nIF(AND(AQ42<>$AH42,AS42<>$AH42,AR42<>$AH42),$AH42,\nIF(AND(AQ42<>$AI42,AS42<>$AI42,AR42<>$AI42),$AI42,\nIF(AND(AQ42<>$AJ42,AS42<>$AJ42,AR42<>$AJ42),$AJ42,\nIF(AND(AQ42<>$AK42,AS42<>$AK42,AR42<>$AK42),$AK42,\nIF(AND(AQ42<>$AL42,AS42<>$AL42,AR42<>$AL42),$AL42,\nIF(AND(AQ42<>$AM42,AS42<>$AM42,AR42<>$AM42),$AM42,\nIF(AND(AQ42<>$AN42,AS42<>$AN42,AR42<>$AN42),$AN42,\nIF(AND(AQ42<>$AO42,AS42<>$AO42,AR42<>$AO42),$AO42,\n\"\")))))))))))","v":""},{"$f":"IF(AT42=\"\",\"\",\nIF(AND(AQ42<>$AF42,AR42<>$AF42,AT42<>$AF42,AS42<>$AF42),$AF42,\nIF(AND(AQ42<>$AG42,AR42<>$AG42,AT42<>$AG42,AS42<>$AG42),$AG42,\nIF(AND(AQ42<>$AH42,AR42<>$AH42,AT42<>$AH42,AS42<>$AH42),$AH42,\nIF(AND(AQ42<>$AI42,AR42<>$AI42,AT42<>$AI42,AS42<>$AI42),$AI42,\nIF(AND(AQ42<>$AJ42,AR42<>$AJ42,AT42<>$AJ42,AS42<>$AJ42),$AJ42,\nIF(AND(AQ42<>$AK42,AR42<>$AK42,AT42<>$AK42,AS42<>$AK42),$AK42,\nIF(AND(AQ42<>$AL42,AR42<>$AL42,AT42<>$AL42,AS42<>$AL42),$AL42,\nIF(AND(AQ42<>$AM42,AR42<>$AM42,AT42<>$AM42,AS42<>$AM42),$AM42,\nIF(AND(AQ42<>$AN42,AR42<>$AN42,AT42<>$AN42,AS42<>$AN42),$AN42,\nIF(AND(AQ42<>$AO42,AR42<>$AO42,AT42<>$AO42,AS42<>$AO42),$AO42,\n\"\")))))))))))","v":""},{"$f":"IF(AU42=\"\",\"\",\nIF(AND(AQ42<>$AF42,AR42<>$AF42,AS42<>$AF42,AU42<>$AF42,AT42<>$AF42),$AF42,\nIF(AND(AQ42<>$AG42,AR42<>$AG42,AS42<>$AG42,AU42<>$AG42,AT42<>$AG42),$AG42,\nIF(AND(AQ42<>$AH42,AR42<>$AH42,AS42<>$AH42,AU42<>$AH42,AT42<>$AH42),$AH42,\nIF(AND(AQ42<>$AI42,AR42<>$AI42,AS42<>$AI42,AU42<>$AI42,AT42<>$AI42),$AI42,\nIF(AND(AQ42<>$AJ42,AR42<>$AJ42,AS42<>$AJ42,AU42<>$AJ42,AT42<>$AJ42),$AJ42,\nIF(AND(AQ42<>$AK42,AR42<>$AK42,AS42<>$AK42,AU42<>$AK42,AT42<>$AK42),$AK42,\nIF(AND(AQ42<>$AL42,AR42<>$AL42,AS42<>$AL42,AU42<>$AL42,AT42<>$AL42),$AL42,\nIF(AND(AQ42<>$AM42,AR42<>$AM42,AS42<>$AM42,AU42<>$AM42,AT42<>$AM42),$AM42,\nIF(AND(AQ42<>$AN42,AR42<>$AN42,AS42<>$AN42,AU42<>$AN42,AT42<>$AN42),$AN42,\nIF(AND(AQ42<>$AO42,AR42<>$AO42,AS42<>$AO42,AU42<>$AO42,AT42<>$AO42),$AO42,\n\"\")))))))))))","v":""},{"$f":"IF(AV42=\"\",\"\",\nIF(AND(AQ42<>$AF42,AR42<>$AF42,AS42<>$AF42,AT42<>$AF42,AV42<>$AF42,AU42<>$AF42),$AF42,\nIF(AND(AQ42<>$AG42,AR42<>$AG42,AS42<>$AG42,AT42<>$AG42,AV42<>$AG42,AU42<>$AG42),$AG42,\nIF(AND(AQ42<>$AH42,AR42<>$AH42,AS42<>$AH42,AT42<>$AH42,AV42<>$AH42,AU42<>$AH42),$AH42,\nIF(AND(AQ42<>$AI42,AR42<>$AI42,AS42<>$AI42,AT42<>$AI42,AV42<>$AI42,AU42<>$AI42),$AI42,\nIF(AND(AQ42<>$AJ42,AR42<>$AJ42,AS42<>$AJ42,AT42<>$AJ42,AV42<>$AJ42,AU42<>$AJ42),$AJ42,\nIF(AND(AQ42<>$AK42,AR42<>$AK42,AS42<>$AK42,AT42<>$AK42,AV42<>$AK42,AU42<>$AK42),$AK42,\nIF(AND(AQ42<>$AL42,AR42<>$AL42,AS42<>$AL42,AT42<>$AL42,AV42<>$AL42,AU42<>$AL42),$AL42,\nIF(AND(AQ42<>$AM42,AR42<>$AM42,AS42<>$AM42,AT42<>$AM42,AV42<>$AM42,AU42<>$AM42),$AM42,\nIF(AND(AQ42<>$AN42,AR42<>$AN42,AS42<>$AN42,AT42<>$AN42,AV42<>$AN42,AU42<>$AN42),$AN42,\nIF(AND(AQ42<>$AO42,AR42<>$AO42,AS42<>$AO42,AT42<>$AO42,AV42<>$AO42,AU42<>$AO42),$AO42,\n\"\")))))))))))","v":""},{"$f":"IF(AW42=\"\",\"\",\nIF(AND(AQ42<>$AF42,AR42<>$AF42,AS42<>$AF42,AT42<>$AF42,AU42<>$AF42,AW42<>$AF42,AV42<>$AF42),$AF42,\nIF(AND(AQ42<>$AG42,AR42<>$AG42,AS42<>$AG42,AT42<>$AG42,AU42<>$AG42,AW42<>$AG42,AV42<>$AG42),$AG42,\nIF(AND(AQ42<>$AH42,AR42<>$AH42,AS42<>$AH42,AT42<>$AH42,AU42<>$AH42,AW42<>$AH42,AV42<>$AH42),$AH42,\nIF(AND(AQ42<>$AI42,AR42<>$AI42,AS42<>$AI42,AT42<>$AI42,AU42<>$AI42,AW42<>$AI42,AV42<>$AI42),$AI42,\nIF(AND(AQ42<>$AJ42,AR42<>$AJ42,AS42<>$AJ42,AT42<>$AJ42,AU42<>$AJ42,AW42<>$AJ42,AV42<>$AJ42),$AJ42,\nIF(AND(AQ42<>$AK42,AR42<>$AK42,AS42<>$AK42,AT42<>$AK42,AU42<>$AK42,AW42<>$AK42,AV42<>$AK42),$AK42,\nIF(AND(AQ42<>$AL42,AR42<>$AL42,AS42<>$AL42,AT42<>$AL42,AU42<>$AL42,AW42<>$AL42,AV42<>$AL42),$AL42,\nIF(AND(AQ42<>$AM42,AR42<>$AM42,AS42<>$AM42,AT42<>$AM42,AU42<>$AM42,AW42<>$AM42,AV42<>$AM42),$AM42,\nIF(AND(AQ42<>$AN42,AR42<>$AN42,AS42<>$AN42,AT42<>$AN42,AU42<>$AN42,AW42<>$AN42,AV42<>$AN42),$AN42,\nIF(AND(AQ42<>$AO42,AR42<>$AO42,AS42<>$AO42,AT42<>$AO42,AU42<>$AO42,AW42<>$AO42,AV42<>$AO42),$AO42,\n\"\")))))))))))","v":""},{"$f":"IF(AX42=\"\",\"\",\nIF(AND(AQ42<>$AF42,AR42<>$AF42,AS42<>$AF42,AT42<>$AF42,AU42<>$AF42,AV42<>$AF42,AX42<>$AF42,AW42<>$AF42),$AF42,\nIF(AND(AQ42<>$AG42,AR42<>$AG42,AS42<>$AG42,AT42<>$AG42,AU42<>$AG42,AV42<>$AG42,AX42<>$AG42,AW42<>$AG42),$AG42,\nIF(AND(AQ42<>$AH42,AR42<>$AH42,AS42<>$AH42,AT42<>$AH42,AU42<>$AH42,AV42<>$AH42,AX42<>$AH42,AW42<>$AH42),$AH42,\nIF(AND(AQ42<>$AI42,AR42<>$AI42,AS42<>$AI42,AT42<>$AI42,AU42<>$AI42,AV42<>$AI42,AX42<>$AI42,AW42<>$AI42),$AI42,\nIF(AND(AQ42<>$AJ42,AR42<>$AJ42,AS42<>$AJ42,AT42<>$AJ42,AU42<>$AJ42,AV42<>$AJ42,AX42<>$AJ42,AW42<>$AJ42),$AJ42,\nIF(AND(AQ42<>$AK42,AR42<>$AK42,AS42<>$AK42,AT42<>$AK42,AU42<>$AK42,AV42<>$AK42,AX42<>$AK42,AW42<>$AK42),$AK42,\nIF(AND(AQ42<>$AL42,AR42<>$AL42,AS42<>$AL42,AT42<>$AL42,AU42<>$AL42,AV42<>$AL42,AX42<>$AL42,AW42<>$AL42),$AL42,\nIF(AND(AQ42<>$AM42,AR42<>$AM42,AS42<>$AM42,AT42<>$AM42,AU42<>$AM42,AV42<>$AM42,AX42<>$AM42,AW42<>$AM42),$AM42,\nIF(AND(AQ42<>$AN42,AR42<>$AN42,AS42<>$AN42,AT42<>$AN42,AU42<>$AN42,AV42<>$AN42,AX42<>$AN42,AW42<>$AN42),$AN42,\nIF(AND(AQ42<>$AO42,AR42<>$AO42,AS42<>$AO42,AT42<>$AO42,AU42<>$AO42,AV42<>$AO42,AX42<>$AO42,AW42<>$AO42),$AO42,\n\"\")))))))))))","v":""},{"$f":"IF(AY42=\"\",\"\",\nIF(AND(AQ42<>$AF42,AR42<>$AF42,AS42<>$AF42,AT42<>$AF42,AU42<>$AF42,AV42<>$AF42,AW42<>$AF42,AY42<>$AF42,AX42<>$AF42),$AF42,\nIF(AND(AQ42<>$AG42,AR42<>$AG42,AS42<>$AG42,AT42<>$AG42,AU42<>$AG42,AV42<>$AG42,AW42<>$AG42,AY42<>$AG42,AX42<>$AG42),$AG42,\nIF(AND(AQ42<>$AH42,AR42<>$AH42,AS42<>$AH42,AT42<>$AH42,AU42<>$AH42,AV42<>$AH42,AW42<>$AH42,AY42<>$AH42,AX42<>$AH42),$AH42,\nIF(AND(AQ42<>$AI42,AR42<>$AI42,AS42<>$AI42,AT42<>$AI42,AU42<>$AI42,AV42<>$AI42,AW42<>$AI42,AY42<>$AI42,AX42<>$AI42),$AI42,\nIF(AND(AQ42<>$AJ42,AR42<>$AJ42,AS42<>$AJ42,AT42<>$AJ42,AU42<>$AJ42,AV42<>$AJ42,AW42<>$AJ42,AY42<>$AJ42,AX42<>$AJ42),$AJ42,\nIF(AND(AQ42<>$AK42,AR42<>$AK42,AS42<>$AK42,AT42<>$AK42,AU42<>$AK42,AV42<>$AK42,AW42<>$AK42,AY42<>$AK42,AX42<>$AK42),$AK42,\nIF(AND(AQ42<>$AL42,AR42<>$AL42,AS42<>$AL42,AT42<>$AL42,AU42<>$AL42,AV42<>$AL42,AW42<>$AL42,AY42<>$AL42,AX42<>$AL42),$AL42,\nIF(AND(AQ42<>$AM42,AR42<>$AM42,AS42<>$AM42,AT42<>$AM42,AU42<>$AM42,AV42<>$AM42,AW42<>$AM42,AY42<>$AM42,AX42<>$AM42),$AM42,\nIF(AND(AQ42<>$AN42,AR42<>$AN42,AS42<>$AN42,AT42<>$AN42,AU42<>$AN42,AV42<>$AN42,AW42<>$AN42,AY42<>$AN42,AX42<>$AN42),$AN42,\nIF(AND(AQ42<>$AO42,AR42<>$AO42,AS42<>$AO42,AT42<>$AO42,AU42<>$AO42,AV42<>$AO42,AW42<>$AO42,AY42<>$AO42,AX42<>$AO42),$AO42,\n\"\")))))))))))","v":""}]
[null,0,0,"155.000","PV-Schindeln (< 1 m2); < 25 kg","",null,null,"155.000","PV-Schindeln (< 1 m2); < 25 kg","Stk. ",null,null,null,null,null,null,null,null,"E100_PV_Module","x",null,null,"x",null,null,null,null,null,null,null,"Stk. ","m2","m2","m2","","","","","","",null,"Stk. ","m2","","","","","","","",""]
[null,0,0,"156.000","PV-Schindeln (< 1 m2); > 25 kg","",null,null,"156.000","PV-Schindeln (< 1 m2); > 25 kg","Stk. ",null,null,null,null,null,null,null,null,"E100_PV_Module","x",null,null,"x",null,null,null,null,null,null,null,"Stk. ","m2","m2","m2","","","","","","",null,"Stk. ","m2","","","","","","","",""]
[null,{"$f":"B38","v":0},0,null,null,"",null,null,null,null,null,null,null,null,null,null,null,null,null,null,null,null,null,null,null,null,null,null,null,null,null,"","","","","","","","","","",null,"","","","","","","","","",""]
[null,{"$f":"IF(SUM(B47:B52)>0,1,0)","v":0},0,{"$f":"G46","v":"160.000"},{"$f":"H46","v":"Glas/Folie ohne Rahmen, integriert"},"","160.000","Glas/Folie ohne Rahmen, integriert",null,null,null,null,null,null,null,null,null,null,null,"E100_PV_Module_rahmenlos",null,null,null,null,null,null,null,null,null,null,null,"","","","","","","","","","",null,"","","","","","","","","",""]
[null,{"$f":"IF(L47=\"x\",1,IF(ISNUMBER(L47),L47,0))","v":0},0,{"$f":"I47","v":"161.000"},{"$f":"J47 & IF(M47<>\"\",CHAR(10) & M47,\"\")","v":"Standardgrösse (1 - 2m2), < 25 kg"},"",null,null,"161.000","Standardgrösse (1 - 2m2), < 25 kg","Stk. ",null,null,null,null,null,null,null,null,"E100_PV_Module_rahmenlos","x",null,null,"x",null,null,null,null,null,null,null,"Stk. ","m2","m2","m2","","","","","","",null,"Stk. ","m2","","","","","","","",""]
[null,0,0,{"$f":"I48","v":"162.000"},"Standardgrösse (1 - 2m2), > 25 kg","",null,null,"162.000","Standardgrösse (1 - 2m2), > 25 kg","Stk. ",null,null,null,null,null,null,null,null,"E100_PV_Module_rahmenlos","x",null,null,"x",null,null,null,null,null,null,null,"Stk. ","m2","m2","m2","","","","","","",null,"Stk. ","m2","","","","","","","",""]
[null,0,0,"163.000","Übergrösse (> 2 m2) < 25 kg","",null,null,"163.000","Übergrösse (> 2 m2) < 25 kg","Stk. ",null,null,null,null,null,null,null,null,"E100_PV_Module_rahmenlos","x",null,null,"x",null,null,null,null,null,null,null,"Stk. ","m2","m2","m2","","","","","","",null,"Stk. ","m2","","","","","","","",""]
[null,0,0,"164.000","Übergrösse (> 2 m2) > 25 kg","",null,null,"164.000","Übergrösse (> 2 m2) > 25 kg","Stk. ",null,null,null,null,null,null,null,null,"E100_PV_Module_rahmenlos","x",null,null,"x",null,null,null,null,null,null,null,"Stk. ","m2","m2","m2","","","","","","",null,"Stk. ","m2","","","","","","","",""]
[null,0,0,"165.000","PV-Schindeln (< 1 m2); < 25 kg","",null,null,"165.000","PV-Schindeln (< 1 m2); < 25 kg","Stk. ",null,null,null,null,null,null,null,null,"E100_PV_Module_rahmenlos","x",null,null,"x",null,null,null,null,null,null,null,"Stk. ","m2","m2","m2","","","","","","",null,"Stk. ","m2","","","","","","","",""]
[null,0,0,"166.000","PV-Schindeln (< 1 m2); > 25 kg","",null,null,"166.000","PV-Schindeln (< 1 m2); > 25 kg","Stk. ",null,null,null,null,null,null,null,null,"E100_PV_Module_rahmenlos","x",null,null,"x",null,null,null,null,null,null,null,"Stk. ","m2","m2","m2","","","","","","",null,"Stk. ","m2","","","","","","","",""]
[null,{"$f":"B46","v":0},0,null,null,"",null,null,null,null,null,null,null,null,null,null,null,null,null,null,null,null,null,null,null,null,null,null,null,null,null,"","","","","","","","","","",null,"","","","","","","","","",""]
[null,{"$f":"IF(SUM(B55:B60)>0,1,0)","v":0},0,{"$f":"G54","v":"170.000"},{"$f":"H54","v":"Glas/Glas mit Rahmen, integriert"},"","170.000","Glas/Glas mit Rahmen, integriert",null,null,null,null,null,null,null,null,null,null,null,null,null,null,null,null,null,null,null,null,null,null,null,"","","","","","","","","","",null,"","","","","","","","","",""]
[null,{"$f":"IF(L55=\"x\",1,IF(ISNUMBER(L55),L55,0))","v":0},0,{"$f":"I55","v":"171.000"},{"$f":"J55 & IF(M55<>\"\",CHAR(10) & M55,\"\")","v":"Standardgrösse (1 - 2m2), < 25 kg"},"",null,null,"171.000","Standardgrösse (1 - 2m2), < 25 kg","Stk. ",null,null,null,null,null,null,null,null,"E100_PV_Module","x",null,null,"x",null,null,null,null,null,null,null,"Stk. ","m2","m2","m2","","","","","","",null,"Stk. ","m2","","","","","","","",""]
[null,0,0,{"$f":"I56","v":"172.000"},"Standardgrösse (1 - 2m2), > 25 kg","",null,null,"172.000","Standardgrösse (1 - 2m2), > 25 kg","Stk. ",null,null,null,null,null,null,null,null,"E100_PV_Module","x",null,null,"x",null,null,null,null,null,null,null,"Stk. ","m2","m2","m2","","","","","","",null,"Stk. ","m2","","","","","","","",""]
[null,0,0,"173.000","Übergrösse (> 2 m2) < 25 kg","",null,null,"173.000","Übergrösse (> 2 m2) < 25 kg","Stk. ",null,null,null,null,null,null,null,null,"E100_PV_Module","x",null,null,"x",null,null,null,null,null,null,null,"Stk. ","m2","m2","m2","","","","","","",null,"Stk. ","m2","","","","","","","",""]
[null,0,0,"174.000","Übergrösse (> 2 m2) > 25 kg","",null,null,"174.000","Übergrösse (> 2 m2) > 25 kg","Stk. ",null,null,null,null,null,null,null,null,"E100_PV_Module","x",null,null,"x",null,null,null,null,null,null,null,"Stk. ","m2","m2","m2","","","","","","",null,"Stk. ","m2","","","","","","","",""]
[null,0,0,"175.000","PV-Schindeln (< 1 m2); < 25 kg","",null,null,"175.000","PV-Schindeln (< 1 m2); < 25 kg","Stk. ",null,null,null,null,null,null,null,null,"E100_PV_Module","x",null,null,"x",null,null,null,null,null,null,null,"Stk. ","m2","m2","m2","","","","","","",null,"Stk. ","m2","","","","","","","",""]
[null,0,0,"176.000","PV-Schindeln (< 1 m2); > 25 kg","",null,null,"176.000","PV-Schindeln (< 1 m2); > 25 kg","Stk. ",null,null,null,null,null,null,null,null,"E100_PV_Module","x",null,null,"x",null,null,null,null,null,null,null,"Stk. ","m2","m2","m2","","","","","","",null,"Stk. ","m2","","","","","","","",""]
[null,{"$f":"B54","v":0},0,null,null,"",null,null,null,null,null,null,null,null,null,null,null,null,null,null,null,null,null,null,null,null,null,null,null,null,null,"","","","","","","","","","",null,"","","","","","","","","",""]
[null,{"$f":"IF(SUM(B63:B68)>0,1,0)","v":1},0,{"$f":"G62","v":"180.000"},{"$f":"H62","v":"Glas/Glas ohne Rahmen, integriert"},"","180.000","Glas/Glas ohne Rahmen, integriert",null,null,null,null,null,null,null,null,null,null,null,null,null,null,null,null,null,null,null,null,null,null,null,"","","","","","","","","","",null,"","","","","","","","","",""]
[null,{"$f":"IF(L63=\"x\",1,IF(ISNUMBER(L63),L63,0))","v":1},1,{"$f":"I63","v":"181.000"},{"$f":"J63 & IF(M63<>\"\",CHAR(10) & M63,\"\")","v":"Standardgrösse (1 - 2m2), < 25 kg"},"Stk. ",null,null,"181.000","Standardgrösse (1 - 2m2), < 25 kg","Stk. ","x",null,null,null,null,null,null,null,"E100_PV_Module_rahmenlos","x",null,null,"x",null,null,null,null,null,null,null,"Stk. ","m2","m2","m2","","","","","","",null,"Stk. ","m2","","","","","","","",""]
[null,0,0,{"$f":"I64","v":"182.000"},"Standardgrösse (1 - 2m2), > 25 kg","",null,null,"182.000","Standardgrösse (1 - 2m2), > 25 kg","Stk. ",null,null,null,null,null,null,null,null,"E100_PV_Module_rahmenlos","x",null,null,"x",null,null,null,null,null,null,null,"Stk. ","m2","m2","m2","","","","","","",null,"Stk. ","m2","","","","","","","",""]
[null,0,0,"183.000","Übergrösse (> 2 m2) < 25 kg","",null,null,"183.000","Übergrösse (> 2 m2) < 25 kg","Stk. ",null,null,null,null,null,null,null,null,"E100_PV_Module_rahmenlos","x",null,null,"x",null,null,null,null,null,null,null,"Stk. ","m2","m2","m2","","","","","","",null,"Stk. ","m2","","","","","","","",""]
[null,0,0,"184.000","Übergrösse (> 2 m2) > 25 kg","",null,null,"184.000","Übergrösse (> 2 m2) > 25 kg","Stk. ",null,null,null,null,null,null,null,null,"E100_PV_Module_rahmenlos","x",null,null,"x",null,null,null,null,null,null,null,"Stk. ","m2","m2","m2","","","","","","",null,"Stk. ","m2","","","","","","","",""]
[null,0,0,"185.000","PV-Schindeln (< 1 m2); < 25 kg","",null,null,"185.000","PV-Schindeln (< 1 m2); < 25 kg","Stk. ",null,null,null,null,null,null,null,null,"E100_PV_Module_rahmenlos","x",null,null,"x",null,null,null,null,null,null,null,"Stk. ","m2","m2","m2","","","","","","",null,"Stk. ","m2","","","","","","","",""]
[null,0,0,"186.000","PV-Schindeln (< 1 m2); > 25 kg","",null,null,"186.000","PV-Schindeln (< 1 m2); > 25 kg","Stk. ",null,null,null,null,null,null,null,null,"E100_PV_Module_rahmenlos","x",null,null,"x",null,null,null,null,null,null,null,"Stk. ","m2","m2","m2","","","","","","",null,"Stk. ",{"$f":"IF(AQ68=\"\",\"\",\nIF(AQ68<>$AF68,$AF68,\nIF(AQ68<>$AG68,$AG68,\nIF(AQ68<>$AH68,$AH68,\nIF(AQ68<>$AI68,$AI68,\nIF(AQ68<>$AJ68,$AJ68,\nIF(AQ68<>$AK68,$AK68,\nIF(AQ68<>$AL68,$AL68,\nIF(AQ68<>$AM68,$AM68,\nIF(AQ68<>$AN68,$AN68,\nIF(AQ68<>$AO68,$AO68,\n\"\")))))))))))","v":"m2"},"","","","","","","",""]
[null,{"$f":"B62","v":1},0,null,null,"",null,null,null,null,null,null,null,null,null,null,null,null,null,null,null,null,null,null,null,null,null,null,null,null,null,"","","","","","","","","","",null,"","","","","","","","","",""]
[null,{"$f":"IF(SUM(B71:B77)>0,1,0)","v":0},{"$f":"IF(L70=\"x\",1,IF(ISNUMBER(L70),1,0))","v":0},{"$f":"G70","v":"190.000"},{"$f":"H70","v":"Spezialmodul"},"","190.000","Spezialmodul",null,null,null,null,null,null,null,null,null,null,null,null,null,null,null,null,null,null,null,null,null,null,null,"","","","","","","","","","",null,"","",{"$f":"IF(AR70=\"\",\"\",\nIF(AND(AR70<>$AF70,AQ70<>$AF70),$AF70,\nIF(AND(AR70<>$AG70,AQ70<>$AG70),$AG70,\nIF(AND(AR70<>$AH70,AQ70<>$AH70),$AH70,\nIF(AND(AR70<>$AI70,AQ70<>$AI70),$AI70,\nIF(AND(AR70<>$AJ70,AQ70<>$AJ70),$AJ70,\nIF(AND(AR70<>$AK70,AQ70<>$AK70),$AK70,\nIF(AND(AR70<>$AL70,AQ70<>$AL70),$AL70,\nIF(AND(AR70<>$AM70,AQ70<>$AM70),$AM70,\nIF(AND(AR70<>$AN70,AQ70<>$AN70),$AN70,\nIF(AND(AR70<>$AO70,AQ70<>$AO70),$AO70,\n\"\")))))))))))","v":""},{"$f":"IF(AS70=\"\",\"\",\nIF(AND(AQ70<>$AF70,AS70<>$AF70,AR70<>$AF70),$AF70,\nIF(AND(AQ70<>$AG70,AS70<>$AG70,AR70<>$AG70),$AG70,\nIF(AND(AQ70<>$AH70,AS70<>$AH70,AR70<>$AH70),$AH70,\nIF(AND(AQ70<>$AI70,AS70<>$AI70,AR70<>$AI70),$AI70,\nIF(AND(AQ70<>$AJ70,AS70<>$AJ70,AR70<>$AJ70),$AJ70,\nIF(AND(AQ70<>$AK70,AS70<>$AK70,AR70<>$AK70),$AK70,\nIF(AND(AQ70<>$AL70,AS70<>$AL70,AR70<>$AL70),$AL70,\nIF(AND(AQ70<>$AM70,AS70<>$AM70,AR70<>$AM70),$AM70,\nIF(AND(AQ70<>$AN70,AS70<>$AN70,AR70<>$AN70),$AN70,\nIF(AND(AQ70<>$AO70,AS70<>$AO70,AR70<>$AO70),$AO70,\n\"\")))))))))))","v":""},{"$f":"IF(AT70=\"\",\"\",\nIF(AND(AQ70<>$AF70,AR70<>$AF70,AT70<>$AF70,AS70<>$AF70),$AF70,\nIF(AND(AQ70<>$AG70,AR70<>$AG70,AT70<>$AG70,AS70<>$AG70),$AG70,\nIF(AND(AQ70<>$AH70,AR70<>$AH70,AT70<>$AH70,AS70<>$AH70),$AH70,\nIF(AND(AQ70<>$AI70,AR70<>$AI70,AT70<>$AI70,AS70<>$AI70),$AI70,\nIF(AND(AQ70<>$AJ70,AR70<>$AJ70,AT70<>$AJ70,AS70<>$AJ70),$AJ70,\nIF(AND(AQ70<>$AK70,AR70<>$AK70,AT70<>$AK70,AS70<>$AK70),$AK70,\nIF(AND(AQ70<>$AL70,AR70<>$AL70,AT70<>$AL70,AS70<>$AL70),$AL70,\nIF(AND(AQ70<>$AM70,AR70<>$AM70,AT70<>$AM70,AS70<>$AM70),$AM70,\nIF(AND(AQ70<>$AN70,AR70<>$AN70,AT70<>$AN70,AS70<>$AN70),$AN70,\nIF(AND(AQ70<>$AO70,AR70<>$AO70,AT70<>$AO70,AS70<>$AO70),$AO70,\n\"\")))))))))))","v":""},{"$f":"IF(AU70=\"\",\"\",\nIF(AND(AQ70<>$AF70,AR70<>$AF70,AS70<>$AF70,AU70<>$AF70,AT70<>$AF70),$AF70,\nIF(AND(AQ70<>$AG70,AR70<>$AG70,AS70<>$AG70,AU70<>$AG70,AT70<>$AG70),$AG70,\nIF(AND(AQ70<>$AH70,AR70<>$AH70,AS70<>$AH70,AU70<>$AH70,AT70<>$AH70),$AH70,\nIF(AND(AQ70<>$AI70,AR70<>$AI70,AS70<>$AI70,AU70<>$AI70,AT70<>$AI70),$AI70,\nIF(AND(AQ70<>$AJ70,AR70<>$AJ70,AS70<>$AJ70,AU70<>$AJ70,AT70<>$AJ70),$AJ70,\nIF(AND(AQ70<>$AK70,AR70<>$AK70,AS70<>$AK70,AU70<>$AK70,AT70<>$AK70),$AK70,\nIF(AND(AQ70<>$AL70,AR70<>$AL70,AS70<>$AL70,AU70<>$AL70,AT70<>$AL70),$AL70,\nIF(AND(AQ70<>$AM70,AR70<>$AM70,AS70<>$AM70,AU70<>$AM70,AT70<>$AM70),$AM70,\nIF(AND(AQ70<>$AN70,AR70<>$AN70,AS70<>$AN70,AU70<>$AN70,AT70<>$AN70),$AN70,\nIF(AND(AQ70<>$AO70,AR70<>$AO70,AS70<>$AO70,AU70<>$AO70,AT70<>$AO70),$AO70,\n\"\")))))))))))","v":""},{"$f":"IF(AV70=\"\",\"\",\nIF(AND(AQ70<>$AF70,AR70<>$AF70,AS70<>$AF70,AT70<>$AF70,AV70<>$AF70,AU70<>$AF70),$AF70,\nIF(AND(AQ70<>$AG70,AR70<>$AG70,AS70<>$AG70,AT70<>$AG70,AV70<>$AG70,AU70<>$AG70),$AG70,\nIF(AND(AQ70<>$AH70,AR70<>$AH70,AS70<>$AH70,AT70<>$AH70,AV70<>$AH70,AU70<>$AH70),$AH70,\nIF(AND(AQ70<>$AI70,AR70<>$AI70,AS70<>$AI70,AT70<>$AI70,AV70<>$AI70,AU70<>$AI70),$AI70,\nIF(AND(AQ70<>$AJ70,AR70<>$AJ70,AS70<>$AJ70,AT70<>$AJ70,AV70<>$AJ70,AU70<>$AJ70),$AJ70,\nIF(AND(AQ70<>$AK70,AR70<>$AK70,AS70<>$AK70,AT70<>$AK70,AV70<>$AK70,AU70<>$AK70),$AK70,\nIF(AND(AQ70<>$AL70,AR70<>$AL70,AS70<>$AL70,AT70<>$AL70,AV70<>$AL70,AU70<>$AL70),$AL70,\nIF(AND(AQ70<>$AM70,AR70<>$AM70,AS70<>$AM70,AT70<>$AM70,AV70<>$AM70,AU70<>$AM70),$AM70,\nIF(AND(AQ70<>$AN70,AR70<>$AN70,AS70<>$AN70,AT70<>$AN70,AV70<>$AN70,AU70<>$AN70),$AN70,\nIF(AND(AQ70<>$AO70,AR70<>$AO70,AS70<>$AO70,AT70<>$AO70,AV70<>$AO70,AU70<>$AO70),$AO70,\n\"\")))))))))))","v":""},{"$f":"IF(AW70=\"\",\"\",\nIF(AND(AQ70<>$AF70,AR70<>$AF70,AS70<>$AF70,AT70<>$AF70,AU70<>$AF70,AW70<>$AF70,AV70<>$AF70),$AF70,\nIF(AND(AQ70<>$AG70,AR70<>$AG70,AS70<>$AG70,AT70<>$AG70,AU70<>$AG70,AW70<>$AG70,AV70<>$AG70),$AG70,\nIF(AND(AQ70<>$AH70,AR70<>$AH70,AS70<>$AH70,AT70<>$AH70,AU70<>$AH70,AW70<>$AH70,AV70<>$AH70),$AH70,\nIF(AND(AQ70<>$AI70,AR70<>$AI70,AS70<>$AI70,AT70<>$AI70,AU70<>$AI70,AW70<>$AI70,AV70<>$AI70),$AI70,\nIF(AND(AQ70<>$AJ70,AR70<>$AJ70,AS70<>$AJ70,AT70<>$AJ70,AU70<>$AJ70,AW70<>$AJ70,AV70<>$AJ70),$AJ70,\nIF(AND(AQ70<>$AK70,AR70<>$AK70,AS70<>$AK70,AT70<>$AK70,AU70<>$AK70,AW70<>$AK70,AV70<>$AK70),$AK70,\nIF(AND(AQ70<>$AL70,AR70<>$AL70,AS70<>$AL70,AT70<>$AL70,AU70<>$AL70,AW70<>$AL70,AV70<>$AL70),$AL70,\nIF(AND(AQ70<>$AM70,AR70<>$AM70,AS70<>$AM70,AT70<>$AM70,AU70<>$AM70,AW70<>$AM70,AV70<>$AM70),$AM70,\nIF(AND(AQ70<>$AN70,AR70<>$AN70,AS70<>$AN70,AT70<>$AN70,AU70<>$AN70,AW70<>$AN70,AV70<>$AN70),$AN70,\nIF(AND(AQ70<>$AO70,AR70<>$AO70,AS70<>$AO70,AT70<>$AO70,AU70<>$AO70,AW70<>$AO70,AV70<>$AO70),$AO70,\n\"\")))))))))))","v":""},{"$f":"IF(AX70=\"\",\"\",\nIF(AND(AQ70<>$AF70,AR70<>$AF70,AS70<>$AF70,AT70<>$AF70,AU70<>$AF70,AV70<>$AF70,AX70<>$AF70,AW70<>$AF70),$AF70,\nIF(AND(AQ70<>$AG70,AR70<>$AG70,AS70<>$AG70,AT70<>$AG70,AU70<>$AG70,AV70<>$AG70,AX70<>$AG70,AW70<>$AG70),$AG70,\nIF(AND(AQ70<>$AH70,AR70<>$AH70,AS70<>$AH70,AT70<>$AH70,AU70<>$AH70,AV70<>$AH70,AX70<>$AH70,AW70<>$AH70),$AH70,\nIF(AND(AQ70<>$AI70,AR70<>$AI70,AS70<>$AI70,AT70<>$AI70,AU70<>$AI70,AV70<>$AI70,AX70<>$AI70,AW70<>$AI70),$AI70,\nIF(AND(AQ70<>$AJ70,AR70<>$AJ70,AS70<>$AJ70,AT70<>$AJ70,AU70<>$AJ70,AV70<>$AJ70,AX70<>$AJ70,AW70<>$AJ70),$AJ70,\nIF(AND(AQ70<>$AK70,AR70<>$AK70,AS70<>$AK70,AT70<>$AK70,AU70<>$AK70,AV70<>$AK70,AX70<>$AK70,AW70<>$AK70),$AK70,\nIF(AND(AQ70<>$AL70,AR70<>$AL70,AS70<>$AL70,AT70<>$AL70,AU70<>$AL70,AV70<>$AL70,AX70<>$AL70,AW70<>$AL70),$AL70,\nIF(AND(AQ70<>$AM70,AR70<>$AM70,AS70<>$AM70,AT70<>$AM70,AU70<>$AM70,AV70<>$AM70,AX70<>$AM70,AW70<>$AM70),$AM70,\nIF(AND(AQ70<>$AN70,AR70<>$AN70,AS70<>$AN70,AT70<>$AN70,AU70<>$AN70,AV70<>$AN70,AX70<>$AN70,AW70<>$AN70),$AN70,\nIF(AND(AQ70<>$AO70,AR70<>$AO70,AS70<>$AO70,AT70<>$AO70,AU70<>$AO70,AV70<>$AO70,AX70<>$AO70,AW70<>$AO70),$AO70,\n\"\")))))))))))","v":""},{"$f":"IF(AY70=\"\",\"\",\nIF(AND(AQ70<>$AF70,AR70<>$AF70,AS70<>$AF70,AT70<>$AF70,AU70<>$AF70,AV70<>$AF70,AW70<>$AF70,AY70<>$AF70,AX70<>$AF70),$AF70,\nIF(AND(AQ70<>$AG70,AR70<>$AG70,AS70<>$AG70,AT70<>$AG70,AU70<>$AG70,AV70<>$AG70,AW70<>$AG70,AY70<>$AG70,AX70<>$AG70),$AG70,\nIF(AND(AQ70<>$AH70,AR70<>$AH70,AS70<>$AH70,AT70<>$AH70,AU70<>$AH70,AV70<>$AH70,AW70<>$AH70,AY70<>$AH70,AX70<>$AH70),$AH70,\nIF(AND(AQ70<>$AI70,AR70<>$AI70,AS70<>$AI70,AT70<>$AI70,AU70<>$AI70,AV70<>$AI70,AW70<>$AI70,AY70<>$AI70,AX70<>$AI70),$AI70,\nIF(AND(AQ70<>$AJ70,AR70<>$AJ70,AS70<>$AJ70,AT70<>$AJ70,AU70<>$AJ70,AV70<>$AJ70,AW70<>$AJ70,AY70<>$AJ70,AX70<>$AJ70),$AJ70,\nIF(AND(AQ70<>$AK70,AR70<>$AK70,AS70<>$AK70,AT70<>$AK70,AU70<>$AK70,AV70<>$AK70,AW70<>$AK70,AY70<>$AK70,AX70<>$AK70),$AK70,\nIF(AND(AQ70<>$AL70,AR70<>$AL70,AS70<>$AL70,AT70<>$AL70,AU70<>$AL70,AV70<>$AL70,AW70<>$AL70,AY70<>$AL70,AX70<>$AL70),$AL70,\nIF(AND(AQ70<>$AM70,AR70<>$AM70,AS70<>$AM70,AT70<>$AM70,AU70<>$AM70,AV70<>$AM70,AW70<>$AM70,AY70<>$AM70,AX70<>$AM70),$AM70,\nIF(AND(AQ70<>$AN70,AR70<>$AN70,AS70<>$AN70,AT70<>$AN70,AU70<>$AN70,AV70<>$AN70,AW70<>$AN70,AY70<>$AN70,AX70<>$AN70),$AN70,\nIF(AND(AQ70<>$AO70,AR70<>$AO70,AS70<>$AO70,AT70<>$AO70,AU70<>$AO70,AV70<>$AO70,AW70<>$AO70,AY70<>$AO70,AX70<>$AO70),$AO70,\n\"\")))))))))))","v":""}]
[null,{"$f":"IF(L71=\"x\",1,IF(ISNUMBER(L71),L71,0))","v":0},0,{"$f":"I71","v":"191.000"},{"$f":"J71 & IF(M71<>\"\",CHAR(10) & M71,\"\")","v":"Glas gebogen"},"",null,null,"191.000","Glas gebogen","Stk. ",null,null,null,null,null,null,null,null,"E100_PV_Module","x",null,null,"x",null,null,null,null,null,null,null,"Stk. ","m2","m2","m2","","","","","","",null,"Stk. ","m2","","","","","","","",""]
[null,0,0,{"$f":"I72","v":"192.000"},"Plexiglas",{"$f":"IF(C72=1,K72,\"\")","v":""},null,null,"192.000","Plexiglas","Stk. ",null,null,null,null,null,null,null,null,"E100_PV_Module","x",null,null,"x",null,null,null,null,null,null,null,{"$f":"\nIF(U72=\"x\",U$4,\nIF(V72=\"x\",V$4,\nIF(W72=\"x\",W$4,\nIF(X72=\"x\",X$4,\nIF(Y72=\"x\",Y$4,\nIF(Z72=\"x\",Z$4,\nIF(AA72=\"x\",AA$4,\nIF(AB72=\"x\",AB$4,\nIF(AC72=\"x\",AC$4,\nIF(AD72=\"x\",AD$4,\n\"\"))))))))))","v":"Stk. "},{"$f":"\nIF(V72=\"x\",V$4,\nIF(W72=\"x\",W$4,\nIF(X72=\"x\",X$4,\nIF(Y72=\"x\",Y$4,\nIF(Z72=\"x\",Z$4,\nIF(AA72=\"x\",AA$4,\nIF(AB72=\"x\",AB$4,\nIF(AC72=\"x\",AC$4,\nIF(AD72=\"x\",AD$4,\n\"\")))))))))","v":"m2"},{"$f":"\nIF(W72=\"x\",W$4,\nIF(X72=\"x\",X$4,\nIF(Y72=\"x\",Y$4,\nIF(Z72=\"x\",Z$4,\nIF(AA72=\"x\",AA$4,\nIF(AB72=\"x\",AB$4,\nIF(AC72=\"x\",AC$4,\nIF(AD72=\"x\",AD$4,\n\"\"))))))))","v":"m2"},{"$f":"\nIF(X72=\"x\",X$4,\nIF(Y72=\"x\",Y$4,\nIF(Z72=\"x\",Z$4,\nIF(AA72=\"x\",AA$4,\nIF(AB72=\"x\",AB$4,\nIF(AC72=\"x\",AC$4,\nIF(AD72=\"x\",AD$4,\n\"\")))))))","v":"m2"},{"$f":"\nIF(Y72=\"x\",Y$4,\nIF(Z72=\"x\",Z$4,\nIF(AA72=\"x\",AA$4,\nIF(AB72=\"x\",AB$4,\nIF(AC72=\"x\",AC$4,\nIF(AD72=\"x\",AD$4,\n\"\"))))))","v":""},{"$f":"\nIF(Z72=\"x\",Z$4,\nIF(AA72=\"x\",AA$4,\nIF(AB72=\"x\",AB$4,\nIF(AC72=\"x\",AC$4,\nIF(AD72=\"x\",AD$4,\n\"\")))))","v":""},{"$f":"\nIF(AA72=\"x\",AA$4,\nIF(AB72=\"x\",AB$4,\nIF(AC72=\"x\",AC$4,\nIF(AD72=\"x\",AD$4,\n\"\"))))","v":""},{"$f":"\nIF(AB72=\"x\",AB$4,\nIF(AC72=\"x\",AC$4,\nIF(AD72=\"x\",AD$4,\n\"\")))","v":""},{"$f":"\nIF(AC72=\"x\",AC$4,\nIF(AD72=\"x\",AD$4,\n\"\"))","v":""},{"$f":"\nIF(AD72=\"x\",AD$4,\n\"\")","v":""},null,{"$f":"AF72","v":"Stk. "},"m2","","","","","","","",""]
[null,0,0,"193.000","Folien flexibel","",null,null,"193.000","Folien flexibel","m2",null,null,null,null,null,null,null,null,"E100_PV_Module","x",null,null,"x",null,null,null,null,null,null,null,"Stk. ","m2","m2","m2","","","","","","",null,"Stk. ","m2","","","","","","","",""]
[null,0,0,"194.000","Blindmodule gerahmt","",null,null,"194.000","Blindmodule gerahmt","Stk. ",null,null,null,null,null,null,null,null,"E100_Blindmodule","x",null,null,"x",null,null,null,null,null,null,null,"Stk. ","m2","m2","m2","","","","","","",null,"Stk. ","m2","","","","","","","",""]
[null,0,0,"195.000","Blindmodule für Laminateinbau","",null,null,"195.000","Blindmodule für Laminateinbau","Stk. ",null,null,null,null,null,null,null,null,"E100_Blindmodule","x",null,null,"x",null,null,null,null,null,null,null,"Stk. ","m2","m2","m2","","","","","","",null,"Stk. ","m2","","","","","","","",""]
[null,0,0,"196.000","Blindmodule für Fassade","",null,null,"196.000","Blindmodule für Fassade","Stk. ",null,null,null,null,null,null,null,null,"E100_Blindmodule","x",null,null,"x",null,null,null,null,null,null,null,"Stk. ","m2","m2","m2","","","","","","",null,"Stk. ","m2","","","","","","","",""]
[null,0,0,{"$f":"I77","v":"197.000"},{"$f":"J77","v":"PVT-Hybridmodul"},"",null,null,"197.000","PVT-Hybridmodul","Stk. ",null,null,null,null,null,null,null,null,null,"x",null,null,"x",null,null,null,null,null,null,null,"Stk. ","m2","m2","m2","","","","","","",null,"Stk. ","m2","","","","","","","",""]

{"sheet":"200 PV- Montagesyst.","index":4,"n_rows":64,"n_cols":52,"rows_kept":64,"cut":false,"hidden":false,"merged":[[1,6,1,7],[3,6,3,7],[3,8,3,9],[2,6,2,9],[0,19,0,51]]}
[null,null,null,null,null,null,null,null,null,null,null,null,null,null,null,null,null,null,null,"AUSBLENDEN"]
[null,null,null,null,"Ausblenden",null,"Strukturebene 1:",null,200,"PV- Montagekonstruktion"]
[null,null,null,null,null,null,"Verbindlich"]
[null,"Show","Fill","SOQ-Nr.","Beschreibung","Einheit","Strukturebene 2",null,"Strukturebene 3",null,"Leistungs-Einheit","Position Hinzufügen","E- Box",null,null,null,null,null,null,"E-Box","Stk. ","Modul","lfm","m2","m3","Std.","Monate","Jahre","kWp","pau",null,"Pos1","Pos2","Pos3","Pos4","Pos5","Pos6","Pos7","Pos8","Pos9","Pos10",null,"Pos1","Pos2","Pos3","Pos4","Pos5","Pos6","Pos7","Pos8","Pos9","Pos10"]
[]
[null,{"$f":"IF(SUM(B7:B13)>0,1,0)","v":0},{"$f":"IF(L6=\"x\",1,IF(ISNUMBER(L6),1,0))","v":0},{"$f":"G6","v":"210.000"},{"$f":"H6 & IF(M6<>\"\",CHAR(10) & M6,\"\")","v":"Schrägdach Aufdach, dachparallel"},{"$f":"IF(C6=1,K6,\"\")","v":""},"210.000","Schrägdach Aufdach, dachparallel",null,null,null,null,null,null,null,null,null,null,null,null,null,null,null,null,null,null,null,null,null,null,null,{"$f":"\nIF(U6=\"x\",U$4,\nIF(V6=\"x\",V$4,\nIF(W6=\"x\",W$4,\nIF(X6=\"x\",X$4,\nIF(Y6=\"x\",Y$4,\nIF(Z6=\"x\",Z$4,\nIF(AA6=\"x\",AA$4,\nIF(AB6=\"x\",AB$4,\nIF(AC6=\"x\",AC$4,\nIF(AD6=\"x\",AD$4,\n\"\"))))))))))","v":""},{"$f":"\nIF(V6=\"x\",V$4,\nIF(W6=\"x\",W$4,\nIF(X6=\"x\",X$4,\nIF(Y6=\"x\",Y$4,\nIF(Z6=\"x\",Z$4,\nIF(AA6=\"x\",AA$4,\nIF(AB6=\"x\",AB$4,\nIF(AC6=\"x\",AC$4,\nIF(AD6=\"x\",AD$4,\n\"\")))))))))","v":""},{"$f":"\nIF(W6=\"x\",W$4,\nIF(X6=\"x\",X$4,\nIF(Y6=\"x\",Y$4,\nIF(Z6=\"x\",Z$4,\nIF(AA6=\"x\",AA$4,\nIF(AB6=\"x\",AB$4,\nIF(AC6=\"x\",AC$4,\nIF(AD6=\"x\",AD$4,\n\"\"))))))))","v":""},{"$f":"\nIF(X6=\"x\",X$4,\nIF(Y6=\"x\",Y$4,\nIF(Z6=\"x\",Z$4,\nIF(AA6=\"x\",AA$4,\nIF(AB6=\"x\",AB$4,\nIF(AC6=\"x\",AC$4,\nIF(AD6=\"x\",AD$4,\n\"\")))))))","v":""},{"$f":"\nIF(Y6=\"x\",Y$4,\nIF(Z6=\"x\",Z$4,\nIF(AA6=\"x\",AA$4,\nIF(AB6=\"x\",AB$4,\nIF(AC6=\"x\",AC$4,\nIF(AD6=\"x\",AD$4,\n\"\"))))))","v":""},{"$f":"\nIF(Z6=\"x\",Z$4,\nIF(AA6=\"x\",AA$4,\nIF(AB6=\"x\",AB$4,\nIF(AC6=\"x\",AC$4,\nIF(AD6=\"x\",AD$4,\n\"\")))))","v":""},{"$f":"\nIF(AA6=\"x\",AA$4,\nIF(AB6=\"x\",AB$4,\nIF(AC6=\"x\",AC$4,\nIF(AD6=\"x\",AD$4,\n\"\"))))","v":""},{"$f":"\nIF(AB6=\"x\",AB$4,\nIF(AC6=\"x\",AC$4,\nIF(AD6=\"x\",AD$4,\n\"\")))","v":""},{"$f":"\nIF(AC6=\"x\",AC$4,\nIF(AD6=\"x\",AD$4,\n\"\"))","v":""},{"$f":"\nIF(AD6=\"x\",AD$4,\n\"\")","v":""},null,{"$f":"AF6","v":""},{"$f":"IF(AQ6=\"\",\"\",\nIF(AQ6<>$AF6,$AF6,\nIF(AQ6<>$AG6,$AG6,\nIF(AQ6<>$AH6,$AH6,\nIF(AQ6<>$AI6,$AI6,\nIF(AQ6<>$AJ6,$AJ6,\nIF(AQ6<>$AK6,$AK6,\nIF(AQ6<>$AL6,$AL6,\nIF(AQ6<>$AM6,$AM6,\nIF(AQ6<>$AN6,$AN6,\nIF(AQ6<>$AO6,$AO6,\n\"\")))))))))))","v":""},{"$f":"IF(AR6=\"\",\"\",\nIF(AND(AR6<>$AF6,AQ6<>$AF6),$AF6,\nIF(AND(AR6<>$AG6,AQ6<>$AG6),$AG6,\nIF(AND(AR6<>$AH6,AQ6<>$AH6),$AH6,\nIF(AND(AR6<>$AI6,AQ6<>$AI6),$AI6,\nIF(AND(AR6<>$AJ6,AQ6<>$AJ6),$AJ6,\nIF(AND(AR6<>$AK6,AQ6<>$AK6),$AK6,\nIF(AND(AR6<>$AL6,AQ6<>$AL6),$AL6,\nIF(AND(AR6<>$AM6,AQ6<>$AM6),$AM6,\nIF(AND(AR6<>$AN6,AQ6<>$AN6),$AN6,\nIF(AND(AR6<>$AO6,AQ6<>$AO6),$AO6,\n\"\")))))))))))","v":""},{"$f":"IF(AS6=\"\",\"\",\nIF(AND(AQ6<>$AF6,AS6<>$AF6,AR6<>$AF6),$AF6,\nIF(AND(AQ6<>$AG6,AS6<>$AG6,AR6<>$AG6),$AG6,\nIF(AND(AQ6<>$AH6,AS6<>$AH6,AR6<>$AH6),$AH6,\nIF(AND(AQ6<>$AI6,AS6<>$AI6,AR6<>$AI6),$AI6,\nIF(AND(AQ6<>$AJ6,AS6<>$AJ6,AR6<>$AJ6),$AJ6,\nIF(AND(AQ6<>$AK6,AS6<>$AK6,AR6<>$AK6),$AK6,\nIF(AND(AQ6<>$AL6,AS6<>$AL6,AR6<>$AL6),$AL6,\nIF(AND(AQ6<>$AM6,AS6<>$AM6,AR6<>$AM6),$AM6,\nIF(AND(AQ6<>$AN6,AS6<>$AN6,AR6<>$AN6),$AN6,\nIF(AND(AQ6<>$AO6,AS6<>$AO6,AR6<>$AO6),$AO6,\n\"\")))))))))))","v":""},{"$f":"IF(AT6=\"\",\"\",\nIF(AND(AQ6<>$AF6,AR6<>$AF6,AT6<>$AF6,AS6<>$AF6),$AF6,\nIF(AND(AQ6<>$AG6,AR6<>$AG6,AT6<>$AG6,AS6<>$AG6),$AG6,\nIF(AND(AQ6<>$AH6,AR6<>$AH6,AT6<>$AH6,AS6<>$AH6),$AH6,\nIF(AND(AQ6<>$AI6,AR6<>$AI6,AT6<>$AI6,AS6<>$AI6),$AI6,\nIF(AND(AQ6<>$AJ6,AR6<>$AJ6,AT6<>$AJ6,AS6<>$AJ6),$AJ6,\nIF(AND(AQ6<>$AK6,AR6<>$AK6,AT6<>$AK6,AS6<>$AK6),$AK6,\nIF(AND(AQ6<>$AL6,AR6<>$AL6,AT6<>$AL6,AS6<>$AL6),$AL6,\nIF(AND(AQ6<>$AM6,AR6<>$AM6,AT6<>$AM6,AS6<>$AM6),$AM6,\nIF(AND(AQ6<>$AN6,AR6<>$AN6,AT6<>$AN6,AS6<>$AN6),$AN6,\nIF(AND(AQ6<>$AO6,AR6<>$AO6,AT6<>$AO6,AS6<>$AO6),$AO6,\n\"\")))))))))))","v":""},{"$f":"IF(AU6=\"\",\"\",\nIF(AND(AQ6<>$AF6,AR6<>$AF6,AS6<>$AF6,AU6<>$AF6,AT6<>$AF6),$AF6,\nIF(AND(AQ6<>$AG6,AR6<>$AG6,AS6<>$AG6,AU6<>$AG6,AT6<>$AG6),$AG6,\nIF(AND(AQ6<>$AH6,AR6<>$AH6,AS6<>$AH6,AU6<>$AH6,AT6<>$AH6),$AH6,\nIF(AND(AQ6<>$AI6,AR6<>$AI6,AS6<>$AI6,AU6<>$AI6,AT6<>$AI6),$AI6,\nIF(AND(AQ6<>$AJ6,AR6<>$AJ6,AS6<>$AJ6,AU6<>$AJ6,AT6<>$AJ6),$AJ6,\nIF(AND(AQ6<>$AK6,AR6<>$AK6,AS6<>$AK6,AU6<>$AK6,AT6<>$AK6),$AK6,\nIF(AND(AQ6<>$AL6,AR6<>$AL6,AS6<>$AL6,AU6<>$AL6,AT6<>$AL6),$AL6,\nIF(AND(AQ6<>$AM6,AR6<>$AM6,AS6<>$AM6,AU6<>$AM6,AT6<>$AM6),$AM6,\nIF(AND(AQ6<>$AN6,AR6<>$AN6,AS6<>$AN6,AU6<>$AN6,AT6<>$AN6),$AN6,\nIF(AND(AQ6<>$AO6,AR6<>$AO6,AS6<>$AO6,AU6<>$AO6,AT6<>$AO6),$AO6,\n\"\")))))))))))","v":""},{"$f":"IF(AV6=\"\",\"\",\nIF(AND(AQ6<>$AF6,AR6<>$AF6,AS6<>$AF6,AT6<>$AF6,AV6<>$AF6,AU6<>$AF6),$AF6,\nIF(AND(AQ6<>$AG6,AR6<>$AG6,AS6<>$AG6,AT6<>$AG6,AV6<>$AG6,AU6<>$AG6),$AG6,\nIF(AND(AQ6<>$AH6,AR6<>$AH6,AS6<>$AH6,AT6<>$AH6,AV6<>$AH6,AU6<>$AH6),$AH6,\nIF(AND(AQ6<>$AI6,AR6<>$AI6,AS6<>$AI6,AT6<>$AI6,AV6<>$AI6,AU6<>$AI6),$AI6,\nIF(AND(AQ6<>$AJ6,AR6<>$AJ6,AS6<>$AJ6,AT6<>$AJ6,AV6<>$AJ6,AU6<>$AJ6),$AJ6,\nIF(AND(AQ6<>$AK6,AR6<>$AK6,AS6<>$AK6,AT6<>$AK6,AV6<>$AK6,AU6<>$AK6),$AK6,\nIF(AND(AQ6<>$AL6,AR6<>$AL6,AS6<>$AL6,AT6<>$AL6,AV6<>$AL6,AU6<>$AL6),$AL6,\nIF(AND(AQ6<>$AM6,AR6<>$AM6,AS6<>$AM6,AT6<>$AM6,AV6<>$AM6,AU6<>$AM6),$AM6,\nIF(AND(AQ6<>$AN6,AR6<>$AN6,AS6<>$AN6,AT6<>$AN6,AV6<>$AN6,AU6<>$AN6),$AN6,\nIF(AND(AQ6<>$AO6,AR6<>$AO6,AS6<>$AO6,AT6<>$AO6,AV6<>$AO6,AU6<>$AO6),$AO6,\n\"\")))))))))))","v":""},{"$f":"IF(AW6=\"\",\"\",\nIF(AND(AQ6<>$AF6,AR6<>$AF6,AS6<>$AF6,AT6<>$AF6,AU6<>$AF6,AW6<>$AF6,AV6<>$AF6),$AF6,\nIF(AND(AQ6<>$AG6,AR6<>$AG6,AS6<>$AG6,AT6<>$AG6,AU6<>$AG6,AW6<>$AG6,AV6<>$AG6),$AG6,\nIF(AND(AQ6<>$AH6,AR6<>$AH6,AS6<>$AH6,AT6<>$AH6,AU6<>$AH6,AW6<>$AH6,AV6<>$AH6),$AH6,\nIF(AND(AQ6<>$AI6,AR6<>$AI6,AS6<>$AI6,AT6<>$AI6,AU6<>$AI6,AW6<>$AI6,AV6<>$AI6),$AI6,\nIF(AND(AQ6<>$AJ6,AR6<>$AJ6,AS6<>$AJ6,AT6<>$AJ6,AU6<>$AJ6,AW6<>$AJ6,AV6<>$AJ6),$AJ6,\nIF(AND(AQ6<>$AK6,AR6<>$AK6,AS6<>$AK6,AT6<>$AK6,AU6<>$AK6,AW6<>$AK6,AV6<>$AK6),$AK6,\nIF(AND(AQ6<>$AL6,AR6<>$AL6,AS6<>$AL6,AT6<>$AL6,AU6<>$AL6,AW6<>$AL6,AV6<>$AL6),$AL6,\nIF(AND(AQ6<>$AM6,AR6<>$AM6,AS6<>$AM6,AT6<>$AM6,AU6<>$AM6,AW6<>$AM6,AV6<>$AM6),$AM6,\nIF(AND(AQ6<>$AN6,AR6<>$AN6,AS6<>$AN6,AT6<>$AN6,AU6<>$AN6,AW6<>$AN6,AV6<>$AN6),$AN6,\nIF(AND(AQ6<>$AO6,AR6<>$AO6,AS6<>$AO6,AT6<>$AO6,AU6<>$AO6,AW6<>$AO6,AV6<>$AO6),$AO6,\n\"\")))))))))))","v":""},{"$f":"IF(AX6=\"\",\"\",\nIF(AND(AQ6<>$AF6,AR6<>$AF6,AS6<>$AF6,AT6<>$AF6,AU6<>$AF6,AV6<>$AF6,AX6<>$AF6,AW6<>$AF6),$AF6,\nIF(AND(AQ6<>$AG6,AR6<>$AG6,AS6<>$AG6,AT6<>$AG6,AU6<>$AG6,AV6<>$AG6,AX6<>$AG6,AW6<>$AG6),$AG6,\nIF(AND(AQ6<>$AH6,AR6<>$AH6,AS6<>$AH6,AT6<>$AH6,AU6<>$AH6,AV6<>$AH6,AX6<>$AH6,AW6<>$AH6),$AH6,\nIF(AND(AQ6<>$AI6,AR6<>$AI6,AS6<>$AI6,AT6<>$AI6,AU6<>$AI6,AV6<>$AI6,AX6<>$AI6,AW6<>$AI6),$AI6,\nIF(AND(AQ6<>$AJ6,AR6<>$AJ6,AS6<>$AJ6,AT6<>$AJ6,AU6<>$AJ6,AV6<>$AJ6,AX6<>$AJ6,AW6<>$AJ6),$AJ6,\nIF(AND(AQ6<>$AK6,AR6<>$AK6,AS6<>$AK6,AT6<>$AK6,AU6<>$AK6,AV6<>$AK6,AX6<>$AK6,AW6<>$AK6),$AK6,\nIF(AND(AQ6<>$AL6,AR6<>$AL6,AS6<>$AL6,AT6<>$AL6,AU6<>$AL6,AV6<>$AL6,AX6<>$AL6,AW6<>$AL6),$AL6,\nIF(AND(AQ6<>$AM6,AR6<>$AM6,AS6<>$AM6,AT6<>$AM6,AU6<>$AM6,AV6<>$AM6,AX6<>$AM6,AW6<>$AM6),$AM6,\nIF(AND(AQ6<>$AN6,AR6<>$AN6,AS6<>$AN6,AT6<>$AN6,AU6<>$AN6,AV6<>$AN6,AX6<>$AN6,AW6<>$AN6),$AN6,\nIF(AND(AQ6<>$AO6,AR6<>$AO6,AS6<>$AO6,AT6<>$AO6,AU6<>$AO6,AV6<>$AO6,AX6<>$AO6,AW6<>$AO6),$AO6,\n\"\")))))))))))","v":""},{"$f":"IF(AY6=\"\",\"\",\nIF(AND(AQ6<>$AF6,AR6<>$AF6,AS6<>$AF6,AT6<>$AF6,AU6<>$AF6,AV6<>$AF6,AW6<>$AF6,AY6<>$AF6,AX6<>$AF6),$AF6,\nIF(AND(AQ6<>$AG6,AR6<>$AG6,AS6<>$AG6,AT6<>$AG6,AU6<>$AG6,AV6<>$AG6,AW6<>$AG6,AY6<>$AG6,AX6<>$AG6),$AG6,\nIF(AND(AQ6<>$AH6,AR6<>$AH6,AS6<>$AH6,AT6<>$AH6,AU6<>$AH6,AV6<>$AH6,AW6<>$AH6,AY6<>$AH6,AX6<>$AH6),$AH6,\nIF(AND(AQ6<>$AI6,AR6<>$AI6,AS6<>$AI6,AT6<>$AI6,AU6<>$AI6,AV6<>$AI6,AW6<>$AI6,AY6<>$AI6,AX6<>$AI6),$AI6,\nIF(AND(AQ6<>$AJ6,AR6<>$AJ6,AS6<>$AJ6,AT6<>$AJ6,AU6<>$AJ6,AV6<>$AJ6,AW6<>$AJ6,AY6<>$AJ6,AX6<>$AJ6),$AJ6,\nIF(AND(AQ6<>$AK6,AR6<>$AK6,AS6<>$AK6,AT6<>$AK6,AU6<>$AK6,AV6<>$AK6,AW6<>$AK6,AY6<>$AK6,AX6<>$AK6),$AK6,\nIF(AND(AQ6<>$AL6,AR6<>$AL6,AS6<>$AL6,AT6<>$AL6,AU6<>$AL6,AV6<>$AL6,AW6<>$AL6,AY6<>$AL6,AX6<>$AL6),$AL6,\nIF(AND(AQ6<>$AM6,AR6<>$AM6,AS6<>$AM6,AT6<>$AM6,AU6<>$AM6,AV6<>$AM6,AW6<>$AM6,AY6<>$AM6,AX6<>$AM6),$AM6,\nIF(AND(AQ6<>$AN6,AR6<>$AN6,AS6<>$AN6,AT6<>$AN6,AU6<>$AN6,AV6<>$AN6,AW6<>$AN6,AY6<>$AN6,AX6<>$AN6),$AN6,\nIF(AND(AQ6<>$AO6,AR6<>$AO6,AS6<>$AO6,AT6<>$AO6,AU6<>$AO6,AV6<>$AO6,AW6<>$AO6,AY6<>$AO6,AX6<>$AO6),$AO6,\n\"\")))))))))))","v":""}]
[null,{"$f":"IF(L7=\"x\",1,IF(ISNUMBER(L7),L7,0))","v":0},{"$f":"IF(L7=\"x\",1,IF(ISNUMBER(L7),1,0))","v":0},{"$f":"I7","v":"211.000"},{"$f":"J7 & IF(M7<>\"\",CHAR(10) & M7,\"\")","v":"Ziegel, auf Sparren befestigt"},{"$f":"IF(C7=1,K7,\"\")","v":""},null,null,"211.000","Ziegel, auf Sparren befestigt","Modul",null,null,null,null,null,null,null,null,"E200_PV_Montagekonstruktion",null,"x",null,null,null,null,null,null,null,null,null,{"$f":"\nIF(U7=\"x\",U$4,\nIF(V7=\"x\",V$4,\nIF(W7=\"x\",W$4,\nIF(X7=\"x\",X$4,\nIF(Y7=\"x\",Y$4,\nIF(Z7=\"x\",Z$4,\nIF(AA7=\"x\",AA$4,\nIF(AB7=\"x\",AB$4,\nIF(AC7=\"x\",AC$4,\nIF(AD7=\"x\",AD$4,\n\"\"))))))))))","v":"Modul"},{"$f":"\nIF(V7=\"x\",V$4,\nIF(W7=\"x\",W$4,\nIF(X7=\"x\",X$4,\nIF(Y7=\"x\",Y$4,\nIF(Z7=\"x\",Z$4,\nIF(AA7=\"x\",AA$4,\nIF(AB7=\"x\",AB$4,\nIF(AC7=\"x\",AC$4,\nIF(AD7=\"x\",AD$4,\n\"\")))))))))","v":"Modul"},{"$f":"\nIF(W7=\"x\",W$4,\nIF(X7=\"x\",X$4,\nIF(Y7=\"x\",Y$4,\nIF(Z7=\"x\",Z$4,\nIF(AA7=\"x\",AA$4,\nIF(AB7=\"x\",AB$4,\nIF(AC7=\"x\",AC$4,\nIF(AD7=\"x\",AD$4,\n\"\"))))))))","v":""},{"$f":"\nIF(X7=\"x\",X$4,\nIF(Y7=\"x\",Y$4,\nIF(Z7=\"x\",Z$4,\nIF(AA7=\"x\",AA$4,\nIF(AB7=\"x\",AB$4,\nIF(AC7=\"x\",AC$4,\nIF(AD7=\"x\",AD$4,\n\"\")))))))","v":""},{"$f":"\nIF(Y7=\"x\",Y$4,\nIF(Z7=\"x\",Z$4,\nIF(AA7=\"x\",AA$4,\nIF(AB7=\"x\",AB$4,\nIF(AC7=\"x\",AC$4,\nIF(AD7=\"x\",AD$4,\n\"\"))))))","v":""},{"$f":"\nIF(Z7=\"x\",Z$4,\nIF(AA7=\"x\",AA$4,\nIF(AB7=\"x\",AB$4,\nIF(AC7=\"x\",AC$4,\nIF(AD7=\"x\",AD$4,\n\"\")))))","v":""},{"$f":"\nIF(AA7=\"x\",AA$4,\nIF(AB7=\"x\",AB$4,\nIF(AC7=\"x\",AC$4,\nIF(AD7=\"x\",AD$4,\n\"\"))))","v":""},{"$f":"\nIF(AB7=\"x\",AB$4,\nIF(AC7=\"x\",AC$4,\nIF(AD7=\"x\",AD$4,\n\"\")))","v":""},{"$f":"\nIF(AC7=\"x\",AC$4,\nIF(AD7=\"x\",AD$4,\n\"\"))","v":""},{"$f":"\nIF(AD7=\"x\",AD$4,\n\"\")","v":""},null,{"$f":"AF7","v":"Modul"},"",{"$f":"IF(AR7=\"\",\"\",\nIF(AND(AR7<>$AF7,AQ7<>$AF7),$AF7,\nIF(AND(AR7<>$AG7,AQ7<>$AG7),$AG7,\nIF(AND(AR7<>$AH7,AQ7<>$AH7),$AH7,\nIF(AND(AR7<>$AI7,AQ7<>$AI7),$AI7,\nIF(AND(AR7<>$AJ7,AQ7<>$AJ7),$AJ7,\nIF(AND(AR7<>$AK7,AQ7<>$AK7),$AK7,\nIF(AND(AR7<>$AL7,AQ7<>$AL7),$AL7,\nIF(AND(AR7<>$AM7,AQ7<>$AM7),$AM7,\nIF(AND(AR7<>$AN7,AQ7<>$AN7),$AN7,\nIF(AND(AR7<>$AO7,AQ7<>$AO7),$AO7,\n\"\")))))))))))","v":""},{"$f":"IF(AS7=\"\",\"\",\nIF(AND(AQ7<>$AF7,AS7<>$AF7,AR7<>$AF7),$AF7,\nIF(AND(AQ7<>$AG7,AS7<>$AG7,AR7<>$AG7),$AG7,\nIF(AND(AQ7<>$AH7,AS7<>$AH7,AR7<>$AH7),$AH7,\nIF(AND(AQ7<>$AI7,AS7<>$AI7,AR7<>$AI7),$AI7,\nIF(AND(AQ7<>$AJ7,AS7<>$AJ7,AR7<>$AJ7),$AJ7,\nIF(AND(AQ7<>$AK7,AS7<>$AK7,AR7<>$AK7),$AK7,\nIF(AND(AQ7<>$AL7,AS7<>$AL7,AR7<>$AL7),$AL7,\nIF(AND(AQ7<>$AM7,AS7<>$AM7,AR7<>$AM7),$AM7,\nIF(AND(AQ7<>$AN7,AS7<>$AN7,AR7<>$AN7),$AN7,\nIF(AND(AQ7<>$AO7,AS7<>$AO7,AR7<>$AO7),$AO7,\n\"\")))))))))))","v":""},{"$f":"IF(AT7=\"\",\"\",\nIF(AND(AQ7<>$AF7,AR7<>$AF7,AT7<>$AF7,AS7<>$AF7),$AF7,\nIF(AND(AQ7<>$AG7,AR7<>$AG7,AT7<>$AG7,AS7<>$AG7),$AG7,\nIF(AND(AQ7<>$AH7,AR7<>$AH7,AT7<>$AH7,AS7<>$AH7),$AH7,\nIF(AND(AQ7<>$AI7,AR7<>$AI7,AT7<>$AI7,AS7<>$AI7),$AI7,\nIF(AND(AQ7<>$AJ7,AR7<>$AJ7,AT7<>$AJ7,AS7<>$AJ7),$AJ7,\nIF(AND(AQ7<>$AK7,AR7<>$AK7,AT7<>$AK7,AS7<>$AK7),$AK7,\nIF(AND(AQ7<>$AL7,AR7<>$AL7,AT7<>$AL7,AS7<>$AL7),$AL7,\nIF(AND(AQ7<>$AM7,AR7<>$AM7,AT7<>$AM7,AS7<>$AM7),$AM7,\nIF(AND(AQ7<>$AN7,AR7<>$AN7,AT7<>$AN7,AS7<>$AN7),$AN7,\nIF(AND(AQ7<>$AO7,AR7<>$AO7,AT7<>$AO7,AS7<>$AO7),$AO7,\n\"\")))))))))))","v":""},{"$f":"IF(AU7=\"\",\"\",\nIF(AND(AQ7<>$AF7,AR7<>$AF7,AS7<>$AF7,AU7<>$AF7,AT7<>$AF7),$AF7,\nIF(AND(AQ7<>$AG7,AR7<>$AG7,AS7<>$AG7,AU7<>$AG7,AT7<>$AG7),$AG7,\nIF(AND(AQ7<>$AH7,AR7<>$AH7,AS7<>$AH7,AU7<>$AH7,AT7<>$AH7),$AH7,\nIF(AND(AQ7<>$AI7,AR7<>$AI7,AS7<>$AI7,AU7<>$AI7,AT7<>$AI7),$AI7,\nIF(AND(AQ7<>$AJ7,AR7<>$AJ7,AS7<>$AJ7,AU7<>$AJ7,AT7<>$AJ7),$AJ7,\nIF(AND(AQ7<>$AK7,AR7<>$AK7,AS7<>$AK7,AU7<>$AK7,AT7<>$AK7),$AK7,\nIF(AND(AQ7<>$AL7,AR7<>$AL7,AS7<>$AL7,AU7<>$AL7,AT7<>$AL7),$AL7,\nIF(AND(AQ7<>$AM7,AR7<>$AM7,AS7<>$AM7,AU7<>$AM7,AT7<>$AM7),$AM7,\nIF(AND(AQ7<>$AN7,AR7<>$AN7,AS7<>$AN7,AU7<>$AN7,AT7<>$AN7),$AN7,\nIF(AND(AQ7<>$AO7,AR7<>$AO7,AS7<>$AO7,AU7<>$AO7,AT7<>$AO7),$AO7,\n\"\")))))))))))","v":""},{"$f":"IF(AV7=\"\",\"\",\nIF(AND(AQ7<>$AF7,AR7<>$AF7,AS7<>$AF7,AT7<>$AF7,AV7<>$AF7,AU7<>$AF7),$AF7,\nIF(AND(AQ7<>$AG7,AR7<>$AG7,AS7<>$AG7,AT7<>$AG7,AV7<>$AG7,AU7<>$AG7),$AG7,\nIF(AND(AQ7<>$AH7,AR7<>$AH7,AS7<>$AH7,AT7<>$AH7,AV7<>$AH7,AU7<>$AH7),$AH7,\nIF(AND(AQ7<>$AI7,AR7<>$AI7,AS7<>$AI7,AT7<>$AI7,AV7<>$AI7,AU7<>$AI7),$AI7,\nIF(AND(AQ7<>$AJ7,AR7<>$AJ7,AS7<>$AJ7,AT7<>$AJ7,AV7<>$AJ7,AU7<>$AJ7),$AJ7,\nIF(AND(AQ7<>$AK7,AR7<>$AK7,AS7<>$AK7,AT7<>$AK7,AV7<>$AK7,AU7<>$AK7),$AK7,\nIF(AND(AQ7<>$AL7,AR7<>$AL7,AS7<>$AL7,AT7<>$AL7,AV7<>$AL7,AU7<>$AL7),$AL7,\nIF(AND(AQ7<>$AM7,AR7<>$AM7,AS7<>$AM7,AT7<>$AM7,AV7<>$AM7,AU7<>$AM7),$AM7,\nIF(AND(AQ7<>$AN7,AR7<>$AN7,AS7<>$AN7,AT7<>$AN7,AV7<>$AN7,AU7<>$AN7),$AN7,\nIF(AND(AQ7<>$AO7,AR7<>$AO7,AS7<>$AO7,AT7<>$AO7,AV7<>$AO7,AU7<>$AO7),$AO7,\n\"\")))))))))))","v":""},{"$f":"IF(AW7=\"\",\"\",\nIF(AND(AQ7<>$AF7,AR7<>$AF7,AS7<>$AF7,AT7<>$AF7,AU7<>$AF7,AW7<>$AF7,AV7<>$AF7),$AF7,\nIF(AND(AQ7<>$AG7,AR7<>$AG7,AS7<>$AG7,AT7<>$AG7,AU7<>$AG7,AW7<>$AG7,AV7<>$AG7),$AG7,\nIF(AND(AQ7<>$AH7,AR7<>$AH7,AS7<>$AH7,AT7<>$AH7,AU7<>$AH7,AW7<>$AH7,AV7<>$AH7),$AH7,\nIF(AND(AQ7<>$AI7,AR7<>$AI7,AS7<>$AI7,AT7<>$AI7,AU7<>$AI7,AW7<>$AI7,AV7<>$AI7),$AI7,\nIF(AND(AQ7<>$AJ7,AR7<>$AJ7,AS7<>$AJ7,AT7<>$AJ7,AU7<>$AJ7,AW7<>$AJ7,AV7<>$AJ7),$AJ7,\nIF(AND(AQ7<>$AK7,AR7<>$AK7,AS7<>$AK7,AT7<>$AK7,AU7<>$AK7,AW7<>$AK7,AV7<>$AK7),$AK7,\nIF(AND(AQ7<>$AL7,AR7<>$AL7,AS7<>$AL7,AT7<>$AL7,AU7<>$AL7,AW7<>$AL7,AV7<>$AL7),$AL7,\nIF(AND(AQ7<>$AM7,AR7<>$AM7,AS7<>$AM7,AT7<>$AM7,AU7<>$AM7,AW7<>$AM7,AV7<>$AM7),$AM7,\nIF(AND(AQ7<>$AN7,AR7<>$AN7,AS7<>$AN7,AT7<>$AN7,AU7<>$AN7,AW7<>$AN7,AV7<>$AN7),$AN7,\nIF(AND(AQ7<>$AO7,AR7<>$AO7,AS7<>$AO7,AT7<>$AO7,AU7<>$AO7,AW7<>$AO7,AV7<>$AO7),$AO7,\n\"\")))))))))))","v":""},{"$f":"IF(AX7=\"\",\"\",\nIF(AND(AQ7<>$AF7,AR7<>$AF7,AS7<>$AF7,AT7<>$AF7,AU7<>$AF7,AV7<>$AF7,AX7<>$AF7,AW7<>$AF7),$AF7,\nIF(AND(AQ7<>$AG7,AR7<>$AG7,AS7<>$AG7,AT7<>$AG7,AU7<>$AG7,AV7<>$AG7,AX7<>$AG7,AW7<>$AG7),$AG7,\nIF(AND(AQ7<>$AH7,AR7<>$AH7,AS7<>$AH7,AT7<>$AH7,AU7<>$AH7,AV7<>$AH7,AX7<>$AH7,AW7<>$AH7),$AH7,\nIF(AND(AQ7<>$AI7,AR7<>$AI7,AS7<>$AI7,AT7<>$AI7,AU7<>$AI7,AV7<>$AI7,AX7<>$AI7,AW7<>$AI7),$AI7,\nIF(AND(AQ7<>$AJ7,AR7<>$AJ7,AS7<>$AJ7,AT7<>$AJ7,AU7<>$AJ7,AV7<>$AJ7,AX7<>$AJ7,AW7<>$AJ7),$AJ7,\nIF(AND(AQ7<>$AK7,AR7<>$AK7,AS7<>$AK7,AT7<>$AK7,AU7<>$AK7,AV7<>$AK7,AX7<>$AK7,AW7<>$AK7),$AK7,\nIF(AND(AQ7<>$AL7,AR7<>$AL7,AS7<>$AL7,AT7<>$AL7,AU7<>$AL7,AV7<>$AL7,AX7<>$AL7,AW7<>$AL7),$AL7,\nIF(AND(AQ7<>$AM7,AR7<>$AM7,AS7<>$AM7,AT7<>$AM7,AU7<>$AM7,AV7<>$AM7,AX7<>$AM7,AW7<>$AM7),$AM7,\nIF(AND(AQ7<>$AN7,AR7<>$AN7,AS7<>$AN7,AT7<>$AN7,AU7<>$AN7,AV7<>$AN7,AX7<>$AN7,AW7<>$AN7),$AN7,\nIF(AND(AQ7<>$AO7,AR7<>$AO7,AS7<>$AO7,AT7<>$AO7,AU7<>$AO7,AV7<>$AO7,AX7<>$AO7,AW7<>$AO7),$AO7,\n\"\")))))))))))","v":""},{"$f":"IF(AY7=\"\",\"\",\nIF(AND(AQ7<>$AF7,AR7<>$AF7,AS7<>$AF7,AT7<>$AF7,AU7<>$AF7,AV7<>$AF7,AW7<>$AF7,AY7<>$AF7,AX7<>$AF7),$AF7,\nIF(AND(AQ7<>$AG7,AR7<>$AG7,AS7<>$AG7,AT7<>$AG7,AU7<>$AG7,AV7<>$AG7,AW7<>$AG7,AY7<>$AG7,AX7<>$AG7),$AG7,\nIF(AND(AQ7<>$AH7,AR7<>$AH7,AS7<>$AH7,AT7<>$AH7,AU7<>$AH7,AV7<>$AH7,AW7<>$AH7,AY7<>$AH7,AX7<>$AH7),$AH7,\nIF(AND(AQ7<>$AI7,AR7<>$AI7,AS7<>$AI7,AT7<>$AI7,AU7<>$AI7,AV7<>$AI7,AW7<>$AI7,AY7<>$AI7,AX7<>$AI7),$AI7,\nIF(AND(AQ7<>$AJ7,AR7<>$AJ7,AS7<>$AJ7,AT7<>$AJ7,AU7<>$AJ7,AV7<>$AJ7,AW7<>$AJ7,AY7<>$AJ7,AX7<>$AJ7),$AJ7,\nIF(AND(AQ7<>$AK7,AR7<>$AK7,AS7<>$AK7,AT7<>$AK7,AU7<>$AK7,AV7<>$AK7,AW7<>$AK7,AY7<>$AK7,AX7<>$AK7),$AK7,\nIF(AND(AQ7<>$AL7,AR7<>$AL7,AS7<>$AL7,AT7<>$AL7,AU7<>$AL7,AV7<>$AL7,AW7<>$AL7,AY7<>$AL7,AX7<>$AL7),$AL7,\nIF(AND(AQ7<>$AM7,AR7<>$AM7,AS7<>$AM7,AT7<>$AM7,AU7<>$AM7,AV7<>$AM7,AW7<>$AM7,AY7<>$AM7,AX7<>$AM7),$AM7,\nIF(AND(AQ7<>$AN7,AR7<>$AN7,AS7<>$AN7,AT7<>$AN7,AU7<>$AN7,AV7<>$AN7,AW7<>$AN7,AY7<>$AN7,AX7<>$AN7),$AN7,\nIF(AND(AQ7<>$AO7,AR7<>$AO7,AS7<>$AO7,AT7<>$AO7,AU7<>$AO7,AV7<>$AO7,AW7<>$AO7,AY7<>$AO7,AX7<>$AO7),$AO7,\n\"\")))))))))))","v":""}]
[null,0,{"$f":"IF(L8=\"x\",1,IF(ISNUMBER(L8),1,0))","v":0},{"$f":"I8","v":"212.000"},{"$f":"J8 & IF(M8<>\"\",CHAR(10) & M8,\"\")","v":"Biberschwanz, auf Sparren befestigt"},{"$f":"IF(C8=1,K8,\"\")","v":""},null,null,"212.000","Biberschwanz, auf Sparren befestigt","Modul",null,null,null,null,null,null,null,null,"E200_PV_Montagekonstruktion",null,"x",null,null,null,null,null,null,null,null,null,{"$f":"\nIF(U8=\"x\",U$4,\nIF(V8=\"x\",V$4,\nIF(W8=\"x\",W$4,\nIF(X8=\"x\",X$4,\nIF(Y8=\"x\",Y$4,\nIF(Z8=\"x\",Z$4,\nIF(AA8=\"x\",AA$4,\nIF(AB8=\"x\",AB$4,\nIF(AC8=\"x\",AC$4,\nIF(AD8=\"x\",AD$4,\n\"\"))))))))))","v":"Modul"},{"$f":"\nIF(V8=\"x\",V$4,\nIF(W8=\"x\",W$4,\nIF(X8=\"x\",X$4,\nIF(Y8=\"x\",Y$4,\nIF(Z8=\"x\",Z$4,\nIF(AA8=\"x\",AA$4,\nIF(AB8=\"x\",AB$4,\nIF(AC8=\"x\",AC$4,\nIF(AD8=\"x\",AD$4,\n\"\")))))))))","v":"Modul"},{"$f":"\nIF(W8=\"x\",W$4,\nIF(X8=\"x\",X$4,\nIF(Y8=\"x\",Y$4,\nIF(Z8=\"x\",Z$4,\nIF(AA8=\"x\",AA$4,\nIF(AB8=\"x\",AB$4,\nIF(AC8=\"x\",AC$4,\nIF(AD8=\"x\",AD$4,\n\"\"))))))))","v":""},{"$f":"\nIF(X8=\"x\",X$4,\nIF(Y8=\"x\",Y$4,\nIF(Z8=\"x\",Z$4,\nIF(AA8=\"x\",AA$4,\nIF(AB8=\"x\",AB$4,\nIF(AC8=\"x\",AC$4,\nIF(AD8=\"x\",AD$4,\n\"\")))))))","v":""},{"$f":"\nIF(Y8=\"x\",Y$4,\nIF(Z8=\"x\",Z$4,\nIF(AA8=\"x\",AA$4,\nIF(AB8=\"x\",AB$4,\nIF(AC8=\"x\",AC$4,\nIF(AD8=\"x\",AD$4,\n\"\"))))))","v":""},{"$f":"\nIF(Z8=\"x\",Z$4,\nIF(AA8=\"x\",AA$4,\nIF(AB8=\"x\",AB$4,\nIF(AC8=\"x\",AC$4,\nIF(AD8=\"x\",AD$4,\n\"\")))))","v":""},{"$f":"\nIF(AA8=\"x\",AA$4,\nIF(AB8=\"x\",AB$4,\nIF(AC8=\"x\",AC$4,\nIF(AD8=\"x\",AD$4,\n\"\"))))","v":""},{"$f":"\nIF(AB8=\"x\",AB$4,\nIF(AC8=\"x\",AC$4,\nIF(AD8=\"x\",AD$4,\n\"\")))","v":""},{"$f":"\nIF(AC8=\"x\",AC$4,\nIF(AD8=\"x\",AD$4,\n\"\"))","v":""},{"$f":"\nIF(AD8=\"x\",AD$4,\n\"\")","v":""},null,{"$f":"AF8","v":"Modul"},"",{"$f":"IF(AR8=\"\",\"\",\nIF(AND(AR8<>$AF8,AQ8<>$AF8),$AF8,\nIF(AND(AR8<>$AG8,AQ8<>$AG8),$AG8,\nIF(AND(AR8<>$AH8,AQ8<>$AH8),$AH8,\nIF(AND(AR8<>$AI8,AQ8<>$AI8),$AI8,\nIF(AND(AR8<>$AJ8,AQ8<>$AJ8),$AJ8,\nIF(AND(AR8<>$AK8,AQ8<>$AK8),$AK8,\nIF(AND(AR8<>$AL8,AQ8<>$AL8),$AL8,\nIF(AND(AR8<>$AM8,AQ8<>$AM8),$AM8,\nIF(AND(AR8<>$AN8,AQ8<>$AN8),$AN8,\nIF(AND(AR8<>$AO8,AQ8<>$AO8),$AO8,\n\"\")))))))))))","v":""},{"$f":"IF(AS8=\"\",\"\",\nIF(AND(AQ8<>$AF8,AS8<>$AF8,AR8<>$AF8),$AF8,\nIF(AND(AQ8<>$AG8,AS8<>$AG8,AR8<>$AG8),$AG8,\nIF(AND(AQ8<>$AH8,AS8<>$AH8,AR8<>$AH8),$AH8,\nIF(AND(AQ8<>$AI8,AS8<>$AI8,AR8<>$AI8),$AI8,\nIF(AND(AQ8<>$AJ8,AS8<>$AJ8,AR8<>$AJ8),$AJ8,\nIF(AND(AQ8<>$AK8,AS8<>$AK8,AR8<>$AK8),$AK8,\nIF(AND(AQ8<>$AL8,AS8<>$AL8,AR8<>$AL8),$AL8,\nIF(AND(AQ8<>$AM8,AS8<>$AM8,AR8<>$AM8),$AM8,\nIF(AND(AQ8<>$AN8,AS8<>$AN8,AR8<>$AN8),$AN8,\nIF(AND(AQ8<>$AO8,AS8<>$AO8,AR8<>$AO8),$AO8,\n\"\")))))))))))","v":""},{"$f":"IF(AT8=\"\",\"\",\nIF(AND(AQ8<>$AF8,AR8<>$AF8,AT8<>$AF8,AS8<>$AF8),$AF8,\nIF(AND(AQ8<>$AG8,AR8<>$AG8,AT8<>$AG8,AS8<>$AG8),$AG8,\nIF(AND(AQ8<>$AH8,AR8<>$AH8,AT8<>$AH8,AS8<>$AH8),$AH8,\nIF(AND(AQ8<>$AI8,AR8<>$AI8,AT8<>$AI8,AS8<>$AI8),$AI8,\nIF(AND(AQ8<>$AJ8,AR8<>$AJ8,AT8<>$AJ8,AS8<>$AJ8),$AJ8,\nIF(AND(AQ8<>$AK8,AR8<>$AK8,AT8<>$AK8,AS8<>$AK8),$AK8,\nIF(AND(AQ8<>$AL8,AR8<>$AL8,AT8<>$AL8,AS8<>$AL8),$AL8,\nIF(AND(AQ8<>$AM8,AR8<>$AM8,AT8<>$AM8,AS8<>$AM8),$AM8,\nIF(AND(AQ8<>$AN8,AR8<>$AN8,AT8<>$AN8,AS8<>$AN8),$AN8,\nIF(AND(AQ8<>$AO8,AR8<>$AO8,AT8<>$AO8,AS8<>$AO8),$AO8,\n\"\")))))))))))","v":""},{"$f":"IF(AU8=\"\",\"\",\nIF(AND(AQ8<>$AF8,AR8<>$AF8,AS8<>$AF8,AU8<>$AF8,AT8<>$AF8),$AF8,\nIF(AND(AQ8<>$AG8,AR8<>$AG8,AS8<>$AG8,AU8<>$AG8,AT8<>$AG8),$AG8,\nIF(AND(AQ8<>$AH8,AR8<>$AH8,AS8<>$AH8,AU8<>$AH8,AT8<>$AH8),$AH8,\nIF(AND(AQ8<>$AI8,AR8<>$AI8,AS8<>$AI8,AU8<>$AI8,AT8<>$AI8),$AI8,\nIF(AND(AQ8<>$AJ8,AR8<>$AJ8,AS8<>$AJ8,AU8<>$AJ8,AT8<>$AJ8),$AJ8,\nIF(AND(AQ8<>$AK8,AR8<>$AK8,AS8<>$AK8,AU8<>$AK8,AT8<>$AK8),$AK8,\nIF(AND(AQ8<>$AL8,AR8<>$AL8,AS8<>$AL8,AU8<>$AL8,AT8<>$AL8),$AL8,\nIF(AND(AQ8<>$AM8,AR8<>$AM8,AS8<>$AM8,AU8<>$AM8,AT8<>$AM8),$AM8,\nIF(AND(AQ8<>$AN8,AR8<>$AN8,AS8<>$AN8,AU8<>$AN8,AT8<>$AN8),$AN8,\nIF(AND(AQ8<>$AO8,AR8<>$AO8,AS8<>$AO8,AU8<>$AO8,AT8<>$AO8),$AO8,\n\"\")))))))))))","v":""},{"$f":"IF(AV8=\"\",\"\",\nIF(AND(AQ8<>$AF8,AR8<>$AF8,AS8<>$AF8,AT8<>$AF8,AV8<>$AF8,AU8<>$AF8),$AF8,\nIF(AND(AQ8<>$AG8,AR8<>$AG8,AS8<>$AG8,AT8<>$AG8,AV8<>$AG8,AU8<>$AG8),$AG8,\nIF(AND(AQ8<>$AH8,AR8<>$AH8,AS8<>$AH8,AT8<>$AH8,AV8<>$AH8,AU8<>$AH8),$AH8,\nIF(AND(AQ8<>$AI8,AR8<>$AI8,AS8<>$AI8,AT8<>$AI8,AV8<>$AI8,AU8<>$AI8),$AI8,\nIF(AND(AQ8<>$AJ8,AR8<>$AJ8,AS8<>$AJ8,AT8<>$AJ8,AV8<>$AJ8,AU8<>$AJ8),$AJ8,\nIF(AND(AQ8<>$AK8,AR8<>$AK8,AS8<>$AK8,AT8<>$AK8,AV8<>$AK8,AU8<>$AK8),$AK8,\nIF(AND(AQ8<>$AL8,AR8<>$AL8,AS8<>$AL8,AT8<>$AL8,AV8<>$AL8,AU8<>$AL8),$AL8,\nIF(AND(AQ8<>$AM8,AR8<>$AM8,AS8<>$AM8,AT8<>$AM8,AV8<>$AM8,AU8<>$AM8),$AM8,\nIF(AND(AQ8<>$AN8,AR8<>$AN8,AS8<>$AN8,AT8<>$AN8,AV8<>$AN8,AU8<>$AN8),$AN8,\nIF(AND(AQ8<>$AO8,AR8<>$AO8,AS8<>$AO8,AT8<>$AO8,AV8<>$AO8,AU8<>$AO8),$AO8,\n\"\")))))))))))","v":""},{"$f":"IF(AW8=\"\",\"\",\nIF(AND(AQ8<>$AF8,AR8<>$AF8,AS8<>$AF8,AT8<>$AF8,AU8<>$AF8,AW8<>$AF8,AV8<>$AF8),$AF8,\nIF(AND(AQ8<>$AG8,AR8<>$AG8,AS8<>$AG8,AT8<>$AG8,AU8<>$AG8,AW8<>$AG8,AV8<>$AG8),$AG8,\nIF(AND(AQ8<>$AH8,AR8<>$AH8,AS8<>$AH8,AT8<>$AH8,AU8<>$AH8,AW8<>$AH8,AV8<>$AH8),$AH8,\nIF(AND(AQ8<>$AI8,AR8<>$AI8,AS8<>$AI8,AT8<>$AI8,AU8<>$AI8,AW8<>$AI8,AV8<>$AI8),$AI8,\nIF(AND(AQ8<>$AJ8,AR8<>$AJ8,AS8<>$AJ8,AT8<>$AJ8,AU8<>$AJ8,AW8<>$AJ8,AV8<>$AJ8),$AJ8,\nIF(AND(AQ8<>$AK8,AR8<>$AK8,AS8<>$AK8,AT8<>$AK8,AU8<>$AK8,AW8<>$AK8,AV8<>$AK8),$AK8,\nIF(AND(AQ8<>$AL8,AR8<>$AL8,AS8<>$AL8,AT8<>$AL8,AU8<>$AL8,AW8<>$AL8,AV8<>$AL8),$AL8,\nIF(AND(AQ8<>$AM8,AR8<>$AM8,AS8<>$AM8,AT8<>$AM8,AU8<>$AM8,AW8<>$AM8,AV8<>$AM8),$AM8,\nIF(AND(AQ8<>$AN8,AR8<>$AN8,AS8<>$AN8,AT8<>$AN8,AU8<>$AN8,AW8<>$AN8,AV8<>$AN8),$AN8,\nIF(AND(AQ8<>$AO8,AR8<>$AO8,AS8<>$AO8,AT8<>$AO8,AU8<>$AO8,AW8<>$AO8,AV8<>$AO8),$AO8,\n\"\")))))))))))","v":""},{"$f":"IF(AX8=\"\",\"\",\nIF(AND(AQ8<>$AF8,AR8<>$AF8,AS8<>$AF8,AT8<>$AF8,AU8<>$AF8,AV8<>$AF8,AX8<>$AF8,AW8<>$AF8),$AF8,\nIF(AND(AQ8<>$AG8,AR8<>$AG8,AS8<>$AG8,AT8<>$AG8,AU8<>$AG8,AV8<>$AG8,AX8<>$AG8,AW8<>$AG8),$AG8,\nIF(AND(AQ8<>$AH8,AR8<>$AH8,AS8<>$AH8,AT8<>$AH8,AU8<>$AH8,AV8<>$AH8,AX8<>$AH8,AW8<>$AH8),$AH8,\nIF(AND(AQ8<>$AI8,AR8<>$AI8,AS8<>$AI8,AT8<>$AI8,AU8<>$AI8,AV8<>$AI8,AX8<>$AI8,AW8<>$AI8),$AI8,\nIF(AND(AQ8<>$AJ8,AR8<>$AJ8,AS8<>$AJ8,AT8<>$AJ8,AU8<>$AJ8,AV8<>$AJ8,AX8<>$AJ8,AW8<>$AJ8),$AJ8,\nIF(AND(AQ8<>$AK8,AR8<>$AK8,AS8<>$AK8,AT8<>$AK8,AU8<>$AK8,AV8<>$AK8,AX8<>$AK8,AW8<>$AK8),$AK8,\nIF(AND(AQ8<>$AL8,AR8<>$AL8,AS8<>$AL8,AT8<>$AL8,AU8<>$AL8,AV8<>$AL8,AX8<>$AL8,AW8<>$AL8),$AL8,\nIF(AND(AQ8<>$AM8,AR8<>$AM8,AS8<>$AM8,AT8<>$AM8,AU8<>$AM8,AV8<>$AM8,AX8<>$AM8,AW8<>$AM8),$AM8,\nIF(AND(AQ8<>$AN8,AR8<>$AN8,AS8<>$AN8,AT8<>$AN8,AU8<>$AN8,AV8<>$AN8,AX8<>$AN8,AW8<>$AN8),$AN8,\nIF(AND(AQ8<>$AO8,AR8<>$AO8,AS8<>$AO8,AT8<>$AO8,AU8<>$AO8,AV8<>$AO8,AX8<>$AO8,AW8<>$AO8),$AO8,\n\"\")))))))))))","v":""},{"$f":"IF(AY8=\"\",\"\",\nIF(AND(AQ8<>$AF8,AR8<>$AF8,AS8<>$AF8,AT8<>$AF8,AU8<>$AF8,AV8<>$AF8,AW8<>$AF8,AY8<>$AF8,AX8<>$AF8),$AF8,\nIF(AND(AQ8<>$AG8,AR8<>$AG8,AS8<>$AG8,AT8<>$AG8,AU8<>$AG8,AV8<>$AG8,AW8<>$AG8,AY8<>$AG8,AX8<>$AG8),$AG8,\nIF(AND(AQ8<>$AH8,AR8<>$AH8,AS8<>$AH8,AT8<>$AH8,AU8<>$AH8,AV8<>$AH8,AW8<>$AH8,AY8<>$AH8,AX8<>$AH8),$AH8,\nIF(AND(AQ8<>$AI8,AR8<>$AI8,AS8<>$AI8,AT8<>$AI8,AU8<>$AI8,AV8<>$AI8,AW8<>$AI8,AY8<>$AI8,AX8<>$AI8),$AI8,\nIF(AND(AQ8<>$AJ8,AR8<>$AJ8,AS8<>$AJ8,AT8<>$AJ8,AU8<>$AJ8,AV8<>$AJ8,AW8<>$AJ8,AY8<>$AJ8,AX8<>$AJ8),$AJ8,\nIF(AND(AQ8<>$AK8,AR8<>$AK8,AS8<>$AK8,AT8<>$AK8,AU8<>$AK8,AV8<>$AK8,AW8<>$AK8,AY8<>$AK8,AX8<>$AK8),$AK8,\nIF(AND(AQ8<>$AL8,AR8<>$AL8,AS8<>$AL8,AT8<>$AL8,AU8<>$AL8,AV8<>$AL8,AW8<>$AL8,AY8<>$AL8,AX8<>$AL8),$AL8,\nIF(AND(AQ8<>$AM8,AR8<>$AM8,AS8<>$AM8,AT8<>$AM8,AU8<>$AM8,AV8<>$AM8,AW8<>$AM8,AY8<>$AM8,AX8<>$AM8),$AM8,\nIF(AND(AQ8<>$AN8,AR8<>$AN8,AS8<>$AN8,AT8<>$AN8,AU8<>$AN8,AV8<>$AN8,AW8<>$AN8,AY8<>$AN8,AX8<>$AN8),$AN8,\nIF(AND(AQ8<>$AO8,AR8<>$AO8,AS8<>$AO8,AT8<>$AO8,AU8<>$AO8,AV8<>$AO8,AW8<>$AO8,AY8<>$AO8,AX8<>$AO8),$AO8,\n\"\")))))))))))","v":""}]
[null,0,0,"213.000","Schiefer oder Platten, Befestigung in Sparren durch Eindeckung","",null,null,"213.000","Schiefer oder Platten, Befestigung in Sparren durch Eindeckung","Modul",null,null,null,null,null,null,null,null,"E200_PV_Montagekonstruktion",null,"x",null,null,null,null,null,null,null,null,null,"Modul","Modul","","","","","","","","",null,"Modul","","","","","","","","",""]
[null,0,0,"214.000","Grossflächige Platten gewellt oder profiliert, Befestigung in Pfetten durch Eindeckung (z.B. Welleternit)","",null,null,"214.000","Grossflächige Platten gewellt oder profiliert, Befestigung in Pfetten durch Eindeckung (z.B. Welleternit)","Modul",null,null,null,null,null,null,null,null,"E200_PV_Montagekonstruktion",null,"x",null,null,null,null,null,null,null,null,null,"Modul","Modul","","","","","","","","",null,"Modul","",{"$f":"IF(AR10=\"\",\"\",\nIF(AND(AR10<>$AF10,AQ10<>$AF10),$AF10,\nIF(AND(AR10<>$AG10,AQ10<>$AG10),$AG10,\nIF(AND(AR10<>$AH10,AQ10<>$AH10),$AH10,\nIF(AND(AR10<>$AI10,AQ10<>$AI10),$AI10,\nIF(AND(AR10<>$AJ10,AQ10<>$AJ10),$AJ10,\nIF(AND(AR10<>$AK10,AQ10<>$AK10),$AK10,\nIF(AND(AR10<>$AL10,AQ10<>$AL10),$AL10,\nIF(AND(AR10<>$AM10,AQ10<>$AM10),$AM10,\nIF(AND(AR10<>$AN10,AQ10<>$AN10),$AN10,\nIF(AND(AR10<>$AO10,AQ10<>$AO10),$AO10,\n\"\")))))))))))","v":""},{"$f":"IF(AS10=\"\",\"\",\nIF(AND(AQ10<>$AF10,AS10<>$AF10,AR10<>$AF10),$AF10,\nIF(AND(AQ10<>$AG10,AS10<>$AG10,AR10<>$AG10),$AG10,\nIF(AND(AQ10<>$AH10,AS10<>$AH10,AR10<>$AH10),$AH10,\nIF(AND(AQ10<>$AI10,AS10<>$AI10,AR10<>$AI10),$AI10,\nIF(AND(AQ10<>$AJ10,AS10<>$AJ10,AR10<>$AJ10),$AJ10,\nIF(AND(AQ10<>$AK10,AS10<>$AK10,AR10<>$AK10),$AK10,\nIF(AND(AQ10<>$AL10,AS10<>$AL10,AR10<>$AL10),$AL10,\nIF(AND(AQ10<>$AM10,AS10<>$AM10,AR10<>$AM10),$AM10,\nIF(AND(AQ10<>$AN10,AS10<>$AN10,AR10<>$AN10),$AN10,\nIF(AND(AQ10<>$AO10,AS10<>$AO10,AR10<>$AO10),$AO10,\n\"\")))))))))))","v":""},{"$f":"IF(AT10=\"\",\"\",\nIF(AND(AQ10<>$AF10,AR10<>$AF10,AT10<>$AF10,AS10<>$AF10),$AF10,\nIF(AND(AQ10<>$AG10,AR10<>$AG10,AT10<>$AG10,AS10<>$AG10),$AG10,\nIF(AND(AQ10<>$AH10,AR10<>$AH10,AT10<>$AH10,AS10<>$AH10),$AH10,\nIF(AND(AQ10<>$AI10,AR10<>$AI10,AT10<>$AI10,AS10<>$AI10),$AI10,\nIF(AND(AQ10<>$AJ10,AR10<>$AJ10,AT10<>$AJ10,AS10<>$AJ10),$AJ10,\nIF(AND(AQ10<>$AK10,AR10<>$AK10,AT10<>$AK10,AS10<>$AK10),$AK10,\nIF(AND(AQ10<>$AL10,AR10<>$AL10,AT10<>$AL10,AS10<>$AL10),$AL10,\nIF(AND(AQ10<>$AM10,AR10<>$AM10,AT10<>$AM10,AS10<>$AM10),$AM10,\nIF(AND(AQ10<>$AN10,AR10<>$AN10,AT10<>$AN10,AS10<>$AN10),$AN10,\nIF(AND(AQ10<>$AO10,AR10<>$AO10,AT10<>$AO10,AS10<>$AO10),$AO10,\n\"\")))))))))))","v":""},{"$f":"IF(AU10=\"\",\"\",\nIF(AND(AQ10<>$AF10,AR10<>$AF10,AS10<>$AF10,AU10<>$AF10,AT10<>$AF10),$AF10,\nIF(AND(AQ10<>$AG10,AR10<>$AG10,AS10<>$AG10,AU10<>$AG10,AT10<>$AG10),$AG10,\nIF(AND(AQ10<>$AH10,AR10<>$AH10,AS10<>$AH10,AU10<>$AH10,AT10<>$AH10),$AH10,\nIF(AND(AQ10<>$AI10,AR10<>$AI10,AS10<>$AI10,AU10<>$AI10,AT10<>$AI10),$AI10,\nIF(AND(AQ10<>$AJ10,AR10<>$AJ10,AS10<>$AJ10,AU10<>$AJ10,AT10<>$AJ10),$AJ10,\nIF(AND(AQ10<>$AK10,AR10<>$AK10,AS10<>$AK10,AU10<>$AK10,AT10<>$AK10),$AK10,\nIF(AND(AQ10<>$AL10,AR10<>$AL10,AS10<>$AL10,AU10<>$AL10,AT10<>$AL10),$AL10,\nIF(AND(AQ10<>$AM10,AR10<>$AM10,AS10<>$AM10,AU10<>$AM10,AT10<>$AM10),$AM10,\nIF(AND(AQ10<>$AN10,AR10<>$AN10,AS10<>$AN10,AU10<>$AN10,AT10<>$AN10),$AN10,\nIF(AND(AQ10<>$AO10,AR10<>$AO10,AS10<>$AO10,AU10<>$AO10,AT10<>$AO10),$AO10,\n\"\")))))))))))","v":""},{"$f":"IF(AV10=\"\",\"\",\nIF(AND(AQ10<>$AF10,AR10<>$AF10,AS10<>$AF10,AT10<>$AF10,AV10<>$AF10,AU10<>$AF10),$AF10,\nIF(AND(AQ10<>$AG10,AR10<>$AG10,AS10<>$AG10,AT10<>$AG10,AV10<>$AG10,AU10<>$AG10),$AG10,\nIF(AND(AQ10<>$AH10,AR10<>$AH10,AS10<>$AH10,AT10<>$AH10,AV10<>$AH10,AU10<>$AH10),$AH10,\nIF(AND(AQ10<>$AI10,AR10<>$AI10,AS10<>$AI10,AT10<>$AI10,AV10<>$AI10,AU10<>$AI10),$AI10,\nIF(AND(AQ10<>$AJ10,AR10<>$AJ10,AS10<>$AJ10,AT10<>$AJ10,AV10<>$AJ10,AU10<>$AJ10),$AJ10,\nIF(AND(AQ10<>$AK10,AR10<>$AK10,AS10<>$AK10,AT10<>$AK10,AV10<>$AK10,AU10<>$AK10),$AK10,\nIF(AND(AQ10<>$AL10,AR10<>$AL10,AS10<>$AL10,AT10<>$AL10,AV10<>$AL10,AU10<>$AL10),$AL10,\nIF(AND(AQ10<>$AM10,AR10<>$AM10,AS10<>$AM10,AT10<>$AM10,AV10<>$AM10,AU10<>$AM10),$AM10,\nIF(AND(AQ10<>$AN10,AR10<>$AN10,AS10<>$AN10,AT10<>$AN10,AV10<>$AN10,AU10<>$AN10),$AN10,\nIF(AND(AQ10<>$AO10,AR10<>$AO10,AS10<>$AO10,AT10<>$AO10,AV10<>$AO10,AU10<>$AO10),$AO10,\n\"\")))))))))))","v":""},{"$f":"IF(AW10=\"\",\"\",\nIF(AND(AQ10<>$AF10,AR10<>$AF10,AS10<>$AF10,AT10<>$AF10,AU10<>$AF10,AW10<>$AF10,AV10<>$AF10),$AF10,\nIF(AND(AQ10<>$AG10,AR10<>$AG10,AS10<>$AG10,AT10<>$AG10,AU10<>$AG10,AW10<>$AG10,AV10<>$AG10),$AG10,\nIF(AND(AQ10<>$AH10,AR10<>$AH10,AS10<>$AH10,AT10<>$AH10,AU10<>$AH10,AW10<>$AH10,AV10<>$AH10),$AH10,\nIF(AND(AQ10<>$AI10,AR10<>$AI10,AS10<>$AI10,AT10<>$AI10,AU10<>$AI10,AW10<>$AI10,AV10<>$AI10),$AI10,\nIF(AND(AQ10<>$AJ10,AR10<>$AJ10,AS10<>$AJ10,AT10<>$AJ10,AU10<>$AJ10,AW10<>$AJ10,AV10<>$AJ10),$AJ10,\nIF(AND(AQ10<>$AK10,AR10<>$AK10,AS10<>$AK10,AT10<>$AK10,AU10<>$AK10,AW10<>$AK10,AV10<>$AK10),$AK10,\nIF(AND(AQ10<>$AL10,AR10<>$AL10,AS10<>$AL10,AT10<>$AL10,AU10<>$AL10,AW10<>$AL10,AV10<>$AL10),$AL10,\nIF(AND(AQ10<>$AM10,AR10<>$AM10,AS10<>$AM10,AT10<>$AM10,AU10<>$AM10,AW10<>$AM10,AV10<>$AM10),$AM10,\nIF(AND(AQ10<>$AN10,AR10<>$AN10,AS10<>$AN10,AT10<>$AN10,AU10<>$AN10,AW10<>$AN10,AV10<>$AN10),$AN10,\nIF(AND(AQ10<>$AO10,AR10<>$AO10,AS10<>$AO10,AT10<>$AO10,AU10<>$AO10,AW10<>$AO10,AV10<>$AO10),$AO10,\n\"\")))))))))))","v":""},{"$f":"IF(AX10=\"\",\"\",\nIF(AND(AQ10<>$AF10,AR10<>$AF10,AS10<>$AF10,AT10<>$AF10,AU10<>$AF10,AV10<>$AF10,AX10<>$AF10,AW10<>$AF10),$AF10,\nIF(AND(AQ10<>$AG10,AR10<>$AG10,AS10<>$AG10,AT10<>$AG10,AU10<>$AG10,AV10<>$AG10,AX10<>$AG10,AW10<>$AG10),$AG10,\nIF(AND(AQ10<>$AH10,AR10<>$AH10,AS10<>$AH10,AT10<>$AH10,AU10<>$AH10,AV10<>$AH10,AX10<>$AH10,AW10<>$AH10),$AH10,\nIF(AND(AQ10<>$AI10,AR10<>$AI10,AS10<>$AI10,AT10<>$AI10,AU10<>$AI10,AV10<>$AI10,AX10<>$AI10,AW10<>$AI10),$AI10,\nIF(AND(AQ10<>$AJ10,AR10<>$AJ10,AS10<>$AJ10,AT10<>$AJ10,AU10<>$AJ10,AV10<>$AJ10,AX10<>$AJ10,AW10<>$AJ10),$AJ10,\nIF(AND(AQ10<>$AK10,AR10<>$AK10,AS10<>$AK10,AT10<>$AK10,AU10<>$AK10,AV10<>$AK10,AX10<>$AK10,AW10<>$AK10),$AK10,\nIF(AND(AQ10<>$AL10,AR10<>$AL10,AS10<>$AL10,AT10<>$AL10,AU10<>$AL10,AV10<>$AL10,AX10<>$AL10,AW10<>$AL10),$AL10,\nIF(AND(AQ10<>$AM10,AR10<>$AM10,AS10<>$AM10,AT10<>$AM10,AU10<>$AM10,AV10<>$AM10,AX10<>$AM10,AW10<>$AM10),$AM10,\nIF(AND(AQ10<>$AN10,AR10<>$AN10,AS10<>$AN10,AT10<>$AN10,AU10<>$AN10,AV10<>$AN10,AX10<>$AN10,AW10<>$AN10),$AN10,\nIF(AND(AQ10<>$AO10,AR10<>$AO10,AS10<>$AO10,AT10<>$AO10,AU10<>$AO10,AV10<>$AO10,AX10<>$AO10,AW10<>$AO10),$AO10,\n\"\")))))))))))","v":""},{"$f":"IF(AY10=\"\",\"\",\nIF(AND(AQ10<>$AF10,AR10<>$AF10,AS10<>$AF10,AT10<>$AF10,AU10<>$AF10,AV10<>$AF10,AW10<>$AF10,AY10<>$AF10,AX10<>$AF10),$AF10,\nIF(AND(AQ10<>$AG10,AR10<>$AG10,AS10<>$AG10,AT10<>$AG10,AU10<>$AG10,AV10<>$AG10,AW10<>$AG10,AY10<>$AG10,AX10<>$AG10),$AG10,\nIF(AND(AQ10<>$AH10,AR10<>$AH10,AS10<>$AH10,AT10<>$AH10,AU10<>$AH10,AV10<>$AH10,AW10<>$AH10,AY10<>$AH10,AX10<>$AH10),$AH10,\nIF(AND(AQ10<>$AI10,AR10<>$AI10,AS10<>$AI10,AT10<>$AI10,AU10<>$AI10,AV10<>$AI10,AW10<>$AI10,AY10<>$AI10,AX10<>$AI10),$AI10,\nIF(AND(AQ10<>$AJ10,AR10<>$AJ10,AS10<>$AJ10,AT10<>$AJ10,AU10<>$AJ10,AV10<>$AJ10,AW10<>$AJ10,AY10<>$AJ10,AX10<>$AJ10),$AJ10,\nIF(AND(AQ10<>$AK10,AR10<>$AK10,AS10<>$AK10,AT10<>$AK10,AU10<>$AK10,AV10<>$AK10,AW10<>$AK10,AY10<>$AK10,AX10<>$AK10),$AK10,\nIF(AND(AQ10<>$AL10,AR10<>$AL10,AS10<>$AL10,AT10<>$AL10,AU10<>$AL10,AV10<>$AL10,AW10<>$AL10,AY10<>$AL10,AX10<>$AL10),$AL10,\nIF(AND(AQ10<>$AM10,AR10<>$AM10,AS10<>$AM10,AT10<>$AM10,AU10<>$AM10,AV10<>$AM10,AW10<>$AM10,AY10<>$AM10,AX10<>$AM10),$AM10,\nIF(AND(AQ10<>$AN10,AR10<>$AN10,AS10<>$AN10,AT10<>$AN10,AU10<>$AN10,AV10<>$AN10,AW10<>$AN10,AY10<>$AN10,AX10<>$AN10),$AN10,\nIF(AND(AQ10<>$AO10,AR10<>$AO10,AS10<>$AO10,AT10<>$AO10,AU10<>$AO10,AV10<>$AO10,AW10<>$AO10,AY10<>$AO10,AX10<>$AO10),$AO10,\n\"\")))))))))))","v":""}]
[null,0,0,"215.000","Grossflächige Platten gewellt oder profiliert, Befestigung in äusserte Dachhaut  (z.B. Trapezblech","",null,null,"215.000","Grossflächige Platten gewellt oder profiliert, Befestigung in äusserte Dachhaut  (z.B. Trapezblech","Modul",null,null,null,null,null,null,null,null,"E200_PV_Montagekonstruktion",null,"x",null,null,null,null,null,null,null,null,null,"Modul","Modul","","","","","","","","",null,"Modul","","","","","","","","",""]
[null,0,0,"216.000","Blechfalz, Klammerung an Dachhaut","",null,null,"216.000","Blechfalz, Klammerung an Dachhaut","Modul",null,null,null,null,null,null,null,null,"E200_PV_Montagekonstruktion",null,"x",null,null,null,null,null,null,null,null,null,"Modul","Modul","","","","","","","","",null,"Modul","","","","","","","","",""]
[null,0,0,{"$f":"I13","v":"217.000"},"Weitere","",null,null,"217.000","Weitere","Modul",null,null,null,null,null,null,null,null,"E200_PV_Montagekonstruktion",null,"x",null,null,null,null,null,null,null,null,null,"Modul","Modul","","","","","","","","",null,"Modul","","","","","","","","",""]
[null,{"$f":"B6","v":0},0,null,null,"",null,null,null,null,null,null,null,null,null,null,null,null,null,null,null,null,null,null,null,null,null,null,null,null,null,"","","","","","","","","","",null,"","","","","","","","","",""]
[null,{"$f":"IF(SUM(B16:B20)>0,1,0)","v":0},0,{"$f":"G15","v":"220.000"},{"$f":"H15 & IF(M15<>\"\",CHAR(10) & M15,\"\")","v":"Schrägdach Indach, dachparallel"},"","220.000","Schrägdach Indach, dachparallel",null,null,null,null,null,null,null,null,null,null,null,null,null,null,null,null,null,null,null,null,null,null,null,"","","","","","","","","","",null,"","","","","","","","","",""]
[null,{"$f":"IF(L16=\"x\",1,IF(ISNUMBER(L16),L16,0))","v":0},0,{"$f":"I16","v":"221.000"},{"$f":"J16 & IF(M16<>\"\",CHAR(10) & M16,\"\")","v":"Befestigung auf Konterlatte"},"",null,null,"221.000","Befestigung auf Konterlatte","Modul",null,null,null,null,null,null,null,null,"E200_PV_Montagekonstruktion",null,"x",null,"x",null,null,null,null,null,null,null,"Modul","Modul","m2","m2","","","","","","",null,"Modul","m2","","","","","","","",""]
[null,{"$f":"IF(L17=\"x\",1,IF(ISNUMBER(L17),L17,0))","v":0},0,{"$f":"I17","v":"222.000"},"Befestigung auf Ziegellattung ","",null,null,"222.000","Befestigung auf Ziegellattung ","Modul",null,null,null,null,null,null,null,null,"E200_PV_Montagekonstruktion",null,"x",null,"x",null,null,null,null,null,null,null,"Modul","Modul","m2","m2","","","","","","",null,"Modul","m2","","","","","","","",""]
[null,{"$f":"IF(L18=\"x\",1,IF(ISNUMBER(L18),L18,0))","v":0},0,{"$f":"I18","v":"223.000"},"Befestigung auf Sparren","",null,null,"223.000","Befestigung auf Sparren","Modul",null,null,null,null,null,null,null,null,"E200_PV_Montagekonstruktion",null,"x",null,"x",null,null,null,null,null,null,null,"Modul","Modul","m2","m2","","","","","","",null,"Modul","m2","","","","","","","",""]
[null,{"$f":"IF(L19=\"x\",1,IF(ISNUMBER(L19),L19,0))","v":0},0,"224.000","Befestigung auf Pfetten","",null,null,"224.000","Befestigung auf Pfetten","Modul",null,null,null,null,null,null,null,null,"E200_PV_Montagekonstruktion",null,"x",null,"x",null,null,null,null,null,null,null,"Modul","Modul","m2","m2","","","","","","",null,"Modul","m2","","","","","","","",""]
[null,{"$f":"IF(L20=\"x\",1,IF(ISNUMBER(L20),L20,0))","v":0},0,"225.000","Befestigung auf eignen Systemlattung","",null,null,"225.000","Befestigung auf eignen Systemlattung","Modul",null,null,null,null,null,null,null,null,"E200_PV_Montagekonstruktion",null,null,null,null,null,null,null,null,null,null,null,"","","","","","","","","","",null,"","","","","","","","","",""]
[null,{"$f":"B15","v":0},0,null,null,"",null,null,null,null,null,null,null,null,null,null,null,null,null,null,null,null,null,null,null,null,null,null,null,null,null,"","","","","","","","","","",null,"","","","","","","","","",""]
[null,{"$f":"IF(SUM(B23:B29)>0,1,0)","v":1},0,{"$f":"G22","v":"230.000"},{"$f":"H22 & IF(M22<>\"\",CHAR(10) & M22,\"\")","v":"Flachdach (ohne Dachdurchdringung) Montagesyst. mit zwei entgegengesetzten Ausrichtungen (Ost-West)"},"","230.000","Flachdach (ohne Dachdurchdringung) Montagesyst. mit zwei entgegengesetzten Ausrichtungen (Ost-West)",null,null,null,null,null,null,null,null,null,null,null,null,null,null,null,null,null,null,null,null,null,null,null,"","","","","","","","","","",null,"","","","","","","","","",""]
[null,{"$f":"IF(L23=\"x\",1,IF(ISNUMBER(L23),L23,0))","v":0},0,{"$f":"I23","v":"231.000"},{"$f":"J23 & IF(M23<>\"\",CHAR(10) & M23,\"\")","v":"Auf Flachdach ohne Schutzschicht"},"",null,null,"231.000","Auf Flachdach ohne Schutzschicht","Modul",null,null,null,null,null,null,null,null,"E200_PV_Montagekonstruktion",null,"x",null,null,null,null,null,null,null,null,null,"Modul","Modul","","","","","","","","",null,"Modul","","","","","","","","",""]
[null,1,1,{"$f":"I24","v":"232.000"},"Unter Kies\nEigenschaften: \nKlemmsystem","Modul",null,null,"232.000","Unter Kies","Modul","x","Eigenschaften: \nKlemmsystem",null,null,null,null,null,null,"E200_PV_Montagekonstruktion",null,"x",null,null,null,null,null,null,null,null,null,"Modul","Modul","","","","","","","","",null,"Modul","","","","","","","","",""]
[null,0,0,{"$f":"I25","v":"233.000"},"Auf Kies","",null,null,"233.000","Auf Kies","Modul",null,null,null,null,null,null,null,null,"E200_PV_Montagekonstruktion",null,"x",null,null,null,null,null,null,null,null,null,"Modul","Modul","","","","","","","","",null,"Modul","","","","","","","","",""]
[null,0,0,"234.000","Unter Begrünung, erhöhte Konstruktion","",null,null,"234.000","Unter Begrünung, erhöhte Konstruktion","Modul",null,null,null,null,null,null,null,null,"E200_PV_Montagekonstruktion",null,"x",null,null,null,null,null,null,null,null,null,"Modul","Modul","","","","","","","","",null,"Modul","","","","","","","","",""]
[null,0,0,"235.000","Auf Begrünung, erhöhte Konstruktion","",null,null,"235.000","Auf Begrünung, erhöhte Konstruktion","Modul",null,null,null,null,null,null,null,null,"E200_PV_Montagekonstruktion",null,"x",null,null,null,null,null,null,null,null,null,"Modul","Modul","","","","","","","","",null,"Modul","","","","","","","","",""]
[null,0,0,"236.000","Auf Gehwegplatten montiert","",null,null,"236.000","Auf Gehwegplatten montiert","Modul",null,null,null,null,null,null,null,null,"E200_PV_Montagekonstruktion",null,"x",null,null,null,null,null,null,null,null,null,"Modul","Modul","","","","","","","","",null,"Modul","","","","","","","","",""]
[null,0,0,"237.000","Weitere","",null,null,"237.000","Weitere","Modul",null,null,null,null,null,null,null,null,"E200_PV_Montagekonstruktion",null,"x",null,null,null,null,null,null,null,null,null,"Modul","Modul","","","","","","","","",null,"Modul","","","","","","","","",""]
[null,{"$f":"B22","v":1},0,null,null,"",null,null,null,null,null,null,null,null,null,null,null,null,null,null,null,null,null,null,null,null,null,null,null,null,null,"","","","","","","","","","",null,"","","","","","","","","",""]
[null,{"$f":"IF(SUM(B32:B37)>0,1,0)","v":0},0,{"$f":"G31","v":"240.000"},{"$f":"H31 & IF(M31<>\"\",CHAR(10) & M31,\"\")","v":"Flachdach (ohne Dachdruchdringung) Montagesystem mit einer Ausrichtung (Süd)"},"","240.000","Flachdach (ohne Dachdruchdringung) Montagesystem mit einer Ausrichtung (Süd)",null,null,null,null,null,null,null,null,null,null,null,null,null,null,null,null,null,null,null,null,null,null,null,"","","","","","","","","","",null,"","","","","","","","","",""]
[null,{"$f":"IF(L32=\"x\",1,IF(ISNUMBER(L32),L32,0))","v":0},0,{"$f":"I32","v":"241.000"},{"$f":"J32 & IF(M32<>\"\",CHAR(10) & M32,\"\")","v":"Auf Flachdach ohne Schutzschicht"},"",null,null,"241.000","Auf Flachdach ohne Schutzschicht","Modul",null,null,null,null,null,null,null,null,"E200_PV_Montagekonstruktion",null,"x",null,null,null,null,null,null,null,null,null,"Modul","Modul","","","","","","","","",null,"Modul","","","","","","","","",""]
[null,0,0,{"$f":"I33","v":"242.000"},"Unter Kies","",null,null,"242.000","Unter Kies","Modul",null,null,null,null,null,null,null,null,"E200_PV_Montagekonstruktion",null,"x",null,null,null,null,null,null,null,null,null,"Modul","Modul","","","","","","","","",null,"Modul","","","","","","","","",""]
[null,0,0,{"$f":"I34","v":"243.000"},"Auf Kies","",null,null,"243.000","Auf Kies","Modul",null,null,null,null,null,null,null,null,"E200_PV_Montagekonstruktion",null,"x",null,null,null,null,null,null,null,null,null,"Modul","Modul","","","","","","","","",null,"Modul","","","","","","","","",""]
[null,0,0,"244.000","Unter Begrünung, erhöhte Konstruktion","",null,null,"244.000","Unter Begrünung, erhöhte Konstruktion","Modul",null,null,null,null,null,null,null,null,"E200_PV_Montagekonstruktion",null,"x",null,null,null,null,null,null,null,null,null,"Modul","Modul","","","","","","","","",null,"Modul","","","","","","","","",""]
[null,0,0,"245.000","Auf Begrünung, erhöhte Konstruktion","",null,null,"245.000","Auf Begrünung, erhöhte Konstruktion","Modul",null,null,null,null,null,null,null,null,"E200_PV_Montagekonstruktion",null,"x",null,null,null,null,null,null,null,null,null,"Modul","Modul","","","","","","","","",null,"Modul","","","","","","","","",""]
[null,0,0,"246.000","Auf Gehwegplatten montiert","",null,null,"246.000","Auf Gehwegplatten montiert","Modul",null,null,null,null,null,null,null,null,"E200_PV_Montagekonstruktion",null,"x",null,null,null,null,null,null,null,null,null,"Modul","Modul","","","","","","","","",null,"Modul","","","","","","","","",""]
[null,{"$f":"B31","v":0},0,null,null,"",null,null,null,null,null,null,null,null,null,null,null,null,null,null,null,null,null,null,null,null,null,null,null,null,null,"","","","","","","","","","",null,"",{"$f":"IF(AQ38=\"\",\"\",\nIF(AQ38<>$AF38,$AF38,\nIF(AQ38<>$AG38,$AG38,\nIF(AQ38<>$AH38,$AH38,\nIF(AQ38<>$AI38,$AI38,\nIF(AQ38<>$AJ38,$AJ38,\nIF(AQ38<>$AK38,$AK38,\nIF(AQ38<>$AL38,$AL38,\nIF(AQ38<>$AM38,$AM38,\nIF(AQ38<>$AN38,$AN38,\nIF(AQ38<>$AO38,$AO38,\n\"\")))))))))))","v":""},"","","","","","","",""]
[null,{"$f":"IF(SUM(B40:B46)>0,1,0)","v":0},0,{"$f":"G39","v":"250.000"},{"$f":"H39 & IF(M39<>\"\",CHAR(10) & M39,\"\")","v":"Fassade"},"","250.000","Fassade",null,null,null,null,null,null,null,null,null,null,null,null,null,null,null,null,null,null,null,null,null,null,null,"","","","","","","","","","",null,"","","","","","","","","",""]
[null,{"$f":"IF(L40=\"x\",1,IF(ISNUMBER(L40),L40,0))","v":0},0,{"$f":"I40","v":"251.000"},{"$f":"J40 & IF(M40<>\"\",CHAR(10) & M40,\"\")","v":"Parallel gebäudeintegriert Standardmodul"},"",null,null,"251.000","Parallel gebäudeintegriert Standardmodul","Modul",null,null,null,null,null,null,null,null,"E200_PV_Montagekonstruktion",null,"x",null,"x",null,null,null,null,null,null,null,"Modul","Modul","m2","m2","","","","","","",null,"Modul","m2","","","","","","","",""]
[null,0,0,{"$f":"I41","v":"252.000"},"Parallel gebäudeintegriert Modul mit Spezialgrösse","",null,null,"252.000","Parallel gebäudeintegriert Modul mit Spezialgrösse","Modul",null,null,null,null,null,null,null,null,"E200_PV_Montagekonstruktion",null,"x",null,"x",null,null,null,null,null,null,null,"Modul","Modul","m2","m2","","","","","","",null,"Modul","m2","","","","","","","",""]
[null,0,0,{"$f":"I42","v":"253.000"},"Parallel angebaut Standardmodul","",null,null,"253.000","Parallel angebaut Standardmodul","Modul",null,null,null,null,null,null,null,null,"E200_PV_Montagekonstruktion",null,"x",null,"x",null,null,null,null,null,null,null,"Modul","Modul","m2","m2","","","","","","",null,"Modul","m2",{"$f":"IF(AR42=\"\",\"\",\nIF(AND(AR42<>$AF42,AQ42<>$AF42),$AF42,\nIF(AND(AR42<>$AG42,AQ42<>$AG42),$AG42,\nIF(AND(AR42<>$AH42,AQ42<>$AH42),$AH42,\nIF(AND(AR42<>$AI42,AQ42<>$AI42),$AI42,\nIF(AND(AR42<>$AJ42,AQ42<>$AJ42),$AJ42,\nIF(AND(AR42<>$AK42,AQ42<>$AK42),$AK42,\nIF(AND(AR42<>$AL42,AQ42<>$AL42),$AL42,\nIF(AND(AR42<>$AM42,AQ42<>$AM42),$AM42,\nIF(AND(AR42<>$AN42,AQ42<>$AN42),$AN42,\nIF(AND(AR42<>$AO42,AQ42<>$AO42),$AO42,\n\"\")))))))))))","v":""},{"$f":"IF(AS42=\"\",\"\",\nIF(AND(AQ42<>$AF42,AS42<>$AF42,AR42<>$AF42),$AF42,\nIF(AND(AQ42<>$AG42,AS42<>$AG42,AR42<>$AG42),$AG42,\nIF(AND(AQ42<>$AH42,AS42<>$AH42,AR42<>$AH42),$AH42,\nIF(AND(AQ42<>$AI42,AS42<>$AI42,AR42<>$AI42),$AI42,\nIF(AND(AQ42<>$AJ42,AS42<>$AJ42,AR42<>$AJ42),$AJ42,\nIF(AND(AQ42<>$AK42,AS42<>$AK42,AR42<>$AK42),$AK42,\nIF(AND(AQ42<>$AL42,AS42<>$AL42,AR42<>$AL42),$AL42,\nIF(AND(AQ42<>$AM42,AS42<>$AM42,AR42<>$AM42),$AM42,\nIF(AND(AQ42<>$AN42,AS42<>$AN42,AR42<>$AN42),$AN42,\nIF(AND(AQ42<>$AO42,AS42<>$AO42,AR42<>$AO42),$AO42,\n\"\")))))))))))","v":""},{"$f":"IF(AT42=\"\",\"\",\nIF(AND(AQ42<>$AF42,AR42<>$AF42,AT42<>$AF42,AS42<>$AF42),$AF42,\nIF(AND(AQ42<>$AG42,AR42<>$AG42,AT42<>$AG42,AS42<>$AG42),$AG42,\nIF(AND(AQ42<>$AH42,AR42<>$AH42,AT42<>$AH42,AS42<>$AH42),$AH42,\nIF(AND(AQ42<>$AI42,AR42<>$AI42,AT42<>$AI42,AS42<>$AI42),$AI42,\nIF(AND(AQ42<>$AJ42,AR42<>$AJ42,AT42<>$AJ42,AS42<>$AJ42),$AJ42,\nIF(AND(AQ42<>$AK42,AR42<>$AK42,AT42<>$AK42,AS42<>$AK42),$AK42,\nIF(AND(AQ42<>$AL42,AR42<>$AL42,AT42<>$AL42,AS42<>$AL42),$AL42,\nIF(AND(AQ42<>$AM42,AR42<>$AM42,AT42<>$AM42,AS42<>$AM42),$AM42,\nIF(AND(AQ42<>$AN42,AR42<>$AN42,AT42<>$AN42,AS42<>$AN42),$AN42,\nIF(AND(AQ42<>$AO42,AR42<>$AO42,AT42<>$AO42,AS42<>$AO42),$AO42,\n\"\")))))))))))","v":""},{"$f":"IF(AU42=\"\",\"\",\nIF(AND(AQ42<>$AF42,AR42<>$AF42,AS42<>$AF42,AU42<>$AF42,AT42<>$AF42),$AF42,\nIF(AND(AQ42<>$AG42,AR42<>$AG42,AS42<>$AG42,AU42<>$AG42,AT42<>$AG42),$AG42,\nIF(AND(AQ42<>$AH42,AR42<>$AH42,AS42<>$AH42,AU42<>$AH42,AT42<>$AH42),$AH42,\nIF(AND(AQ42<>$AI42,AR42<>$AI42,AS42<>$AI42,AU42<>$AI42,AT42<>$AI42),$AI42,\nIF(AND(AQ42<>$AJ42,AR42<>$AJ42,AS42<>$AJ42,AU42<>$AJ42,AT42<>$AJ42),$AJ42,\nIF(AND(AQ42<>$AK42,AR42<>$AK42,AS42<>$AK42,AU42<>$AK42,AT42<>$AK42),$AK42,\nIF(AND(AQ42<>$AL42,AR42<>$AL42,AS42<>$AL42,AU42<>$AL42,AT42<>$AL42),$AL42,\nIF(AND(AQ42<>$AM42,AR42<>$AM42,AS42<>$AM42,AU42<>$AM42,AT42<>$AM42),$AM42,\nIF(AND(AQ42<>$AN42,AR42<>$AN42,AS42<>$AN42,AU42<>$AN42,AT42<>$AN42),$AN42,\nIF(AND(AQ42<>$AO42,AR42<>$AO42,AS42<>$AO42,AU42<>$AO42,AT42<>$AO42),$AO42,\n\"\")))))))))))","v":""},{"$f":"IF(AV42=\"\",\"\",\nIF(AND(AQ42<>$AF42,AR42<>$AF42,AS42<>$AF42,AT42<>$AF42,AV42<>$AF42,AU42<>$AF42),$AF42,\nIF(AND(AQ42<>$AG42,AR42<>$AG42,AS42<>$AG42,AT42<>$AG42,AV42<>$AG42,AU42<>$AG42),$AG42,\nIF(AND(AQ42<>$AH42,AR42<>$AH42,AS42<>$AH42,AT42<>$AH42,AV42<>$AH42,AU42<>$AH42),$AH42,\nIF(AND(AQ42<>$AI42,AR42<>$AI42,AS42<>$AI42,AT42<>$AI42,AV42<>$AI42,AU42<>$AI42),$AI42,\nIF(AND(AQ42<>$AJ42,AR42<>$AJ42,AS42<>$AJ42,AT42<>$AJ42,AV42<>$AJ42,AU42<>$AJ42),$AJ42,\nIF(AND(AQ42<>$AK42,AR42<>$AK42,AS42<>$AK42,AT42<>$AK42,AV42<>$AK42,AU42<>$AK42),$AK42,\nIF(AND(AQ42<>$AL42,AR42<>$AL42,AS42<>$AL42,AT42<>$AL42,AV42<>$AL42,AU42<>$AL42),$AL42,\nIF(AND(AQ42<>$AM42,AR42<>$AM42,AS42<>$AM42,AT42<>$AM42,AV42<>$AM42,AU42<>$AM42),$AM42,\nIF(AND(AQ42<>$AN42,AR42<>$AN42,AS42<>$AN42,AT42<>$AN42,AV42<>$AN42,AU42<>$AN42),$AN42,\nIF(AND(AQ42<>$AO42,AR42<>$AO42,AS42<>$AO42,AT42<>$AO42,AV42<>$AO42,AU42<>$AO42),$AO42,\n\"\")))))))))))","v":""},{"$f":"IF(AW42=\"\",\"\",\nIF(AND(AQ42<>$AF42,AR42<>$AF42,AS42<>$AF42,AT42<>$AF42,AU42<>$AF42,AW42<>$AF42,AV42<>$AF42),$AF42,\nIF(AND(AQ42<>$AG42,AR42<>$AG42,AS42<>$AG42,AT42<>$AG42,AU42<>$AG42,AW42<>$AG42,AV42<>$AG42),$AG42,\nIF(AND(AQ42<>$AH42,AR42<>$AH42,AS42<>$AH42,AT42<>$AH42,AU42<>$AH42,AW42<>$AH42,AV42<>$AH42),$AH42,\nIF(AND(AQ42<>$AI42,AR42<>$AI42,AS42<>$AI42,AT42<>$AI42,AU42<>$AI42,AW42<>$AI42,AV42<>$AI42),$AI42,\nIF(AND(AQ42<>$AJ42,AR42<>$AJ42,AS42<>$AJ42,AT42<>$AJ42,AU42<>$AJ42,AW42<>$AJ42,AV42<>$AJ42),$AJ42,\nIF(AND(AQ42<>$AK42,AR42<>$AK42,AS42<>$AK42,AT42<>$AK42,AU42<>$AK42,AW42<>$AK42,AV42<>$AK42),$AK42,\nIF(AND(AQ42<>$AL42,AR42<>$AL42,AS42<>$AL42,AT42<>$AL42,AU42<>$AL42,AW42<>$AL42,AV42<>$AL42),$AL42,\nIF(AND(AQ42<>$AM42,AR42<>$AM42,AS42<>$AM42,AT42<>$AM42,AU42<>$AM42,AW42<>$AM42,AV42<>$AM42),$AM42,\nIF(AND(AQ42<>$AN42,AR42<>$AN42,AS42<>$AN42,AT42<>$AN42,AU42<>$AN42,AW42<>$AN42,AV42<>$AN42),$AN42,\nIF(AND(AQ42<>$AO42,AR42<>$AO42,AS42<>$AO42,AT42<>$AO42,AU42<>$AO42,AW42<>$AO42,AV42<>$AO42),$AO42,\n\"\")))))))))))","v":""},{"$f":"IF(AX42=\"\",\"\",\nIF(AND(AQ42<>$AF42,AR42<>$AF42,AS42<>$AF42,AT42<>$AF42,AU42<>$AF42,AV42<>$AF42,AX42<>$AF42,AW42<>$AF42),$AF42,\nIF(AND(AQ42<>$AG42,AR42<>$AG42,AS42<>$AG42,AT42<>$AG42,AU42<>$AG42,AV42<>$AG42,AX42<>$AG42,AW42<>$AG42),$AG42,\nIF(AND(AQ42<>$AH42,AR42<>$AH42,AS42<>$AH42,AT42<>$AH42,AU42<>$AH42,AV42<>$AH42,AX42<>$AH42,AW42<>$AH42),$AH42,\nIF(AND(AQ42<>$AI42,AR42<>$AI42,AS42<>$AI42,AT42<>$AI42,AU42<>$AI42,AV42<>$AI42,AX42<>$AI42,AW42<>$AI42),$AI42,\nIF(AND(AQ42<>$AJ42,AR42<>$AJ42,AS42<>$AJ42,AT42<>$AJ42,AU42<>$AJ42,AV42<>$AJ42,AX42<>$AJ42,AW42<>$AJ42),$AJ42,\nIF(AND(AQ42<>$AK42,AR42<>$AK42,AS42<>$AK42,AT42<>$AK42,AU42<>$AK42,AV42<>$AK42,AX42<>$AK42,AW42<>$AK42),$AK42,\nIF(AND(AQ42<>$AL42,AR42<>$AL42,AS42<>$AL42,AT42<>$AL42,AU42<>$AL42,AV42<>$AL42,AX42<>$AL42,AW42<>$AL42),$AL42,\nIF(AND(AQ42<>$AM42,AR42<>$AM42,AS42<>$AM42,AT42<>$AM42,AU42<>$AM42,AV42<>$AM42,AX42<>$AM42,AW42<>$AM42),$AM42,\nIF(AND(AQ42<>$AN42,AR42<>$AN42,AS42<>$AN42,AT42<>$AN42,AU42<>$AN42,AV42<>$AN42,AX42<>$AN42,AW42<>$AN42),$AN42,\nIF(AND(AQ42<>$AO42,AR42<>$AO42,AS42<>$AO42,AT42<>$AO42,AU42<>$AO42,AV42<>$AO42,AX42<>$AO42,AW42<>$AO42),$AO42,\n\"\")))))))))))","v":""},{"$f":"IF(AY42=\"\",\"\",\nIF(AND(AQ42<>$AF42,AR42<>$AF42,AS42<>$AF42,AT42<>$AF42,AU42<>$AF42,AV42<>$AF42,AW42<>$AF42,AY42<>$AF42,AX42<>$AF42),$AF42,\nIF(AND(AQ42<>$AG42,AR42<>$AG42,AS42<>$AG42,AT42<>$AG42,AU42<>$AG42,AV42<>$AG42,AW42<>$AG42,AY42<>$AG42,AX42<>$AG42),$AG42,\nIF(AND(AQ42<>$AH42,AR42<>$AH42,AS42<>$AH42,AT42<>$AH42,AU42<>$AH42,AV42<>$AH42,AW42<>$AH42,AY42<>$AH42,AX42<>$AH42),$AH42,\nIF(AND(AQ42<>$AI42,AR42<>$AI42,AS42<>$AI42,AT42<>$AI42,AU42<>$AI42,AV42<>$AI42,AW42<>$AI42,AY42<>$AI42,AX42<>$AI42),$AI42,\nIF(AND(AQ42<>$AJ42,AR42<>$AJ42,AS42<>$AJ42,AT42<>$AJ42,AU42<>$AJ42,AV42<>$AJ42,AW42<>$AJ42,AY42<>$AJ42,AX42<>$AJ42),$AJ42,\nIF(AND(AQ42<>$AK42,AR42<>$AK42,AS42<>$AK42,AT42<>$AK42,AU42<>$AK42,AV42<>$AK42,AW42<>$AK42,AY42<>$AK42,AX42<>$AK42),$AK42,\nIF(AND(AQ42<>$AL42,AR42<>$AL42,AS42<>$AL42,AT42<>$AL42,AU42<>$AL42,AV42<>$AL42,AW42<>$AL42,AY42<>$AL42,AX42<>$AL42),$AL42,\nIF(AND(AQ42<>$AM42,AR42<>$AM42,AS42<>$AM42,AT42<>$AM42,AU42<>$AM42,AV42<>$AM42,AW42<>$AM42,AY42<>$AM42,AX42<>$AM42),$AM42,\nIF(AND(AQ42<>$AN42,AR42<>$AN42,AS42<>$AN42,AT42<>$AN42,AU42<>$AN42,AV42<>$AN42,AW42<>$AN42,AY42<>$AN42,AX42<>$AN42),$AN42,\nIF(AND(AQ42<>$AO42,AR42<>$AO42,AS42<>$AO42,AT42<>$AO42,AU42<>$AO42,AV42<>$AO42,AW42<>$AO42,AY42<>$AO42,AX42<>$AO42),$AO42,\n\"\")))))))))))","v":""}]
[null,0,0,"254.000","Parallel angebaut Modul mit Spezialgrösse","",null,null,"254.000","Parallel angebaut Modul mit Spezialgrösse","Modul",null,null,null,null,null,null,null,null,"E200_PV_Montagekonstruktion",null,"x",null,"x",null,null,null,null,null,null,null,"Modul","Modul","m2","m2","","","","","","",null,"Modul","m2","","","","","","","",""]
[null,0,0,"255.000","Schräg angebaut Standardmodul","",null,null,"255.000","Schräg angebaut Standardmodul","Modul",null,null,null,null,null,null,null,null,"E200_PV_Montagekonstruktion",null,"x",null,"x",null,null,null,null,null,null,null,"Modul","Modul","m2","m2","","","","","","",null,"Modul","m2","","","","","","","",""]
[null,0,0,"256.000","Schräg angebaut Modul mit Spezialgrösse","",null,null,"256.000","Schräg angebaut Modul mit Spezialgrösse","Modul",null,null,null,null,null,null,null,null,"E200_PV_Montagekonstruktion",null,"x",null,"x",null,null,null,null,null,null,null,"Modul","Modul","m2","m2","","","","","","",null,"Modul","m2","","","","","","","",""]
[null,0,0,"257.000","Geschuppte Module","",null,null,"257.000","Geschuppte Module","Modul",null,null,null,null,null,null,null,null,"E200_PV_Montagekonstruktion",null,"x",null,"x",null,null,null,null,null,null,null,"Modul","Modul","m2","m2","","","","","","",null,"Modul","m2","","","","","","","",""]
[null,{"$f":"B39","v":0},0,null,null,"",null,null,null,null,null,null,null,null,null,null,null,null,null,null,null,null,null,null,null,null,null,null,null,null,null,"","","","","","","","","","",null,"","","","","","","","","",""]
[null,{"$f":"IF(SUM(B49:B53)>0,1,0)","v":0},0,{"$f":"G48","v":"260.000"},{"$f":"H48 & IF(M48<>\"\",CHAR(10) & M48,\"\")","v":"Freifläche"},"","260.000","Freifläche",null,null,null,null,null,null,null,null,null,null,null,null,null,null,null,null,null,null,null,null,null,null,null,"","","","","","","","","","",null,"","","","","","","","","",""]
[null,{"$f":"IF(L49=\"x\",1,IF(ISNUMBER(L49),L49,0))","v":0},0,{"$f":"I49","v":"261.000"},{"$f":"J49 & IF(M49<>\"\",CHAR(10) & M49,\"\")","v":"In Boden gerammt"},"",null,null,"261.000","In Boden gerammt","Modul",null,null,null,null,null,null,null,null,"E200_PV_Montagekonstruktion",null,"x",null,"x",null,null,null,null,null,null,null,"Modul","Modul","m2","m2","","","","","","",null,"Modul","m2","","","","","","","",""]
[null,{"$f":"IF(L50=\"x\",1,IF(ISNUMBER(L50),L50,0))","v":0},0,{"$f":"I50","v":"262.000"},"Auf festem Untergrund gestellt","",null,null,"262.000","Auf festem Untergrund gestellt","Modul",null,null,null,null,null,null,null,null,"E200_PV_Montagekonstruktion",null,"x",null,"x",null,null,null,null,null,null,null,"Modul","Modul","m2","m2","","","","","","",null,"Modul","m2","","","","","","","",""]
[null,{"$f":"IF(L51=\"x\",1,IF(ISNUMBER(L51),L51,0))","v":0},0,{"$f":"I51","v":"263.000"},"Carports","",null,null,"263.000","Carports","Modul",null,null,null,null,null,null,null,null,"E200_PV_Montagekonstruktion",null,"x",null,"x",null,null,null,null,null,null,null,"Modul","Modul","m2","m2","","","","","","",null,"Modul","m2","","","","","","","",""]
[null,{"$f":"IF(L52=\"x\",1,IF(ISNUMBER(L52),L52,0))","v":0},0,"264.000","Bikeports","",null,null,"264.000","Bikeports","Modul",null,null,null,null,null,null,null,null,"E200_PV_Montagekonstruktion",null,"x",null,"x",null,null,null,null,null,null,null,"Modul","Modul","m2","m2","","","","","","",null,"Modul","m2","","","","","","","",""]
[null,{"$f":"IF(L53=\"x\",1,IF(ISNUMBER(L53),L53,0))","v":0},0,"265.000","Schwimmend","",null,null,"265.000","Schwimmend","Modul",null,null,null,null,null,null,null,null,"E200_PV_Montagekonstruktion",null,null,null,null,null,null,null,null,null,null,null,"","","","","","","","","","",null,"","","","","","","","","",""]
[null,{"$f":"B48","v":0},0,null,null,"",null,null,null,null,null,null,null,null,null,null,null,null,null,null,null,null,null,null,null,null,null,null,null,null,null,"","","","","","","","","","",null,"","","","","","","","","",""]
[null,{"$f":"IF(SUM(B56)>0,1,0)","v":0},0,{"$f":"G55","v":"270.000"},{"$f":"H55 & IF(M55<>\"\",CHAR(10) & M55,\"\")","v":"Weitere"},"","270.000","Weitere",null,null,null,null,null,null,null,null,null,null,null,null,null,null,null,null,null,null,null,null,null,null,null,"","","","","","","","","","",null,"","","","","","","","","",""]
[null,{"$f":"IF(L56=\"x\",1,IF(ISNUMBER(L56),L56,0))","v":0},0,{"$f":"I56","v":"271.000"},{"$f":"J56 & IF(M56<>\"\",CHAR(10) & M56,\"\")","v":"Schrägdach, Aufgeständert"},"",null,null,"271.000","Schrägdach, Aufgeständert","Modul",null,null,null,null,null,null,null,null,"E200_PV_Montagekonstruktion",null,"x",null,null,null,null,null,null,null,null,null,"Modul","Modul","","","","","","","","",null,"Modul","","","","","","","","",""]
[null,{"$f":"B55","v":0},0,null,null,"",null,null,null,null,null,null,null,null,null,null,null,null,null,null,null,null,null,null,null,null,null,null,null,null,null,"","","","","","","","","","",null,"","","","","","","","","",""]
[null,{"$f":"IF(SUM(B59:B64)>0,1,0)","v":0},0,{"$f":"G58","v":"280.000"},{"$f":"H58 & IF(M58<>\"\",CHAR(10) & M58,\"\")","v":"Zusatzmaterial"},"","280.000","Zusatzmaterial",null,null,null,null,null,null,null,null,null,null,null,null,null,null,null,null,null,null,null,null,null,null,null,"","","","","","","","","","",null,"","","","","","","","","",""]
[null,{"$f":"IF(L59=\"x\",1,IF(ISNUMBER(L59),L59,0))","v":0},0,{"$f":"I59","v":"281.000"},{"$f":"J59 & IF(M59<>\"\",CHAR(10) & M59,\"\")","v":"Aufwuchshemmende Matte (UV-beständig)"},"",null,null,"281.000","Aufwuchshemmende Matte (UV-beständig)","m2",null,null,null,null,null,null,null,null,"E200_Aufwuchshemmende_Matte",null,null,null,"x",null,null,null,null,null,null,null,"m2","m2","m2","m2","","","","","","",null,"m2","","","","","","","","",""]
[null,0,0,{"$f":"I60","v":"282.000"},"Anschlüsse für Schrägdach integriert","",null,null,"282.000","Anschlüsse für Schrägdach integriert","lfm",null,null,null,null,null,null,null,null,"E200_Anschlüsse_Schrägdach_integriert",null,null,"x",null,null,null,null,null,null,"x",null,"lfm","lfm","lfm","pau","pau","pau","pau","pau","pau","pau",null,"lfm","pau","","","","","","","",""]
[null,0,0,"283.000",{"$f":"J61","v":"Schneefang"},"",null,null,"283.000","Schneefang","lfm",null,null,null,null,null,null,null,null,null,null,null,"x",null,null,null,null,null,null,"x",null,"lfm","lfm","lfm","pau","pau","pau","pau","pau","pau","pau",null,"lfm","pau","","","","","","","",""]
[null,0,0,"284.000","Schneestopper ","",null,null,"284.000","Schneestopper ","Stk. ",null,null,null,null,null,null,null,null,null,"x",null,null,null,null,null,null,null,null,"x",null,"Stk. ","pau","pau","pau","pau","pau","pau","pau","pau","pau",null,"Stk. ","pau","","","","","","","",""]
[null,0,0,"285.000","Dachfenster für Indachanlagen","",null,null,"285.000","Dachfenster für Indachanlagen","Stk. ",null,null,null,null,null,null,null,null,null,"x",null,null,null,null,null,null,null,null,"x",null,"Stk. ","pau","pau","pau","pau","pau","pau","pau","pau","pau",null,"Stk. ","pau","","","","","","","",""]
[null,0,0,"286.000","Thermiekollektor für Indachanlagen","",null,null,"286.000","Thermiekollektor für Indachanlagen","Stk. ",null,null,null,null,null,null,null,null,null,"x",null,"x",null,null,null,null,null,null,"x",null,"Stk. ","lfm","lfm","pau","pau","pau","pau","pau","pau","pau",null,"Stk. ","lfm","pau","","","","","","",""]

{"sheet":"300 Anschlussgeräte","index":5,"n_rows":61,"n_cols":52,"rows_kept":61,"cut":false,"hidden":false,"merged":[[1,6,1,7],[3,6,3,7],[3,8,3,9],[2,6,2,9],[0,19,0,51]]}
[null,null,null,null,null,null,null,null,null,null,null,null,null,null,null,null,null,null,null,"AUSBLENDEN"]
[null,null,null,null,"Ausblenden",null,"Strukturebene 1:",null,300,"Anschlussgeräte"]
[null,null,null,null,null,null,"Verbindlich"]
[null,"Show","Fill","SOQ-Nr.","Beschreibung","Einheit","Strukturebene 2",null,"Strukturebene 3",null,"Leistungs-Einheit","Position Hinzufügen","E- Box",null,null,null,null,null,null,"E-Box","Stk. ","Modul","lfm","m2","m3","Std.","Monate","Jahre","kWp","pau",null,"Pos1","Pos2","Pos3","Pos4","Pos5","Pos6","Pos7","Pos8","Pos9","Pos10",null,"Pos1","Pos2","Pos3","Pos4","Pos5","Pos6","Pos7","Pos8","Pos9","Pos10"]
[]
[null,{"$f":"IF(SUM(B7:B10)>0,1,0)","v":1},{"$f":"IF(L6=\"x\",1,IF(ISNUMBER(L6),1,0))","v":0},{"$f":"G6","v":"310.000"},{"$f":"H6","v":"Stringwechselrichter netzgeführt"},{"$f":"IF(C6=1,K6,\"\")","v":""},"310.000","Stringwechselrichter netzgeführt",null,null,null,null,null,null,null,null,null,null,null,null,null,null,null,null,null,null,null,null,null,null,null,{"$f":"\nIF(U6=\"x\",U$4,\nIF(V6=\"x\",V$4,\nIF(W6=\"x\",W$4,\nIF(X6=\"x\",X$4,\nIF(Y6=\"x\",Y$4,\nIF(Z6=\"x\",Z$4,\nIF(AA6=\"x\",AA$4,\nIF(AB6=\"x\",AB$4,\nIF(AC6=\"x\",AC$4,\nIF(AD6=\"x\",AD$4,\n\"\"))))))))))","v":""},{"$f":"\nIF(V6=\"x\",V$4,\nIF(W6=\"x\",W$4,\nIF(X6=\"x\",X$4,\nIF(Y6=\"x\",Y$4,\nIF(Z6=\"x\",Z$4,\nIF(AA6=\"x\",AA$4,\nIF(AB6=\"x\",AB$4,\nIF(AC6=\"x\",AC$4,\nIF(AD6=\"x\",AD$4,\n\"\")))))))))","v":""},{"$f":"\nIF(W6=\"x\",W$4,\nIF(X6=\"x\",X$4,\nIF(Y6=\"x\",Y$4,\nIF(Z6=\"x\",Z$4,\nIF(AA6=\"x\",AA$4,\nIF(AB6=\"x\",AB$4,\nIF(AC6=\"x\",AC$4,\nIF(AD6=\"x\",AD$4,\n\"\"))))))))","v":""},{"$f":"\nIF(X6=\"x\",X$4,\nIF(Y6=\"x\",Y$4,\nIF(Z6=\"x\",Z$4,\nIF(AA6=\"x\",AA$4,\nIF(AB6=\"x\",AB$4,\nIF(AC6=\"x\",AC$4,\nIF(AD6=\"x\",AD$4,\n\"\")))))))","v":""},{"$f":"\nIF(Y6=\"x\",Y$4,\nIF(Z6=\"x\",Z$4,\nIF(AA6=\"x\",AA$4,\nIF(AB6=\"x\",AB$4,\nIF(AC6=\"x\",AC$4,\nIF(AD6=\"x\",AD$4,\n\"\"))))))","v":""},{"$f":"\nIF(Z6=\"x\",Z$4,\nIF(AA6=\"x\",AA$4,\nIF(AB6=\"x\",AB$4,\nIF(AC6=\"x\",AC$4,\nIF(AD6=\"x\",AD$4,\n\"\")))))","v":""},{"$f":"\nIF(AA6=\"x\",AA$4,\nIF(AB6=\"x\",AB$4,\nIF(AC6=\"x\",AC$4,\nIF(AD6=\"x\",AD$4,\n\"\"))))","v":""},{"$f":"\nIF(AB6=\"x\",AB$4,\nIF(AC6=\"x\",AC$4,\nIF(AD6=\"x\",AD$4,\n\"\")))","v":""},{"$f":"\nIF(AC6=\"x\",AC$4,\nIF(AD6=\"x\",AD$4,\n\"\"))","v":""},{"$f":"\nIF(AD6=\"x\",AD$4,\n\"\")","v":""},null,{"$f":"AF6","v":""},{"$f":"IF(AQ6=\"\",\"\",\nIF(AQ6<>$AF6,$AF6,\nIF(AQ6<>$AG6,$AG6,\nIF(AQ6<>$AH6,$AH6,\nIF(AQ6<>$AI6,$AI6,\nIF(AQ6<>$AJ6,$AJ6,\nIF(AQ6<>$AK6,$AK6,\nIF(AQ6<>$AL6,$AL6,\nIF(AQ6<>$AM6,$AM6,\nIF(AQ6<>$AN6,$AN6,\nIF(AQ6<>$AO6,$AO6,\n\"\")))))))))))","v":""},{"$f":"IF(AR6=\"\",\"\",\nIF(AND(AR6<>$AF6,AQ6<>$AF6),$AF6,\nIF(AND(AR6<>$AG6,AQ6<>$AG6),$AG6,\nIF(AND(AR6<>$AH6,AQ6<>$AH6),$AH6,\nIF(AND(AR6<>$AI6,AQ6<>$AI6),$AI6,\nIF(AND(AR6<>$AJ6,AQ6<>$AJ6),$AJ6,\nIF(AND(AR6<>$AK6,AQ6<>$AK6),$AK6,\nIF(AND(AR6<>$AL6,AQ6<>$AL6),$AL6,\nIF(AND(AR6<>$AM6,AQ6<>$AM6),$AM6,\nIF(AND(AR6<>$AN6,AQ6<>$AN6),$AN6,\nIF(AND(AR6<>$AO6,AQ6<>$AO6),$AO6,\n\"\")))))))))))","v":""},{"$f":"IF(AS6=\"\",\"\",\nIF(AND(AQ6<>$AF6,AS6<>$AF6,AR6<>$AF6),$AF6,\nIF(AND(AQ6<>$AG6,AS6<>$AG6,AR6<>$AG6),$AG6,\nIF(AND(AQ6<>$AH6,AS6<>$AH6,AR6<>$AH6),$AH6,\nIF(AND(AQ6<>$AI6,AS6<>$AI6,AR6<>$AI6),$AI6,\nIF(AND(AQ6<>$AJ6,AS6<>$AJ6,AR6<>$AJ6),$AJ6,\nIF(AND(AQ6<>$AK6,AS6<>$AK6,AR6<>$AK6),$AK6,\nIF(AND(AQ6<>$AL6,AS6<>$AL6,AR6<>$AL6),$AL6,\nIF(AND(AQ6<>$AM6,AS6<>$AM6,AR6<>$AM6),$AM6,\nIF(AND(AQ6<>$AN6,AS6<>$AN6,AR6<>$AN6),$AN6,\nIF(AND(AQ6<>$AO6,AS6<>$AO6,AR6<>$AO6),$AO6,\n\"\")))))))))))","v":""},{"$f":"IF(AT6=\"\",\"\",\nIF(AND(AQ6<>$AF6,AR6<>$AF6,AT6<>$AF6,AS6<>$AF6),$AF6,\nIF(AND(AQ6<>$AG6,AR6<>$AG6,AT6<>$AG6,AS6<>$AG6),$AG6,\nIF(AND(AQ6<>$AH6,AR6<>$AH6,AT6<>$AH6,AS6<>$AH6),$AH6,\nIF(AND(AQ6<>$AI6,AR6<>$AI6,AT6<>$AI6,AS6<>$AI6),$AI6,\nIF(AND(AQ6<>$AJ6,AR6<>$AJ6,AT6<>$AJ6,AS6<>$AJ6),$AJ6,\nIF(AND(AQ6<>$AK6,AR6<>$AK6,AT6<>$AK6,AS6<>$AK6),$AK6,\nIF(AND(AQ6<>$AL6,AR6<>$AL6,AT6<>$AL6,AS6<>$AL6),$AL6,\nIF(AND(AQ6<>$AM6,AR6<>$AM6,AT6<>$AM6,AS6<>$AM6),$AM6,\nIF(AND(AQ6<>$AN6,AR6<>$AN6,AT6<>$AN6,AS6<>$AN6),$AN6,\nIF(AND(AQ6<>$AO6,AR6<>$AO6,AT6<>$AO6,AS6<>$AO6),$AO6,\n\"\")))))))))))","v":""},{"$f":"IF(AU6=\"\",\"\",\nIF(AND(AQ6<>$AF6,AR6<>$AF6,AS6<>$AF6,AU6<>$AF6,AT6<>$AF6),$AF6,\nIF(AND(AQ6<>$AG6,AR6<>$AG6,AS6<>$AG6,AU6<>$AG6,AT6<>$AG6),$AG6,\nIF(AND(AQ6<>$AH6,AR6<>$AH6,AS6<>$AH6,AU6<>$AH6,AT6<>$AH6),$AH6,\nIF(AND(AQ6<>$AI6,AR6<>$AI6,AS6<>$AI6,AU6<>$AI6,AT6<>$AI6),$AI6,\nIF(AND(AQ6<>$AJ6,AR6<>$AJ6,AS6<>$AJ6,AU6<>$AJ6,AT6<>$AJ6),$AJ6,\nIF(AND(AQ6<>$AK6,AR6<>$AK6,AS6<>$AK6,AU6<>$AK6,AT6<>$AK6),$AK6,\nIF(AND(AQ6<>$AL6,AR6<>$AL6,AS6<>$AL6,AU6<>$AL6,AT6<>$AL6),$AL6,\nIF(AND(AQ6<>$AM6,AR6<>$AM6,AS6<>$AM6,AU6<>$AM6,AT6<>$AM6),$AM6,\nIF(AND(AQ6<>$AN6,AR6<>$AN6,AS6<>$AN6,AU6<>$AN6,AT6<>$AN6),$AN6,\nIF(AND(AQ6<>$AO6,AR6<>$AO6,AS6<>$AO6,AU6<>$AO6,AT6<>$AO6),$AO6,\n\"\")))))))))))","v":""},{"$f":"IF(AV6=\"\",\"\",\nIF(AND(AQ6<>$AF6,AR6<>$AF6,AS6<>$AF6,AT6<>$AF6,AV6<>$AF6,AU6<>$AF6),$AF6,\nIF(AND(AQ6<>$AG6,AR6<>$AG6,AS6<>$AG6,AT6<>$AG6,AV6<>$AG6,AU6<>$AG6),$AG6,\nIF(AND(AQ6<>$AH6,AR6<>$AH6,AS6<>$AH6,AT6<>$AH6,AV6<>$AH6,AU6<>$AH6),$AH6,\nIF(AND(AQ6<>$AI6,AR6<>$AI6,AS6<>$AI6,AT6<>$AI6,AV6<>$AI6,AU6<>$AI6),$AI6,\nIF(AND(AQ6<>$AJ6,AR6<>$AJ6,AS6<>$AJ6,AT6<>$AJ6,AV6<>$AJ6,AU6<>$AJ6),$AJ6,\nIF(AND(AQ6<>$AK6,AR6<>$AK6,AS6<>$AK6,AT6<>$AK6,AV6<>$AK6,AU6<>$AK6),$AK6,\nIF(AND(AQ6<>$AL6,AR6<>$AL6,AS6<>$AL6,AT6<>$AL6,AV6<>$AL6,AU6<>$AL6),$AL6,\nIF(AND(AQ6<>$AM6,AR6<>$AM6,AS6<>$AM6,AT6<>$AM6,AV6<>$AM6,AU6<>$AM6),$AM6,\nIF(AND(AQ6<>$AN6,AR6<>$AN6,AS6<>$AN6,AT6<>$AN6,AV6<>$AN6,AU6<>$AN6),$AN6,\nIF(AND(AQ6<>$AO6,AR6<>$AO6,AS6<>$AO6,AT6<>$AO6,AV6<>$AO6,AU6<>$AO6),$AO6,\n\"\")))))))))))","v":""},{"$f":"IF(AW6=\"\",\"\",\nIF(AND(AQ6<>$AF6,AR6<>$AF6,AS6<>$AF6,AT6<>$AF6,AU6<>$AF6,AW6<>$AF6,AV6<>$AF6),$AF6,\nIF(AND(AQ6<>$AG6,AR6<>$AG6,AS6<>$AG6,AT6<>$AG6,AU6<>$AG6,AW6<>$AG6,AV6<>$AG6),$AG6,\nIF(AND(AQ6<>$AH6,AR6<>$AH6,AS6<>$AH6,AT6<>$AH6,AU6<>$AH6,AW6<>$AH6,AV6<>$AH6),$AH6,\nIF(AND(AQ6<>$AI6,AR6<>$AI6,AS6<>$AI6,AT6<>$AI6,AU6<>$AI6,AW6<>$AI6,AV6<>$AI6),$AI6,\nIF(AND(AQ6<>$AJ6,AR6<>$AJ6,AS6<>$AJ6,AT6<>$AJ6,AU6<>$AJ6,AW6<>$AJ6,AV6<>$AJ6),$AJ6,\nIF(AND(AQ6<>$AK6,AR6<>$AK6,AS6<>$AK6,AT6<>$AK6,AU6<>$AK6,AW6<>$AK6,AV6<>$AK6),$AK6,\nIF(AND(AQ6<>$AL6,AR6<>$AL6,AS6<>$AL6,AT6<>$AL6,AU6<>$AL6,AW6<>$AL6,AV6<>$AL6),$AL6,\nIF(AND(AQ6<>$AM6,AR6<>$AM6,AS6<>$AM6,AT6<>$AM6,AU6<>$AM6,AW6<>$AM6,AV6<>$AM6),$AM6,\nIF(AND(AQ6<>$AN6,AR6<>$AN6,AS6<>$AN6,AT6<>$AN6,AU6<>$AN6,AW6<>$AN6,AV6<>$AN6),$AN6,\nIF(AND(AQ6<>$AO6,AR6<>$AO6,AS6<>$AO6,AT6<>$AO6,AU6<>$AO6,AW6<>$AO6,AV6<>$AO6),$AO6,\n\"\")))))))))))","v":""},{"$f":"IF(AX6=\"\",\"\",\nIF(AND(AQ6<>$AF6,AR6<>$AF6,AS6<>$AF6,AT6<>$AF6,AU6<>$AF6,AV6<>$AF6,AX6<>$AF6,AW6<>$AF6),$AF6,\nIF(AND(AQ6<>$AG6,AR6<>$AG6,AS6<>$AG6,AT6<>$AG6,AU6<>$AG6,AV6<>$AG6,AX6<>$AG6,AW6<>$AG6),$AG6,\nIF(AND(AQ6<>$AH6,AR6<>$AH6,AS6<>$AH6,AT6<>$AH6,AU6<>$AH6,AV6<>$AH6,AX6<>$AH6,AW6<>$AH6),$AH6,\nIF(AND(AQ6<>$AI6,AR6<>$AI6,AS6<>$AI6,AT6<>$AI6,AU6<>$AI6,AV6<>$AI6,AX6<>$AI6,AW6<>$AI6),$AI6,\nIF(AND(AQ6<>$AJ6,AR6<>$AJ6,AS6<>$AJ6,AT6<>$AJ6,AU6<>$AJ6,AV6<>$AJ6,AX6<>$AJ6,AW6<>$AJ6),$AJ6,\nIF(AND(AQ6<>$AK6,AR6<>$AK6,AS6<>$AK6,AT6<>$AK6,AU6<>$AK6,AV6<>$AK6,AX6<>$AK6,AW6<>$AK6),$AK6,\nIF(AND(AQ6<>$AL6,AR6<>$AL6,AS6<>$AL6,AT6<>$AL6,AU6<>$AL6,AV6<>$AL6,AX6<>$AL6,AW6<>$AL6),$AL6,\nIF(AND(AQ6<>$AM6,AR6<>$AM6,AS6<>$AM6,AT6<>$AM6,AU6<>$AM6,AV6<>$AM6,AX6<>$AM6,AW6<>$AM6),$AM6,\nIF(AND(AQ6<>$AN6,AR6<>$AN6,AS6<>$AN6,AT6<>$AN6,AU6<>$AN6,AV6<>$AN6,AX6<>$AN6,AW6<>$AN6),$AN6,\nIF(AND(AQ6<>$AO6,AR6<>$AO6,AS6<>$AO6,AT6<>$AO6,AU6<>$AO6,AV6<>$AO6,AX6<>$AO6,AW6<>$AO6),$AO6,\n\"\")))))))))))","v":""},{"$f":"IF(AY6=\"\",\"\",\nIF(AND(AQ6<>$AF6,AR6<>$AF6,AS6<>$AF6,AT6<>$AF6,AU6<>$AF6,AV6<>$AF6,AW6<>$AF6,AY6<>$AF6,AX6<>$AF6),$AF6,\nIF(AND(AQ6<>$AG6,AR6<>$AG6,AS6<>$AG6,AT6<>$AG6,AU6<>$AG6,AV6<>$AG6,AW6<>$AG6,AY6<>$AG6,AX6<>$AG6),$AG6,\nIF(AND(AQ6<>$AH6,AR6<>$AH6,AS6<>$AH6,AT6<>$AH6,AU6<>$AH6,AV6<>$AH6,AW6<>$AH6,AY6<>$AH6,AX6<>$AH6),$AH6,\nIF(AND(AQ6<>$AI6,AR6<>$AI6,AS6<>$AI6,AT6<>$AI6,AU6<>$AI6,AV6<>$AI6,AW6<>$AI6,AY6<>$AI6,AX6<>$AI6),$AI6,\nIF(AND(AQ6<>$AJ6,AR6<>$AJ6,AS6<>$AJ6,AT6<>$AJ6,AU6<>$AJ6,AV6<>$AJ6,AW6<>$AJ6,AY6<>$AJ6,AX6<>$AJ6),$AJ6,\nIF(AND(AQ6<>$AK6,AR6<>$AK6,AS6<>$AK6,AT6<>$AK6,AU6<>$AK6,AV6<>$AK6,AW6<>$AK6,AY6<>$AK6,AX6<>$AK6),$AK6,\nIF(AND(AQ6<>$AL6,AR6<>$AL6,AS6<>$AL6,AT6<>$AL6,AU6<>$AL6,AV6<>$AL6,AW6<>$AL6,AY6<>$AL6,AX6<>$AL6),$AL6,\nIF(AND(AQ6<>$AM6,AR6<>$AM6,AS6<>$AM6,AT6<>$AM6,AU6<>$AM6,AV6<>$AM6,AW6<>$AM6,AY6<>$AM6,AX6<>$AM6),$AM6,\nIF(AND(AQ6<>$AN6,AR6<>$AN6,AS6<>$AN6,AT6<>$AN6,AU6<>$AN6,AV6<>$AN6,AW6<>$AN6,AY6<>$AN6,AX6<>$AN6),$AN6,\nIF(AND(AQ6<>$AO6,AR6<>$AO6,AS6<>$AO6,AT6<>$AO6,AU6<>$AO6,AV6<>$AO6,AW6<>$AO6,AY6<>$AO6,AX6<>$AO6),$AO6,\n\"\")))))))))))","v":""}]
[null,{"$f":"IF(L7=\"x\",1,IF(ISNUMBER(L7),L7,0))","v":1},{"$f":"IF(L7=\"x\",1,IF(ISNUMBER(L7),1,0))","v":1},{"$f":"I7","v":"311.000"},{"$f":"J7 & IF(M7<>\"\",CHAR(10) & M7,\"\")","v":"Stringwechselrichter für NS ohne Hybridfunktion\nEigenschaften: \nAnzahl MPPT\nIP-Schutz\nDC-Trennstelle"},{"$f":"IF(C7=1,K7,\"\")","v":"Stk. "},null,null,"311.000","Stringwechselrichter für NS ohne Hybridfunktion","Stk. ","x","Eigenschaften: \nAnzahl MPPT\nIP-Schutz\nDC-Trennstelle",null,null,null,null,null,null,"E300_Stringwechselrichter","x",null,null,null,null,null,null,null,null,null,null,{"$f":"\nIF(U7=\"x\",U$4,\nIF(V7=\"x\",V$4,\nIF(W7=\"x\",W$4,\nIF(X7=\"x\",X$4,\nIF(Y7=\"x\",Y$4,\nIF(Z7=\"x\",Z$4,\nIF(AA7=\"x\",AA$4,\nIF(AB7=\"x\",AB$4,\nIF(AC7=\"x\",AC$4,\nIF(AD7=\"x\",AD$4,\n\"\"))))))))))","v":"Stk. "},{"$f":"\nIF(V7=\"x\",V$4,\nIF(W7=\"x\",W$4,\nIF(X7=\"x\",X$4,\nIF(Y7=\"x\",Y$4,\nIF(Z7=\"x\",Z$4,\nIF(AA7=\"x\",AA$4,\nIF(AB7=\"x\",AB$4,\nIF(AC7=\"x\",AC$4,\nIF(AD7=\"x\",AD$4,\n\"\")))))))))","v":""},{"$f":"\nIF(W7=\"x\",W$4,\nIF(X7=\"x\",X$4,\nIF(Y7=\"x\",Y$4,\nIF(Z7=\"x\",Z$4,\nIF(AA7=\"x\",AA$4,\nIF(AB7=\"x\",AB$4,\nIF(AC7=\"x\",AC$4,\nIF(AD7=\"x\",AD$4,\n\"\"))))))))","v":""},{"$f":"\nIF(X7=\"x\",X$4,\nIF(Y7=\"x\",Y$4,\nIF(Z7=\"x\",Z$4,\nIF(AA7=\"x\",AA$4,\nIF(AB7=\"x\",AB$4,\nIF(AC7=\"x\",AC$4,\nIF(AD7=\"x\",AD$4,\n\"\")))))))","v":""},{"$f":"\nIF(Y7=\"x\",Y$4,\nIF(Z7=\"x\",Z$4,\nIF(AA7=\"x\",AA$4,\nIF(AB7=\"x\",AB$4,\nIF(AC7=\"x\",AC$4,\nIF(AD7=\"x\",AD$4,\n\"\"))))))","v":""},{"$f":"\nIF(Z7=\"x\",Z$4,\nIF(AA7=\"x\",AA$4,\nIF(AB7=\"x\",AB$4,\nIF(AC7=\"x\",AC$4,\nIF(AD7=\"x\",AD$4,\n\"\")))))","v":""},{"$f":"\nIF(AA7=\"x\",AA$4,\nIF(AB7=\"x\",AB$4,\nIF(AC7=\"x\",AC$4,\nIF(AD7=\"x\",AD$4,\n\"\"))))","v":""},{"$f":"\nIF(AB7=\"x\",AB$4,\nIF(AC7=\"x\",AC$4,\nIF(AD7=\"x\",AD$4,\n\"\")))","v":""},{"$f":"\nIF(AC7=\"x\",AC$4,\nIF(AD7=\"x\",AD$4,\n\"\"))","v":""},{"$f":"\nIF(AD7=\"x\",AD$4,\n\"\")","v":""},null,{"$f":"AF7","v":"Stk. "},"",{"$f":"IF(AR7=\"\",\"\",\nIF(AND(AR7<>$AF7,AQ7<>$AF7),$AF7,\nIF(AND(AR7<>$AG7,AQ7<>$AG7),$AG7,\nIF(AND(AR7<>$AH7,AQ7<>$AH7),$AH7,\nIF(AND(AR7<>$AI7,AQ7<>$AI7),$AI7,\nIF(AND(AR7<>$AJ7,AQ7<>$AJ7),$AJ7,\nIF(AND(AR7<>$AK7,AQ7<>$AK7),$AK7,\nIF(AND(AR7<>$AL7,AQ7<>$AL7),$AL7,\nIF(AND(AR7<>$AM7,AQ7<>$AM7),$AM7,\nIF(AND(AR7<>$AN7,AQ7<>$AN7),$AN7,\nIF(AND(AR7<>$AO7,AQ7<>$AO7),$AO7,\n\"\")))))))))))","v":""},{"$f":"IF(AS7=\"\",\"\",\nIF(AND(AQ7<>$AF7,AS7<>$AF7,AR7<>$AF7),$AF7,\nIF(AND(AQ7<>$AG7,AS7<>$AG7,AR7<>$AG7),$AG7,\nIF(AND(AQ7<>$AH7,AS7<>$AH7,AR7<>$AH7),$AH7,\nIF(AND(AQ7<>$AI7,AS7<>$AI7,AR7<>$AI7),$AI7,\nIF(AND(AQ7<>$AJ7,AS7<>$AJ7,AR7<>$AJ7),$AJ7,\nIF(AND(AQ7<>$AK7,AS7<>$AK7,AR7<>$AK7),$AK7,\nIF(AND(AQ7<>$AL7,AS7<>$AL7,AR7<>$AL7),$AL7,\nIF(AND(AQ7<>$AM7,AS7<>$AM7,AR7<>$AM7),$AM7,\nIF(AND(AQ7<>$AN7,AS7<>$AN7,AR7<>$AN7),$AN7,\nIF(AND(AQ7<>$AO7,AS7<>$AO7,AR7<>$AO7),$AO7,\n\"\")))))))))))","v":""},{"$f":"IF(AT7=\"\",\"\",\nIF(AND(AQ7<>$AF7,AR7<>$AF7,AT7<>$AF7,AS7<>$AF7),$AF7,\nIF(AND(AQ7<>$AG7,AR7<>$AG7,AT7<>$AG7,AS7<>$AG7),$AG7,\nIF(AND(AQ7<>$AH7,AR7<>$AH7,AT7<>$AH7,AS7<>$AH7),$AH7,\nIF(AND(AQ7<>$AI7,AR7<>$AI7,AT7<>$AI7,AS7<>$AI7),$AI7,\nIF(AND(AQ7<>$AJ7,AR7<>$AJ7,AT7<>$AJ7,AS7<>$AJ7),$AJ7,\nIF(AND(AQ7<>$AK7,AR7<>$AK7,AT7<>$AK7,AS7<>$AK7),$AK7,\nIF(AND(AQ7<>$AL7,AR7<>$AL7,AT7<>$AL7,AS7<>$AL7),$AL7,\nIF(AND(AQ7<>$AM7,AR7<>$AM7,AT7<>$AM7,AS7<>$AM7),$AM7,\nIF(AND(AQ7<>$AN7,AR7<>$AN7,AT7<>$AN7,AS7<>$AN7),$AN7,\nIF(AND(AQ7<>$AO7,AR7<>$AO7,AT7<>$AO7,AS7<>$AO7),$AO7,\n\"\")))))))))))","v":""},{"$f":"IF(AU7=\"\",\"\",\nIF(AND(AQ7<>$AF7,AR7<>$AF7,AS7<>$AF7,AU7<>$AF7,AT7<>$AF7),$AF7,\nIF(AND(AQ7<>$AG7,AR7<>$AG7,AS7<>$AG7,AU7<>$AG7,AT7<>$AG7),$AG7,\nIF(AND(AQ7<>$AH7,AR7<>$AH7,AS7<>$AH7,AU7<>$AH7,AT7<>$AH7),$AH7,\nIF(AND(AQ7<>$AI7,AR7<>$AI7,AS7<>$AI7,AU7<>$AI7,AT7<>$AI7),$AI7,\nIF(AND(AQ7<>$AJ7,AR7<>$AJ7,AS7<>$AJ7,AU7<>$AJ7,AT7<>$AJ7),$AJ7,\nIF(AND(AQ7<>$AK7,AR7<>$AK7,AS7<>$AK7,AU7<>$AK7,AT7<>$AK7),$AK7,\nIF(AND(AQ7<>$AL7,AR7<>$AL7,AS7<>$AL7,AU7<>$AL7,AT7<>$AL7),$AL7,\nIF(AND(AQ7<>$AM7,AR7<>$AM7,AS7<>$AM7,AU7<>$AM7,AT7<>$AM7),$AM7,\nIF(AND(AQ7<>$AN7,AR7<>$AN7,AS7<>$AN7,AU7<>$AN7,AT7<>$AN7),$AN7,\nIF(AND(AQ7<>$AO7,AR7<>$AO7,AS7<>$AO7,AU7<>$AO7,AT7<>$AO7),$AO7,\n\"\")))))))))))","v":""},{"$f":"IF(AV7=\"\",\"\",\nIF(AND(AQ7<>$AF7,AR7<>$AF7,AS7<>$AF7,AT7<>$AF7,AV7<>$AF7,AU7<>$AF7),$AF7,\nIF(AND(AQ7<>$AG7,AR7<>$AG7,AS7<>$AG7,AT7<>$AG7,AV7<>$AG7,AU7<>$AG7),$AG7,\nIF(AND(AQ7<>$AH7,AR7<>$AH7,AS7<>$AH7,AT7<>$AH7,AV7<>$AH7,AU7<>$AH7),$AH7,\nIF(AND(AQ7<>$AI7,AR7<>$AI7,AS7<>$AI7,AT7<>$AI7,AV7<>$AI7,AU7<>$AI7),$AI7,\nIF(AND(AQ7<>$AJ7,AR7<>$AJ7,AS7<>$AJ7,AT7<>$AJ7,AV7<>$AJ7,AU7<>$AJ7),$AJ7,\nIF(AND(AQ7<>$AK7,AR7<>$AK7,AS7<>$AK7,AT7<>$AK7,AV7<>$AK7,AU7<>$AK7),$AK7,\nIF(AND(AQ7<>$AL7,AR7<>$AL7,AS7<>$AL7,AT7<>$AL7,AV7<>$AL7,AU7<>$AL7),$AL7,\nIF(AND(AQ7<>$AM7,AR7<>$AM7,AS7<>$AM7,AT7<>$AM7,AV7<>$AM7,AU7<>$AM7),$AM7,\nIF(AND(AQ7<>$AN7,AR7<>$AN7,AS7<>$AN7,AT7<>$AN7,AV7<>$AN7,AU7<>$AN7),$AN7,\nIF(AND(AQ7<>$AO7,AR7<>$AO7,AS7<>$AO7,AT7<>$AO7,AV7<>$AO7,AU7<>$AO7),$AO7,\n\"\")))))))))))","v":""},{"$f":"IF(AW7=\"\",\"\",\nIF(AND(AQ7<>$AF7,AR7<>$AF7,AS7<>$AF7,AT7<>$AF7,AU7<>$AF7,AW7<>$AF7,AV7<>$AF7),$AF7,\nIF(AND(AQ7<>$AG7,AR7<>$AG7,AS7<>$AG7,AT7<>$AG7,AU7<>$AG7,AW7<>$AG7,AV7<>$AG7),$AG7,\nIF(AND(AQ7<>$AH7,AR7<>$AH7,AS7<>$AH7,AT7<>$AH7,AU7<>$AH7,AW7<>$AH7,AV7<>$AH7),$AH7,\nIF(AND(AQ7<>$AI7,AR7<>$AI7,AS7<>$AI7,AT7<>$AI7,AU7<>$AI7,AW7<>$AI7,AV7<>$AI7),$AI7,\nIF(AND(AQ7<>$AJ7,AR7<>$AJ7,AS7<>$AJ7,AT7<>$AJ7,AU7<>$AJ7,AW7<>$AJ7,AV7<>$AJ7),$AJ7,\nIF(AND(AQ7<>$AK7,AR7<>$AK7,AS7<>$AK7,AT7<>$AK7,AU7<>$AK7,AW7<>$AK7,AV7<>$AK7),$AK7,\nIF(AND(AQ7<>$AL7,AR7<>$AL7,AS7<>$AL7,AT7<>$AL7,AU7<>$AL7,AW7<>$AL7,AV7<>$AL7),$AL7,\nIF(AND(AQ7<>$AM7,AR7<>$AM7,AS7<>$AM7,AT7<>$AM7,AU7<>$AM7,AW7<>$AM7,AV7<>$AM7),$AM7,\nIF(AND(AQ7<>$AN7,AR7<>$AN7,AS7<>$AN7,AT7<>$AN7,AU7<>$AN7,AW7<>$AN7,AV7<>$AN7),$AN7,\nIF(AND(AQ7<>$AO7,AR7<>$AO7,AS7<>$AO7,AT7<>$AO7,AU7<>$AO7,AW7<>$AO7,AV7<>$AO7),$AO7,\n\"\")))))))))))","v":""},{"$f":"IF(AX7=\"\",\"\",\nIF(AND(AQ7<>$AF7,AR7<>$AF7,AS7<>$AF7,AT7<>$AF7,AU7<>$AF7,AV7<>$AF7,AX7<>$AF7,AW7<>$AF7),$AF7,\nIF(AND(AQ7<>$AG7,AR7<>$AG7,AS7<>$AG7,AT7<>$AG7,AU7<>$AG7,AV7<>$AG7,AX7<>$AG7,AW7<>$AG7),$AG7,\nIF(AND(AQ7<>$AH7,AR7<>$AH7,AS7<>$AH7,AT7<>$AH7,AU7<>$AH7,AV7<>$AH7,AX7<>$AH7,AW7<>$AH7),$AH7,\nIF(AND(AQ7<>$AI7,AR7<>$AI7,AS7<>$AI7,AT7<>$AI7,AU7<>$AI7,AV7<>$AI7,AX7<>$AI7,AW7<>$AI7),$AI7,\nIF(AND(AQ7<>$AJ7,AR7<>$AJ7,AS7<>$AJ7,AT7<>$AJ7,AU7<>$AJ7,AV7<>$AJ7,AX7<>$AJ7,AW7<>$AJ7),$AJ7,\nIF(AND(AQ7<>$AK7,AR7<>$AK7,AS7<>$AK7,AT7<>$AK7,AU7<>$AK7,AV7<>$AK7,AX7<>$AK7,AW7<>$AK7),$AK7,\nIF(AND(AQ7<>$AL7,AR7<>$AL7,AS7<>$AL7,AT7<>$AL7,AU7<>$AL7,AV7<>$AL7,AX7<>$AL7,AW7<>$AL7),$AL7,\nIF(AND(AQ7<>$AM7,AR7<>$AM7,AS7<>$AM7,AT7<>$AM7,AU7<>$AM7,AV7<>$AM7,AX7<>$AM7,AW7<>$AM7),$AM7,\nIF(AND(AQ7<>$AN7,AR7<>$AN7,AS7<>$AN7,AT7<>$AN7,AU7<>$AN7,AV7<>$AN7,AX7<>$AN7,AW7<>$AN7),$AN7,\nIF(AND(AQ7<>$AO7,AR7<>$AO7,AS7<>$AO7,AT7<>$AO7,AU7<>$AO7,AV7<>$AO7,AX7<>$AO7,AW7<>$AO7),$AO7,\n\"\")))))))))))","v":""},{"$f":"IF(AY7=\"\",\"\",\nIF(AND(AQ7<>$AF7,AR7<>$AF7,AS7<>$AF7,AT7<>$AF7,AU7<>$AF7,AV7<>$AF7,AW7<>$AF7,AY7<>$AF7,AX7<>$AF7),$AF7,\nIF(AND(AQ7<>$AG7,AR7<>$AG7,AS7<>$AG7,AT7<>$AG7,AU7<>$AG7,AV7<>$AG7,AW7<>$AG7,AY7<>$AG7,AX7<>$AG7),$AG7,\nIF(AND(AQ7<>$AH7,AR7<>$AH7,AS7<>$AH7,AT7<>$AH7,AU7<>$AH7,AV7<>$AH7,AW7<>$AH7,AY7<>$AH7,AX7<>$AH7),$AH7,\nIF(AND(AQ7<>$AI7,AR7<>$AI7,AS7<>$AI7,AT7<>$AI7,AU7<>$AI7,AV7<>$AI7,AW7<>$AI7,AY7<>$AI7,AX7<>$AI7),$AI7,\nIF(AND(AQ7<>$AJ7,AR7<>$AJ7,AS7<>$AJ7,AT7<>$AJ7,AU7<>$AJ7,AV7<>$AJ7,AW7<>$AJ7,AY7<>$AJ7,AX7<>$AJ7),$AJ7,\nIF(AND(AQ7<>$AK7,AR7<>$AK7,AS7<>$AK7,AT7<>$AK7,AU7<>$AK7,AV7<>$AK7,AW7<>$AK7,AY7<>$AK7,AX7<>$AK7),$AK7,\nIF(AND(AQ7<>$AL7,AR7<>$AL7,AS7<>$AL7,AT7<>$AL7,AU7<>$AL7,AV7<>$AL7,AW7<>$AL7,AY7<>$AL7,AX7<>$AL7),$AL7,\nIF(AND(AQ7<>$AM7,AR7<>$AM7,AS7<>$AM7,AT7<>$AM7,AU7<>$AM7,AV7<>$AM7,AW7<>$AM7,AY7<>$AM7,AX7<>$AM7),$AM7,\nIF(AND(AQ7<>$AN7,AR7<>$AN7,AS7<>$AN7,AT7<>$AN7,AU7<>$AN7,AV7<>$AN7,AW7<>$AN7,AY7<>$AN7,AX7<>$AN7),$AN7,\nIF(AND(AQ7<>$AO7,AR7<>$AO7,AS7<>$AO7,AT7<>$AO7,AU7<>$AO7,AV7<>$AO7,AW7<>$AO7,AY7<>$AO7,AX7<>$AO7),$AO7,\n\"\")))))))))))","v":""}]
[null,{"$f":"IF(L8=\"x\",1,IF(ISNUMBER(L8),L8,0))","v":0},{"$f":"IF(L8=\"x\",1,IF(ISNUMBER(L8),1,0))","v":0},{"$f":"I8","v":"312.000"},{"$f":"J8 & IF(M8<>\"\",CHAR(10) & M8,\"\")","v":"Stringwechselrichter für NS mit Hybridfunktion"},{"$f":"IF(C8=1,K8,\"\")","v":""},null,null,"312.000","Stringwechselrichter für NS mit Hybridfunktion","Stk. ",null,null,null,null,null,null,null,null,"E300_Stringwechselrichter","x",null,null,null,null,null,null,null,null,null,null,{"$f":"\nIF(U8=\"x\",U$4,\nIF(V8=\"x\",V$4,\nIF(W8=\"x\",W$4,\nIF(X8=\"x\",X$4,\nIF(Y8=\"x\",Y$4,\nIF(Z8=\"x\",Z$4,\nIF(AA8=\"x\",AA$4,\nIF(AB8=\"x\",AB$4,\nIF(AC8=\"x\",AC$4,\nIF(AD8=\"x\",AD$4,\n\"\"))))))))))","v":"Stk. "},{"$f":"\nIF(V8=\"x\",V$4,\nIF(W8=\"x\",W$4,\nIF(X8=\"x\",X$4,\nIF(Y8=\"x\",Y$4,\nIF(Z8=\"x\",Z$4,\nIF(AA8=\"x\",AA$4,\nIF(AB8=\"x\",AB$4,\nIF(AC8=\"x\",AC$4,\nIF(AD8=\"x\",AD$4,\n\"\")))))))))","v":""},{"$f":"\nIF(W8=\"x\",W$4,\nIF(X8=\"x\",X$4,\nIF(Y8=\"x\",Y$4,\nIF(Z8=\"x\",Z$4,\nIF(AA8=\"x\",AA$4,\nIF(AB8=\"x\",AB$4,\nIF(AC8=\"x\",AC$4,\nIF(AD8=\"x\",AD$4,\n\"\"))))))))","v":""},{"$f":"\nIF(X8=\"x\",X$4,\nIF(Y8=\"x\",Y$4,\nIF(Z8=\"x\",Z$4,\nIF(AA8=\"x\",AA$4,\nIF(AB8=\"x\",AB$4,\nIF(AC8=\"x\",AC$4,\nIF(AD8=\"x\",AD$4,\n\"\")))))))","v":""},{"$f":"\nIF(Y8=\"x\",Y$4,\nIF(Z8=\"x\",Z$4,\nIF(AA8=\"x\",AA$4,\nIF(AB8=\"x\",AB$4,\nIF(AC8=\"x\",AC$4,\nIF(AD8=\"x\",AD$4,\n\"\"))))))","v":""},{"$f":"\nIF(Z8=\"x\",Z$4,\nIF(AA8=\"x\",AA$4,\nIF(AB8=\"x\",AB$4,\nIF(AC8=\"x\",AC$4,\nIF(AD8=\"x\",AD$4,\n\"\")))))","v":""},{"$f":"\nIF(AA8=\"x\",AA$4,\nIF(AB8=\"x\",AB$4,\nIF(AC8=\"x\",AC$4,\nIF(AD8=\"x\",AD$4,\n\"\"))))","v":""},{"$f":"\nIF(AB8=\"x\",AB$4,\nIF(AC8=\"x\",AC$4,\nIF(AD8=\"x\",AD$4,\n\"\")))","v":""},{"$f":"\nIF(AC8=\"x\",AC$4,\nIF(AD8=\"x\",AD$4,\n\"\"))","v":""},{"$f":"\nIF(AD8=\"x\",AD$4,\n\"\")","v":""},null,{"$f":"AF8","v":"Stk. "},"",{"$f":"IF(AR8=\"\",\"\",\nIF(AND(AR8<>$AF8,AQ8<>$AF8),$AF8,\nIF(AND(AR8<>$AG8,AQ8<>$AG8),$AG8,\nIF(AND(AR8<>$AH8,AQ8<>$AH8),$AH8,\nIF(AND(AR8<>$AI8,AQ8<>$AI8),$AI8,\nIF(AND(AR8<>$AJ8,AQ8<>$AJ8),$AJ8,\nIF(AND(AR8<>$AK8,AQ8<>$AK8),$AK8,\nIF(AND(AR8<>$AL8,AQ8<>$AL8),$AL8,\nIF(AND(AR8<>$AM8,AQ8<>$AM8),$AM8,\nIF(AND(AR8<>$AN8,AQ8<>$AN8),$AN8,\nIF(AND(AR8<>$AO8,AQ8<>$AO8),$AO8,\n\"\")))))))))))","v":""},{"$f":"IF(AS8=\"\",\"\",\nIF(AND(AQ8<>$AF8,AS8<>$AF8,AR8<>$AF8),$AF8,\nIF(AND(AQ8<>$AG8,AS8<>$AG8,AR8<>$AG8),$AG8,\nIF(AND(AQ8<>$AH8,AS8<>$AH8,AR8<>$AH8),$AH8,\nIF(AND(AQ8<>$AI8,AS8<>$AI8,AR8<>$AI8),$AI8,\nIF(AND(AQ8<>$AJ8,AS8<>$AJ8,AR8<>$AJ8),$AJ8,\nIF(AND(AQ8<>$AK8,AS8<>$AK8,AR8<>$AK8),$AK8,\nIF(AND(AQ8<>$AL8,AS8<>$AL8,AR8<>$AL8),$AL8,\nIF(AND(AQ8<>$AM8,AS8<>$AM8,AR8<>$AM8),$AM8,\nIF(AND(AQ8<>$AN8,AS8<>$AN8,AR8<>$AN8),$AN8,\nIF(AND(AQ8<>$AO8,AS8<>$AO8,AR8<>$AO8),$AO8,\n\"\")))))))))))","v":""},{"$f":"IF(AT8=\"\",\"\",\nIF(AND(AQ8<>$AF8,AR8<>$AF8,AT8<>$AF8,AS8<>$AF8),$AF8,\nIF(AND(AQ8<>$AG8,AR8<>$AG8,AT8<>$AG8,AS8<>$AG8),$AG8,\nIF(AND(AQ8<>$AH8,AR8<>$AH8,AT8<>$AH8,AS8<>$AH8),$AH8,\nIF(AND(AQ8<>$AI8,AR8<>$AI8,AT8<>$AI8,AS8<>$AI8),$AI8,\nIF(AND(AQ8<>$AJ8,AR8<>$AJ8,AT8<>$AJ8,AS8<>$AJ8),$AJ8,\nIF(AND(AQ8<>$AK8,AR8<>$AK8,AT8<>$AK8,AS8<>$AK8),$AK8,\nIF(AND(AQ8<>$AL8,AR8<>$AL8,AT8<>$AL8,AS8<>$AL8),$AL8,\nIF(AND(AQ8<>$AM8,AR8<>$AM8,AT8<>$AM8,AS8<>$AM8),$AM8,\nIF(AND(AQ8<>$AN8,AR8<>$AN8,AT8<>$AN8,AS8<>$AN8),$AN8,\nIF(AND(AQ8<>$AO8,AR8<>$AO8,AT8<>$AO8,AS8<>$AO8),$AO8,\n\"\")))))))))))","v":""},{"$f":"IF(AU8=\"\",\"\",\nIF(AND(AQ8<>$AF8,AR8<>$AF8,AS8<>$AF8,AU8<>$AF8,AT8<>$AF8),$AF8,\nIF(AND(AQ8<>$AG8,AR8<>$AG8,AS8<>$AG8,AU8<>$AG8,AT8<>$AG8),$AG8,\nIF(AND(AQ8<>$AH8,AR8<>$AH8,AS8<>$AH8,AU8<>$AH8,AT8<>$AH8),$AH8,\nIF(AND(AQ8<>$AI8,AR8<>$AI8,AS8<>$AI8,AU8<>$AI8,AT8<>$AI8),$AI8,\nIF(AND(AQ8<>$AJ8,AR8<>$AJ8,AS8<>$AJ8,AU8<>$AJ8,AT8<>$AJ8),$AJ8,\nIF(AND(AQ8<>$AK8,AR8<>$AK8,AS8<>$AK8,AU8<>$AK8,AT8<>$AK8),$AK8,\nIF(AND(AQ8<>$AL8,AR8<>$AL8,AS8<>$AL8,AU8<>$AL8,AT8<>$AL8),$AL8,\nIF(AND(AQ8<>$AM8,AR8<>$AM8,AS8<>$AM8,AU8<>$AM8,AT8<>$AM8),$AM8,\nIF(AND(AQ8<>$AN8,AR8<>$AN8,AS8<>$AN8,AU8<>$AN8,AT8<>$AN8),$AN8,\nIF(AND(AQ8<>$AO8,AR8<>$AO8,AS8<>$AO8,AU8<>$AO8,AT8<>$AO8),$AO8,\n\"\")))))))))))","v":""},{"$f":"IF(AV8=\"\",\"\",\nIF(AND(AQ8<>$AF8,AR8<>$AF8,AS8<>$AF8,AT8<>$AF8,AV8<>$AF8,AU8<>$AF8),$AF8,\nIF(AND(AQ8<>$AG8,AR8<>$AG8,AS8<>$AG8,AT8<>$AG8,AV8<>$AG8,AU8<>$AG8),$AG8,\nIF(AND(AQ8<>$AH8,AR8<>$AH8,AS8<>$AH8,AT8<>$AH8,AV8<>$AH8,AU8<>$AH8),$AH8,\nIF(AND(AQ8<>$AI8,AR8<>$AI8,AS8<>$AI8,AT8<>$AI8,AV8<>$AI8,AU8<>$AI8),$AI8,\nIF(AND(AQ8<>$AJ8,AR8<>$AJ8,AS8<>$AJ8,AT8<>$AJ8,AV8<>$AJ8,AU8<>$AJ8),$AJ8,\nIF(AND(AQ8<>$AK8,AR8<>$AK8,AS8<>$AK8,AT8<>$AK8,AV8<>$AK8,AU8<>$AK8),$AK8,\nIF(AND(AQ8<>$AL8,AR8<>$AL8,AS8<>$AL8,AT8<>$AL8,AV8<>$AL8,AU8<>$AL8),$AL8,\nIF(AND(AQ8<>$AM8,AR8<>$AM8,AS8<>$AM8,AT8<>$AM8,AV8<>$AM8,AU8<>$AM8),$AM8,\nIF(AND(AQ8<>$AN8,AR8<>$AN8,AS8<>$AN8,AT8<>$AN8,AV8<>$AN8,AU8<>$AN8),$AN8,\nIF(AND(AQ8<>$AO8,AR8<>$AO8,AS8<>$AO8,AT8<>$AO8,AV8<>$AO8,AU8<>$AO8),$AO8,\n\"\")))))))))))","v":""},{"$f":"IF(AW8=\"\",\"\",\nIF(AND(AQ8<>$AF8,AR8<>$AF8,AS8<>$AF8,AT8<>$AF8,AU8<>$AF8,AW8<>$AF8,AV8<>$AF8),$AF8,\nIF(AND(AQ8<>$AG8,AR8<>$AG8,AS8<>$AG8,AT8<>$AG8,AU8<>$AG8,AW8<>$AG8,AV8<>$AG8),$AG8,\nIF(AND(AQ8<>$AH8,AR8<>$AH8,AS8<>$AH8,AT8<>$AH8,AU8<>$AH8,AW8<>$AH8,AV8<>$AH8),$AH8,\nIF(AND(AQ8<>$AI8,AR8<>$AI8,AS8<>$AI8,AT8<>$AI8,AU8<>$AI8,AW8<>$AI8,AV8<>$AI8),$AI8,\nIF(AND(AQ8<>$AJ8,AR8<>$AJ8,AS8<>$AJ8,AT8<>$AJ8,AU8<>$AJ8,AW8<>$AJ8,AV8<>$AJ8),$AJ8,\nIF(AND(AQ8<>$AK8,AR8<>$AK8,AS8<>$AK8,AT8<>$AK8,AU8<>$AK8,AW8<>$AK8,AV8<>$AK8),$AK8,\nIF(AND(AQ8<>$AL8,AR8<>$AL8,AS8<>$AL8,AT8<>$AL8,AU8<>$AL8,AW8<>$AL8,AV8<>$AL8),$AL8,\nIF(AND(AQ8<>$AM8,AR8<>$AM8,AS8<>$AM8,AT8<>$AM8,AU8<>$AM8,AW8<>$AM8,AV8<>$AM8),$AM8,\nIF(AND(AQ8<>$AN8,AR8<>$AN8,AS8<>$AN8,AT8<>$AN8,AU8<>$AN8,AW8<>$AN8,AV8<>$AN8),$AN8,\nIF(AND(AQ8<>$AO8,AR8<>$AO8,AS8<>$AO8,AT8<>$AO8,AU8<>$AO8,AW8<>$AO8,AV8<>$AO8),$AO8,\n\"\")))))))))))","v":""},{"$f":"IF(AX8=\"\",\"\",\nIF(AND(AQ8<>$AF8,AR8<>$AF8,AS8<>$AF8,AT8<>$AF8,AU8<>$AF8,AV8<>$AF8,AX8<>$AF8,AW8<>$AF8),$AF8,\nIF(AND(AQ8<>$AG8,AR8<>$AG8,AS8<>$AG8,AT8<>$AG8,AU8<>$AG8,AV8<>$AG8,AX8<>$AG8,AW8<>$AG8),$AG8,\nIF(AND(AQ8<>$AH8,AR8<>$AH8,AS8<>$AH8,AT8<>$AH8,AU8<>$AH8,AV8<>$AH8,AX8<>$AH8,AW8<>$AH8),$AH8,\nIF(AND(AQ8<>$AI8,AR8<>$AI8,AS8<>$AI8,AT8<>$AI8,AU8<>$AI8,AV8<>$AI8,AX8<>$AI8,AW8<>$AI8),$AI8,\nIF(AND(AQ8<>$AJ8,AR8<>$AJ8,AS8<>$AJ8,AT8<>$AJ8,AU8<>$AJ8,AV8<>$AJ8,AX8<>$AJ8,AW8<>$AJ8),$AJ8,\nIF(AND(AQ8<>$AK8,AR8<>$AK8,AS8<>$AK8,AT8<>$AK8,AU8<>$AK8,AV8<>$AK8,AX8<>$AK8,AW8<>$AK8),$AK8,\nIF(AND(AQ8<>$AL8,AR8<>$AL8,AS8<>$AL8,AT8<>$AL8,AU8<>$AL8,AV8<>$AL8,AX8<>$AL8,AW8<>$AL8),$AL8,\nIF(AND(AQ8<>$AM8,AR8<>$AM8,AS8<>$AM8,AT8<>$AM8,AU8<>$AM8,AV8<>$AM8,AX8<>$AM8,AW8<>$AM8),$AM8,\nIF(AND(AQ8<>$AN8,AR8<>$AN8,AS8<>$AN8,AT8<>$AN8,AU8<>$AN8,AV8<>$AN8,AX8<>$AN8,AW8<>$AN8),$AN8,\nIF(AND(AQ8<>$AO8,AR8<>$AO8,AS8<>$AO8,AT8<>$AO8,AU8<>$AO8,AV8<>$AO8,AX8<>$AO8,AW8<>$AO8),$AO8,\n\"\")))))))))))","v":""},{"$f":"IF(AY8=\"\",\"\",\nIF(AND(AQ8<>$AF8,AR8<>$AF8,AS8<>$AF8,AT8<>$AF8,AU8<>$AF8,AV8<>$AF8,AW8<>$AF8,AY8<>$AF8,AX8<>$AF8),$AF8,\nIF(AND(AQ8<>$AG8,AR8<>$AG8,AS8<>$AG8,AT8<>$AG8,AU8<>$AG8,AV8<>$AG8,AW8<>$AG8,AY8<>$AG8,AX8<>$AG8),$AG8,\nIF(AND(AQ8<>$AH8,AR8<>$AH8,AS8<>$AH8,AT8<>$AH8,AU8<>$AH8,AV8<>$AH8,AW8<>$AH8,AY8<>$AH8,AX8<>$AH8),$AH8,\nIF(AND(AQ8<>$AI8,AR8<>$AI8,AS8<>$AI8,AT8<>$AI8,AU8<>$AI8,AV8<>$AI8,AW8<>$AI8,AY8<>$AI8,AX8<>$AI8),$AI8,\nIF(AND(AQ8<>$AJ8,AR8<>$AJ8,AS8<>$AJ8,AT8<>$AJ8,AU8<>$AJ8,AV8<>$AJ8,AW8<>$AJ8,AY8<>$AJ8,AX8<>$AJ8),$AJ8,\nIF(AND(AQ8<>$AK8,AR8<>$AK8,AS8<>$AK8,AT8<>$AK8,AU8<>$AK8,AV8<>$AK8,AW8<>$AK8,AY8<>$AK8,AX8<>$AK8),$AK8,\nIF(AND(AQ8<>$AL8,AR8<>$AL8,AS8<>$AL8,AT8<>$AL8,AU8<>$AL8,AV8<>$AL8,AW8<>$AL8,AY8<>$AL8,AX8<>$AL8),$AL8,\nIF(AND(AQ8<>$AM8,AR8<>$AM8,AS8<>$AM8,AT8<>$AM8,AU8<>$AM8,AV8<>$AM8,AW8<>$AM8,AY8<>$AM8,AX8<>$AM8),$AM8,\nIF(AND(AQ8<>$AN8,AR8<>$AN8,AS8<>$AN8,AT8<>$AN8,AU8<>$AN8,AV8<>$AN8,AW8<>$AN8,AY8<>$AN8,AX8<>$AN8),$AN8,\nIF(AND(AQ8<>$AO8,AR8<>$AO8,AS8<>$AO8,AT8<>$AO8,AU8<>$AO8,AV8<>$AO8,AW8<>$AO8,AY8<>$AO8,AX8<>$AO8),$AO8,\n\"\")))))))))))","v":""}]
[null,{"$f":"IF(L9=\"x\",1,IF(ISNUMBER(L9),L9,0))","v":0},0,{"$f":"I9","v":"313.000"},"Stringwechselrichter für Special-Voltage","",null,null,"313.000","Stringwechselrichter für Special-Voltage","Stk. ",null,null,null,null,null,null,null,null,"E300_Stringwechselrichter","x",null,null,null,null,null,null,null,null,null,null,"Stk. ","","","","","","","","","",null,"Stk. ","","","","","","","","",""]
[null,{"$f":"IF(L10=\"x\",1,IF(ISNUMBER(L10),L10,0))","v":0},0,"314.000","Modulwechselrichter","",null,null,"314.000","Modulwechselrichter","Stk. ",null,null,null,null,null,null,null,null,"E300_Stringwechselrichter","x",null,null,null,null,null,null,null,null,null,null,"Stk. ","","","","","","","","","",null,"Stk. ","",{"$f":"IF(AR10=\"\",\"\",\nIF(AND(AR10<>$AF10,AQ10<>$AF10),$AF10,\nIF(AND(AR10<>$AG10,AQ10<>$AG10),$AG10,\nIF(AND(AR10<>$AH10,AQ10<>$AH10),$AH10,\nIF(AND(AR10<>$AI10,AQ10<>$AI10),$AI10,\nIF(AND(AR10<>$AJ10,AQ10<>$AJ10),$AJ10,\nIF(AND(AR10<>$AK10,AQ10<>$AK10),$AK10,\nIF(AND(AR10<>$AL10,AQ10<>$AL10),$AL10,\nIF(AND(AR10<>$AM10,AQ10<>$AM10),$AM10,\nIF(AND(AR10<>$AN10,AQ10<>$AN10),$AN10,\nIF(AND(AR10<>$AO10,AQ10<>$AO10),$AO10,\n\"\")))))))))))","v":""},{"$f":"IF(AS10=\"\",\"\",\nIF(AND(AQ10<>$AF10,AS10<>$AF10,AR10<>$AF10),$AF10,\nIF(AND(AQ10<>$AG10,AS10<>$AG10,AR10<>$AG10),$AG10,\nIF(AND(AQ10<>$AH10,AS10<>$AH10,AR10<>$AH10),$AH10,\nIF(AND(AQ10<>$AI10,AS10<>$AI10,AR10<>$AI10),$AI10,\nIF(AND(AQ10<>$AJ10,AS10<>$AJ10,AR10<>$AJ10),$AJ10,\nIF(AND(AQ10<>$AK10,AS10<>$AK10,AR10<>$AK10),$AK10,\nIF(AND(AQ10<>$AL10,AS10<>$AL10,AR10<>$AL10),$AL10,\nIF(AND(AQ10<>$AM10,AS10<>$AM10,AR10<>$AM10),$AM10,\nIF(AND(AQ10<>$AN10,AS10<>$AN10,AR10<>$AN10),$AN10,\nIF(AND(AQ10<>$AO10,AS10<>$AO10,AR10<>$AO10),$AO10,\n\"\")))))))))))","v":""},{"$f":"IF(AT10=\"\",\"\",\nIF(AND(AQ10<>$AF10,AR10<>$AF10,AT10<>$AF10,AS10<>$AF10),$AF10,\nIF(AND(AQ10<>$AG10,AR10<>$AG10,AT10<>$AG10,AS10<>$AG10),$AG10,\nIF(AND(AQ10<>$AH10,AR10<>$AH10,AT10<>$AH10,AS10<>$AH10),$AH10,\nIF(AND(AQ10<>$AI10,AR10<>$AI10,AT10<>$AI10,AS10<>$AI10),$AI10,\nIF(AND(AQ10<>$AJ10,AR10<>$AJ10,AT10<>$AJ10,AS10<>$AJ10),$AJ10,\nIF(AND(AQ10<>$AK10,AR10<>$AK10,AT10<>$AK10,AS10<>$AK10),$AK10,\nIF(AND(AQ10<>$AL10,AR10<>$AL10,AT10<>$AL10,AS10<>$AL10),$AL10,\nIF(AND(AQ10<>$AM10,AR10<>$AM10,AT10<>$AM10,AS10<>$AM10),$AM10,\nIF(AND(AQ10<>$AN10,AR10<>$AN10,AT10<>$AN10,AS10<>$AN10),$AN10,\nIF(AND(AQ10<>$AO10,AR10<>$AO10,AT10<>$AO10,AS10<>$AO10),$AO10,\n\"\")))))))))))","v":""},{"$f":"IF(AU10=\"\",\"\",\nIF(AND(AQ10<>$AF10,AR10<>$AF10,AS10<>$AF10,AU10<>$AF10,AT10<>$AF10),$AF10,\nIF(AND(AQ10<>$AG10,AR10<>$AG10,AS10<>$AG10,AU10<>$AG10,AT10<>$AG10),$AG10,\nIF(AND(AQ10<>$AH10,AR10<>$AH10,AS10<>$AH10,AU10<>$AH10,AT10<>$AH10),$AH10,\nIF(AND(AQ10<>$AI10,AR10<>$AI10,AS10<>$AI10,AU10<>$AI10,AT10<>$AI10),$AI10,\nIF(AND(AQ10<>$AJ10,AR10<>$AJ10,AS10<>$AJ10,AU10<>$AJ10,AT10<>$AJ10),$AJ10,\nIF(AND(AQ10<>$AK10,AR10<>$AK10,AS10<>$AK10,AU10<>$AK10,AT10<>$AK10),$AK10,\nIF(AND(AQ10<>$AL10,AR10<>$AL10,AS10<>$AL10,AU10<>$AL10,AT10<>$AL10),$AL10,\nIF(AND(AQ10<>$AM10,AR10<>$AM10,AS10<>$AM10,AU10<>$AM10,AT10<>$AM10),$AM10,\nIF(AND(AQ10<>$AN10,AR10<>$AN10,AS10<>$AN10,AU10<>$AN10,AT10<>$AN10),$AN10,\nIF(AND(AQ10<>$AO10,AR10<>$AO10,AS10<>$AO10,AU10<>$AO10,AT10<>$AO10),$AO10,\n\"\")))))))))))","v":""},{"$f":"IF(AV10=\"\",\"\",\nIF(AND(AQ10<>$AF10,AR10<>$AF10,AS10<>$AF10,AT10<>$AF10,AV10<>$AF10,AU10<>$AF10),$AF10,\nIF(AND(AQ10<>$AG10,AR10<>$AG10,AS10<>$AG10,AT10<>$AG10,AV10<>$AG10,AU10<>$AG10),$AG10,\nIF(AND(AQ10<>$AH10,AR10<>$AH10,AS10<>$AH10,AT10<>$AH10,AV10<>$AH10,AU10<>$AH10),$AH10,\nIF(AND(AQ10<>$AI10,AR10<>$AI10,AS10<>$AI10,AT10<>$AI10,AV10<>$AI10,AU10<>$AI10),$AI10,\nIF(AND(AQ10<>$AJ10,AR10<>$AJ10,AS10<>$AJ10,AT10<>$AJ10,AV10<>$AJ10,AU10<>$AJ10),$AJ10,\nIF(AND(AQ10<>$AK10,AR10<>$AK10,AS10<>$AK10,AT10<>$AK10,AV10<>$AK10,AU10<>$AK10),$AK10,\nIF(AND(AQ10<>$AL10,AR10<>$AL10,AS10<>$AL10,AT10<>$AL10,AV10<>$AL10,AU10<>$AL10),$AL10,\nIF(AND(AQ10<>$AM10,AR10<>$AM10,AS10<>$AM10,AT10<>$AM10,AV10<>$AM10,AU10<>$AM10),$AM10,\nIF(AND(AQ10<>$AN10,AR10<>$AN10,AS10<>$AN10,AT10<>$AN10,AV10<>$AN10,AU10<>$AN10),$AN10,\nIF(AND(AQ10<>$AO10,AR10<>$AO10,AS10<>$AO10,AT10<>$AO10,AV10<>$AO10,AU10<>$AO10),$AO10,\n\"\")))))))))))","v":""},{"$f":"IF(AW10=\"\",\"\",\nIF(AND(AQ10<>$AF10,AR10<>$AF10,AS10<>$AF10,AT10<>$AF10,AU10<>$AF10,AW10<>$AF10,AV10<>$AF10),$AF10,\nIF(AND(AQ10<>$AG10,AR10<>$AG10,AS10<>$AG10,AT10<>$AG10,AU10<>$AG10,AW10<>$AG10,AV10<>$AG10),$AG10,\nIF(AND(AQ10<>$AH10,AR10<>$AH10,AS10<>$AH10,AT10<>$AH10,AU10<>$AH10,AW10<>$AH10,AV10<>$AH10),$AH10,\nIF(AND(AQ10<>$AI10,AR10<>$AI10,AS10<>$AI10,AT10<>$AI10,AU10<>$AI10,AW10<>$AI10,AV10<>$AI10),$AI10,\nIF(AND(AQ10<>$AJ10,AR10<>$AJ10,AS10<>$AJ10,AT10<>$AJ10,AU10<>$AJ10,AW10<>$AJ10,AV10<>$AJ10),$AJ10,\nIF(AND(AQ10<>$AK10,AR10<>$AK10,AS10<>$AK10,AT10<>$AK10,AU10<>$AK10,AW10<>$AK10,AV10<>$AK10),$AK10,\nIF(AND(AQ10<>$AL10,AR10<>$AL10,AS10<>$AL10,AT10<>$AL10,AU10<>$AL10,AW10<>$AL10,AV10<>$AL10),$AL10,\nIF(AND(AQ10<>$AM10,AR10<>$AM10,AS10<>$AM10,AT10<>$AM10,AU10<>$AM10,AW10<>$AM10,AV10<>$AM10),$AM10,\nIF(AND(AQ10<>$AN10,AR10<>$AN10,AS10<>$AN10,AT10<>$AN10,AU10<>$AN10,AW10<>$AN10,AV10<>$AN10),$AN10,\nIF(AND(AQ10<>$AO10,AR10<>$AO10,AS10<>$AO10,AT10<>$AO10,AU10<>$AO10,AW10<>$AO10,AV10<>$AO10),$AO10,\n\"\")))))))))))","v":""},{"$f":"IF(AX10=\"\",\"\",\nIF(AND(AQ10<>$AF10,AR10<>$AF10,AS10<>$AF10,AT10<>$AF10,AU10<>$AF10,AV10<>$AF10,AX10<>$AF10,AW10<>$AF10),$AF10,\nIF(AND(AQ10<>$AG10,AR10<>$AG10,AS10<>$AG10,AT10<>$AG10,AU10<>$AG10,AV10<>$AG10,AX10<>$AG10,AW10<>$AG10),$AG10,\nIF(AND(AQ10<>$AH10,AR10<>$AH10,AS10<>$AH10,AT10<>$AH10,AU10<>$AH10,AV10<>$AH10,AX10<>$AH10,AW10<>$AH10),$AH10,\nIF(AND(AQ10<>$AI10,AR10<>$AI10,AS10<>$AI10,AT10<>$AI10,AU10<>$AI10,AV10<>$AI10,AX10<>$AI10,AW10<>$AI10),$AI10,\nIF(AND(AQ10<>$AJ10,AR10<>$AJ10,AS10<>$AJ10,AT10<>$AJ10,AU10<>$AJ10,AV10<>$AJ10,AX10<>$AJ10,AW10<>$AJ10),$AJ10,\nIF(AND(AQ10<>$AK10,AR10<>$AK10,AS10<>$AK10,AT10<>$AK10,AU10<>$AK10,AV10<>$AK10,AX10<>$AK10,AW10<>$AK10),$AK10,\nIF(AND(AQ10<>$AL10,AR10<>$AL10,AS10<>$AL10,AT10<>$AL10,AU10<>$AL10,AV10<>$AL10,AX10<>$AL10,AW10<>$AL10),$AL10,\nIF(AND(AQ10<>$AM10,AR10<>$AM10,AS10<>$AM10,AT10<>$AM10,AU10<>$AM10,AV10<>$AM10,AX10<>$AM10,AW10<>$AM10),$AM10,\nIF(AND(AQ10<>$AN10,AR10<>$AN10,AS10<>$AN10,AT10<>$AN10,AU10<>$AN10,AV10<>$AN10,AX10<>$AN10,AW10<>$AN10),$AN10,\nIF(AND(AQ10<>$AO10,AR10<>$AO10,AS10<>$AO10,AT10<>$AO10,AU10<>$AO10,AV10<>$AO10,AX10<>$AO10,AW10<>$AO10),$AO10,\n\"\")))))))))))","v":""},{"$f":"IF(AY10=\"\",\"\",\nIF(AND(AQ10<>$AF10,AR10<>$AF10,AS10<>$AF10,AT10<>$AF10,AU10<>$AF10,AV10<>$AF10,AW10<>$AF10,AY10<>$AF10,AX10<>$AF10),$AF10,\nIF(AND(AQ10<>$AG10,AR10<>$AG10,AS10<>$AG10,AT10<>$AG10,AU10<>$AG10,AV10<>$AG10,AW10<>$AG10,AY10<>$AG10,AX10<>$AG10),$AG10,\nIF(AND(AQ10<>$AH10,AR10<>$AH10,AS10<>$AH10,AT10<>$AH10,AU10<>$AH10,AV10<>$AH10,AW10<>$AH10,AY10<>$AH10,AX10<>$AH10),$AH10,\nIF(AND(AQ10<>$AI10,AR10<>$AI10,AS10<>$AI10,AT10<>$AI10,AU10<>$AI10,AV10<>$AI10,AW10<>$AI10,AY10<>$AI10,AX10<>$AI10),$AI10,\nIF(AND(AQ10<>$AJ10,AR10<>$AJ10,AS10<>$AJ10,AT10<>$AJ10,AU10<>$AJ10,AV10<>$AJ10,AW10<>$AJ10,AY10<>$AJ10,AX10<>$AJ10),$AJ10,\nIF(AND(AQ10<>$AK10,AR10<>$AK10,AS10<>$AK10,AT10<>$AK10,AU10<>$AK10,AV10<>$AK10,AW10<>$AK10,AY10<>$AK10,AX10<>$AK10),$AK10,\nIF(AND(AQ10<>$AL10,AR10<>$AL10,AS10<>$AL10,AT10<>$AL10,AU10<>$AL10,AV10<>$AL10,AW10<>$AL10,AY10<>$AL10,AX10<>$AL10),$AL10,\nIF(AND(AQ10<>$AM10,AR10<>$AM10,AS10<>$AM10,AT10<>$AM10,AU10<>$AM10,AV10<>$AM10,AW10<>$AM10,AY10<>$AM10,AX10<>$AM10),$AM10,\nIF(AND(AQ10<>$AN10,AR10<>$AN10,AS10<>$AN10,AT10<>$AN10,AU10<>$AN10,AV10<>$AN10,AW10<>$AN10,AY10<>$AN10,AX10<>$AN10),$AN10,\nIF(AND(AQ10<>$AO10,AR10<>$AO10,AS10<>$AO10,AT10<>$AO10,AU10<>$AO10,AV10<>$AO10,AW10<>$AO10,AY10<>$AO10,AX10<>$AO10),$AO10,\n\"\")))))))))))","v":""}]
[null,{"$f":"B6","v":1},0,null,null,"",null,null,null,null,null,null,null,null,null,null,null,null,null,"E300_Stringwechselrichter",null,null,null,null,null,null,null,null,null,null,null,"","","","","","","","","","",null,"","","","","","","","","",""]
[null,{"$f":"IF(SUM(B13:B14)>0,1,0)","v":0},0,{"$f":"G12","v":"320.000"},{"$f":"H12","v":"Zentralwechselrichter netzgeführt"},"","320.000","Zentralwechselrichter netzgeführt",null,null,null,null,null,null,null,null,null,null,null,"E300_Stringwechselrichter",null,null,null,null,null,null,null,null,null,null,null,"","","","","","","","","","",null,"","","","","","","","","",""]
[null,{"$f":"IF(L13=\"x\",1,IF(ISNUMBER(L13),L13,0))","v":0},0,{"$f":"I13","v":"321.000"},{"$f":"J13 & IF(M13<>\"\",CHAR(10) & M13,\"\")","v":"Zentralwechselrichter für NS"},"",null,null,"321.000","Zentralwechselrichter für NS","Stk. ",null,null,null,null,null,null,null,null,"E300_Stringwechselrichter","x",null,null,null,null,null,null,null,null,null,null,"Stk. ","","","","","","","","","",null,"Stk. ","","","","","","","","",""]
[null,{"$f":"IF(L14=\"x\",1,IF(ISNUMBER(L14),L14,0))","v":0},0,{"$f":"I14","v":"322.000"},"Zentralwechselrichter für Special Voltage","",null,null,"322.000","Zentralwechselrichter für Special Voltage","Stk. ",null,null,null,null,null,null,null,null,"E300_Stringwechselrichter","x",null,null,null,null,null,null,null,null,null,null,"Stk. ","","","","","","","","","",null,"Stk. ","","","","","","","","",""]
[null,{"$f":"B12","v":0},0,null,null,"",null,null,null,null,null,null,null,null,null,null,null,null,null,null,null,null,null,null,null,null,null,null,null,null,null,"","","","","","","","","","",null,"","","","","","","","","",""]
[null,{"$f":"IF(SUM(B17:B24)>0,1,0)","v":1},0,{"$f":"G16","v":"330.000"},{"$f":"H16","v":"Generatoranschlusskasten"},"","330.000","Generatoranschlusskasten",null,null,null,null,null,null,null,null,null,null,null,null,"x",null,null,null,null,null,null,null,null,null,null,"Stk. ","","","","","","","","","",null,"Stk. ","","","","","","","","",""]
[null,{"$f":"IF(L17=\"x\",1,IF(ISNUMBER(L17),L17,0))","v":0},0,{"$f":"I17","v":"331.000"},{"$f":"J17 & IF(M17<>\"\",CHAR(10) & M17,\"\")","v":"ohne SPD, ohne Trennschalter"},"",null,null,"331.000","ohne SPD, ohne Trennschalter","Stk. ",null,null,null,null,null,null,null,null,"E300_GAK","x",null,null,null,null,null,null,null,null,null,null,"Stk. ","","","","","","","","","",null,"Stk. ","","","","","","","","",""]
[null,0,0,{"$f":"I18","v":"332.000"},"ohne SPD, mit Trennschalter","",null,null,"332.000","ohne SPD, mit Trennschalter","Stk. ",null,null,null,null,null,null,null,null,"E300_GAK","x",null,null,null,null,null,null,null,null,null,null,"Stk. ","","","","","","","","","",null,"Stk. ","","","","","","","","",""]
[null,0,0,"333.000","mit SPD 2, ohne Trennschalter","",null,null,"333.000","mit SPD 2, ohne Trennschalter","Stk. ",null,null,null,null,null,null,null,null,"E300_GAK","x",null,null,null,null,null,null,null,null,null,null,"Stk. ","","","","","","","","","",null,"Stk. ","","","","","","","","",""]
[null,0,0,"334.000","mit SPD 2, mit Trennschalter","",null,null,"334.000","mit SPD 2, mit Trennschalter","Stk. ",null,null,null,null,null,null,null,null,"E300_GAK","x",null,null,null,null,null,null,null,null,null,null,"Stk. ","","","","","","","","","",null,"Stk. ","","","","","","","","",""]
[null,1,1,{"$f":"I21","v":"335.000"},"mit SPD 1+ 2, ohne Trennschalter\nEigenschaften: \nAnzahl MPPT\nEinhausungstyp Metall/Kunststoff","Stk. ",null,null,"335.000","mit SPD 1+ 2, ohne Trennschalter","Stk. ","x","Eigenschaften: \nAnzahl MPPT\nEinhausungstyp Metall/Kunststoff",null,null,null,null,null,null,"E300_GAK","x",null,null,null,null,null,null,null,null,null,null,"Stk. ","","","","","","","","","",null,"Stk. ","","","","","","","","",""]
[null,0,0,"336.000","mit SPD 1+ 2, mit Trennschalter","",null,null,"336.000","mit SPD 1+ 2, mit Trennschalter","Stk. ",null,null,null,null,null,null,null,null,"E300_GAK","x",null,null,null,null,null,null,null,null,null,null,"Stk. ","","","","","","","","","",null,"Stk. ","","","","","","","","",""]
[null,0,0,"337.000","DC-Sicherungen","",null,null,"337.000","DC-Sicherungen","Stk. ",null,null,null,null,null,null,null,null,"E300_GAK","x",null,null,null,null,null,null,null,null,null,null,"Stk. ","","","","","","","","","",null,"Stk. ","","","","","","","","",""]
[null,0,0,"338.000","Überspannungschutzpatronen","",null,null,"338.000","Überspannungschutzpatronen","Stk. ",null,null,null,null,null,null,null,null,"E300_GAK","x",null,null,null,null,null,null,null,null,null,null,"Stk. ","","","","","","","","","",null,"Stk. ","","","","","","","","",""]
[null,{"$f":"B16","v":1},0,null,null,"",null,null,null,null,null,null,null,null,null,null,null,null,null,null,null,null,null,null,null,null,null,null,null,null,null,"","","","","","","","","","",null,"","","","","","","","","",""]
[null,{"$f":"IF(SUM(B27:B31)>0,1,0)","v":0},0,{"$f":"G26","v":"340.000"},{"$f":"H26","v":"Batteriespeicher DC-Systeme"},"","340.000","Batteriespeicher DC-Systeme",null,null,null,null,null,null,null,null,null,null,null,null,null,null,null,null,null,null,null,null,null,null,null,"","","","","","","","","","",null,"","","","","","","","","",""]
[null,{"$f":"IF(L27=\"x\",1,IF(ISNUMBER(L27),L27,0))","v":0},0,{"$f":"I27","v":"341.000"},{"$f":"J27 & IF(M27<>\"\",CHAR(10) & M27,\"\")","v":"Containermodul (Aussenanwendung, Komplettsystem)"},"",null,null,"341.000","Containermodul (Aussenanwendung, Komplettsystem)","Stk. ",null,null,null,null,null,null,null,null,"E300_Batterie","x",null,null,null,null,null,null,null,null,null,null,"Stk. ","","","","","","","","","",null,"Stk. ","","","","","","","","",""]
[null,{"$f":"IF(L28=\"x\",1,IF(ISNUMBER(L28),L28,0))","v":0},0,{"$f":"I28","v":"342.000"},"Batteriesspeichersystem (inkl. WR und Laderegler)","",null,null,"342.000","Batteriesspeichersystem (inkl. WR und Laderegler)","Stk. ",null,null,null,null,null,null,null,null,"E300_Batterie","x",null,null,null,null,null,null,null,null,null,null,"Stk. ","","","","","","","","","",null,"Stk. ","","","","","","","","",""]
[null,{"$f":"IF(L29=\"x\",1,IF(ISNUMBER(L29),L29,0))","v":0},0,"343.000","Batteriespeichersystem (ohne WR und Laderegler)","",null,null,"343.000","Batteriespeichersystem (ohne WR und Laderegler)","Stk. ",null,null,null,null,null,null,null,null,"E300_Batterie","x",null,null,null,null,null,null,null,null,null,null,"Stk. ","","","","","","","","","",null,"Stk. ","","","","","","","","",""]
[null,{"$f":"IF(L30=\"x\",1,IF(ISNUMBER(L30),L30,0))","v":0},0,"344.000","Batterieladeregler","",null,null,"344.000","Batterieladeregler","Stk. ",null,null,null,null,null,null,null,null,"E300_Batterie","x",null,null,null,null,null,null,null,null,null,null,"Stk. ","","","","","","","","","",null,"Stk. ","","","","","","","","",""]
[null,{"$f":"IF(L31=\"x\",1,IF(ISNUMBER(L31),L31,0))","v":0},0,"345.000","Batteriemodul","",null,null,"345.000","Batteriemodul","Stk. ",null,null,null,null,null,null,null,null,"E300_Batterie",null,null,null,null,null,null,null,null,null,null,null,"","","","","","","","","","",null,"","","","","","","","","",""]
[null,{"$f":"B26","v":0},0,null,null,"",null,null,null,null,null,null,null,null,null,null,null,null,null,null,null,null,null,null,null,null,null,null,null,null,null,"","","","","","","","","","",null,"","","","","","","","","",""]
[null,{"$f":"IF(SUM(B34:B36)>0,1,0)","v":0},0,{"$f":"G33","v":"350.000"},{"$f":"H33","v":"Batteriespeicher AC-System"},"","350.000","Batteriespeicher AC-System",null,null,null,null,null,null,null,null,null,null,null,null,null,null,null,null,null,null,null,null,null,null,null,"","","","","","","","","","",null,"","","","","","","","","",""]
[null,{"$f":"IF(L34=\"x\",1,IF(ISNUMBER(L34),L34,0))","v":0},0,{"$f":"I34","v":"351.000"},{"$f":"J34 & IF(M34<>\"\",CHAR(10) & M34,\"\")","v":"Containermodul (Aussenanwendung, Komplettsystem)"},"",null,null,"351.000","Containermodul (Aussenanwendung, Komplettsystem)","Stk. ",null,null,null,null,null,null,null,null,"E300_Batterie","x",null,null,null,null,null,null,null,null,null,null,"Stk. ","","","","","","","","","",null,"Stk. ","","","","","","","","",""]
[null,{"$f":"IF(L35=\"x\",1,IF(ISNUMBER(L35),L35,0))","v":0},0,{"$f":"I35","v":"352.000"},"Batteriespeichersysteme (inkl. WR)","",null,null,"352.000","Batteriespeichersysteme (inkl. WR)","Stk. ",null,null,null,null,null,null,null,null,"E300_Batterie","x",null,null,null,null,null,null,null,null,null,null,"Stk. ","","","","","","","","","",null,"Stk. ","","","","","","","","",""]
[null,{"$f":"IF(L36=\"x\",1,IF(ISNUMBER(L36),L36,0))","v":0},0,{"$f":"I36","v":"353.000"},"Batteriemodul","",null,null,"353.000","Batteriemodul","Stk. ",null,null,null,null,null,null,null,null,"E300_Batterie","x",null,null,null,null,null,null,null,null,null,null,"Stk. ","","","","","","","","","",null,"Stk. ","","","","","","","","",""]
[null,null,0,null,null,"",null,null,null,null,null,null,null,null,null,null,null,null,null,null,null,null,null,null,null,null,null,null,null,null,null,"","","","","","","","","","",null,"","","","","","","","","",""]
[null,{"$f":"IF(SUM(B39:B46)>0,1,0)","v":1},0,{"$f":"G38","v":"360.000"},{"$f":"H38","v":"Peripheriegeräte WR/Batterie"},"","360.000","Peripheriegeräte WR/Batterie",null,null,null,null,null,null,null,null,null,null,null,null,null,null,null,null,null,null,null,null,null,null,null,"","","","","","","","","","",null,"",{"$f":"IF(AQ38=\"\",\"\",\nIF(AQ38<>$AF38,$AF38,\nIF(AQ38<>$AG38,$AG38,\nIF(AQ38<>$AH38,$AH38,\nIF(AQ38<>$AI38,$AI38,\nIF(AQ38<>$AJ38,$AJ38,\nIF(AQ38<>$AK38,$AK38,\nIF(AQ38<>$AL38,$AL38,\nIF(AQ38<>$AM38,$AM38,\nIF(AQ38<>$AN38,$AN38,\nIF(AQ38<>$AO38,$AO38,\n\"\")))))))))))","v":""},"","","","","","","",""]
[null,{"$f":"IF(L39=\"x\",1,IF(ISNUMBER(L39),L39,0))","v":0},0,{"$f":"I39","v":"361.000"},{"$f":"J39 & IF(M39<>\"\",CHAR(10) & M39,\"\")","v":"Modul-Optimizer"},"",null,null,"361.000","Modul-Optimizer","Stk. ",null,null,null,null,null,null,null,null,"E300_Moduloptimierer","x",null,null,null,null,null,null,null,null,null,null,"Stk. ","","","","","","","","","",null,"Stk. ","","","","","","","","",""]
[null,0,0,{"$f":"I40","v":"362.000"},"String-Optimizer","",null,null,"362.000","String-Optimizer","Stk. ",null,null,null,null,null,null,null,null,"E300_Stringoptimierer","x",null,null,null,null,null,null,null,null,null,null,"Stk. ","","","","","","","","","",null,"Stk. ","","","","","","","","",""]
[null,0,0,{"$f":"I41","v":"363.000"},"Datenlogger","",null,null,"363.000","Datenlogger","Stk. ",null,null,null,null,null,null,null,null,"E300_Datalogger","x",null,null,null,null,null,null,null,null,null,null,"Stk. ","","","","","","","","","",null,"Stk. ","","","","","","","","",""]
[null,0,0,"364.000","Wettersensoren","",null,null,"364.000","Wettersensoren","Stk. ",null,null,null,null,null,null,null,null,"E300_Wettersensoren","x",null,null,null,null,null,null,null,null,null,null,"Stk. ","","","","","","","","","",null,"Stk. ","",{"$f":"IF(AR42=\"\",\"\",\nIF(AND(AR42<>$AF42,AQ42<>$AF42),$AF42,\nIF(AND(AR42<>$AG42,AQ42<>$AG42),$AG42,\nIF(AND(AR42<>$AH42,AQ42<>$AH42),$AH42,\nIF(AND(AR42<>$AI42,AQ42<>$AI42),$AI42,\nIF(AND(AR42<>$AJ42,AQ42<>$AJ42),$AJ42,\nIF(AND(AR42<>$AK42,AQ42<>$AK42),$AK42,\nIF(AND(AR42<>$AL42,AQ42<>$AL42),$AL42,\nIF(AND(AR42<>$AM42,AQ42<>$AM42),$AM42,\nIF(AND(AR42<>$AN42,AQ42<>$AN42),$AN42,\nIF(AND(AR42<>$AO42,AQ42<>$AO42),$AO42,\n\"\")))))))))))","v":""},{"$f":"IF(AS42=\"\",\"\",\nIF(AND(AQ42<>$AF42,AS42<>$AF42,AR42<>$AF42),$AF42,\nIF(AND(AQ42<>$AG42,AS42<>$AG42,AR42<>$AG42),$AG42,\nIF(AND(AQ42<>$AH42,AS42<>$AH42,AR42<>$AH42),$AH42,\nIF(AND(AQ42<>$AI42,AS42<>$AI42,AR42<>$AI42),$AI42,\nIF(AND(AQ42<>$AJ42,AS42<>$AJ42,AR42<>$AJ42),$AJ42,\nIF(AND(AQ42<>$AK42,AS42<>$AK42,AR42<>$AK42),$AK42,\nIF(AND(AQ42<>$AL42,AS42<>$AL42,AR42<>$AL42),$AL42,\nIF(AND(AQ42<>$AM42,AS42<>$AM42,AR42<>$AM42),$AM42,\nIF(AND(AQ42<>$AN42,AS42<>$AN42,AR42<>$AN42),$AN42,\nIF(AND(AQ42<>$AO42,AS42<>$AO42,AR42<>$AO42),$AO42,\n\"\")))))))))))","v":""},{"$f":"IF(AT42=\"\",\"\",\nIF(AND(AQ42<>$AF42,AR42<>$AF42,AT42<>$AF42,AS42<>$AF42),$AF42,\nIF(AND(AQ42<>$AG42,AR42<>$AG42,AT42<>$AG42,AS42<>$AG42),$AG42,\nIF(AND(AQ42<>$AH42,AR42<>$AH42,AT42<>$AH42,AS42<>$AH42),$AH42,\nIF(AND(AQ42<>$AI42,AR42<>$AI42,AT42<>$AI42,AS42<>$AI42),$AI42,\nIF(AND(AQ42<>$AJ42,AR42<>$AJ42,AT42<>$AJ42,AS42<>$AJ42),$AJ42,\nIF(AND(AQ42<>$AK42,AR42<>$AK42,AT42<>$AK42,AS42<>$AK42),$AK42,\nIF(AND(AQ42<>$AL42,AR42<>$AL42,AT42<>$AL42,AS42<>$AL42),$AL42,\nIF(AND(AQ42<>$AM42,AR42<>$AM42,AT42<>$AM42,AS42<>$AM42),$AM42,\nIF(AND(AQ42<>$AN42,AR42<>$AN42,AT42<>$AN42,AS42<>$AN42),$AN42,\nIF(AND(AQ42<>$AO42,AR42<>$AO42,AT42<>$AO42,AS42<>$AO42),$AO42,\n\"\")))))))))))","v":""},{"$f":"IF(AU42=\"\",\"\",\nIF(AND(AQ42<>$AF42,AR42<>$AF42,AS42<>$AF42,AU42<>$AF42,AT42<>$AF42),$AF42,\nIF(AND(AQ42<>$AG42,AR42<>$AG42,AS42<>$AG42,AU42<>$AG42,AT42<>$AG42),$AG42,\nIF(AND(AQ42<>$AH42,AR42<>$AH42,AS42<>$AH42,AU42<>$AH42,AT42<>$AH42),$AH42,\nIF(AND(AQ42<>$AI42,AR42<>$AI42,AS42<>$AI42,AU42<>$AI42,AT42<>$AI42),$AI42,\nIF(AND(AQ42<>$AJ42,AR42<>$AJ42,AS42<>$AJ42,AU42<>$AJ42,AT42<>$AJ42),$AJ42,\nIF(AND(AQ42<>$AK42,AR42<>$AK42,AS42<>$AK42,AU42<>$AK42,AT42<>$AK42),$AK42,\nIF(AND(AQ42<>$AL42,AR42<>$AL42,AS42<>$AL42,AU42<>$AL42,AT42<>$AL42),$AL42,\nIF(AND(AQ42<>$AM42,AR42<>$AM42,AS42<>$AM42,AU42<>$AM42,AT42<>$AM42),$AM42,\nIF(AND(AQ42<>$AN42,AR42<>$AN42,AS42<>$AN42,AU42<>$AN42,AT42<>$AN42),$AN42,\nIF(AND(AQ42<>$AO42,AR42<>$AO42,AS42<>$AO42,AU42<>$AO42,AT42<>$AO42),$AO42,\n\"\")))))))))))","v":""},{"$f":"IF(AV42=\"\",\"\",\nIF(AND(AQ42<>$AF42,AR42<>$AF42,AS42<>$AF42,AT42<>$AF42,AV42<>$AF42,AU42<>$AF42),$AF42,\nIF(AND(AQ42<>$AG42,AR42<>$AG42,AS42<>$AG42,AT42<>$AG42,AV42<>$AG42,AU42<>$AG42),$AG42,\nIF(AND(AQ42<>$AH42,AR42<>$AH42,AS42<>$AH42,AT42<>$AH42,AV42<>$AH42,AU42<>$AH42),$AH42,\nIF(AND(AQ42<>$AI42,AR42<>$AI42,AS42<>$AI42,AT42<>$AI42,AV42<>$AI42,AU42<>$AI42),$AI42,\nIF(AND(AQ42<>$AJ42,AR42<>$AJ42,AS42<>$AJ42,AT42<>$AJ42,AV42<>$AJ42,AU42<>$AJ42),$AJ42,\nIF(AND(AQ42<>$AK42,AR42<>$AK42,AS42<>$AK42,AT42<>$AK42,AV42<>$AK42,AU42<>$AK42),$AK42,\nIF(AND(AQ42<>$AL42,AR42<>$AL42,AS42<>$AL42,AT42<>$AL42,AV42<>$AL42,AU42<>$AL42),$AL42,\nIF(AND(AQ42<>$AM42,AR42<>$AM42,AS42<>$AM42,AT42<>$AM42,AV42<>$AM42,AU42<>$AM42),$AM42,\nIF(AND(AQ42<>$AN42,AR42<>$AN42,AS42<>$AN42,AT42<>$AN42,AV42<>$AN42,AU42<>$AN42),$AN42,\nIF(AND(AQ42<>$AO42,AR42<>$AO42,AS42<>$AO42,AT42<>$AO42,AV42<>$AO42,AU42<>$AO42),$AO42,\n\"\")))))))))))","v":""},{"$f":"IF(AW42=\"\",\"\",\nIF(AND(AQ42<>$AF42,AR42<>$AF42,AS42<>$AF42,AT42<>$AF42,AU42<>$AF42,AW42<>$AF42,AV42<>$AF42),$AF42,\nIF(AND(AQ42<>$AG42,AR42<>$AG42,AS42<>$AG42,AT42<>$AG42,AU42<>$AG42,AW42<>$AG42,AV42<>$AG42),$AG42,\nIF(AND(AQ42<>$AH42,AR42<>$AH42,AS42<>$AH42,AT42<>$AH42,AU42<>$AH42,AW42<>$AH42,AV42<>$AH42),$AH42,\nIF(AND(AQ42<>$AI42,AR42<>$AI42,AS42<>$AI42,AT42<>$AI42,AU42<>$AI42,AW42<>$AI42,AV42<>$AI42),$AI42,\nIF(AND(AQ42<>$AJ42,AR42<>$AJ42,AS42<>$AJ42,AT42<>$AJ42,AU42<>$AJ42,AW42<>$AJ42,AV42<>$AJ42),$AJ42,\nIF(AND(AQ42<>$AK42,AR42<>$AK42,AS42<>$AK42,AT42<>$AK42,AU42<>$AK42,AW42<>$AK42,AV42<>$AK42),$AK42,\nIF(AND(AQ42<>$AL42,AR42<>$AL42,AS42<>$AL42,AT42<>$AL42,AU42<>$AL42,AW42<>$AL42,AV42<>$AL42),$AL42,\nIF(AND(AQ42<>$AM42,AR42<>$AM42,AS42<>$AM42,AT42<>$AM42,AU42<>$AM42,AW42<>$AM42,AV42<>$AM42),$AM42,\nIF(AND(AQ42<>$AN42,AR42<>$AN42,AS42<>$AN42,AT42<>$AN42,AU42<>$AN42,AW42<>$AN42,AV42<>$AN42),$AN42,\nIF(AND(AQ42<>$AO42,AR42<>$AO42,AS42<>$AO42,AT42<>$AO42,AU42<>$AO42,AW42<>$AO42,AV42<>$AO42),$AO42,\n\"\")))))))))))","v":""},{"$f":"IF(AX42=\"\",\"\",\nIF(AND(AQ42<>$AF42,AR42<>$AF42,AS42<>$AF42,AT42<>$AF42,AU42<>$AF42,AV42<>$AF42,AX42<>$AF42,AW42<>$AF42),$AF42,\nIF(AND(AQ42<>$AG42,AR42<>$AG42,AS42<>$AG42,AT42<>$AG42,AU42<>$AG42,AV42<>$AG42,AX42<>$AG42,AW42<>$AG42),$AG42,\nIF(AND(AQ42<>$AH42,AR42<>$AH42,AS42<>$AH42,AT42<>$AH42,AU42<>$AH42,AV42<>$AH42,AX42<>$AH42,AW42<>$AH42),$AH42,\nIF(AND(AQ42<>$AI42,AR42<>$AI42,AS42<>$AI42,AT42<>$AI42,AU42<>$AI42,AV42<>$AI42,AX42<>$AI42,AW42<>$AI42),$AI42,\nIF(AND(AQ42<>$AJ42,AR42<>$AJ42,AS42<>$AJ42,AT42<>$AJ42,AU42<>$AJ42,AV42<>$AJ42,AX42<>$AJ42,AW42<>$AJ42),$AJ42,\nIF(AND(AQ42<>$AK42,AR42<>$AK42,AS42<>$AK42,AT42<>$AK42,AU42<>$AK42,AV42<>$AK42,AX42<>$AK42,AW42<>$AK42),$AK42,\nIF(AND(AQ42<>$AL42,AR42<>$AL42,AS42<>$AL42,AT42<>$AL42,AU42<>$AL42,AV42<>$AL42,AX42<>$AL42,AW42<>$AL42),$AL42,\nIF(AND(AQ42<>$AM42,AR42<>$AM42,AS42<>$AM42,AT42<>$AM42,AU42<>$AM42,AV42<>$AM42,AX42<>$AM42,AW42<>$AM42),$AM42,\nIF(AND(AQ42<>$AN42,AR42<>$AN42,AS42<>$AN42,AT42<>$AN42,AU42<>$AN42,AV42<>$AN42,AX42<>$AN42,AW42<>$AN42),$AN42,\nIF(AND(AQ42<>$AO42,AR42<>$AO42,AS42<>$AO42,AT42<>$AO42,AU42<>$AO42,AV42<>$AO42,AX42<>$AO42,AW42<>$AO42),$AO42,\n\"\")))))))))))","v":""},{"$f":"IF(AY42=\"\",\"\",\nIF(AND(AQ42<>$AF42,AR42<>$AF42,AS42<>$AF42,AT42<>$AF42,AU42<>$AF42,AV42<>$AF42,AW42<>$AF42,AY42<>$AF42,AX42<>$AF42),$AF42,\nIF(AND(AQ42<>$AG42,AR42<>$AG42,AS42<>$AG42,AT42<>$AG42,AU42<>$AG42,AV42<>$AG42,AW42<>$AG42,AY42<>$AG42,AX42<>$AG42),$AG42,\nIF(AND(AQ42<>$AH42,AR42<>$AH42,AS42<>$AH42,AT42<>$AH42,AU42<>$AH42,AV42<>$AH42,AW42<>$AH42,AY42<>$AH42,AX42<>$AH42),$AH42,\nIF(AND(AQ42<>$AI42,AR42<>$AI42,AS42<>$AI42,AT42<>$AI42,AU42<>$AI42,AV42<>$AI42,AW42<>$AI42,AY42<>$AI42,AX42<>$AI42),$AI42,\nIF(AND(AQ42<>$AJ42,AR42<>$AJ42,AS42<>$AJ42,AT42<>$AJ42,AU42<>$AJ42,AV42<>$AJ42,AW42<>$AJ42,AY42<>$AJ42,AX42<>$AJ42),$AJ42,\nIF(AND(AQ42<>$AK42,AR42<>$AK42,AS42<>$AK42,AT42<>$AK42,AU42<>$AK42,AV42<>$AK42,AW42<>$AK42,AY42<>$AK42,AX42<>$AK42),$AK42,\nIF(AND(AQ42<>$AL42,AR42<>$AL42,AS42<>$AL42,AT42<>$AL42,AU42<>$AL42,AV42<>$AL42,AW42<>$AL42,AY42<>$AL42,AX42<>$AL42),$AL42,\nIF(AND(AQ42<>$AM42,AR42<>$AM42,AS42<>$AM42,AT42<>$AM42,AU42<>$AM42,AV42<>$AM42,AW42<>$AM42,AY42<>$AM42,AX42<>$AM42),$AM42,\nIF(AND(AQ42<>$AN42,AR42<>$AN42,AS42<>$AN42,AT42<>$AN42,AU42<>$AN42,AV42<>$AN42,AW42<>$AN42,AY42<>$AN42,AX42<>$AN42),$AN42,\nIF(AND(AQ42<>$AO42,AR42<>$AO42,AS42<>$AO42,AT42<>$AO42,AU42<>$AO42,AV42<>$AO42,AW42<>$AO42,AY42<>$AO42,AX42<>$AO42),$AO42,\n\"\")))))))))))","v":""}]
[null,1,1,"365.000","SmartMeter\nEigenschaften: \n3- phasig\nDirektmessung","Stk. ",null,null,"365.000","SmartMeter","Stk. ","x","Eigenschaften: \n3- phasig\nDirektmessung",null,null,null,null,null,null,"E300_SmartMeter","x",null,null,null,null,null,null,null,null,null,null,"Stk. ","","","","","","","","","",null,"Stk. ","","","","","","","","",""]
[null,1,1,"366.000","Steuerung Verbraucher (z.B. Elektro-Heizeinsatz od. Elektroladestation)\nEigenschaften: \nAnzahl potentialfreie Kontakte","Stk. ",null,null,"366.000","Steuerung Verbraucher (z.B. Elektro-Heizeinsatz od. Elektroladestation)","Stk. ","x","Eigenschaften: \nAnzahl potentialfreie Kontakte",null,null,null,null,null,null,"E300_Steuerung_Verbraucher","x",null,null,null,null,null,null,null,null,"x",null,"Stk. ","pau","pau","pau","pau","pau","pau","pau","pau","pau",null,"Stk. ","pau","","","","","","","",""]
[null,1,1,"367.000",{"$f":"J45","v":"SIM-Router"},"Stk. ",null,null,"367.000","SIM-Router","Stk. ","x",null,null,null,null,null,null,null,null,"x",null,null,null,null,null,null,null,null,null,null,"Stk. ","","","","","","","","","",null,"Stk. ","","","","","","","","",""]
[null,0,0,"368.000","Visualisierung","",null,null,"368.000","Visualisierung","Stk. ",null,null,null,null,null,null,null,null,"E300_Visualisierung","x",null,null,null,null,null,null,null,null,"x",null,"Stk. ","pau","pau","pau","pau","pau","pau","pau","pau","pau",null,"Stk. ","pau","","","","","","","",""]
[null,{"$f":"B38","v":1},0,null,null,"",null,null,null,null,null,null,null,null,null,null,null,null,null,null,null,null,null,null,null,null,null,null,null,null,null,"","","","","","","","","","",null,"","","","","","","","","",""]
[null,{"$f":"IF(SUM(B49:B51)>0,1,0)","v":1},0,{"$f":"G48","v":"370.000"},{"$f":"H48","v":"Angesteuerte Verbraucher/Smart Energy"},"","370.000","Angesteuerte Verbraucher/Smart Energy",null,null,null,null,null,null,null,null,null,null,null,null,null,null,null,null,null,null,null,null,null,null,null,"","","","","","","","","","",null,"","","","","","","","","",""]
[null,{"$f":"IF(L49=\"x\",1,IF(ISNUMBER(L49),L49,0))","v":1},1,{"$f":"I49","v":"371.000"},{"$f":"J49 & IF(M49<>\"\",CHAR(10) & M49,\"\")","v":"Elektroladestationen \nEigenschaften: \nSteckertyp (Typ 1, Typ 2, CCS, CHAdeMO)"},"Stk. ",null,null,"371.000","Elektroladestationen ","Stk. ","x","Eigenschaften: \nSteckertyp (Typ 1, Typ 2, CCS, CHAdeMO)",null,null,null,null,null,null,"E300_Ladestationen","x",null,null,null,null,null,null,null,null,null,null,"Stk. ","","","","","","","","","",null,"Stk. ","","","","","","","","",""]
[null,{"$f":"IF(L50=\"x\",1,IF(ISNUMBER(L50),L50,0))","v":0},0,{"$f":"I50","v":"372.000"},"Wärmeerzeuger","",null,null,"372.000","Wärmeerzeuger","Stk. ",null,null,null,null,null,null,null,null,"E300_Wärmeerzeuger","x",null,null,null,null,null,null,null,null,null,null,"Stk. ","","","","","","","","","",null,"Stk. ","","","","","","","","",""]
[null,{"$f":"IF(L51=\"x\",1,IF(ISNUMBER(L51),L51,0))","v":0},0,{"$f":"I51","v":"373.000"},"SmartEnergy-Geräte","",null,null,"373.000","SmartEnergy-Geräte","Stk. ",null,null,null,null,null,null,null,null,"E300_SmartEnergy","x",null,null,null,null,null,null,null,null,null,null,"Stk. ","","","","","","","","","",null,"Stk. ","","","","","","","","",""]
[null,{"$f":"B48","v":1},0,null,null,"",null,null,null,null,null,null,null,null,null,null,null,null,null,null,null,null,null,null,null,null,null,null,null,null,null,"","","","","","","","","","",null,"","","","","","","","","",""]
[null,{"$f":"IF(SUM(B54:B60)>0,1,0)","v":0},0,{"$f":"G53","v":"380.000"},{"$f":"H53","v":"Insel-Komponenten"},"","380.000","Insel-Komponenten",null,null,null,null,null,null,null,null,null,null,null,null,null,null,null,null,null,null,null,null,null,null,null,"","","","","","","","","","",null,"","","","","","","","","",""]
[null,{"$f":"IF(L54=\"x\",1,IF(ISNUMBER(L54),L54,0))","v":0},0,{"$f":"I54","v":"381.000"},{"$f":"J54 & IF(M54<>\"\",CHAR(10) & M54,\"\")","v":"Inselwechselrichter"},"",null,null,"381.000","Inselwechselrichter","Stk. ",null,null,null,null,null,null,null,null,"E300_Inselwechselrichter","x",null,null,null,null,null,null,null,null,null,null,"Stk. ","","","","","","","","","",null,"Stk. ","","","","","","","","",""]
[null,0,0,{"$f":"I55","v":"382.000"},{"$f":"J55","v":"Solarladeregler"},"",null,null,"382.000","Solarladeregler","Stk. ",null,null,null,null,null,null,null,null,null,"x",null,null,null,null,null,null,null,null,null,null,"Stk. ","","","","","","","","","",null,"Stk. ","","","","","","","","",""]
[null,0,0,{"$f":"I56","v":"383.000"},{"$f":"J56","v":"Insel-Batterien"},"",null,null,"383.000","Insel-Batterien","Stk. ",null,null,null,null,null,null,null,null,null,"x",null,null,null,null,null,null,null,null,null,null,"Stk. ","","","","","","","","","",null,"Stk. ","","","","","","","","",""]
[null,0,0,"384.000","DC-Elektroheizeinsatz (Direktanschluss an PV-Generator)","",null,null,"384.000","DC-Elektroheizeinsatz (Direktanschluss an PV-Generator)","Stk. ",null,null,null,null,null,null,null,null,null,"x",null,null,null,null,null,null,null,null,null,null,"Stk. ","","","","","","","","","",null,"Stk. ","","","","","","","","",""]
[null,0,0,"385.000","DC- Beleuchtungssystem","",null,null,"385.000","DC- Beleuchtungssystem","Stk. ",null,null,null,null,null,null,null,null,null,"x",null,null,null,null,null,null,null,null,"x",null,"Stk. ","pau","pau","pau","pau","pau","pau","pau","pau","pau",null,"Stk. ","pau","","","","","","","",""]
[null,0,0,"386.000","DC- Kühlschrank","",null,null,"386.000","DC- Kühlschrank","Stk. ",null,null,null,null,null,null,null,null,null,"x",null,null,null,null,null,null,null,null,"x",null,"Stk. ","pau","pau","pau","pau","pau","pau","pau","pau","pau",null,"Stk. ","pau","","","","","","","",""]
[null,0,0,"387.000","Weitere","",null,null,"387.000","Weitere","Stk. ",null,null,null,null,null,null,null,null,null,"x",null,null,null,null,null,null,null,null,"x",null,"Stk. ","pau","pau","pau","pau","pau","pau","pau","pau","pau",null,"Stk. ","pau","","","","","","","",""]
[null,null,null,null,null,""]

{"sheet":"400 DC- Installation","index":6,"n_rows":52,"n_cols":52,"rows_kept":52,"cut":false,"hidden":false,"merged":[[1,6,1,7],[3,6,3,7],[3,8,3,9],[2,6,2,9],[0,19,0,51]]}
[null,null,null,null,null,null,null,null,null,null,null,null,null,null,null,null,null,null,null,"AUSBLENDEN"]
[null,null,null,null,"Ausblenden",null,"Strukturebene 1 Verbindlich:",null,400,"DC- Installation"]
[null,null,null,null,null,null,"Optional"]
[null,"Show","Fill","SOQ-Nr.","Beschreibung","Einheit","Strukturebene 2",null,"Strukturebene 3",null,"Leistungs-Einheit","Position Hinzufügen","E- Box",null,null,null,null,null,null,"E-Box","Stk. ","Modul","lfm","m2","m3","Std.","Monate","Jahre","kWp","pau",null,"Pos1","Pos2","Pos3","Pos4","Pos5","Pos6","Pos7","Pos8","Pos9","Pos10",null,"Pos1","Pos2","Pos3","Pos4","Pos5","Pos6","Pos7","Pos8","Pos9","Pos10"]
[]
[null,{"$f":"IF(L6=\"x\",1,0)","v":0},{"$f":"IF(L6=\"x\",1,IF(ISNUMBER(L6),1,0))","v":0},{"$f":"G6","v":"400.000"},{"$f":"H6","v":"DC- Installation"},{"$f":"IF(C6=1,K6,\"\")","v":""},"400.000","DC- Installation",null,null,"pau",null,null,null,null,null,null,null,null,"E400_DC_Installation",null,null,null,null,null,null,null,null,null,"x",null,{"$f":"\nIF(U6=\"x\",U$4,\nIF(V6=\"x\",V$4,\nIF(W6=\"x\",W$4,\nIF(X6=\"x\",X$4,\nIF(Y6=\"x\",Y$4,\nIF(Z6=\"x\",Z$4,\nIF(AA6=\"x\",AA$4,\nIF(AB6=\"x\",AB$4,\nIF(AC6=\"x\",AC$4,\nIF(AD6=\"x\",AD$4,\n\"\"))))))))))","v":"pau"},{"$f":"\nIF(V6=\"x\",V$4,\nIF(W6=\"x\",W$4,\nIF(X6=\"x\",X$4,\nIF(Y6=\"x\",Y$4,\nIF(Z6=\"x\",Z$4,\nIF(AA6=\"x\",AA$4,\nIF(AB6=\"x\",AB$4,\nIF(AC6=\"x\",AC$4,\nIF(AD6=\"x\",AD$4,\n\"\")))))))))","v":"pau"},{"$f":"\nIF(W6=\"x\",W$4,\nIF(X6=\"x\",X$4,\nIF(Y6=\"x\",Y$4,\nIF(Z6=\"x\",Z$4,\nIF(AA6=\"x\",AA$4,\nIF(AB6=\"x\",AB$4,\nIF(AC6=\"x\",AC$4,\nIF(AD6=\"x\",AD$4,\n\"\"))))))))","v":"pau"},{"$f":"\nIF(X6=\"x\",X$4,\nIF(Y6=\"x\",Y$4,\nIF(Z6=\"x\",Z$4,\nIF(AA6=\"x\",AA$4,\nIF(AB6=\"x\",AB$4,\nIF(AC6=\"x\",AC$4,\nIF(AD6=\"x\",AD$4,\n\"\")))))))","v":"pau"},{"$f":"\nIF(Y6=\"x\",Y$4,\nIF(Z6=\"x\",Z$4,\nIF(AA6=\"x\",AA$4,\nIF(AB6=\"x\",AB$4,\nIF(AC6=\"x\",AC$4,\nIF(AD6=\"x\",AD$4,\n\"\"))))))","v":"pau"},{"$f":"\nIF(Z6=\"x\",Z$4,\nIF(AA6=\"x\",AA$4,\nIF(AB6=\"x\",AB$4,\nIF(AC6=\"x\",AC$4,\nIF(AD6=\"x\",AD$4,\n\"\")))))","v":"pau"},{"$f":"\nIF(AA6=\"x\",AA$4,\nIF(AB6=\"x\",AB$4,\nIF(AC6=\"x\",AC$4,\nIF(AD6=\"x\",AD$4,\n\"\"))))","v":"pau"},{"$f":"\nIF(AB6=\"x\",AB$4,\nIF(AC6=\"x\",AC$4,\nIF(AD6=\"x\",AD$4,\n\"\")))","v":"pau"},{"$f":"\nIF(AC6=\"x\",AC$4,\nIF(AD6=\"x\",AD$4,\n\"\"))","v":"pau"},{"$f":"\nIF(AD6=\"x\",AD$4,\n\"\")","v":"pau"},null,{"$f":"AF6","v":"pau"},{"$f":"IF(AQ6=\"\",\"\",\nIF(AQ6<>$AF6,$AF6,\nIF(AQ6<>$AG6,$AG6,\nIF(AQ6<>$AH6,$AH6,\nIF(AQ6<>$AI6,$AI6,\nIF(AQ6<>$AJ6,$AJ6,\nIF(AQ6<>$AK6,$AK6,\nIF(AQ6<>$AL6,$AL6,\nIF(AQ6<>$AM6,$AM6,\nIF(AQ6<>$AN6,$AN6,\nIF(AQ6<>$AO6,$AO6,\n\"\")))))))))))","v":""},{"$f":"IF(AR6=\"\",\"\",\nIF(AND(AR6<>$AF6,AQ6<>$AF6),$AF6,\nIF(AND(AR6<>$AG6,AQ6<>$AG6),$AG6,\nIF(AND(AR6<>$AH6,AQ6<>$AH6),$AH6,\nIF(AND(AR6<>$AI6,AQ6<>$AI6),$AI6,\nIF(AND(AR6<>$AJ6,AQ6<>$AJ6),$AJ6,\nIF(AND(AR6<>$AK6,AQ6<>$AK6),$AK6,\nIF(AND(AR6<>$AL6,AQ6<>$AL6),$AL6,\nIF(AND(AR6<>$AM6,AQ6<>$AM6),$AM6,\nIF(AND(AR6<>$AN6,AQ6<>$AN6),$AN6,\nIF(AND(AR6<>$AO6,AQ6<>$AO6),$AO6,\n\"\")))))))))))","v":""},{"$f":"IF(AS6=\"\",\"\",\nIF(AND(AQ6<>$AF6,AS6<>$AF6,AR6<>$AF6),$AF6,\nIF(AND(AQ6<>$AG6,AS6<>$AG6,AR6<>$AG6),$AG6,\nIF(AND(AQ6<>$AH6,AS6<>$AH6,AR6<>$AH6),$AH6,\nIF(AND(AQ6<>$AI6,AS6<>$AI6,AR6<>$AI6),$AI6,\nIF(AND(AQ6<>$AJ6,AS6<>$AJ6,AR6<>$AJ6),$AJ6,\nIF(AND(AQ6<>$AK6,AS6<>$AK6,AR6<>$AK6),$AK6,\nIF(AND(AQ6<>$AL6,AS6<>$AL6,AR6<>$AL6),$AL6,\nIF(AND(AQ6<>$AM6,AS6<>$AM6,AR6<>$AM6),$AM6,\nIF(AND(AQ6<>$AN6,AS6<>$AN6,AR6<>$AN6),$AN6,\nIF(AND(AQ6<>$AO6,AS6<>$AO6,AR6<>$AO6),$AO6,\n\"\")))))))))))","v":""},{"$f":"IF(AT6=\"\",\"\",\nIF(AND(AQ6<>$AF6,AR6<>$AF6,AT6<>$AF6,AS6<>$AF6),$AF6,\nIF(AND(AQ6<>$AG6,AR6<>$AG6,AT6<>$AG6,AS6<>$AG6),$AG6,\nIF(AND(AQ6<>$AH6,AR6<>$AH6,AT6<>$AH6,AS6<>$AH6),$AH6,\nIF(AND(AQ6<>$AI6,AR6<>$AI6,AT6<>$AI6,AS6<>$AI6),$AI6,\nIF(AND(AQ6<>$AJ6,AR6<>$AJ6,AT6<>$AJ6,AS6<>$AJ6),$AJ6,\nIF(AND(AQ6<>$AK6,AR6<>$AK6,AT6<>$AK6,AS6<>$AK6),$AK6,\nIF(AND(AQ6<>$AL6,AR6<>$AL6,AT6<>$AL6,AS6<>$AL6),$AL6,\nIF(AND(AQ6<>$AM6,AR6<>$AM6,AT6<>$AM6,AS6<>$AM6),$AM6,\nIF(AND(AQ6<>$AN6,AR6<>$AN6,AT6<>$AN6,AS6<>$AN6),$AN6,\nIF(AND(AQ6<>$AO6,AR6<>$AO6,AT6<>$AO6,AS6<>$AO6),$AO6,\n\"\")))))))))))","v":""},{"$f":"IF(AU6=\"\",\"\",\nIF(AND(AQ6<>$AF6,AR6<>$AF6,AS6<>$AF6,AU6<>$AF6,AT6<>$AF6),$AF6,\nIF(AND(AQ6<>$AG6,AR6<>$AG6,AS6<>$AG6,AU6<>$AG6,AT6<>$AG6),$AG6,\nIF(AND(AQ6<>$AH6,AR6<>$AH6,AS6<>$AH6,AU6<>$AH6,AT6<>$AH6),$AH6,\nIF(AND(AQ6<>$AI6,AR6<>$AI6,AS6<>$AI6,AU6<>$AI6,AT6<>$AI6),$AI6,\nIF(AND(AQ6<>$AJ6,AR6<>$AJ6,AS6<>$AJ6,AU6<>$AJ6,AT6<>$AJ6),$AJ6,\nIF(AND(AQ6<>$AK6,AR6<>$AK6,AS6<>$AK6,AU6<>$AK6,AT6<>$AK6),$AK6,\nIF(AND(AQ6<>$AL6,AR6<>$AL6,AS6<>$AL6,AU6<>$AL6,AT6<>$AL6),$AL6,\nIF(AND(AQ6<>$AM6,AR6<>$AM6,AS6<>$AM6,AU6<>$AM6,AT6<>$AM6),$AM6,\nIF(AND(AQ6<>$AN6,AR6<>$AN6,AS6<>$AN6,AU6<>$AN6,AT6<>$AN6),$AN6,\nIF(AND(AQ6<>$AO6,AR6<>$AO6,AS6<>$AO6,AU6<>$AO6,AT6<>$AO6),$AO6,\n\"\")))))))))))","v":""},{"$f":"IF(AV6=\"\",\"\",\nIF(AND(AQ6<>$AF6,AR6<>$AF6,AS6<>$AF6,AT6<>$AF6,AV6<>$AF6,AU6<>$AF6),$AF6,\nIF(AND(AQ6<>$AG6,AR6<>$AG6,AS6<>$AG6,AT6<>$AG6,AV6<>$AG6,AU6<>$AG6),$AG6,\nIF(AND(AQ6<>$AH6,AR6<>$AH6,AS6<>$AH6,AT6<>$AH6,AV6<>$AH6,AU6<>$AH6),$AH6,\nIF(AND(AQ6<>$AI6,AR6<>$AI6,AS6<>$AI6,AT6<>$AI6,AV6<>$AI6,AU6<>$AI6),$AI6,\nIF(AND(AQ6<>$AJ6,AR6<>$AJ6,AS6<>$AJ6,AT6<>$AJ6,AV6<>$AJ6,AU6<>$AJ6),$AJ6,\nIF(AND(AQ6<>$AK6,AR6<>$AK6,AS6<>$AK6,AT6<>$AK6,AV6<>$AK6,AU6<>$AK6),$AK6,\nIF(AND(AQ6<>$AL6,AR6<>$AL6,AS6<>$AL6,AT6<>$AL6,AV6<>$AL6,AU6<>$AL6),$AL6,\nIF(AND(AQ6<>$AM6,AR6<>$AM6,AS6<>$AM6,AT6<>$AM6,AV6<>$AM6,AU6<>$AM6),$AM6,\nIF(AND(AQ6<>$AN6,AR6<>$AN6,AS6<>$AN6,AT6<>$AN6,AV6<>$AN6,AU6<>$AN6),$AN6,\nIF(AND(AQ6<>$AO6,AR6<>$AO6,AS6<>$AO6,AT6<>$AO6,AV6<>$AO6,AU6<>$AO6),$AO6,\n\"\")))))))))))","v":""},{"$f":"IF(AW6=\"\",\"\",\nIF(AND(AQ6<>$AF6,AR6<>$AF6,AS6<>$AF6,AT6<>$AF6,AU6<>$AF6,AW6<>$AF6,AV6<>$AF6),$AF6,\nIF(AND(AQ6<>$AG6,AR6<>$AG6,AS6<>$AG6,AT6<>$AG6,AU6<>$AG6,AW6<>$AG6,AV6<>$AG6),$AG6,\nIF(AND(AQ6<>$AH6,AR6<>$AH6,AS6<>$AH6,AT6<>$AH6,AU6<>$AH6,AW6<>$AH6,AV6<>$AH6),$AH6,\nIF(AND(AQ6<>$AI6,AR6<>$AI6,AS6<>$AI6,AT6<>$AI6,AU6<>$AI6,AW6<>$AI6,AV6<>$AI6),$AI6,\nIF(AND(AQ6<>$AJ6,AR6<>$AJ6,AS6<>$AJ6,AT6<>$AJ6,AU6<>$AJ6,AW6<>$AJ6,AV6<>$AJ6),$AJ6,\nIF(AND(AQ6<>$AK6,AR6<>$AK6,AS6<>$AK6,AT6<>$AK6,AU6<>$AK6,AW6<>$AK6,AV6<>$AK6),$AK6,\nIF(AND(AQ6<>$AL6,AR6<>$AL6,AS6<>$AL6,AT6<>$AL6,AU6<>$AL6,AW6<>$AL6,AV6<>$AL6),$AL6,\nIF(AND(AQ6<>$AM6,AR6<>$AM6,AS6<>$AM6,AT6<>$AM6,AU6<>$AM6,AW6<>$AM6,AV6<>$AM6),$AM6,\nIF(AND(AQ6<>$AN6,AR6<>$AN6,AS6<>$AN6,AT6<>$AN6,AU6<>$AN6,AW6<>$AN6,AV6<>$AN6),$AN6,\nIF(AND(AQ6<>$AO6,AR6<>$AO6,AS6<>$AO6,AT6<>$AO6,AU6<>$AO6,AW6<>$AO6,AV6<>$AO6),$AO6,\n\"\")))))))))))","v":""},{"$f":"IF(AX6=\"\",\"\",\nIF(AND(AQ6<>$AF6,AR6<>$AF6,AS6<>$AF6,AT6<>$AF6,AU6<>$AF6,AV6<>$AF6,AX6<>$AF6,AW6<>$AF6),$AF6,\nIF(AND(AQ6<>$AG6,AR6<>$AG6,AS6<>$AG6,AT6<>$AG6,AU6<>$AG6,AV6<>$AG6,AX6<>$AG6,AW6<>$AG6),$AG6,\nIF(AND(AQ6<>$AH6,AR6<>$AH6,AS6<>$AH6,AT6<>$AH6,AU6<>$AH6,AV6<>$AH6,AX6<>$AH6,AW6<>$AH6),$AH6,\nIF(AND(AQ6<>$AI6,AR6<>$AI6,AS6<>$AI6,AT6<>$AI6,AU6<>$AI6,AV6<>$AI6,AX6<>$AI6,AW6<>$AI6),$AI6,\nIF(AND(AQ6<>$AJ6,AR6<>$AJ6,AS6<>$AJ6,AT6<>$AJ6,AU6<>$AJ6,AV6<>$AJ6,AX6<>$AJ6,AW6<>$AJ6),$AJ6,\nIF(AND(AQ6<>$AK6,AR6<>$AK6,AS6<>$AK6,AT6<>$AK6,AU6<>$AK6,AV6<>$AK6,AX6<>$AK6,AW6<>$AK6),$AK6,\nIF(AND(AQ6<>$AL6,AR6<>$AL6,AS6<>$AL6,AT6<>$AL6,AU6<>$AL6,AV6<>$AL6,AX6<>$AL6,AW6<>$AL6),$AL6,\nIF(AND(AQ6<>$AM6,AR6<>$AM6,AS6<>$AM6,AT6<>$AM6,AU6<>$AM6,AV6<>$AM6,AX6<>$AM6,AW6<>$AM6),$AM6,\nIF(AND(AQ6<>$AN6,AR6<>$AN6,AS6<>$AN6,AT6<>$AN6,AU6<>$AN6,AV6<>$AN6,AX6<>$AN6,AW6<>$AN6),$AN6,\nIF(AND(AQ6<>$AO6,AR6<>$AO6,AS6<>$AO6,AT6<>$AO6,AU6<>$AO6,AV6<>$AO6,AX6<>$AO6,AW6<>$AO6),$AO6,\n\"\")))))))))))","v":""},{"$f":"IF(AY6=\"\",\"\",\nIF(AND(AQ6<>$AF6,AR6<>$AF6,AS6<>$AF6,AT6<>$AF6,AU6<>$AF6,AV6<>$AF6,AW6<>$AF6,AY6<>$AF6,AX6<>$AF6),$AF6,\nIF(AND(AQ6<>$AG6,AR6<>$AG6,AS6<>$AG6,AT6<>$AG6,AU6<>$AG6,AV6<>$AG6,AW6<>$AG6,AY6<>$AG6,AX6<>$AG6),$AG6,\nIF(AND(AQ6<>$AH6,AR6<>$AH6,AS6<>$AH6,AT6<>$AH6,AU6<>$AH6,AV6<>$AH6,AW6<>$AH6,AY6<>$AH6,AX6<>$AH6),$AH6,\nIF(AND(AQ6<>$AI6,AR6<>$AI6,AS6<>$AI6,AT6<>$AI6,AU6<>$AI6,AV6<>$AI6,AW6<>$AI6,AY6<>$AI6,AX6<>$AI6),$AI6,\nIF(AND(AQ6<>$AJ6,AR6<>$AJ6,AS6<>$AJ6,AT6<>$AJ6,AU6<>$AJ6,AV6<>$AJ6,AW6<>$AJ6,AY6<>$AJ6,AX6<>$AJ6),$AJ6,\nIF(AND(AQ6<>$AK6,AR6<>$AK6,AS6<>$AK6,AT6<>$AK6,AU6<>$AK6,AV6<>$AK6,AW6<>$AK6,AY6<>$AK6,AX6<>$AK6),$AK6,\nIF(AND(AQ6<>$AL6,AR6<>$AL6,AS6<>$AL6,AT6<>$AL6,AU6<>$AL6,AV6<>$AL6,AW6<>$AL6,AY6<>$AL6,AX6<>$AL6),$AL6,\nIF(AND(AQ6<>$AM6,AR6<>$AM6,AS6<>$AM6,AT6<>$AM6,AU6<>$AM6,AV6<>$AM6,AW6<>$AM6,AY6<>$AM6,AX6<>$AM6),$AM6,\nIF(AND(AQ6<>$AN6,AR6<>$AN6,AS6<>$AN6,AT6<>$AN6,AU6<>$AN6,AV6<>$AN6,AW6<>$AN6,AY6<>$AN6,AX6<>$AN6),$AN6,\nIF(AND(AQ6<>$AO6,AR6<>$AO6,AS6<>$AO6,AT6<>$AO6,AU6<>$AO6,AV6<>$AO6,AW6<>$AO6,AY6<>$AO6,AX6<>$AO6),$AO6,\n\"\")))))))))))","v":""}]
[null,{"$f":"IF(E7=\"\",0,1)","v":0},0,null,{"$f":"IF(M6<>\"\",M6,\"\")","v":""},{"$f":"IF(C7=1,K7,\"\")","v":""}]
[null,{"$f":"B6","v":0},0,null,null,"",null,null,null,null,null,null,null,null,null,null,null,null,null,null,null,null,null,null,null,null,null,null,null,null,null,{"$f":"\nIF(U8=\"x\",U$4,\nIF(V8=\"x\",V$4,\nIF(W8=\"x\",W$4,\nIF(X8=\"x\",X$4,\nIF(Y8=\"x\",Y$4,\nIF(Z8=\"x\",Z$4,\nIF(AA8=\"x\",AA$4,\nIF(AB8=\"x\",AB$4,\nIF(AC8=\"x\",AC$4,\nIF(AD8=\"x\",AD$4,\n\"\"))))))))))","v":""},{"$f":"\nIF(V8=\"x\",V$4,\nIF(W8=\"x\",W$4,\nIF(X8=\"x\",X$4,\nIF(Y8=\"x\",Y$4,\nIF(Z8=\"x\",Z$4,\nIF(AA8=\"x\",AA$4,\nIF(AB8=\"x\",AB$4,\nIF(AC8=\"x\",AC$4,\nIF(AD8=\"x\",AD$4,\n\"\")))))))))","v":""},{"$f":"\nIF(W8=\"x\",W$4,\nIF(X8=\"x\",X$4,\nIF(Y8=\"x\",Y$4,\nIF(Z8=\"x\",Z$4,\nIF(AA8=\"x\",AA$4,\nIF(AB8=\"x\",AB$4,\nIF(AC8=\"x\",AC$4,\nIF(AD8=\"x\",AD$4,\n\"\"))))))))","v":""},{"$f":"\nIF(X8=\"x\",X$4,\nIF(Y8=\"x\",Y$4,\nIF(Z8=\"x\",Z$4,\nIF(AA8=\"x\",AA$4,\nIF(AB8=\"x\",AB$4,\nIF(AC8=\"x\",AC$4,\nIF(AD8=\"x\",AD$4,\n\"\")))))))","v":""},{"$f":"\nIF(Y8=\"x\",Y$4,\nIF(Z8=\"x\",Z$4,\nIF(AA8=\"x\",AA$4,\nIF(AB8=\"x\",AB$4,\nIF(AC8=\"x\",AC$4,\nIF(AD8=\"x\",AD$4,\n\"\"))))))","v":""},{"$f":"\nIF(Z8=\"x\",Z$4,\nIF(AA8=\"x\",AA$4,\nIF(AB8=\"x\",AB$4,\nIF(AC8=\"x\",AC$4,\nIF(AD8=\"x\",AD$4,\n\"\")))))","v":""},{"$f":"\nIF(AA8=\"x\",AA$4,\nIF(AB8=\"x\",AB$4,\nIF(AC8=\"x\",AC$4,\nIF(AD8=\"x\",AD$4,\n\"\"))))","v":""},{"$f":"\nIF(AB8=\"x\",AB$4,\nIF(AC8=\"x\",AC$4,\nIF(AD8=\"x\",AD$4,\n\"\")))","v":""},{"$f":"\nIF(AC8=\"x\",AC$4,\nIF(AD8=\"x\",AD$4,\n\"\"))","v":""},{"$f":"\nIF(AD8=\"x\",AD$4,\n\"\")","v":""},null,{"$f":"AF8","v":""},"",{"$f":"IF(AR8=\"\",\"\",\nIF(AND(AR8<>$AF8,AQ8<>$AF8),$AF8,\nIF(AND(AR8<>$AG8,AQ8<>$AG8),$AG8,\nIF(AND(AR8<>$AH8,AQ8<>$AH8),$AH8,\nIF(AND(AR8<>$AI8,AQ8<>$AI8),$AI8,\nIF(AND(AR8<>$AJ8,AQ8<>$AJ8),$AJ8,\nIF(AND(AR8<>$AK8,AQ8<>$AK8),$AK8,\nIF(AND(AR8<>$AL8,AQ8<>$AL8),$AL8,\nIF(AND(AR8<>$AM8,AQ8<>$AM8),$AM8,\nIF(AND(AR8<>$AN8,AQ8<>$AN8),$AN8,\nIF(AND(AR8<>$AO8,AQ8<>$AO8),$AO8,\n\"\")))))))))))","v":""},{"$f":"IF(AS8=\"\",\"\",\nIF(AND(AQ8<>$AF8,AS8<>$AF8,AR8<>$AF8),$AF8,\nIF(AND(AQ8<>$AG8,AS8<>$AG8,AR8<>$AG8),$AG8,\nIF(AND(AQ8<>$AH8,AS8<>$AH8,AR8<>$AH8),$AH8,\nIF(AND(AQ8<>$AI8,AS8<>$AI8,AR8<>$AI8),$AI8,\nIF(AND(AQ8<>$AJ8,AS8<>$AJ8,AR8<>$AJ8),$AJ8,\nIF(AND(AQ8<>$AK8,AS8<>$AK8,AR8<>$AK8),$AK8,\nIF(AND(AQ8<>$AL8,AS8<>$AL8,AR8<>$AL8),$AL8,\nIF(AND(AQ8<>$AM8,AS8<>$AM8,AR8<>$AM8),$AM8,\nIF(AND(AQ8<>$AN8,AS8<>$AN8,AR8<>$AN8),$AN8,\nIF(AND(AQ8<>$AO8,AS8<>$AO8,AR8<>$AO8),$AO8,\n\"\")))))))))))","v":""},{"$f":"IF(AT8=\"\",\"\",\nIF(AND(AQ8<>$AF8,AR8<>$AF8,AT8<>$AF8,AS8<>$AF8),$AF8,\nIF(AND(AQ8<>$AG8,AR8<>$AG8,AT8<>$AG8,AS8<>$AG8),$AG8,\nIF(AND(AQ8<>$AH8,AR8<>$AH8,AT8<>$AH8,AS8<>$AH8),$AH8,\nIF(AND(AQ8<>$AI8,AR8<>$AI8,AT8<>$AI8,AS8<>$AI8),$AI8,\nIF(AND(AQ8<>$AJ8,AR8<>$AJ8,AT8<>$AJ8,AS8<>$AJ8),$AJ8,\nIF(AND(AQ8<>$AK8,AR8<>$AK8,AT8<>$AK8,AS8<>$AK8),$AK8,\nIF(AND(AQ8<>$AL8,AR8<>$AL8,AT8<>$AL8,AS8<>$AL8),$AL8,\nIF(AND(AQ8<>$AM8,AR8<>$AM8,AT8<>$AM8,AS8<>$AM8),$AM8,\nIF(AND(AQ8<>$AN8,AR8<>$AN8,AT8<>$AN8,AS8<>$AN8),$AN8,\nIF(AND(AQ8<>$AO8,AR8<>$AO8,AT8<>$AO8,AS8<>$AO8),$AO8,\n\"\")))))))))))","v":""},{"$f":"IF(AU8=\"\",\"\",\nIF(AND(AQ8<>$AF8,AR8<>$AF8,AS8<>$AF8,AU8<>$AF8,AT8<>$AF8),$AF8,\nIF(AND(AQ8<>$AG8,AR8<>$AG8,AS8<>$AG8,AU8<>$AG8,AT8<>$AG8),$AG8,\nIF(AND(AQ8<>$AH8,AR8<>$AH8,AS8<>$AH8,AU8<>$AH8,AT8<>$AH8),$AH8,\nIF(AND(AQ8<>$AI8,AR8<>$AI8,AS8<>$AI8,AU8<>$AI8,AT8<>$AI8),$AI8,\nIF(AND(AQ8<>$AJ8,AR8<>$AJ8,AS8<>$AJ8,AU8<>$AJ8,AT8<>$AJ8),$AJ8,\nIF(AND(AQ8<>$AK8,AR8<>$AK8,AS8<>$AK8,AU8<>$AK8,AT8<>$AK8),$AK8,\nIF(AND(AQ8<>$AL8,AR8<>$AL8,AS8<>$AL8,AU8<>$AL8,AT8<>$AL8),$AL8,\nIF(AND(AQ8<>$AM8,AR8<>$AM8,AS8<>$AM8,AU8<>$AM8,AT8<>$AM8),$AM8,\nIF(AND(AQ8<>$AN8,AR8<>$AN8,AS8<>$AN8,AU8<>$AN8,AT8<>$AN8),$AN8,\nIF(AND(AQ8<>$AO8,AR8<>$AO8,AS8<>$AO8,AU8<>$AO8,AT8<>$AO8),$AO8,\n\"\")))))))))))","v":""},{"$f":"IF(AV8=\"\",\"\",\nIF(AND(AQ8<>$AF8,AR8<>$AF8,AS8<>$AF8,AT8<>$AF8,AV8<>$AF8,AU8<>$AF8),$AF8,\nIF(AND(AQ8<>$AG8,AR8<>$AG8,AS8<>$AG8,AT8<>$AG8,AV8<>$AG8,AU8<>$AG8),$AG8,\nIF(AND(AQ8<>$AH8,AR8<>$AH8,AS8<>$AH8,AT8<>$AH8,AV8<>$AH8,AU8<>$AH8),$AH8,\nIF(AND(AQ8<>$AI8,AR8<>$AI8,AS8<>$AI8,AT8<>$AI8,AV8<>$AI8,AU8<>$AI8),$AI8,\nIF(AND(AQ8<>$AJ8,AR8<>$AJ8,AS8<>$AJ8,AT8<>$AJ8,AV8<>$AJ8,AU8<>$AJ8),$AJ8,\nIF(AND(AQ8<>$AK8,AR8<>$AK8,AS8<>$AK8,AT8<>$AK8,AV8<>$AK8,AU8<>$AK8),$AK8,\nIF(AND(AQ8<>$AL8,AR8<>$AL8,AS8<>$AL8,AT8<>$AL8,AV8<>$AL8,AU8<>$AL8),$AL8,\nIF(AND(AQ8<>$AM8,AR8<>$AM8,AS8<>$AM8,AT8<>$AM8,AV8<>$AM8,AU8<>$AM8),$AM8,\nIF(AND(AQ8<>$AN8,AR8<>$AN8,AS8<>$AN8,AT8<>$AN8,AV8<>$AN8,AU8<>$AN8),$AN8,\nIF(AND(AQ8<>$AO8,AR8<>$AO8,AS8<>$AO8,AT8<>$AO8,AV8<>$AO8,AU8<>$AO8),$AO8,\n\"\")))))))))))","v":""},{"$f":"IF(AW8=\"\",\"\",\nIF(AND(AQ8<>$AF8,AR8<>$AF8,AS8<>$AF8,AT8<>$AF8,AU8<>$AF8,AW8<>$AF8,AV8<>$AF8),$AF8,\nIF(AND(AQ8<>$AG8,AR8<>$AG8,AS8<>$AG8,AT8<>$AG8,AU8<>$AG8,AW8<>$AG8,AV8<>$AG8),$AG8,\nIF(AND(AQ8<>$AH8,AR8<>$AH8,AS8<>$AH8,AT8<>$AH8,AU8<>$AH8,AW8<>$AH8,AV8<>$AH8),$AH8,\nIF(AND(AQ8<>$AI8,AR8<>$AI8,AS8<>$AI8,AT8<>$AI8,AU8<>$AI8,AW8<>$AI8,AV8<>$AI8),$AI8,\nIF(AND(AQ8<>$AJ8,AR8<>$AJ8,AS8<>$AJ8,AT8<>$AJ8,AU8<>$AJ8,AW8<>$AJ8,AV8<>$AJ8),$AJ8,\nIF(AND(AQ8<>$AK8,AR8<>$AK8,AS8<>$AK8,AT8<>$AK8,AU8<>$AK8,AW8<>$AK8,AV8<>$AK8),$AK8,\nIF(AND(AQ8<>$AL8,AR8<>$AL8,AS8<>$AL8,AT8<>$AL8,AU8<>$AL8,AW8<>$AL8,AV8<>$AL8),$AL8,\nIF(AND(AQ8<>$AM8,AR8<>$AM8,AS8<>$AM8,AT8<>$AM8,AU8<>$AM8,AW8<>$AM8,AV8<>$AM8),$AM8,\nIF(AND(AQ8<>$AN8,AR8<>$AN8,AS8<>$AN8,AT8<>$AN8,AU8<>$AN8,AW8<>$AN8,AV8<>$AN8),$AN8,\nIF(AND(AQ8<>$AO8,AR8<>$AO8,AS8<>$AO8,AT8<>$AO8,AU8<>$AO8,AW8<>$AO8,AV8<>$AO8),$AO8,\n\"\")))))))))))","v":""},{"$f":"IF(AX8=\"\",\"\",\nIF(AND(AQ8<>$AF8,AR8<>$AF8,AS8<>$AF8,AT8<>$AF8,AU8<>$AF8,AV8<>$AF8,AX8<>$AF8,AW8<>$AF8),$AF8,\nIF(AND(AQ8<>$AG8,AR8<>$AG8,AS8<>$AG8,AT8<>$AG8,AU8<>$AG8,AV8<>$AG8,AX8<>$AG8,AW8<>$AG8),$AG8,\nIF(AND(AQ8<>$AH8,AR8<>$AH8,AS8<>$AH8,AT8<>$AH8,AU8<>$AH8,AV8<>$AH8,AX8<>$AH8,AW8<>$AH8),$AH8,\nIF(AND(AQ8<>$AI8,AR8<>$AI8,AS8<>$AI8,AT8<>$AI8,AU8<>$AI8,AV8<>$AI8,AX8<>$AI8,AW8<>$AI8),$AI8,\nIF(AND(AQ8<>$AJ8,AR8<>$AJ8,AS8<>$AJ8,AT8<>$AJ8,AU8<>$AJ8,AV8<>$AJ8,AX8<>$AJ8,AW8<>$AJ8),$AJ8,\nIF(AND(AQ8<>$AK8,AR8<>$AK8,AS8<>$AK8,AT8<>$AK8,AU8<>$AK8,AV8<>$AK8,AX8<>$AK8,AW8<>$AK8),$AK8,\nIF(AND(AQ8<>$AL8,AR8<>$AL8,AS8<>$AL8,AT8<>$AL8,AU8<>$AL8,AV8<>$AL8,AX8<>$AL8,AW8<>$AL8),$AL8,\nIF(AND(AQ8<>$AM8,AR8<>$AM8,AS8<>$AM8,AT8<>$AM8,AU8<>$AM8,AV8<>$AM8,AX8<>$AM8,AW8<>$AM8),$AM8,\nIF(AND(AQ8<>$AN8,AR8<>$AN8,AS8<>$AN8,AT8<>$AN8,AU8<>$AN8,AV8<>$AN8,AX8<>$AN8,AW8<>$AN8),$AN8,\nIF(AND(AQ8<>$AO8,AR8<>$AO8,AS8<>$AO8,AT8<>$AO8,AU8<>$AO8,AV8<>$AO8,AX8<>$AO8,AW8<>$AO8),$AO8,\n\"\")))))))))))","v":""},{"$f":"IF(AY8=\"\",\"\",\nIF(AND(AQ8<>$AF8,AR8<>$AF8,AS8<>$AF8,AT8<>$AF8,AU8<>$AF8,AV8<>$AF8,AW8<>$AF8,AY8<>$AF8,AX8<>$AF8),$AF8,\nIF(AND(AQ8<>$AG8,AR8<>$AG8,AS8<>$AG8,AT8<>$AG8,AU8<>$AG8,AV8<>$AG8,AW8<>$AG8,AY8<>$AG8,AX8<>$AG8),$AG8,\nIF(AND(AQ8<>$AH8,AR8<>$AH8,AS8<>$AH8,AT8<>$AH8,AU8<>$AH8,AV8<>$AH8,AW8<>$AH8,AY8<>$AH8,AX8<>$AH8),$AH8,\nIF(AND(AQ8<>$AI8,AR8<>$AI8,AS8<>$AI8,AT8<>$AI8,AU8<>$AI8,AV8<>$AI8,AW8<>$AI8,AY8<>$AI8,AX8<>$AI8),$AI8,\nIF(AND(AQ8<>$AJ8,AR8<>$AJ8,AS8<>$AJ8,AT8<>$AJ8,AU8<>$AJ8,AV8<>$AJ8,AW8<>$AJ8,AY8<>$AJ8,AX8<>$AJ8),$AJ8,\nIF(AND(AQ8<>$AK8,AR8<>$AK8,AS8<>$AK8,AT8<>$AK8,AU8<>$AK8,AV8<>$AK8,AW8<>$AK8,AY8<>$AK8,AX8<>$AK8),$AK8,\nIF(AND(AQ8<>$AL8,AR8<>$AL8,AS8<>$AL8,AT8<>$AL8,AU8<>$AL8,AV8<>$AL8,AW8<>$AL8,AY8<>$AL8,AX8<>$AL8),$AL8,\nIF(AND(AQ8<>$AM8,AR8<>$AM8,AS8<>$AM8,AT8<>$AM8,AU8<>$AM8,AV8<>$AM8,AW8<>$AM8,AY8<>$AM8,AX8<>$AM8),$AM8,\nIF(AND(AQ8<>$AN8,AR8<>$AN8,AS8<>$AN8,AT8<>$AN8,AU8<>$AN8,AV8<>$AN8,AW8<>$AN8,AY8<>$AN8,AX8<>$AN8),$AN8,\nIF(AND(AQ8<>$AO8,AR8<>$AO8,AS8<>$AO8,AT8<>$AO8,AU8<>$AO8,AV8<>$AO8,AW8<>$AO8,AY8<>$AO8,AX8<>$AO8),$AO8,\n\"\")))))))))))","v":""}]
[null,{"$f":"IF(L9=\"x\",1,IF(SUM(B11:B18)>0,1,0))","v":1},1,{"$f":"G9","v":"410.000"},{"$f":"H9","v":"DC-Solarleitungen"},"pau","410.000","DC-Solarleitungen",null,null,"pau","x","Eigenschaften: \nQuerschnitt\nUV-beständig",null,null,null,null,null,null,"E400_Solarleitungen",null,null,null,null,null,null,null,null,null,"x",null,{"$f":"\nIF(U9=\"x\",U$4,\nIF(V9=\"x\",V$4,\nIF(W9=\"x\",W$4,\nIF(X9=\"x\",X$4,\nIF(Y9=\"x\",Y$4,\nIF(Z9=\"x\",Z$4,\nIF(AA9=\"x\",AA$4,\nIF(AB9=\"x\",AB$4,\nIF(AC9=\"x\",AC$4,\nIF(AD9=\"x\",AD$4,\n\"\"))))))))))","v":"pau"},{"$f":"\nIF(V9=\"x\",V$4,\nIF(W9=\"x\",W$4,\nIF(X9=\"x\",X$4,\nIF(Y9=\"x\",Y$4,\nIF(Z9=\"x\",Z$4,\nIF(AA9=\"x\",AA$4,\nIF(AB9=\"x\",AB$4,\nIF(AC9=\"x\",AC$4,\nIF(AD9=\"x\",AD$4,\n\"\")))))))))","v":"pau"},{"$f":"\nIF(W9=\"x\",W$4,\nIF(X9=\"x\",X$4,\nIF(Y9=\"x\",Y$4,\nIF(Z9=\"x\",Z$4,\nIF(AA9=\"x\",AA$4,\nIF(AB9=\"x\",AB$4,\nIF(AC9=\"x\",AC$4,\nIF(AD9=\"x\",AD$4,\n\"\"))))))))","v":"pau"},{"$f":"\nIF(X9=\"x\",X$4,\nIF(Y9=\"x\",Y$4,\nIF(Z9=\"x\",Z$4,\nIF(AA9=\"x\",AA$4,\nIF(AB9=\"x\",AB$4,\nIF(AC9=\"x\",AC$4,\nIF(AD9=\"x\",AD$4,\n\"\")))))))","v":"pau"},{"$f":"\nIF(Y9=\"x\",Y$4,\nIF(Z9=\"x\",Z$4,\nIF(AA9=\"x\",AA$4,\nIF(AB9=\"x\",AB$4,\nIF(AC9=\"x\",AC$4,\nIF(AD9=\"x\",AD$4,\n\"\"))))))","v":"pau"},{"$f":"\nIF(Z9=\"x\",Z$4,\nIF(AA9=\"x\",AA$4,\nIF(AB9=\"x\",AB$4,\nIF(AC9=\"x\",AC$4,\nIF(AD9=\"x\",AD$4,\n\"\")))))","v":"pau"},{"$f":"\nIF(AA9=\"x\",AA$4,\nIF(AB9=\"x\",AB$4,\nIF(AC9=\"x\",AC$4,\nIF(AD9=\"x\",AD$4,\n\"\"))))","v":"pau"},{"$f":"\nIF(AB9=\"x\",AB$4,\nIF(AC9=\"x\",AC$4,\nIF(AD9=\"x\",AD$4,\n\"\")))","v":"pau"},{"$f":"\nIF(AC9=\"x\",AC$4,\nIF(AD9=\"x\",AD$4,\n\"\"))","v":"pau"},{"$f":"\nIF(AD9=\"x\",AD$4,\n\"\")","v":"pau"},null,{"$f":"AF9","v":"pau"},"",{"$f":"IF(AR9=\"\",\"\",\nIF(AND(AR9<>$AF9,AQ9<>$AF9),$AF9,\nIF(AND(AR9<>$AG9,AQ9<>$AG9),$AG9,\nIF(AND(AR9<>$AH9,AQ9<>$AH9),$AH9,\nIF(AND(AR9<>$AI9,AQ9<>$AI9),$AI9,\nIF(AND(AR9<>$AJ9,AQ9<>$AJ9),$AJ9,\nIF(AND(AR9<>$AK9,AQ9<>$AK9),$AK9,\nIF(AND(AR9<>$AL9,AQ9<>$AL9),$AL9,\nIF(AND(AR9<>$AM9,AQ9<>$AM9),$AM9,\nIF(AND(AR9<>$AN9,AQ9<>$AN9),$AN9,\nIF(AND(AR9<>$AO9,AQ9<>$AO9),$AO9,\n\"\")))))))))))","v":""},{"$f":"IF(AS9=\"\",\"\",\nIF(AND(AQ9<>$AF9,AS9<>$AF9,AR9<>$AF9),$AF9,\nIF(AND(AQ9<>$AG9,AS9<>$AG9,AR9<>$AG9),$AG9,\nIF(AND(AQ9<>$AH9,AS9<>$AH9,AR9<>$AH9),$AH9,\nIF(AND(AQ9<>$AI9,AS9<>$AI9,AR9<>$AI9),$AI9,\nIF(AND(AQ9<>$AJ9,AS9<>$AJ9,AR9<>$AJ9),$AJ9,\nIF(AND(AQ9<>$AK9,AS9<>$AK9,AR9<>$AK9),$AK9,\nIF(AND(AQ9<>$AL9,AS9<>$AL9,AR9<>$AL9),$AL9,\nIF(AND(AQ9<>$AM9,AS9<>$AM9,AR9<>$AM9),$AM9,\nIF(AND(AQ9<>$AN9,AS9<>$AN9,AR9<>$AN9),$AN9,\nIF(AND(AQ9<>$AO9,AS9<>$AO9,AR9<>$AO9),$AO9,\n\"\")))))))))))","v":""},{"$f":"IF(AT9=\"\",\"\",\nIF(AND(AQ9<>$AF9,AR9<>$AF9,AT9<>$AF9,AS9<>$AF9),$AF9,\nIF(AND(AQ9<>$AG9,AR9<>$AG9,AT9<>$AG9,AS9<>$AG9),$AG9,\nIF(AND(AQ9<>$AH9,AR9<>$AH9,AT9<>$AH9,AS9<>$AH9),$AH9,\nIF(AND(AQ9<>$AI9,AR9<>$AI9,AT9<>$AI9,AS9<>$AI9),$AI9,\nIF(AND(AQ9<>$AJ9,AR9<>$AJ9,AT9<>$AJ9,AS9<>$AJ9),$AJ9,\nIF(AND(AQ9<>$AK9,AR9<>$AK9,AT9<>$AK9,AS9<>$AK9),$AK9,\nIF(AND(AQ9<>$AL9,AR9<>$AL9,AT9<>$AL9,AS9<>$AL9),$AL9,\nIF(AND(AQ9<>$AM9,AR9<>$AM9,AT9<>$AM9,AS9<>$AM9),$AM9,\nIF(AND(AQ9<>$AN9,AR9<>$AN9,AT9<>$AN9,AS9<>$AN9),$AN9,\nIF(AND(AQ9<>$AO9,AR9<>$AO9,AT9<>$AO9,AS9<>$AO9),$AO9,\n\"\")))))))))))","v":""},{"$f":"IF(AU9=\"\",\"\",\nIF(AND(AQ9<>$AF9,AR9<>$AF9,AS9<>$AF9,AU9<>$AF9,AT9<>$AF9),$AF9,\nIF(AND(AQ9<>$AG9,AR9<>$AG9,AS9<>$AG9,AU9<>$AG9,AT9<>$AG9),$AG9,\nIF(AND(AQ9<>$AH9,AR9<>$AH9,AS9<>$AH9,AU9<>$AH9,AT9<>$AH9),$AH9,\nIF(AND(AQ9<>$AI9,AR9<>$AI9,AS9<>$AI9,AU9<>$AI9,AT9<>$AI9),$AI9,\nIF(AND(AQ9<>$AJ9,AR9<>$AJ9,AS9<>$AJ9,AU9<>$AJ9,AT9<>$AJ9),$AJ9,\nIF(AND(AQ9<>$AK9,AR9<>$AK9,AS9<>$AK9,AU9<>$AK9,AT9<>$AK9),$AK9,\nIF(AND(AQ9<>$AL9,AR9<>$AL9,AS9<>$AL9,AU9<>$AL9,AT9<>$AL9),$AL9,\nIF(AND(AQ9<>$AM9,AR9<>$AM9,AS9<>$AM9,AU9<>$AM9,AT9<>$AM9),$AM9,\nIF(AND(AQ9<>$AN9,AR9<>$AN9,AS9<>$AN9,AU9<>$AN9,AT9<>$AN9),$AN9,\nIF(AND(AQ9<>$AO9,AR9<>$AO9,AS9<>$AO9,AU9<>$AO9,AT9<>$AO9),$AO9,\n\"\")))))))))))","v":""},{"$f":"IF(AV9=\"\",\"\",\nIF(AND(AQ9<>$AF9,AR9<>$AF9,AS9<>$AF9,AT9<>$AF9,AV9<>$AF9,AU9<>$AF9),$AF9,\nIF(AND(AQ9<>$AG9,AR9<>$AG9,AS9<>$AG9,AT9<>$AG9,AV9<>$AG9,AU9<>$AG9),$AG9,\nIF(AND(AQ9<>$AH9,AR9<>$AH9,AS9<>$AH9,AT9<>$AH9,AV9<>$AH9,AU9<>$AH9),$AH9,\nIF(AND(AQ9<>$AI9,AR9<>$AI9,AS9<>$AI9,AT9<>$AI9,AV9<>$AI9,AU9<>$AI9),$AI9,\nIF(AND(AQ9<>$AJ9,AR9<>$AJ9,AS9<>$AJ9,AT9<>$AJ9,AV9<>$AJ9,AU9<>$AJ9),$AJ9,\nIF(AND(AQ9<>$AK9,AR9<>$AK9,AS9<>$AK9,AT9<>$AK9,AV9<>$AK9,AU9<>$AK9),$AK9,\nIF(AND(AQ9<>$AL9,AR9<>$AL9,AS9<>$AL9,AT9<>$AL9,AV9<>$AL9,AU9<>$AL9),$AL9,\nIF(AND(AQ9<>$AM9,AR9<>$AM9,AS9<>$AM9,AT9<>$AM9,AV9<>$AM9,AU9<>$AM9),$AM9,\nIF(AND(AQ9<>$AN9,AR9<>$AN9,AS9<>$AN9,AT9<>$AN9,AV9<>$AN9,AU9<>$AN9),$AN9,\nIF(AND(AQ9<>$AO9,AR9<>$AO9,AS9<>$AO9,AT9<>$AO9,AV9<>$AO9,AU9<>$AO9),$AO9,\n\"\")))))))))))","v":""},{"$f":"IF(AW9=\"\",\"\",\nIF(AND(AQ9<>$AF9,AR9<>$AF9,AS9<>$AF9,AT9<>$AF9,AU9<>$AF9,AW9<>$AF9,AV9<>$AF9),$AF9,\nIF(AND(AQ9<>$AG9,AR9<>$AG9,AS9<>$AG9,AT9<>$AG9,AU9<>$AG9,AW9<>$AG9,AV9<>$AG9),$AG9,\nIF(AND(AQ9<>$AH9,AR9<>$AH9,AS9<>$AH9,AT9<>$AH9,AU9<>$AH9,AW9<>$AH9,AV9<>$AH9),$AH9,\nIF(AND(AQ9<>$AI9,AR9<>$AI9,AS9<>$AI9,AT9<>$AI9,AU9<>$AI9,AW9<>$AI9,AV9<>$AI9),$AI9,\nIF(AND(AQ9<>$AJ9,AR9<>$AJ9,AS9<>$AJ9,AT9<>$AJ9,AU9<>$AJ9,AW9<>$AJ9,AV9<>$AJ9),$AJ9,\nIF(AND(AQ9<>$AK9,AR9<>$AK9,AS9<>$AK9,AT9<>$AK9,AU9<>$AK9,AW9<>$AK9,AV9<>$AK9),$AK9,\nIF(AND(AQ9<>$AL9,AR9<>$AL9,AS9<>$AL9,AT9<>$AL9,AU9<>$AL9,AW9<>$AL9,AV9<>$AL9),$AL9,\nIF(AND(AQ9<>$AM9,AR9<>$AM9,AS9<>$AM9,AT9<>$AM9,AU9<>$AM9,AW9<>$AM9,AV9<>$AM9),$AM9,\nIF(AND(AQ9<>$AN9,AR9<>$AN9,AS9<>$AN9,AT9<>$AN9,AU9<>$AN9,AW9<>$AN9,AV9<>$AN9),$AN9,\nIF(AND(AQ9<>$AO9,AR9<>$AO9,AS9<>$AO9,AT9<>$AO9,AU9<>$AO9,AW9<>$AO9,AV9<>$AO9),$AO9,\n\"\")))))))))))","v":""},{"$f":"IF(AX9=\"\",\"\",\nIF(AND(AQ9<>$AF9,AR9<>$AF9,AS9<>$AF9,AT9<>$AF9,AU9<>$AF9,AV9<>$AF9,AX9<>$AF9,AW9<>$AF9),$AF9,\nIF(AND(AQ9<>$AG9,AR9<>$AG9,AS9<>$AG9,AT9<>$AG9,AU9<>$AG9,AV9<>$AG9,AX9<>$AG9,AW9<>$AG9),$AG9,\nIF(AND(AQ9<>$AH9,AR9<>$AH9,AS9<>$AH9,AT9<>$AH9,AU9<>$AH9,AV9<>$AH9,AX9<>$AH9,AW9<>$AH9),$AH9,\nIF(AND(AQ9<>$AI9,AR9<>$AI9,AS9<>$AI9,AT9<>$AI9,AU9<>$AI9,AV9<>$AI9,AX9<>$AI9,AW9<>$AI9),$AI9,\nIF(AND(AQ9<>$AJ9,AR9<>$AJ9,AS9<>$AJ9,AT9<>$AJ9,AU9<>$AJ9,AV9<>$AJ9,AX9<>$AJ9,AW9<>$AJ9),$AJ9,\nIF(AND(AQ9<>$AK9,AR9<>$AK9,AS9<>$AK9,AT9<>$AK9,AU9<>$AK9,AV9<>$AK9,AX9<>$AK9,AW9<>$AK9),$AK9,\nIF(AND(AQ9<>$AL9,AR9<>$AL9,AS9<>$AL9,AT9<>$AL9,AU9<>$AL9,AV9<>$AL9,AX9<>$AL9,AW9<>$AL9),$AL9,\nIF(AND(AQ9<>$AM9,AR9<>$AM9,AS9<>$AM9,AT9<>$AM9,AU9<>$AM9,AV9<>$AM9,AX9<>$AM9,AW9<>$AM9),$AM9,\nIF(AND(AQ9<>$AN9,AR9<>$AN9,AS9<>$AN9,AT9<>$AN9,AU9<>$AN9,AV9<>$AN9,AX9<>$AN9,AW9<>$AN9),$AN9,\nIF(AND(AQ9<>$AO9,AR9<>$AO9,AS9<>$AO9,AT9<>$AO9,AU9<>$AO9,AV9<>$AO9,AX9<>$AO9,AW9<>$AO9),$AO9,\n\"\")))))))))))","v":""},{"$f":"IF(AY9=\"\",\"\",\nIF(AND(AQ9<>$AF9,AR9<>$AF9,AS9<>$AF9,AT9<>$AF9,AU9<>$AF9,AV9<>$AF9,AW9<>$AF9,AY9<>$AF9,AX9<>$AF9),$AF9,\nIF(AND(AQ9<>$AG9,AR9<>$AG9,AS9<>$AG9,AT9<>$AG9,AU9<>$AG9,AV9<>$AG9,AW9<>$AG9,AY9<>$AG9,AX9<>$AG9),$AG9,\nIF(AND(AQ9<>$AH9,AR9<>$AH9,AS9<>$AH9,AT9<>$AH9,AU9<>$AH9,AV9<>$AH9,AW9<>$AH9,AY9<>$AH9,AX9<>$AH9),$AH9,\nIF(AND(AQ9<>$AI9,AR9<>$AI9,AS9<>$AI9,AT9<>$AI9,AU9<>$AI9,AV9<>$AI9,AW9<>$AI9,AY9<>$AI9,AX9<>$AI9),$AI9,\nIF(AND(AQ9<>$AJ9,AR9<>$AJ9,AS9<>$AJ9,AT9<>$AJ9,AU9<>$AJ9,AV9<>$AJ9,AW9<>$AJ9,AY9<>$AJ9,AX9<>$AJ9),$AJ9,\nIF(AND(AQ9<>$AK9,AR9<>$AK9,AS9<>$AK9,AT9<>$AK9,AU9<>$AK9,AV9<>$AK9,AW9<>$AK9,AY9<>$AK9,AX9<>$AK9),$AK9,\nIF(AND(AQ9<>$AL9,AR9<>$AL9,AS9<>$AL9,AT9<>$AL9,AU9<>$AL9,AV9<>$AL9,AW9<>$AL9,AY9<>$AL9,AX9<>$AL9),$AL9,\nIF(AND(AQ9<>$AM9,AR9<>$AM9,AS9<>$AM9,AT9<>$AM9,AU9<>$AM9,AV9<>$AM9,AW9<>$AM9,AY9<>$AM9,AX9<>$AM9),$AM9,\nIF(AND(AQ9<>$AN9,AR9<>$AN9,AS9<>$AN9,AT9<>$AN9,AU9<>$AN9,AV9<>$AN9,AW9<>$AN9,AY9<>$AN9,AX9<>$AN9),$AN9,\nIF(AND(AQ9<>$AO9,AR9<>$AO9,AS9<>$AO9,AT9<>$AO9,AU9<>$AO9,AV9<>$AO9,AW9<>$AO9,AY9<>$AO9,AX9<>$AO9),$AO9,\n\"\")))))))))))","v":""}]
[null,{"$f":"IF(E10=\"\",0,1)","v":1},0,null,{"$f":"IF(M9<>\"\",M9,\"\")","v":"Eigenschaften: \nQuerschnitt\nUV-beständig"},""]
[null,{"$f":"IF(L11=\"x\",1,IF(ISNUMBER(L11),L11,0))","v":0},{"$f":"IF(L11=\"x\",1,IF(ISNUMBER(L11),1,0))","v":0},{"$f":"I11","v":"411.000"},{"$f":"J11 & IF(M11<>\"\",CHAR(10) & M11,\"\")","v":"Cu 4 mm2"},"",null,null,"411.000","Cu 4 mm2","lfm",null,null,null,null,null,null,null,null,"E400_Solarleitungen",null,null,"x",null,null,null,null,null,null,"x",null,"lfm","lfm","lfm","pau","pau","pau","pau","pau","pau","pau",null,"lfm","pau","","","","","","","",""]
[null,0,{"$f":"IF(L12=\"x\",1,IF(ISNUMBER(L12),1,0))","v":0},{"$f":"I12","v":"412.000"},{"$f":"J12 & IF(M12<>\"\",CHAR(10) & M12,\"\")","v":"Cu 6 mm2"},"",null,null,"412.000","Cu 6 mm2","lfm",null,null,null,null,null,null,null,null,"E400_Solarleitungen",null,null,"x",null,null,null,null,null,null,"x",null,"lfm","lfm","lfm","pau","pau","pau","pau","pau","pau","pau",null,"lfm","pau",{"$f":"IF(AR12=\"\",\"\",\nIF(AND(AR12<>$AF12,AQ12<>$AF12),$AF12,\nIF(AND(AR12<>$AG12,AQ12<>$AG12),$AG12,\nIF(AND(AR12<>$AH12,AQ12<>$AH12),$AH12,\nIF(AND(AR12<>$AI12,AQ12<>$AI12),$AI12,\nIF(AND(AR12<>$AJ12,AQ12<>$AJ12),$AJ12,\nIF(AND(AR12<>$AK12,AQ12<>$AK12),$AK12,\nIF(AND(AR12<>$AL12,AQ12<>$AL12),$AL12,\nIF(AND(AR12<>$AM12,AQ12<>$AM12),$AM12,\nIF(AND(AR12<>$AN12,AQ12<>$AN12),$AN12,\nIF(AND(AR12<>$AO12,AQ12<>$AO12),$AO12,\n\"\")))))))))))","v":""},{"$f":"IF(AS12=\"\",\"\",\nIF(AND(AQ12<>$AF12,AS12<>$AF12,AR12<>$AF12),$AF12,\nIF(AND(AQ12<>$AG12,AS12<>$AG12,AR12<>$AG12),$AG12,\nIF(AND(AQ12<>$AH12,AS12<>$AH12,AR12<>$AH12),$AH12,\nIF(AND(AQ12<>$AI12,AS12<>$AI12,AR12<>$AI12),$AI12,\nIF(AND(AQ12<>$AJ12,AS12<>$AJ12,AR12<>$AJ12),$AJ12,\nIF(AND(AQ12<>$AK12,AS12<>$AK12,AR12<>$AK12),$AK12,\nIF(AND(AQ12<>$AL12,AS12<>$AL12,AR12<>$AL12),$AL12,\nIF(AND(AQ12<>$AM12,AS12<>$AM12,AR12<>$AM12),$AM12,\nIF(AND(AQ12<>$AN12,AS12<>$AN12,AR12<>$AN12),$AN12,\nIF(AND(AQ12<>$AO12,AS12<>$AO12,AR12<>$AO12),$AO12,\n\"\")))))))))))","v":""},{"$f":"IF(AT12=\"\",\"\",\nIF(AND(AQ12<>$AF12,AR12<>$AF12,AT12<>$AF12,AS12<>$AF12),$AF12,\nIF(AND(AQ12<>$AG12,AR12<>$AG12,AT12<>$AG12,AS12<>$AG12),$AG12,\nIF(AND(AQ12<>$AH12,AR12<>$AH12,AT12<>$AH12,AS12<>$AH12),$AH12,\nIF(AND(AQ12<>$AI12,AR12<>$AI12,AT12<>$AI12,AS12<>$AI12),$AI12,\nIF(AND(AQ12<>$AJ12,AR12<>$AJ12,AT12<>$AJ12,AS12<>$AJ12),$AJ12,\nIF(AND(AQ12<>$AK12,AR12<>$AK12,AT12<>$AK12,AS12<>$AK12),$AK12,\nIF(AND(AQ12<>$AL12,AR12<>$AL12,AT12<>$AL12,AS12<>$AL12),$AL12,\nIF(AND(AQ12<>$AM12,AR12<>$AM12,AT12<>$AM12,AS12<>$AM12),$AM12,\nIF(AND(AQ12<>$AN12,AR12<>$AN12,AT12<>$AN12,AS12<>$AN12),$AN12,\nIF(AND(AQ12<>$AO12,AR12<>$AO12,AT12<>$AO12,AS12<>$AO12),$AO12,\n\"\")))))))))))","v":""},{"$f":"IF(AU12=\"\",\"\",\nIF(AND(AQ12<>$AF12,AR12<>$AF12,AS12<>$AF12,AU12<>$AF12,AT12<>$AF12),$AF12,\nIF(AND(AQ12<>$AG12,AR12<>$AG12,AS12<>$AG12,AU12<>$AG12,AT12<>$AG12),$AG12,\nIF(AND(AQ12<>$AH12,AR12<>$AH12,AS12<>$AH12,AU12<>$AH12,AT12<>$AH12),$AH12,\nIF(AND(AQ12<>$AI12,AR12<>$AI12,AS12<>$AI12,AU12<>$AI12,AT12<>$AI12),$AI12,\nIF(AND(AQ12<>$AJ12,AR12<>$AJ12,AS12<>$AJ12,AU12<>$AJ12,AT12<>$AJ12),$AJ12,\nIF(AND(AQ12<>$AK12,AR12<>$AK12,AS12<>$AK12,AU12<>$AK12,AT12<>$AK12),$AK12,\nIF(AND(AQ12<>$AL12,AR12<>$AL12,AS12<>$AL12,AU12<>$AL12,AT12<>$AL12),$AL12,\nIF(AND(AQ12<>$AM12,AR12<>$AM12,AS12<>$AM12,AU12<>$AM12,AT12<>$AM12),$AM12,\nIF(AND(AQ12<>$AN12,AR12<>$AN12,AS12<>$AN12,AU12<>$AN12,AT12<>$AN12),$AN12,\nIF(AND(AQ12<>$AO12,AR12<>$AO12,AS12<>$AO12,AU12<>$AO12,AT12<>$AO12),$AO12,\n\"\")))))))))))","v":""},{"$f":"IF(AV12=\"\",\"\",\nIF(AND(AQ12<>$AF12,AR12<>$AF12,AS12<>$AF12,AT12<>$AF12,AV12<>$AF12,AU12<>$AF12),$AF12,\nIF(AND(AQ12<>$AG12,AR12<>$AG12,AS12<>$AG12,AT12<>$AG12,AV12<>$AG12,AU12<>$AG12),$AG12,\nIF(AND(AQ12<>$AH12,AR12<>$AH12,AS12<>$AH12,AT12<>$AH12,AV12<>$AH12,AU12<>$AH12),$AH12,\nIF(AND(AQ12<>$AI12,AR12<>$AI12,AS12<>$AI12,AT12<>$AI12,AV12<>$AI12,AU12<>$AI12),$AI12,\nIF(AND(AQ12<>$AJ12,AR12<>$AJ12,AS12<>$AJ12,AT12<>$AJ12,AV12<>$AJ12,AU12<>$AJ12),$AJ12,\nIF(AND(AQ12<>$AK12,AR12<>$AK12,AS12<>$AK12,AT12<>$AK12,AV12<>$AK12,AU12<>$AK12),$AK12,\nIF(AND(AQ12<>$AL12,AR12<>$AL12,AS12<>$AL12,AT12<>$AL12,AV12<>$AL12,AU12<>$AL12),$AL12,\nIF(AND(AQ12<>$AM12,AR12<>$AM12,AS12<>$AM12,AT12<>$AM12,AV12<>$AM12,AU12<>$AM12),$AM12,\nIF(AND(AQ12<>$AN12,AR12<>$AN12,AS12<>$AN12,AT12<>$AN12,AV12<>$AN12,AU12<>$AN12),$AN12,\nIF(AND(AQ12<>$AO12,AR12<>$AO12,AS12<>$AO12,AT12<>$AO12,AV12<>$AO12,AU12<>$AO12),$AO12,\n\"\")))))))))))","v":""},{"$f":"IF(AW12=\"\",\"\",\nIF(AND(AQ12<>$AF12,AR12<>$AF12,AS12<>$AF12,AT12<>$AF12,AU12<>$AF12,AW12<>$AF12,AV12<>$AF12),$AF12,\nIF(AND(AQ12<>$AG12,AR12<>$AG12,AS12<>$AG12,AT12<>$AG12,AU12<>$AG12,AW12<>$AG12,AV12<>$AG12),$AG12,\nIF(AND(AQ12<>$AH12,AR12<>$AH12,AS12<>$AH12,AT12<>$AH12,AU12<>$AH12,AW12<>$AH12,AV12<>$AH12),$AH12,\nIF(AND(AQ12<>$AI12,AR12<>$AI12,AS12<>$AI12,AT12<>$AI12,AU12<>$AI12,AW12<>$AI12,AV12<>$AI12),$AI12,\nIF(AND(AQ12<>$AJ12,AR12<>$AJ12,AS12<>$AJ12,AT12<>$AJ12,AU12<>$AJ12,AW12<>$AJ12,AV12<>$AJ12),$AJ12,\nIF(AND(AQ12<>$AK12,AR12<>$AK12,AS12<>$AK12,AT12<>$AK12,AU12<>$AK12,AW12<>$AK12,AV12<>$AK12),$AK12,\nIF(AND(AQ12<>$AL12,AR12<>$AL12,AS12<>$AL12,AT12<>$AL12,AU12<>$AL12,AW12<>$AL12,AV12<>$AL12),$AL12,\nIF(AND(AQ12<>$AM12,AR12<>$AM12,AS12<>$AM12,AT12<>$AM12,AU12<>$AM12,AW12<>$AM12,AV12<>$AM12),$AM12,\nIF(AND(AQ12<>$AN12,AR12<>$AN12,AS12<>$AN12,AT12<>$AN12,AU12<>$AN12,AW12<>$AN12,AV12<>$AN12),$AN12,\nIF(AND(AQ12<>$AO12,AR12<>$AO12,AS12<>$AO12,AT12<>$AO12,AU12<>$AO12,AW12<>$AO12,AV12<>$AO12),$AO12,\n\"\")))))))))))","v":""},{"$f":"IF(AX12=\"\",\"\",\nIF(AND(AQ12<>$AF12,AR12<>$AF12,AS12<>$AF12,AT12<>$AF12,AU12<>$AF12,AV12<>$AF12,AX12<>$AF12,AW12<>$AF12),$AF12,\nIF(AND(AQ12<>$AG12,AR12<>$AG12,AS12<>$AG12,AT12<>$AG12,AU12<>$AG12,AV12<>$AG12,AX12<>$AG12,AW12<>$AG12),$AG12,\nIF(AND(AQ12<>$AH12,AR12<>$AH12,AS12<>$AH12,AT12<>$AH12,AU12<>$AH12,AV12<>$AH12,AX12<>$AH12,AW12<>$AH12),$AH12,\nIF(AND(AQ12<>$AI12,AR12<>$AI12,AS12<>$AI12,AT12<>$AI12,AU12<>$AI12,AV12<>$AI12,AX12<>$AI12,AW12<>$AI12),$AI12,\nIF(AND(AQ12<>$AJ12,AR12<>$AJ12,AS12<>$AJ12,AT12<>$AJ12,AU12<>$AJ12,AV12<>$AJ12,AX12<>$AJ12,AW12<>$AJ12),$AJ12,\nIF(AND(AQ12<>$AK12,AR12<>$AK12,AS12<>$AK12,AT12<>$AK12,AU12<>$AK12,AV12<>$AK12,AX12<>$AK12,AW12<>$AK12),$AK12,\nIF(AND(AQ12<>$AL12,AR12<>$AL12,AS12<>$AL12,AT12<>$AL12,AU12<>$AL12,AV12<>$AL12,AX12<>$AL12,AW12<>$AL12),$AL12,\nIF(AND(AQ12<>$AM12,AR12<>$AM12,AS12<>$AM12,AT12<>$AM12,AU12<>$AM12,AV12<>$AM12,AX12<>$AM12,AW12<>$AM12),$AM12,\nIF(AND(AQ12<>$AN12,AR12<>$AN12,AS12<>$AN12,AT12<>$AN12,AU12<>$AN12,AV12<>$AN12,AX12<>$AN12,AW12<>$AN12),$AN12,\nIF(AND(AQ12<>$AO12,AR12<>$AO12,AS12<>$AO12,AT12<>$AO12,AU12<>$AO12,AV12<>$AO12,AX12<>$AO12,AW12<>$AO12),$AO12,\n\"\")))))))))))","v":""},{"$f":"IF(AY12=\"\",\"\",\nIF(AND(AQ12<>$AF12,AR12<>$AF12,AS12<>$AF12,AT12<>$AF12,AU12<>$AF12,AV12<>$AF12,AW12<>$AF12,AY12<>$AF12,AX12<>$AF12),$AF12,\nIF(AND(AQ12<>$AG12,AR12<>$AG12,AS12<>$AG12,AT12<>$AG12,AU12<>$AG12,AV12<>$AG12,AW12<>$AG12,AY12<>$AG12,AX12<>$AG12),$AG12,\nIF(AND(AQ12<>$AH12,AR12<>$AH12,AS12<>$AH12,AT12<>$AH12,AU12<>$AH12,AV12<>$AH12,AW12<>$AH12,AY12<>$AH12,AX12<>$AH12),$AH12,\nIF(AND(AQ12<>$AI12,AR12<>$AI12,AS12<>$AI12,AT12<>$AI12,AU12<>$AI12,AV12<>$AI12,AW12<>$AI12,AY12<>$AI12,AX12<>$AI12),$AI12,\nIF(AND(AQ12<>$AJ12,AR12<>$AJ12,AS12<>$AJ12,AT12<>$AJ12,AU12<>$AJ12,AV12<>$AJ12,AW12<>$AJ12,AY12<>$AJ12,AX12<>$AJ12),$AJ12,\nIF(AND(AQ12<>$AK12,AR12<>$AK12,AS12<>$AK12,AT12<>$AK12,AU12<>$AK12,AV12<>$AK12,AW12<>$AK12,AY12<>$AK12,AX12<>$AK12),$AK12,\nIF(AND(AQ12<>$AL12,AR12<>$AL12,AS12<>$AL12,AT12<>$AL12,AU12<>$AL12,AV12<>$AL12,AW12<>$AL12,AY12<>$AL12,AX12<>$AL12),$AL12,\nIF(AND(AQ12<>$AM12,AR12<>$AM12,AS12<>$AM12,AT12<>$AM12,AU12<>$AM12,AV12<>$AM12,AW12<>$AM12,AY12<>$AM12,AX12<>$AM12),$AM12,\nIF(AND(AQ12<>$AN12,AR12<>$AN12,AS12<>$AN12,AT12<>$AN12,AU12<>$AN12,AV12<>$AN12,AW12<>$AN12,AY12<>$AN12,AX12<>$AN12),$AN12,\nIF(AND(AQ12<>$AO12,AR12<>$AO12,AS12<>$AO12,AT12<>$AO12,AU12<>$AO12,AV12<>$AO12,AW12<>$AO12,AY12<>$AO12,AX12<>$AO12),$AO12,\n\"\")))))))))))","v":""}]
[null,0,0,"413.000","Cu 10 mm2","",null,null,"413.000","Cu 10 mm2","lfm",null,null,null,null,null,null,null,null,"E400_Solarleitungen",null,null,"x",null,null,null,null,null,null,"x",null,"lfm","lfm","lfm","pau","pau","pau","pau","pau","pau","pau",null,"lfm","pau","","","","","","","",""]
[null,0,0,"414.000","Cu 16 mm2","",null,null,"414.000","Cu 16 mm2","lfm",null,null,null,null,null,null,null,null,"E400_Solarleitungen",null,null,"x",null,null,null,null,null,null,"x",null,"lfm","lfm","lfm","pau","pau","pau","pau","pau","pau","pau",null,"lfm","pau","","","","","","","",""]
[null,0,0,"415.000","Cu 25 mm2","",null,null,"415.000","Cu 25 mm2","lfm",null,null,null,null,null,null,null,null,"E400_Solarleitungen",null,null,"x",null,null,null,null,null,null,"x",null,"lfm","lfm","lfm","pau","pau","pau","pau","pau","pau","pau",null,"lfm","pau","","","","","","","",""]
[null,0,0,"416.000","Cu 35 mm2","",null,null,"416.000","Cu 35 mm2","lfm",null,null,null,null,null,null,null,null,"E400_Solarleitungen",null,null,"x",null,null,null,null,null,null,"x",null,"lfm","lfm","lfm","pau","pau","pau","pau","pau","pau","pau",null,"lfm","pau","","","","","","","",""]
[null,0,0,"417.000","Cu 50 mm2","",null,null,"417.000","Cu 50 mm2","lfm",null,null,null,null,null,null,null,null,"E400_Solarleitungen",null,null,"x",null,null,null,null,null,null,"x",null,"lfm","lfm","lfm","pau","pau","pau","pau","pau","pau","pau",null,"lfm","pau","","","","","","","",""]
[null,0,0,"418.000","Al","",null,null,"418.000","Al","lfm",null,null,null,null,null,null,null,null,"E400_Solarleitungen",null,null,"x",null,null,null,null,null,null,"x",null,"lfm","lfm","lfm","pau","pau","pau","pau","pau","pau","pau",null,"lfm","pau","","","","","","","",""]
[null,{"$f":"B9","v":1},0,null,null,"",null,null,null,null,null,null,null,null,null,null,null,null,null,null,null,null,null,null,null,null,null,null,null,null,null,"","","","","","","","","","",null,"","","","","","","","","",""]
[null,{"$f":"IF(L20=\"x\",1,IF(SUM(B22:B25)>0,1,0))","v":1},1,{"$f":"G20","v":"420.000"},{"$f":"H20","v":"Solarstecker "},"pau","420.000","Solarstecker ",null,null,"pau","x","Eigenschaften: \nOriginalstecker vom Hersteller (gemäss NIN)",null,null,null,null,null,null,"E400_Solarstecker",null,null,null,null,null,null,null,null,null,"x",null,"pau","pau","pau","pau","pau","pau","pau","pau","pau","pau",null,"pau","","","","","","","","",""]
[null,{"$f":"IF(E21=\"\",0,1)","v":1},0,null,{"$f":"IF(M20<>\"\",M20,\"\")","v":"Eigenschaften: \nOriginalstecker vom Hersteller (gemäss NIN)"},""]
[null,{"$f":"IF(L22=\"x\",1,IF(ISNUMBER(L22),L22,0))","v":0},0,{"$f":"I22","v":"421.000"},{"$f":"J22 & IF(M22<>\"\",CHAR(10) & M22,\"\")","v":"4 mm2"},"",null,null,"421.000","4 mm2","Stk. ",null,null,null,null,null,null,null,null,"E400_Solarstecker","x",null,null,null,null,null,null,null,null,"x",null,"Stk. ","pau","pau","pau","pau","pau","pau","pau","pau","pau",null,"Stk. ","pau","","","","","","","",""]
[null,{"$f":"IF(L23=\"x\",1,IF(ISNUMBER(L23),L23,0))","v":0},0,{"$f":"I23","v":"422.000"},"6 mm2","",null,null,"422.000","6 mm2","Stk. ",null,null,null,null,null,null,null,null,"E400_Solarstecker","x",null,null,null,null,null,null,null,null,"x",null,"Stk. ","pau","pau","pau","pau","pau","pau","pau","pau","pau",null,"Stk. ","pau","","","","","","","",""]
[null,{"$f":"IF(L24=\"x\",1,IF(ISNUMBER(L24),L24,0))","v":0},0,"423.000","10 mm2","",null,null,"423.000","10 mm2","Stk. ",null,null,null,null,null,null,null,null,"E400_Solarstecker","x",null,null,null,null,null,null,null,null,"x",null,"Stk. ","pau","pau","pau","pau","pau","pau","pau","pau","pau",null,"Stk. ","pau","","","","","","","",""]
[null,{"$f":"IF(L25=\"x\",1,IF(ISNUMBER(L25),L25,0))","v":0},0,{"$f":"I25","v":"424.000"},"Y-Stecker","",null,null,"424.000","Y-Stecker","Stk. ",null,null,null,null,null,null,null,null,"E400_Solarstecker","x",null,null,null,null,null,null,null,null,null,null,"Stk. ","","","","","","","","","",null,"Stk. ","","","","","","","","",""]
[null,{"$f":"B20","v":1},0,null,null,"",null,null,null,null,null,null,null,null,null,null,null,null,null,null,null,null,null,null,null,null,null,null,null,null,null,"","","","","","","","","","",null,"","","","","","","","","",""]
[null,{"$f":"IF(L27=\"x\",1,IF(SUM(B29:B34)>0,1,0))","v":1},0,{"$f":"G27","v":"430.000"},{"$f":"H27","v":"Kabelschutz/Kabelführung"},"","430.000","Kabelschutz/Kabelführung",null,null,null,null,null,null,null,null,null,null,null,"E400_DC_Kabelschutz",null,null,null,null,null,null,null,null,null,"x",null,"pau","pau","pau","pau","pau","pau","pau","pau","pau","pau",null,"pau","","","","","","","","",""]
[null,{"$f":"IF(E28=\"\",0,1)","v":0},0,null,{"$f":"IF(M27<>\"\",M27,\"\")","v":""},""]
[null,{"$f":"IF(L29=\"x\",1,IF(ISNUMBER(L29),L29,0))","v":1},1,{"$f":"I29","v":"431.000"},{"$f":"J29 & IF(M29<>\"\",CHAR(10) & M29,\"\")","v":"Trassen\nEigenschaften: \nmit Deckel\nFeuerverzinkt"},"lfm",null,null,"431.000","Trassen","lfm","x","Eigenschaften: \nmit Deckel\nFeuerverzinkt",null,null,null,null,null,null,"E400_DC_Kabelschutz",null,null,"x",null,null,null,null,null,null,"x",null,"lfm","lfm","lfm","pau","pau","pau","pau","pau","pau","pau",null,"lfm","pau","","","","","","","",""]
[null,0,0,{"$f":"I30","v":"432.000"},"Kanäle","",null,null,"432.000","Kanäle","lfm",null,null,null,null,null,null,null,null,"E400_DC_Kabelschutz",null,null,"x",null,null,null,null,null,null,"x",null,"lfm","lfm","lfm","pau","pau","pau","pau","pau","pau","pau",null,"lfm","pau","","","","","","","",""]
[null,0,0,"433.000","Rohre","",null,null,"433.000","Rohre","lfm",null,null,null,null,null,null,null,null,"E400_DC_Kabelschutz","x",null,null,null,null,null,null,null,null,"x",null,"Stk. ","pau","pau","pau","pau","pau","pau","pau","pau","pau",null,"Stk. ","pau","","","","","","","",""]
[null,0,0,{"$f":"I32","v":"434.000"},"Schläuche","",null,null,"434.000","Schläuche","lfm",null,null,null,null,null,null,null,null,"E400_DC_Kabelschutz",null,null,"x",null,null,null,null,null,null,"x ",null,"lfm","lfm","lfm","","","","","","","",null,"lfm","","","","","","","","",""]
[null,0,0,"435.000","Steinplatten (Gartenplatten)","",null,null,"435.000","Steinplatten (Gartenplatten)","Stk. ",null,null,null,null,null,null,null,null,"E400_DC_Kabelschutz","x",null,null,"x",null,null,null,null,null,"x",null,"Stk. ","m2","m2","m2","pau","pau","pau","pau","pau","pau",null,"Stk. ","m2","pau","","","","","","",""]
[null,0,0,"436.000","Kantenschutz","",null,null,"436.000","Kantenschutz","lfm",null,null,null,null,null,null,null,null,"E400_DC_Kabelschutz",null,null,"x",null,null,null,null,null,null,"x",null,"lfm","lfm","lfm","pau","pau","pau","pau","pau","pau","pau",null,"lfm","pau","","","","","","","",""]
[null,{"$f":"B27","v":1},0,null,null,"",null,null,null,null,null,null,null,null,null,null,null,null,null,null,null,null,null,null,null,null,null,null,null,null,null,"","","","","","","","","","",null,"","","","","","","","","",""]
[null,{"$f":"IF(L36=\"x\",1,IF(SUM(B38:B39)>0,1,0))","v":1},0,{"$f":"G36","v":"440.000"},{"$f":"H36","v":"Verbrauchsmaterial"},"","440.000","Verbrauchsmaterial",null,null,null,null,null,null,null,null,null,null,null,"E400_DC_Verbrauchsmaterial",null,null,null,null,null,null,null,null,null,"x",null,"pau","pau","pau","pau","pau","pau","pau","pau","pau","pau",null,"pau","","","","","","","","",""]
[null,{"$f":"IF(E37=\"\",0,1)","v":0},0,null,{"$f":"IF(M36<>\"\",M36,\"\")","v":""},""]
[null,{"$f":"IF(L38=\"x\",1,IF(ISNUMBER(L38),L38,0))","v":1},1,{"$f":"I38","v":"441.000"},{"$f":"J38 & IF(M38<>\"\",CHAR(10) & M38,\"\")","v":"Kabelbeschriftung\nEigenschaften: \nUV-beständig"},"Stk. ",null,null,"441.000","Kabelbeschriftung","Stk. ","x","Eigenschaften: \nUV-beständig",null,null,null,null,null,null,"E400_DC_Verbrauchsmaterial","x",null,null,null,null,null,null,null,null,"x",null,"Stk. ","pau","pau","pau","pau","pau","pau","pau","pau","pau",null,"Stk. ","pau","","","","","","","",""]
[null,{"$f":"IF(L39=\"x\",1,IF(ISNUMBER(L39),L39,0))","v":1},1,{"$f":"I39","v":"442.000"},"Kabelbefestigungsmaterial\nEigenschaften: \nUV-beständig","Stk. ",null,null,"442.000","Kabelbefestigungsmaterial","Stk. ","x","Eigenschaften: \nUV-beständig",null,null,null,null,null,null,"E400_DC_Verbrauchsmaterial","x",null,null,null,null,null,null,null,null,"x",null,"Stk. ","pau","pau","pau","pau","pau","pau","pau","pau","pau",null,"Stk. ","pau","","","","","","","",""]
[null,{"$f":"B36","v":1},0,null,null,"",null,null,null,null,null,null,null,null,null,null,null,null,null,null,null,null,null,null,null,null,null,null,null,null,null,"","","","","","","","","","",null,"","","","","","","","","",""]
[null,{"$f":"IF(L41=\"x\",1,IF(SUM(B43:B46)>0,1,0))","v":1},0,{"$f":"G41","v":"450.000"},{"$f":"H41","v":"POT-Ausgleich"},"","450.000","POT-Ausgleich",null,null,null,null,null,null,null,null,null,null,null,"E400_DC_POT_Ausgleich",null,null,null,null,null,null,null,null,null,"x",null,"pau","pau","pau","pau","pau","pau","pau","pau","pau","pau",null,"pau","","","","","","","","",""]
[null,{"$f":"IF(E42=\"\",0,1)","v":0},0,null,{"$f":"IF(M41<>\"\",M41,\"\")","v":""},""]
[null,{"$f":"IF(L43=\"x\",1,IF(ISNUMBER(L43),L43,0))","v":1},1,{"$f":"I43","v":"451.000"},{"$f":"J43 & IF(M43<>\"\",CHAR(10) & M43,\"\")","v":"Leiter\nEigenschaften: \n16mm2"},"lfm",null,null,"451.000","Leiter","lfm","x","Eigenschaften: \n16mm2",null,null,null,null,null,null,"E400_DC_POT_Ausgleich",null,null,"x",null,null,null,null,null,null,"x",null,"lfm","lfm","lfm","pau","pau","pau","pau","pau","pau","pau",null,"lfm","pau","","","","","","","",""]
[null,{"$f":"IF(L44=\"x\",1,IF(ISNUMBER(L44),L44,0))","v":1},1,{"$f":"I44","v":"452.000"},"Klemmen\nEigenschaften: \nRostfrei","Stk. ",null,null,"452.000","Klemmen","Stk. ","x","Eigenschaften: \nRostfrei",null,null,null,null,null,null,"E400_DC_POT_Ausgleich","x",null,null,null,null,null,null,null,null,"x",null,"Stk. ","pau","pau","pau","pau","pau","pau","pau","pau","pau",null,"Stk. ","pau","","","","","","","",""]
[null,{"$f":"IF(L45=\"x\",1,IF(ISNUMBER(L45),L45,0))","v":0},0,"453.000","Kabelschuhe","",null,null,"453.000","Kabelschuhe","Stk. ",null,null,null,null,null,null,null,null,"E400_DC_POT_Ausgleich","x",null,null,null,null,null,null,null,null,"x",null,"Stk. ","pau","pau","pau","pau","pau","pau","pau","pau","pau",null,"Stk. ","pau","","","","","","","",""]
[null,{"$f":"IF(L46=\"x\",1,IF(ISNUMBER(L46),L46,0))","v":1},1,{"$f":"I46","v":"454.000"},"POT-Schiene","Stk. ",null,null,"454.000","POT-Schiene","Stk. ","x",null,null,null,null,null,null,null,"E400_DC_POT_Ausgleich","x",null,null,null,null,null,null,null,null,null,null,"Stk. ","","","","","","","","","",null,"Stk. ","","","","","","","","",""]
[null,{"$f":"B41","v":1},0,null,null,"",null,null,null,null,null,null,null,null,null,null,null,null,null,null,null,null,null,null,null,null,null,null,null,null,null,"","","","","","","","","","",null,"","","","","","","","","",""]
[null,{"$f":"IF(L48=\"x\",1,IF(SUM(B50:B52)>0,1,0))","v":1},0,{"$f":"G48","v":"460.000"},{"$f":"H48","v":"Anschluss an bestehenden Blitzschutz"},"","460.000","Anschluss an bestehenden Blitzschutz",null,null,null,null,null,null,null,null,null,null,null,"E400_Anschluss_best_Blitzschutz",null,null,null,null,null,null,null,null,null,"x",null,"pau","pau","pau","pau","pau","pau","pau","pau","pau","pau",null,"pau","","","","","","","","",""]
[null,{"$f":"IF(E49=\"\",0,1)","v":0},0,null,{"$f":"IF(M48<>\"\",M48,\"\")","v":""},""]
[null,{"$f":"IF(L50=\"x\",1,IF(ISNUMBER(L50),L50,0))","v":1},1,{"$f":"I50","v":"461.000"},{"$f":"J50","v":"Draht"},"lfm",null,null,"461.000","Draht","lfm","x",null,null,null,null,null,null,null,null,null,null,"x",null,null,null,null,null,null,"x",null,"lfm","lfm","lfm","pau","pau","pau","pau","pau","pau","pau",null,"lfm","pau","","","","","","","",""]
[null,{"$f":"IF(L51=\"x\",1,IF(ISNUMBER(L51),L51,0))","v":1},1,{"$f":"I51","v":"462.000"},"Klemmen","Stk. ",null,null,"462.000","Klemmen","Stk. ","x",null,null,null,null,null,null,null,null,"x",null,null,null,null,null,null,null,null,"x",null,"Stk. ","pau","pau","pau","pau","pau","pau","pau","pau","pau",null,"Stk. ","pau","","","","","","","",""]
[null,{"$f":"IF(L52=\"x\",1,IF(ISNUMBER(L52),L52,0))","v":0},0,"463.000","Dachleitungsstützen","",null,null,"463.000","Dachleitungsstützen","Stk. ",null,null,null,null,null,null,null,null,null,"x",null,null,null,null,null,null,null,null,null,null,"Stk. ","","","","","","","","","",null,"Stk. ","","","","","","","","",""]

{"sheet":"500 AC- Installationen","index":7,"n_rows":53,"n_cols":52,"rows_kept":53,"cut":false,"hidden":false,"merged":[[0,19,0,51],[1,6,1,7],[3,6,3,7],[3,8,3,9],[2,6,2,7],[2,8,2,9]]}
[null,null,null,null,null,null,null,null,null,null,null,null,null,null,null,null,null,null,null,"AUSBLENDEN"]
[null,null,null,null,"Ausblenden",null,"Strukturebene 1:",null,500,"AC- Installation"]
[null,null,null,null,null,null,"Verbindlich",null,"Optional"]
[null,"Show","Fill","SOQ-Nr.","Beschreibung","Einheit","Strukturebene 2",null,"Strukturebene 3",null,"Leistungs-Einheit","Position Hinzufügen","E- Box",null,null,null,null,null,null,"E-Box","Stk. ","Modul","lfm","m2","m3","Std.","Monate","Jahre","kWp","pau",null,"Pos1","Pos2","Pos3","Pos4","Pos5","Pos6","Pos7","Pos8","Pos9","Pos10",null,"Pos1","Pos2","Pos3","Pos4","Pos5","Pos6","Pos7","Pos8","Pos9","Pos10"]
[]
[null,{"$f":"IF(L6=\"x\",1,IF(SUM(B8:B10)>0,1,0))","v":1},{"$f":"IF(L6=\"x\",1,IF(ISNUMBER(L6),1,0))","v":1},{"$f":"G6","v":"510.000"},{"$f":"H6","v":"AC-Leitungen"},{"$f":"IF(C6=1,K6,\"\")","v":"pau"},"510.000","AC-Leitungen",null,null,"pau","x","Eigenschaften: \nQuerschnitt\n6mm2\nPur- Kabel",null,null,null,null,null,null,"E500_AC_Leitungen",null,null,null,null,null,null,null,null,null,"x",null,{"$f":"\nIF(U6=\"x\",U$4,\nIF(V6=\"x\",V$4,\nIF(W6=\"x\",W$4,\nIF(X6=\"x\",X$4,\nIF(Y6=\"x\",Y$4,\nIF(Z6=\"x\",Z$4,\nIF(AA6=\"x\",AA$4,\nIF(AB6=\"x\",AB$4,\nIF(AC6=\"x\",AC$4,\nIF(AD6=\"x\",AD$4,\n\"\"))))))))))","v":"pau"},{"$f":"\nIF(V6=\"x\",V$4,\nIF(W6=\"x\",W$4,\nIF(X6=\"x\",X$4,\nIF(Y6=\"x\",Y$4,\nIF(Z6=\"x\",Z$4,\nIF(AA6=\"x\",AA$4,\nIF(AB6=\"x\",AB$4,\nIF(AC6=\"x\",AC$4,\nIF(AD6=\"x\",AD$4,\n\"\")))))))))","v":"pau"},{"$f":"\nIF(W6=\"x\",W$4,\nIF(X6=\"x\",X$4,\nIF(Y6=\"x\",Y$4,\nIF(Z6=\"x\",Z$4,\nIF(AA6=\"x\",AA$4,\nIF(AB6=\"x\",AB$4,\nIF(AC6=\"x\",AC$4,\nIF(AD6=\"x\",AD$4,\n\"\"))))))))","v":"pau"},{"$f":"\nIF(X6=\"x\",X$4,\nIF(Y6=\"x\",Y$4,\nIF(Z6=\"x\",Z$4,\nIF(AA6=\"x\",AA$4,\nIF(AB6=\"x\",AB$4,\nIF(AC6=\"x\",AC$4,\nIF(AD6=\"x\",AD$4,\n\"\")))))))","v":"pau"},{"$f":"\nIF(Y6=\"x\",Y$4,\nIF(Z6=\"x\",Z$4,\nIF(AA6=\"x\",AA$4,\nIF(AB6=\"x\",AB$4,\nIF(AC6=\"x\",AC$4,\nIF(AD6=\"x\",AD$4,\n\"\"))))))","v":"pau"},{"$f":"\nIF(Z6=\"x\",Z$4,\nIF(AA6=\"x\",AA$4,\nIF(AB6=\"x\",AB$4,\nIF(AC6=\"x\",AC$4,\nIF(AD6=\"x\",AD$4,\n\"\")))))","v":"pau"},{"$f":"\nIF(AA6=\"x\",AA$4,\nIF(AB6=\"x\",AB$4,\nIF(AC6=\"x\",AC$4,\nIF(AD6=\"x\",AD$4,\n\"\"))))","v":"pau"},{"$f":"\nIF(AB6=\"x\",AB$4,\nIF(AC6=\"x\",AC$4,\nIF(AD6=\"x\",AD$4,\n\"\")))","v":"pau"},{"$f":"\nIF(AC6=\"x\",AC$4,\nIF(AD6=\"x\",AD$4,\n\"\"))","v":"pau"},{"$f":"\nIF(AD6=\"x\",AD$4,\n\"\")","v":"pau"},null,{"$f":"AF6","v":"pau"},{"$f":"IF(AQ6=\"\",\"\",\nIF(AQ6<>$AF6,$AF6,\nIF(AQ6<>$AG6,$AG6,\nIF(AQ6<>$AH6,$AH6,\nIF(AQ6<>$AI6,$AI6,\nIF(AQ6<>$AJ6,$AJ6,\nIF(AQ6<>$AK6,$AK6,\nIF(AQ6<>$AL6,$AL6,\nIF(AQ6<>$AM6,$AM6,\nIF(AQ6<>$AN6,$AN6,\nIF(AQ6<>$AO6,$AO6,\n\"\")))))))))))","v":""},{"$f":"IF(AR6=\"\",\"\",\nIF(AND(AR6<>$AF6,AQ6<>$AF6),$AF6,\nIF(AND(AR6<>$AG6,AQ6<>$AG6),$AG6,\nIF(AND(AR6<>$AH6,AQ6<>$AH6),$AH6,\nIF(AND(AR6<>$AI6,AQ6<>$AI6),$AI6,\nIF(AND(AR6<>$AJ6,AQ6<>$AJ6),$AJ6,\nIF(AND(AR6<>$AK6,AQ6<>$AK6),$AK6,\nIF(AND(AR6<>$AL6,AQ6<>$AL6),$AL6,\nIF(AND(AR6<>$AM6,AQ6<>$AM6),$AM6,\nIF(AND(AR6<>$AN6,AQ6<>$AN6),$AN6,\nIF(AND(AR6<>$AO6,AQ6<>$AO6),$AO6,\n\"\")))))))))))","v":""},{"$f":"IF(AS6=\"\",\"\",\nIF(AND(AQ6<>$AF6,AS6<>$AF6,AR6<>$AF6),$AF6,\nIF(AND(AQ6<>$AG6,AS6<>$AG6,AR6<>$AG6),$AG6,\nIF(AND(AQ6<>$AH6,AS6<>$AH6,AR6<>$AH6),$AH6,\nIF(AND(AQ6<>$AI6,AS6<>$AI6,AR6<>$AI6),$AI6,\nIF(AND(AQ6<>$AJ6,AS6<>$AJ6,AR6<>$AJ6),$AJ6,\nIF(AND(AQ6<>$AK6,AS6<>$AK6,AR6<>$AK6),$AK6,\nIF(AND(AQ6<>$AL6,AS6<>$AL6,AR6<>$AL6),$AL6,\nIF(AND(AQ6<>$AM6,AS6<>$AM6,AR6<>$AM6),$AM6,\nIF(AND(AQ6<>$AN6,AS6<>$AN6,AR6<>$AN6),$AN6,\nIF(AND(AQ6<>$AO6,AS6<>$AO6,AR6<>$AO6),$AO6,\n\"\")))))))))))","v":""},{"$f":"IF(AT6=\"\",\"\",\nIF(AND(AQ6<>$AF6,AR6<>$AF6,AT6<>$AF6,AS6<>$AF6),$AF6,\nIF(AND(AQ6<>$AG6,AR6<>$AG6,AT6<>$AG6,AS6<>$AG6),$AG6,\nIF(AND(AQ6<>$AH6,AR6<>$AH6,AT6<>$AH6,AS6<>$AH6),$AH6,\nIF(AND(AQ6<>$AI6,AR6<>$AI6,AT6<>$AI6,AS6<>$AI6),$AI6,\nIF(AND(AQ6<>$AJ6,AR6<>$AJ6,AT6<>$AJ6,AS6<>$AJ6),$AJ6,\nIF(AND(AQ6<>$AK6,AR6<>$AK6,AT6<>$AK6,AS6<>$AK6),$AK6,\nIF(AND(AQ6<>$AL6,AR6<>$AL6,AT6<>$AL6,AS6<>$AL6),$AL6,\nIF(AND(AQ6<>$AM6,AR6<>$AM6,AT6<>$AM6,AS6<>$AM6),$AM6,\nIF(AND(AQ6<>$AN6,AR6<>$AN6,AT6<>$AN6,AS6<>$AN6),$AN6,\nIF(AND(AQ6<>$AO6,AR6<>$AO6,AT6<>$AO6,AS6<>$AO6),$AO6,\n\"\")))))))))))","v":""},{"$f":"IF(AU6=\"\",\"\",\nIF(AND(AQ6<>$AF6,AR6<>$AF6,AS6<>$AF6,AU6<>$AF6,AT6<>$AF6),$AF6,\nIF(AND(AQ6<>$AG6,AR6<>$AG6,AS6<>$AG6,AU6<>$AG6,AT6<>$AG6),$AG6,\nIF(AND(AQ6<>$AH6,AR6<>$AH6,AS6<>$AH6,AU6<>$AH6,AT6<>$AH6),$AH6,\nIF(AND(AQ6<>$AI6,AR6<>$AI6,AS6<>$AI6,AU6<>$AI6,AT6<>$AI6),$AI6,\nIF(AND(AQ6<>$AJ6,AR6<>$AJ6,AS6<>$AJ6,AU6<>$AJ6,AT6<>$AJ6),$AJ6,\nIF(AND(AQ6<>$AK6,AR6<>$AK6,AS6<>$AK6,AU6<>$AK6,AT6<>$AK6),$AK6,\nIF(AND(AQ6<>$AL6,AR6<>$AL6,AS6<>$AL6,AU6<>$AL6,AT6<>$AL6),$AL6,\nIF(AND(AQ6<>$AM6,AR6<>$AM6,AS6<>$AM6,AU6<>$AM6,AT6<>$AM6),$AM6,\nIF(AND(AQ6<>$AN6,AR6<>$AN6,AS6<>$AN6,AU6<>$AN6,AT6<>$AN6),$AN6,\nIF(AND(AQ6<>$AO6,AR6<>$AO6,AS6<>$AO6,AU6<>$AO6,AT6<>$AO6),$AO6,\n\"\")))))))))))","v":""},{"$f":"IF(AV6=\"\",\"\",\nIF(AND(AQ6<>$AF6,AR6<>$AF6,AS6<>$AF6,AT6<>$AF6,AV6<>$AF6,AU6<>$AF6),$AF6,\nIF(AND(AQ6<>$AG6,AR6<>$AG6,AS6<>$AG6,AT6<>$AG6,AV6<>$AG6,AU6<>$AG6),$AG6,\nIF(AND(AQ6<>$AH6,AR6<>$AH6,AS6<>$AH6,AT6<>$AH6,AV6<>$AH6,AU6<>$AH6),$AH6,\nIF(AND(AQ6<>$AI6,AR6<>$AI6,AS6<>$AI6,AT6<>$AI6,AV6<>$AI6,AU6<>$AI6),$AI6,\nIF(AND(AQ6<>$AJ6,AR6<>$AJ6,AS6<>$AJ6,AT6<>$AJ6,AV6<>$AJ6,AU6<>$AJ6),$AJ6,\nIF(AND(AQ6<>$AK6,AR6<>$AK6,AS6<>$AK6,AT6<>$AK6,AV6<>$AK6,AU6<>$AK6),$AK6,\nIF(AND(AQ6<>$AL6,AR6<>$AL6,AS6<>$AL6,AT6<>$AL6,AV6<>$AL6,AU6<>$AL6),$AL6,\nIF(AND(AQ6<>$AM6,AR6<>$AM6,AS6<>$AM6,AT6<>$AM6,AV6<>$AM6,AU6<>$AM6),$AM6,\nIF(AND(AQ6<>$AN6,AR6<>$AN6,AS6<>$AN6,AT6<>$AN6,AV6<>$AN6,AU6<>$AN6),$AN6,\nIF(AND(AQ6<>$AO6,AR6<>$AO6,AS6<>$AO6,AT6<>$AO6,AV6<>$AO6,AU6<>$AO6),$AO6,\n\"\")))))))))))","v":""},{"$f":"IF(AW6=\"\",\"\",\nIF(AND(AQ6<>$AF6,AR6<>$AF6,AS6<>$AF6,AT6<>$AF6,AU6<>$AF6,AW6<>$AF6,AV6<>$AF6),$AF6,\nIF(AND(AQ6<>$AG6,AR6<>$AG6,AS6<>$AG6,AT6<>$AG6,AU6<>$AG6,AW6<>$AG6,AV6<>$AG6),$AG6,\nIF(AND(AQ6<>$AH6,AR6<>$AH6,AS6<>$AH6,AT6<>$AH6,AU6<>$AH6,AW6<>$AH6,AV6<>$AH6),$AH6,\nIF(AND(AQ6<>$AI6,AR6<>$AI6,AS6<>$AI6,AT6<>$AI6,AU6<>$AI6,AW6<>$AI6,AV6<>$AI6),$AI6,\nIF(AND(AQ6<>$AJ6,AR6<>$AJ6,AS6<>$AJ6,AT6<>$AJ6,AU6<>$AJ6,AW6<>$AJ6,AV6<>$AJ6),$AJ6,\nIF(AND(AQ6<>$AK6,AR6<>$AK6,AS6<>$AK6,AT6<>$AK6,AU6<>$AK6,AW6<>$AK6,AV6<>$AK6),$AK6,\nIF(AND(AQ6<>$AL6,AR6<>$AL6,AS6<>$AL6,AT6<>$AL6,AU6<>$AL6,AW6<>$AL6,AV6<>$AL6),$AL6,\nIF(AND(AQ6<>$AM6,AR6<>$AM6,AS6<>$AM6,AT6<>$AM6,AU6<>$AM6,AW6<>$AM6,AV6<>$AM6),$AM6,\nIF(AND(AQ6<>$AN6,AR6<>$AN6,AS6<>$AN6,AT6<>$AN6,AU6<>$AN6,AW6<>$AN6,AV6<>$AN6),$AN6,\nIF(AND(AQ6<>$AO6,AR6<>$AO6,AS6<>$AO6,AT6<>$AO6,AU6<>$AO6,AW6<>$AO6,AV6<>$AO6),$AO6,\n\"\")))))))))))","v":""},{"$f":"IF(AX6=\"\",\"\",\nIF(AND(AQ6<>$AF6,AR6<>$AF6,AS6<>$AF6,AT6<>$AF6,AU6<>$AF6,AV6<>$AF6,AX6<>$AF6,AW6<>$AF6),$AF6,\nIF(AND(AQ6<>$AG6,AR6<>$AG6,AS6<>$AG6,AT6<>$AG6,AU6<>$AG6,AV6<>$AG6,AX6<>$AG6,AW6<>$AG6),$AG6,\nIF(AND(AQ6<>$AH6,AR6<>$AH6,AS6<>$AH6,AT6<>$AH6,AU6<>$AH6,AV6<>$AH6,AX6<>$AH6,AW6<>$AH6),$AH6,\nIF(AND(AQ6<>$AI6,AR6<>$AI6,AS6<>$AI6,AT6<>$AI6,AU6<>$AI6,AV6<>$AI6,AX6<>$AI6,AW6<>$AI6),$AI6,\nIF(AND(AQ6<>$AJ6,AR6<>$AJ6,AS6<>$AJ6,AT6<>$AJ6,AU6<>$AJ6,AV6<>$AJ6,AX6<>$AJ6,AW6<>$AJ6),$AJ6,\nIF(AND(AQ6<>$AK6,AR6<>$AK6,AS6<>$AK6,AT6<>$AK6,AU6<>$AK6,AV6<>$AK6,AX6<>$AK6,AW6<>$AK6),$AK6,\nIF(AND(AQ6<>$AL6,AR6<>$AL6,AS6<>$AL6,AT6<>$AL6,AU6<>$AL6,AV6<>$AL6,AX6<>$AL6,AW6<>$AL6),$AL6,\nIF(AND(AQ6<>$AM6,AR6<>$AM6,AS6<>$AM6,AT6<>$AM6,AU6<>$AM6,AV6<>$AM6,AX6<>$AM6,AW6<>$AM6),$AM6,\nIF(AND(AQ6<>$AN6,AR6<>$AN6,AS6<>$AN6,AT6<>$AN6,AU6<>$AN6,AV6<>$AN6,AX6<>$AN6,AW6<>$AN6),$AN6,\nIF(AND(AQ6<>$AO6,AR6<>$AO6,AS6<>$AO6,AT6<>$AO6,AU6<>$AO6,AV6<>$AO6,AX6<>$AO6,AW6<>$AO6),$AO6,\n\"\")))))))))))","v":""},{"$f":"IF(AY6=\"\",\"\",\nIF(AND(AQ6<>$AF6,AR6<>$AF6,AS6<>$AF6,AT6<>$AF6,AU6<>$AF6,AV6<>$AF6,AW6<>$AF6,AY6<>$AF6,AX6<>$AF6),$AF6,\nIF(AND(AQ6<>$AG6,AR6<>$AG6,AS6<>$AG6,AT6<>$AG6,AU6<>$AG6,AV6<>$AG6,AW6<>$AG6,AY6<>$AG6,AX6<>$AG6),$AG6,\nIF(AND(AQ6<>$AH6,AR6<>$AH6,AS6<>$AH6,AT6<>$AH6,AU6<>$AH6,AV6<>$AH6,AW6<>$AH6,AY6<>$AH6,AX6<>$AH6),$AH6,\nIF(AND(AQ6<>$AI6,AR6<>$AI6,AS6<>$AI6,AT6<>$AI6,AU6<>$AI6,AV6<>$AI6,AW6<>$AI6,AY6<>$AI6,AX6<>$AI6),$AI6,\nIF(AND(AQ6<>$AJ6,AR6<>$AJ6,AS6<>$AJ6,AT6<>$AJ6,AU6<>$AJ6,AV6<>$AJ6,AW6<>$AJ6,AY6<>$AJ6,AX6<>$AJ6),$AJ6,\nIF(AND(AQ6<>$AK6,AR6<>$AK6,AS6<>$AK6,AT6<>$AK6,AU6<>$AK6,AV6<>$AK6,AW6<>$AK6,AY6<>$AK6,AX6<>$AK6),$AK6,\nIF(AND(AQ6<>$AL6,AR6<>$AL6,AS6<>$AL6,AT6<>$AL6,AU6<>$AL6,AV6<>$AL6,AW6<>$AL6,AY6<>$AL6,AX6<>$AL6),$AL6,\nIF(AND(AQ6<>$AM6,AR6<>$AM6,AS6<>$AM6,AT6<>$AM6,AU6<>$AM6,AV6<>$AM6,AW6<>$AM6,AY6<>$AM6,AX6<>$AM6),$AM6,\nIF(AND(AQ6<>$AN6,AR6<>$AN6,AS6<>$AN6,AT6<>$AN6,AU6<>$AN6,AV6<>$AN6,AW6<>$AN6,AY6<>$AN6,AX6<>$AN6),$AN6,\nIF(AND(AQ6<>$AO6,AR6<>$AO6,AS6<>$AO6,AT6<>$AO6,AU6<>$AO6,AV6<>$AO6,AW6<>$AO6,AY6<>$AO6,AX6<>$AO6),$AO6,\n\"\")))))))))))","v":""}]
[null,{"$f":"IF(E7=\"\",0,1)","v":1},0,null,{"$f":"IF(M6<>\"\",M6,\"\")","v":"Eigenschaften: \nQuerschnitt\n6mm2\nPur- Kabel"}]
[null,{"$f":"IF(L8=\"x\",1,IF(ISNUMBER(L8),L8,0))","v":0},0,{"$f":"I8","v":"511.000"},{"$f":"J8 & IF(M8<>\"\",CHAR(10) & M8,\"\")","v":"Aussenkabel (Installation im Freien)"},{"$f":"IF(C8=1,K8,\"\")","v":""},null,null,"511.000","Aussenkabel (Installation im Freien)","lfm",null,null,null,null,null,null,null,null,"E500_AC_Leitungen",null,null,"x",null,null,null,null,null,null,"x",null,{"$f":"\nIF(U8=\"x\",U$4,\nIF(V8=\"x\",V$4,\nIF(W8=\"x\",W$4,\nIF(X8=\"x\",X$4,\nIF(Y8=\"x\",Y$4,\nIF(Z8=\"x\",Z$4,\nIF(AA8=\"x\",AA$4,\nIF(AB8=\"x\",AB$4,\nIF(AC8=\"x\",AC$4,\nIF(AD8=\"x\",AD$4,\n\"\"))))))))))","v":"lfm"},{"$f":"\nIF(V8=\"x\",V$4,\nIF(W8=\"x\",W$4,\nIF(X8=\"x\",X$4,\nIF(Y8=\"x\",Y$4,\nIF(Z8=\"x\",Z$4,\nIF(AA8=\"x\",AA$4,\nIF(AB8=\"x\",AB$4,\nIF(AC8=\"x\",AC$4,\nIF(AD8=\"x\",AD$4,\n\"\")))))))))","v":"lfm"},{"$f":"\nIF(W8=\"x\",W$4,\nIF(X8=\"x\",X$4,\nIF(Y8=\"x\",Y$4,\nIF(Z8=\"x\",Z$4,\nIF(AA8=\"x\",AA$4,\nIF(AB8=\"x\",AB$4,\nIF(AC8=\"x\",AC$4,\nIF(AD8=\"x\",AD$4,\n\"\"))))))))","v":"lfm"},{"$f":"\nIF(X8=\"x\",X$4,\nIF(Y8=\"x\",Y$4,\nIF(Z8=\"x\",Z$4,\nIF(AA8=\"x\",AA$4,\nIF(AB8=\"x\",AB$4,\nIF(AC8=\"x\",AC$4,\nIF(AD8=\"x\",AD$4,\n\"\")))))))","v":"pau"},{"$f":"\nIF(Y8=\"x\",Y$4,\nIF(Z8=\"x\",Z$4,\nIF(AA8=\"x\",AA$4,\nIF(AB8=\"x\",AB$4,\nIF(AC8=\"x\",AC$4,\nIF(AD8=\"x\",AD$4,\n\"\"))))))","v":"pau"},{"$f":"\nIF(Z8=\"x\",Z$4,\nIF(AA8=\"x\",AA$4,\nIF(AB8=\"x\",AB$4,\nIF(AC8=\"x\",AC$4,\nIF(AD8=\"x\",AD$4,\n\"\")))))","v":"pau"},{"$f":"\nIF(AA8=\"x\",AA$4,\nIF(AB8=\"x\",AB$4,\nIF(AC8=\"x\",AC$4,\nIF(AD8=\"x\",AD$4,\n\"\"))))","v":"pau"},{"$f":"\nIF(AB8=\"x\",AB$4,\nIF(AC8=\"x\",AC$4,\nIF(AD8=\"x\",AD$4,\n\"\")))","v":"pau"},{"$f":"\nIF(AC8=\"x\",AC$4,\nIF(AD8=\"x\",AD$4,\n\"\"))","v":"pau"},{"$f":"\nIF(AD8=\"x\",AD$4,\n\"\")","v":"pau"},null,{"$f":"AF8","v":"lfm"},"pau",{"$f":"IF(AR8=\"\",\"\",\nIF(AND(AR8<>$AF8,AQ8<>$AF8),$AF8,\nIF(AND(AR8<>$AG8,AQ8<>$AG8),$AG8,\nIF(AND(AR8<>$AH8,AQ8<>$AH8),$AH8,\nIF(AND(AR8<>$AI8,AQ8<>$AI8),$AI8,\nIF(AND(AR8<>$AJ8,AQ8<>$AJ8),$AJ8,\nIF(AND(AR8<>$AK8,AQ8<>$AK8),$AK8,\nIF(AND(AR8<>$AL8,AQ8<>$AL8),$AL8,\nIF(AND(AR8<>$AM8,AQ8<>$AM8),$AM8,\nIF(AND(AR8<>$AN8,AQ8<>$AN8),$AN8,\nIF(AND(AR8<>$AO8,AQ8<>$AO8),$AO8,\n\"\")))))))))))","v":""},{"$f":"IF(AS8=\"\",\"\",\nIF(AND(AQ8<>$AF8,AS8<>$AF8,AR8<>$AF8),$AF8,\nIF(AND(AQ8<>$AG8,AS8<>$AG8,AR8<>$AG8),$AG8,\nIF(AND(AQ8<>$AH8,AS8<>$AH8,AR8<>$AH8),$AH8,\nIF(AND(AQ8<>$AI8,AS8<>$AI8,AR8<>$AI8),$AI8,\nIF(AND(AQ8<>$AJ8,AS8<>$AJ8,AR8<>$AJ8),$AJ8,\nIF(AND(AQ8<>$AK8,AS8<>$AK8,AR8<>$AK8),$AK8,\nIF(AND(AQ8<>$AL8,AS8<>$AL8,AR8<>$AL8),$AL8,\nIF(AND(AQ8<>$AM8,AS8<>$AM8,AR8<>$AM8),$AM8,\nIF(AND(AQ8<>$AN8,AS8<>$AN8,AR8<>$AN8),$AN8,\nIF(AND(AQ8<>$AO8,AS8<>$AO8,AR8<>$AO8),$AO8,\n\"\")))))))))))","v":""},{"$f":"IF(AT8=\"\",\"\",\nIF(AND(AQ8<>$AF8,AR8<>$AF8,AT8<>$AF8,AS8<>$AF8),$AF8,\nIF(AND(AQ8<>$AG8,AR8<>$AG8,AT8<>$AG8,AS8<>$AG8),$AG8,\nIF(AND(AQ8<>$AH8,AR8<>$AH8,AT8<>$AH8,AS8<>$AH8),$AH8,\nIF(AND(AQ8<>$AI8,AR8<>$AI8,AT8<>$AI8,AS8<>$AI8),$AI8,\nIF(AND(AQ8<>$AJ8,AR8<>$AJ8,AT8<>$AJ8,AS8<>$AJ8),$AJ8,\nIF(AND(AQ8<>$AK8,AR8<>$AK8,AT8<>$AK8,AS8<>$AK8),$AK8,\nIF(AND(AQ8<>$AL8,AR8<>$AL8,AT8<>$AL8,AS8<>$AL8),$AL8,\nIF(AND(AQ8<>$AM8,AR8<>$AM8,AT8<>$AM8,AS8<>$AM8),$AM8,\nIF(AND(AQ8<>$AN8,AR8<>$AN8,AT8<>$AN8,AS8<>$AN8),$AN8,\nIF(AND(AQ8<>$AO8,AR8<>$AO8,AT8<>$AO8,AS8<>$AO8),$AO8,\n\"\")))))))))))","v":""},{"$f":"IF(AU8=\"\",\"\",\nIF(AND(AQ8<>$AF8,AR8<>$AF8,AS8<>$AF8,AU8<>$AF8,AT8<>$AF8),$AF8,\nIF(AND(AQ8<>$AG8,AR8<>$AG8,AS8<>$AG8,AU8<>$AG8,AT8<>$AG8),$AG8,\nIF(AND(AQ8<>$AH8,AR8<>$AH8,AS8<>$AH8,AU8<>$AH8,AT8<>$AH8),$AH8,\nIF(AND(AQ8<>$AI8,AR8<>$AI8,AS8<>$AI8,AU8<>$AI8,AT8<>$AI8),$AI8,\nIF(AND(AQ8<>$AJ8,AR8<>$AJ8,AS8<>$AJ8,AU8<>$AJ8,AT8<>$AJ8),$AJ8,\nIF(AND(AQ8<>$AK8,AR8<>$AK8,AS8<>$AK8,AU8<>$AK8,AT8<>$AK8),$AK8,\nIF(AND(AQ8<>$AL8,AR8<>$AL8,AS8<>$AL8,AU8<>$AL8,AT8<>$AL8),$AL8,\nIF(AND(AQ8<>$AM8,AR8<>$AM8,AS8<>$AM8,AU8<>$AM8,AT8<>$AM8),$AM8,\nIF(AND(AQ8<>$AN8,AR8<>$AN8,AS8<>$AN8,AU8<>$AN8,AT8<>$AN8),$AN8,\nIF(AND(AQ8<>$AO8,AR8<>$AO8,AS8<>$AO8,AU8<>$AO8,AT8<>$AO8),$AO8,\n\"\")))))))))))","v":""},{"$f":"IF(AV8=\"\",\"\",\nIF(AND(AQ8<>$AF8,AR8<>$AF8,AS8<>$AF8,AT8<>$AF8,AV8<>$AF8,AU8<>$AF8),$AF8,\nIF(AND(AQ8<>$AG8,AR8<>$AG8,AS8<>$AG8,AT8<>$AG8,AV8<>$AG8,AU8<>$AG8),$AG8,\nIF(AND(AQ8<>$AH8,AR8<>$AH8,AS8<>$AH8,AT8<>$AH8,AV8<>$AH8,AU8<>$AH8),$AH8,\nIF(AND(AQ8<>$AI8,AR8<>$AI8,AS8<>$AI8,AT8<>$AI8,AV8<>$AI8,AU8<>$AI8),$AI8,\nIF(AND(AQ8<>$AJ8,AR8<>$AJ8,AS8<>$AJ8,AT8<>$AJ8,AV8<>$AJ8,AU8<>$AJ8),$AJ8,\nIF(AND(AQ8<>$AK8,AR8<>$AK8,AS8<>$AK8,AT8<>$AK8,AV8<>$AK8,AU8<>$AK8),$AK8,\nIF(AND(AQ8<>$AL8,AR8<>$AL8,AS8<>$AL8,AT8<>$AL8,AV8<>$AL8,AU8<>$AL8),$AL8,\nIF(AND(AQ8<>$AM8,AR8<>$AM8,AS8<>$AM8,AT8<>$AM8,AV8<>$AM8,AU8<>$AM8),$AM8,\nIF(AND(AQ8<>$AN8,AR8<>$AN8,AS8<>$AN8,AT8<>$AN8,AV8<>$AN8,AU8<>$AN8),$AN8,\nIF(AND(AQ8<>$AO8,AR8<>$AO8,AS8<>$AO8,AT8<>$AO8,AV8<>$AO8,AU8<>$AO8),$AO8,\n\"\")))))))))))","v":""},{"$f":"IF(AW8=\"\",\"\",\nIF(AND(AQ8<>$AF8,AR8<>$AF8,AS8<>$AF8,AT8<>$AF8,AU8<>$AF8,AW8<>$AF8,AV8<>$AF8),$AF8,\nIF(AND(AQ8<>$AG8,AR8<>$AG8,AS8<>$AG8,AT8<>$AG8,AU8<>$AG8,AW8<>$AG8,AV8<>$AG8),$AG8,\nIF(AND(AQ8<>$AH8,AR8<>$AH8,AS8<>$AH8,AT8<>$AH8,AU8<>$AH8,AW8<>$AH8,AV8<>$AH8),$AH8,\nIF(AND(AQ8<>$AI8,AR8<>$AI8,AS8<>$AI8,AT8<>$AI8,AU8<>$AI8,AW8<>$AI8,AV8<>$AI8),$AI8,\nIF(AND(AQ8<>$AJ8,AR8<>$AJ8,AS8<>$AJ8,AT8<>$AJ8,AU8<>$AJ8,AW8<>$AJ8,AV8<>$AJ8),$AJ8,\nIF(AND(AQ8<>$AK8,AR8<>$AK8,AS8<>$AK8,AT8<>$AK8,AU8<>$AK8,AW8<>$AK8,AV8<>$AK8),$AK8,\nIF(AND(AQ8<>$AL8,AR8<>$AL8,AS8<>$AL8,AT8<>$AL8,AU8<>$AL8,AW8<>$AL8,AV8<>$AL8),$AL8,\nIF(AND(AQ8<>$AM8,AR8<>$AM8,AS8<>$AM8,AT8<>$AM8,AU8<>$AM8,AW8<>$AM8,AV8<>$AM8),$AM8,\nIF(AND(AQ8<>$AN8,AR8<>$AN8,AS8<>$AN8,AT8<>$AN8,AU8<>$AN8,AW8<>$AN8,AV8<>$AN8),$AN8,\nIF(AND(AQ8<>$AO8,AR8<>$AO8,AS8<>$AO8,AT8<>$AO8,AU8<>$AO8,AW8<>$AO8,AV8<>$AO8),$AO8,\n\"\")))))))))))","v":""},{"$f":"IF(AX8=\"\",\"\",\nIF(AND(AQ8<>$AF8,AR8<>$AF8,AS8<>$AF8,AT8<>$AF8,AU8<>$AF8,AV8<>$AF8,AX8<>$AF8,AW8<>$AF8),$AF8,\nIF(AND(AQ8<>$AG8,AR8<>$AG8,AS8<>$AG8,AT8<>$AG8,AU8<>$AG8,AV8<>$AG8,AX8<>$AG8,AW8<>$AG8),$AG8,\nIF(AND(AQ8<>$AH8,AR8<>$AH8,AS8<>$AH8,AT8<>$AH8,AU8<>$AH8,AV8<>$AH8,AX8<>$AH8,AW8<>$AH8),$AH8,\nIF(AND(AQ8<>$AI8,AR8<>$AI8,AS8<>$AI8,AT8<>$AI8,AU8<>$AI8,AV8<>$AI8,AX8<>$AI8,AW8<>$AI8),$AI8,\nIF(AND(AQ8<>$AJ8,AR8<>$AJ8,AS8<>$AJ8,AT8<>$AJ8,AU8<>$AJ8,AV8<>$AJ8,AX8<>$AJ8,AW8<>$AJ8),$AJ8,\nIF(AND(AQ8<>$AK8,AR8<>$AK8,AS8<>$AK8,AT8<>$AK8,AU8<>$AK8,AV8<>$AK8,AX8<>$AK8,AW8<>$AK8),$AK8,\nIF(AND(AQ8<>$AL8,AR8<>$AL8,AS8<>$AL8,AT8<>$AL8,AU8<>$AL8,AV8<>$AL8,AX8<>$AL8,AW8<>$AL8),$AL8,\nIF(AND(AQ8<>$AM8,AR8<>$AM8,AS8<>$AM8,AT8<>$AM8,AU8<>$AM8,AV8<>$AM8,AX8<>$AM8,AW8<>$AM8),$AM8,\nIF(AND(AQ8<>$AN8,AR8<>$AN8,AS8<>$AN8,AT8<>$AN8,AU8<>$AN8,AV8<>$AN8,AX8<>$AN8,AW8<>$AN8),$AN8,\nIF(AND(AQ8<>$AO8,AR8<>$AO8,AS8<>$AO8,AT8<>$AO8,AU8<>$AO8,AV8<>$AO8,AX8<>$AO8,AW8<>$AO8),$AO8,\n\"\")))))))))))","v":""},{"$f":"IF(AY8=\"\",\"\",\nIF(AND(AQ8<>$AF8,AR8<>$AF8,AS8<>$AF8,AT8<>$AF8,AU8<>$AF8,AV8<>$AF8,AW8<>$AF8,AY8<>$AF8,AX8<>$AF8),$AF8,\nIF(AND(AQ8<>$AG8,AR8<>$AG8,AS8<>$AG8,AT8<>$AG8,AU8<>$AG8,AV8<>$AG8,AW8<>$AG8,AY8<>$AG8,AX8<>$AG8),$AG8,\nIF(AND(AQ8<>$AH8,AR8<>$AH8,AS8<>$AH8,AT8<>$AH8,AU8<>$AH8,AV8<>$AH8,AW8<>$AH8,AY8<>$AH8,AX8<>$AH8),$AH8,\nIF(AND(AQ8<>$AI8,AR8<>$AI8,AS8<>$AI8,AT8<>$AI8,AU8<>$AI8,AV8<>$AI8,AW8<>$AI8,AY8<>$AI8,AX8<>$AI8),$AI8,\nIF(AND(AQ8<>$AJ8,AR8<>$AJ8,AS8<>$AJ8,AT8<>$AJ8,AU8<>$AJ8,AV8<>$AJ8,AW8<>$AJ8,AY8<>$AJ8,AX8<>$AJ8),$AJ8,\nIF(AND(AQ8<>$AK8,AR8<>$AK8,AS8<>$AK8,AT8<>$AK8,AU8<>$AK8,AV8<>$AK8,AW8<>$AK8,AY8<>$AK8,AX8<>$AK8),$AK8,\nIF(AND(AQ8<>$AL8,AR8<>$AL8,AS8<>$AL8,AT8<>$AL8,AU8<>$AL8,AV8<>$AL8,AW8<>$AL8,AY8<>$AL8,AX8<>$AL8),$AL8,\nIF(AND(AQ8<>$AM8,AR8<>$AM8,AS8<>$AM8,AT8<>$AM8,AU8<>$AM8,AV8<>$AM8,AW8<>$AM8,AY8<>$AM8,AX8<>$AM8),$AM8,\nIF(AND(AQ8<>$AN8,AR8<>$AN8,AS8<>$AN8,AT8<>$AN8,AU8<>$AN8,AV8<>$AN8,AW8<>$AN8,AY8<>$AN8,AX8<>$AN8),$AN8,\nIF(AND(AQ8<>$AO8,AR8<>$AO8,AS8<>$AO8,AT8<>$AO8,AU8<>$AO8,AV8<>$AO8,AW8<>$AO8,AY8<>$AO8,AX8<>$AO8),$AO8,\n\"\")))))))))))","v":""}]
[null,{"$f":"IF(L9=\"x\",1,IF(ISNUMBER(L9),L9,0))","v":0},0,{"$f":"I9","v":"512.000"},{"$f":"J9 & IF(M9<>\"\",CHAR(10) & M9,\"\")","v":"Innenleitung (Installation im Gebäude)"},"",null,null,"512.000","Innenleitung (Installation im Gebäude)","lfm",null,null,null,null,null,null,null,null,"E500_AC_Leitungen",null,null,"x",null,null,null,null,null,null,"x",null,{"$f":"\nIF(U9=\"x\",U$4,\nIF(V9=\"x\",V$4,\nIF(W9=\"x\",W$4,\nIF(X9=\"x\",X$4,\nIF(Y9=\"x\",Y$4,\nIF(Z9=\"x\",Z$4,\nIF(AA9=\"x\",AA$4,\nIF(AB9=\"x\",AB$4,\nIF(AC9=\"x\",AC$4,\nIF(AD9=\"x\",AD$4,\n\"\"))))))))))","v":"lfm"},{"$f":"\nIF(V9=\"x\",V$4,\nIF(W9=\"x\",W$4,\nIF(X9=\"x\",X$4,\nIF(Y9=\"x\",Y$4,\nIF(Z9=\"x\",Z$4,\nIF(AA9=\"x\",AA$4,\nIF(AB9=\"x\",AB$4,\nIF(AC9=\"x\",AC$4,\nIF(AD9=\"x\",AD$4,\n\"\")))))))))","v":"lfm"},{"$f":"\nIF(W9=\"x\",W$4,\nIF(X9=\"x\",X$4,\nIF(Y9=\"x\",Y$4,\nIF(Z9=\"x\",Z$4,\nIF(AA9=\"x\",AA$4,\nIF(AB9=\"x\",AB$4,\nIF(AC9=\"x\",AC$4,\nIF(AD9=\"x\",AD$4,\n\"\"))))))))","v":"lfm"},{"$f":"\nIF(X9=\"x\",X$4,\nIF(Y9=\"x\",Y$4,\nIF(Z9=\"x\",Z$4,\nIF(AA9=\"x\",AA$4,\nIF(AB9=\"x\",AB$4,\nIF(AC9=\"x\",AC$4,\nIF(AD9=\"x\",AD$4,\n\"\")))))))","v":"pau"},{"$f":"\nIF(Y9=\"x\",Y$4,\nIF(Z9=\"x\",Z$4,\nIF(AA9=\"x\",AA$4,\nIF(AB9=\"x\",AB$4,\nIF(AC9=\"x\",AC$4,\nIF(AD9=\"x\",AD$4,\n\"\"))))))","v":"pau"},{"$f":"\nIF(Z9=\"x\",Z$4,\nIF(AA9=\"x\",AA$4,\nIF(AB9=\"x\",AB$4,\nIF(AC9=\"x\",AC$4,\nIF(AD9=\"x\",AD$4,\n\"\")))))","v":"pau"},{"$f":"\nIF(AA9=\"x\",AA$4,\nIF(AB9=\"x\",AB$4,\nIF(AC9=\"x\",AC$4,\nIF(AD9=\"x\",AD$4,\n\"\"))))","v":"pau"},{"$f":"\nIF(AB9=\"x\",AB$4,\nIF(AC9=\"x\",AC$4,\nIF(AD9=\"x\",AD$4,\n\"\")))","v":"pau"},{"$f":"\nIF(AC9=\"x\",AC$4,\nIF(AD9=\"x\",AD$4,\n\"\"))","v":"pau"},{"$f":"\nIF(AD9=\"x\",AD$4,\n\"\")","v":"pau"},null,{"$f":"AF9","v":"lfm"},"pau",{"$f":"IF(AR9=\"\",\"\",\nIF(AND(AR9<>$AF9,AQ9<>$AF9),$AF9,\nIF(AND(AR9<>$AG9,AQ9<>$AG9),$AG9,\nIF(AND(AR9<>$AH9,AQ9<>$AH9),$AH9,\nIF(AND(AR9<>$AI9,AQ9<>$AI9),$AI9,\nIF(AND(AR9<>$AJ9,AQ9<>$AJ9),$AJ9,\nIF(AND(AR9<>$AK9,AQ9<>$AK9),$AK9,\nIF(AND(AR9<>$AL9,AQ9<>$AL9),$AL9,\nIF(AND(AR9<>$AM9,AQ9<>$AM9),$AM9,\nIF(AND(AR9<>$AN9,AQ9<>$AN9),$AN9,\nIF(AND(AR9<>$AO9,AQ9<>$AO9),$AO9,\n\"\")))))))))))","v":""},{"$f":"IF(AS9=\"\",\"\",\nIF(AND(AQ9<>$AF9,AS9<>$AF9,AR9<>$AF9),$AF9,\nIF(AND(AQ9<>$AG9,AS9<>$AG9,AR9<>$AG9),$AG9,\nIF(AND(AQ9<>$AH9,AS9<>$AH9,AR9<>$AH9),$AH9,\nIF(AND(AQ9<>$AI9,AS9<>$AI9,AR9<>$AI9),$AI9,\nIF(AND(AQ9<>$AJ9,AS9<>$AJ9,AR9<>$AJ9),$AJ9,\nIF(AND(AQ9<>$AK9,AS9<>$AK9,AR9<>$AK9),$AK9,\nIF(AND(AQ9<>$AL9,AS9<>$AL9,AR9<>$AL9),$AL9,\nIF(AND(AQ9<>$AM9,AS9<>$AM9,AR9<>$AM9),$AM9,\nIF(AND(AQ9<>$AN9,AS9<>$AN9,AR9<>$AN9),$AN9,\nIF(AND(AQ9<>$AO9,AS9<>$AO9,AR9<>$AO9),$AO9,\n\"\")))))))))))","v":""},{"$f":"IF(AT9=\"\",\"\",\nIF(AND(AQ9<>$AF9,AR9<>$AF9,AT9<>$AF9,AS9<>$AF9),$AF9,\nIF(AND(AQ9<>$AG9,AR9<>$AG9,AT9<>$AG9,AS9<>$AG9),$AG9,\nIF(AND(AQ9<>$AH9,AR9<>$AH9,AT9<>$AH9,AS9<>$AH9),$AH9,\nIF(AND(AQ9<>$AI9,AR9<>$AI9,AT9<>$AI9,AS9<>$AI9),$AI9,\nIF(AND(AQ9<>$AJ9,AR9<>$AJ9,AT9<>$AJ9,AS9<>$AJ9),$AJ9,\nIF(AND(AQ9<>$AK9,AR9<>$AK9,AT9<>$AK9,AS9<>$AK9),$AK9,\nIF(AND(AQ9<>$AL9,AR9<>$AL9,AT9<>$AL9,AS9<>$AL9),$AL9,\nIF(AND(AQ9<>$AM9,AR9<>$AM9,AT9<>$AM9,AS9<>$AM9),$AM9,\nIF(AND(AQ9<>$AN9,AR9<>$AN9,AT9<>$AN9,AS9<>$AN9),$AN9,\nIF(AND(AQ9<>$AO9,AR9<>$AO9,AT9<>$AO9,AS9<>$AO9),$AO9,\n\"\")))))))))))","v":""},{"$f":"IF(AU9=\"\",\"\",\nIF(AND(AQ9<>$AF9,AR9<>$AF9,AS9<>$AF9,AU9<>$AF9,AT9<>$AF9),$AF9,\nIF(AND(AQ9<>$AG9,AR9<>$AG9,AS9<>$AG9,AU9<>$AG9,AT9<>$AG9),$AG9,\nIF(AND(AQ9<>$AH9,AR9<>$AH9,AS9<>$AH9,AU9<>$AH9,AT9<>$AH9),$AH9,\nIF(AND(AQ9<>$AI9,AR9<>$AI9,AS9<>$AI9,AU9<>$AI9,AT9<>$AI9),$AI9,\nIF(AND(AQ9<>$AJ9,AR9<>$AJ9,AS9<>$AJ9,AU9<>$AJ9,AT9<>$AJ9),$AJ9,\nIF(AND(AQ9<>$AK9,AR9<>$AK9,AS9<>$AK9,AU9<>$AK9,AT9<>$AK9),$AK9,\nIF(AND(AQ9<>$AL9,AR9<>$AL9,AS9<>$AL9,AU9<>$AL9,AT9<>$AL9),$AL9,\nIF(AND(AQ9<>$AM9,AR9<>$AM9,AS9<>$AM9,AU9<>$AM9,AT9<>$AM9),$AM9,\nIF(AND(AQ9<>$AN9,AR9<>$AN9,AS9<>$AN9,AU9<>$AN9,AT9<>$AN9),$AN9,\nIF(AND(AQ9<>$AO9,AR9<>$AO9,AS9<>$AO9,AU9<>$AO9,AT9<>$AO9),$AO9,\n\"\")))))))))))","v":""},{"$f":"IF(AV9=\"\",\"\",\nIF(AND(AQ9<>$AF9,AR9<>$AF9,AS9<>$AF9,AT9<>$AF9,AV9<>$AF9,AU9<>$AF9),$AF9,\nIF(AND(AQ9<>$AG9,AR9<>$AG9,AS9<>$AG9,AT9<>$AG9,AV9<>$AG9,AU9<>$AG9),$AG9,\nIF(AND(AQ9<>$AH9,AR9<>$AH9,AS9<>$AH9,AT9<>$AH9,AV9<>$AH9,AU9<>$AH9),$AH9,\nIF(AND(AQ9<>$AI9,AR9<>$AI9,AS9<>$AI9,AT9<>$AI9,AV9<>$AI9,AU9<>$AI9),$AI9,\nIF(AND(AQ9<>$AJ9,AR9<>$AJ9,AS9<>$AJ9,AT9<>$AJ9,AV9<>$AJ9,AU9<>$AJ9),$AJ9,\nIF(AND(AQ9<>$AK9,AR9<>$AK9,AS9<>$AK9,AT9<>$AK9,AV9<>$AK9,AU9<>$AK9),$AK9,\nIF(AND(AQ9<>$AL9,AR9<>$AL9,AS9<>$AL9,AT9<>$AL9,AV9<>$AL9,AU9<>$AL9),$AL9,\nIF(AND(AQ9<>$AM9,AR9<>$AM9,AS9<>$AM9,AT9<>$AM9,AV9<>$AM9,AU9<>$AM9),$AM9,\nIF(AND(AQ9<>$AN9,AR9<>$AN9,AS9<>$AN9,AT9<>$AN9,AV9<>$AN9,AU9<>$AN9),$AN9,\nIF(AND(AQ9<>$AO9,AR9<>$AO9,AS9<>$AO9,AT9<>$AO9,AV9<>$AO9,AU9<>$AO9),$AO9,\n\"\")))))))))))","v":""},{"$f":"IF(AW9=\"\",\"\",\nIF(AND(AQ9<>$AF9,AR9<>$AF9,AS9<>$AF9,AT9<>$AF9,AU9<>$AF9,AW9<>$AF9,AV9<>$AF9),$AF9,\nIF(AND(AQ9<>$AG9,AR9<>$AG9,AS9<>$AG9,AT9<>$AG9,AU9<>$AG9,AW9<>$AG9,AV9<>$AG9),$AG9,\nIF(AND(AQ9<>$AH9,AR9<>$AH9,AS9<>$AH9,AT9<>$AH9,AU9<>$AH9,AW9<>$AH9,AV9<>$AH9),$AH9,\nIF(AND(AQ9<>$AI9,AR9<>$AI9,AS9<>$AI9,AT9<>$AI9,AU9<>$AI9,AW9<>$AI9,AV9<>$AI9),$AI9,\nIF(AND(AQ9<>$AJ9,AR9<>$AJ9,AS9<>$AJ9,AT9<>$AJ9,AU9<>$AJ9,AW9<>$AJ9,AV9<>$AJ9),$AJ9,\nIF(AND(AQ9<>$AK9,AR9<>$AK9,AS9<>$AK9,AT9<>$AK9,AU9<>$AK9,AW9<>$AK9,AV9<>$AK9),$AK9,\nIF(AND(AQ9<>$AL9,AR9<>$AL9,AS9<>$AL9,AT9<>$AL9,AU9<>$AL9,AW9<>$AL9,AV9<>$AL9),$AL9,\nIF(AND(AQ9<>$AM9,AR9<>$AM9,AS9<>$AM9,AT9<>$AM9,AU9<>$AM9,AW9<>$AM9,AV9<>$AM9),$AM9,\nIF(AND(AQ9<>$AN9,AR9<>$AN9,AS9<>$AN9,AT9<>$AN9,AU9<>$AN9,AW9<>$AN9,AV9<>$AN9),$AN9,\nIF(AND(AQ9<>$AO9,AR9<>$AO9,AS9<>$AO9,AT9<>$AO9,AU9<>$AO9,AW9<>$AO9,AV9<>$AO9),$AO9,\n\"\")))))))))))","v":""},{"$f":"IF(AX9=\"\",\"\",\nIF(AND(AQ9<>$AF9,AR9<>$AF9,AS9<>$AF9,AT9<>$AF9,AU9<>$AF9,AV9<>$AF9,AX9<>$AF9,AW9<>$AF9),$AF9,\nIF(AND(AQ9<>$AG9,AR9<>$AG9,AS9<>$AG9,AT9<>$AG9,AU9<>$AG9,AV9<>$AG9,AX9<>$AG9,AW9<>$AG9),$AG9,\nIF(AND(AQ9<>$AH9,AR9<>$AH9,AS9<>$AH9,AT9<>$AH9,AU9<>$AH9,AV9<>$AH9,AX9<>$AH9,AW9<>$AH9),$AH9,\nIF(AND(AQ9<>$AI9,AR9<>$AI9,AS9<>$AI9,AT9<>$AI9,AU9<>$AI9,AV9<>$AI9,AX9<>$AI9,AW9<>$AI9),$AI9,\nIF(AND(AQ9<>$AJ9,AR9<>$AJ9,AS9<>$AJ9,AT9<>$AJ9,AU9<>$AJ9,AV9<>$AJ9,AX9<>$AJ9,AW9<>$AJ9),$AJ9,\nIF(AND(AQ9<>$AK9,AR9<>$AK9,AS9<>$AK9,AT9<>$AK9,AU9<>$AK9,AV9<>$AK9,AX9<>$AK9,AW9<>$AK9),$AK9,\nIF(AND(AQ9<>$AL9,AR9<>$AL9,AS9<>$AL9,AT9<>$AL9,AU9<>$AL9,AV9<>$AL9,AX9<>$AL9,AW9<>$AL9),$AL9,\nIF(AND(AQ9<>$AM9,AR9<>$AM9,AS9<>$AM9,AT9<>$AM9,AU9<>$AM9,AV9<>$AM9,AX9<>$AM9,AW9<>$AM9),$AM9,\nIF(AND(AQ9<>$AN9,AR9<>$AN9,AS9<>$AN9,AT9<>$AN9,AU9<>$AN9,AV9<>$AN9,AX9<>$AN9,AW9<>$AN9),$AN9,\nIF(AND(AQ9<>$AO9,AR9<>$AO9,AS9<>$AO9,AT9<>$AO9,AU9<>$AO9,AV9<>$AO9,AX9<>$AO9,AW9<>$AO9),$AO9,\n\"\")))))))))))","v":""},{"$f":"IF(AY9=\"\",\"\",\nIF(AND(AQ9<>$AF9,AR9<>$AF9,AS9<>$AF9,AT9<>$AF9,AU9<>$AF9,AV9<>$AF9,AW9<>$AF9,AY9<>$AF9,AX9<>$AF9),$AF9,\nIF(AND(AQ9<>$AG9,AR9<>$AG9,AS9<>$AG9,AT9<>$AG9,AU9<>$AG9,AV9<>$AG9,AW9<>$AG9,AY9<>$AG9,AX9<>$AG9),$AG9,\nIF(AND(AQ9<>$AH9,AR9<>$AH9,AS9<>$AH9,AT9<>$AH9,AU9<>$AH9,AV9<>$AH9,AW9<>$AH9,AY9<>$AH9,AX9<>$AH9),$AH9,\nIF(AND(AQ9<>$AI9,AR9<>$AI9,AS9<>$AI9,AT9<>$AI9,AU9<>$AI9,AV9<>$AI9,AW9<>$AI9,AY9<>$AI9,AX9<>$AI9),$AI9,\nIF(AND(AQ9<>$AJ9,AR9<>$AJ9,AS9<>$AJ9,AT9<>$AJ9,AU9<>$AJ9,AV9<>$AJ9,AW9<>$AJ9,AY9<>$AJ9,AX9<>$AJ9),$AJ9,\nIF(AND(AQ9<>$AK9,AR9<>$AK9,AS9<>$AK9,AT9<>$AK9,AU9<>$AK9,AV9<>$AK9,AW9<>$AK9,AY9<>$AK9,AX9<>$AK9),$AK9,\nIF(AND(AQ9<>$AL9,AR9<>$AL9,AS9<>$AL9,AT9<>$AL9,AU9<>$AL9,AV9<>$AL9,AW9<>$AL9,AY9<>$AL9,AX9<>$AL9),$AL9,\nIF(AND(AQ9<>$AM9,AR9<>$AM9,AS9<>$AM9,AT9<>$AM9,AU9<>$AM9,AV9<>$AM9,AW9<>$AM9,AY9<>$AM9,AX9<>$AM9),$AM9,\nIF(AND(AQ9<>$AN9,AR9<>$AN9,AS9<>$AN9,AT9<>$AN9,AU9<>$AN9,AV9<>$AN9,AW9<>$AN9,AY9<>$AN9,AX9<>$AN9),$AN9,\nIF(AND(AQ9<>$AO9,AR9<>$AO9,AS9<>$AO9,AT9<>$AO9,AU9<>$AO9,AV9<>$AO9,AW9<>$AO9,AY9<>$AO9,AX9<>$AO9),$AO9,\n\"\")))))))))))","v":""}]
[null,{"$f":"IF(L10=\"x\",1,IF(ISNUMBER(L10),L10,0))","v":0},0,{"$f":"I10","v":"513.000"},"Erdkabel","",null,null,"513.000","Erdkabel","lfm",null,null,null,null,null,null,null,null,"E500_AC_Leitungen",null,null,"x",null,null,null,null,null,null,"x",null,"lfm","lfm","lfm","pau","pau","pau","pau","pau","pau","pau",null,"lfm","pau","","","","","","","",""]
[null,{"$f":"B6","v":1},0,null,null,"",null,null,null,null,null,null,null,null,null,null,null,null,null,null,null,null,null,null,null,null,null,null,null,null,null,"","","","","","","","","","",null,"","",{"$f":"IF(AR11=\"\",\"\",\nIF(AND(AR11<>$AF11,AQ11<>$AF11),$AF11,\nIF(AND(AR11<>$AG11,AQ11<>$AG11),$AG11,\nIF(AND(AR11<>$AH11,AQ11<>$AH11),$AH11,\nIF(AND(AR11<>$AI11,AQ11<>$AI11),$AI11,\nIF(AND(AR11<>$AJ11,AQ11<>$AJ11),$AJ11,\nIF(AND(AR11<>$AK11,AQ11<>$AK11),$AK11,\nIF(AND(AR11<>$AL11,AQ11<>$AL11),$AL11,\nIF(AND(AR11<>$AM11,AQ11<>$AM11),$AM11,\nIF(AND(AR11<>$AN11,AQ11<>$AN11),$AN11,\nIF(AND(AR11<>$AO11,AQ11<>$AO11),$AO11,\n\"\")))))))))))","v":""},{"$f":"IF(AS11=\"\",\"\",\nIF(AND(AQ11<>$AF11,AS11<>$AF11,AR11<>$AF11),$AF11,\nIF(AND(AQ11<>$AG11,AS11<>$AG11,AR11<>$AG11),$AG11,\nIF(AND(AQ11<>$AH11,AS11<>$AH11,AR11<>$AH11),$AH11,\nIF(AND(AQ11<>$AI11,AS11<>$AI11,AR11<>$AI11),$AI11,\nIF(AND(AQ11<>$AJ11,AS11<>$AJ11,AR11<>$AJ11),$AJ11,\nIF(AND(AQ11<>$AK11,AS11<>$AK11,AR11<>$AK11),$AK11,\nIF(AND(AQ11<>$AL11,AS11<>$AL11,AR11<>$AL11),$AL11,\nIF(AND(AQ11<>$AM11,AS11<>$AM11,AR11<>$AM11),$AM11,\nIF(AND(AQ11<>$AN11,AS11<>$AN11,AR11<>$AN11),$AN11,\nIF(AND(AQ11<>$AO11,AS11<>$AO11,AR11<>$AO11),$AO11,\n\"\")))))))))))","v":""},{"$f":"IF(AT11=\"\",\"\",\nIF(AND(AQ11<>$AF11,AR11<>$AF11,AT11<>$AF11,AS11<>$AF11),$AF11,\nIF(AND(AQ11<>$AG11,AR11<>$AG11,AT11<>$AG11,AS11<>$AG11),$AG11,\nIF(AND(AQ11<>$AH11,AR11<>$AH11,AT11<>$AH11,AS11<>$AH11),$AH11,\nIF(AND(AQ11<>$AI11,AR11<>$AI11,AT11<>$AI11,AS11<>$AI11),$AI11,\nIF(AND(AQ11<>$AJ11,AR11<>$AJ11,AT11<>$AJ11,AS11<>$AJ11),$AJ11,\nIF(AND(AQ11<>$AK11,AR11<>$AK11,AT11<>$AK11,AS11<>$AK11),$AK11,\nIF(AND(AQ11<>$AL11,AR11<>$AL11,AT11<>$AL11,AS11<>$AL11),$AL11,\nIF(AND(AQ11<>$AM11,AR11<>$AM11,AT11<>$AM11,AS11<>$AM11),$AM11,\nIF(AND(AQ11<>$AN11,AR11<>$AN11,AT11<>$AN11,AS11<>$AN11),$AN11,\nIF(AND(AQ11<>$AO11,AR11<>$AO11,AT11<>$AO11,AS11<>$AO11),$AO11,\n\"\")))))))))))","v":""},{"$f":"IF(AU11=\"\",\"\",\nIF(AND(AQ11<>$AF11,AR11<>$AF11,AS11<>$AF11,AU11<>$AF11,AT11<>$AF11),$AF11,\nIF(AND(AQ11<>$AG11,AR11<>$AG11,AS11<>$AG11,AU11<>$AG11,AT11<>$AG11),$AG11,\nIF(AND(AQ11<>$AH11,AR11<>$AH11,AS11<>$AH11,AU11<>$AH11,AT11<>$AH11),$AH11,\nIF(AND(AQ11<>$AI11,AR11<>$AI11,AS11<>$AI11,AU11<>$AI11,AT11<>$AI11),$AI11,\nIF(AND(AQ11<>$AJ11,AR11<>$AJ11,AS11<>$AJ11,AU11<>$AJ11,AT11<>$AJ11),$AJ11,\nIF(AND(AQ11<>$AK11,AR11<>$AK11,AS11<>$AK11,AU11<>$AK11,AT11<>$AK11),$AK11,\nIF(AND(AQ11<>$AL11,AR11<>$AL11,AS11<>$AL11,AU11<>$AL11,AT11<>$AL11),$AL11,\nIF(AND(AQ11<>$AM11,AR11<>$AM11,AS11<>$AM11,AU11<>$AM11,AT11<>$AM11),$AM11,\nIF(AND(AQ11<>$AN11,AR11<>$AN11,AS11<>$AN11,AU11<>$AN11,AT11<>$AN11),$AN11,\nIF(AND(AQ11<>$AO11,AR11<>$AO11,AS11<>$AO11,AU11<>$AO11,AT11<>$AO11),$AO11,\n\"\")))))))))))","v":""},{"$f":"IF(AV11=\"\",\"\",\nIF(AND(AQ11<>$AF11,AR11<>$AF11,AS11<>$AF11,AT11<>$AF11,AV11<>$AF11,AU11<>$AF11),$AF11,\nIF(AND(AQ11<>$AG11,AR11<>$AG11,AS11<>$AG11,AT11<>$AG11,AV11<>$AG11,AU11<>$AG11),$AG11,\nIF(AND(AQ11<>$AH11,AR11<>$AH11,AS11<>$AH11,AT11<>$AH11,AV11<>$AH11,AU11<>$AH11),$AH11,\nIF(AND(AQ11<>$AI11,AR11<>$AI11,AS11<>$AI11,AT11<>$AI11,AV11<>$AI11,AU11<>$AI11),$AI11,\nIF(AND(AQ11<>$AJ11,AR11<>$AJ11,AS11<>$AJ11,AT11<>$AJ11,AV11<>$AJ11,AU11<>$AJ11),$AJ11,\nIF(AND(AQ11<>$AK11,AR11<>$AK11,AS11<>$AK11,AT11<>$AK11,AV11<>$AK11,AU11<>$AK11),$AK11,\nIF(AND(AQ11<>$AL11,AR11<>$AL11,AS11<>$AL11,AT11<>$AL11,AV11<>$AL11,AU11<>$AL11),$AL11,\nIF(AND(AQ11<>$AM11,AR11<>$AM11,AS11<>$AM11,AT11<>$AM11,AV11<>$AM11,AU11<>$AM11),$AM11,\nIF(AND(AQ11<>$AN11,AR11<>$AN11,AS11<>$AN11,AT11<>$AN11,AV11<>$AN11,AU11<>$AN11),$AN11,\nIF(AND(AQ11<>$AO11,AR11<>$AO11,AS11<>$AO11,AT11<>$AO11,AV11<>$AO11,AU11<>$AO11),$AO11,\n\"\")))))))))))","v":""},{"$f":"IF(AW11=\"\",\"\",\nIF(AND(AQ11<>$AF11,AR11<>$AF11,AS11<>$AF11,AT11<>$AF11,AU11<>$AF11,AW11<>$AF11,AV11<>$AF11),$AF11,\nIF(AND(AQ11<>$AG11,AR11<>$AG11,AS11<>$AG11,AT11<>$AG11,AU11<>$AG11,AW11<>$AG11,AV11<>$AG11),$AG11,\nIF(AND(AQ11<>$AH11,AR11<>$AH11,AS11<>$AH11,AT11<>$AH11,AU11<>$AH11,AW11<>$AH11,AV11<>$AH11),$AH11,\nIF(AND(AQ11<>$AI11,AR11<>$AI11,AS11<>$AI11,AT11<>$AI11,AU11<>$AI11,AW11<>$AI11,AV11<>$AI11),$AI11,\nIF(AND(AQ11<>$AJ11,AR11<>$AJ11,AS11<>$AJ11,AT11<>$AJ11,AU11<>$AJ11,AW11<>$AJ11,AV11<>$AJ11),$AJ11,\nIF(AND(AQ11<>$AK11,AR11<>$AK11,AS11<>$AK11,AT11<>$AK11,AU11<>$AK11,AW11<>$AK11,AV11<>$AK11),$AK11,\nIF(AND(AQ11<>$AL11,AR11<>$AL11,AS11<>$AL11,AT11<>$AL11,AU11<>$AL11,AW11<>$AL11,AV11<>$AL11),$AL11,\nIF(AND(AQ11<>$AM11,AR11<>$AM11,AS11<>$AM11,AT11<>$AM11,AU11<>$AM11,AW11<>$AM11,AV11<>$AM11),$AM11,\nIF(AND(AQ11<>$AN11,AR11<>$AN11,AS11<>$AN11,AT11<>$AN11,AU11<>$AN11,AW11<>$AN11,AV11<>$AN11),$AN11,\nIF(AND(AQ11<>$AO11,AR11<>$AO11,AS11<>$AO11,AT11<>$AO11,AU11<>$AO11,AW11<>$AO11,AV11<>$AO11),$AO11,\n\"\")))))))))))","v":""},{"$f":"IF(AX11=\"\",\"\",\nIF(AND(AQ11<>$AF11,AR11<>$AF11,AS11<>$AF11,AT11<>$AF11,AU11<>$AF11,AV11<>$AF11,AX11<>$AF11,AW11<>$AF11),$AF11,\nIF(AND(AQ11<>$AG11,AR11<>$AG11,AS11<>$AG11,AT11<>$AG11,AU11<>$AG11,AV11<>$AG11,AX11<>$AG11,AW11<>$AG11),$AG11,\nIF(AND(AQ11<>$AH11,AR11<>$AH11,AS11<>$AH11,AT11<>$AH11,AU11<>$AH11,AV11<>$AH11,AX11<>$AH11,AW11<>$AH11),$AH11,\nIF(AND(AQ11<>$AI11,AR11<>$AI11,AS11<>$AI11,AT11<>$AI11,AU11<>$AI11,AV11<>$AI11,AX11<>$AI11,AW11<>$AI11),$AI11,\nIF(AND(AQ11<>$AJ11,AR11<>$AJ11,AS11<>$AJ11,AT11<>$AJ11,AU11<>$AJ11,AV11<>$AJ11,AX11<>$AJ11,AW11<>$AJ11),$AJ11,\nIF(AND(AQ11<>$AK11,AR11<>$AK11,AS11<>$AK11,AT11<>$AK11,AU11<>$AK11,AV11<>$AK11,AX11<>$AK11,AW11<>$AK11),$AK11,\nIF(AND(AQ11<>$AL11,AR11<>$AL11,AS11<>$AL11,AT11<>$AL11,AU11<>$AL11,AV11<>$AL11,AX11<>$AL11,AW11<>$AL11),$AL11,\nIF(AND(AQ11<>$AM11,AR11<>$AM11,AS11<>$AM11,AT11<>$AM11,AU11<>$AM11,AV11<>$AM11,AX11<>$AM11,AW11<>$AM11),$AM11,\nIF(AND(AQ11<>$AN11,AR11<>$AN11,AS11<>$AN11,AT11<>$AN11,AU11<>$AN11,AV11<>$AN11,AX11<>$AN11,AW11<>$AN11),$AN11,\nIF(AND(AQ11<>$AO11,AR11<>$AO11,AS11<>$AO11,AT11<>$AO11,AU11<>$AO11,AV11<>$AO11,AX11<>$AO11,AW11<>$AO11),$AO11,\n\"\")))))))))))","v":""},{"$f":"IF(AY11=\"\",\"\",\nIF(AND(AQ11<>$AF11,AR11<>$AF11,AS11<>$AF11,AT11<>$AF11,AU11<>$AF11,AV11<>$AF11,AW11<>$AF11,AY11<>$AF11,AX11<>$AF11),$AF11,\nIF(AND(AQ11<>$AG11,AR11<>$AG11,AS11<>$AG11,AT11<>$AG11,AU11<>$AG11,AV11<>$AG11,AW11<>$AG11,AY11<>$AG11,AX11<>$AG11),$AG11,\nIF(AND(AQ11<>$AH11,AR11<>$AH11,AS11<>$AH11,AT11<>$AH11,AU11<>$AH11,AV11<>$AH11,AW11<>$AH11,AY11<>$AH11,AX11<>$AH11),$AH11,\nIF(AND(AQ11<>$AI11,AR11<>$AI11,AS11<>$AI11,AT11<>$AI11,AU11<>$AI11,AV11<>$AI11,AW11<>$AI11,AY11<>$AI11,AX11<>$AI11),$AI11,\nIF(AND(AQ11<>$AJ11,AR11<>$AJ11,AS11<>$AJ11,AT11<>$AJ11,AU11<>$AJ11,AV11<>$AJ11,AW11<>$AJ11,AY11<>$AJ11,AX11<>$AJ11),$AJ11,\nIF(AND(AQ11<>$AK11,AR11<>$AK11,AS11<>$AK11,AT11<>$AK11,AU11<>$AK11,AV11<>$AK11,AW11<>$AK11,AY11<>$AK11,AX11<>$AK11),$AK11,\nIF(AND(AQ11<>$AL11,AR11<>$AL11,AS11<>$AL11,AT11<>$AL11,AU11<>$AL11,AV11<>$AL11,AW11<>$AL11,AY11<>$AL11,AX11<>$AL11),$AL11,\nIF(AND(AQ11<>$AM11,AR11<>$AM11,AS11<>$AM11,AT11<>$AM11,AU11<>$AM11,AV11<>$AM11,AW11<>$AM11,AY11<>$AM11,AX11<>$AM11),$AM11,\nIF(AND(AQ11<>$AN11,AR11<>$AN11,AS11<>$AN11,AT11<>$AN11,AU11<>$AN11,AV11<>$AN11,AW11<>$AN11,AY11<>$AN11,AX11<>$AN11),$AN11,\nIF(AND(AQ11<>$AO11,AR11<>$AO11,AS11<>$AO11,AT11<>$AO11,AU11<>$AO11,AV11<>$AO11,AW11<>$AO11,AY11<>$AO11,AX11<>$AO11),$AO11,\n\"\")))))))))))","v":""}]
[null,{"$f":"IF(L12=\"x\",1,IF(SUM(B13:B19)>0,1,0))","v":1},0,{"$f":"G12","v":"520.000"},{"$f":"H12","v":"NS-Schalt-, Schutz- und Messgeräte"},"","520.000","NS-Schalt-, Schutz- und Messgeräte",null,null,"pau",null,null,null,null,null,null,null,null,null,null,null,null,null,null,null,null,null,null,"x",null,"pau","pau","pau","pau","pau","pau","pau","pau","pau","pau",null,"pau","","","","","","","","",""]
[null,{"$f":"IF(L13=\"x\",1,IF(ISNUMBER(L13),L13,0))","v":1},1,{"$f":"I13","v":"521.000"},{"$f":"J13 & IF(M13<>\"\",CHAR(10) & M13,\"\")","v":"AC-Schalter\nEigenschaften: \nStrombelastbarkeit"},"Stk. ",null,null,"521.000","AC-Schalter","Stk. ","x","Eigenschaften: \nStrombelastbarkeit",null,null,null,null,null,null,"E500_AC_Schalter","x",null,null,null,null,null,null,null,null,"x",null,"Stk. ","pau","pau","pau","pau","pau","pau","pau","pau","pau",null,"Stk. ","pau","","","","","","","",""]
[null,0,0,{"$f":"I14","v":"522.000"},"SGK (NS-Verteilung)","",null,null,"522.000","SGK (NS-Verteilung)","Stk. ",null,null,null,null,null,null,null,null,"E500_NS_SGK","x",null,null,null,null,null,null,null,null,"x",null,"Stk. ","pau","pau","pau","pau","pau","pau","pau","pau","pau",null,"Stk. ","pau","","","","","","","",""]
[null,0,0,"523.000","AC-Absicherung","",null,null,"523.000","AC-Absicherung","Stk. ",null,null,null,null,null,null,null,null,"E500_AC_Absicherung","x",null,null,null,null,null,null,null,null,"x",null,"Stk. ","pau","pau","pau","pau","pau","pau","pau","pau","pau",null,"Stk. ","pau","","","","","","","",""]
[null,1,1,{"$f":"I16","v":"524.000"},"NA-Schutz\nEigenschaften: \nIn WR integriert","Stk. ",null,null,"524.000","NA-Schutz","Stk. ","x","Eigenschaften: \nIn WR integriert",null,null,null,null,null,null,"E500_NS_NA_Schutz","x",null,null,null,null,null,null,null,null,"x",null,"Stk. ","pau","pau","pau","pau","pau","pau","pau","pau","pau",null,"Stk. ","pau","","","","","","","",""]
[null,1,1,"525.000","SPD ","Stk. ",null,null,"525.000","SPD ","Stk. ","x",null,null,null,null,null,null,null,"E500_AC_SPD","x",null,null,null,null,null,null,null,null,"x",null,"Stk. ","pau","pau","pau","pau","pau","pau","pau","pau","pau",null,"Stk. ","pau","","","","","","","",""]
[null,1,1,"526.000","Zähler","Stk. ",null,null,"526.000","Zähler","Stk. ","x",null,null,null,null,null,null,null,"E500_AC_Zähler","x",null,null,null,null,null,null,null,null,null,null,"Stk. ","","","","","","","","","",null,"Stk. ","","","","","","","","",""]
[null,1,1,"527.000","Stromwandler","Stk. ",null,null,"527.000","Stromwandler","Stk. ","x",null,null,null,null,null,null,null,"E500_Stromwandler","x",null,null,null,null,null,null,null,null,null,null,"Stk. ","","","","","","","","","",null,"Stk. ","","","","","","","","",""]
[null,{"$f":"B12","v":1},0,null,null,"",null,null,null,null,null,null,null,null,null,null,null,null,null,null,null,null,null,null,null,null,null,null,null,null,null,"","","","","","","","","","",null,"","","","","","","","","",""]
[null,{"$f":"IF(L21=\"x\",1,IF(SUM(B23:B27)>0,1,0))","v":1},1,{"$f":"G21","v":"530.000"},{"$f":"H21","v":"Leitungsführung/Kabelschutz"},"pau","530.000","Leitungsführung/Kabelschutz",null,null,"pau","x",null,null,null,null,null,null,null,"E500_AC_Kabelführung",null,null,null,null,null,null,null,null,null,"x",null,"pau","pau","pau","pau","pau","pau","pau","pau","pau","pau",null,"pau","","","","","","","","",""]
[null,{"$f":"IF(E22=\"\",0,1)","v":0},0,null,{"$f":"IF(M21<>\"\",M21,\"\")","v":""},""]
[null,{"$f":"IF(L23=\"x\",1,IF(ISNUMBER(L23),L23,0))","v":1},1,{"$f":"I23","v":"531.000"},{"$f":"J23 & IF(M23<>\"\",CHAR(10) & M23,\"\")","v":"Trassen\nEigenschaften: \nFeuerverzinkt"},"lfm",null,null,"531.000","Trassen","lfm","x","Eigenschaften: \nFeuerverzinkt",null,null,null,null,null,null,"E500_AC_Kabelführung","x",null,"x",null,null,null,null,null,null,"x",null,"Stk. ","lfm","lfm","pau","pau","pau","pau","pau","pau","pau",null,"Stk. ","lfm","pau","","","","","","",""]
[null,{"$f":"IF(L24=\"x\",1,IF(ISNUMBER(L24),L24,0))","v":0},0,{"$f":"I24","v":"532.000"},"Kanäle","",null,null,"532.000","Kanäle","lfm",null,null,null,null,null,null,null,null,"E500_AC_Kabelführung","x",null,"x",null,null,null,null,null,null,"x",null,"Stk. ","lfm","lfm","pau","pau","pau","pau","pau","pau","pau",null,"Stk. ","lfm","pau","","","","","","",""]
[null,{"$f":"IF(L25=\"x\",1,IF(ISNUMBER(L25),L25,0))","v":0},0,"533.000","Rohre","",null,null,"533.000","Rohre","lfm",null,null,null,null,null,null,null,null,"E500_AC_Kabelführung","x",null,"x",null,null,null,null,null,null,"x",null,"Stk. ","lfm","lfm","pau","pau","pau","pau","pau","pau","pau",null,"Stk. ","lfm","pau","","","","","","",""]
[null,{"$f":"IF(L26=\"x\",1,IF(ISNUMBER(L26),L26,0))","v":0},0,{"$f":"I26","v":"534.000"},"Schläuche","",null,null,"534.000","Schläuche","lfm",null,null,null,null,null,null,null,null,"E500_AC_Kabelführung","x",null,"x",null,null,null,null,null,null,"x",null,"Stk. ","lfm","lfm","pau","pau","pau","pau","pau","pau","pau",null,"Stk. ","lfm","pau","","","","","","",""]
[null,{"$f":"IF(L27=\"x\",1,IF(ISNUMBER(L27),L27,0))","v":0},0,"535.000","Steinplatten (Gartenplatten)","",null,null,"535.000","Steinplatten (Gartenplatten)","m2",null,null,null,null,null,null,null,null,"E500_AC_Kabelführung","x",null,null,"x",null,null,null,null,null,"x",null,"Stk. ","m2","m2","m2","pau","pau","pau","pau","pau","pau",null,"Stk. ","m2","pau","","","","","","",""]
[null,{"$f":"B21","v":1},0,null,null,"",null,null,null,null,null,null,null,null,null,null,null,null,null,null,null,null,null,null,null,null,null,null,null,null,null,"","","","","","","","","","",null,"","","","","","","","","",""]
[null,{"$f":"IF(L29=\"x\",1,IF(SUM(B31:B34)>0,1,0))","v":1},0,{"$f":"G29","v":"540.000"},{"$f":"H29","v":"POT-Ausgleich"},"","540.000","POT-Ausgleich",null,null,"pau",null,null,null,null,null,null,null,null,"E500_AC_POT_Ausgleich",null,null,null,null,null,null,null,null,null,"x",null,"pau","pau","pau","pau","pau","pau","pau","pau","pau","pau",null,"pau","","","","","","","","",""]
[null,{"$f":"IF(E30=\"\",0,1)","v":0},0,null,{"$f":"IF(M29<>\"\",M29,\"\")","v":""},""]
[null,{"$f":"IF(L31=\"x\",1,IF(ISNUMBER(L31),L31,0))","v":1},1,{"$f":"I31","v":"541.000"},{"$f":"J31 & IF(M31<>\"\",CHAR(10) & M31,\"\")","v":"Leiter\nEigenschaften: \n16mm2"},"lfm",null,null,"541.000","Leiter","lfm","x","Eigenschaften: \n16mm2",null,null,null,null,null,null,"E500_AC_POT_Ausgleich",null,null,"x",null,null,null,null,null,null,"x",null,"lfm","lfm","lfm","pau","pau","pau","pau","pau","pau","pau",null,"lfm","pau","","","","","","","",""]
[null,{"$f":"IF(L32=\"x\",1,IF(ISNUMBER(L32),L32,0))","v":1},1,{"$f":"I32","v":"542.000"},"Klemmen\nEigenschaften: \nRostfrei","Stk. ",null,null,"542.000","Klemmen","Stk. ","x","Eigenschaften: \nRostfrei",null,null,null,null,null,null,"E500_AC_POT_Ausgleich","x",null,null,null,null,null,null,null,null,"x",null,"Stk. ","pau","pau","pau","pau","pau","pau","pau","pau","pau",null,"Stk. ","pau","","","","","","","",""]
[null,{"$f":"IF(L33=\"x\",1,IF(ISNUMBER(L33),L33,0))","v":0},0,"543.000","Kabelschuhe","",null,null,"543.000","Kabelschuhe","Stk. ",null,null,null,null,null,null,null,null,"E500_AC_POT_Ausgleich","x",null,null,null,null,null,null,null,null,"x",null,"Stk. ","pau","pau","pau","pau","pau","pau","pau","pau","pau",null,"Stk. ","pau","","","","","","","",""]
[null,{"$f":"IF(L34=\"x\",1,IF(ISNUMBER(L34),L34,0))","v":0},0,{"$f":"I34","v":"544.000"},"POT-Schiene","",null,null,"544.000","POT-Schiene","Stk. ",null,null,null,null,null,null,null,null,"E500_AC_POT_Ausgleich","x",null,null,null,null,null,null,null,null,"x",null,"Stk. ","pau","pau","pau","pau","pau","pau","pau","pau","pau",null,"Stk. ","pau","","","","","","","",""]
[null,{"$f":"B29","v":1},0,null,null,"",null,null,null,null,null,null,null,null,null,null,null,null,null,null,null,null,null,null,null,null,null,null,null,null,null,"","","","","","","","","","",null,"","","","","","","","","",""]
[null,{"$f":"IF(L36=\"x\",1,IF(SUM(B37:B43)>0,1,0))","v":0},0,{"$f":"G36","v":"550.000"},{"$f":"H36","v":"MS-Installationen"},"","550.000","MS-Installationen",null,null,"pau",null,null,null,null,null,null,null,null,null,null,null,null,null,null,null,null,null,null,"x",null,"pau","pau","pau","pau","pau","pau","pau","pau","pau","pau",null,"pau","","","","","","","","",""]
[null,{"$f":"IF(L37=\"x\",1,IF(ISNUMBER(L37),L37,0))","v":0},0,{"$f":"I37","v":"551.000"},{"$f":"J37 & IF(M37<>\"\",CHAR(10) & M37,\"\")","v":"MS-Trafo"},"",null,null,"551.000","MS-Trafo","Stk. ",null,null,null,null,null,null,null,null,"E500_MS_Trafo","x",null,null,null,null,null,null,null,null,null,null,"Stk. ","","","","","","","","","",null,"Stk. ","","","","","","","","",""]
[null,0,0,{"$f":"I38","v":"552.000"},"MS-Containerstation","",null,null,"552.000","MS-Containerstation","Stk. ",null,null,null,null,null,null,null,null,"E500_MS_Containerstation","x",null,null,null,null,null,null,null,null,null,null,"Stk. ","","","","","","","","","",null,"Stk. ","","","","","","","","",""]
[null,0,0,"553.000","MS-Leitungen","",null,null,"553.000","MS-Leitungen","lfm",null,null,null,null,null,null,null,null,"E500_MS_Leitungen",null,null,"x",null,null,null,null,null,null,"x",null,"lfm","lfm","lfm","pau","pau","pau","pau","pau","pau","pau",null,"lfm","pau","","","","","","","",""]
[null,0,0,{"$f":"I40","v":"554.000"},"MS-Schaltanlage","",null,null,"554.000","MS-Schaltanlage","Stk. ",null,null,null,null,null,null,null,null,"E500_MS_Schaltanlage","x",null,null,null,null,null,null,null,null,"x",null,"Stk. ","pau","pau","pau","pau","pau","pau","pau","pau","pau",null,"Stk. ","pau","","","","","","","",""]
[null,0,0,"555.000","NA-Schutz","",null,null,"555.000","NA-Schutz","Stk. ",null,null,null,null,null,null,null,null,"E500_MS_NA_Schutz","x",null,null,null,null,null,null,null,null,"x",null,"Stk. ","pau","pau","pau","pau","pau","pau","pau","pau","pau",null,"Stk. ","pau","","","","","","","",""]
[null,0,0,"556.000","SPD","",null,null,"556.000","SPD","Stk. ",null,null,null,null,null,null,null,null,"E500_MS_SPD","x",null,null,null,null,null,null,null,null,"x",null,"Stk. ","pau","pau","pau","pau","pau","pau","pau","pau","pau",null,"Stk. ","pau","","","","","","","",""]
[null,0,0,"557.000",{"$f":"J43","v":"Leit-/Schutztechnik"},"",null,null,"557.000","Leit-/Schutztechnik","Stk. ",null,null,null,null,null,null,null,null,null,"x",null,null,null,null,null,null,null,null,"x",null,"Stk. ","pau","pau","pau","pau","pau","pau","pau","pau","pau",null,"Stk. ","pau","","","","","","","",""]
[null,{"$f":"B36","v":0},0,null,null,"",null,null,null,null,null,null,null,null,null,null,null,null,null,null,null,null,null,null,null,null,null,null,null,null,null,"","","","","","","","","","",null,"","","","","","","","","",""]
[null,{"$f":"IF(L45=\"x\",1,IF(SUM(B46:B53)>0,1,0))","v":1},0,{"$f":"G45","v":"560.000"},{"$f":"H45","v":"ZEV-Installationen"},"","560.000","ZEV-Installationen",null,null,"pau",null,null,null,null,null,null,null,null,null,null,null,null,null,null,null,null,null,null,"x",null,"pau","pau","pau","pau","pau","pau","pau","pau","pau","pau",null,"pau","","","","","","","","",""]
[null,{"$f":"IF(L46=\"x\",1,IF(ISNUMBER(L46),L46,0))","v":1},1,{"$f":"I46","v":"561.000"},{"$f":"J46 & IF(M46<>\"\",CHAR(10) & M46,\"\")","v":"Zähler Strom\nEigenschaften: \nGeeichte Zähler (MID-zertifiziert)\nDirektmessung"},"Stk. ",null,null,"561.000","Zähler Strom","Stk. ","x","Eigenschaften: \nGeeichte Zähler (MID-zertifiziert)\nDirektmessung",null,null,null,null,null,null,"E500_ZEV_Zähler","x",null,null,null,null,null,null,null,null,null,null,"Stk. ","","","","","","","","","",null,"Stk. ","","","","","","","","",""]
[null,0,0,{"$f":"I47","v":"562.000"},{"$f":"J47","v":"Wandler für Stromzähler"},"",null,null,"562.000","Wandler für Stromzähler","Stk. ",null,null,null,null,null,null,null,null,null,"x",null,null,null,null,null,null,null,null,null,null,"Stk. ","","","","","","","","","",null,"Stk. ","","","","","","","","",""]
[null,0,0,"563.000","Zähler Wasser Kalt","",null,null,"563.000","Zähler Wasser Kalt","Stk. ",null,null,null,null,null,null,null,null,null,"x",null,null,null,null,null,null,null,null,null,null,"Stk. ","","","","","","","","","",null,"Stk. ","","","","","","","","",""]
[null,0,0,{"$f":"I49","v":"564.000"},{"$f":"J49","v":"Zähler Wasser Warm"},"",null,null,"564.000","Zähler Wasser Warm","Stk. ",null,null,null,null,null,null,null,null,null,"x",null,null,null,null,null,null,null,null,null,null,"Stk. ","","","","","","","","","",null,"Stk. ","","","","","","","","",""]
[null,0,0,"565.000","Zähler Wärme","",null,null,"565.000","Zähler Wärme","Stk. ",null,null,null,null,null,null,null,null,null,"x",null,null,null,null,null,null,null,null,null,null,"Stk. ","","","","","","","","","",null,"Stk. ","","","","","","","","",""]
[null,1,1,"566.000","Datenlogger","Stk. ",null,null,"566.000","Datenlogger","Stk. ","x",null,null,null,null,null,null,null,null,"x",null,null,null,null,null,null,null,null,null,null,"Stk. ","","","","","","","","","",null,"Stk. ","","","","","","","","",""]
[null,1,1,"567.000","Kommunikation/Auslesung","Stk. ",null,null,"567.000","Kommunikation/Auslesung","Stk. ","x",null,null,null,null,null,null,null,null,"x",null,null,null,null,null,null,null,null,null,null,"Stk. ","","","","","","","","","",null,"Stk. ","","","","","","","","",""]
[null,1,1,"568.000","Konfiguration","Stk. ",null,null,"568.000","Konfiguration","Stk. ","x",null,null,null,null,null,null,null,null,"x",null,null,null,null,null,null,null,null,null,null,"Stk. ","","","","","","","","","",null,"Stk. ","","","","","","","","",""]

{"sheet":"600 Bauvorber., Planung","index":8,"n_rows":124,"n_cols":54,"rows_kept":124,"cut":false,"hidden":false,"merged":[[0,21,0,53],[1,8,1,9],[2,8,2,9],[3,12,3,13],[3,14,3,15],[2,10,2,15],[3,8,3,9],[3,10,3,11]]}
[null,null,null,null,null,null,null,null,null,null,null,null,null,null,null,null,null,null,null,null,null,"AUSBLENDEN"]
[null,null,null,null,null,null,"Ausblenden",null,"Strukturebene 1:",null,600,"Bauvorbereitung und Planung"]
[null,null,null,null,null,null,null,null,"Verbindlich",null,"Optional"]
[null,"Show","Fill","SOQ-Nr.",null,null,"Beschreibung","Einheit","Strukturebene 2",null,"Strukturebene 3",null,"Strukturebene 4",null,"Strukturebene 5",null,"Leistungs-Einheit","Position Hinzufügen","E- Box",null,null,"E-Box","Stk. ","Modul","lfm","m2","m3","Std.","Monate","Jahre","kWp","pau",null,"Pos1","Pos2","Pos3","Pos4","Pos5","Pos6","Pos7","Pos8","Pos9","Pos10",null,"Pos1","Pos2","Pos3","Pos4","Pos5","Pos6","Pos7","Pos8","Pos9","Pos10"]
[]
[null,{"$f":"IF(R6=\"x\",1,IF(SUM(B7:B27)>0,1,0))","v":1},{"$f":"IF(R6=\"x\",1,IF(ISNUMBER(R6),1,0))","v":0},{"$f":"I6","v":"610.000"},null,null,{"$f":"J6","v":"Baustelleneinrichtung/Logistik"},{"$f":"IF(C6=1,Q6,\"\")","v":""},"610.000","Baustelleneinrichtung/Logistik",null,null,null,null,null,null,"pau",null,null,null,null,null,null,null,null,null,null,null,null,null,null,"x",null,{"$f":"\nIF(W6=\"x\",W$4,\nIF(X6=\"x\",X$4,\nIF(Y6=\"x\",Y$4,\nIF(Z6=\"x\",Z$4,\nIF(AA6=\"x\",AA$4,\nIF(AB6=\"x\",AB$4,\nIF(AC6=\"x\",AC$4,\nIF(AD6=\"x\",AD$4,\nIF(AE6=\"x\",AE$4,\nIF(AF6=\"x\",AF$4,\n\"\"))))))))))","v":"pau"},{"$f":"\nIF(X6=\"x\",X$4,\nIF(Y6=\"x\",Y$4,\nIF(Z6=\"x\",Z$4,\nIF(AA6=\"x\",AA$4,\nIF(AB6=\"x\",AB$4,\nIF(AC6=\"x\",AC$4,\nIF(AD6=\"x\",AD$4,\nIF(AE6=\"x\",AE$4,\nIF(AF6=\"x\",AF$4,\n\"\")))))))))","v":"pau"},{"$f":"\nIF(Y6=\"x\",Y$4,\nIF(Z6=\"x\",Z$4,\nIF(AA6=\"x\",AA$4,\nIF(AB6=\"x\",AB$4,\nIF(AC6=\"x\",AC$4,\nIF(AD6=\"x\",AD$4,\nIF(AE6=\"x\",AE$4,\nIF(AF6=\"x\",AF$4,\n\"\"))))))))","v":"pau"},{"$f":"\nIF(Z6=\"x\",Z$4,\nIF(AA6=\"x\",AA$4,\nIF(AB6=\"x\",AB$4,\nIF(AC6=\"x\",AC$4,\nIF(AD6=\"x\",AD$4,\nIF(AE6=\"x\",AE$4,\nIF(AF6=\"x\",AF$4,\n\"\")))))))","v":"pau"},{"$f":"\nIF(AA6=\"x\",AA$4,\nIF(AB6=\"x\",AB$4,\nIF(AC6=\"x\",AC$4,\nIF(AD6=\"x\",AD$4,\nIF(AE6=\"x\",AE$4,\nIF(AF6=\"x\",AF$4,\n\"\"))))))","v":"pau"},{"$f":"\nIF(AB6=\"x\",AB$4,\nIF(AC6=\"x\",AC$4,\nIF(AD6=\"x\",AD$4,\nIF(AE6=\"x\",AE$4,\nIF(AF6=\"x\",AF$4,\n\"\")))))","v":"pau"},{"$f":"\nIF(AC6=\"x\",AC$4,\nIF(AD6=\"x\",AD$4,\nIF(AE6=\"x\",AE$4,\nIF(AF6=\"x\",AF$4,\n\"\"))))","v":"pau"},{"$f":"\nIF(AD6=\"x\",AD$4,\nIF(AE6=\"x\",AE$4,\nIF(AF6=\"x\",AF$4,\n\"\")))","v":"pau"},{"$f":"\nIF(AE6=\"x\",AE$4,\nIF(AF6=\"x\",AF$4,\n\"\"))","v":"pau"},{"$f":"\nIF(AF6=\"x\",AF$4,\n\"\")","v":"pau"},null,{"$f":"AH6","v":"pau"},{"$f":"IF(AS6=\"\",\"\",\nIF(AS6<>$AH6,$AH6,\nIF(AS6<>$AI6,$AI6,\nIF(AS6<>$AJ6,$AJ6,\nIF(AS6<>$AK6,$AK6,\nIF(AS6<>$AL6,$AL6,\nIF(AS6<>$AM6,$AM6,\nIF(AS6<>$AN6,$AN6,\nIF(AS6<>$AO6,$AO6,\nIF(AS6<>$AP6,$AP6,\nIF(AS6<>$AQ6,$AQ6,\n\"\")))))))))))","v":""},{"$f":"IF(AT6=\"\",\"\",\nIF(AND(AT6<>$AH6,AS6<>$AH6),$AH6,\nIF(AND(AT6<>$AI6,AS6<>$AI6),$AI6,\nIF(AND(AT6<>$AJ6,AS6<>$AJ6),$AJ6,\nIF(AND(AT6<>$AK6,AS6<>$AK6),$AK6,\nIF(AND(AT6<>$AL6,AS6<>$AL6),$AL6,\nIF(AND(AT6<>$AM6,AS6<>$AM6),$AM6,\nIF(AND(AT6<>$AN6,AS6<>$AN6),$AN6,\nIF(AND(AT6<>$AO6,AS6<>$AO6),$AO6,\nIF(AND(AT6<>$AP6,AS6<>$AP6),$AP6,\nIF(AND(AT6<>$AQ6,AS6<>$AQ6),$AQ6,\n\"\")))))))))))","v":""},{"$f":"IF(AU6=\"\",\"\",\nIF(AND(AS6<>$AH6,AU6<>$AH6,AT6<>$AH6),$AH6,\nIF(AND(AS6<>$AI6,AU6<>$AI6,AT6<>$AI6),$AI6,\nIF(AND(AS6<>$AJ6,AU6<>$AJ6,AT6<>$AJ6),$AJ6,\nIF(AND(AS6<>$AK6,AU6<>$AK6,AT6<>$AK6),$AK6,\nIF(AND(AS6<>$AL6,AU6<>$AL6,AT6<>$AL6),$AL6,\nIF(AND(AS6<>$AM6,AU6<>$AM6,AT6<>$AM6),$AM6,\nIF(AND(AS6<>$AN6,AU6<>$AN6,AT6<>$AN6),$AN6,\nIF(AND(AS6<>$AO6,AU6<>$AO6,AT6<>$AO6),$AO6,\nIF(AND(AS6<>$AP6,AU6<>$AP6,AT6<>$AP6),$AP6,\nIF(AND(AS6<>$AQ6,AU6<>$AQ6,AT6<>$AQ6),$AQ6,\n\"\")))))))))))","v":""},{"$f":"IF(AV6=\"\",\"\",\nIF(AND(AS6<>$AH6,AT6<>$AH6,AV6<>$AH6,AU6<>$AH6),$AH6,\nIF(AND(AS6<>$AI6,AT6<>$AI6,AV6<>$AI6,AU6<>$AI6),$AI6,\nIF(AND(AS6<>$AJ6,AT6<>$AJ6,AV6<>$AJ6,AU6<>$AJ6),$AJ6,\nIF(AND(AS6<>$AK6,AT6<>$AK6,AV6<>$AK6,AU6<>$AK6),$AK6,\nIF(AND(AS6<>$AL6,AT6<>$AL6,AV6<>$AL6,AU6<>$AL6),$AL6,\nIF(AND(AS6<>$AM6,AT6<>$AM6,AV6<>$AM6,AU6<>$AM6),$AM6,\nIF(AND(AS6<>$AN6,AT6<>$AN6,AV6<>$AN6,AU6<>$AN6),$AN6,\nIF(AND(AS6<>$AO6,AT6<>$AO6,AV6<>$AO6,AU6<>$AO6),$AO6,\nIF(AND(AS6<>$AP6,AT6<>$AP6,AV6<>$AP6,AU6<>$AP6),$AP6,\nIF(AND(AS6<>$AQ6,AT6<>$AQ6,AV6<>$AQ6,AU6<>$AQ6),$AQ6,\n\"\")))))))))))","v":""},{"$f":"IF(AW6=\"\",\"\",\nIF(AND(AS6<>$AH6,AT6<>$AH6,AU6<>$AH6,AW6<>$AH6,AV6<>$AH6),$AH6,\nIF(AND(AS6<>$AI6,AT6<>$AI6,AU6<>$AI6,AW6<>$AI6,AV6<>$AI6),$AI6,\nIF(AND(AS6<>$AJ6,AT6<>$AJ6,AU6<>$AJ6,AW6<>$AJ6,AV6<>$AJ6),$AJ6,\nIF(AND(AS6<>$AK6,AT6<>$AK6,AU6<>$AK6,AW6<>$AK6,AV6<>$AK6),$AK6,\nIF(AND(AS6<>$AL6,AT6<>$AL6,AU6<>$AL6,AW6<>$AL6,AV6<>$AL6),$AL6,\nIF(AND(AS6<>$AM6,AT6<>$AM6,AU6<>$AM6,AW6<>$AM6,AV6<>$AM6),$AM6,\nIF(AND(AS6<>$AN6,AT6<>$AN6,AU6<>$AN6,AW6<>$AN6,AV6<>$AN6),$AN6,\nIF(AND(AS6<>$AO6,AT6<>$AO6,AU6<>$AO6,AW6<>$AO6,AV6<>$AO6),$AO6,\nIF(AND(AS6<>$AP6,AT6<>$AP6,AU6<>$AP6,AW6<>$AP6,AV6<>$AP6),$AP6,\nIF(AND(AS6<>$AQ6,AT6<>$AQ6,AU6<>$AQ6,AW6<>$AQ6,AV6<>$AQ6),$AQ6,\n\"\")))))))))))","v":""},{"$f":"IF(AX6=\"\",\"\",\nIF(AND(AS6<>$AH6,AT6<>$AH6,AU6<>$AH6,AV6<>$AH6,AX6<>$AH6,AW6<>$AH6),$AH6,\nIF(AND(AS6<>$AI6,AT6<>$AI6,AU6<>$AI6,AV6<>$AI6,AX6<>$AI6,AW6<>$AI6),$AI6,\nIF(AND(AS6<>$AJ6,AT6<>$AJ6,AU6<>$AJ6,AV6<>$AJ6,AX6<>$AJ6,AW6<>$AJ6),$AJ6,\nIF(AND(AS6<>$AK6,AT6<>$AK6,AU6<>$AK6,AV6<>$AK6,AX6<>$AK6,AW6<>$AK6),$AK6,\nIF(AND(AS6<>$AL6,AT6<>$AL6,AU6<>$AL6,AV6<>$AL6,AX6<>$AL6,AW6<>$AL6),$AL6,\nIF(AND(AS6<>$AM6,AT6<>$AM6,AU6<>$AM6,AV6<>$AM6,AX6<>$AM6,AW6<>$AM6),$AM6,\nIF(AND(AS6<>$AN6,AT6<>$AN6,AU6<>$AN6,AV6<>$AN6,AX6<>$AN6,AW6<>$AN6),$AN6,\nIF(AND(AS6<>$AO6,AT6<>$AO6,AU6<>$AO6,AV6<>$AO6,AX6<>$AO6,AW6<>$AO6),$AO6,\nIF(AND(AS6<>$AP6,AT6<>$AP6,AU6<>$AP6,AV6<>$AP6,AX6<>$AP6,AW6<>$AP6),$AP6,\nIF(AND(AS6<>$AQ6,AT6<>$AQ6,AU6<>$AQ6,AV6<>$AQ6,AX6<>$AQ6,AW6<>$AQ6),$AQ6,\n\"\")))))))))))","v":""},{"$f":"IF(AY6=\"\",\"\",\nIF(AND(AS6<>$AH6,AT6<>$AH6,AU6<>$AH6,AV6<>$AH6,AW6<>$AH6,AY6<>$AH6,AX6<>$AH6),$AH6,\nIF(AND(AS6<>$AI6,AT6<>$AI6,AU6<>$AI6,AV6<>$AI6,AW6<>$AI6,AY6<>$AI6,AX6<>$AI6),$AI6,\nIF(AND(AS6<>$AJ6,AT6<>$AJ6,AU6<>$AJ6,AV6<>$AJ6,AW6<>$AJ6,AY6<>$AJ6,AX6<>$AJ6),$AJ6,\nIF(AND(AS6<>$AK6,AT6<>$AK6,AU6<>$AK6,AV6<>$AK6,AW6<>$AK6,AY6<>$AK6,AX6<>$AK6),$AK6,\nIF(AND(AS6<>$AL6,AT6<>$AL6,AU6<>$AL6,AV6<>$AL6,AW6<>$AL6,AY6<>$AL6,AX6<>$AL6),$AL6,\nIF(AND(AS6<>$AM6,AT6<>$AM6,AU6<>$AM6,AV6<>$AM6,AW6<>$AM6,AY6<>$AM6,AX6<>$AM6),$AM6,\nIF(AND(AS6<>$AN6,AT6<>$AN6,AU6<>$AN6,AV6<>$AN6,AW6<>$AN6,AY6<>$AN6,AX6<>$AN6),$AN6,\nIF(AND(AS6<>$AO6,AT6<>$AO6,AU6<>$AO6,AV6<>$AO6,AW6<>$AO6,AY6<>$AO6,AX6<>$AO6),$AO6,\nIF(AND(AS6<>$AP6,AT6<>$AP6,AU6<>$AP6,AV6<>$AP6,AW6<>$AP6,AY6<>$AP6,AX6<>$AP6),$AP6,\nIF(AND(AS6<>$AQ6,AT6<>$AQ6,AU6<>$AQ6,AV6<>$AQ6,AW6<>$AQ6,AY6<>$AQ6,AX6<>$AQ6),$AQ6,\n\"\")))))))))))","v":""},{"$f":"IF(AZ6=\"\",\"\",\nIF(AND(AS6<>$AH6,AT6<>$AH6,AU6<>$AH6,AV6<>$AH6,AW6<>$AH6,AX6<>$AH6,AZ6<>$AH6,AY6<>$AH6),$AH6,\nIF(AND(AS6<>$AI6,AT6<>$AI6,AU6<>$AI6,AV6<>$AI6,AW6<>$AI6,AX6<>$AI6,AZ6<>$AI6,AY6<>$AI6),$AI6,\nIF(AND(AS6<>$AJ6,AT6<>$AJ6,AU6<>$AJ6,AV6<>$AJ6,AW6<>$AJ6,AX6<>$AJ6,AZ6<>$AJ6,AY6<>$AJ6),$AJ6,\nIF(AND(AS6<>$AK6,AT6<>$AK6,AU6<>$AK6,AV6<>$AK6,AW6<>$AK6,AX6<>$AK6,AZ6<>$AK6,AY6<>$AK6),$AK6,\nIF(AND(AS6<>$AL6,AT6<>$AL6,AU6<>$AL6,AV6<>$AL6,AW6<>$AL6,AX6<>$AL6,AZ6<>$AL6,AY6<>$AL6),$AL6,\nIF(AND(AS6<>$AM6,AT6<>$AM6,AU6<>$AM6,AV6<>$AM6,AW6<>$AM6,AX6<>$AM6,AZ6<>$AM6,AY6<>$AM6),$AM6,\nIF(AND(AS6<>$AN6,AT6<>$AN6,AU6<>$AN6,AV6<>$AN6,AW6<>$AN6,AX6<>$AN6,AZ6<>$AN6,AY6<>$AN6),$AN6,\nIF(AND(AS6<>$AO6,AT6<>$AO6,AU6<>$AO6,AV6<>$AO6,AW6<>$AO6,AX6<>$AO6,AZ6<>$AO6,AY6<>$AO6),$AO6,\nIF(AND(AS6<>$AP6,AT6<>$AP6,AU6<>$AP6,AV6<>$AP6,AW6<>$AP6,AX6<>$AP6,AZ6<>$AP6,AY6<>$AP6),$AP6,\nIF(AND(AS6<>$AQ6,AT6<>$AQ6,AU6<>$AQ6,AV6<>$AQ6,AW6<>$AQ6,AX6<>$AQ6,AZ6<>$AQ6,AY6<>$AQ6),$AQ6,\n\"\")))))))))))","v":""},{"$f":"IF(BA6=\"\",\"\",\nIF(AND(AS6<>$AH6,AT6<>$AH6,AU6<>$AH6,AV6<>$AH6,AW6<>$AH6,AX6<>$AH6,AY6<>$AH6,BA6<>$AH6,AZ6<>$AH6),$AH6,\nIF(AND(AS6<>$AI6,AT6<>$AI6,AU6<>$AI6,AV6<>$AI6,AW6<>$AI6,AX6<>$AI6,AY6<>$AI6,BA6<>$AI6,AZ6<>$AI6),$AI6,\nIF(AND(AS6<>$AJ6,AT6<>$AJ6,AU6<>$AJ6,AV6<>$AJ6,AW6<>$AJ6,AX6<>$AJ6,AY6<>$AJ6,BA6<>$AJ6,AZ6<>$AJ6),$AJ6,\nIF(AND(AS6<>$AK6,AT6<>$AK6,AU6<>$AK6,AV6<>$AK6,AW6<>$AK6,AX6<>$AK6,AY6<>$AK6,BA6<>$AK6,AZ6<>$AK6),$AK6,\nIF(AND(AS6<>$AL6,AT6<>$AL6,AU6<>$AL6,AV6<>$AL6,AW6<>$AL6,AX6<>$AL6,AY6<>$AL6,BA6<>$AL6,AZ6<>$AL6),$AL6,\nIF(AND(AS6<>$AM6,AT6<>$AM6,AU6<>$AM6,AV6<>$AM6,AW6<>$AM6,AX6<>$AM6,AY6<>$AM6,BA6<>$AM6,AZ6<>$AM6),$AM6,\nIF(AND(AS6<>$AN6,AT6<>$AN6,AU6<>$AN6,AV6<>$AN6,AW6<>$AN6,AX6<>$AN6,AY6<>$AN6,BA6<>$AN6,AZ6<>$AN6),$AN6,\nIF(AND(AS6<>$AO6,AT6<>$AO6,AU6<>$AO6,AV6<>$AO6,AW6<>$AO6,AX6<>$AO6,AY6<>$AO6,BA6<>$AO6,AZ6<>$AO6),$AO6,\nIF(AND(AS6<>$AP6,AT6<>$AP6,AU6<>$AP6,AV6<>$AP6,AW6<>$AP6,AX6<>$AP6,AY6<>$AP6,BA6<>$AP6,AZ6<>$AP6),$AP6,\nIF(AND(AS6<>$AQ6,AT6<>$AQ6,AU6<>$AQ6,AV6<>$AQ6,AW6<>$AQ6,AX6<>$AQ6,AY6<>$AQ6,BA6<>$AQ6,AZ6<>$AQ6),$AQ6,\n\"\")))))))))))","v":""}]
[null,{"$f":"IF(OR(SUM(B8:B10)>0,R7=\"x\"),1,IF(ISNUMBER(R7),R7,0))","v":1},{"$f":"IF(R7=\"x\",1,IF(ISNUMBER(R7),1,0))","v":1},{"$f":"K7","v":"611.000"},null,null,{"$f":"L7","v":"Baustelleneinrichtung"},{"$f":"IF(C7=1,Q7,\"\")","v":"pau"},null,null,"611.000","Baustelleneinrichtung",null,null,null,null,"pau","x",null,null,null,null,null,null,null,null,null,null,null,null,null,"x",null,{"$f":"\nIF(W7=\"x\",W$4,\nIF(X7=\"x\",X$4,\nIF(Y7=\"x\",Y$4,\nIF(Z7=\"x\",Z$4,\nIF(AA7=\"x\",AA$4,\nIF(AB7=\"x\",AB$4,\nIF(AC7=\"x\",AC$4,\nIF(AD7=\"x\",AD$4,\nIF(AE7=\"x\",AE$4,\nIF(AF7=\"x\",AF$4,\n\"\"))))))))))","v":"pau"},{"$f":"\nIF(X7=\"x\",X$4,\nIF(Y7=\"x\",Y$4,\nIF(Z7=\"x\",Z$4,\nIF(AA7=\"x\",AA$4,\nIF(AB7=\"x\",AB$4,\nIF(AC7=\"x\",AC$4,\nIF(AD7=\"x\",AD$4,\nIF(AE7=\"x\",AE$4,\nIF(AF7=\"x\",AF$4,\n\"\")))))))))","v":"pau"},{"$f":"\nIF(Y7=\"x\",Y$4,\nIF(Z7=\"x\",Z$4,\nIF(AA7=\"x\",AA$4,\nIF(AB7=\"x\",AB$4,\nIF(AC7=\"x\",AC$4,\nIF(AD7=\"x\",AD$4,\nIF(AE7=\"x\",AE$4,\nIF(AF7=\"x\",AF$4,\n\"\"))))))))","v":"pau"},{"$f":"\nIF(Z7=\"x\",Z$4,\nIF(AA7=\"x\",AA$4,\nIF(AB7=\"x\",AB$4,\nIF(AC7=\"x\",AC$4,\nIF(AD7=\"x\",AD$4,\nIF(AE7=\"x\",AE$4,\nIF(AF7=\"x\",AF$4,\n\"\")))))))","v":"pau"},{"$f":"\nIF(AA7=\"x\",AA$4,\nIF(AB7=\"x\",AB$4,\nIF(AC7=\"x\",AC$4,\nIF(AD7=\"x\",AD$4,\nIF(AE7=\"x\",AE$4,\nIF(AF7=\"x\",AF$4,\n\"\"))))))","v":"pau"},{"$f":"\nIF(AB7=\"x\",AB$4,\nIF(AC7=\"x\",AC$4,\nIF(AD7=\"x\",AD$4,\nIF(AE7=\"x\",AE$4,\nIF(AF7=\"x\",AF$4,\n\"\")))))","v":"pau"},{"$f":"\nIF(AC7=\"x\",AC$4,\nIF(AD7=\"x\",AD$4,\nIF(AE7=\"x\",AE$4,\nIF(AF7=\"x\",AF$4,\n\"\"))))","v":"pau"},{"$f":"\nIF(AD7=\"x\",AD$4,\nIF(AE7=\"x\",AE$4,\nIF(AF7=\"x\",AF$4,\n\"\")))","v":"pau"},{"$f":"\nIF(AE7=\"x\",AE$4,\nIF(AF7=\"x\",AF$4,\n\"\"))","v":"pau"},{"$f":"\nIF(AF7=\"x\",AF$4,\n\"\")","v":"pau"},null,{"$f":"AH7","v":"pau"},{"$f":"IF(AS7=\"\",\"\",\nIF(AS7<>$AH7,$AH7,\nIF(AS7<>$AI7,$AI7,\nIF(AS7<>$AJ7,$AJ7,\nIF(AS7<>$AK7,$AK7,\nIF(AS7<>$AL7,$AL7,\nIF(AS7<>$AM7,$AM7,\nIF(AS7<>$AN7,$AN7,\nIF(AS7<>$AO7,$AO7,\nIF(AS7<>$AP7,$AP7,\nIF(AS7<>$AQ7,$AQ7,\n\"\")))))))))))","v":""},{"$f":"IF(AT7=\"\",\"\",\nIF(AND(AT7<>$AH7,AS7<>$AH7),$AH7,\nIF(AND(AT7<>$AI7,AS7<>$AI7),$AI7,\nIF(AND(AT7<>$AJ7,AS7<>$AJ7),$AJ7,\nIF(AND(AT7<>$AK7,AS7<>$AK7),$AK7,\nIF(AND(AT7<>$AL7,AS7<>$AL7),$AL7,\nIF(AND(AT7<>$AM7,AS7<>$AM7),$AM7,\nIF(AND(AT7<>$AN7,AS7<>$AN7),$AN7,\nIF(AND(AT7<>$AO7,AS7<>$AO7),$AO7,\nIF(AND(AT7<>$AP7,AS7<>$AP7),$AP7,\nIF(AND(AT7<>$AQ7,AS7<>$AQ7),$AQ7,\n\"\")))))))))))","v":""},{"$f":"IF(AU7=\"\",\"\",\nIF(AND(AS7<>$AH7,AU7<>$AH7,AT7<>$AH7),$AH7,\nIF(AND(AS7<>$AI7,AU7<>$AI7,AT7<>$AI7),$AI7,\nIF(AND(AS7<>$AJ7,AU7<>$AJ7,AT7<>$AJ7),$AJ7,\nIF(AND(AS7<>$AK7,AU7<>$AK7,AT7<>$AK7),$AK7,\nIF(AND(AS7<>$AL7,AU7<>$AL7,AT7<>$AL7),$AL7,\nIF(AND(AS7<>$AM7,AU7<>$AM7,AT7<>$AM7),$AM7,\nIF(AND(AS7<>$AN7,AU7<>$AN7,AT7<>$AN7),$AN7,\nIF(AND(AS7<>$AO7,AU7<>$AO7,AT7<>$AO7),$AO7,\nIF(AND(AS7<>$AP7,AU7<>$AP7,AT7<>$AP7),$AP7,\nIF(AND(AS7<>$AQ7,AU7<>$AQ7,AT7<>$AQ7),$AQ7,\n\"\")))))))))))","v":""},{"$f":"IF(AV7=\"\",\"\",\nIF(AND(AS7<>$AH7,AT7<>$AH7,AV7<>$AH7,AU7<>$AH7),$AH7,\nIF(AND(AS7<>$AI7,AT7<>$AI7,AV7<>$AI7,AU7<>$AI7),$AI7,\nIF(AND(AS7<>$AJ7,AT7<>$AJ7,AV7<>$AJ7,AU7<>$AJ7),$AJ7,\nIF(AND(AS7<>$AK7,AT7<>$AK7,AV7<>$AK7,AU7<>$AK7),$AK7,\nIF(AND(AS7<>$AL7,AT7<>$AL7,AV7<>$AL7,AU7<>$AL7),$AL7,\nIF(AND(AS7<>$AM7,AT7<>$AM7,AV7<>$AM7,AU7<>$AM7),$AM7,\nIF(AND(AS7<>$AN7,AT7<>$AN7,AV7<>$AN7,AU7<>$AN7),$AN7,\nIF(AND(AS7<>$AO7,AT7<>$AO7,AV7<>$AO7,AU7<>$AO7),$AO7,\nIF(AND(AS7<>$AP7,AT7<>$AP7,AV7<>$AP7,AU7<>$AP7),$AP7,\nIF(AND(AS7<>$AQ7,AT7<>$AQ7,AV7<>$AQ7,AU7<>$AQ7),$AQ7,\n\"\")))))))))))","v":""},{"$f":"IF(AW7=\"\",\"\",\nIF(AND(AS7<>$AH7,AT7<>$AH7,AU7<>$AH7,AW7<>$AH7,AV7<>$AH7),$AH7,\nIF(AND(AS7<>$AI7,AT7<>$AI7,AU7<>$AI7,AW7<>$AI7,AV7<>$AI7),$AI7,\nIF(AND(AS7<>$AJ7,AT7<>$AJ7,AU7<>$AJ7,AW7<>$AJ7,AV7<>$AJ7),$AJ7,\nIF(AND(AS7<>$AK7,AT7<>$AK7,AU7<>$AK7,AW7<>$AK7,AV7<>$AK7),$AK7,\nIF(AND(AS7<>$AL7,AT7<>$AL7,AU7<>$AL7,AW7<>$AL7,AV7<>$AL7),$AL7,\nIF(AND(AS7<>$AM7,AT7<>$AM7,AU7<>$AM7,AW7<>$AM7,AV7<>$AM7),$AM7,\nIF(AND(AS7<>$AN7,AT7<>$AN7,AU7<>$AN7,AW7<>$AN7,AV7<>$AN7),$AN7,\nIF(AND(AS7<>$AO7,AT7<>$AO7,AU7<>$AO7,AW7<>$AO7,AV7<>$AO7),$AO7,\nIF(AND(AS7<>$AP7,AT7<>$AP7,AU7<>$AP7,AW7<>$AP7,AV7<>$AP7),$AP7,\nIF(AND(AS7<>$AQ7,AT7<>$AQ7,AU7<>$AQ7,AW7<>$AQ7,AV7<>$AQ7),$AQ7,\n\"\")))))))))))","v":""},{"$f":"IF(AX7=\"\",\"\",\nIF(AND(AS7<>$AH7,AT7<>$AH7,AU7<>$AH7,AV7<>$AH7,AX7<>$AH7,AW7<>$AH7),$AH7,\nIF(AND(AS7<>$AI7,AT7<>$AI7,AU7<>$AI7,AV7<>$AI7,AX7<>$AI7,AW7<>$AI7),$AI7,\nIF(AND(AS7<>$AJ7,AT7<>$AJ7,AU7<>$AJ7,AV7<>$AJ7,AX7<>$AJ7,AW7<>$AJ7),$AJ7,\nIF(AND(AS7<>$AK7,AT7<>$AK7,AU7<>$AK7,AV7<>$AK7,AX7<>$AK7,AW7<>$AK7),$AK7,\nIF(AND(AS7<>$AL7,AT7<>$AL7,AU7<>$AL7,AV7<>$AL7,AX7<>$AL7,AW7<>$AL7),$AL7,\nIF(AND(AS7<>$AM7,AT7<>$AM7,AU7<>$AM7,AV7<>$AM7,AX7<>$AM7,AW7<>$AM7),$AM7,\nIF(AND(AS7<>$AN7,AT7<>$AN7,AU7<>$AN7,AV7<>$AN7,AX7<>$AN7,AW7<>$AN7),$AN7,\nIF(AND(AS7<>$AO7,AT7<>$AO7,AU7<>$AO7,AV7<>$AO7,AX7<>$AO7,AW7<>$AO7),$AO7,\nIF(AND(AS7<>$AP7,AT7<>$AP7,AU7<>$AP7,AV7<>$AP7,AX7<>$AP7,AW7<>$AP7),$AP7,\nIF(AND(AS7<>$AQ7,AT7<>$AQ7,AU7<>$AQ7,AV7<>$AQ7,AX7<>$AQ7,AW7<>$AQ7),$AQ7,\n\"\")))))))))))","v":""},{"$f":"IF(AY7=\"\",\"\",\nIF(AND(AS7<>$AH7,AT7<>$AH7,AU7<>$AH7,AV7<>$AH7,AW7<>$AH7,AY7<>$AH7,AX7<>$AH7),$AH7,\nIF(AND(AS7<>$AI7,AT7<>$AI7,AU7<>$AI7,AV7<>$AI7,AW7<>$AI7,AY7<>$AI7,AX7<>$AI7),$AI7,\nIF(AND(AS7<>$AJ7,AT7<>$AJ7,AU7<>$AJ7,AV7<>$AJ7,AW7<>$AJ7,AY7<>$AJ7,AX7<>$AJ7),$AJ7,\nIF(AND(AS7<>$AK7,AT7<>$AK7,AU7<>$AK7,AV7<>$AK7,AW7<>$AK7,AY7<>$AK7,AX7<>$AK7),$AK7,\nIF(AND(AS7<>$AL7,AT7<>$AL7,AU7<>$AL7,AV7<>$AL7,AW7<>$AL7,AY7<>$AL7,AX7<>$AL7),$AL7,\nIF(AND(AS7<>$AM7,AT7<>$AM7,AU7<>$AM7,AV7<>$AM7,AW7<>$AM7,AY7<>$AM7,AX7<>$AM7),$AM7,\nIF(AND(AS7<>$AN7,AT7<>$AN7,AU7<>$AN7,AV7<>$AN7,AW7<>$AN7,AY7<>$AN7,AX7<>$AN7),$AN7,\nIF(AND(AS7<>$AO7,AT7<>$AO7,AU7<>$AO7,AV7<>$AO7,AW7<>$AO7,AY7<>$AO7,AX7<>$AO7),$AO7,\nIF(AND(AS7<>$AP7,AT7<>$AP7,AU7<>$AP7,AV7<>$AP7,AW7<>$AP7,AY7<>$AP7,AX7<>$AP7),$AP7,\nIF(AND(AS7<>$AQ7,AT7<>$AQ7,AU7<>$AQ7,AV7<>$AQ7,AW7<>$AQ7,AY7<>$AQ7,AX7<>$AQ7),$AQ7,\n\"\")))))))))))","v":""},{"$f":"IF(AZ7=\"\",\"\",\nIF(AND(AS7<>$AH7,AT7<>$AH7,AU7<>$AH7,AV7<>$AH7,AW7<>$AH7,AX7<>$AH7,AZ7<>$AH7,AY7<>$AH7),$AH7,\nIF(AND(AS7<>$AI7,AT7<>$AI7,AU7<>$AI7,AV7<>$AI7,AW7<>$AI7,AX7<>$AI7,AZ7<>$AI7,AY7<>$AI7),$AI7,\nIF(AND(AS7<>$AJ7,AT7<>$AJ7,AU7<>$AJ7,AV7<>$AJ7,AW7<>$AJ7,AX7<>$AJ7,AZ7<>$AJ7,AY7<>$AJ7),$AJ7,\nIF(AND(AS7<>$AK7,AT7<>$AK7,AU7<>$AK7,AV7<>$AK7,AW7<>$AK7,AX7<>$AK7,AZ7<>$AK7,AY7<>$AK7),$AK7,\nIF(AND(AS7<>$AL7,AT7<>$AL7,AU7<>$AL7,AV7<>$AL7,AW7<>$AL7,AX7<>$AL7,AZ7<>$AL7,AY7<>$AL7),$AL7,\nIF(AND(AS7<>$AM7,AT7<>$AM7,AU7<>$AM7,AV7<>$AM7,AW7<>$AM7,AX7<>$AM7,AZ7<>$AM7,AY7<>$AM7),$AM7,\nIF(AND(AS7<>$AN7,AT7<>$AN7,AU7<>$AN7,AV7<>$AN7,AW7<>$AN7,AX7<>$AN7,AZ7<>$AN7,AY7<>$AN7),$AN7,\nIF(AND(AS7<>$AO7,AT7<>$AO7,AU7<>$AO7,AV7<>$AO7,AW7<>$AO7,AX7<>$AO7,AZ7<>$AO7,AY7<>$AO7),$AO7,\nIF(AND(AS7<>$AP7,AT7<>$AP7,AU7<>$AP7,AV7<>$AP7,AW7<>$AP7,AX7<>$AP7,AZ7<>$AP7,AY7<>$AP7),$AP7,\nIF(AND(AS7<>$AQ7,AT7<>$AQ7,AU7<>$AQ7,AV7<>$AQ7,AW7<>$AQ7,AX7<>$AQ7,AZ7<>$AQ7,AY7<>$AQ7),$AQ7,\n\"\")))))))))))","v":""},{"$f":"IF(BA7=\"\",\"\",\nIF(AND(AS7<>$AH7,AT7<>$AH7,AU7<>$AH7,AV7<>$AH7,AW7<>$AH7,AX7<>$AH7,AY7<>$AH7,BA7<>$AH7,AZ7<>$AH7),$AH7,\nIF(AND(AS7<>$AI7,AT7<>$AI7,AU7<>$AI7,AV7<>$AI7,AW7<>$AI7,AX7<>$AI7,AY7<>$AI7,BA7<>$AI7,AZ7<>$AI7),$AI7,\nIF(AND(AS7<>$AJ7,AT7<>$AJ7,AU7<>$AJ7,AV7<>$AJ7,AW7<>$AJ7,AX7<>$AJ7,AY7<>$AJ7,BA7<>$AJ7,AZ7<>$AJ7),$AJ7,\nIF(AND(AS7<>$AK7,AT7<>$AK7,AU7<>$AK7,AV7<>$AK7,AW7<>$AK7,AX7<>$AK7,AY7<>$AK7,BA7<>$AK7,AZ7<>$AK7),$AK7,\nIF(AND(AS7<>$AL7,AT7<>$AL7,AU7<>$AL7,AV7<>$AL7,AW7<>$AL7,AX7<>$AL7,AY7<>$AL7,BA7<>$AL7,AZ7<>$AL7),$AL7,\nIF(AND(AS7<>$AM7,AT7<>$AM7,AU7<>$AM7,AV7<>$AM7,AW7<>$AM7,AX7<>$AM7,AY7<>$AM7,BA7<>$AM7,AZ7<>$AM7),$AM7,\nIF(AND(AS7<>$AN7,AT7<>$AN7,AU7<>$AN7,AV7<>$AN7,AW7<>$AN7,AX7<>$AN7,AY7<>$AN7,BA7<>$AN7,AZ7<>$AN7),$AN7,\nIF(AND(AS7<>$AO7,AT7<>$AO7,AU7<>$AO7,AV7<>$AO7,AW7<>$AO7,AX7<>$AO7,AY7<>$AO7,BA7<>$AO7,AZ7<>$AO7),$AO7,\nIF(AND(AS7<>$AP7,AT7<>$AP7,AU7<>$AP7,AV7<>$AP7,AW7<>$AP7,AX7<>$AP7,AY7<>$AP7,BA7<>$AP7,AZ7<>$AP7),$AP7,\nIF(AND(AS7<>$AQ7,AT7<>$AQ7,AU7<>$AQ7,AV7<>$AQ7,AW7<>$AQ7,AX7<>$AQ7,AY7<>$AQ7,BA7<>$AQ7,AZ7<>$AQ7),$AQ7,\n\"\")))))))))))","v":""}]
[null,{"$f":"IF(R8=\"x\",1,IF(ISNUMBER(R8),R8,0))","v":0},{"$f":"IF(R8=\"x\",1,IF(ISNUMBER(R8),1,0))","v":0},null,{"$f":"M8","v":"611.100"},null,{"$f":"N8","v":"Allg. Baustelleneinrichtung"},"",null,null,null,null,"611.100","Allg. Baustelleneinrichtung",null,null,"pau",null,null,null,null,null,null,null,null,null,null,null,null,null,null,"x",null,"pau","pau","pau","pau","pau","pau","pau","pau","pau","pau",null,"pau","","","","","","","","",""]
[null,0,0,null,{"$f":"M9","v":"611.200"},null,{"$f":"N9","v":"Elektroanschluss"},"",null,null,null,null,"611.200","Elektroanschluss",null,null,"Stk. ",null,null,null,null,null,"x",null,null,null,null,null,null,null,null,"x",null,"Stk. ","pau","pau","pau","pau","pau","pau","pau","pau","pau",null,"Stk. ","pau","","","","","","","",""]
[null,0,0,null,{"$f":"M10","v":"611.300"},null,"Container","",null,null,null,null,"611.300","Container",null,null,"Stk. ",null,null,null,null,null,"x",null,null,null,null,null,null,null,null,"x",null,"Stk. ","pau","pau","pau","pau","pau","pau","pau","pau","pau",null,"Stk. ","pau","","","","","","","",""]
[null,1,1,{"$f":"K11","v":"612.000"},null,null,{"$f":"L11","v":"Transport bis Baustelle"},"pau",null,null,"612.000","Transport bis Baustelle",null,null,null,null,"pau","x",null,null,null,null,null,null,null,null,null,null,null,null,null,"x",null,"pau","pau","pau","pau","pau","pau","pau","pau","pau","pau",null,"pau","","","","","","","","",""]
[null,{"$f":"IF(OR(SUM(B13:B19)>0,R12=\"x\"),1,IF(ISNUMBER(R12),R12,0))","v":1},1,{"$f":"K12","v":"613.000"},null,null,"Hebemittel","pau",null,null,"613.000","Hebemittel",null,null,null,null,"pau","x",null,null,null,null,null,null,null,null,null,null,null,null,null,"x",null,"pau","pau","pau","pau","pau","pau","pau","pau","pau","pau",null,"pau","","","","","","","","",""]
[null,{"$f":"IF(OR(SUM(B14)>0,R13=\"x\"),1,IF(ISNUMBER(R13),R13,0))","v":0},0,null,{"$f":"M13","v":"613.100"},null,{"$f":"N13","v":"Kran"},"",null,null,null,null,"613.100","Kran",null,null,"pau",null,null,null,null,null,null,null,null,null,null,null,null,null,null,"x",null,"pau","pau","pau","pau","pau","pau","pau","pau","pau","pau",null,"pau","","","","","","","","",""]
[null,0,0,null,null,{"$f":"O14","v":"613.110"},{"$f":"P14","v":"Mobiler Kran"},"",null,null,null,null,null,null,"613.110","Mobiler Kran","pau",null,null,null,null,null,null,null,null,null,null,null,null,null,null,"x",null,"pau","pau","pau","pau","pau","pau","pau","pau","pau","pau",null,"pau","","","","","","","","",""]
[null,0,0,null,{"$f":"M15","v":"613.200"},null,{"$f":"N15","v":"Teleskoplader"},"",null,null,null,null,"613.200","Teleskoplader",null,null,"pau",null,null,null,null,null,null,null,null,null,null,null,null,null,null,"x",null,"pau","pau","pau","pau","pau","pau","pau","pau","pau","pau",null,"pau","","","","","","","","",""]
[null,0,0,null,{"$f":"M16","v":"613.300"},null,"Stapler","",null,null,null,null,"613.300","Stapler",null,null,"pau",null,null,null,null,null,null,null,null,null,null,null,null,null,null,"x",null,"pau","pau","pau","pau","pau","pau","pau","pau","pau","pau",null,"pau","","","","","","","","",""]
[null,0,0,null,{"$f":"M17","v":"613.400"},null,"Lastwagenkran","",null,null,null,null,"613.400","Lastwagenkran",null,null,"pau",null,null,null,null,null,null,null,null,null,null,null,null,null,null,"x",null,"pau","pau","pau","pau","pau","pau","pau","pau","pau","pau",null,"pau","","","","","","","","",""]
[null,0,0,null,{"$f":"M18","v":"613.500"},null,"Dachlift","",null,null,null,null,"613.500","Dachlift",null,null,"pau",null,null,null,null,null,null,null,null,null,null,null,null,null,null,"x",null,"pau","pau","pau","pau","pau","pau","pau","pau","pau","pau",null,"pau","","","","","","","","",""]
[null,0,0,null,{"$f":"M19","v":"613.600"},null,"Helikopter","",null,null,null,null,"613.600","Helikopter",null,null,"pau",null,null,null,null,null,null,null,null,null,null,null,null,null,null,"x",null,"pau","pau","pau","pau","pau","pau","pau","pau","pau","pau",null,"pau","","","","","","","","",""]
[null,{"$f":"IF(OR(SUM(B21:B22)>0,R20=\"x\"),1,IF(ISNUMBER(R20),R20,0))","v":1},1,{"$f":"K20","v":"614.000"},null,null,{"$f":"L20","v":"Entsorgung"},"pau",null,null,"614.000","Entsorgung",null,null,null,null,"pau","x",null,null,null,null,null,null,null,null,null,null,null,null,null,"x",null,"pau","pau","pau","pau","pau","pau","pau","pau","pau","pau",null,"pau","","","","","","","","",""]
[null,0,0,null,{"$f":"M21","v":"614.100"},null,{"$f":"N21","v":"Mulden"},"",null,null,null,null,"614.100","Mulden",null,null,"pau",null,null,null,null,null,null,null,null,null,null,null,null,null,null,"x",null,"pau","pau","pau","pau","pau","pau","pau","pau","pau","pau",null,"pau","","","","","","","","",""]
[null,0,0,null,{"$f":"M22","v":"614.200"},null,"Entsorgung Bauabfälle","",null,null,null,null,"614.200","Entsorgung Bauabfälle",null,null,"pau",null,null,null,null,null,null,null,null,null,null,null,null,null,null,"x",null,"pau","pau","pau","pau","pau","pau","pau","pau","pau","pau",null,"pau","","","","","","","","",""]
[null,{"$f":"IF(OR(SUM(B24)>0,R23=\"x\"),1,IF(ISNUMBER(R23),R23,0))","v":0},0,{"$f":"K23","v":"615.000"},null,null,{"$f":"L23","v":"WC, Sanitäre Installationen"},"",null,null,"615.000","WC, Sanitäre Installationen",null,null,null,null,"pau",null,null,null,null,null,null,null,null,null,null,null,null,null,null,"x",null,"pau","pau","pau","pau","pau","pau","pau","pau","pau","pau",null,"pau","","","","","","","","",""]
[null,0,0,null,{"$f":"M24","v":"615.100"},null,{"$f":"N24","v":"Anschlussarbeiten für Toiletten"},"",null,null,null,null,"615.100","Anschlussarbeiten für Toiletten",null,null,"pau",null,null,null,null,null,null,null,null,null,null,null,null,null,null,"x",null,"pau","pau","pau","pau","pau","pau","pau","pau","pau","pau",null,"pau","","","","","","","","",""]
[null,0,0,{"$f":"K25","v":"616.000"},null,null,{"$f":"L25","v":"Parkplätze"},"",null,null,"616.000","Parkplätze",null,null,null,null,"pau",null,null,null,null,null,null,null,null,null,null,null,null,null,null,"x",null,"pau","pau","pau","pau","pau","pau","pau","pau","pau","pau",null,"pau","","","","","","","","",""]
[null,0,0,"617.000",null,null,"Umschlagplatz","",null,null,"617.000","Umschlagplatz",null,null,null,null,"pau",null,null,null,null,null,null,null,null,null,null,null,null,null,null,"x",null,"pau","pau","pau","pau","pau","pau","pau","pau","pau","pau",null,"pau","","","","","","","","",""]
[null,0,0,"618.000",null,null,"Zwischenlager","",null,null,"618.000","Zwischenlager",null,null,null,null,"pau",null,null,null,null,null,null,null,null,null,null,null,null,null,null,"x",null,"pau","pau","pau","pau","pau","pau","pau","pau","pau","pau",null,"pau","","","","","","","","",""]
[null,{"$f":"B6","v":1},0,null,null,null,null,"",null,null,null,null,null,null,null,null,null,null,null,null,null,null,null,null,null,null,null,null,null,null,null,null,null,"","","","","","","","","","",null,"","","","","","","","","",""]
[null,{"$f":"IF(R29=\"x\",1,IF(SUM(B30:B39)>0,1,0))","v":1},0,{"$f":"I29","v":"620.000"},null,null,{"$f":"J29","v":"Arbeitssicherheit temporär"},"","620.000","Arbeitssicherheit temporär",null,null,null,null,null,null,"pau",null,null,null,null,null,null,null,null,null,null,null,null,null,null,"x",null,"pau","pau","pau","pau","pau","pau","pau","pau","pau","pau",null,"pau","","","","","","","","",""]
[null,{"$f":"IF(R30=\"x\",1,IF(ISNUMBER(R30),R30,0))","v":0},0,{"$f":"K30","v":"621.000"},null,null,{"$f":"L30","v":"Arbeitssicherheitskonzept"},"",null,null,"621.000","Arbeitssicherheitskonzept",null,null,null,null,"pau",null,null,null,null,null,null,null,null,null,null,null,null,null,null,"x",null,"pau","pau","pau","pau","pau","pau","pau","pau","pau","pau",null,"pau","","","","","","","","",""]
[null,{"$f":"IF(OR(SUM(B32:B39)>0,R31=\"x\"),1,IF(ISNUMBER(R31),R31,0))","v":1},0,"622.000",null,null,"Arbeitssicherheitseinrichtungen","",null,null,"622.000","Arbeitssicherheitseinrichtungen",null,null,null,null,"pau",null,null,null,null,null,null,null,null,null,null,null,null,null,null,"x",null,"pau","pau","pau","pau","pau","pau","pau","pau","pau","pau",null,"pau","","","","","","","","",""]
[null,1,1,null,{"$f":"M32","v":"622.100"},null,{"$f":"N32","v":"Gerüstturm "},"lfm",null,null,null,null,"622.100","Gerüstturm ",null,null,"lfm","x",null,null,null,null,null,null,"x",null,null,null,null,null,null,"x",null,"lfm","lfm","lfm","pau","pau","pau","pau","pau","pau","pau",null,"lfm","pau","","","","","","","",""]
[null,1,1,null,"622.200",null,"Fassadengerüst Flachdach ","m2",null,null,null,null,"622.200","Fassadengerüst Flachdach ",null,null,"m2","x",null,null,null,null,null,null,null,"x",null,null,null,null,null,"x",null,"m2","m2","m2","m2","pau","pau","pau","pau","pau","pau",null,"m2","pau","","","","","","","",""]
[null,0,0,null,"622.300",null,"Gerüst mit Dachrandsicherung","",null,null,null,null,"622.300","Gerüst mit Dachrandsicherung",null,null,"lfm",null,null,null,null,null,null,null,"x",null,null,null,null,null,null,"x",null,"lfm","lfm","lfm","pau","pau","pau","pau","pau","pau","pau",null,"lfm","pau","","","","","","","",""]
[null,0,0,null,"622.400",null,"Zonenabschrankung ","",null,null,null,null,"622.400","Zonenabschrankung ",null,null,"lfm",null,null,null,null,null,null,null,"x",null,null,null,null,null,null,"x",null,"lfm","lfm","lfm","pau","pau","pau","pau","pau","pau","pau",null,"lfm","pau","","","","","","","",""]
[null,0,0,null,"622.500",null,"Oblichtsicherung ","",null,null,null,null,"622.500","Oblichtsicherung ",null,null,"lfm",null,null,null,null,null,null,null,"x",null,null,null,null,null,null,"x",null,"lfm","lfm","lfm","pau","pau","pau","pau","pau","pau","pau",null,"lfm","pau","","","","","","","",""]
[null,0,0,null,"622.600",null,"Netz unter Dach","",null,null,null,null,"622.600","Netz unter Dach",null,null,"m2",null,null,null,null,null,null,null,null,"x",null,null,null,null,null,"x",null,"m2","m2","m2","m2","pau","pau","pau","pau","pau","pau",null,"m2","pau","","","","","","","",""]
[null,0,0,null,"622.700",null,"Sicherheits- und Schutzeinrichtungen (Beleuchtung, Signalisation, etc.)","",null,null,null,null,"622.700","Sicherheits- und Schutzeinrichtungen (Beleuchtung, Signalisation, etc.)",null,null,"pau",null,null,null,null,null,null,null,null,null,null,null,null,null,null,"x",null,"pau","pau","pau","pau","pau","pau","pau","pau","pau","pau",null,"pau","","","","","","","","",""]
[null,0,0,null,"622.800",null,{"$f":"N39","v":"Sicherung Ortgang"},"",null,null,null,null,"622.800","Sicherung Ortgang",null,null,"pau",null,null,null,null,null,null,null,"x",null,null,null,null,null,null,"x",null,"lfm","lfm","lfm","pau","pau","pau","pau","pau","pau","pau",null,"lfm","pau","","","","","","","",""]
[null,{"$f":"B29","v":1},0,null,null,null,null,"",null,null,null,null,null,null,null,null,null,null,null,null,null,null,null,null,null,null,null,null,null,null,null,null,null,"","","","","","","","","","",null,"","","","","","","","","",""]
[null,{"$f":"IF(R41=\"x\",1,IF(SUM(B42:B64)>0,1,0))","v":1},0,{"$f":"I41","v":"630.000"},null,null,{"$f":"J41","v":"Arbeitssicherheit permanent"},"","630.000","Arbeitssicherheit permanent",null,null,null,null,null,null,"pau",null,null,null,null,null,null,null,null,null,null,null,null,null,null,"x",null,"pau","pau","pau","pau","pau","pau","pau","pau","pau","pau",null,"pau","","","","","","","","",""]
[null,{"$f":"IF(OR(SUM(B43:B47)>0,R42=\"x\"),1,IF(ISNUMBER(R42),R42,0))","v":1},0,{"$f":"K42","v":"631.000"},null,null,{"$f":"L42","v":"Einzelanschlagpunkt"},"",null,null,"631.000","Einzelanschlagpunkt",null,null,null,null,"Stk. ",null,null,null,null,"E600_PermanenteArbeitssicherheit","x",null,null,null,null,null,null,null,null,"x",null,"Stk. ","pau","pau","pau","pau","pau","pau","pau","pau","pau",null,"Stk. ","pau","","","","","","","",""]
[null,{"$f":"IF(R43=\"x\",1,IF(ISNUMBER(R43),R43,0))","v":1},1,null,{"$f":"M43","v":"631.100"},null,{"$f":"N43","v":"Einzelanschlagpunkt ins Dach montiert"},"Stk. ",null,null,null,null,"631.100","Einzelanschlagpunkt ins Dach montiert",null,null,"Stk. ","x","Eigenschaften: \nZertfizierung",null,null,"E600_PermanenteArbeitssicherheit","x",null,null,null,null,null,null,null,null,"x",null,"Stk. ","pau","pau","pau","pau","pau","pau","pau","pau","pau",null,"Stk. ","pau","","","","","","","",""]
[null,0,0,null,{"$f":"M44","v":"631.200"},null,"Einzelanschlagpunkt mit Kies/Substrat beschwert","",null,null,null,null,"631.200","Einzelanschlagpunkt mit Kies/Substrat beschwert",null,null,"Stk. ",null,null,null,null,"E600_PermanenteArbeitssicherheit","x",null,null,null,null,null,null,null,null,"x",null,"Stk. ","pau","pau","pau","pau","pau","pau","pau","pau","pau",null,"Stk. ","pau","","","","","","","",""]
[null,0,0,null,{"$f":"M45","v":"631.300"},null,"Einzelanschlagpunkt mit Ballaststeinen beschwert","",null,null,null,null,"631.300","Einzelanschlagpunkt mit Ballaststeinen beschwert",null,null,"Stk. ",null,null,null,null,"E600_PermanenteArbeitssicherheit","x",null,null,null,null,null,null,null,null,"x",null,"Stk. ","pau","pau","pau","pau","pau","pau","pau","pau","pau",null,"Stk. ","pau","","","","","","","",""]
[null,0,0,null,{"$f":"M46","v":"631.400"},null,"Einzelanschlagpunkt auf UK montiert","",null,null,null,null,"631.400","Einzelanschlagpunkt auf UK montiert",null,null,"Stk. ",null,null,null,null,"E600_PermanenteArbeitssicherheit","x",null,null,null,null,null,null,null,null,"x",null,"Stk. ","pau","pau","pau","pau","pau","pau","pau","pau","pau",null,"Stk. ","pau","","","","","","","",""]
[null,0,0,null,{"$f":"M47","v":"631.500"},null,"Einzelanschlagpunkt an Wand/Decke montiert","",null,null,null,null,"631.500","Einzelanschlagpunkt an Wand/Decke montiert",null,null,"lfm",null,null,null,null,"E600_PermanenteArbeitssicherheit","x",null,null,null,null,null,null,null,null,"x",null,"Stk. ","pau","pau","pau","pau","pau","pau","pau","pau","pau",null,"Stk. ","pau","","","","","","","",""]
[null,{"$f":"IF(OR(SUM(B49:B53)>0,R48=\"x\"),1,IF(ISNUMBER(R48),R48,0))","v":1},0,{"$f":"K48","v":"632.000"},null,null,{"$f":"L48","v":"Seil- oder Schienensystem"},"",null,null,"632.000","Seil- oder Schienensystem",null,null,null,null,"lfm",null,null,null,null,"E600_PermanenteArbeitssicherheit",null,null,"x",null,null,null,null,null,null,"x",null,"lfm","lfm","lfm","pau","pau","pau","pau","pau","pau","pau",null,"lfm","pau","","","","","","","",""]
[null,1,1,null,{"$f":"M49","v":"632.100"},null,{"$f":"N49","v":"Seil- oder Schienensystem ins Dach montiert"},"lfm",null,null,null,null,"632.100","Seil- oder Schienensystem ins Dach montiert",null,null,"lfm","x",null,null,null,"E600_PermanenteArbeitssicherheit",null,null,"x",null,null,null,null,null,null,"x",null,"lfm","lfm","lfm","pau","pau","pau","pau","pau","pau","pau",null,"lfm","pau","","","","","","","",""]
[null,0,0,null,{"$f":"M50","v":"632.200"},null,"Seil- oder Schienensystem mit Kies/Substrat beschwert","",null,null,null,null,"632.200","Seil- oder Schienensystem mit Kies/Substrat beschwert",null,null,"lfm",null,null,null,null,"E600_PermanenteArbeitssicherheit",null,null,"x",null,null,null,null,null,null,"x",null,"lfm","lfm","lfm","pau","pau","pau","pau","pau","pau","pau",null,"lfm","pau","","","","","","","",""]
[null,0,0,null,{"$f":"M51","v":"632.300"},null,"Seil- oder Schienensystem mit Ballaststeinen beschwert","",null,null,null,null,"632.300","Seil- oder Schienensystem mit Ballaststeinen beschwert",null,null,"lfm",null,null,null,null,"E600_PermanenteArbeitssicherheit",null,null,"x",null,null,null,null,null,null,"x",null,"lfm","lfm","lfm","pau","pau","pau","pau","pau","pau","pau",null,"lfm","pau","","","","","","","",""]
[null,0,0,null,{"$f":"M52","v":"632.400"},null,"Seil- oder Schienensystem auf UK montiert","",null,null,null,null,"632.400","Seil- oder Schienensystem auf UK montiert",null,null,"lfm",null,null,null,null,"E600_PermanenteArbeitssicherheit",null,null,"x",null,null,null,null,null,null,"x",null,"lfm","lfm","lfm","pau","pau","pau","pau","pau","pau","pau",null,"lfm","pau","","","","","","","",""]
[null,0,0,null,{"$f":"M53","v":"632.500"},null,"Seil- oder Schienensystem an Wand/Decke montiert","",null,null,null,null,"632.500","Seil- oder Schienensystem an Wand/Decke montiert",null,null,"pau",null,null,null,null,"E600_PermanenteArbeitssicherheit",null,null,"x",null,null,null,null,null,null,"x",null,"lfm","lfm","lfm","pau","pau","pau","pau","pau","pau","pau",null,"lfm","pau","","","","","","","",""]
[null,{"$f":"IF(OR(SUM(B55:B57)>0,R54=\"x\"),1,IF(ISNUMBER(R54),R54,0))","v":0},0,{"$f":"K54","v":"633.000"},null,null,{"$f":"L54","v":"Dachzugang"},"",null,null,"633.000","Dachzugang",null,null,null,null,"pau",null,null,null,null,"E600_PermanenteArbeitssicherheit",null,null,null,null,null,null,null,null,null,"x",null,"pau","pau","pau","pau","pau","pau","pau","pau","pau","pau",null,"pau","","","","","","","","",""]
[null,0,0,null,{"$f":"M55","v":"633.100"},null,{"$f":"N55","v":"Leiter mit Fallschutz"},"",null,null,null,null,"633.100","Leiter mit Fallschutz",null,null,"pau",null,null,null,null,"E600_PermanenteArbeitssicherheit",null,null,null,null,null,null,null,null,null,"x",null,"pau","pau","pau","pau","pau","pau","pau","pau","pau","pau",null,"pau","","","","","","","","",""]
[null,0,0,null,{"$f":"M56","v":"633.200"},null,"Dachausstieg","",null,null,null,null,"633.200","Dachausstieg",null,null,"pau",null,null,null,null,"E600_PermanenteArbeitssicherheit",null,null,null,null,null,null,null,null,null,"x",null,"pau","pau","pau","pau","pau","pau","pau","pau","pau","pau",null,"pau","","","","","","","","",""]
[null,0,0,null,{"$f":"M57","v":"633.300"},null,"Aussentreppe","",null,null,null,null,"633.300","Aussentreppe",null,null,"m2",null,null,null,null,"E600_PermanenteArbeitssicherheit",null,null,null,null,null,null,null,null,null,"x",null,"pau","pau","pau","pau","pau","pau","pau","pau","pau","pau",null,"pau","","","","","","","","",""]
[null,{"$f":"IF(OR(SUM(B59:B61)>0,R58=\"x\"),1,IF(ISNUMBER(R58),R58,0))","v":1},0,{"$f":"K58","v":"634.000"},null,null,{"$f":"L58","v":"Oblicht-Durchsturzsicherung"},"",null,null,"634.000","Oblicht-Durchsturzsicherung",null,null,null,null,"m2",null,null,null,null,"E600_PermanenteArbeitssicherheit",null,null,null,"x",null,null,null,null,null,"x",null,"m2","m2","m2","m2","pau","pau","pau","pau","pau","pau",null,"m2","pau","","","","","","","",""]
[null,1,1,null,{"$f":"M59","v":"634.100"},null,{"$f":"N59","v":"Oblicht-Durchsturzsicherung Gitter"},"m2",null,null,null,null,"634.100","Oblicht-Durchsturzsicherung Gitter",null,null,"m2","x",null,null,null,"E600_PermanenteArbeitssicherheit",null,null,null,"x",null,null,null,null,null,"x",null,"m2","m2","m2","m2","pau","pau","pau","pau","pau","pau",null,"m2","pau","","","","","","","",""]
[null,0,0,null,{"$f":"M60","v":"634.200"},null,"Oblicht-Durchsturzsicherung Netze","",null,null,null,null,"634.200","Oblicht-Durchsturzsicherung Netze",null,null,"lfm",null,null,null,null,"E600_PermanenteArbeitssicherheit",null,null,null,"x",null,null,null,null,null,"x",null,"m2","m2","m2","m2","pau","pau","pau","pau","pau","pau",null,"m2","pau","","","","","","","",""]
[null,0,0,null,{"$f":"M61","v":"634.300"},null,"Oblicht-Durchsturzsicherung Geländer","",null,null,null,null,"634.300","Oblicht-Durchsturzsicherung Geländer",null,null,"lfm",null,null,null,null,"E600_PermanenteArbeitssicherheit",null,null,"x",null,null,null,null,null,null,"x",null,"lfm","lfm","lfm","pau","pau","pau","pau","pau","pau","pau",null,"lfm","pau","","","","","","","",""]
[null,0,0,{"$f":"K62","v":"635.000"},null,null,{"$f":"L62","v":"Podeste (Für Zugang WR etc.)"},"",null,null,"635.000","Podeste (Für Zugang WR etc.)",null,null,null,null,"pau",null,null,null,null,"E600_PermanenteArbeitssicherheit",null,null,null,null,null,null,null,null,null,"x",null,"pau","pau","pau","pau","pau","pau","pau","pau","pau","pau",null,"pau","","","","","","","","",""]
[null,{"$f":"IF(OR(SUM(B64)>0,R63=\"x\"),1,IF(ISNUMBER(R63),R63,0))","v":0},0,"636.000",null,null,"Geländer","",null,null,"636.000","Geländer",null,null,null,null,"lfm",null,null,null,null,"E600_PermanenteArbeitssicherheit",null,null,"x",null,null,null,null,null,null,"x",null,"lfm","lfm","lfm","pau","pau","pau","pau","pau","pau","pau",null,"lfm","pau","","","","","","","",""]
[null,0,0,null,{"$f":"M64","v":"636.100"},null,{"$f":"N64","v":"Geländer klappbar"},"",null,null,null,null,"636.100","Geländer klappbar",null,null,"lfm",null,null,null,null,"E600_PermanenteArbeitssicherheit",null,null,"x",null,null,null,null,null,null,"x",null,"lfm","lfm","lfm","pau","pau","pau","pau","pau","pau","pau",null,"lfm","pau","","","","","","","",""]
[null,{"$f":"B41","v":1},0,null,null,null,null,"",null,null,null,null,null,null,null,null,null,null,null,null,null,null,null,null,null,null,null,null,null,null,null,null,null,"","","","","","","","","","",null,"","","","","","","","","",""]
[null,{"$f":"IF(R66=\"x\",1,IF(SUM(B67:B79)>0,1,0))","v":1},0,{"$f":"I66","v":"640.000"},null,null,{"$f":"J66","v":"Bewilligungen/Föderbenantragung"},"","640.000","Bewilligungen/Föderbenantragung",null,null,null,null,null,null,"pau",null,null,null,null,null,null,null,null,null,null,null,null,null,null,"x",null,"pau","pau","pau","pau","pau","pau","pau","pau","pau","pau",null,"pau","","","","","","","","",""]
[null,{"$f":"IF(R67=\"x\",1,IF(ISNUMBER(R67),R67,0))","v":0},0,{"$f":"K67","v":"641.000"},null,null,{"$f":"L67","v":"Erstellen & Einreichen  & Abschluss TAG"},"",null,null,"641.000","Erstellen & Einreichen  & Abschluss TAG",null,null,null,null,"Std.",null,null,null,null,null,"x",null,null,null,null,"x",null,null,null,"x",null,"Stk. ","Std.","Std.","Std.","Std.","Std.","pau","pau","pau","pau",null,"Stk. ","Std.","pau","","","","","","",""]
[null,1,1,"642.000",null,null,"Erstellen & Einreichen  & Abschluss IA ","Std.",null,null,"642.000","Erstellen & Einreichen  & Abschluss IA ",null,null,null,null,"Std.","x",null,null,null,null,"x",null,null,null,null,"x",null,null,null,"x",null,"Stk. ","Std.","Std.","Std.","Std.","Std.","pau","pau","pau","pau",null,"Stk. ","Std.","pau","","","","","","",""]
[null,0,0,"643.000",null,null,"Erstellen & Einreichen & Abschluss Baugesuch","",null,null,"643.000","Erstellen & Einreichen & Abschluss Baugesuch",null,null,null,null,"Std.",null,null,null,null,null,"x",null,null,null,null,"x",null,null,null,"x",null,"Stk. ","Std.","Std.","Std.","Std.","Std.","pau","pau","pau","pau",null,"Stk. ","Std.","pau","","","","","","",""]
[null,1,1,"644.000",null,null,"Erstellen & Einreichen  & Abschluss Baumeldung","Std.",null,null,"644.000","Erstellen & Einreichen  & Abschluss Baumeldung",null,null,null,null,"Std.","x",null,null,null,null,"x",null,null,null,null,"x",null,null,null,"x",null,"Stk. ","Std.","Std.","Std.","Std.","Std.","pau","pau","pau","pau",null,"Stk. ","Std.","pau","","","","","","",""]
[null,0,0,"645.000",null,null,"Erstellen & Einreichen  & Abschluss Planvorlage ESTI für PV",{"$f":"IF(C71=1,Q71,\"\")","v":""},null,null,"645.000","Erstellen & Einreichen  & Abschluss Planvorlage ESTI für PV",null,null,null,null,"Std.",null,null,null,null,null,"x",null,null,null,null,"x",null,null,null,"x",null,{"$f":"\nIF(W71=\"x\",W$4,\nIF(X71=\"x\",X$4,\nIF(Y71=\"x\",Y$4,\nIF(Z71=\"x\",Z$4,\nIF(AA71=\"x\",AA$4,\nIF(AB71=\"x\",AB$4,\nIF(AC71=\"x\",AC$4,\nIF(AD71=\"x\",AD$4,\nIF(AE71=\"x\",AE$4,\nIF(AF71=\"x\",AF$4,\n\"\"))))))))))","v":"Stk. "},{"$f":"\nIF(X71=\"x\",X$4,\nIF(Y71=\"x\",Y$4,\nIF(Z71=\"x\",Z$4,\nIF(AA71=\"x\",AA$4,\nIF(AB71=\"x\",AB$4,\nIF(AC71=\"x\",AC$4,\nIF(AD71=\"x\",AD$4,\nIF(AE71=\"x\",AE$4,\nIF(AF71=\"x\",AF$4,\n\"\")))))))))","v":"Std."},{"$f":"\nIF(Y71=\"x\",Y$4,\nIF(Z71=\"x\",Z$4,\nIF(AA71=\"x\",AA$4,\nIF(AB71=\"x\",AB$4,\nIF(AC71=\"x\",AC$4,\nIF(AD71=\"x\",AD$4,\nIF(AE71=\"x\",AE$4,\nIF(AF71=\"x\",AF$4,\n\"\"))))))))","v":"Std."},{"$f":"\nIF(Z71=\"x\",Z$4,\nIF(AA71=\"x\",AA$4,\nIF(AB71=\"x\",AB$4,\nIF(AC71=\"x\",AC$4,\nIF(AD71=\"x\",AD$4,\nIF(AE71=\"x\",AE$4,\nIF(AF71=\"x\",AF$4,\n\"\")))))))","v":"Std."},{"$f":"\nIF(AA71=\"x\",AA$4,\nIF(AB71=\"x\",AB$4,\nIF(AC71=\"x\",AC$4,\nIF(AD71=\"x\",AD$4,\nIF(AE71=\"x\",AE$4,\nIF(AF71=\"x\",AF$4,\n\"\"))))))","v":"Std."},{"$f":"\nIF(AB71=\"x\",AB$4,\nIF(AC71=\"x\",AC$4,\nIF(AD71=\"x\",AD$4,\nIF(AE71=\"x\",AE$4,\nIF(AF71=\"x\",AF$4,\n\"\")))))","v":"Std."},{"$f":"\nIF(AC71=\"x\",AC$4,\nIF(AD71=\"x\",AD$4,\nIF(AE71=\"x\",AE$4,\nIF(AF71=\"x\",AF$4,\n\"\"))))","v":"pau"},{"$f":"\nIF(AD71=\"x\",AD$4,\nIF(AE71=\"x\",AE$4,\nIF(AF71=\"x\",AF$4,\n\"\")))","v":"pau"},{"$f":"\nIF(AE71=\"x\",AE$4,\nIF(AF71=\"x\",AF$4,\n\"\"))","v":"pau"},{"$f":"\nIF(AF71=\"x\",AF$4,\n\"\")","v":"pau"},null,{"$f":"AH71","v":"Stk. "},{"$f":"IF(AS71=\"\",\"\",\nIF(AS71<>$AH71,$AH71,\nIF(AS71<>$AI71,$AI71,\nIF(AS71<>$AJ71,$AJ71,\nIF(AS71<>$AK71,$AK71,\nIF(AS71<>$AL71,$AL71,\nIF(AS71<>$AM71,$AM71,\nIF(AS71<>$AN71,$AN71,\nIF(AS71<>$AO71,$AO71,\nIF(AS71<>$AP71,$AP71,\nIF(AS71<>$AQ71,$AQ71,\n\"\")))))))))))","v":"Std."},{"$f":"IF(AT71=\"\",\"\",\nIF(AND(AT71<>$AH71,AS71<>$AH71),$AH71,\nIF(AND(AT71<>$AI71,AS71<>$AI71),$AI71,\nIF(AND(AT71<>$AJ71,AS71<>$AJ71),$AJ71,\nIF(AND(AT71<>$AK71,AS71<>$AK71),$AK71,\nIF(AND(AT71<>$AL71,AS71<>$AL71),$AL71,\nIF(AND(AT71<>$AM71,AS71<>$AM71),$AM71,\nIF(AND(AT71<>$AN71,AS71<>$AN71),$AN71,\nIF(AND(AT71<>$AO71,AS71<>$AO71),$AO71,\nIF(AND(AT71<>$AP71,AS71<>$AP71),$AP71,\nIF(AND(AT71<>$AQ71,AS71<>$AQ71),$AQ71,\n\"\")))))))))))","v":"pau"},{"$f":"IF(AU71=\"\",\"\",\nIF(AND(AS71<>$AH71,AU71<>$AH71,AT71<>$AH71),$AH71,\nIF(AND(AS71<>$AI71,AU71<>$AI71,AT71<>$AI71),$AI71,\nIF(AND(AS71<>$AJ71,AU71<>$AJ71,AT71<>$AJ71),$AJ71,\nIF(AND(AS71<>$AK71,AU71<>$AK71,AT71<>$AK71),$AK71,\nIF(AND(AS71<>$AL71,AU71<>$AL71,AT71<>$AL71),$AL71,\nIF(AND(AS71<>$AM71,AU71<>$AM71,AT71<>$AM71),$AM71,\nIF(AND(AS71<>$AN71,AU71<>$AN71,AT71<>$AN71),$AN71,\nIF(AND(AS71<>$AO71,AU71<>$AO71,AT71<>$AO71),$AO71,\nIF(AND(AS71<>$AP71,AU71<>$AP71,AT71<>$AP71),$AP71,\nIF(AND(AS71<>$AQ71,AU71<>$AQ71,AT71<>$AQ71),$AQ71,\n\"\")))))))))))","v":""},{"$f":"IF(AV71=\"\",\"\",\nIF(AND(AS71<>$AH71,AT71<>$AH71,AV71<>$AH71,AU71<>$AH71),$AH71,\nIF(AND(AS71<>$AI71,AT71<>$AI71,AV71<>$AI71,AU71<>$AI71),$AI71,\nIF(AND(AS71<>$AJ71,AT71<>$AJ71,AV71<>$AJ71,AU71<>$AJ71),$AJ71,\nIF(AND(AS71<>$AK71,AT71<>$AK71,AV71<>$AK71,AU71<>$AK71),$AK71,\nIF(AND(AS71<>$AL71,AT71<>$AL71,AV71<>$AL71,AU71<>$AL71),$AL71,\nIF(AND(AS71<>$AM71,AT71<>$AM71,AV71<>$AM71,AU71<>$AM71),$AM71,\nIF(AND(AS71<>$AN71,AT71<>$AN71,AV71<>$AN71,AU71<>$AN71),$AN71,\nIF(AND(AS71<>$AO71,AT71<>$AO71,AV71<>$AO71,AU71<>$AO71),$AO71,\nIF(AND(AS71<>$AP71,AT71<>$AP71,AV71<>$AP71,AU71<>$AP71),$AP71,\nIF(AND(AS71<>$AQ71,AT71<>$AQ71,AV71<>$AQ71,AU71<>$AQ71),$AQ71,\n\"\")))))))))))","v":""},{"$f":"IF(AW71=\"\",\"\",\nIF(AND(AS71<>$AH71,AT71<>$AH71,AU71<>$AH71,AW71<>$AH71,AV71<>$AH71),$AH71,\nIF(AND(AS71<>$AI71,AT71<>$AI71,AU71<>$AI71,AW71<>$AI71,AV71<>$AI71),$AI71,\nIF(AND(AS71<>$AJ71,AT71<>$AJ71,AU71<>$AJ71,AW71<>$AJ71,AV71<>$AJ71),$AJ71,\nIF(AND(AS71<>$AK71,AT71<>$AK71,AU71<>$AK71,AW71<>$AK71,AV71<>$AK71),$AK71,\nIF(AND(AS71<>$AL71,AT71<>$AL71,AU71<>$AL71,AW71<>$AL71,AV71<>$AL71),$AL71,\nIF(AND(AS71<>$AM71,AT71<>$AM71,AU71<>$AM71,AW71<>$AM71,AV71<>$AM71),$AM71,\nIF(AND(AS71<>$AN71,AT71<>$AN71,AU71<>$AN71,AW71<>$AN71,AV71<>$AN71),$AN71,\nIF(AND(AS71<>$AO71,AT71<>$AO71,AU71<>$AO71,AW71<>$AO71,AV71<>$AO71),$AO71,\nIF(AND(AS71<>$AP71,AT71<>$AP71,AU71<>$AP71,AW71<>$AP71,AV71<>$AP71),$AP71,\nIF(AND(AS71<>$AQ71,AT71<>$AQ71,AU71<>$AQ71,AW71<>$AQ71,AV71<>$AQ71),$AQ71,\n\"\")))))))))))","v":""},{"$f":"IF(AX71=\"\",\"\",\nIF(AND(AS71<>$AH71,AT71<>$AH71,AU71<>$AH71,AV71<>$AH71,AX71<>$AH71,AW71<>$AH71),$AH71,\nIF(AND(AS71<>$AI71,AT71<>$AI71,AU71<>$AI71,AV71<>$AI71,AX71<>$AI71,AW71<>$AI71),$AI71,\nIF(AND(AS71<>$AJ71,AT71<>$AJ71,AU71<>$AJ71,AV71<>$AJ71,AX71<>$AJ71,AW71<>$AJ71),$AJ71,\nIF(AND(AS71<>$AK71,AT71<>$AK71,AU71<>$AK71,AV71<>$AK71,AX71<>$AK71,AW71<>$AK71),$AK71,\nIF(AND(AS71<>$AL71,AT71<>$AL71,AU71<>$AL71,AV71<>$AL71,AX71<>$AL71,AW71<>$AL71),$AL71,\nIF(AND(AS71<>$AM71,AT71<>$AM71,AU71<>$AM71,AV71<>$AM71,AX71<>$AM71,AW71<>$AM71),$AM71,\nIF(AND(AS71<>$AN71,AT71<>$AN71,AU71<>$AN71,AV71<>$AN71,AX71<>$AN71,AW71<>$AN71),$AN71,\nIF(AND(AS71<>$AO71,AT71<>$AO71,AU71<>$AO71,AV71<>$AO71,AX71<>$AO71,AW71<>$AO71),$AO71,\nIF(AND(AS71<>$AP71,AT71<>$AP71,AU71<>$AP71,AV71<>$AP71,AX71<>$AP71,AW71<>$AP71),$AP71,\nIF(AND(AS71<>$AQ71,AT71<>$AQ71,AU71<>$AQ71,AV71<>$AQ71,AX71<>$AQ71,AW71<>$AQ71),$AQ71,\n\"\")))))))))))","v":""},{"$f":"IF(AY71=\"\",\"\",\nIF(AND(AS71<>$AH71,AT71<>$AH71,AU71<>$AH71,AV71<>$AH71,AW71<>$AH71,AY71<>$AH71,AX71<>$AH71),$AH71,\nIF(AND(AS71<>$AI71,AT71<>$AI71,AU71<>$AI71,AV71<>$AI71,AW71<>$AI71,AY71<>$AI71,AX71<>$AI71),$AI71,\nIF(AND(AS71<>$AJ71,AT71<>$AJ71,AU71<>$AJ71,AV71<>$AJ71,AW71<>$AJ71,AY71<>$AJ71,AX71<>$AJ71),$AJ71,\nIF(AND(AS71<>$AK71,AT71<>$AK71,AU71<>$AK71,AV71<>$AK71,AW71<>$AK71,AY71<>$AK71,AX71<>$AK71),$AK71,\nIF(AND(AS71<>$AL71,AT71<>$AL71,AU71<>$AL71,AV71<>$AL71,AW71<>$AL71,AY71<>$AL71,AX71<>$AL71),$AL71,\nIF(AND(AS71<>$AM71,AT71<>$AM71,AU71<>$AM71,AV71<>$AM71,AW71<>$AM71,AY71<>$AM71,AX71<>$AM71),$AM71,\nIF(AND(AS71<>$AN71,AT71<>$AN71,AU71<>$AN71,AV71<>$AN71,AW71<>$AN71,AY71<>$AN71,AX71<>$AN71),$AN71,\nIF(AND(AS71<>$AO71,AT71<>$AO71,AU71<>$AO71,AV71<>$AO71,AW71<>$AO71,AY71<>$AO71,AX71<>$AO71),$AO71,\nIF(AND(AS71<>$AP71,AT71<>$AP71,AU71<>$AP71,AV71<>$AP71,AW71<>$AP71,AY71<>$AP71,AX71<>$AP71),$AP71,\nIF(AND(AS71<>$AQ71,AT71<>$AQ71,AU71<>$AQ71,AV71<>$AQ71,AW71<>$AQ71,AY71<>$AQ71,AX71<>$AQ71),$AQ71,\n\"\")))))))))))","v":""},{"$f":"IF(AZ71=\"\",\"\",\nIF(AND(AS71<>$AH71,AT71<>$AH71,AU71<>$AH71,AV71<>$AH71,AW71<>$AH71,AX71<>$AH71,AZ71<>$AH71,AY71<>$AH71),$AH71,\nIF(AND(AS71<>$AI71,AT71<>$AI71,AU71<>$AI71,AV71<>$AI71,AW71<>$AI71,AX71<>$AI71,AZ71<>$AI71,AY71<>$AI71),$AI71,\nIF(AND(AS71<>$AJ71,AT71<>$AJ71,AU71<>$AJ71,AV71<>$AJ71,AW71<>$AJ71,AX71<>$AJ71,AZ71<>$AJ71,AY71<>$AJ71),$AJ71,\nIF(AND(AS71<>$AK71,AT71<>$AK71,AU71<>$AK71,AV71<>$AK71,AW71<>$AK71,AX71<>$AK71,AZ71<>$AK71,AY71<>$AK71),$AK71,\nIF(AND(AS71<>$AL71,AT71<>$AL71,AU71<>$AL71,AV71<>$AL71,AW71<>$AL71,AX71<>$AL71,AZ71<>$AL71,AY71<>$AL71),$AL71,\nIF(AND(AS71<>$AM71,AT71<>$AM71,AU71<>$AM71,AV71<>$AM71,AW71<>$AM71,AX71<>$AM71,AZ71<>$AM71,AY71<>$AM71),$AM71,\nIF(AND(AS71<>$AN71,AT71<>$AN71,AU71<>$AN71,AV71<>$AN71,AW71<>$AN71,AX71<>$AN71,AZ71<>$AN71,AY71<>$AN71),$AN71,\nIF(AND(AS71<>$AO71,AT71<>$AO71,AU71<>$AO71,AV71<>$AO71,AW71<>$AO71,AX71<>$AO71,AZ71<>$AO71,AY71<>$AO71),$AO71,\nIF(AND(AS71<>$AP71,AT71<>$AP71,AU71<>$AP71,AV71<>$AP71,AW71<>$AP71,AX71<>$AP71,AZ71<>$AP71,AY71<>$AP71),$AP71,\nIF(AND(AS71<>$AQ71,AT71<>$AQ71,AU71<>$AQ71,AV71<>$AQ71,AW71<>$AQ71,AX71<>$AQ71,AZ71<>$AQ71,AY71<>$AQ71),$AQ71,\n\"\")))))))))))","v":""},{"$f":"IF(BA71=\"\",\"\",\nIF(AND(AS71<>$AH71,AT71<>$AH71,AU71<>$AH71,AV71<>$AH71,AW71<>$AH71,AX71<>$AH71,AY71<>$AH71,BA71<>$AH71,AZ71<>$AH71),$AH71,\nIF(AND(AS71<>$AI71,AT71<>$AI71,AU71<>$AI71,AV71<>$AI71,AW71<>$AI71,AX71<>$AI71,AY71<>$AI71,BA71<>$AI71,AZ71<>$AI71),$AI71,\nIF(AND(AS71<>$AJ71,AT71<>$AJ71,AU71<>$AJ71,AV71<>$AJ71,AW71<>$AJ71,AX71<>$AJ71,AY71<>$AJ71,BA71<>$AJ71,AZ71<>$AJ71),$AJ71,\nIF(AND(AS71<>$AK71,AT71<>$AK71,AU71<>$AK71,AV71<>$AK71,AW71<>$AK71,AX71<>$AK71,AY71<>$AK71,BA71<>$AK71,AZ71<>$AK71),$AK71,\nIF(AND(AS71<>$AL71,AT71<>$AL71,AU71<>$AL71,AV71<>$AL71,AW71<>$AL71,AX71<>$AL71,AY71<>$AL71,BA71<>$AL71,AZ71<>$AL71),$AL71,\nIF(AND(AS71<>$AM71,AT71<>$AM71,AU71<>$AM71,AV71<>$AM71,AW71<>$AM71,AX71<>$AM71,AY71<>$AM71,BA71<>$AM71,AZ71<>$AM71),$AM71,\nIF(AND(AS71<>$AN71,AT71<>$AN71,AU71<>$AN71,AV71<>$AN71,AW71<>$AN71,AX71<>$AN71,AY71<>$AN71,BA71<>$AN71,AZ71<>$AN71),$AN71,\nIF(AND(AS71<>$AO71,AT71<>$AO71,AU71<>$AO71,AV71<>$AO71,AW71<>$AO71,AX71<>$AO71,AY71<>$AO71,BA71<>$AO71,AZ71<>$AO71),$AO71,\nIF(AND(AS71<>$AP71,AT71<>$AP71,AU71<>$AP71,AV71<>$AP71,AW71<>$AP71,AX71<>$AP71,AY71<>$AP71,BA71<>$AP71,AZ71<>$AP71),$AP71,\nIF(AND(AS71<>$AQ71,AT71<>$AQ71,AU71<>$AQ71,AV71<>$AQ71,AW71<>$AQ71,AX71<>$AQ71,AY71<>$AQ71,BA71<>$AQ71,AZ71<>$AQ71),$AQ71,\n\"\")))))))))))","v":""}]
[null,0,{"$f":"IF(R72=\"x\",1,IF(ISNUMBER(R72),1,0))","v":0},"646.000",null,null,"Erstellen & Einreichen  & Abschluss Planvorlage ESTI für MS","",null,null,"646.000","Erstellen & Einreichen  & Abschluss Planvorlage ESTI für MS",null,null,null,null,"Std.",null,null,null,null,null,"x",null,null,null,null,"x",null,null,null,"x",null,"Stk. ","Std.","Std.","Std.","Std.","Std.","pau","pau","pau","pau",null,"Stk. ","Std.","pau","","","","","","",""]
[null,{"$f":"IF(OR(SUM(B74:B75)>0,R73=\"x\"),1,IF(ISNUMBER(R73),R73,0))","v":0},0,"647.000",null,null,"Erstellen & Einreichen  & Abschluss Anmeldung Förderung","",null,null,"647.000","Erstellen & Einreichen  & Abschluss Anmeldung Förderung",null,null,null,null,"Std.",null,null,null,null,null,"x",null,null,null,null,"x",null,null,null,"x",null,"Stk. ","Std.","Std.","Std.","Std.","Std.","pau","pau","pau","pau",null,"Stk. ","Std.","pau","","","","","","",""]
[null,0,0,null,{"$f":"M74","v":"647.100"},null,{"$f":"N74","v":"Erstellen & Einreichen  & Abschluss Pronovo-Anmeldung"},"",null,null,null,null,"647.100","Erstellen & Einreichen  & Abschluss Pronovo-Anmeldung",null,null,"Std.",null,null,null,null,null,"x",null,null,null,null,"x",null,null,null,"x",null,"Stk. ","Std.","Std.","Std.","Std.","Std.","pau","pau","pau","pau",null,"Stk. ","Std.","pau","","","","","","",""]
[null,0,0,null,{"$f":"M75","v":"647.200"},null,"Erstellen & Einreichen  & Abschluss Anmeldung Förderung Kanton oder Gemeinde","",null,null,null,null,"647.200","Erstellen & Einreichen  & Abschluss Anmeldung Förderung Kanton oder Gemeinde",null,null,"Std.",null,null,null,null,null,"x",null,null,null,null,"x",null,null,null,"x",null,"Stk. ","Std.","Std.","Std.","Std.","Std.","pau","pau","pau","pau",null,"Stk. ","Std.","pau","","","","","","",""]
[null,{"$f":"IF(OR(SUM(B77:B79)>0,R76=\"x\"),1,IF(ISNUMBER(R76),R76,0))","v":1},0,{"$f":"K76","v":"648.000"},null,null,{"$f":"L76","v":"Gebühren"},"",null,null,"648.000","Gebühren",null,null,null,null,"Stk. ",null,null,null,null,null,"x",null,null,null,null,null,null,null,null,"x",null,"Stk. ","pau","pau","pau","pau","pau","pau","pau","pau","pau",null,"Stk. ","pau","","","","","","","",""]
[null,0,0,null,{"$f":"M77","v":"648.100"},null,{"$f":"N77","v":"Gebühren Baugesuch"},"",null,null,null,null,"648.100","Gebühren Baugesuch",null,null,"Stk. ",null,null,null,null,null,"x",null,null,null,null,null,null,null,null,"x",null,"Stk. ","pau","pau","pau","pau","pau","pau","pau","pau","pau",null,"Stk. ","pau","","","","","","","",""]
[null,0,0,null,{"$f":"M78","v":"648.200"},null,"Gebühren VNB","",null,null,null,null,"648.200","Gebühren VNB",null,null,"Stk. ",null,null,null,null,null,"x",null,null,null,null,null,null,null,null,"x",null,"Stk. ","pau","pau","pau","pau","pau","pau","pau","pau","pau",null,"Stk. ","pau","","","","","","","",""]
[null,1,1,null,{"$f":"M79","v":"648.300"},null,"Gebühren ESTI","Stk. ",null,null,null,null,"648.300","Gebühren ESTI",null,null,"Stk. ","x",null,null,null,null,"x",null,null,null,null,null,null,null,null,"x",null,"Stk. ","pau","pau","pau","pau","pau","pau","pau","pau","pau",null,"Stk. ","pau","","","","","","","",""]
[null,{"$f":"B66","v":1},0,null,null,null,null,"",null,null,null,null,null,null,null,null,null,null,null,null,null,null,null,null,null,null,null,null,null,null,null,null,null,"","","","","","","","","","",null,"","","","","","","","","",""]
[null,{"$f":"IF(R81=\"x\",1,IF(SUM(B82:B102)>0,1,0))","v":1},0,{"$f":"I81","v":"650.000"},null,null,{"$f":"J81","v":"Ausführungsplanung"},"","650.000","Ausführungsplanung",null,null,null,null,null,null,"pau",null,null,null,null,null,null,null,null,null,null,"x",null,null,null,"x",null,"Std.","Std.","Std.","Std.","Std.","Std.","pau","pau","pau","pau",null,"Std.","pau","","","","","","","",""]
[null,{"$f":"IF(OR(SUM(B83:B87)>0,R82=\"x\"),1,IF(ISNUMBER(R82),R82,0))","v":0},0,{"$f":"K82","v":"651.000"},null,null,{"$f":"L82","v":"Schnittstellensicherung"},"",null,null,"651.000","Schnittstellensicherung",null,null,null,null,"Std.",null,null,null,null,null,null,null,null,null,null,"x",null,null,null,"x",null,"Std.","Std.","Std.","Std.","Std.","Std.","pau","pau","pau","pau",null,"Std.","pau","","","","","","","",""]
[null,{"$f":"IF(R83=\"x\",1,IF(ISNUMBER(R83),R83,0))","v":0},0,null,{"$f":"M83","v":"651.100"},null,{"$f":"N83","v":"Expertise"},"",null,null,null,null,"651.100","Expertise",null,null,"Std.",null,null,null,null,null,null,null,null,null,null,"x",null,null,null,"x",null,"Std.","Std.","Std.","Std.","Std.","Std.","pau","pau","pau","pau",null,"Std.","pau","","","","","","","",""]
[null,0,0,null,{"$f":"M84","v":"651.200"},null,"Abnahme","",null,null,null,null,"651.200","Abnahme",null,null,"Std.",null,null,null,null,null,null,null,null,null,null,"x",null,null,null,"x",null,"Std.","Std.","Std.","Std.","Std.","Std.","pau","pau","pau","pau",null,"Std.","pau","","","","","","","",""]
[null,0,0,null,{"$f":"M85","v":"651.300"},null,"Zustandsaufnahmen","",null,null,null,null,"651.300","Zustandsaufnahmen",null,null,"Std.",null,null,null,null,null,null,null,null,null,null,"x",null,null,null,"x",null,"Std.","Std.","Std.","Std.","Std.","Std.","pau","pau","pau","pau",null,"Std.","pau","","","","","","","",""]
[null,0,0,null,{"$f":"M86","v":"651.400"},null,"Masskontrolle am Bau","",null,null,null,null,"651.400","Masskontrolle am Bau",null,null,"Std.",null,null,null,null,null,null,null,null,null,null,"x",null,null,null,"x",null,"Std.","Std.","Std.","Std.","Std.","Std.","pau","pau","pau","pau",null,"Std.","pau","","","","","","","",""]
[null,0,0,null,{"$f":"M87","v":"651.500"},null,"Sondierungen","",null,null,null,null,"651.500","Sondierungen",null,null,"Std.",null,null,null,null,null,null,null,null,null,null,"x",null,null,null,"x",null,"Std.","Std.","Std.","Std.","Std.","Std.","pau","pau","pau","pau",null,"Std.","pau","","","","","","","",""]
[null,{"$f":"IF(OR(SUM(B89:B93)>0,R88=\"x\"),1,IF(ISNUMBER(R88),R88,0))","v":1},1,{"$f":"K88","v":"652.000"},null,null,{"$f":"L88","v":"Ausführungspläne erstellen/zeichnen"},"Std.",null,null,"652.000","Ausführungspläne erstellen/zeichnen",null,null,null,null,"Std.","x",null,null,null,null,null,null,null,null,null,"x",null,null,null,"x",null,"Std.","Std.","Std.","Std.","Std.","Std.","pau","pau","pau","pau",null,"Std.","pau","","","","","","","",""]
[null,0,0,null,{"$f":"M89","v":"652.100"},null,{"$f":"N89","v":"Modulplan erstellen"},"",null,null,null,null,"652.100","Modulplan erstellen",null,null,"Std.",null,null,null,null,null,null,null,null,null,null,"x",null,null,null,"x",null,"Std.","Std.","Std.","Std.","Std.","Std.","pau","pau","pau","pau",null,"Std.","pau","","","","","","","",""]
[null,0,0,null,{"$f":"M90","v":"652.200"},null,"Stringplan erstellen","",null,null,null,null,"652.200","Stringplan erstellen",null,null,"Std.",null,null,null,null,null,null,null,null,null,null,"x",null,null,null,"x",null,"Std.","Std.","Std.","Std.","Std.","Std.","pau","pau","pau","pau",null,"Std.","pau","","","","","","","",""]
[null,0,0,null,{"$f":"M91","v":"652.300"},null,"Logistikplan erstellen","",null,null,null,null,"652.300","Logistikplan erstellen",null,null,"Std.",null,null,null,null,null,null,null,null,null,null,"x",null,null,null,"x",null,"Std.","Std.","Std.","Std.","Std.","Std.","pau","pau","pau","pau",null,"Std.","pau","","","","","","","",""]
[null,0,0,null,{"$f":"M92","v":"652.400"},null,"Dispo WR erstellen","",null,null,null,null,"652.400","Dispo WR erstellen",null,null,"Std.",null,null,null,null,null,null,null,null,null,null,"x",null,null,null,"x",null,"Std.","Std.","Std.","Std.","Std.","Std.","pau","pau","pau","pau",null,"Std.","pau","","","","","","","",""]
[null,0,0,null,{"$f":"M93","v":"652.500"},null,"Dispo UV/HV erstellen","",null,null,null,null,"652.500","Dispo UV/HV erstellen",null,null,"pau",null,null,null,null,null,null,null,null,null,null,"x",null,null,null,"x",null,"Std.","Std.","Std.","Std.","Std.","Std.","pau","pau","pau","pau",null,"Std.","pau","","","","","","","",""]
[null,0,0,{"$f":"K94","v":"653.000"},null,null,{"$f":"L94","v":"Gebäudestatiknachweis erstellen"},"",null,null,"653.000","Gebäudestatiknachweis erstellen",null,null,null,null,"Std.",null,null,null,null,null,null,null,null,null,null,"x",null,null,null,"x",null,"Std.","Std.","Std.","Std.","Std.","Std.","pau","pau","pau","pau",null,"Std.","pau","","","","","","","",""]
[null,0,0,{"$f":"K95","v":"654.000"},null,null,{"$f":"L95","v":"Statikbericht Montagekonstruktion erstellen"},"",null,null,"654.000","Statikbericht Montagekonstruktion erstellen",null,null,null,null,"Std.",null,null,null,null,null,null,null,null,null,null,"x",null,null,null,"x",null,"Std.","Std.","Std.","Std.","Std.","Std.","pau","pau","pau","pau",null,"Std.","pau","","","","","","","",""]
[null,0,0,"655.000",null,null,"Statikbericht Unternehmer erstellen","",null,null,"655.000","Statikbericht Unternehmer erstellen",null,null,null,null,"pau",null,null,null,null,null,null,null,null,null,null,"x",null,null,null,"x",null,"Std.","Std.","Std.","Std.","Std.","Std.","pau","pau","pau","pau",null,"Std.","pau","","","","","","","",""]
[null,0,0,"656.000",null,null,"Erstellen Brandschutzkonzept","",null,null,"656.000","Erstellen Brandschutzkonzept",null,null,null,null,"Std.",null,null,null,null,null,null,null,null,null,null,"x",null,null,null,"x",null,"Std.","Std.","Std.","Std.","Std.","Std.","pau","pau","pau","pau",null,"Std.","pau","","","","","","","",""]
[null,0,0,"657.000",null,null,"Erstellen Überspannungs- und Blitzschutzkonzept","",null,null,"657.000","Erstellen Überspannungs- und Blitzschutzkonzept",null,null,null,null,"pau",null,null,null,null,null,null,null,null,null,null,"x",null,null,null,"x",null,"Std.","Std.","Std.","Std.","Std.","Std.","pau","pau","pau","pau",null,"Std.","pau","","","","","","","",""]
[null,0,0,"658.000",null,null,"Selektivitätsnachweis","",null,null,"658.000","Selektivitätsnachweis",null,null,null,null,"Std.",null,null,null,null,null,null,null,null,null,null,"x",null,null,null,"x",null,"Std.","Std.","Std.","Std.","Std.","Std.","pau","pau","pau","pau",null,"Std.","pau","","","","","","","",""]
[null,{"$f":"IF(OR(SUM(B101:B102)>0,R100=\"x\"),1,IF(ISNUMBER(R100),R100,0))","v":0},0,"659.000",null,null,"Muster","",null,null,"659.000","Muster",null,null,null,null,"Std.",null,null,null,null,null,null,null,null,null,null,"x",null,null,null,"x",null,"Std.","Std.","Std.","Std.","Std.","Std.","pau","pau","pau","pau",null,"Std.","pau","","","","","","","",""]
[null,0,0,null,{"$f":"M101","v":"659.100"},null,{"$f":"N101","v":"Handmuster"},"",null,null,null,null,"659.100","Handmuster",null,null,"Stk. ",null,null,null,null,null,"x",null,null,null,null,null,null,null,null,"x",null,"Stk. ","pau","pau","pau","pau","pau","pau","pau","pau","pau",null,"Stk. ","pau","","","","","","","",""]
[null,0,0,null,{"$f":"M102","v":"659.200"},null,"Mock-Up erstellen","",null,null,null,null,"659.200","Mock-Up erstellen",null,null,"pau",null,null,null,null,null,null,null,null,null,null,null,null,null,null,"x",null,"pau","pau","pau","pau","pau","pau","pau","pau","pau","pau",null,"pau","","","","","","","","",""]
[null,{"$f":"B81","v":1},0,null,null,null,null,"",null,null,null,null,null,null,null,null,null,null,null,null,null,null,null,null,null,null,null,null,null,null,null,null,null,"","","","","","","","","","",null,"","","","","","","","","",""]
[null,{"$f":"IF(R104=\"x\",1,IF(SUM(B105:B112)>0,1,0))","v":1},0,{"$f":"I104","v":"660.000"},null,null,{"$f":"J104","v":"Projekt- und Bauleitung"},"","660.000","Projekt- und Bauleitung",null,null,null,null,null,null,"pau",null,null,null,null,null,null,null,null,null,null,"x",null,null,null,"x",null,"Std.","Std.","Std.","Std.","Std.","Std.","pau","pau","pau","pau",null,"Std.","pau","","","","","","","",""]
[null,{"$f":"IF(R105=\"x\",1,IF(ISNUMBER(R105),R105,0))","v":1},1,{"$f":"K105","v":"661.000"},null,null,{"$f":"L105","v":"Projektleitung"},"Std.",null,null,"661.000","Projektleitung",null,null,null,null,"Std.","x",null,null,null,null,null,null,null,null,null,"x",null,null,null,"x",null,"Std.","Std.","Std.","Std.","Std.","Std.","pau","pau","pau","pau",null,"Std.","pau","","","","","","","",""]
[null,1,1,"662.000",null,null,"Bauleitung","Std.",null,null,"662.000","Bauleitung",null,null,null,null,"Std.","x",null,null,null,null,null,null,null,null,null,"x",null,null,null,"x",null,"Std.","Std.","Std.","Std.","Std.","Std.","pau","pau","pau","pau",null,"Std.","pau","","","","","","","",""]
[null,{"$f":"IF(OR(SUM(B108:B109)>0,R107=\"x.\"),1,IF(ISNUMBER(R107),R107,0))","v":0},1,"663.000",null,null,"Inbetriebnahme","Std.",null,null,"663.000","Inbetriebnahme",null,null,null,null,"Std.","x",null,null,null,null,null,null,null,null,null,"x",null,null,null,"x",null,"Std.","Std.","Std.","Std.","Std.","Std.","pau","pau","pau","pau",null,"Std.","pau","","","","","","","",""]
[null,0,0,null,{"$f":"M108","v":"663.100"},null,{"$f":"N108","v":"Inbetriebnahme PVA"},"",null,null,null,null,"663.100","Inbetriebnahme PVA",null,null,"Std.",null,null,null,null,null,null,null,null,null,null,null,null,null,null,null,null,"","","","","","","","","","",null,"","","","","","","","","",""]
[null,0,0,null,{"$f":"M109","v":"663.200"},null,"Programmierungen von Steuerungen","",null,null,null,null,"663.200","Programmierungen von Steuerungen",null,null,"Std.",null,null,null,null,null,null,null,null,null,null,null,null,null,null,null,null,"","","","","","","","","","",null,"","","","","","","","","",""]
[null,1,1,{"$f":"K110","v":"664.000"},null,null,{"$f":"L110","v":"Anlagendokumentation"},"Std.",null,null,"664.000","Anlagendokumentation",null,null,null,null,"Std.","x",null,null,null,null,null,null,null,null,null,"x",null,null,null,"x",null,"Std.","Std.","Std.","Std.","Std.","Std.","pau","pau","pau","pau",null,"Std.","pau","","","","","","","",""]
[null,1,1,"665.000",null,null,"Instruktion","Std.",null,null,"665.000","Instruktion",null,null,null,null,"Std.","x",null,null,null,null,null,null,null,null,null,"x",null,null,null,"x",null,"Std.","Std.","Std.","Std.","Std.","Std.","pau","pau","pau","pau",null,"Std.","pau","","","","","","","",""]
[null,0,0,"666.000",null,null,"Regieansätze","",null,null,"666.000","Regieansätze",null,null,null,null,"Std.",null,null,null,null,null,null,null,null,null,null,"x",null,null,null,"x",null,"Std.","Std.","Std.","Std.","Std.","Std.","pau","pau","pau","pau",null,"Std.","pau","","","","","","","",""]
[null,{"$f":"B104","v":1},0,null,null,null,null,"",null,null,null,null,null,null,null,null,null,null,null,null,null,null,null,null,null,null,null,null,null,null,null,null,null,"","","","","","","","","","",null,"","","","","","","","","",""]
[null,{"$f":"IF(R114=\"x\",1,IF(SUM(B115:B123)>0,1,0))","v":1},0,{"$f":"I114","v":"670.000"},null,null,{"$f":"J114","v":"Abnahmen"},"","670.000","Abnahmen",null,null,null,null,null,null,"pau",null,null,null,null,null,null,null,null,null,null,null,null,null,null,"x",null,"pau","pau","pau","pau","pau","pau","pau","pau","pau","pau",null,"pau","","","","","","","","",""]
[null,{"$f":"IF(R115=\"x\",1,IF(ISNUMBER(R115),R115,0))","v":1},1,{"$f":"K115","v":"671.000"},null,null,{"$f":"L115","v":"Abnahme Planer/Bauherr/Behörde/VNB"},"Std.",null,null,"671.000","Abnahme Planer/Bauherr/Behörde/VNB",null,null,null,null,"Std.","x",null,null,null,null,null,null,null,null,null,"x",null,null,null,"x",null,"Std.","Std.","Std.","Std.","Std.","Std.","pau","pau","pau","pau",null,"Std.","pau","","","","","","","",""]
[null,1,1,"672.000",null,null,"Erstellen SiNa","Std.",null,null,"672.000","Erstellen SiNa",null,null,null,null,"Std.","x",null,null,null,null,null,null,null,null,null,"x",null,null,null,"x",null,"Std.","Std.","Std.","Std.","Std.","Std.","pau","pau","pau","pau",null,"Std.","pau","","","","","","","",""]
[null,1,1,"673.000",null,null,"Erstellen MP PV (Mess- und Prüfprotokoll)","Std.",null,null,"673.000","Erstellen MP PV (Mess- und Prüfprotokoll)",null,null,null,null,"Std.","x",null,null,null,null,null,null,null,null,null,"x",null,null,null,"x",null,"Std.","Std.","Std.","Std.","Std.","Std.","pau","pau","pau","pau",null,"Std.","pau","","","","","","","",""]
[null,1,1,"674.000",null,null,"Akkreditierte Kontrolle DC","Std.",null,null,"674.000","Akkreditierte Kontrolle DC",null,null,null,null,"Std.","x",null,null,null,null,null,null,null,null,null,"x",null,null,null,"x",null,"Std.","Std.","Std.","Std.","Std.","Std.","pau","pau","pau","pau",null,"Std.","pau","","","","","","","",""]
[null,1,1,"675.000",null,null,"Unabhängige Kontrolle AC","Std.",null,null,"675.000","Unabhängige Kontrolle AC",null,null,null,null,"Std.","x",null,null,null,null,null,null,null,null,null,"x",null,null,null,"x",null,"Std.","Std.","Std.","Std.","Std.","Std.","pau","pau","pau","pau",null,"Std.","pau","","","","","","","",""]
[null,1,1,"676.000",null,null,"Beglaubigung Pronovo durch Auditor inkl. Einreichen Pronovo","Std.",null,null,"676.000","Beglaubigung Pronovo durch Auditor inkl. Einreichen Pronovo",null,null,null,null,"Std.","x",null,null,null,null,null,null,null,null,null,"x",null,null,null,"x",null,"Std.","Std.","Std.","Std.","Std.","Std.","pau","pau","pau","pau",null,"Std.","pau","","","","","","","",""]
[null,0,0,null,{"$f":"M121","v":"676.100"},null,{"$f":"N121","v":"Beglaubigung Pronovo durch Auditor inkl. Einreichen Pronovo inkl. HKN"},"",null,null,null,null,"676.100","Beglaubigung Pronovo durch Auditor inkl. Einreichen Pronovo inkl. HKN",null,null,"Std.",null,null,null,null,null,null,null,null,null,null,null,null,null,null,"x",null,"pau","pau","pau","pau","pau","pau","pau","pau","pau","pau",null,"pau","","","","","","","","",""]
[null,0,0,{"$f":"K122","v":"677.000"},null,null,{"$f":"L122","v":"Abnahme mit ESTI vor Ort"},"",null,null,"677.000","Abnahme mit ESTI vor Ort",null,null,null,null,"Std.",null,null,null,null,null,null,null,null,null,null,"x",null,null,null,"x",null,"Std.","Std.","Std.","Std.","Std.","Std.","pau","pau","pau","pau",null,"Std.","pau","","","","","","","",""]
[null,0,0,"678.000",null,null,"Blitzschutzattest","",null,null,"678.000","Blitzschutzattest",null,null,null,null,"Std.",null,null,null,null,null,null,null,null,null,null,"x",null,null,null,"x",null,"Std.","Std.","Std.","Std.","Std.","Std.","pau","pau","pau","pau",null,"Std.","pau","","","","","","","",""]
[null,{"$f":"B114","v":1},0]

{"sheet":"700 Gebäudearbeiten","index":9,"n_rows":101,"n_cols":53,"rows_kept":101,"cut":false,"hidden":false,"merged":[[0,20,0,52],[1,7,1,8],[3,7,3,8],[3,9,3,10],[3,11,3,12],[2,7,2,12]]}
[null,null,null,null,null,null,null,null,null,null,null,null,null,null,null,null,null,null,null,null,"AUSBLENDEN"]
[null,null,null,null,null,"Ausblenden",null,"Strukturebene 1:",null,700,"Gebäudearbeiten"]
[null,null,null,null,null,null,null,"Optional"]
[null,"Show","Fill","SOQ-Nr.",null,"Beschreibung","Einheit","Strukturebene 2",null,"Strukturebene 3",null,"Strukturebene 4",null,"Leistungs-Einheit","Position Hinzufügen","E- Box",null,null,null,null,"E-Box","Stk. ","Modul","lfm","m2","m3","Std.","Monate","Jahre","kWp","pau",null,"Pos1","Pos2","Pos3","Pos4","Pos5","Pos6","Pos7","Pos8","Pos9","Pos10",null,"Pos1","Pos2","Pos3","Pos4","Pos5","Pos6","Pos7","Pos8","Pos9","Pos10"]
[]
[null,{"$f":"IF(O6=\"x\",1,IF(SUM(B8:B28)>0,1,0))","v":0},{"$f":"IF(O6=\"x\",1,IF(ISNUMBER(O6),1,0))","v":0},{"$f":"H6","v":"710.000"},null,{"$f":"I6","v":"Spenglerarbeiten"},{"$f":"IF(C6=1,N6,\"\")","v":""},"710.000","Spenglerarbeiten",null,null,null,null,"pau",null,null,null,null,null,null,"E700_Metallarbeiten",null,null,null,null,null,null,null,null,null,"x",null,{"$f":"\nIF(V6=\"x\",V$4,\nIF(W6=\"x\",W$4,\nIF(X6=\"x\",X$4,\nIF(Y6=\"x\",Y$4,\nIF(Z6=\"x\",Z$4,\nIF(AA6=\"x\",AA$4,\nIF(AB6=\"x\",AB$4,\nIF(AC6=\"x\",AC$4,\nIF(AD6=\"x\",AD$4,\nIF(AE6=\"x\",AE$4,\n\"\"))))))))))","v":"pau"},{"$f":"\nIF(W6=\"x\",W$4,\nIF(X6=\"x\",X$4,\nIF(Y6=\"x\",Y$4,\nIF(Z6=\"x\",Z$4,\nIF(AA6=\"x\",AA$4,\nIF(AB6=\"x\",AB$4,\nIF(AC6=\"x\",AC$4,\nIF(AD6=\"x\",AD$4,\nIF(AE6=\"x\",AE$4,\n\"\")))))))))","v":"pau"},{"$f":"\nIF(X6=\"x\",X$4,\nIF(Y6=\"x\",Y$4,\nIF(Z6=\"x\",Z$4,\nIF(AA6=\"x\",AA$4,\nIF(AB6=\"x\",AB$4,\nIF(AC6=\"x\",AC$4,\nIF(AD6=\"x\",AD$4,\nIF(AE6=\"x\",AE$4,\n\"\"))))))))","v":"pau"},{"$f":"\nIF(Y6=\"x\",Y$4,\nIF(Z6=\"x\",Z$4,\nIF(AA6=\"x\",AA$4,\nIF(AB6=\"x\",AB$4,\nIF(AC6=\"x\",AC$4,\nIF(AD6=\"x\",AD$4,\nIF(AE6=\"x\",AE$4,\n\"\")))))))","v":"pau"},{"$f":"\nIF(Z6=\"x\",Z$4,\nIF(AA6=\"x\",AA$4,\nIF(AB6=\"x\",AB$4,\nIF(AC6=\"x\",AC$4,\nIF(AD6=\"x\",AD$4,\nIF(AE6=\"x\",AE$4,\n\"\"))))))","v":"pau"},{"$f":"\nIF(AA6=\"x\",AA$4,\nIF(AB6=\"x\",AB$4,\nIF(AC6=\"x\",AC$4,\nIF(AD6=\"x\",AD$4,\nIF(AE6=\"x\",AE$4,\n\"\")))))","v":"pau"},{"$f":"\nIF(AB6=\"x\",AB$4,\nIF(AC6=\"x\",AC$4,\nIF(AD6=\"x\",AD$4,\nIF(AE6=\"x\",AE$4,\n\"\"))))","v":"pau"},{"$f":"\nIF(AC6=\"x\",AC$4,\nIF(AD6=\"x\",AD$4,\nIF(AE6=\"x\",AE$4,\n\"\")))","v":"pau"},{"$f":"\nIF(AD6=\"x\",AD$4,\nIF(AE6=\"x\",AE$4,\n\"\"))","v":"pau"},{"$f":"\nIF(AE6=\"x\",AE$4,\n\"\")","v":"pau"},null,{"$f":"AG6","v":"pau"},{"$f":"IF(AR6=\"\",\"\",\nIF(AR6<>$AG6,$AG6,\nIF(AR6<>$AH6,$AH6,\nIF(AR6<>$AI6,$AI6,\nIF(AR6<>$AJ6,$AJ6,\nIF(AR6<>$AK6,$AK6,\nIF(AR6<>$AL6,$AL6,\nIF(AR6<>$AM6,$AM6,\nIF(AR6<>$AN6,$AN6,\nIF(AR6<>$AO6,$AO6,\nIF(AR6<>$AP6,$AP6,\n\"\")))))))))))","v":""},{"$f":"IF(AS6=\"\",\"\",\nIF(AND(AS6<>$AG6,AR6<>$AG6),$AG6,\nIF(AND(AS6<>$AH6,AR6<>$AH6),$AH6,\nIF(AND(AS6<>$AI6,AR6<>$AI6),$AI6,\nIF(AND(AS6<>$AJ6,AR6<>$AJ6),$AJ6,\nIF(AND(AS6<>$AK6,AR6<>$AK6),$AK6,\nIF(AND(AS6<>$AL6,AR6<>$AL6),$AL6,\nIF(AND(AS6<>$AM6,AR6<>$AM6),$AM6,\nIF(AND(AS6<>$AN6,AR6<>$AN6),$AN6,\nIF(AND(AS6<>$AO6,AR6<>$AO6),$AO6,\nIF(AND(AS6<>$AP6,AR6<>$AP6),$AP6,\n\"\")))))))))))","v":""},{"$f":"IF(AT6=\"\",\"\",\nIF(AND(AR6<>$AG6,AT6<>$AG6,AS6<>$AG6),$AG6,\nIF(AND(AR6<>$AH6,AT6<>$AH6,AS6<>$AH6),$AH6,\nIF(AND(AR6<>$AI6,AT6<>$AI6,AS6<>$AI6),$AI6,\nIF(AND(AR6<>$AJ6,AT6<>$AJ6,AS6<>$AJ6),$AJ6,\nIF(AND(AR6<>$AK6,AT6<>$AK6,AS6<>$AK6),$AK6,\nIF(AND(AR6<>$AL6,AT6<>$AL6,AS6<>$AL6),$AL6,\nIF(AND(AR6<>$AM6,AT6<>$AM6,AS6<>$AM6),$AM6,\nIF(AND(AR6<>$AN6,AT6<>$AN6,AS6<>$AN6),$AN6,\nIF(AND(AR6<>$AO6,AT6<>$AO6,AS6<>$AO6),$AO6,\nIF(AND(AR6<>$AP6,AT6<>$AP6,AS6<>$AP6),$AP6,\n\"\")))))))))))","v":""},{"$f":"IF(AU6=\"\",\"\",\nIF(AND(AR6<>$AG6,AS6<>$AG6,AU6<>$AG6,AT6<>$AG6),$AG6,\nIF(AND(AR6<>$AH6,AS6<>$AH6,AU6<>$AH6,AT6<>$AH6),$AH6,\nIF(AND(AR6<>$AI6,AS6<>$AI6,AU6<>$AI6,AT6<>$AI6),$AI6,\nIF(AND(AR6<>$AJ6,AS6<>$AJ6,AU6<>$AJ6,AT6<>$AJ6),$AJ6,\nIF(AND(AR6<>$AK6,AS6<>$AK6,AU6<>$AK6,AT6<>$AK6),$AK6,\nIF(AND(AR6<>$AL6,AS6<>$AL6,AU6<>$AL6,AT6<>$AL6),$AL6,\nIF(AND(AR6<>$AM6,AS6<>$AM6,AU6<>$AM6,AT6<>$AM6),$AM6,\nIF(AND(AR6<>$AN6,AS6<>$AN6,AU6<>$AN6,AT6<>$AN6),$AN6,\nIF(AND(AR6<>$AO6,AS6<>$AO6,AU6<>$AO6,AT6<>$AO6),$AO6,\nIF(AND(AR6<>$AP6,AS6<>$AP6,AU6<>$AP6,AT6<>$AP6),$AP6,\n\"\")))))))))))","v":""},{"$f":"IF(AV6=\"\",\"\",\nIF(AND(AR6<>$AG6,AS6<>$AG6,AT6<>$AG6,AV6<>$AG6,AU6<>$AG6),$AG6,\nIF(AND(AR6<>$AH6,AS6<>$AH6,AT6<>$AH6,AV6<>$AH6,AU6<>$AH6),$AH6,\nIF(AND(AR6<>$AI6,AS6<>$AI6,AT6<>$AI6,AV6<>$AI6,AU6<>$AI6),$AI6,\nIF(AND(AR6<>$AJ6,AS6<>$AJ6,AT6<>$AJ6,AV6<>$AJ6,AU6<>$AJ6),$AJ6,\nIF(AND(AR6<>$AK6,AS6<>$AK6,AT6<>$AK6,AV6<>$AK6,AU6<>$AK6),$AK6,\nIF(AND(AR6<>$AL6,AS6<>$AL6,AT6<>$AL6,AV6<>$AL6,AU6<>$AL6),$AL6,\nIF(AND(AR6<>$AM6,AS6<>$AM6,AT6<>$AM6,AV6<>$AM6,AU6<>$AM6),$AM6,\nIF(AND(AR6<>$AN6,AS6<>$AN6,AT6<>$AN6,AV6<>$AN6,AU6<>$AN6),$AN6,\nIF(AND(AR6<>$AO6,AS6<>$AO6,AT6<>$AO6,AV6<>$AO6,AU6<>$AO6),$AO6,\nIF(AND(AR6<>$AP6,AS6<>$AP6,AT6<>$AP6,AV6<>$AP6,AU6<>$AP6),$AP6,\n\"\")))))))))))","v":""},{"$f":"IF(AW6=\"\",\"\",\nIF(AND(AR6<>$AG6,AS6<>$AG6,AT6<>$AG6,AU6<>$AG6,AW6<>$AG6,AV6<>$AG6),$AG6,\nIF(AND(AR6<>$AH6,AS6<>$AH6,AT6<>$AH6,AU6<>$AH6,AW6<>$AH6,AV6<>$AH6),$AH6,\nIF(AND(AR6<>$AI6,AS6<>$AI6,AT6<>$AI6,AU6<>$AI6,AW6<>$AI6,AV6<>$AI6),$AI6,\nIF(AND(AR6<>$AJ6,AS6<>$AJ6,AT6<>$AJ6,AU6<>$AJ6,AW6<>$AJ6,AV6<>$AJ6),$AJ6,\nIF(AND(AR6<>$AK6,AS6<>$AK6,AT6<>$AK6,AU6<>$AK6,AW6<>$AK6,AV6<>$AK6),$AK6,\nIF(AND(AR6<>$AL6,AS6<>$AL6,AT6<>$AL6,AU6<>$AL6,AW6<>$AL6,AV6<>$AL6),$AL6,\nIF(AND(AR6<>$AM6,AS6<>$AM6,AT6<>$AM6,AU6<>$AM6,AW6<>$AM6,AV6<>$AM6),$AM6,\nIF(AND(AR6<>$AN6,AS6<>$AN6,AT6<>$AN6,AU6<>$AN6,AW6<>$AN6,AV6<>$AN6),$AN6,\nIF(AND(AR6<>$AO6,AS6<>$AO6,AT6<>$AO6,AU6<>$AO6,AW6<>$AO6,AV6<>$AO6),$AO6,\nIF(AND(AR6<>$AP6,AS6<>$AP6,AT6<>$AP6,AU6<>$AP6,AW6<>$AP6,AV6<>$AP6),$AP6,\n\"\")))))))))))","v":""},{"$f":"IF(AX6=\"\",\"\",\nIF(AND(AR6<>$AG6,AS6<>$AG6,AT6<>$AG6,AU6<>$AG6,AV6<>$AG6,AX6<>$AG6,AW6<>$AG6),$AG6,\nIF(AND(AR6<>$AH6,AS6<>$AH6,AT6<>$AH6,AU6<>$AH6,AV6<>$AH6,AX6<>$AH6,AW6<>$AH6),$AH6,\nIF(AND(AR6<>$AI6,AS6<>$AI6,AT6<>$AI6,AU6<>$AI6,AV6<>$AI6,AX6<>$AI6,AW6<>$AI6),$AI6,\nIF(AND(AR6<>$AJ6,AS6<>$AJ6,AT6<>$AJ6,AU6<>$AJ6,AV6<>$AJ6,AX6<>$AJ6,AW6<>$AJ6),$AJ6,\nIF(AND(AR6<>$AK6,AS6<>$AK6,AT6<>$AK6,AU6<>$AK6,AV6<>$AK6,AX6<>$AK6,AW6<>$AK6),$AK6,\nIF(AND(AR6<>$AL6,AS6<>$AL6,AT6<>$AL6,AU6<>$AL6,AV6<>$AL6,AX6<>$AL6,AW6<>$AL6),$AL6,\nIF(AND(AR6<>$AM6,AS6<>$AM6,AT6<>$AM6,AU6<>$AM6,AV6<>$AM6,AX6<>$AM6,AW6<>$AM6),$AM6,\nIF(AND(AR6<>$AN6,AS6<>$AN6,AT6<>$AN6,AU6<>$AN6,AV6<>$AN6,AX6<>$AN6,AW6<>$AN6),$AN6,\nIF(AND(AR6<>$AO6,AS6<>$AO6,AT6<>$AO6,AU6<>$AO6,AV6<>$AO6,AX6<>$AO6,AW6<>$AO6),$AO6,\nIF(AND(AR6<>$AP6,AS6<>$AP6,AT6<>$AP6,AU6<>$AP6,AV6<>$AP6,AX6<>$AP6,AW6<>$AP6),$AP6,\n\"\")))))))))))","v":""},{"$f":"IF(AY6=\"\",\"\",\nIF(AND(AR6<>$AG6,AS6<>$AG6,AT6<>$AG6,AU6<>$AG6,AV6<>$AG6,AW6<>$AG6,AY6<>$AG6,AX6<>$AG6),$AG6,\nIF(AND(AR6<>$AH6,AS6<>$AH6,AT6<>$AH6,AU6<>$AH6,AV6<>$AH6,AW6<>$AH6,AY6<>$AH6,AX6<>$AH6),$AH6,\nIF(AND(AR6<>$AI6,AS6<>$AI6,AT6<>$AI6,AU6<>$AI6,AV6<>$AI6,AW6<>$AI6,AY6<>$AI6,AX6<>$AI6),$AI6,\nIF(AND(AR6<>$AJ6,AS6<>$AJ6,AT6<>$AJ6,AU6<>$AJ6,AV6<>$AJ6,AW6<>$AJ6,AY6<>$AJ6,AX6<>$AJ6),$AJ6,\nIF(AND(AR6<>$AK6,AS6<>$AK6,AT6<>$AK6,AU6<>$AK6,AV6<>$AK6,AW6<>$AK6,AY6<>$AK6,AX6<>$AK6),$AK6,\nIF(AND(AR6<>$AL6,AS6<>$AL6,AT6<>$AL6,AU6<>$AL6,AV6<>$AL6,AW6<>$AL6,AY6<>$AL6,AX6<>$AL6),$AL6,\nIF(AND(AR6<>$AM6,AS6<>$AM6,AT6<>$AM6,AU6<>$AM6,AV6<>$AM6,AW6<>$AM6,AY6<>$AM6,AX6<>$AM6),$AM6,\nIF(AND(AR6<>$AN6,AS6<>$AN6,AT6<>$AN6,AU6<>$AN6,AV6<>$AN6,AW6<>$AN6,AY6<>$AN6,AX6<>$AN6),$AN6,\nIF(AND(AR6<>$AO6,AS6<>$AO6,AT6<>$AO6,AU6<>$AO6,AV6<>$AO6,AW6<>$AO6,AY6<>$AO6,AX6<>$AO6),$AO6,\nIF(AND(AR6<>$AP6,AS6<>$AP6,AT6<>$AP6,AU6<>$AP6,AV6<>$AP6,AW6<>$AP6,AY6<>$AP6,AX6<>$AP6),$AP6,\n\"\")))))))))))","v":""},{"$f":"IF(AZ6=\"\",\"\",\nIF(AND(AR6<>$AG6,AS6<>$AG6,AT6<>$AG6,AU6<>$AG6,AV6<>$AG6,AW6<>$AG6,AX6<>$AG6,AZ6<>$AG6,AY6<>$AG6),$AG6,\nIF(AND(AR6<>$AH6,AS6<>$AH6,AT6<>$AH6,AU6<>$AH6,AV6<>$AH6,AW6<>$AH6,AX6<>$AH6,AZ6<>$AH6,AY6<>$AH6),$AH6,\nIF(AND(AR6<>$AI6,AS6<>$AI6,AT6<>$AI6,AU6<>$AI6,AV6<>$AI6,AW6<>$AI6,AX6<>$AI6,AZ6<>$AI6,AY6<>$AI6),$AI6,\nIF(AND(AR6<>$AJ6,AS6<>$AJ6,AT6<>$AJ6,AU6<>$AJ6,AV6<>$AJ6,AW6<>$AJ6,AX6<>$AJ6,AZ6<>$AJ6,AY6<>$AJ6),$AJ6,\nIF(AND(AR6<>$AK6,AS6<>$AK6,AT6<>$AK6,AU6<>$AK6,AV6<>$AK6,AW6<>$AK6,AX6<>$AK6,AZ6<>$AK6,AY6<>$AK6),$AK6,\nIF(AND(AR6<>$AL6,AS6<>$AL6,AT6<>$AL6,AU6<>$AL6,AV6<>$AL6,AW6<>$AL6,AX6<>$AL6,AZ6<>$AL6,AY6<>$AL6),$AL6,\nIF(AND(AR6<>$AM6,AS6<>$AM6,AT6<>$AM6,AU6<>$AM6,AV6<>$AM6,AW6<>$AM6,AX6<>$AM6,AZ6<>$AM6,AY6<>$AM6),$AM6,\nIF(AND(AR6<>$AN6,AS6<>$AN6,AT6<>$AN6,AU6<>$AN6,AV6<>$AN6,AW6<>$AN6,AX6<>$AN6,AZ6<>$AN6,AY6<>$AN6),$AN6,\nIF(AND(AR6<>$AO6,AS6<>$AO6,AT6<>$AO6,AU6<>$AO6,AV6<>$AO6,AW6<>$AO6,AX6<>$AO6,AZ6<>$AO6,AY6<>$AO6),$AO6,\nIF(AND(AR6<>$AP6,AS6<>$AP6,AT6<>$AP6,AU6<>$AP6,AV6<>$AP6,AW6<>$AP6,AX6<>$AP6,AZ6<>$AP6,AY6<>$AP6),$AP6,\n\"\")))))))))))","v":""}]
[null,{"$f":"IF(F7=\"\",0,1)","v":0},0,null,null,{"$f":"IF(P6<>\"\",P6,\"\")","v":""}]
[null,{"$f":"IF(OR(SUM(B9:B15)>0,O8=\"x\"),1,IF(ISNUMBER(O8),O8,0))","v":0},{"$f":"IF(O8=\"x\",1,IF(ISNUMBER(O8),1,0))","v":0},{"$f":"J8","v":"711.000"},null,{"$f":"K8 & IF(P8<>\"\",CHAR(10) & P8,\"\")","v":"Spenglerarbeiten auf geneigten Dächern"},{"$f":"IF(C8=1,N8,\"\")","v":""},null,null,"711.000","Spenglerarbeiten auf geneigten Dächern",null,null,"Stk. ",null,null,null,null,null,null,"E700_Metallarbeiten","x",null,null,null,null,null,null,null,null,"x",null,{"$f":"\nIF(V8=\"x\",V$4,\nIF(W8=\"x\",W$4,\nIF(X8=\"x\",X$4,\nIF(Y8=\"x\",Y$4,\nIF(Z8=\"x\",Z$4,\nIF(AA8=\"x\",AA$4,\nIF(AB8=\"x\",AB$4,\nIF(AC8=\"x\",AC$4,\nIF(AD8=\"x\",AD$4,\nIF(AE8=\"x\",AE$4,\n\"\"))))))))))","v":"Stk. "},{"$f":"\nIF(W8=\"x\",W$4,\nIF(X8=\"x\",X$4,\nIF(Y8=\"x\",Y$4,\nIF(Z8=\"x\",Z$4,\nIF(AA8=\"x\",AA$4,\nIF(AB8=\"x\",AB$4,\nIF(AC8=\"x\",AC$4,\nIF(AD8=\"x\",AD$4,\nIF(AE8=\"x\",AE$4,\n\"\")))))))))","v":"pau"},{"$f":"\nIF(X8=\"x\",X$4,\nIF(Y8=\"x\",Y$4,\nIF(Z8=\"x\",Z$4,\nIF(AA8=\"x\",AA$4,\nIF(AB8=\"x\",AB$4,\nIF(AC8=\"x\",AC$4,\nIF(AD8=\"x\",AD$4,\nIF(AE8=\"x\",AE$4,\n\"\"))))))))","v":"pau"},{"$f":"\nIF(Y8=\"x\",Y$4,\nIF(Z8=\"x\",Z$4,\nIF(AA8=\"x\",AA$4,\nIF(AB8=\"x\",AB$4,\nIF(AC8=\"x\",AC$4,\nIF(AD8=\"x\",AD$4,\nIF(AE8=\"x\",AE$4,\n\"\")))))))","v":"pau"},{"$f":"\nIF(Z8=\"x\",Z$4,\nIF(AA8=\"x\",AA$4,\nIF(AB8=\"x\",AB$4,\nIF(AC8=\"x\",AC$4,\nIF(AD8=\"x\",AD$4,\nIF(AE8=\"x\",AE$4,\n\"\"))))))","v":"pau"},{"$f":"\nIF(AA8=\"x\",AA$4,\nIF(AB8=\"x\",AB$4,\nIF(AC8=\"x\",AC$4,\nIF(AD8=\"x\",AD$4,\nIF(AE8=\"x\",AE$4,\n\"\")))))","v":"pau"},{"$f":"\nIF(AB8=\"x\",AB$4,\nIF(AC8=\"x\",AC$4,\nIF(AD8=\"x\",AD$4,\nIF(AE8=\"x\",AE$4,\n\"\"))))","v":"pau"},{"$f":"\nIF(AC8=\"x\",AC$4,\nIF(AD8=\"x\",AD$4,\nIF(AE8=\"x\",AE$4,\n\"\")))","v":"pau"},{"$f":"\nIF(AD8=\"x\",AD$4,\nIF(AE8=\"x\",AE$4,\n\"\"))","v":"pau"},{"$f":"\nIF(AE8=\"x\",AE$4,\n\"\")","v":"pau"},null,{"$f":"AG8","v":"Stk. "},"pau",{"$f":"IF(AS8=\"\",\"\",\nIF(AND(AS8<>$AG8,AR8<>$AG8),$AG8,\nIF(AND(AS8<>$AH8,AR8<>$AH8),$AH8,\nIF(AND(AS8<>$AI8,AR8<>$AI8),$AI8,\nIF(AND(AS8<>$AJ8,AR8<>$AJ8),$AJ8,\nIF(AND(AS8<>$AK8,AR8<>$AK8),$AK8,\nIF(AND(AS8<>$AL8,AR8<>$AL8),$AL8,\nIF(AND(AS8<>$AM8,AR8<>$AM8),$AM8,\nIF(AND(AS8<>$AN8,AR8<>$AN8),$AN8,\nIF(AND(AS8<>$AO8,AR8<>$AO8),$AO8,\nIF(AND(AS8<>$AP8,AR8<>$AP8),$AP8,\n\"\")))))))))))","v":""},{"$f":"IF(AT8=\"\",\"\",\nIF(AND(AR8<>$AG8,AT8<>$AG8,AS8<>$AG8),$AG8,\nIF(AND(AR8<>$AH8,AT8<>$AH8,AS8<>$AH8),$AH8,\nIF(AND(AR8<>$AI8,AT8<>$AI8,AS8<>$AI8),$AI8,\nIF(AND(AR8<>$AJ8,AT8<>$AJ8,AS8<>$AJ8),$AJ8,\nIF(AND(AR8<>$AK8,AT8<>$AK8,AS8<>$AK8),$AK8,\nIF(AND(AR8<>$AL8,AT8<>$AL8,AS8<>$AL8),$AL8,\nIF(AND(AR8<>$AM8,AT8<>$AM8,AS8<>$AM8),$AM8,\nIF(AND(AR8<>$AN8,AT8<>$AN8,AS8<>$AN8),$AN8,\nIF(AND(AR8<>$AO8,AT8<>$AO8,AS8<>$AO8),$AO8,\nIF(AND(AR8<>$AP8,AT8<>$AP8,AS8<>$AP8),$AP8,\n\"\")))))))))))","v":""},{"$f":"IF(AU8=\"\",\"\",\nIF(AND(AR8<>$AG8,AS8<>$AG8,AU8<>$AG8,AT8<>$AG8),$AG8,\nIF(AND(AR8<>$AH8,AS8<>$AH8,AU8<>$AH8,AT8<>$AH8),$AH8,\nIF(AND(AR8<>$AI8,AS8<>$AI8,AU8<>$AI8,AT8<>$AI8),$AI8,\nIF(AND(AR8<>$AJ8,AS8<>$AJ8,AU8<>$AJ8,AT8<>$AJ8),$AJ8,\nIF(AND(AR8<>$AK8,AS8<>$AK8,AU8<>$AK8,AT8<>$AK8),$AK8,\nIF(AND(AR8<>$AL8,AS8<>$AL8,AU8<>$AL8,AT8<>$AL8),$AL8,\nIF(AND(AR8<>$AM8,AS8<>$AM8,AU8<>$AM8,AT8<>$AM8),$AM8,\nIF(AND(AR8<>$AN8,AS8<>$AN8,AU8<>$AN8,AT8<>$AN8),$AN8,\nIF(AND(AR8<>$AO8,AS8<>$AO8,AU8<>$AO8,AT8<>$AO8),$AO8,\nIF(AND(AR8<>$AP8,AS8<>$AP8,AU8<>$AP8,AT8<>$AP8),$AP8,\n\"\")))))))))))","v":""},{"$f":"IF(AV8=\"\",\"\",\nIF(AND(AR8<>$AG8,AS8<>$AG8,AT8<>$AG8,AV8<>$AG8,AU8<>$AG8),$AG8,\nIF(AND(AR8<>$AH8,AS8<>$AH8,AT8<>$AH8,AV8<>$AH8,AU8<>$AH8),$AH8,\nIF(AND(AR8<>$AI8,AS8<>$AI8,AT8<>$AI8,AV8<>$AI8,AU8<>$AI8),$AI8,\nIF(AND(AR8<>$AJ8,AS8<>$AJ8,AT8<>$AJ8,AV8<>$AJ8,AU8<>$AJ8),$AJ8,\nIF(AND(AR8<>$AK8,AS8<>$AK8,AT8<>$AK8,AV8<>$AK8,AU8<>$AK8),$AK8,\nIF(AND(AR8<>$AL8,AS8<>$AL8,AT8<>$AL8,AV8<>$AL8,AU8<>$AL8),$AL8,\nIF(AND(AR8<>$AM8,AS8<>$AM8,AT8<>$AM8,AV8<>$AM8,AU8<>$AM8),$AM8,\nIF(AND(AR8<>$AN8,AS8<>$AN8,AT8<>$AN8,AV8<>$AN8,AU8<>$AN8),$AN8,\nIF(AND(AR8<>$AO8,AS8<>$AO8,AT8<>$AO8,AV8<>$AO8,AU8<>$AO8),$AO8,\nIF(AND(AR8<>$AP8,AS8<>$AP8,AT8<>$AP8,AV8<>$AP8,AU8<>$AP8),$AP8,\n\"\")))))))))))","v":""},{"$f":"IF(AW8=\"\",\"\",\nIF(AND(AR8<>$AG8,AS8<>$AG8,AT8<>$AG8,AU8<>$AG8,AW8<>$AG8,AV8<>$AG8),$AG8,\nIF(AND(AR8<>$AH8,AS8<>$AH8,AT8<>$AH8,AU8<>$AH8,AW8<>$AH8,AV8<>$AH8),$AH8,\nIF(AND(AR8<>$AI8,AS8<>$AI8,AT8<>$AI8,AU8<>$AI8,AW8<>$AI8,AV8<>$AI8),$AI8,\nIF(AND(AR8<>$AJ8,AS8<>$AJ8,AT8<>$AJ8,AU8<>$AJ8,AW8<>$AJ8,AV8<>$AJ8),$AJ8,\nIF(AND(AR8<>$AK8,AS8<>$AK8,AT8<>$AK8,AU8<>$AK8,AW8<>$AK8,AV8<>$AK8),$AK8,\nIF(AND(AR8<>$AL8,AS8<>$AL8,AT8<>$AL8,AU8<>$AL8,AW8<>$AL8,AV8<>$AL8),$AL8,\nIF(AND(AR8<>$AM8,AS8<>$AM8,AT8<>$AM8,AU8<>$AM8,AW8<>$AM8,AV8<>$AM8),$AM8,\nIF(AND(AR8<>$AN8,AS8<>$AN8,AT8<>$AN8,AU8<>$AN8,AW8<>$AN8,AV8<>$AN8),$AN8,\nIF(AND(AR8<>$AO8,AS8<>$AO8,AT8<>$AO8,AU8<>$AO8,AW8<>$AO8,AV8<>$AO8),$AO8,\nIF(AND(AR8<>$AP8,AS8<>$AP8,AT8<>$AP8,AU8<>$AP8,AW8<>$AP8,AV8<>$AP8),$AP8,\n\"\")))))))))))","v":""},{"$f":"IF(AX8=\"\",\"\",\nIF(AND(AR8<>$AG8,AS8<>$AG8,AT8<>$AG8,AU8<>$AG8,AV8<>$AG8,AX8<>$AG8,AW8<>$AG8),$AG8,\nIF(AND(AR8<>$AH8,AS8<>$AH8,AT8<>$AH8,AU8<>$AH8,AV8<>$AH8,AX8<>$AH8,AW8<>$AH8),$AH8,\nIF(AND(AR8<>$AI8,AS8<>$AI8,AT8<>$AI8,AU8<>$AI8,AV8<>$AI8,AX8<>$AI8,AW8<>$AI8),$AI8,\nIF(AND(AR8<>$AJ8,AS8<>$AJ8,AT8<>$AJ8,AU8<>$AJ8,AV8<>$AJ8,AX8<>$AJ8,AW8<>$AJ8),$AJ8,\nIF(AND(AR8<>$AK8,AS8<>$AK8,AT8<>$AK8,AU8<>$AK8,AV8<>$AK8,AX8<>$AK8,AW8<>$AK8),$AK8,\nIF(AND(AR8<>$AL8,AS8<>$AL8,AT8<>$AL8,AU8<>$AL8,AV8<>$AL8,AX8<>$AL8,AW8<>$AL8),$AL8,\nIF(AND(AR8<>$AM8,AS8<>$AM8,AT8<>$AM8,AU8<>$AM8,AV8<>$AM8,AX8<>$AM8,AW8<>$AM8),$AM8,\nIF(AND(AR8<>$AN8,AS8<>$AN8,AT8<>$AN8,AU8<>$AN8,AV8<>$AN8,AX8<>$AN8,AW8<>$AN8),$AN8,\nIF(AND(AR8<>$AO8,AS8<>$AO8,AT8<>$AO8,AU8<>$AO8,AV8<>$AO8,AX8<>$AO8,AW8<>$AO8),$AO8,\nIF(AND(AR8<>$AP8,AS8<>$AP8,AT8<>$AP8,AU8<>$AP8,AV8<>$AP8,AX8<>$AP8,AW8<>$AP8),$AP8,\n\"\")))))))))))","v":""},{"$f":"IF(AY8=\"\",\"\",\nIF(AND(AR8<>$AG8,AS8<>$AG8,AT8<>$AG8,AU8<>$AG8,AV8<>$AG8,AW8<>$AG8,AY8<>$AG8,AX8<>$AG8),$AG8,\nIF(AND(AR8<>$AH8,AS8<>$AH8,AT8<>$AH8,AU8<>$AH8,AV8<>$AH8,AW8<>$AH8,AY8<>$AH8,AX8<>$AH8),$AH8,\nIF(AND(AR8<>$AI8,AS8<>$AI8,AT8<>$AI8,AU8<>$AI8,AV8<>$AI8,AW8<>$AI8,AY8<>$AI8,AX8<>$AI8),$AI8,\nIF(AND(AR8<>$AJ8,AS8<>$AJ8,AT8<>$AJ8,AU8<>$AJ8,AV8<>$AJ8,AW8<>$AJ8,AY8<>$AJ8,AX8<>$AJ8),$AJ8,\nIF(AND(AR8<>$AK8,AS8<>$AK8,AT8<>$AK8,AU8<>$AK8,AV8<>$AK8,AW8<>$AK8,AY8<>$AK8,AX8<>$AK8),$AK8,\nIF(AND(AR8<>$AL8,AS8<>$AL8,AT8<>$AL8,AU8<>$AL8,AV8<>$AL8,AW8<>$AL8,AY8<>$AL8,AX8<>$AL8),$AL8,\nIF(AND(AR8<>$AM8,AS8<>$AM8,AT8<>$AM8,AU8<>$AM8,AV8<>$AM8,AW8<>$AM8,AY8<>$AM8,AX8<>$AM8),$AM8,\nIF(AND(AR8<>$AN8,AS8<>$AN8,AT8<>$AN8,AU8<>$AN8,AV8<>$AN8,AW8<>$AN8,AY8<>$AN8,AX8<>$AN8),$AN8,\nIF(AND(AR8<>$AO8,AS8<>$AO8,AT8<>$AO8,AU8<>$AO8,AV8<>$AO8,AW8<>$AO8,AY8<>$AO8,AX8<>$AO8),$AO8,\nIF(AND(AR8<>$AP8,AS8<>$AP8,AT8<>$AP8,AU8<>$AP8,AV8<>$AP8,AW8<>$AP8,AY8<>$AP8,AX8<>$AP8),$AP8,\n\"\")))))))))))","v":""},{"$f":"IF(AZ8=\"\",\"\",\nIF(AND(AR8<>$AG8,AS8<>$AG8,AT8<>$AG8,AU8<>$AG8,AV8<>$AG8,AW8<>$AG8,AX8<>$AG8,AZ8<>$AG8,AY8<>$AG8),$AG8,\nIF(AND(AR8<>$AH8,AS8<>$AH8,AT8<>$AH8,AU8<>$AH8,AV8<>$AH8,AW8<>$AH8,AX8<>$AH8,AZ8<>$AH8,AY8<>$AH8),$AH8,\nIF(AND(AR8<>$AI8,AS8<>$AI8,AT8<>$AI8,AU8<>$AI8,AV8<>$AI8,AW8<>$AI8,AX8<>$AI8,AZ8<>$AI8,AY8<>$AI8),$AI8,\nIF(AND(AR8<>$AJ8,AS8<>$AJ8,AT8<>$AJ8,AU8<>$AJ8,AV8<>$AJ8,AW8<>$AJ8,AX8<>$AJ8,AZ8<>$AJ8,AY8<>$AJ8),$AJ8,\nIF(AND(AR8<>$AK8,AS8<>$AK8,AT8<>$AK8,AU8<>$AK8,AV8<>$AK8,AW8<>$AK8,AX8<>$AK8,AZ8<>$AK8,AY8<>$AK8),$AK8,\nIF(AND(AR8<>$AL8,AS8<>$AL8,AT8<>$AL8,AU8<>$AL8,AV8<>$AL8,AW8<>$AL8,AX8<>$AL8,AZ8<>$AL8,AY8<>$AL8),$AL8,\nIF(AND(AR8<>$AM8,AS8<>$AM8,AT8<>$AM8,AU8<>$AM8,AV8<>$AM8,AW8<>$AM8,AX8<>$AM8,AZ8<>$AM8,AY8<>$AM8),$AM8,\nIF(AND(AR8<>$AN8,AS8<>$AN8,AT8<>$AN8,AU8<>$AN8,AV8<>$AN8,AW8<>$AN8,AX8<>$AN8,AZ8<>$AN8,AY8<>$AN8),$AN8,\nIF(AND(AR8<>$AO8,AS8<>$AO8,AT8<>$AO8,AU8<>$AO8,AV8<>$AO8,AW8<>$AO8,AX8<>$AO8,AZ8<>$AO8,AY8<>$AO8),$AO8,\nIF(AND(AR8<>$AP8,AS8<>$AP8,AT8<>$AP8,AU8<>$AP8,AV8<>$AP8,AW8<>$AP8,AX8<>$AP8,AZ8<>$AP8,AY8<>$AP8),$AP8,\n\"\")))))))))))","v":""}]
[null,{"$f":"IF(O9=\"x\",1,IF(ISNUMBER(O9),O9,0))","v":0},{"$f":"IF(O9=\"x\",1,IF(ISNUMBER(O9),1,0))","v":0},null,{"$f":"L9","v":"711.100"},{"$f":"M9 & IF(P9<>\"\",CHAR(10) & P9,\"\")","v":"Anschlussblech Dachfenster"},"",null,null,null,null,"711.100","Anschlussblech Dachfenster","Stk. ",null,null,null,null,null,null,"E700_Metallarbeiten","x",null,"x",null,null,null,null,null,null,"x",null,{"$f":"\nIF(V9=\"x\",V$4,\nIF(W9=\"x\",W$4,\nIF(X9=\"x\",X$4,\nIF(Y9=\"x\",Y$4,\nIF(Z9=\"x\",Z$4,\nIF(AA9=\"x\",AA$4,\nIF(AB9=\"x\",AB$4,\nIF(AC9=\"x\",AC$4,\nIF(AD9=\"x\",AD$4,\nIF(AE9=\"x\",AE$4,\n\"\"))))))))))","v":"Stk. "},{"$f":"\nIF(W9=\"x\",W$4,\nIF(X9=\"x\",X$4,\nIF(Y9=\"x\",Y$4,\nIF(Z9=\"x\",Z$4,\nIF(AA9=\"x\",AA$4,\nIF(AB9=\"x\",AB$4,\nIF(AC9=\"x\",AC$4,\nIF(AD9=\"x\",AD$4,\nIF(AE9=\"x\",AE$4,\n\"\")))))))))","v":"lfm"},{"$f":"\nIF(X9=\"x\",X$4,\nIF(Y9=\"x\",Y$4,\nIF(Z9=\"x\",Z$4,\nIF(AA9=\"x\",AA$4,\nIF(AB9=\"x\",AB$4,\nIF(AC9=\"x\",AC$4,\nIF(AD9=\"x\",AD$4,\nIF(AE9=\"x\",AE$4,\n\"\"))))))))","v":"lfm"},{"$f":"\nIF(Y9=\"x\",Y$4,\nIF(Z9=\"x\",Z$4,\nIF(AA9=\"x\",AA$4,\nIF(AB9=\"x\",AB$4,\nIF(AC9=\"x\",AC$4,\nIF(AD9=\"x\",AD$4,\nIF(AE9=\"x\",AE$4,\n\"\")))))))","v":"pau"},{"$f":"\nIF(Z9=\"x\",Z$4,\nIF(AA9=\"x\",AA$4,\nIF(AB9=\"x\",AB$4,\nIF(AC9=\"x\",AC$4,\nIF(AD9=\"x\",AD$4,\nIF(AE9=\"x\",AE$4,\n\"\"))))))","v":"pau"},{"$f":"\nIF(AA9=\"x\",AA$4,\nIF(AB9=\"x\",AB$4,\nIF(AC9=\"x\",AC$4,\nIF(AD9=\"x\",AD$4,\nIF(AE9=\"x\",AE$4,\n\"\")))))","v":"pau"},{"$f":"\nIF(AB9=\"x\",AB$4,\nIF(AC9=\"x\",AC$4,\nIF(AD9=\"x\",AD$4,\nIF(AE9=\"x\",AE$4,\n\"\"))))","v":"pau"},{"$f":"\nIF(AC9=\"x\",AC$4,\nIF(AD9=\"x\",AD$4,\nIF(AE9=\"x\",AE$4,\n\"\")))","v":"pau"},{"$f":"\nIF(AD9=\"x\",AD$4,\nIF(AE9=\"x\",AE$4,\n\"\"))","v":"pau"},{"$f":"\nIF(AE9=\"x\",AE$4,\n\"\")","v":"pau"},null,{"$f":"AG9","v":"Stk. "},{"$f":"IF(AR9=\"\",\"\",\nIF(AR9<>$AG9,$AG9,\nIF(AR9<>$AH9,$AH9,\nIF(AR9<>$AI9,$AI9,\nIF(AR9<>$AJ9,$AJ9,\nIF(AR9<>$AK9,$AK9,\nIF(AR9<>$AL9,$AL9,\nIF(AR9<>$AM9,$AM9,\nIF(AR9<>$AN9,$AN9,\nIF(AR9<>$AO9,$AO9,\nIF(AR9<>$AP9,$AP9,\n\"\")))))))))))","v":"lfm"},{"$f":"IF(AS9=\"\",\"\",\nIF(AND(AS9<>$AG9,AR9<>$AG9),$AG9,\nIF(AND(AS9<>$AH9,AR9<>$AH9),$AH9,\nIF(AND(AS9<>$AI9,AR9<>$AI9),$AI9,\nIF(AND(AS9<>$AJ9,AR9<>$AJ9),$AJ9,\nIF(AND(AS9<>$AK9,AR9<>$AK9),$AK9,\nIF(AND(AS9<>$AL9,AR9<>$AL9),$AL9,\nIF(AND(AS9<>$AM9,AR9<>$AM9),$AM9,\nIF(AND(AS9<>$AN9,AR9<>$AN9),$AN9,\nIF(AND(AS9<>$AO9,AR9<>$AO9),$AO9,\nIF(AND(AS9<>$AP9,AR9<>$AP9),$AP9,\n\"\")))))))))))","v":"pau"},{"$f":"IF(AT9=\"\",\"\",\nIF(AND(AR9<>$AG9,AT9<>$AG9,AS9<>$AG9),$AG9,\nIF(AND(AR9<>$AH9,AT9<>$AH9,AS9<>$AH9),$AH9,\nIF(AND(AR9<>$AI9,AT9<>$AI9,AS9<>$AI9),$AI9,\nIF(AND(AR9<>$AJ9,AT9<>$AJ9,AS9<>$AJ9),$AJ9,\nIF(AND(AR9<>$AK9,AT9<>$AK9,AS9<>$AK9),$AK9,\nIF(AND(AR9<>$AL9,AT9<>$AL9,AS9<>$AL9),$AL9,\nIF(AND(AR9<>$AM9,AT9<>$AM9,AS9<>$AM9),$AM9,\nIF(AND(AR9<>$AN9,AT9<>$AN9,AS9<>$AN9),$AN9,\nIF(AND(AR9<>$AO9,AT9<>$AO9,AS9<>$AO9),$AO9,\nIF(AND(AR9<>$AP9,AT9<>$AP9,AS9<>$AP9),$AP9,\n\"\")))))))))))","v":""},{"$f":"IF(AU9=\"\",\"\",\nIF(AND(AR9<>$AG9,AS9<>$AG9,AU9<>$AG9,AT9<>$AG9),$AG9,\nIF(AND(AR9<>$AH9,AS9<>$AH9,AU9<>$AH9,AT9<>$AH9),$AH9,\nIF(AND(AR9<>$AI9,AS9<>$AI9,AU9<>$AI9,AT9<>$AI9),$AI9,\nIF(AND(AR9<>$AJ9,AS9<>$AJ9,AU9<>$AJ9,AT9<>$AJ9),$AJ9,\nIF(AND(AR9<>$AK9,AS9<>$AK9,AU9<>$AK9,AT9<>$AK9),$AK9,\nIF(AND(AR9<>$AL9,AS9<>$AL9,AU9<>$AL9,AT9<>$AL9),$AL9,\nIF(AND(AR9<>$AM9,AS9<>$AM9,AU9<>$AM9,AT9<>$AM9),$AM9,\nIF(AND(AR9<>$AN9,AS9<>$AN9,AU9<>$AN9,AT9<>$AN9),$AN9,\nIF(AND(AR9<>$AO9,AS9<>$AO9,AU9<>$AO9,AT9<>$AO9),$AO9,\nIF(AND(AR9<>$AP9,AS9<>$AP9,AU9<>$AP9,AT9<>$AP9),$AP9,\n\"\")))))))))))","v":""},{"$f":"IF(AV9=\"\",\"\",\nIF(AND(AR9<>$AG9,AS9<>$AG9,AT9<>$AG9,AV9<>$AG9,AU9<>$AG9),$AG9,\nIF(AND(AR9<>$AH9,AS9<>$AH9,AT9<>$AH9,AV9<>$AH9,AU9<>$AH9),$AH9,\nIF(AND(AR9<>$AI9,AS9<>$AI9,AT9<>$AI9,AV9<>$AI9,AU9<>$AI9),$AI9,\nIF(AND(AR9<>$AJ9,AS9<>$AJ9,AT9<>$AJ9,AV9<>$AJ9,AU9<>$AJ9),$AJ9,\nIF(AND(AR9<>$AK9,AS9<>$AK9,AT9<>$AK9,AV9<>$AK9,AU9<>$AK9),$AK9,\nIF(AND(AR9<>$AL9,AS9<>$AL9,AT9<>$AL9,AV9<>$AL9,AU9<>$AL9),$AL9,\nIF(AND(AR9<>$AM9,AS9<>$AM9,AT9<>$AM9,AV9<>$AM9,AU9<>$AM9),$AM9,\nIF(AND(AR9<>$AN9,AS9<>$AN9,AT9<>$AN9,AV9<>$AN9,AU9<>$AN9),$AN9,\nIF(AND(AR9<>$AO9,AS9<>$AO9,AT9<>$AO9,AV9<>$AO9,AU9<>$AO9),$AO9,\nIF(AND(AR9<>$AP9,AS9<>$AP9,AT9<>$AP9,AV9<>$AP9,AU9<>$AP9),$AP9,\n\"\")))))))))))","v":""},{"$f":"IF(AW9=\"\",\"\",\nIF(AND(AR9<>$AG9,AS9<>$AG9,AT9<>$AG9,AU9<>$AG9,AW9<>$AG9,AV9<>$AG9),$AG9,\nIF(AND(AR9<>$AH9,AS9<>$AH9,AT9<>$AH9,AU9<>$AH9,AW9<>$AH9,AV9<>$AH9),$AH9,\nIF(AND(AR9<>$AI9,AS9<>$AI9,AT9<>$AI9,AU9<>$AI9,AW9<>$AI9,AV9<>$AI9),$AI9,\nIF(AND(AR9<>$AJ9,AS9<>$AJ9,AT9<>$AJ9,AU9<>$AJ9,AW9<>$AJ9,AV9<>$AJ9),$AJ9,\nIF(AND(AR9<>$AK9,AS9<>$AK9,AT9<>$AK9,AU9<>$AK9,AW9<>$AK9,AV9<>$AK9),$AK9,\nIF(AND(AR9<>$AL9,AS9<>$AL9,AT9<>$AL9,AU9<>$AL9,AW9<>$AL9,AV9<>$AL9),$AL9,\nIF(AND(AR9<>$AM9,AS9<>$AM9,AT9<>$AM9,AU9<>$AM9,AW9<>$AM9,AV9<>$AM9),$AM9,\nIF(AND(AR9<>$AN9,AS9<>$AN9,AT9<>$AN9,AU9<>$AN9,AW9<>$AN9,AV9<>$AN9),$AN9,\nIF(AND(AR9<>$AO9,AS9<>$AO9,AT9<>$AO9,AU9<>$AO9,AW9<>$AO9,AV9<>$AO9),$AO9,\nIF(AND(AR9<>$AP9,AS9<>$AP9,AT9<>$AP9,AU9<>$AP9,AW9<>$AP9,AV9<>$AP9),$AP9,\n\"\")))))))))))","v":""},{"$f":"IF(AX9=\"\",\"\",\nIF(AND(AR9<>$AG9,AS9<>$AG9,AT9<>$AG9,AU9<>$AG9,AV9<>$AG9,AX9<>$AG9,AW9<>$AG9),$AG9,\nIF(AND(AR9<>$AH9,AS9<>$AH9,AT9<>$AH9,AU9<>$AH9,AV9<>$AH9,AX9<>$AH9,AW9<>$AH9),$AH9,\nIF(AND(AR9<>$AI9,AS9<>$AI9,AT9<>$AI9,AU9<>$AI9,AV9<>$AI9,AX9<>$AI9,AW9<>$AI9),$AI9,\nIF(AND(AR9<>$AJ9,AS9<>$AJ9,AT9<>$AJ9,AU9<>$AJ9,AV9<>$AJ9,AX9<>$AJ9,AW9<>$AJ9),$AJ9,\nIF(AND(AR9<>$AK9,AS9<>$AK9,AT9<>$AK9,AU9<>$AK9,AV9<>$AK9,AX9<>$AK9,AW9<>$AK9),$AK9,\nIF(AND(AR9<>$AL9,AS9<>$AL9,AT9<>$AL9,AU9<>$AL9,AV9<>$AL9,AX9<>$AL9,AW9<>$AL9),$AL9,\nIF(AND(AR9<>$AM9,AS9<>$AM9,AT9<>$AM9,AU9<>$AM9,AV9<>$AM9,AX9<>$AM9,AW9<>$AM9),$AM9,\nIF(AND(AR9<>$AN9,AS9<>$AN9,AT9<>$AN9,AU9<>$AN9,AV9<>$AN9,AX9<>$AN9,AW9<>$AN9),$AN9,\nIF(AND(AR9<>$AO9,AS9<>$AO9,AT9<>$AO9,AU9<>$AO9,AV9<>$AO9,AX9<>$AO9,AW9<>$AO9),$AO9,\nIF(AND(AR9<>$AP9,AS9<>$AP9,AT9<>$AP9,AU9<>$AP9,AV9<>$AP9,AX9<>$AP9,AW9<>$AP9),$AP9,\n\"\")))))))))))","v":""},{"$f":"IF(AY9=\"\",\"\",\nIF(AND(AR9<>$AG9,AS9<>$AG9,AT9<>$AG9,AU9<>$AG9,AV9<>$AG9,AW9<>$AG9,AY9<>$AG9,AX9<>$AG9),$AG9,\nIF(AND(AR9<>$AH9,AS9<>$AH9,AT9<>$AH9,AU9<>$AH9,AV9<>$AH9,AW9<>$AH9,AY9<>$AH9,AX9<>$AH9),$AH9,\nIF(AND(AR9<>$AI9,AS9<>$AI9,AT9<>$AI9,AU9<>$AI9,AV9<>$AI9,AW9<>$AI9,AY9<>$AI9,AX9<>$AI9),$AI9,\nIF(AND(AR9<>$AJ9,AS9<>$AJ9,AT9<>$AJ9,AU9<>$AJ9,AV9<>$AJ9,AW9<>$AJ9,AY9<>$AJ9,AX9<>$AJ9),$AJ9,\nIF(AND(AR9<>$AK9,AS9<>$AK9,AT9<>$AK9,AU9<>$AK9,AV9<>$AK9,AW9<>$AK9,AY9<>$AK9,AX9<>$AK9),$AK9,\nIF(AND(AR9<>$AL9,AS9<>$AL9,AT9<>$AL9,AU9<>$AL9,AV9<>$AL9,AW9<>$AL9,AY9<>$AL9,AX9<>$AL9),$AL9,\nIF(AND(AR9<>$AM9,AS9<>$AM9,AT9<>$AM9,AU9<>$AM9,AV9<>$AM9,AW9<>$AM9,AY9<>$AM9,AX9<>$AM9),$AM9,\nIF(AND(AR9<>$AN9,AS9<>$AN9,AT9<>$AN9,AU9<>$AN9,AV9<>$AN9,AW9<>$AN9,AY9<>$AN9,AX9<>$AN9),$AN9,\nIF(AND(AR9<>$AO9,AS9<>$AO9,AT9<>$AO9,AU9<>$AO9,AV9<>$AO9,AW9<>$AO9,AY9<>$AO9,AX9<>$AO9),$AO9,\nIF(AND(AR9<>$AP9,AS9<>$AP9,AT9<>$AP9,AU9<>$AP9,AV9<>$AP9,AW9<>$AP9,AY9<>$AP9,AX9<>$AP9),$AP9,\n\"\")))))))))))","v":""},{"$f":"IF(AZ9=\"\",\"\",\nIF(AND(AR9<>$AG9,AS9<>$AG9,AT9<>$AG9,AU9<>$AG9,AV9<>$AG9,AW9<>$AG9,AX9<>$AG9,AZ9<>$AG9,AY9<>$AG9),$AG9,\nIF(AND(AR9<>$AH9,AS9<>$AH9,AT9<>$AH9,AU9<>$AH9,AV9<>$AH9,AW9<>$AH9,AX9<>$AH9,AZ9<>$AH9,AY9<>$AH9),$AH9,\nIF(AND(AR9<>$AI9,AS9<>$AI9,AT9<>$AI9,AU9<>$AI9,AV9<>$AI9,AW9<>$AI9,AX9<>$AI9,AZ9<>$AI9,AY9<>$AI9),$AI9,\nIF(AND(AR9<>$AJ9,AS9<>$AJ9,AT9<>$AJ9,AU9<>$AJ9,AV9<>$AJ9,AW9<>$AJ9,AX9<>$AJ9,AZ9<>$AJ9,AY9<>$AJ9),$AJ9,\nIF(AND(AR9<>$AK9,AS9<>$AK9,AT9<>$AK9,AU9<>$AK9,AV9<>$AK9,AW9<>$AK9,AX9<>$AK9,AZ9<>$AK9,AY9<>$AK9),$AK9,\nIF(AND(AR9<>$AL9,AS9<>$AL9,AT9<>$AL9,AU9<>$AL9,AV9<>$AL9,AW9<>$AL9,AX9<>$AL9,AZ9<>$AL9,AY9<>$AL9),$AL9,\nIF(AND(AR9<>$AM9,AS9<>$AM9,AT9<>$AM9,AU9<>$AM9,AV9<>$AM9,AW9<>$AM9,AX9<>$AM9,AZ9<>$AM9,AY9<>$AM9),$AM9,\nIF(AND(AR9<>$AN9,AS9<>$AN9,AT9<>$AN9,AU9<>$AN9,AV9<>$AN9,AW9<>$AN9,AX9<>$AN9,AZ9<>$AN9,AY9<>$AN9),$AN9,\nIF(AND(AR9<>$AO9,AS9<>$AO9,AT9<>$AO9,AU9<>$AO9,AV9<>$AO9,AW9<>$AO9,AX9<>$AO9,AZ9<>$AO9,AY9<>$AO9),$AO9,\nIF(AND(AR9<>$AP9,AS9<>$AP9,AT9<>$AP9,AU9<>$AP9,AV9<>$AP9,AW9<>$AP9,AX9<>$AP9,AZ9<>$AP9,AY9<>$AP9),$AP9,\n\"\")))))))))))","v":""}]
[null,{"$f":"IF(O10=\"x\",1,IF(ISNUMBER(O10),O10,0))","v":0},0,null,"711.200",{"$f":"M10 & IF(P10<>\"\",CHAR(10) & P10,\"\")","v":"Ortabschlussblech"},"",null,null,null,null,"711.200","Ortabschlussblech","Stk. ",null,null,null,null,null,null,"E700_Metallarbeiten","x",null,"x",null,null,null,null,null,null,"x",null,{"$f":"\nIF(V10=\"x\",V$4,\nIF(W10=\"x\",W$4,\nIF(X10=\"x\",X$4,\nIF(Y10=\"x\",Y$4,\nIF(Z10=\"x\",Z$4,\nIF(AA10=\"x\",AA$4,\nIF(AB10=\"x\",AB$4,\nIF(AC10=\"x\",AC$4,\nIF(AD10=\"x\",AD$4,\nIF(AE10=\"x\",AE$4,\n\"\"))))))))))","v":"Stk. "},{"$f":"\nIF(W10=\"x\",W$4,\nIF(X10=\"x\",X$4,\nIF(Y10=\"x\",Y$4,\nIF(Z10=\"x\",Z$4,\nIF(AA10=\"x\",AA$4,\nIF(AB10=\"x\",AB$4,\nIF(AC10=\"x\",AC$4,\nIF(AD10=\"x\",AD$4,\nIF(AE10=\"x\",AE$4,\n\"\")))))))))","v":"lfm"},{"$f":"\nIF(X10=\"x\",X$4,\nIF(Y10=\"x\",Y$4,\nIF(Z10=\"x\",Z$4,\nIF(AA10=\"x\",AA$4,\nIF(AB10=\"x\",AB$4,\nIF(AC10=\"x\",AC$4,\nIF(AD10=\"x\",AD$4,\nIF(AE10=\"x\",AE$4,\n\"\"))))))))","v":"lfm"},{"$f":"\nIF(Y10=\"x\",Y$4,\nIF(Z10=\"x\",Z$4,\nIF(AA10=\"x\",AA$4,\nIF(AB10=\"x\",AB$4,\nIF(AC10=\"x\",AC$4,\nIF(AD10=\"x\",AD$4,\nIF(AE10=\"x\",AE$4,\n\"\")))))))","v":"pau"},{"$f":"\nIF(Z10=\"x\",Z$4,\nIF(AA10=\"x\",AA$4,\nIF(AB10=\"x\",AB$4,\nIF(AC10=\"x\",AC$4,\nIF(AD10=\"x\",AD$4,\nIF(AE10=\"x\",AE$4,\n\"\"))))))","v":"pau"},{"$f":"\nIF(AA10=\"x\",AA$4,\nIF(AB10=\"x\",AB$4,\nIF(AC10=\"x\",AC$4,\nIF(AD10=\"x\",AD$4,\nIF(AE10=\"x\",AE$4,\n\"\")))))","v":"pau"},{"$f":"\nIF(AB10=\"x\",AB$4,\nIF(AC10=\"x\",AC$4,\nIF(AD10=\"x\",AD$4,\nIF(AE10=\"x\",AE$4,\n\"\"))))","v":"pau"},{"$f":"\nIF(AC10=\"x\",AC$4,\nIF(AD10=\"x\",AD$4,\nIF(AE10=\"x\",AE$4,\n\"\")))","v":"pau"},{"$f":"\nIF(AD10=\"x\",AD$4,\nIF(AE10=\"x\",AE$4,\n\"\"))","v":"pau"},{"$f":"\nIF(AE10=\"x\",AE$4,\n\"\")","v":"pau"},null,{"$f":"AG10","v":"Stk. "},"lfm",{"$f":"IF(AS10=\"\",\"\",\nIF(AND(AS10<>$AG10,AR10<>$AG10),$AG10,\nIF(AND(AS10<>$AH10,AR10<>$AH10),$AH10,\nIF(AND(AS10<>$AI10,AR10<>$AI10),$AI10,\nIF(AND(AS10<>$AJ10,AR10<>$AJ10),$AJ10,\nIF(AND(AS10<>$AK10,AR10<>$AK10),$AK10,\nIF(AND(AS10<>$AL10,AR10<>$AL10),$AL10,\nIF(AND(AS10<>$AM10,AR10<>$AM10),$AM10,\nIF(AND(AS10<>$AN10,AR10<>$AN10),$AN10,\nIF(AND(AS10<>$AO10,AR10<>$AO10),$AO10,\nIF(AND(AS10<>$AP10,AR10<>$AP10),$AP10,\n\"\")))))))))))","v":"pau"},{"$f":"IF(AT10=\"\",\"\",\nIF(AND(AR10<>$AG10,AT10<>$AG10,AS10<>$AG10),$AG10,\nIF(AND(AR10<>$AH10,AT10<>$AH10,AS10<>$AH10),$AH10,\nIF(AND(AR10<>$AI10,AT10<>$AI10,AS10<>$AI10),$AI10,\nIF(AND(AR10<>$AJ10,AT10<>$AJ10,AS10<>$AJ10),$AJ10,\nIF(AND(AR10<>$AK10,AT10<>$AK10,AS10<>$AK10),$AK10,\nIF(AND(AR10<>$AL10,AT10<>$AL10,AS10<>$AL10),$AL10,\nIF(AND(AR10<>$AM10,AT10<>$AM10,AS10<>$AM10),$AM10,\nIF(AND(AR10<>$AN10,AT10<>$AN10,AS10<>$AN10),$AN10,\nIF(AND(AR10<>$AO10,AT10<>$AO10,AS10<>$AO10),$AO10,\nIF(AND(AR10<>$AP10,AT10<>$AP10,AS10<>$AP10),$AP10,\n\"\")))))))))))","v":""},{"$f":"IF(AU10=\"\",\"\",\nIF(AND(AR10<>$AG10,AS10<>$AG10,AU10<>$AG10,AT10<>$AG10),$AG10,\nIF(AND(AR10<>$AH10,AS10<>$AH10,AU10<>$AH10,AT10<>$AH10),$AH10,\nIF(AND(AR10<>$AI10,AS10<>$AI10,AU10<>$AI10,AT10<>$AI10),$AI10,\nIF(AND(AR10<>$AJ10,AS10<>$AJ10,AU10<>$AJ10,AT10<>$AJ10),$AJ10,\nIF(AND(AR10<>$AK10,AS10<>$AK10,AU10<>$AK10,AT10<>$AK10),$AK10,\nIF(AND(AR10<>$AL10,AS10<>$AL10,AU10<>$AL10,AT10<>$AL10),$AL10,\nIF(AND(AR10<>$AM10,AS10<>$AM10,AU10<>$AM10,AT10<>$AM10),$AM10,\nIF(AND(AR10<>$AN10,AS10<>$AN10,AU10<>$AN10,AT10<>$AN10),$AN10,\nIF(AND(AR10<>$AO10,AS10<>$AO10,AU10<>$AO10,AT10<>$AO10),$AO10,\nIF(AND(AR10<>$AP10,AS10<>$AP10,AU10<>$AP10,AT10<>$AP10),$AP10,\n\"\")))))))))))","v":""},{"$f":"IF(AV10=\"\",\"\",\nIF(AND(AR10<>$AG10,AS10<>$AG10,AT10<>$AG10,AV10<>$AG10,AU10<>$AG10),$AG10,\nIF(AND(AR10<>$AH10,AS10<>$AH10,AT10<>$AH10,AV10<>$AH10,AU10<>$AH10),$AH10,\nIF(AND(AR10<>$AI10,AS10<>$AI10,AT10<>$AI10,AV10<>$AI10,AU10<>$AI10),$AI10,\nIF(AND(AR10<>$AJ10,AS10<>$AJ10,AT10<>$AJ10,AV10<>$AJ10,AU10<>$AJ10),$AJ10,\nIF(AND(AR10<>$AK10,AS10<>$AK10,AT10<>$AK10,AV10<>$AK10,AU10<>$AK10),$AK10,\nIF(AND(AR10<>$AL10,AS10<>$AL10,AT10<>$AL10,AV10<>$AL10,AU10<>$AL10),$AL10,\nIF(AND(AR10<>$AM10,AS10<>$AM10,AT10<>$AM10,AV10<>$AM10,AU10<>$AM10),$AM10,\nIF(AND(AR10<>$AN10,AS10<>$AN10,AT10<>$AN10,AV10<>$AN10,AU10<>$AN10),$AN10,\nIF(AND(AR10<>$AO10,AS10<>$AO10,AT10<>$AO10,AV10<>$AO10,AU10<>$AO10),$AO10,\nIF(AND(AR10<>$AP10,AS10<>$AP10,AT10<>$AP10,AV10<>$AP10,AU10<>$AP10),$AP10,\n\"\")))))))))))","v":""},{"$f":"IF(AW10=\"\",\"\",\nIF(AND(AR10<>$AG10,AS10<>$AG10,AT10<>$AG10,AU10<>$AG10,AW10<>$AG10,AV10<>$AG10),$AG10,\nIF(AND(AR10<>$AH10,AS10<>$AH10,AT10<>$AH10,AU10<>$AH10,AW10<>$AH10,AV10<>$AH10),$AH10,\nIF(AND(AR10<>$AI10,AS10<>$AI10,AT10<>$AI10,AU10<>$AI10,AW10<>$AI10,AV10<>$AI10),$AI10,\nIF(AND(AR10<>$AJ10,AS10<>$AJ10,AT10<>$AJ10,AU10<>$AJ10,AW10<>$AJ10,AV10<>$AJ10),$AJ10,\nIF(AND(AR10<>$AK10,AS10<>$AK10,AT10<>$AK10,AU10<>$AK10,AW10<>$AK10,AV10<>$AK10),$AK10,\nIF(AND(AR10<>$AL10,AS10<>$AL10,AT10<>$AL10,AU10<>$AL10,AW10<>$AL10,AV10<>$AL10),$AL10,\nIF(AND(AR10<>$AM10,AS10<>$AM10,AT10<>$AM10,AU10<>$AM10,AW10<>$AM10,AV10<>$AM10),$AM10,\nIF(AND(AR10<>$AN10,AS10<>$AN10,AT10<>$AN10,AU10<>$AN10,AW10<>$AN10,AV10<>$AN10),$AN10,\nIF(AND(AR10<>$AO10,AS10<>$AO10,AT10<>$AO10,AU10<>$AO10,AW10<>$AO10,AV10<>$AO10),$AO10,\nIF(AND(AR10<>$AP10,AS10<>$AP10,AT10<>$AP10,AU10<>$AP10,AW10<>$AP10,AV10<>$AP10),$AP10,\n\"\")))))))))))","v":""},{"$f":"IF(AX10=\"\",\"\",\nIF(AND(AR10<>$AG10,AS10<>$AG10,AT10<>$AG10,AU10<>$AG10,AV10<>$AG10,AX10<>$AG10,AW10<>$AG10),$AG10,\nIF(AND(AR10<>$AH10,AS10<>$AH10,AT10<>$AH10,AU10<>$AH10,AV10<>$AH10,AX10<>$AH10,AW10<>$AH10),$AH10,\nIF(AND(AR10<>$AI10,AS10<>$AI10,AT10<>$AI10,AU10<>$AI10,AV10<>$AI10,AX10<>$AI10,AW10<>$AI10),$AI10,\nIF(AND(AR10<>$AJ10,AS10<>$AJ10,AT10<>$AJ10,AU10<>$AJ10,AV10<>$AJ10,AX10<>$AJ10,AW10<>$AJ10),$AJ10,\nIF(AND(AR10<>$AK10,AS10<>$AK10,AT10<>$AK10,AU10<>$AK10,AV10<>$AK10,AX10<>$AK10,AW10<>$AK10),$AK10,\nIF(AND(AR10<>$AL10,AS10<>$AL10,AT10<>$AL10,AU10<>$AL10,AV10<>$AL10,AX10<>$AL10,AW10<>$AL10),$AL10,\nIF(AND(AR10<>$AM10,AS10<>$AM10,AT10<>$AM10,AU10<>$AM10,AV10<>$AM10,AX10<>$AM10,AW10<>$AM10),$AM10,\nIF(AND(AR10<>$AN10,AS10<>$AN10,AT10<>$AN10,AU10<>$AN10,AV10<>$AN10,AX10<>$AN10,AW10<>$AN10),$AN10,\nIF(AND(AR10<>$AO10,AS10<>$AO10,AT10<>$AO10,AU10<>$AO10,AV10<>$AO10,AX10<>$AO10,AW10<>$AO10),$AO10,\nIF(AND(AR10<>$AP10,AS10<>$AP10,AT10<>$AP10,AU10<>$AP10,AV10<>$AP10,AX10<>$AP10,AW10<>$AP10),$AP10,\n\"\")))))))))))","v":""},{"$f":"IF(AY10=\"\",\"\",\nIF(AND(AR10<>$AG10,AS10<>$AG10,AT10<>$AG10,AU10<>$AG10,AV10<>$AG10,AW10<>$AG10,AY10<>$AG10,AX10<>$AG10),$AG10,\nIF(AND(AR10<>$AH10,AS10<>$AH10,AT10<>$AH10,AU10<>$AH10,AV10<>$AH10,AW10<>$AH10,AY10<>$AH10,AX10<>$AH10),$AH10,\nIF(AND(AR10<>$AI10,AS10<>$AI10,AT10<>$AI10,AU10<>$AI10,AV10<>$AI10,AW10<>$AI10,AY10<>$AI10,AX10<>$AI10),$AI10,\nIF(AND(AR10<>$AJ10,AS10<>$AJ10,AT10<>$AJ10,AU10<>$AJ10,AV10<>$AJ10,AW10<>$AJ10,AY10<>$AJ10,AX10<>$AJ10),$AJ10,\nIF(AND(AR10<>$AK10,AS10<>$AK10,AT10<>$AK10,AU10<>$AK10,AV10<>$AK10,AW10<>$AK10,AY10<>$AK10,AX10<>$AK10),$AK10,\nIF(AND(AR10<>$AL10,AS10<>$AL10,AT10<>$AL10,AU10<>$AL10,AV10<>$AL10,AW10<>$AL10,AY10<>$AL10,AX10<>$AL10),$AL10,\nIF(AND(AR10<>$AM10,AS10<>$AM10,AT10<>$AM10,AU10<>$AM10,AV10<>$AM10,AW10<>$AM10,AY10<>$AM10,AX10<>$AM10),$AM10,\nIF(AND(AR10<>$AN10,AS10<>$AN10,AT10<>$AN10,AU10<>$AN10,AV10<>$AN10,AW10<>$AN10,AY10<>$AN10,AX10<>$AN10),$AN10,\nIF(AND(AR10<>$AO10,AS10<>$AO10,AT10<>$AO10,AU10<>$AO10,AV10<>$AO10,AW10<>$AO10,AY10<>$AO10,AX10<>$AO10),$AO10,\nIF(AND(AR10<>$AP10,AS10<>$AP10,AT10<>$AP10,AU10<>$AP10,AV10<>$AP10,AW10<>$AP10,AY10<>$AP10,AX10<>$AP10),$AP10,\n\"\")))))))))))","v":""},{"$f":"IF(AZ10=\"\",\"\",\nIF(AND(AR10<>$AG10,AS10<>$AG10,AT10<>$AG10,AU10<>$AG10,AV10<>$AG10,AW10<>$AG10,AX10<>$AG10,AZ10<>$AG10,AY10<>$AG10),$AG10,\nIF(AND(AR10<>$AH10,AS10<>$AH10,AT10<>$AH10,AU10<>$AH10,AV10<>$AH10,AW10<>$AH10,AX10<>$AH10,AZ10<>$AH10,AY10<>$AH10),$AH10,\nIF(AND(AR10<>$AI10,AS10<>$AI10,AT10<>$AI10,AU10<>$AI10,AV10<>$AI10,AW10<>$AI10,AX10<>$AI10,AZ10<>$AI10,AY10<>$AI10),$AI10,\nIF(AND(AR10<>$AJ10,AS10<>$AJ10,AT10<>$AJ10,AU10<>$AJ10,AV10<>$AJ10,AW10<>$AJ10,AX10<>$AJ10,AZ10<>$AJ10,AY10<>$AJ10),$AJ10,\nIF(AND(AR10<>$AK10,AS10<>$AK10,AT10<>$AK10,AU10<>$AK10,AV10<>$AK10,AW10<>$AK10,AX10<>$AK10,AZ10<>$AK10,AY10<>$AK10),$AK10,\nIF(AND(AR10<>$AL10,AS10<>$AL10,AT10<>$AL10,AU10<>$AL10,AV10<>$AL10,AW10<>$AL10,AX10<>$AL10,AZ10<>$AL10,AY10<>$AL10),$AL10,\nIF(AND(AR10<>$AM10,AS10<>$AM10,AT10<>$AM10,AU10<>$AM10,AV10<>$AM10,AW10<>$AM10,AX10<>$AM10,AZ10<>$AM10,AY10<>$AM10),$AM10,\nIF(AND(AR10<>$AN10,AS10<>$AN10,AT10<>$AN10,AU10<>$AN10,AV10<>$AN10,AW10<>$AN10,AX10<>$AN10,AZ10<>$AN10,AY10<>$AN10),$AN10,\nIF(AND(AR10<>$AO10,AS10<>$AO10,AT10<>$AO10,AU10<>$AO10,AV10<>$AO10,AW10<>$AO10,AX10<>$AO10,AZ10<>$AO10,AY10<>$AO10),$AO10,\nIF(AND(AR10<>$AP10,AS10<>$AP10,AT10<>$AP10,AU10<>$AP10,AV10<>$AP10,AW10<>$AP10,AX10<>$AP10,AZ10<>$AP10,AY10<>$AP10),$AP10,\n\"\")))))))))))","v":""}]
[null,{"$f":"IF(O11=\"x\",1,IF(ISNUMBER(O11),O11,0))","v":0},0,null,"711.300","Firstblech","",null,null,null,null,"711.300","Firstblech","Stk. ",null,null,null,null,null,null,"E700_Metallarbeiten","x",null,"x",null,null,null,null,null,null,"x",null,"Stk. ","lfm","lfm","pau","pau","pau","pau","pau","pau","pau",null,"Stk. ","lfm","pau","","","","","","",""]
[null,0,0,null,"711.400","Einlaufblech Traufe","",null,null,null,null,"711.400","Einlaufblech Traufe","Stk. ",null,null,null,null,null,null,"E700_Metallarbeiten","x",null,"x",null,null,null,null,null,null,"x",null,{"$f":"\nIF(V12=\"x\",V$4,\nIF(W12=\"x\",W$4,\nIF(X12=\"x\",X$4,\nIF(Y12=\"x\",Y$4,\nIF(Z12=\"x\",Z$4,\nIF(AA12=\"x\",AA$4,\nIF(AB12=\"x\",AB$4,\nIF(AC12=\"x\",AC$4,\nIF(AD12=\"x\",AD$4,\nIF(AE12=\"x\",AE$4,\n\"\"))))))))))","v":"Stk. "},{"$f":"\nIF(W12=\"x\",W$4,\nIF(X12=\"x\",X$4,\nIF(Y12=\"x\",Y$4,\nIF(Z12=\"x\",Z$4,\nIF(AA12=\"x\",AA$4,\nIF(AB12=\"x\",AB$4,\nIF(AC12=\"x\",AC$4,\nIF(AD12=\"x\",AD$4,\nIF(AE12=\"x\",AE$4,\n\"\")))))))))","v":"lfm"},{"$f":"\nIF(X12=\"x\",X$4,\nIF(Y12=\"x\",Y$4,\nIF(Z12=\"x\",Z$4,\nIF(AA12=\"x\",AA$4,\nIF(AB12=\"x\",AB$4,\nIF(AC12=\"x\",AC$4,\nIF(AD12=\"x\",AD$4,\nIF(AE12=\"x\",AE$4,\n\"\"))))))))","v":"lfm"},{"$f":"\nIF(Y12=\"x\",Y$4,\nIF(Z12=\"x\",Z$4,\nIF(AA12=\"x\",AA$4,\nIF(AB12=\"x\",AB$4,\nIF(AC12=\"x\",AC$4,\nIF(AD12=\"x\",AD$4,\nIF(AE12=\"x\",AE$4,\n\"\")))))))","v":"pau"},{"$f":"\nIF(Z12=\"x\",Z$4,\nIF(AA12=\"x\",AA$4,\nIF(AB12=\"x\",AB$4,\nIF(AC12=\"x\",AC$4,\nIF(AD12=\"x\",AD$4,\nIF(AE12=\"x\",AE$4,\n\"\"))))))","v":"pau"},{"$f":"\nIF(AA12=\"x\",AA$4,\nIF(AB12=\"x\",AB$4,\nIF(AC12=\"x\",AC$4,\nIF(AD12=\"x\",AD$4,\nIF(AE12=\"x\",AE$4,\n\"\")))))","v":"pau"},{"$f":"\nIF(AB12=\"x\",AB$4,\nIF(AC12=\"x\",AC$4,\nIF(AD12=\"x\",AD$4,\nIF(AE12=\"x\",AE$4,\n\"\"))))","v":"pau"},{"$f":"\nIF(AC12=\"x\",AC$4,\nIF(AD12=\"x\",AD$4,\nIF(AE12=\"x\",AE$4,\n\"\")))","v":"pau"},{"$f":"\nIF(AD12=\"x\",AD$4,\nIF(AE12=\"x\",AE$4,\n\"\"))","v":"pau"},{"$f":"\nIF(AE12=\"x\",AE$4,\n\"\")","v":"pau"},null,{"$f":"AG12","v":"Stk. "},"lfm",{"$f":"IF(AS12=\"\",\"\",\nIF(AND(AS12<>$AG12,AR12<>$AG12),$AG12,\nIF(AND(AS12<>$AH12,AR12<>$AH12),$AH12,\nIF(AND(AS12<>$AI12,AR12<>$AI12),$AI12,\nIF(AND(AS12<>$AJ12,AR12<>$AJ12),$AJ12,\nIF(AND(AS12<>$AK12,AR12<>$AK12),$AK12,\nIF(AND(AS12<>$AL12,AR12<>$AL12),$AL12,\nIF(AND(AS12<>$AM12,AR12<>$AM12),$AM12,\nIF(AND(AS12<>$AN12,AR12<>$AN12),$AN12,\nIF(AND(AS12<>$AO12,AR12<>$AO12),$AO12,\nIF(AND(AS12<>$AP12,AR12<>$AP12),$AP12,\n\"\")))))))))))","v":"pau"},{"$f":"IF(AT12=\"\",\"\",\nIF(AND(AR12<>$AG12,AT12<>$AG12,AS12<>$AG12),$AG12,\nIF(AND(AR12<>$AH12,AT12<>$AH12,AS12<>$AH12),$AH12,\nIF(AND(AR12<>$AI12,AT12<>$AI12,AS12<>$AI12),$AI12,\nIF(AND(AR12<>$AJ12,AT12<>$AJ12,AS12<>$AJ12),$AJ12,\nIF(AND(AR12<>$AK12,AT12<>$AK12,AS12<>$AK12),$AK12,\nIF(AND(AR12<>$AL12,AT12<>$AL12,AS12<>$AL12),$AL12,\nIF(AND(AR12<>$AM12,AT12<>$AM12,AS12<>$AM12),$AM12,\nIF(AND(AR12<>$AN12,AT12<>$AN12,AS12<>$AN12),$AN12,\nIF(AND(AR12<>$AO12,AT12<>$AO12,AS12<>$AO12),$AO12,\nIF(AND(AR12<>$AP12,AT12<>$AP12,AS12<>$AP12),$AP12,\n\"\")))))))))))","v":""},{"$f":"IF(AU12=\"\",\"\",\nIF(AND(AR12<>$AG12,AS12<>$AG12,AU12<>$AG12,AT12<>$AG12),$AG12,\nIF(AND(AR12<>$AH12,AS12<>$AH12,AU12<>$AH12,AT12<>$AH12),$AH12,\nIF(AND(AR12<>$AI12,AS12<>$AI12,AU12<>$AI12,AT12<>$AI12),$AI12,\nIF(AND(AR12<>$AJ12,AS12<>$AJ12,AU12<>$AJ12,AT12<>$AJ12),$AJ12,\nIF(AND(AR12<>$AK12,AS12<>$AK12,AU12<>$AK12,AT12<>$AK12),$AK12,\nIF(AND(AR12<>$AL12,AS12<>$AL12,AU12<>$AL12,AT12<>$AL12),$AL12,\nIF(AND(AR12<>$AM12,AS12<>$AM12,AU12<>$AM12,AT12<>$AM12),$AM12,\nIF(AND(AR12<>$AN12,AS12<>$AN12,AU12<>$AN12,AT12<>$AN12),$AN12,\nIF(AND(AR12<>$AO12,AS12<>$AO12,AU12<>$AO12,AT12<>$AO12),$AO12,\nIF(AND(AR12<>$AP12,AS12<>$AP12,AU12<>$AP12,AT12<>$AP12),$AP12,\n\"\")))))))))))","v":""},{"$f":"IF(AV12=\"\",\"\",\nIF(AND(AR12<>$AG12,AS12<>$AG12,AT12<>$AG12,AV12<>$AG12,AU12<>$AG12),$AG12,\nIF(AND(AR12<>$AH12,AS12<>$AH12,AT12<>$AH12,AV12<>$AH12,AU12<>$AH12),$AH12,\nIF(AND(AR12<>$AI12,AS12<>$AI12,AT12<>$AI12,AV12<>$AI12,AU12<>$AI12),$AI12,\nIF(AND(AR12<>$AJ12,AS12<>$AJ12,AT12<>$AJ12,AV12<>$AJ12,AU12<>$AJ12),$AJ12,\nIF(AND(AR12<>$AK12,AS12<>$AK12,AT12<>$AK12,AV12<>$AK12,AU12<>$AK12),$AK12,\nIF(AND(AR12<>$AL12,AS12<>$AL12,AT12<>$AL12,AV12<>$AL12,AU12<>$AL12),$AL12,\nIF(AND(AR12<>$AM12,AS12<>$AM12,AT12<>$AM12,AV12<>$AM12,AU12<>$AM12),$AM12,\nIF(AND(AR12<>$AN12,AS12<>$AN12,AT12<>$AN12,AV12<>$AN12,AU12<>$AN12),$AN12,\nIF(AND(AR12<>$AO12,AS12<>$AO12,AT12<>$AO12,AV12<>$AO12,AU12<>$AO12),$AO12,\nIF(AND(AR12<>$AP12,AS12<>$AP12,AT12<>$AP12,AV12<>$AP12,AU12<>$AP12),$AP12,\n\"\")))))))))))","v":""},{"$f":"IF(AW12=\"\",\"\",\nIF(AND(AR12<>$AG12,AS12<>$AG12,AT12<>$AG12,AU12<>$AG12,AW12<>$AG12,AV12<>$AG12),$AG12,\nIF(AND(AR12<>$AH12,AS12<>$AH12,AT12<>$AH12,AU12<>$AH12,AW12<>$AH12,AV12<>$AH12),$AH12,\nIF(AND(AR12<>$AI12,AS12<>$AI12,AT12<>$AI12,AU12<>$AI12,AW12<>$AI12,AV12<>$AI12),$AI12,\nIF(AND(AR12<>$AJ12,AS12<>$AJ12,AT12<>$AJ12,AU12<>$AJ12,AW12<>$AJ12,AV12<>$AJ12),$AJ12,\nIF(AND(AR12<>$AK12,AS12<>$AK12,AT12<>$AK12,AU12<>$AK12,AW12<>$AK12,AV12<>$AK12),$AK12,\nIF(AND(AR12<>$AL12,AS12<>$AL12,AT12<>$AL12,AU12<>$AL12,AW12<>$AL12,AV12<>$AL12),$AL12,\nIF(AND(AR12<>$AM12,AS12<>$AM12,AT12<>$AM12,AU12<>$AM12,AW12<>$AM12,AV12<>$AM12),$AM12,\nIF(AND(AR12<>$AN12,AS12<>$AN12,AT12<>$AN12,AU12<>$AN12,AW12<>$AN12,AV12<>$AN12),$AN12,\nIF(AND(AR12<>$AO12,AS12<>$AO12,AT12<>$AO12,AU12<>$AO12,AW12<>$AO12,AV12<>$AO12),$AO12,\nIF(AND(AR12<>$AP12,AS12<>$AP12,AT12<>$AP12,AU12<>$AP12,AW12<>$AP12,AV12<>$AP12),$AP12,\n\"\")))))))))))","v":""},{"$f":"IF(AX12=\"\",\"\",\nIF(AND(AR12<>$AG12,AS12<>$AG12,AT12<>$AG12,AU12<>$AG12,AV12<>$AG12,AX12<>$AG12,AW12<>$AG12),$AG12,\nIF(AND(AR12<>$AH12,AS12<>$AH12,AT12<>$AH12,AU12<>$AH12,AV12<>$AH12,AX12<>$AH12,AW12<>$AH12),$AH12,\nIF(AND(AR12<>$AI12,AS12<>$AI12,AT12<>$AI12,AU12<>$AI12,AV12<>$AI12,AX12<>$AI12,AW12<>$AI12),$AI12,\nIF(AND(AR12<>$AJ12,AS12<>$AJ12,AT12<>$AJ12,AU12<>$AJ12,AV12<>$AJ12,AX12<>$AJ12,AW12<>$AJ12),$AJ12,\nIF(AND(AR12<>$AK12,AS12<>$AK12,AT12<>$AK12,AU12<>$AK12,AV12<>$AK12,AX12<>$AK12,AW12<>$AK12),$AK12,\nIF(AND(AR12<>$AL12,AS12<>$AL12,AT12<>$AL12,AU12<>$AL12,AV12<>$AL12,AX12<>$AL12,AW12<>$AL12),$AL12,\nIF(AND(AR12<>$AM12,AS12<>$AM12,AT12<>$AM12,AU12<>$AM12,AV12<>$AM12,AX12<>$AM12,AW12<>$AM12),$AM12,\nIF(AND(AR12<>$AN12,AS12<>$AN12,AT12<>$AN12,AU12<>$AN12,AV12<>$AN12,AX12<>$AN12,AW12<>$AN12),$AN12,\nIF(AND(AR12<>$AO12,AS12<>$AO12,AT12<>$AO12,AU12<>$AO12,AV12<>$AO12,AX12<>$AO12,AW12<>$AO12),$AO12,\nIF(AND(AR12<>$AP12,AS12<>$AP12,AT12<>$AP12,AU12<>$AP12,AV12<>$AP12,AX12<>$AP12,AW12<>$AP12),$AP12,\n\"\")))))))))))","v":""},{"$f":"IF(AY12=\"\",\"\",\nIF(AND(AR12<>$AG12,AS12<>$AG12,AT12<>$AG12,AU12<>$AG12,AV12<>$AG12,AW12<>$AG12,AY12<>$AG12,AX12<>$AG12),$AG12,\nIF(AND(AR12<>$AH12,AS12<>$AH12,AT12<>$AH12,AU12<>$AH12,AV12<>$AH12,AW12<>$AH12,AY12<>$AH12,AX12<>$AH12),$AH12,\nIF(AND(AR12<>$AI12,AS12<>$AI12,AT12<>$AI12,AU12<>$AI12,AV12<>$AI12,AW12<>$AI12,AY12<>$AI12,AX12<>$AI12),$AI12,\nIF(AND(AR12<>$AJ12,AS12<>$AJ12,AT12<>$AJ12,AU12<>$AJ12,AV12<>$AJ12,AW12<>$AJ12,AY12<>$AJ12,AX12<>$AJ12),$AJ12,\nIF(AND(AR12<>$AK12,AS12<>$AK12,AT12<>$AK12,AU12<>$AK12,AV12<>$AK12,AW12<>$AK12,AY12<>$AK12,AX12<>$AK12),$AK12,\nIF(AND(AR12<>$AL12,AS12<>$AL12,AT12<>$AL12,AU12<>$AL12,AV12<>$AL12,AW12<>$AL12,AY12<>$AL12,AX12<>$AL12),$AL12,\nIF(AND(AR12<>$AM12,AS12<>$AM12,AT12<>$AM12,AU12<>$AM12,AV12<>$AM12,AW12<>$AM12,AY12<>$AM12,AX12<>$AM12),$AM12,\nIF(AND(AR12<>$AN12,AS12<>$AN12,AT12<>$AN12,AU12<>$AN12,AV12<>$AN12,AW12<>$AN12,AY12<>$AN12,AX12<>$AN12),$AN12,\nIF(AND(AR12<>$AO12,AS12<>$AO12,AT12<>$AO12,AU12<>$AO12,AV12<>$AO12,AW12<>$AO12,AY12<>$AO12,AX12<>$AO12),$AO12,\nIF(AND(AR12<>$AP12,AS12<>$AP12,AT12<>$AP12,AU12<>$AP12,AV12<>$AP12,AW12<>$AP12,AY12<>$AP12,AX12<>$AP12),$AP12,\n\"\")))))))))))","v":""},{"$f":"IF(AZ12=\"\",\"\",\nIF(AND(AR12<>$AG12,AS12<>$AG12,AT12<>$AG12,AU12<>$AG12,AV12<>$AG12,AW12<>$AG12,AX12<>$AG12,AZ12<>$AG12,AY12<>$AG12),$AG12,\nIF(AND(AR12<>$AH12,AS12<>$AH12,AT12<>$AH12,AU12<>$AH12,AV12<>$AH12,AW12<>$AH12,AX12<>$AH12,AZ12<>$AH12,AY12<>$AH12),$AH12,\nIF(AND(AR12<>$AI12,AS12<>$AI12,AT12<>$AI12,AU12<>$AI12,AV12<>$AI12,AW12<>$AI12,AX12<>$AI12,AZ12<>$AI12,AY12<>$AI12),$AI12,\nIF(AND(AR12<>$AJ12,AS12<>$AJ12,AT12<>$AJ12,AU12<>$AJ12,AV12<>$AJ12,AW12<>$AJ12,AX12<>$AJ12,AZ12<>$AJ12,AY12<>$AJ12),$AJ12,\nIF(AND(AR12<>$AK12,AS12<>$AK12,AT12<>$AK12,AU12<>$AK12,AV12<>$AK12,AW12<>$AK12,AX12<>$AK12,AZ12<>$AK12,AY12<>$AK12),$AK12,\nIF(AND(AR12<>$AL12,AS12<>$AL12,AT12<>$AL12,AU12<>$AL12,AV12<>$AL12,AW12<>$AL12,AX12<>$AL12,AZ12<>$AL12,AY12<>$AL12),$AL12,\nIF(AND(AR12<>$AM12,AS12<>$AM12,AT12<>$AM12,AU12<>$AM12,AV12<>$AM12,AW12<>$AM12,AX12<>$AM12,AZ12<>$AM12,AY12<>$AM12),$AM12,\nIF(AND(AR12<>$AN12,AS12<>$AN12,AT12<>$AN12,AU12<>$AN12,AV12<>$AN12,AW12<>$AN12,AX12<>$AN12,AZ12<>$AN12,AY12<>$AN12),$AN12,\nIF(AND(AR12<>$AO12,AS12<>$AO12,AT12<>$AO12,AU12<>$AO12,AV12<>$AO12,AW12<>$AO12,AX12<>$AO12,AZ12<>$AO12,AY12<>$AO12),$AO12,\nIF(AND(AR12<>$AP12,AS12<>$AP12,AT12<>$AP12,AU12<>$AP12,AV12<>$AP12,AW12<>$AP12,AX12<>$AP12,AZ12<>$AP12,AY12<>$AP12),$AP12,\n\"\")))))))))))","v":""}]
[null,0,0,null,"711.500","Traufe","",null,null,null,null,"711.500","Traufe","Stk. ",null,null,null,null,null,null,"E700_Metallarbeiten","x",null,"x",null,null,null,null,null,null,"x",null,"Stk. ","lfm","lfm","pau","pau","pau","pau","pau","pau","pau",null,"Stk. ","lfm","pau","","","","","","",""]
[null,0,0,null,"711.600","Lochblech","",null,null,null,null,"711.600","Lochblech","Stk. ",null,null,null,null,null,null,"E700_Metallarbeiten","x",null,"x",null,null,null,null,null,null,"x",null,"Stk. ","lfm","lfm","pau","pau","pau","pau","pau","pau","pau",null,"Stk. ","lfm","pau","","","","","","",""]
[null,0,0,null,"711.700","Abkantblech","",null,null,null,null,"711.700","Abkantblech","Stk. ",null,null,null,null,null,null,"E700_Metallarbeiten","x",null,"x",null,null,null,null,null,null,"x",null,"Stk. ","lfm","lfm","pau","pau","pau","pau","pau","pau","pau",null,"Stk. ","lfm","pau","","","","","","",""]
[null,{"$f":"IF(OR(SUM(B17:B18)>0,O16=\"x\"),1,IF(ISNUMBER(O16),O16,0))","v":0},0,{"$f":"J16","v":"712.000"},null,{"$f":"K16 & IF(P16<>\"\",CHAR(10) & P16,\"\")","v":"Spenglerarbeiten auf Flachdächern"},"",null,null,"712.000","Spenglerarbeiten auf Flachdächern",null,null,"Stk. ",null,null,null,null,null,null,"E700_Metallarbeiten","x",null,null,null,null,null,null,null,null,"x",null,"Stk. ","pau","pau","pau","pau","pau","pau","pau","pau","pau",null,"Stk. ","pau","","","","","","","",""]
[null,{"$f":"IF(O17=\"x\",1,IF(ISNUMBER(O17),O17,0))","v":0},0,null,{"$f":"L17","v":"712.100"},{"$f":"M17 & IF(P17<>\"\",CHAR(10) & P17,\"\")","v":"Einfassung Schwanenhals"},"",null,null,null,null,"712.100","Einfassung Schwanenhals","Stk. ",null,null,null,null,null,null,"E700_Metallarbeiten","x",null,null,null,null,null,null,null,null,"x",null,"Stk. ","pau","pau","pau","pau","pau","pau","pau","pau","pau",null,"Stk. ","pau","","","","","","","",""]
[null,0,0,null,{"$f":"L18","v":"712.200"},"Kabeleinführungsbox auf Dach","",null,null,null,null,"712.200","Kabeleinführungsbox auf Dach","Stk. ",null,null,null,null,null,null,"E700_Metallarbeiten","x",null,null,null,null,null,null,null,null,"x",null,"Stk. ","pau","pau","pau","pau","pau","pau","pau","pau","pau",null,"Stk. ","pau","","","","","","","",""]
[null,{"$f":"IF(OR(SUM(B20:B28)>0,O19=\"x\"),1,IF(ISNUMBER(O19),O19,0))","v":0},0,{"$f":"J19","v":"713.000"},null,{"$f":"K19 & IF(P19<>\"\",CHAR(10) & P19,\"\")","v":"Spenglerarbeiten an Fassaden"},"",null,null,"713.000","Spenglerarbeiten an Fassaden",null,null,"Stk. ",null,null,null,null,null,null,"E700_Metallarbeiten","x",null,"x",null,null,null,null,null,null,"x",null,"Stk. ","lfm","lfm","pau","pau","pau","pau","pau","pau","pau",null,"Stk. ","lfm","pau","","","","","","",""]
[null,{"$f":"IF(O20=\"x\",1,IF(ISNUMBER(O20),O20,0))","v":0},0,null,{"$f":"L20","v":"713.100"},{"$f":"M20 & IF(P20<>\"\",CHAR(10) & P20,\"\")","v":"Eckprofil"},"",null,null,null,null,"713.100","Eckprofil","Stk. ",null,null,null,null,null,null,"E700_Metallarbeiten","x",null,"x",null,null,null,null,null,null,"x",null,"Stk. ","lfm","lfm","pau","pau","pau","pau","pau","pau","pau",null,"Stk. ","lfm","pau","","","","","","",""]
[null,0,0,null,"713.200","Zierblech","",null,null,null,null,"713.200","Zierblech","Stk. ",null,null,null,null,null,null,"E700_Metallarbeiten","x",null,"x",null,null,null,null,null,null,"x",null,"Stk. ","lfm","lfm","pau","pau","pau","pau","pau","pau","pau",null,"Stk. ","lfm","pau","","","","","","",""]
[null,0,0,null,"713.300","Dachrand-/Brüstungsblech","",null,null,null,null,"713.300","Dachrand-/Brüstungsblech","Stk. ",null,null,null,null,null,null,"E700_Metallarbeiten","x",null,"x",null,null,null,null,null,null,"x",null,"Stk. ","lfm","lfm","pau","pau","pau","pau","pau","pau","pau",null,"Stk. ","lfm","pau","","","","","","",""]
[null,0,0,null,"713.400","Sockelblech","",null,null,null,null,"713.400","Sockelblech","Stk. ",null,null,null,null,null,null,"E700_Metallarbeiten","x",null,"x",null,null,null,null,null,null,"x",null,"Stk. ","lfm","lfm","pau","pau","pau","pau","pau","pau","pau",null,"Stk. ","lfm","pau","","","","","","",""]
[null,0,0,null,"713.500","Zarge","",null,null,null,null,"713.500","Zarge","Stk. ",null,null,null,null,null,null,"E700_Metallarbeiten","x",null,"x",null,null,null,null,null,null,"x",null,"Stk. ","lfm","lfm","pau","pau","pau","pau","pau","pau","pau",null,"Stk. ","lfm","pau","","","","","","",""]
[null,0,0,null,"713.600","Fensterbank","",null,null,null,null,"713.600","Fensterbank","Stk. ",null,null,null,null,null,null,"E700_Metallarbeiten","x",null,"x",null,null,null,null,null,null,"x",null,"Stk. ","lfm","lfm","pau","pau","pau","pau","pau","pau","pau",null,"Stk. ","lfm","pau","","","","","","",""]
[null,0,0,null,"713.700","Lochblech","",null,null,null,null,"713.700","Lochblech","Stk. ",null,null,null,null,null,null,"E700_Metallarbeiten","x",null,"x",null,null,null,null,null,null,"x",null,"Stk. ","lfm","lfm","pau","pau","pau","pau","pau","pau","pau",null,"Stk. ","lfm","pau","","","","","","",""]
[null,0,0,null,"713.800","Abkantblech","",null,null,null,null,"713.800","Abkantblech","Stk. ",null,null,null,null,null,null,"E700_Metallarbeiten","x",null,"x",null,null,null,null,null,null,"x",null,"Stk. ","lfm","lfm","pau","pau","pau","pau","pau","pau","pau",null,"Stk. ","lfm","pau","","","","","","",""]
[null,0,0,null,"713.900","Brandsperre hinterlüftete Fassade","",null,null,null,null,"713.900","Brandsperre hinterlüftete Fassade","Stk. ",null,null,null,null,null,null,"E700_Metallarbeiten","x",null,"x",null,null,null,null,null,null,"x",null,"Stk. ","lfm","lfm","pau","pau","pau","pau","pau","pau","pau",null,"Stk. ","lfm","pau","","","","","","",""]
[null,{"$f":"B6","v":0},0,null,null,null,"",null,null,null,null,null,null,null,null,null,null,null,null,null,null,null,null,null,null,null,null,null,null,null,null,null,"","","","","","","","","","",null,"","","","","","","","","",""]
[null,{"$f":"IF(O30=\"x\",1,IF(SUM(B31:B40)>0,1,0))","v":0},0,{"$f":"H30","v":"720.000"},null,{"$f":"I30","v":"Anpassungen an geneigten Dächern"},"","720.000","Anpassungen an geneigten Dächern",null,null,null,null,"pau",null,null,null,null,null,null,null,null,null,null,null,null,null,null,null,null,"x",null,"pau","pau","pau","pau","pau","pau","pau","pau","pau","pau",null,"pau","","","","","","","","",""]
[null,{"$f":"IF(OR(SUM(B32:B34)>0,O31=\"x\"),1,IF(ISNUMBER(O31),O31,0))","v":0},0,{"$f":"J31","v":"721.000"},null,{"$f":"K31 & IF(P31<>\"\",CHAR(10) & P31,\"\")","v":"Ziegel"},"",null,null,"721.000","Ziegel",null,null,"Stk. ",null,null,null,null,null,null,"E700_Ziegel","x",null,null,"x",null,null,null,null,null,"x",null,"Stk. ","m2","m2","m2","pau","pau","pau","pau","pau","pau",null,"Stk. ","m2","pau","","","","","","",""]
[null,{"$f":"IF(O32=\"x\",1,IF(ISNUMBER(O32),O32,0))","v":0},0,null,{"$f":"L32","v":"721.100"},{"$f":"M32 & IF(P32<>\"\",CHAR(10) & P32,\"\")","v":"Ziegel"},"",null,null,null,null,"721.100","Ziegel","Stk. ",null,null,null,null,null,null,"E700_Ziegel","x",null,null,"x",null,null,null,null,null,"x",null,"Stk. ","m2","m2","m2","pau","pau","pau","pau","pau","pau",null,"Stk. ","m2","pau","","","","","","",""]
[null,0,0,null,{"$f":"L33","v":"721.200"},"Firstziegel","",null,null,null,null,"721.200","Firstziegel","Stk. ",null,null,null,null,null,null,"E700_Ziegel","x",null,null,"x",null,null,null,null,null,"x",null,"Stk. ","m2","m2","m2","pau","pau","pau","pau","pau","pau",null,"Stk. ","m2","pau","","","","","","",""]
[null,0,0,null,{"$f":"L34","v":"721.300"},"Ortziegel","",null,null,null,null,"721.300","Ortziegel","Stk. ",null,null,null,null,null,null,"E700_Ziegel","x",null,null,"x",null,null,null,null,null,"x",null,"Stk. ","m2","m2","m2","pau","pau","pau","pau","pau","pau",null,"Stk. ","m2","pau","","","","","","",""]
[null,{"$f":"IF(O35=\"x\",1,IF(ISNUMBER(O35),O35,0))","v":0},0,{"$f":"J35","v":"722.000"},null,{"$f":"K35 & IF(P35<>\"\",CHAR(10) & P35,\"\")","v":"Blechziegel"},"",null,null,"722.000","Blechziegel",null,null,"Stk. ",null,null,null,null,null,null,"E700_Ziegel","x",null,null,"x",null,null,null,null,null,"x",null,"Stk. ","m2","m2","m2","pau","pau","pau","pau","pau","pau",null,"Stk. ","m2","pau","","","","","","",""]
[null,{"$f":"IF(O36=\"x\",1,IF(ISNUMBER(O36),O36,0))","v":0},0,{"$f":"J36","v":"723.000"},null,"Lattung für Indachanlagen","",null,null,"723.000","Lattung für Indachanlagen",null,null,"m2",null,null,null,null,null,null,"E700_Holz",null,null,null,"x",null,null,null,null,null,"x",null,"m2","m2","m2","m2","pau","pau","pau","pau","pau","pau",null,"m2","pau","","","","","","","",""]
[null,0,0,"724.000",null,"Kantholz","",null,null,"724.000","Kantholz",null,null,"m2",null,null,null,null,null,null,"E700_Holz",null,null,null,"x",null,null,null,null,null,"x",null,"m2","m2","m2","m2","pau","pau","pau","pau","pau","pau",null,"m2","pau","","","","","","","",""]
[null,0,0,"725.000",null,"3-Schicht-Schaltafel","",null,null,"725.000","3-Schicht-Schaltafel",null,null,"m2",null,null,null,null,null,null,"E700_Holz",null,null,null,"x",null,null,null,null,null,"x",null,"m2","m2","m2","m2","pau","pau","pau","pau","pau","pau",null,"m2","pau","","","","","","","",""]
[null,0,0,"726.000",null,{"$f":"K39","v":"Schneefang"},"",null,null,"726.000","Schneefang",null,null,"Stk. ",null,null,null,null,null,null,null,"x",null,null,"x",null,null,null,null,null,"x",null,"Stk. ","m2","m2","m2","pau","pau","pau","pau","pau","pau",null,"Stk. ","m2","pau","","","","","","",""]
[null,0,0,"727.000",null,"Dachfenster","",null,null,"727.000","Dachfenster",null,null,"Stk. ",null,null,null,null,null,null,null,"x",null,null,"x",null,null,null,null,null,"x",null,"Stk. ","m2","m2","m2","pau","pau","pau","pau","pau","pau",null,"Stk. ",{"$f":"IF(AR40=\"\",\"\",\nIF(AR40<>$AG40,$AG40,\nIF(AR40<>$AH40,$AH40,\nIF(AR40<>$AI40,$AI40,\nIF(AR40<>$AJ40,$AJ40,\nIF(AR40<>$AK40,$AK40,\nIF(AR40<>$AL40,$AL40,\nIF(AR40<>$AM40,$AM40,\nIF(AR40<>$AN40,$AN40,\nIF(AR40<>$AO40,$AO40,\nIF(AR40<>$AP40,$AP40,\n\"\")))))))))))","v":"m2"},"pau","","","","","","",""]
[null,{"$f":"B30","v":0},0,null,null,null,"",null,null,null,null,null,null,null,null,null,null,null,null,null,null,null,null,null,null,null,null,null,null,null,null,null,"","","","","","","","","","",null,"","","","","","","","","",""]
[null,{"$f":"IF(O42=\"x\",1,IF(SUM(B43:B58)>0,1,0))","v":1},0,{"$f":"H42","v":"730.000"},null,{"$f":"I42","v":"Anpassungen auf Flachdächer"},"","730.000","Anpassungen auf Flachdächer",null,null,null,null,"pau",null,null,null,null,null,null,null,null,null,null,null,null,null,null,null,null,"x",null,"pau","pau","pau","pau","pau","pau","pau","pau","pau","pau",null,"pau","","","","","","","","",""]
[null,{"$f":"IF(OR(SUM(B44:B46)>0,O43=\"x\"),1,IF(ISNUMBER(O43),O43,0))","v":1},0,{"$f":"J43","v":"731.000"},null,{"$f":"K43","v":"Kies"},"",null,null,"731.000","Kies",null,null,"m2",null,null,null,null,null,null,null,null,null,null,"x",null,null,null,null,null,"x",null,"m2","m2","m2","m2","pau","pau","pau","pau","pau","pau",null,"m2","pau","","","","","","","",""]
[null,{"$f":"IF(O44=\"x\",1,IF(ISNUMBER(O44),O44,0))","v":0},0,null,{"$f":"L44","v":"731.100"},{"$f":"M44","v":"Kies runter saugen & entsorgen"},"",null,null,null,null,"731.100","Kies runter saugen & entsorgen","m2",null,null,null,null,null,null,null,null,null,null,"x",null,null,null,null,null,"x",null,"m2","m2","m2","m2","pau","pau","pau","pau","pau","pau",null,"m2","pau",{"$f":"IF(AS44=\"\",\"\",\nIF(AND(AS44<>$AG44,AR44<>$AG44),$AG44,\nIF(AND(AS44<>$AH44,AR44<>$AH44),$AH44,\nIF(AND(AS44<>$AI44,AR44<>$AI44),$AI44,\nIF(AND(AS44<>$AJ44,AR44<>$AJ44),$AJ44,\nIF(AND(AS44<>$AK44,AR44<>$AK44),$AK44,\nIF(AND(AS44<>$AL44,AR44<>$AL44),$AL44,\nIF(AND(AS44<>$AM44,AR44<>$AM44),$AM44,\nIF(AND(AS44<>$AN44,AR44<>$AN44),$AN44,\nIF(AND(AS44<>$AO44,AR44<>$AO44),$AO44,\nIF(AND(AS44<>$AP44,AR44<>$AP44),$AP44,\n\"\")))))))))))","v":""},{"$f":"IF(AT44=\"\",\"\",\nIF(AND(AR44<>$AG44,AT44<>$AG44,AS44<>$AG44),$AG44,\nIF(AND(AR44<>$AH44,AT44<>$AH44,AS44<>$AH44),$AH44,\nIF(AND(AR44<>$AI44,AT44<>$AI44,AS44<>$AI44),$AI44,\nIF(AND(AR44<>$AJ44,AT44<>$AJ44,AS44<>$AJ44),$AJ44,\nIF(AND(AR44<>$AK44,AT44<>$AK44,AS44<>$AK44),$AK44,\nIF(AND(AR44<>$AL44,AT44<>$AL44,AS44<>$AL44),$AL44,\nIF(AND(AR44<>$AM44,AT44<>$AM44,AS44<>$AM44),$AM44,\nIF(AND(AR44<>$AN44,AT44<>$AN44,AS44<>$AN44),$AN44,\nIF(AND(AR44<>$AO44,AT44<>$AO44,AS44<>$AO44),$AO44,\nIF(AND(AR44<>$AP44,AT44<>$AP44,AS44<>$AP44),$AP44,\n\"\")))))))))))","v":""},{"$f":"IF(AU44=\"\",\"\",\nIF(AND(AR44<>$AG44,AS44<>$AG44,AU44<>$AG44,AT44<>$AG44),$AG44,\nIF(AND(AR44<>$AH44,AS44<>$AH44,AU44<>$AH44,AT44<>$AH44),$AH44,\nIF(AND(AR44<>$AI44,AS44<>$AI44,AU44<>$AI44,AT44<>$AI44),$AI44,\nIF(AND(AR44<>$AJ44,AS44<>$AJ44,AU44<>$AJ44,AT44<>$AJ44),$AJ44,\nIF(AND(AR44<>$AK44,AS44<>$AK44,AU44<>$AK44,AT44<>$AK44),$AK44,\nIF(AND(AR44<>$AL44,AS44<>$AL44,AU44<>$AL44,AT44<>$AL44),$AL44,\nIF(AND(AR44<>$AM44,AS44<>$AM44,AU44<>$AM44,AT44<>$AM44),$AM44,\nIF(AND(AR44<>$AN44,AS44<>$AN44,AU44<>$AN44,AT44<>$AN44),$AN44,\nIF(AND(AR44<>$AO44,AS44<>$AO44,AU44<>$AO44,AT44<>$AO44),$AO44,\nIF(AND(AR44<>$AP44,AS44<>$AP44,AU44<>$AP44,AT44<>$AP44),$AP44,\n\"\")))))))))))","v":""},{"$f":"IF(AV44=\"\",\"\",\nIF(AND(AR44<>$AG44,AS44<>$AG44,AT44<>$AG44,AV44<>$AG44,AU44<>$AG44),$AG44,\nIF(AND(AR44<>$AH44,AS44<>$AH44,AT44<>$AH44,AV44<>$AH44,AU44<>$AH44),$AH44,\nIF(AND(AR44<>$AI44,AS44<>$AI44,AT44<>$AI44,AV44<>$AI44,AU44<>$AI44),$AI44,\nIF(AND(AR44<>$AJ44,AS44<>$AJ44,AT44<>$AJ44,AV44<>$AJ44,AU44<>$AJ44),$AJ44,\nIF(AND(AR44<>$AK44,AS44<>$AK44,AT44<>$AK44,AV44<>$AK44,AU44<>$AK44),$AK44,\nIF(AND(AR44<>$AL44,AS44<>$AL44,AT44<>$AL44,AV44<>$AL44,AU44<>$AL44),$AL44,\nIF(AND(AR44<>$AM44,AS44<>$AM44,AT44<>$AM44,AV44<>$AM44,AU44<>$AM44),$AM44,\nIF(AND(AR44<>$AN44,AS44<>$AN44,AT44<>$AN44,AV44<>$AN44,AU44<>$AN44),$AN44,\nIF(AND(AR44<>$AO44,AS44<>$AO44,AT44<>$AO44,AV44<>$AO44,AU44<>$AO44),$AO44,\nIF(AND(AR44<>$AP44,AS44<>$AP44,AT44<>$AP44,AV44<>$AP44,AU44<>$AP44),$AP44,\n\"\")))))))))))","v":""},{"$f":"IF(AW44=\"\",\"\",\nIF(AND(AR44<>$AG44,AS44<>$AG44,AT44<>$AG44,AU44<>$AG44,AW44<>$AG44,AV44<>$AG44),$AG44,\nIF(AND(AR44<>$AH44,AS44<>$AH44,AT44<>$AH44,AU44<>$AH44,AW44<>$AH44,AV44<>$AH44),$AH44,\nIF(AND(AR44<>$AI44,AS44<>$AI44,AT44<>$AI44,AU44<>$AI44,AW44<>$AI44,AV44<>$AI44),$AI44,\nIF(AND(AR44<>$AJ44,AS44<>$AJ44,AT44<>$AJ44,AU44<>$AJ44,AW44<>$AJ44,AV44<>$AJ44),$AJ44,\nIF(AND(AR44<>$AK44,AS44<>$AK44,AT44<>$AK44,AU44<>$AK44,AW44<>$AK44,AV44<>$AK44),$AK44,\nIF(AND(AR44<>$AL44,AS44<>$AL44,AT44<>$AL44,AU44<>$AL44,AW44<>$AL44,AV44<>$AL44),$AL44,\nIF(AND(AR44<>$AM44,AS44<>$AM44,AT44<>$AM44,AU44<>$AM44,AW44<>$AM44,AV44<>$AM44),$AM44,\nIF(AND(AR44<>$AN44,AS44<>$AN44,AT44<>$AN44,AU44<>$AN44,AW44<>$AN44,AV44<>$AN44),$AN44,\nIF(AND(AR44<>$AO44,AS44<>$AO44,AT44<>$AO44,AU44<>$AO44,AW44<>$AO44,AV44<>$AO44),$AO44,\nIF(AND(AR44<>$AP44,AS44<>$AP44,AT44<>$AP44,AU44<>$AP44,AW44<>$AP44,AV44<>$AP44),$AP44,\n\"\")))))))))))","v":""},{"$f":"IF(AX44=\"\",\"\",\nIF(AND(AR44<>$AG44,AS44<>$AG44,AT44<>$AG44,AU44<>$AG44,AV44<>$AG44,AX44<>$AG44,AW44<>$AG44),$AG44,\nIF(AND(AR44<>$AH44,AS44<>$AH44,AT44<>$AH44,AU44<>$AH44,AV44<>$AH44,AX44<>$AH44,AW44<>$AH44),$AH44,\nIF(AND(AR44<>$AI44,AS44<>$AI44,AT44<>$AI44,AU44<>$AI44,AV44<>$AI44,AX44<>$AI44,AW44<>$AI44),$AI44,\nIF(AND(AR44<>$AJ44,AS44<>$AJ44,AT44<>$AJ44,AU44<>$AJ44,AV44<>$AJ44,AX44<>$AJ44,AW44<>$AJ44),$AJ44,\nIF(AND(AR44<>$AK44,AS44<>$AK44,AT44<>$AK44,AU44<>$AK44,AV44<>$AK44,AX44<>$AK44,AW44<>$AK44),$AK44,\nIF(AND(AR44<>$AL44,AS44<>$AL44,AT44<>$AL44,AU44<>$AL44,AV44<>$AL44,AX44<>$AL44,AW44<>$AL44),$AL44,\nIF(AND(AR44<>$AM44,AS44<>$AM44,AT44<>$AM44,AU44<>$AM44,AV44<>$AM44,AX44<>$AM44,AW44<>$AM44),$AM44,\nIF(AND(AR44<>$AN44,AS44<>$AN44,AT44<>$AN44,AU44<>$AN44,AV44<>$AN44,AX44<>$AN44,AW44<>$AN44),$AN44,\nIF(AND(AR44<>$AO44,AS44<>$AO44,AT44<>$AO44,AU44<>$AO44,AV44<>$AO44,AX44<>$AO44,AW44<>$AO44),$AO44,\nIF(AND(AR44<>$AP44,AS44<>$AP44,AT44<>$AP44,AU44<>$AP44,AV44<>$AP44,AX44<>$AP44,AW44<>$AP44),$AP44,\n\"\")))))))))))","v":""},{"$f":"IF(AY44=\"\",\"\",\nIF(AND(AR44<>$AG44,AS44<>$AG44,AT44<>$AG44,AU44<>$AG44,AV44<>$AG44,AW44<>$AG44,AY44<>$AG44,AX44<>$AG44),$AG44,\nIF(AND(AR44<>$AH44,AS44<>$AH44,AT44<>$AH44,AU44<>$AH44,AV44<>$AH44,AW44<>$AH44,AY44<>$AH44,AX44<>$AH44),$AH44,\nIF(AND(AR44<>$AI44,AS44<>$AI44,AT44<>$AI44,AU44<>$AI44,AV44<>$AI44,AW44<>$AI44,AY44<>$AI44,AX44<>$AI44),$AI44,\nIF(AND(AR44<>$AJ44,AS44<>$AJ44,AT44<>$AJ44,AU44<>$AJ44,AV44<>$AJ44,AW44<>$AJ44,AY44<>$AJ44,AX44<>$AJ44),$AJ44,\nIF(AND(AR44<>$AK44,AS44<>$AK44,AT44<>$AK44,AU44<>$AK44,AV44<>$AK44,AW44<>$AK44,AY44<>$AK44,AX44<>$AK44),$AK44,\nIF(AND(AR44<>$AL44,AS44<>$AL44,AT44<>$AL44,AU44<>$AL44,AV44<>$AL44,AW44<>$AL44,AY44<>$AL44,AX44<>$AL44),$AL44,\nIF(AND(AR44<>$AM44,AS44<>$AM44,AT44<>$AM44,AU44<>$AM44,AV44<>$AM44,AW44<>$AM44,AY44<>$AM44,AX44<>$AM44),$AM44,\nIF(AND(AR44<>$AN44,AS44<>$AN44,AT44<>$AN44,AU44<>$AN44,AV44<>$AN44,AW44<>$AN44,AY44<>$AN44,AX44<>$AN44),$AN44,\nIF(AND(AR44<>$AO44,AS44<>$AO44,AT44<>$AO44,AU44<>$AO44,AV44<>$AO44,AW44<>$AO44,AY44<>$AO44,AX44<>$AO44),$AO44,\nIF(AND(AR44<>$AP44,AS44<>$AP44,AT44<>$AP44,AU44<>$AP44,AV44<>$AP44,AW44<>$AP44,AY44<>$AP44,AX44<>$AP44),$AP44,\n\"\")))))))))))","v":""},{"$f":"IF(AZ44=\"\",\"\",\nIF(AND(AR44<>$AG44,AS44<>$AG44,AT44<>$AG44,AU44<>$AG44,AV44<>$AG44,AW44<>$AG44,AX44<>$AG44,AZ44<>$AG44,AY44<>$AG44),$AG44,\nIF(AND(AR44<>$AH44,AS44<>$AH44,AT44<>$AH44,AU44<>$AH44,AV44<>$AH44,AW44<>$AH44,AX44<>$AH44,AZ44<>$AH44,AY44<>$AH44),$AH44,\nIF(AND(AR44<>$AI44,AS44<>$AI44,AT44<>$AI44,AU44<>$AI44,AV44<>$AI44,AW44<>$AI44,AX44<>$AI44,AZ44<>$AI44,AY44<>$AI44),$AI44,\nIF(AND(AR44<>$AJ44,AS44<>$AJ44,AT44<>$AJ44,AU44<>$AJ44,AV44<>$AJ44,AW44<>$AJ44,AX44<>$AJ44,AZ44<>$AJ44,AY44<>$AJ44),$AJ44,\nIF(AND(AR44<>$AK44,AS44<>$AK44,AT44<>$AK44,AU44<>$AK44,AV44<>$AK44,AW44<>$AK44,AX44<>$AK44,AZ44<>$AK44,AY44<>$AK44),$AK44,\nIF(AND(AR44<>$AL44,AS44<>$AL44,AT44<>$AL44,AU44<>$AL44,AV44<>$AL44,AW44<>$AL44,AX44<>$AL44,AZ44<>$AL44,AY44<>$AL44),$AL44,\nIF(AND(AR44<>$AM44,AS44<>$AM44,AT44<>$AM44,AU44<>$AM44,AV44<>$AM44,AW44<>$AM44,AX44<>$AM44,AZ44<>$AM44,AY44<>$AM44),$AM44,\nIF(AND(AR44<>$AN44,AS44<>$AN44,AT44<>$AN44,AU44<>$AN44,AV44<>$AN44,AW44<>$AN44,AX44<>$AN44,AZ44<>$AN44,AY44<>$AN44),$AN44,\nIF(AND(AR44<>$AO44,AS44<>$AO44,AT44<>$AO44,AU44<>$AO44,AV44<>$AO44,AW44<>$AO44,AX44<>$AO44,AZ44<>$AO44,AY44<>$AO44),$AO44,\nIF(AND(AR44<>$AP44,AS44<>$AP44,AT44<>$AP44,AU44<>$AP44,AV44<>$AP44,AW44<>$AP44,AX44<>$AP44,AZ44<>$AP44,AY44<>$AP44),$AP44,\n\"\")))))))))))","v":""}]
[null,0,0,null,{"$f":"L45","v":"731.200"},"Kies hoch blasen","",null,null,null,null,"731.200","Kies hoch blasen","m2",null,null,null,null,null,null,null,null,null,null,"x",null,null,null,null,null,"x",null,"m2","m2","m2","m2","pau","pau","pau","pau","pau","pau",null,"m2","pau","","","","","","","",""]
[null,1,1,null,{"$f":"L46","v":"731.300"},"Kies manuell versetzen","m2",null,null,null,null,"731.300","Kies manuell versetzen","m2","x",null,null,null,null,null,null,null,null,null,"x",null,null,null,null,null,"x",null,"m2","m2","m2","m2","pau","pau","pau","pau","pau","pau",null,"m2","pau","","","","","","","",""]
[null,{"$f":"IF(OR(SUM(B48:B51)>0,O47=\"x\"),1,IF(ISNUMBER(O47),O47,0))","v":0},0,{"$f":"J47","v":"732.000"},null,{"$f":"K47","v":"Begrünung"},"",null,null,"732.000","Begrünung",null,null,"m2",null,null,null,null,null,null,null,null,null,null,"x",null,null,null,null,null,"x",null,"m2","m2","m2","m2","pau","pau","pau","pau","pau","pau",null,"m2","pau","","","","","","","",""]
[null,{"$f":"IF(O48=\"x\",1,IF(ISNUMBER(O48),O48,0))","v":0},0,null,{"$f":"L48","v":"732.100"},{"$f":"M48","v":"Substrat glätten / ausnivillieren (m2)"},"",null,null,null,null,"732.100","Substrat glätten / ausnivillieren (m2)","m2",null,null,null,null,null,null,null,null,null,null,"x",null,null,null,null,null,"x",null,"m2","m2","m2","m2","pau","pau","pau","pau","pau","pau",null,"m2","pau","","","","","","","",""]
[null,0,0,null,{"$f":"L49","v":"732.200"},"Substrat runter saugen & entsorgen","",null,null,null,null,"732.200","Substrat runter saugen & entsorgen","m2",null,null,null,null,null,null,null,null,null,null,"x",null,null,null,null,null,"x",null,"m2","m2","m2","m2","pau","pau","pau","pau","pau","pau",null,"m2","pau","","","","","","","",""]
[null,0,0,null,{"$f":"L50","v":"732.300"},"Substrat hoch blasen","",null,null,null,null,"732.300","Substrat hoch blasen","m2",null,null,null,null,null,null,null,null,null,null,"x",null,null,null,null,null,"x",null,"m2","m2","m2","m2","pau","pau","pau","pau","pau","pau",null,"m2","pau","","","","","","","",""]
[null,0,0,null,{"$f":"L51","v":"732.400"},"Pflanzen entfernen und entsorgen","",null,null,null,null,"732.400","Pflanzen entfernen und entsorgen","m2",null,null,null,null,null,null,null,null,null,null,"x",null,null,null,null,null,"x",null,"m2","m2","m2","m2","pau","pau","pau","pau","pau","pau",null,"m2","pau","","","","","","","",""]
[null,{"$f":"IF(O52=\"x\",1,IF(ISNUMBER(O52),O52,0))","v":1},1,{"$f":"J52","v":"733.000"},null,{"$f":"K52","v":"Gehwegplatten"},"pau",null,null,"733.000","Gehwegplatten",null,null,"pau","x",null,null,null,null,null,null,"x",null,null,"x",null,null,null,null,null,"x",null,"Stk. ","m2","m2","m2","pau","pau","pau","pau","pau","pau",null,"Stk. ","m2","pau","","","","","","",""]
[null,{"$f":"IF(OR(SUM(B54:B56)>0,O53=\"x\"),1,IF(ISNUMBER(O53),O53,0))","v":1},0,{"$f":"J53","v":"734.000"},null,{"$f":"K53 & IF(P53<>\"\",CHAR(10) & P53,\"\")","v":"Schutzschichten"},"",null,null,"734.000","Schutzschichten",null,null,"m2",null,null,null,null,null,null,"E700_Schutzschichten",null,null,null,"x",null,null,null,null,null,"x",null,"m2","m2","m2","m2","pau","pau","pau","pau","pau","pau",null,"m2","pau","","","","","","","",""]
[null,{"$f":"IF(O54=\"x\",1,IF(ISNUMBER(O54),O54,0))","v":1},1,null,{"$f":"L54","v":"734.100"},{"$f":"M54 & IF(P54<>\"\",CHAR(10) & P54,\"\")","v":"Vlies\nEigenschaften: \nStärke (mm )"},"m2",null,null,null,null,"734.100","Vlies","m2","x","Eigenschaften: \nStärke (mm )",null,null,null,null,"E700_Schutzschichten",null,null,null,"x",null,null,null,null,null,"x",null,"m2","m2","m2","m2","pau","pau","pau","pau","pau","pau",null,"m2","pau","","","","","","","",""]
[null,0,0,null,{"$f":"L55","v":"734.200"},"Gummischrot","",null,null,null,null,"734.200","Gummischrot","m2",null,null,null,null,null,null,"E700_Schutzschichten",null,null,null,"x",null,null,null,null,null,"x",null,"m2","m2","m2","m2","pau","pau","pau","pau","pau","pau",null,"m2","pau","","","","","","","",""]
[null,0,0,null,{"$f":"L56","v":"734.300"},"Retentionsmatten","",null,null,null,null,"734.300","Retentionsmatten","m2",null,null,null,null,null,null,"E700_Schutzschichten",null,null,null,"x",null,null,null,null,null,"x",null,"m2","m2","m2","m2","pau","pau","pau","pau","pau","pau",null,"m2","pau","","","","","","","",""]
[null,{"$f":"IF(O57=\"x\",1,IF(ISNUMBER(O57),O57,0))","v":0},0,{"$f":"J57","v":"735.000"},null,{"$f":"K57","v":"EAP Rückbau inkl, Abdichtungsarbeiten"},"",null,null,"735.000","EAP Rückbau inkl, Abdichtungsarbeiten",null,null,"Stk. ",null,null,null,null,null,null,null,"x",null,null,null,null,null,null,null,null,"x",null,"Stk. ","pau","pau","pau","pau","pau","pau","pau","pau","pau",null,"Stk. ","pau","","","","","","","",""]
[null,0,0,"736.000",null,"Dunstrohre verziehen","",null,null,"736.000","Dunstrohre verziehen",null,null,"Stk. ",null,null,null,null,null,null,null,"x",null,null,null,null,null,null,null,null,"x",null,"Stk. ","pau","pau","pau","pau","pau","pau","pau","pau","pau",null,"Stk. ","pau","","","","","","","",""]
[null,{"$f":"B42","v":1},0,null,null,null,"",null,null,null,null,null,null,null,null,null,null,null,null,null,null,null,null,null,null,null,null,null,null,null,null,null,"","","","","","","","","","",null,"","","","","","","","","",""]
[null,{"$f":"IF(O60=\"x\",1,IF(SUM(B61:B66)>0,1,0))","v":0},0,{"$f":"H60","v":"740.000"},null,{"$f":"I60","v":"Anpassungen Fassaden"},"","740.000","Anpassungen Fassaden",null,null,null,null,"pau",null,null,null,null,null,null,null,null,null,null,null,null,null,null,null,null,"x",null,"pau","pau","pau","pau","pau","pau","pau","pau","pau","pau",null,"pau","","","","","","","","",""]
[null,{"$f":"IF(O61=\"x\",1,IF(ISNUMBER(O61),O61,0))","v":0},0,{"$f":"J61","v":"741.000"},null,{"$f":"K61","v":"Betonfräsen"},"",null,null,"741.000","Betonfräsen",null,null,"lfm",null,null,null,null,null,null,null,null,null,"x",null,null,null,null,null,null,"x",null,"lfm","lfm","lfm","pau","pau","pau","pau","pau","pau","pau",null,"lfm","pau","","","","","","","",""]
[null,0,0,"742.000",null,"Blechanpassung vor Ort","",null,null,"742.000","Blechanpassung vor Ort",null,null,"lfm",null,null,null,null,null,null,null,null,null,"x",null,null,null,null,null,null,"x",null,"lfm","lfm","lfm","pau","pau","pau","pau","pau","pau","pau",null,"lfm","pau","","","","","","","",""]
[null,0,0,"743.000",null,"Putz","",null,null,"743.000","Putz",null,null,"m2",null,null,null,null,null,null,null,null,null,null,"x",null,null,null,null,null,"x",null,"m2","m2","m2","m2","pau","pau","pau","pau","pau","pau",null,"m2","pau","","","","","","","",""]
[null,0,0,"744.000",null,"Brett","",null,null,"744.000","Brett",null,null,"lfm",null,null,null,null,null,null,null,null,null,"x",null,null,null,null,null,null,"x",null,"lfm","lfm","lfm","pau","pau","pau","pau","pau","pau","pau",null,"lfm","pau","","","","","","","",""]
[null,0,0,"745.000",null,"Lattung","",null,null,"745.000","Lattung",null,null,"lfm",null,null,null,null,null,null,null,null,null,"x",null,null,null,null,null,null,"x",null,"lfm","lfm","lfm","pau","pau","pau","pau","pau","pau","pau",null,"lfm","pau","","","","","","","",""]
[null,0,0,"746.000",null,{"$f":"K66 & IF(P66<>\"\",CHAR(10) & P66,\"\")","v":"Kernbohrung"},"",null,null,"746.000","Kernbohrung",null,null,"Stk. ",null,null,null,null,null,null,"E700_Kernbohrung","x",null,null,null,null,null,null,null,null,null,null,"Stk. ","","","","","","","","","",null,"Stk. ","","","","","","","","",""]
[null,{"$f":"B60","v":0},0,null,null,null,"",null,null,null,null,null,null,null,null,null,null,null,null,null,null,null,null,null,null,null,null,null,null,null,null,null,"","","","","","","","","","",null,"","","","","","","","","",""]
[null,{"$f":"IF(O68=\"x\",1,IF(SUM(B69:B72)>0,1,0))","v":1},0,{"$f":"H68","v":"750.000"},null,{"$f":"I68","v":"Blitzschutz"},"","750.000","Blitzschutz",null,null,null,null,"pau",null,null,null,null,null,null,null,null,null,null,null,null,null,null,null,null,"x",null,"pau","pau","pau","pau","pau","pau","pau","pau","pau","pau",null,"pau","","","","","","","","",""]
[null,{"$f":"IF(O69=\"x\",1,IF(ISNUMBER(O69),O69,0))","v":0},0,{"$f":"J69","v":"751.000"},null,{"$f":"K69","v":"Blitzschutzrückbau und Entsorgung"},"",null,null,"751.000","Blitzschutzrückbau und Entsorgung",null,null,"lfm",null,null,null,null,null,null,null,null,null,"x",null,null,null,null,null,null,"x",null,"lfm","lfm","lfm","pau","pau","pau","pau","pau","pau","pau",null,"lfm","pau","","","","","","","",""]
[null,0,0,"752.000",null,{"$f":"K70 & IF(P70<>\"\",CHAR(10) & P70,\"\")","v":"Blitzschutz Steildach"},"",null,null,"752.000","Blitzschutz Steildach",null,null,"lfm",null,null,null,null,null,null,"E700_Blitzschutz_Steildach ",null,null,"x",null,null,null,null,null,null,"x",null,"lfm","lfm","lfm","pau","pau","pau","pau","pau","pau","pau",null,"lfm",{"$f":"IF(AR70=\"\",\"\",\nIF(AR70<>$AG70,$AG70,\nIF(AR70<>$AH70,$AH70,\nIF(AR70<>$AI70,$AI70,\nIF(AR70<>$AJ70,$AJ70,\nIF(AR70<>$AK70,$AK70,\nIF(AR70<>$AL70,$AL70,\nIF(AR70<>$AM70,$AM70,\nIF(AR70<>$AN70,$AN70,\nIF(AR70<>$AO70,$AO70,\nIF(AR70<>$AP70,$AP70,\n\"\")))))))))))","v":"pau"},"","","","","","","",""]
[null,1,1,"753.000",null,"Blitzschutz Flachdach","lfm",null,null,"753.000","Blitzschutz Flachdach",null,null,"lfm","x",null,null,null,null,null,"E700_Blitzschutz_Flachdach",null,null,"x",null,null,null,null,null,null,"x",null,"lfm","lfm","lfm","pau","pau","pau","pau","pau","pau","pau",null,"lfm","pau","","","","","","","",""]
[null,0,0,"754.000",null,"Blitzschutz Fassade",{"$f":"IF(C72=1,N72,\"\")","v":""},null,null,"754.000","Blitzschutz Fassade",null,null,"lfm",null,null,null,null,null,null,"E700_Blitzschutz_Fassade",null,null,"x",null,null,null,null,null,null,"x",null,{"$f":"\nIF(V72=\"x\",V$4,\nIF(W72=\"x\",W$4,\nIF(X72=\"x\",X$4,\nIF(Y72=\"x\",Y$4,\nIF(Z72=\"x\",Z$4,\nIF(AA72=\"x\",AA$4,\nIF(AB72=\"x\",AB$4,\nIF(AC72=\"x\",AC$4,\nIF(AD72=\"x\",AD$4,\nIF(AE72=\"x\",AE$4,\n\"\"))))))))))","v":"lfm"},{"$f":"\nIF(W72=\"x\",W$4,\nIF(X72=\"x\",X$4,\nIF(Y72=\"x\",Y$4,\nIF(Z72=\"x\",Z$4,\nIF(AA72=\"x\",AA$4,\nIF(AB72=\"x\",AB$4,\nIF(AC72=\"x\",AC$4,\nIF(AD72=\"x\",AD$4,\nIF(AE72=\"x\",AE$4,\n\"\")))))))))","v":"lfm"},{"$f":"\nIF(X72=\"x\",X$4,\nIF(Y72=\"x\",Y$4,\nIF(Z72=\"x\",Z$4,\nIF(AA72=\"x\",AA$4,\nIF(AB72=\"x\",AB$4,\nIF(AC72=\"x\",AC$4,\nIF(AD72=\"x\",AD$4,\nIF(AE72=\"x\",AE$4,\n\"\"))))))))","v":"lfm"},{"$f":"\nIF(Y72=\"x\",Y$4,\nIF(Z72=\"x\",Z$4,\nIF(AA72=\"x\",AA$4,\nIF(AB72=\"x\",AB$4,\nIF(AC72=\"x\",AC$4,\nIF(AD72=\"x\",AD$4,\nIF(AE72=\"x\",AE$4,\n\"\")))))))","v":"pau"},{"$f":"\nIF(Z72=\"x\",Z$4,\nIF(AA72=\"x\",AA$4,\nIF(AB72=\"x\",AB$4,\nIF(AC72=\"x\",AC$4,\nIF(AD72=\"x\",AD$4,\nIF(AE72=\"x\",AE$4,\n\"\"))))))","v":"pau"},{"$f":"\nIF(AA72=\"x\",AA$4,\nIF(AB72=\"x\",AB$4,\nIF(AC72=\"x\",AC$4,\nIF(AD72=\"x\",AD$4,\nIF(AE72=\"x\",AE$4,\n\"\")))))","v":"pau"},{"$f":"\nIF(AB72=\"x\",AB$4,\nIF(AC72=\"x\",AC$4,\nIF(AD72=\"x\",AD$4,\nIF(AE72=\"x\",AE$4,\n\"\"))))","v":"pau"},{"$f":"\nIF(AC72=\"x\",AC$4,\nIF(AD72=\"x\",AD$4,\nIF(AE72=\"x\",AE$4,\n\"\")))","v":"pau"},{"$f":"\nIF(AD72=\"x\",AD$4,\nIF(AE72=\"x\",AE$4,\n\"\"))","v":"pau"},{"$f":"\nIF(AE72=\"x\",AE$4,\n\"\")","v":"pau"},null,{"$f":"AG72","v":"lfm"},"pau",{"$f":"IF(AS72=\"\",\"\",\nIF(AND(AS72<>$AG72,AR72<>$AG72),$AG72,\nIF(AND(AS72<>$AH72,AR72<>$AH72),$AH72,\nIF(AND(AS72<>$AI72,AR72<>$AI72),$AI72,\nIF(AND(AS72<>$AJ72,AR72<>$AJ72),$AJ72,\nIF(AND(AS72<>$AK72,AR72<>$AK72),$AK72,\nIF(AND(AS72<>$AL72,AR72<>$AL72),$AL72,\nIF(AND(AS72<>$AM72,AR72<>$AM72),$AM72,\nIF(AND(AS72<>$AN72,AR72<>$AN72),$AN72,\nIF(AND(AS72<>$AO72,AR72<>$AO72),$AO72,\nIF(AND(AS72<>$AP72,AR72<>$AP72),$AP72,\n\"\")))))))))))","v":""},{"$f":"IF(AT72=\"\",\"\",\nIF(AND(AR72<>$AG72,AT72<>$AG72,AS72<>$AG72),$AG72,\nIF(AND(AR72<>$AH72,AT72<>$AH72,AS72<>$AH72),$AH72,\nIF(AND(AR72<>$AI72,AT72<>$AI72,AS72<>$AI72),$AI72,\nIF(AND(AR72<>$AJ72,AT72<>$AJ72,AS72<>$AJ72),$AJ72,\nIF(AND(AR72<>$AK72,AT72<>$AK72,AS72<>$AK72),$AK72,\nIF(AND(AR72<>$AL72,AT72<>$AL72,AS72<>$AL72),$AL72,\nIF(AND(AR72<>$AM72,AT72<>$AM72,AS72<>$AM72),$AM72,\nIF(AND(AR72<>$AN72,AT72<>$AN72,AS72<>$AN72),$AN72,\nIF(AND(AR72<>$AO72,AT72<>$AO72,AS72<>$AO72),$AO72,\nIF(AND(AR72<>$AP72,AT72<>$AP72,AS72<>$AP72),$AP72,\n\"\")))))))))))","v":""},{"$f":"IF(AU72=\"\",\"\",\nIF(AND(AR72<>$AG72,AS72<>$AG72,AU72<>$AG72,AT72<>$AG72),$AG72,\nIF(AND(AR72<>$AH72,AS72<>$AH72,AU72<>$AH72,AT72<>$AH72),$AH72,\nIF(AND(AR72<>$AI72,AS72<>$AI72,AU72<>$AI72,AT72<>$AI72),$AI72,\nIF(AND(AR72<>$AJ72,AS72<>$AJ72,AU72<>$AJ72,AT72<>$AJ72),$AJ72,\nIF(AND(AR72<>$AK72,AS72<>$AK72,AU72<>$AK72,AT72<>$AK72),$AK72,\nIF(AND(AR72<>$AL72,AS72<>$AL72,AU72<>$AL72,AT72<>$AL72),$AL72,\nIF(AND(AR72<>$AM72,AS72<>$AM72,AU72<>$AM72,AT72<>$AM72),$AM72,\nIF(AND(AR72<>$AN72,AS72<>$AN72,AU72<>$AN72,AT72<>$AN72),$AN72,\nIF(AND(AR72<>$AO72,AS72<>$AO72,AU72<>$AO72,AT72<>$AO72),$AO72,\nIF(AND(AR72<>$AP72,AS72<>$AP72,AU72<>$AP72,AT72<>$AP72),$AP72,\n\"\")))))))))))","v":""},{"$f":"IF(AV72=\"\",\"\",\nIF(AND(AR72<>$AG72,AS72<>$AG72,AT72<>$AG72,AV72<>$AG72,AU72<>$AG72),$AG72,\nIF(AND(AR72<>$AH72,AS72<>$AH72,AT72<>$AH72,AV72<>$AH72,AU72<>$AH72),$AH72,\nIF(AND(AR72<>$AI72,AS72<>$AI72,AT72<>$AI72,AV72<>$AI72,AU72<>$AI72),$AI72,\nIF(AND(AR72<>$AJ72,AS72<>$AJ72,AT72<>$AJ72,AV72<>$AJ72,AU72<>$AJ72),$AJ72,\nIF(AND(AR72<>$AK72,AS72<>$AK72,AT72<>$AK72,AV72<>$AK72,AU72<>$AK72),$AK72,\nIF(AND(AR72<>$AL72,AS72<>$AL72,AT72<>$AL72,AV72<>$AL72,AU72<>$AL72),$AL72,\nIF(AND(AR72<>$AM72,AS72<>$AM72,AT72<>$AM72,AV72<>$AM72,AU72<>$AM72),$AM72,\nIF(AND(AR72<>$AN72,AS72<>$AN72,AT72<>$AN72,AV72<>$AN72,AU72<>$AN72),$AN72,\nIF(AND(AR72<>$AO72,AS72<>$AO72,AT72<>$AO72,AV72<>$AO72,AU72<>$AO72),$AO72,\nIF(AND(AR72<>$AP72,AS72<>$AP72,AT72<>$AP72,AV72<>$AP72,AU72<>$AP72),$AP72,\n\"\")))))))))))","v":""},{"$f":"IF(AW72=\"\",\"\",\nIF(AND(AR72<>$AG72,AS72<>$AG72,AT72<>$AG72,AU72<>$AG72,AW72<>$AG72,AV72<>$AG72),$AG72,\nIF(AND(AR72<>$AH72,AS72<>$AH72,AT72<>$AH72,AU72<>$AH72,AW72<>$AH72,AV72<>$AH72),$AH72,\nIF(AND(AR72<>$AI72,AS72<>$AI72,AT72<>$AI72,AU72<>$AI72,AW72<>$AI72,AV72<>$AI72),$AI72,\nIF(AND(AR72<>$AJ72,AS72<>$AJ72,AT72<>$AJ72,AU72<>$AJ72,AW72<>$AJ72,AV72<>$AJ72),$AJ72,\nIF(AND(AR72<>$AK72,AS72<>$AK72,AT72<>$AK72,AU72<>$AK72,AW72<>$AK72,AV72<>$AK72),$AK72,\nIF(AND(AR72<>$AL72,AS72<>$AL72,AT72<>$AL72,AU72<>$AL72,AW72<>$AL72,AV72<>$AL72),$AL72,\nIF(AND(AR72<>$AM72,AS72<>$AM72,AT72<>$AM72,AU72<>$AM72,AW72<>$AM72,AV72<>$AM72),$AM72,\nIF(AND(AR72<>$AN72,AS72<>$AN72,AT72<>$AN72,AU72<>$AN72,AW72<>$AN72,AV72<>$AN72),$AN72,\nIF(AND(AR72<>$AO72,AS72<>$AO72,AT72<>$AO72,AU72<>$AO72,AW72<>$AO72,AV72<>$AO72),$AO72,\nIF(AND(AR72<>$AP72,AS72<>$AP72,AT72<>$AP72,AU72<>$AP72,AW72<>$AP72,AV72<>$AP72),$AP72,\n\"\")))))))))))","v":""},{"$f":"IF(AX72=\"\",\"\",\nIF(AND(AR72<>$AG72,AS72<>$AG72,AT72<>$AG72,AU72<>$AG72,AV72<>$AG72,AX72<>$AG72,AW72<>$AG72),$AG72,\nIF(AND(AR72<>$AH72,AS72<>$AH72,AT72<>$AH72,AU72<>$AH72,AV72<>$AH72,AX72<>$AH72,AW72<>$AH72),$AH72,\nIF(AND(AR72<>$AI72,AS72<>$AI72,AT72<>$AI72,AU72<>$AI72,AV72<>$AI72,AX72<>$AI72,AW72<>$AI72),$AI72,\nIF(AND(AR72<>$AJ72,AS72<>$AJ72,AT72<>$AJ72,AU72<>$AJ72,AV72<>$AJ72,AX72<>$AJ72,AW72<>$AJ72),$AJ72,\nIF(AND(AR72<>$AK72,AS72<>$AK72,AT72<>$AK72,AU72<>$AK72,AV72<>$AK72,AX72<>$AK72,AW72<>$AK72),$AK72,\nIF(AND(AR72<>$AL72,AS72<>$AL72,AT72<>$AL72,AU72<>$AL72,AV72<>$AL72,AX72<>$AL72,AW72<>$AL72),$AL72,\nIF(AND(AR72<>$AM72,AS72<>$AM72,AT72<>$AM72,AU72<>$AM72,AV72<>$AM72,AX72<>$AM72,AW72<>$AM72),$AM72,\nIF(AND(AR72<>$AN72,AS72<>$AN72,AT72<>$AN72,AU72<>$AN72,AV72<>$AN72,AX72<>$AN72,AW72<>$AN72),$AN72,\nIF(AND(AR72<>$AO72,AS72<>$AO72,AT72<>$AO72,AU72<>$AO72,AV72<>$AO72,AX72<>$AO72,AW72<>$AO72),$AO72,\nIF(AND(AR72<>$AP72,AS72<>$AP72,AT72<>$AP72,AU72<>$AP72,AV72<>$AP72,AX72<>$AP72,AW72<>$AP72),$AP72,\n\"\")))))))))))","v":""},{"$f":"IF(AY72=\"\",\"\",\nIF(AND(AR72<>$AG72,AS72<>$AG72,AT72<>$AG72,AU72<>$AG72,AV72<>$AG72,AW72<>$AG72,AY72<>$AG72,AX72<>$AG72),$AG72,\nIF(AND(AR72<>$AH72,AS72<>$AH72,AT72<>$AH72,AU72<>$AH72,AV72<>$AH72,AW72<>$AH72,AY72<>$AH72,AX72<>$AH72),$AH72,\nIF(AND(AR72<>$AI72,AS72<>$AI72,AT72<>$AI72,AU72<>$AI72,AV72<>$AI72,AW72<>$AI72,AY72<>$AI72,AX72<>$AI72),$AI72,\nIF(AND(AR72<>$AJ72,AS72<>$AJ72,AT72<>$AJ72,AU72<>$AJ72,AV72<>$AJ72,AW72<>$AJ72,AY72<>$AJ72,AX72<>$AJ72),$AJ72,\nIF(AND(AR72<>$AK72,AS72<>$AK72,AT72<>$AK72,AU72<>$AK72,AV72<>$AK72,AW72<>$AK72,AY72<>$AK72,AX72<>$AK72),$AK72,\nIF(AND(AR72<>$AL72,AS72<>$AL72,AT72<>$AL72,AU72<>$AL72,AV72<>$AL72,AW72<>$AL72,AY72<>$AL72,AX72<>$AL72),$AL72,\nIF(AND(AR72<>$AM72,AS72<>$AM72,AT72<>$AM72,AU72<>$AM72,AV72<>$AM72,AW72<>$AM72,AY72<>$AM72,AX72<>$AM72),$AM72,\nIF(AND(AR72<>$AN72,AS72<>$AN72,AT72<>$AN72,AU72<>$AN72,AV72<>$AN72,AW72<>$AN72,AY72<>$AN72,AX72<>$AN72),$AN72,\nIF(AND(AR72<>$AO72,AS72<>$AO72,AT72<>$AO72,AU72<>$AO72,AV72<>$AO72,AW72<>$AO72,AY72<>$AO72,AX72<>$AO72),$AO72,\nIF(AND(AR72<>$AP72,AS72<>$AP72,AT72<>$AP72,AU72<>$AP72,AV72<>$AP72,AW72<>$AP72,AY72<>$AP72,AX72<>$AP72),$AP72,\n\"\")))))))))))","v":""},{"$f":"IF(AZ72=\"\",\"\",\nIF(AND(AR72<>$AG72,AS72<>$AG72,AT72<>$AG72,AU72<>$AG72,AV72<>$AG72,AW72<>$AG72,AX72<>$AG72,AZ72<>$AG72,AY72<>$AG72),$AG72,\nIF(AND(AR72<>$AH72,AS72<>$AH72,AT72<>$AH72,AU72<>$AH72,AV72<>$AH72,AW72<>$AH72,AX72<>$AH72,AZ72<>$AH72,AY72<>$AH72),$AH72,\nIF(AND(AR72<>$AI72,AS72<>$AI72,AT72<>$AI72,AU72<>$AI72,AV72<>$AI72,AW72<>$AI72,AX72<>$AI72,AZ72<>$AI72,AY72<>$AI72),$AI72,\nIF(AND(AR72<>$AJ72,AS72<>$AJ72,AT72<>$AJ72,AU72<>$AJ72,AV72<>$AJ72,AW72<>$AJ72,AX72<>$AJ72,AZ72<>$AJ72,AY72<>$AJ72),$AJ72,\nIF(AND(AR72<>$AK72,AS72<>$AK72,AT72<>$AK72,AU72<>$AK72,AV72<>$AK72,AW72<>$AK72,AX72<>$AK72,AZ72<>$AK72,AY72<>$AK72),$AK72,\nIF(AND(AR72<>$AL72,AS72<>$AL72,AT72<>$AL72,AU72<>$AL72,AV72<>$AL72,AW72<>$AL72,AX72<>$AL72,AZ72<>$AL72,AY72<>$AL72),$AL72,\nIF(AND(AR72<>$AM72,AS72<>$AM72,AT72<>$AM72,AU72<>$AM72,AV72<>$AM72,AW72<>$AM72,AX72<>$AM72,AZ72<>$AM72,AY72<>$AM72),$AM72,\nIF(AND(AR72<>$AN72,AS72<>$AN72,AT72<>$AN72,AU72<>$AN72,AV72<>$AN72,AW72<>$AN72,AX72<>$AN72,AZ72<>$AN72,AY72<>$AN72),$AN72,\nIF(AND(AR72<>$AO72,AS72<>$AO72,AT72<>$AO72,AU72<>$AO72,AV72<>$AO72,AW72<>$AO72,AX72<>$AO72,AZ72<>$AO72,AY72<>$AO72),$AO72,\nIF(AND(AR72<>$AP72,AS72<>$AP72,AT72<>$AP72,AU72<>$AP72,AV72<>$AP72,AW72<>$AP72,AX72<>$AP72,AZ72<>$AP72,AY72<>$AP72),$AP72,\n\"\")))))))))))","v":""}]
[null,{"$f":"B68","v":1},{"$f":"IF(O73=\"x\",1,IF(ISNUMBER(O73),1,0))","v":0},null,null,null,"",null,null,null,null,null,null,null,null,null,null,null,null,null,null,null,null,null,null,null,null,null,null,null,null,null,"","","","","","","","","","",null,"","","","","","","","","",""]
[null,{"$f":"IF(O74=\"x\",1,IF(SUM(B76:B87)>0,1,0))","v":1},0,{"$f":"H74","v":"760.000"},null,{"$f":"I74","v":"Metallarbeiten"},"","760.000","Metallarbeiten",null,null,null,null,"pau",null,null,null,null,null,null,"E700_Metallarbeiten",null,null,null,null,null,null,null,null,null,"x",null,"pau","pau","pau","pau","pau","pau","pau","pau","pau","pau",null,"pau","","","","","","","","",""]
[null,{"$f":"IF(F75=\"\",0,1)","v":0},0,null,null,{"$f":"IF(P74<>\"\",P74,\"\")","v":""},""]
[null,{"$f":"IF(OR(SUM(B77:B78)>0,O76=\"x\"),1,IF(ISNUMBER(O76),O76,0))","v":1},0,{"$f":"J76","v":"761.000"},null,{"$f":"K76 & IF(P76<>\"\",CHAR(10) & P76,\"\")","v":"Montagegestell"},"",null,null,"761.000","Montagegestell",null,null,"Stk. ",null,null,null,null,null,null,"E700_Metallarbeiten","x",null,null,null,null,null,null,null,null,"x",null,"Stk. ","pau","pau","pau","pau","pau","pau","pau","pau","pau",null,"Stk. ","pau","","","","","","","",""]
[null,{"$f":"IF(O77=\"x\",1,IF(ISNUMBER(O77),O77,0))","v":0},0,null,{"$f":"L77","v":"761.100"},{"$f":"M77 & IF(P77<>\"\",CHAR(10) & P77,\"\")","v":"Montagegestell Wand"},"",null,null,null,null,"761.100","Montagegestell Wand","pau",null,null,null,null,null,null,"E700_Metallarbeiten","x",null,null,null,null,null,null,null,null,"x",null,"Stk. ","pau","pau","pau","pau","pau","pau","pau","pau","pau",null,"Stk. ","pau","","","","","","","",""]
[null,1,1,null,{"$f":"L78","v":"761.200"},"Montaggestell frei aufgestellt auflastgehalten","pau",null,null,null,null,"761.200","Montaggestell frei aufgestellt auflastgehalten","pau","x",null,null,null,null,null,"E700_Metallarbeiten","x",null,null,null,null,null,null,null,null,"x",null,"Stk. ","pau","pau","pau","pau","pau","pau","pau","pau","pau",null,"Stk. ","pau","","","","","","","",""]
[null,{"$f":"IF(OR(SUM(B80:B82)>0,O79=\"x\"),1,IF(ISNUMBER(O79),O79,0))","v":1},1,{"$f":"J79","v":"762.000"},null,{"$f":"K79 & IF(P79<>\"\",CHAR(10) & P79,\"\")","v":"Witterungsschutz"},"pau",null,null,"762.000","Witterungsschutz",null,null,"pau","x",null,null,null,null,null,"E700_Metallarbeiten","x",null,null,null,null,null,null,null,null,"x",null,"Stk. ","pau","pau","pau","pau","pau","pau","pau","pau","pau",null,"Stk. ","pau","","","","","","","",""]
[null,{"$f":"IF(O80=\"x\",1,IF(ISNUMBER(O80),O80,0))","v":0},0,null,{"$f":"L80","v":"762.100"},{"$f":"M80 & IF(P80<>\"\",CHAR(10) & P80,\"\")","v":"Witterungsschutz eingegittert, abschliessbar"},"",null,null,null,null,"762.100","Witterungsschutz eingegittert, abschliessbar","Stk. ",null,null,null,null,null,null,"E700_Metallarbeiten","x",null,null,null,null,null,null,null,null,"x",null,"Stk. ","pau","pau","pau","pau","pau","pau","pau","pau","pau",null,"Stk. ","pau","","","","","","","",""]
[null,0,0,null,{"$f":"L81","v":"762.200"},"Witterungsschutz Abdeckung","",null,null,null,null,"762.200","Witterungsschutz Abdeckung","Stk. ",null,null,null,null,null,null,"E700_Metallarbeiten","x",null,null,null,null,null,null,null,null,"x",null,"Stk. ","pau","pau","pau","pau","pau","pau","pau","pau","pau",null,"Stk. ","pau","","","","","","","",""]
[null,0,0,null,{"$f":"L82","v":"762.300"},"Witterungsschutz Einhausung Container","",null,null,null,null,"762.300","Witterungsschutz Einhausung Container","Stk. ",null,null,null,null,null,null,"E700_Metallarbeiten","x",null,null,null,null,null,null,null,null,"x",null,"Stk. ","pau","pau","pau","pau","pau","pau","pau","pau","pau",null,"Stk. ","pau","","","","","","","",""]
[null,{"$f":"IF(O83=\"x\",1,IF(ISNUMBER(O83),O83,0))","v":0},0,{"$f":"J83","v":"763.000"},null,{"$f":"K83 & IF(P83<>\"\",CHAR(10) & P83,\"\")","v":"Berührungschutz (Vandalenschutz)"},"",null,null,"763.000","Berührungschutz (Vandalenschutz)",null,null,"Stk. ",null,null,null,null,null,null,"E700_Metallarbeiten","x",null,null,null,null,null,null,null,null,"x",null,"Stk. ","pau","pau","pau","pau","pau","pau","pau","pau","pau",null,"Stk. ","pau","","","","","","","",""]
[null,{"$f":"IF(O84=\"x\",1,IF(ISNUMBER(O84),O84,0))","v":0},0,{"$f":"J84","v":"764.000"},null,"Spezialkonsolen","",null,null,"764.000","Spezialkonsolen",null,null,"Stk. ",null,null,null,null,null,null,"E700_Metallarbeiten","x",null,null,null,null,null,null,null,null,"x",null,"Stk. ","pau","pau","pau","pau","pau","pau","pau","pau","pau",null,"Stk. ","pau","","","","","","","",""]
[null,0,0,"765.000",null,"Vierkant Rohr geschweist","",null,null,"765.000","Vierkant Rohr geschweist",null,null,"Stk. ",null,null,null,null,null,null,"E700_Metallarbeiten","x",null,null,null,null,null,null,null,null,"x",null,"Stk. ","pau","pau","pau","pau","pau","pau","pau","pau","pau",null,"Stk. ","pau","","","","","","","",""]
[null,0,0,"766.000",null,"Blech","",null,null,"766.000","Blech",null,null,"Stk. ",null,null,null,null,null,null,"E700_Metallarbeiten","x",null,null,null,null,null,null,null,null,"x",null,"Stk. ","pau","pau","pau","pau","pau","pau","pau","pau","pau",null,"Stk. ","pau","","","","","","","",""]
[null,0,0,"767.000",null,"Blech gekantet","",null,null,"767.000","Blech gekantet",null,null,"Stk. ",null,null,null,null,null,null,"E700_Metallarbeiten","x",null,null,null,null,null,null,null,null,"x",null,"Stk. ","pau","pau","pau","pau","pau","pau","pau","pau","pau",null,"Stk. ","pau","","","","","","","",""]
[null,{"$f":"B74","v":1},0,null,null,null,"",null,null,null,null,null,null,null,null,null,null,null,null,null,null,null,null,null,null,null,null,null,null,null,null,null,"","","","","","","","","","",null,"","","","","","","","","",""]
[null,{"$f":"IF(O89=\"x\",1,IF(SUM(B90:B93)>0,1,0))","v":1},0,{"$f":"H89","v":"770.000"},null,{"$f":"I89","v":"Durchbrüche/Bohrungen"},"","770.000","Durchbrüche/Bohrungen",null,null,null,null,"pau",null,null,null,null,null,null,null,null,null,null,null,null,null,null,null,null,"x",null,"pau","pau","pau","pau","pau","pau","pau","pau","pau","pau",null,"pau","","","","","","","","",""]
[null,{"$f":"IF(O90=\"x\",1,IF(ISNUMBER(O90),O90,0))","v":1},1,{"$f":"J90","v":"771.000"},null,{"$f":"K90 & IF(P90<>\"\",CHAR(10) & P90,\"\")","v":"Kernbohrung "},"Stk. ",null,null,"771.000","Kernbohrung ",null,null,"Stk. ","x",null,null,null,null,null,"E700_Kernbohrung","x",null,null,null,null,null,null,null,null,"x",null,"Stk. ","pau","pau","pau","pau","pau","pau","pau","pau","pau",null,"Stk. ","pau","","","","","","","",""]
[null,0,0,"772.000",null,{"$f":"K91","v":"Fräsen"},"",null,null,"772.000","Fräsen",null,null,"Stk. ",null,null,null,null,null,null,null,"x",null,null,null,null,null,null,null,null,"x",null,"Stk. ","pau","pau","pau","pau","pau","pau","pau","pau","pau",null,"Stk. ","pau","","","","","","","",""]
[null,0,0,"773.000",null,{"$f":"K92 & IF(P92<>\"\",CHAR(10) & P92,\"\")","v":"Abdichtungen"},"",null,null,"773.000","Abdichtungen",null,null,"Stk. ",null,null,null,null,null,null,"E700_Abdichtungen","x",null,null,null,null,null,null,null,null,"x",null,"Stk. ","pau","pau","pau","pau","pau","pau","pau","pau","pau",null,"Stk. ","pau","","","","","","","",""]
[null,1,1,"774.000",null,"Brandschott schliessen","Stk. ",null,null,"774.000","Brandschott schliessen",null,null,"Stk. ","x",null,null,null,null,null,null,"x",null,null,null,null,null,null,null,null,"x",null,"Stk. ","pau","pau","pau","pau","pau","pau","pau","pau","pau",null,"Stk. ","pau","","","","","","","",""]
[null,{"$f":"B89","v":1},0,null,null,null,"",null,null,null,null,null,null,null,null,null,null,null,null,null,null,null,null,null,null,null,null,null,null,null,null,null,"","","","","","","","","","",null,"","","","","","","","","",""]
[null,{"$f":"IF(O95=\"x\",1,IF(SUM(B96:B100)>0,1,0))","v":0},0,{"$f":"H95","v":"780.000"},null,{"$f":"I95","v":"Verkleidungen/Abdeckungen"},"","780.000","Verkleidungen/Abdeckungen",null,null,null,null,"pau",null,null,null,null,null,null,null,null,null,null,null,null,null,null,null,null,"x",null,"pau","pau","pau","pau","pau","pau","pau","pau","pau","pau",null,"pau","","","","","","","","",""]
[null,{"$f":"IF(O96=\"x\",1,IF(ISNUMBER(O96),O96,0))","v":0},0,{"$f":"J96","v":"781.000"},null,{"$f":"K96","v":"Gipsfaserplatte"},"",null,null,"781.000","Gipsfaserplatte",null,null,"Stk. ",null,null,null,null,null,null,null,"x",null,null,"x",null,null,null,null,null,null,null,"Stk. ","m2","m2","m2","","","","","","",null,"Stk. ","m2","","","","","","","",""]
[null,0,0,"782.000",null,"Holz lackiert","",null,null,"782.000","Holz lackiert",null,null,"Stk. ",null,null,null,null,null,null,null,"x",null,null,"x",null,null,null,null,null,null,null,"Stk. ","m2","m2","m2","","","","","","",null,"Stk. ","m2","","","","","","","",""]
[null,0,0,"783.000",null,"Holz natur","",null,null,"783.000","Holz natur",null,null,"Stk. ",null,null,null,null,null,null,null,"x",null,null,"x",null,null,null,null,null,null,null,"Stk. ","m2","m2","m2","","","","","","",null,"Stk. ","m2","","","","","","","",""]
[null,0,0,"784.000",null,{"$f":"K99 & IF(P99<>\"\",CHAR(10) & P99,\"\")","v":"Blech"},"",null,null,"784.000","Blech",null,null,"Stk. ",null,null,null,null,null,null,"E700_Bleche","x",null,null,"x",null,null,null,null,null,null,null,"Stk. ","m2","m2","m2","","","","","","",null,"Stk. ","m2","","","","","","","",""]
[null,0,0,"785.000",null,"Faserzementplatte","",null,null,"785.000","Faserzementplatte",null,null,"Stk. ",null,null,null,null,null,null,null,"x",null,null,"x",null,null,null,null,null,null,null,"Stk. ","m2","m2","m2","","","","","","",null,"Stk. ","m2","","","","","","","",""]
[null,{"$f":"B95","v":0},0]

{"sheet":"800 Dienstleistungen","index":10,"n_rows":39,"n_cols":53,"rows_kept":39,"cut":false,"hidden":false,"merged":[[0,20,0,52],[1,7,1,8],[3,7,3,8],[3,9,3,10],[3,11,3,12],[2,7,2,12]]}
[null,null,null,null,null,null,null,null,null,null,null,null,null,null,null,null,null,null,null,null,"AUSBLENDEN"]
[null,null,null,null,null,"Ausblenden",null,"Strukturebene 1:",null,800,"Dienstleistungen"]
[null,null,null,null,null,null,null,"Optional"]
[null,"Show","Fill","SOQ-Nr.",null,"Beschreibung","Einheit","Strukturebene 2",null,"Strukturebene 3",null,"Strukturebene 4",null,"Leistungs-Einheit","Position Hinzufügen","E- Box",null,null,null,null,"E-Box","Stk. ","Modul","lfm","m2","m3","Std.","Monate","Jahre","kWp","pau",null,"Pos1","Pos2","Pos3","Pos4","Pos5","Pos6","Pos7","Pos8","Pos9","Pos10",null,"Pos1","Pos2","Pos3","Pos4","Pos5","Pos6","Pos7","Pos8","Pos9","Pos10"]
[]
[null,{"$f":"IF(Q6=\"x\",1,IF(SUM(B7:B24)>0,1,0))","v":1},{"$f":"IF(O6=\"x\",1,IF(ISNUMBER(O6),1,0))","v":0},{"$f":"H6","v":"810.000"},null,{"$f":"I6","v":"Wartung"},{"$f":"IF(C6=1,N6,\"\")","v":""},"810.000","Wartung",null,null,null,null,"pau",null,null,null,null,null,null,null,null,null,null,null,null,null,null,null,null,"x",null,{"$f":"\nIF(V6=\"x\",V$4,\nIF(W6=\"x\",W$4,\nIF(X6=\"x\",X$4,\nIF(Y6=\"x\",Y$4,\nIF(Z6=\"x\",Z$4,\nIF(AA6=\"x\",AA$4,\nIF(AB6=\"x\",AB$4,\nIF(AC6=\"x\",AC$4,\nIF(AD6=\"x\",AD$4,\nIF(AE6=\"x\",AE$4,\n\"\"))))))))))","v":"pau"},{"$f":"\nIF(W6=\"x\",W$4,\nIF(X6=\"x\",X$4,\nIF(Y6=\"x\",Y$4,\nIF(Z6=\"x\",Z$4,\nIF(AA6=\"x\",AA$4,\nIF(AB6=\"x\",AB$4,\nIF(AC6=\"x\",AC$4,\nIF(AD6=\"x\",AD$4,\nIF(AE6=\"x\",AE$4,\n\"\")))))))))","v":"pau"},{"$f":"\nIF(X6=\"x\",X$4,\nIF(Y6=\"x\",Y$4,\nIF(Z6=\"x\",Z$4,\nIF(AA6=\"x\",AA$4,\nIF(AB6=\"x\",AB$4,\nIF(AC6=\"x\",AC$4,\nIF(AD6=\"x\",AD$4,\nIF(AE6=\"x\",AE$4,\n\"\"))))))))","v":"pau"},{"$f":"\nIF(Y6=\"x\",Y$4,\nIF(Z6=\"x\",Z$4,\nIF(AA6=\"x\",AA$4,\nIF(AB6=\"x\",AB$4,\nIF(AC6=\"x\",AC$4,\nIF(AD6=\"x\",AD$4,\nIF(AE6=\"x\",AE$4,\n\"\")))))))","v":"pau"},{"$f":"\nIF(Z6=\"x\",Z$4,\nIF(AA6=\"x\",AA$4,\nIF(AB6=\"x\",AB$4,\nIF(AC6=\"x\",AC$4,\nIF(AD6=\"x\",AD$4,\nIF(AE6=\"x\",AE$4,\n\"\"))))))","v":"pau"},{"$f":"\nIF(AA6=\"x\",AA$4,\nIF(AB6=\"x\",AB$4,\nIF(AC6=\"x\",AC$4,\nIF(AD6=\"x\",AD$4,\nIF(AE6=\"x\",AE$4,\n\"\")))))","v":"pau"},{"$f":"\nIF(AB6=\"x\",AB$4,\nIF(AC6=\"x\",AC$4,\nIF(AD6=\"x\",AD$4,\nIF(AE6=\"x\",AE$4,\n\"\"))))","v":"pau"},{"$f":"\nIF(AC6=\"x\",AC$4,\nIF(AD6=\"x\",AD$4,\nIF(AE6=\"x\",AE$4,\n\"\")))","v":"pau"},{"$f":"\nIF(AD6=\"x\",AD$4,\nIF(AE6=\"x\",AE$4,\n\"\"))","v":"pau"},{"$f":"\nIF(AE6=\"x\",AE$4,\n\"\")","v":"pau"},null,{"$f":"AG6","v":"pau"},{"$f":"IF(AR6=\"\",\"\",\nIF(AR6<>$AG6,$AG6,\nIF(AR6<>$AH6,$AH6,\nIF(AR6<>$AI6,$AI6,\nIF(AR6<>$AJ6,$AJ6,\nIF(AR6<>$AK6,$AK6,\nIF(AR6<>$AL6,$AL6,\nIF(AR6<>$AM6,$AM6,\nIF(AR6<>$AN6,$AN6,\nIF(AR6<>$AO6,$AO6,\nIF(AR6<>$AP6,$AP6,\n\"\")))))))))))","v":""},{"$f":"IF(AS6=\"\",\"\",\nIF(AND(AS6<>$AG6,AR6<>$AG6),$AG6,\nIF(AND(AS6<>$AH6,AR6<>$AH6),$AH6,\nIF(AND(AS6<>$AI6,AR6<>$AI6),$AI6,\nIF(AND(AS6<>$AJ6,AR6<>$AJ6),$AJ6,\nIF(AND(AS6<>$AK6,AR6<>$AK6),$AK6,\nIF(AND(AS6<>$AL6,AR6<>$AL6),$AL6,\nIF(AND(AS6<>$AM6,AR6<>$AM6),$AM6,\nIF(AND(AS6<>$AN6,AR6<>$AN6),$AN6,\nIF(AND(AS6<>$AO6,AR6<>$AO6),$AO6,\nIF(AND(AS6<>$AP6,AR6<>$AP6),$AP6,\n\"\")))))))))))","v":""},{"$f":"IF(AT6=\"\",\"\",\nIF(AND(AR6<>$AG6,AT6<>$AG6,AS6<>$AG6),$AG6,\nIF(AND(AR6<>$AH6,AT6<>$AH6,AS6<>$AH6),$AH6,\nIF(AND(AR6<>$AI6,AT6<>$AI6,AS6<>$AI6),$AI6,\nIF(AND(AR6<>$AJ6,AT6<>$AJ6,AS6<>$AJ6),$AJ6,\nIF(AND(AR6<>$AK6,AT6<>$AK6,AS6<>$AK6),$AK6,\nIF(AND(AR6<>$AL6,AT6<>$AL6,AS6<>$AL6),$AL6,\nIF(AND(AR6<>$AM6,AT6<>$AM6,AS6<>$AM6),$AM6,\nIF(AND(AR6<>$AN6,AT6<>$AN6,AS6<>$AN6),$AN6,\nIF(AND(AR6<>$AO6,AT6<>$AO6,AS6<>$AO6),$AO6,\nIF(AND(AR6<>$AP6,AT6<>$AP6,AS6<>$AP6),$AP6,\n\"\")))))))))))","v":""},{"$f":"IF(AU6=\"\",\"\",\nIF(AND(AR6<>$AG6,AS6<>$AG6,AU6<>$AG6,AT6<>$AG6),$AG6,\nIF(AND(AR6<>$AH6,AS6<>$AH6,AU6<>$AH6,AT6<>$AH6),$AH6,\nIF(AND(AR6<>$AI6,AS6<>$AI6,AU6<>$AI6,AT6<>$AI6),$AI6,\nIF(AND(AR6<>$AJ6,AS6<>$AJ6,AU6<>$AJ6,AT6<>$AJ6),$AJ6,\nIF(AND(AR6<>$AK6,AS6<>$AK6,AU6<>$AK6,AT6<>$AK6),$AK6,\nIF(AND(AR6<>$AL6,AS6<>$AL6,AU6<>$AL6,AT6<>$AL6),$AL6,\nIF(AND(AR6<>$AM6,AS6<>$AM6,AU6<>$AM6,AT6<>$AM6),$AM6,\nIF(AND(AR6<>$AN6,AS6<>$AN6,AU6<>$AN6,AT6<>$AN6),$AN6,\nIF(AND(AR6<>$AO6,AS6<>$AO6,AU6<>$AO6,AT6<>$AO6),$AO6,\nIF(AND(AR6<>$AP6,AS6<>$AP6,AU6<>$AP6,AT6<>$AP6),$AP6,\n\"\")))))))))))","v":""},{"$f":"IF(AV6=\"\",\"\",\nIF(AND(AR6<>$AG6,AS6<>$AG6,AT6<>$AG6,AV6<>$AG6,AU6<>$AG6),$AG6,\nIF(AND(AR6<>$AH6,AS6<>$AH6,AT6<>$AH6,AV6<>$AH6,AU6<>$AH6),$AH6,\nIF(AND(AR6<>$AI6,AS6<>$AI6,AT6<>$AI6,AV6<>$AI6,AU6<>$AI6),$AI6,\nIF(AND(AR6<>$AJ6,AS6<>$AJ6,AT6<>$AJ6,AV6<>$AJ6,AU6<>$AJ6),$AJ6,\nIF(AND(AR6<>$AK6,AS6<>$AK6,AT6<>$AK6,AV6<>$AK6,AU6<>$AK6),$AK6,\nIF(AND(AR6<>$AL6,AS6<>$AL6,AT6<>$AL6,AV6<>$AL6,AU6<>$AL6),$AL6,\nIF(AND(AR6<>$AM6,AS6<>$AM6,AT6<>$AM6,AV6<>$AM6,AU6<>$AM6),$AM6,\nIF(AND(AR6<>$AN6,AS6<>$AN6,AT6<>$AN6,AV6<>$AN6,AU6<>$AN6),$AN6,\nIF(AND(AR6<>$AO6,AS6<>$AO6,AT6<>$AO6,AV6<>$AO6,AU6<>$AO6),$AO6,\nIF(AND(AR6<>$AP6,AS6<>$AP6,AT6<>$AP6,AV6<>$AP6,AU6<>$AP6),$AP6,\n\"\")))))))))))","v":""},{"$f":"IF(AW6=\"\",\"\",\nIF(AND(AR6<>$AG6,AS6<>$AG6,AT6<>$AG6,AU6<>$AG6,AW6<>$AG6,AV6<>$AG6),$AG6,\nIF(AND(AR6<>$AH6,AS6<>$AH6,AT6<>$AH6,AU6<>$AH6,AW6<>$AH6,AV6<>$AH6),$AH6,\nIF(AND(AR6<>$AI6,AS6<>$AI6,AT6<>$AI6,AU6<>$AI6,AW6<>$AI6,AV6<>$AI6),$AI6,\nIF(AND(AR6<>$AJ6,AS6<>$AJ6,AT6<>$AJ6,AU6<>$AJ6,AW6<>$AJ6,AV6<>$AJ6),$AJ6,\nIF(AND(AR6<>$AK6,AS6<>$AK6,AT6<>$AK6,AU6<>$AK6,AW6<>$AK6,AV6<>$AK6),$AK6,\nIF(AND(AR6<>$AL6,AS6<>$AL6,AT6<>$AL6,AU6<>$AL6,AW6<>$AL6,AV6<>$AL6),$AL6,\nIF(AND(AR6<>$AM6,AS6<>$AM6,AT6<>$AM6,AU6<>$AM6,AW6<>$AM6,AV6<>$AM6),$AM6,\nIF(AND(AR6<>$AN6,AS6<>$AN6,AT6<>$AN6,AU6<>$AN6,AW6<>$AN6,AV6<>$AN6),$AN6,\nIF(AND(AR6<>$AO6,AS6<>$AO6,AT6<>$AO6,AU6<>$AO6,AW6<>$AO6,AV6<>$AO6),$AO6,\nIF(AND(AR6<>$AP6,AS6<>$AP6,AT6<>$AP6,AU6<>$AP6,AW6<>$AP6,AV6<>$AP6),$AP6,\n\"\")))))))))))","v":""},{"$f":"IF(AX6=\"\",\"\",\nIF(AND(AR6<>$AG6,AS6<>$AG6,AT6<>$AG6,AU6<>$AG6,AV6<>$AG6,AX6<>$AG6,AW6<>$AG6),$AG6,\nIF(AND(AR6<>$AH6,AS6<>$AH6,AT6<>$AH6,AU6<>$AH6,AV6<>$AH6,AX6<>$AH6,AW6<>$AH6),$AH6,\nIF(AND(AR6<>$AI6,AS6<>$AI6,AT6<>$AI6,AU6<>$AI6,AV6<>$AI6,AX6<>$AI6,AW6<>$AI6),$AI6,\nIF(AND(AR6<>$AJ6,AS6<>$AJ6,AT6<>$AJ6,AU6<>$AJ6,AV6<>$AJ6,AX6<>$AJ6,AW6<>$AJ6),$AJ6,\nIF(AND(AR6<>$AK6,AS6<>$AK6,AT6<>$AK6,AU6<>$AK6,AV6<>$AK6,AX6<>$AK6,AW6<>$AK6),$AK6,\nIF(AND(AR6<>$AL6,AS6<>$AL6,AT6<>$AL6,AU6<>$AL6,AV6<>$AL6,AX6<>$AL6,AW6<>$AL6),$AL6,\nIF(AND(AR6<>$AM6,AS6<>$AM6,AT6<>$AM6,AU6<>$AM6,AV6<>$AM6,AX6<>$AM6,AW6<>$AM6),$AM6,\nIF(AND(AR6<>$AN6,AS6<>$AN6,AT6<>$AN6,AU6<>$AN6,AV6<>$AN6,AX6<>$AN6,AW6<>$AN6),$AN6,\nIF(AND(AR6<>$AO6,AS6<>$AO6,AT6<>$AO6,AU6<>$AO6,AV6<>$AO6,AX6<>$AO6,AW6<>$AO6),$AO6,\nIF(AND(AR6<>$AP6,AS6<>$AP6,AT6<>$AP6,AU6<>$AP6,AV6<>$AP6,AX6<>$AP6,AW6<>$AP6),$AP6,\n\"\")))))))))))","v":""},{"$f":"IF(AY6=\"\",\"\",\nIF(AND(AR6<>$AG6,AS6<>$AG6,AT6<>$AG6,AU6<>$AG6,AV6<>$AG6,AW6<>$AG6,AY6<>$AG6,AX6<>$AG6),$AG6,\nIF(AND(AR6<>$AH6,AS6<>$AH6,AT6<>$AH6,AU6<>$AH6,AV6<>$AH6,AW6<>$AH6,AY6<>$AH6,AX6<>$AH6),$AH6,\nIF(AND(AR6<>$AI6,AS6<>$AI6,AT6<>$AI6,AU6<>$AI6,AV6<>$AI6,AW6<>$AI6,AY6<>$AI6,AX6<>$AI6),$AI6,\nIF(AND(AR6<>$AJ6,AS6<>$AJ6,AT6<>$AJ6,AU6<>$AJ6,AV6<>$AJ6,AW6<>$AJ6,AY6<>$AJ6,AX6<>$AJ6),$AJ6,\nIF(AND(AR6<>$AK6,AS6<>$AK6,AT6<>$AK6,AU6<>$AK6,AV6<>$AK6,AW6<>$AK6,AY6<>$AK6,AX6<>$AK6),$AK6,\nIF(AND(AR6<>$AL6,AS6<>$AL6,AT6<>$AL6,AU6<>$AL6,AV6<>$AL6,AW6<>$AL6,AY6<>$AL6,AX6<>$AL6),$AL6,\nIF(AND(AR6<>$AM6,AS6<>$AM6,AT6<>$AM6,AU6<>$AM6,AV6<>$AM6,AW6<>$AM6,AY6<>$AM6,AX6<>$AM6),$AM6,\nIF(AND(AR6<>$AN6,AS6<>$AN6,AT6<>$AN6,AU6<>$AN6,AV6<>$AN6,AW6<>$AN6,AY6<>$AN6,AX6<>$AN6),$AN6,\nIF(AND(AR6<>$AO6,AS6<>$AO6,AT6<>$AO6,AU6<>$AO6,AV6<>$AO6,AW6<>$AO6,AY6<>$AO6,AX6<>$AO6),$AO6,\nIF(AND(AR6<>$AP6,AS6<>$AP6,AT6<>$AP6,AU6<>$AP6,AV6<>$AP6,AW6<>$AP6,AY6<>$AP6,AX6<>$AP6),$AP6,\n\"\")))))))))))","v":""},{"$f":"IF(AZ6=\"\",\"\",\nIF(AND(AR6<>$AG6,AS6<>$AG6,AT6<>$AG6,AU6<>$AG6,AV6<>$AG6,AW6<>$AG6,AX6<>$AG6,AZ6<>$AG6,AY6<>$AG6),$AG6,\nIF(AND(AR6<>$AH6,AS6<>$AH6,AT6<>$AH6,AU6<>$AH6,AV6<>$AH6,AW6<>$AH6,AX6<>$AH6,AZ6<>$AH6,AY6<>$AH6),$AH6,\nIF(AND(AR6<>$AI6,AS6<>$AI6,AT6<>$AI6,AU6<>$AI6,AV6<>$AI6,AW6<>$AI6,AX6<>$AI6,AZ6<>$AI6,AY6<>$AI6),$AI6,\nIF(AND(AR6<>$AJ6,AS6<>$AJ6,AT6<>$AJ6,AU6<>$AJ6,AV6<>$AJ6,AW6<>$AJ6,AX6<>$AJ6,AZ6<>$AJ6,AY6<>$AJ6),$AJ6,\nIF(AND(AR6<>$AK6,AS6<>$AK6,AT6<>$AK6,AU6<>$AK6,AV6<>$AK6,AW6<>$AK6,AX6<>$AK6,AZ6<>$AK6,AY6<>$AK6),$AK6,\nIF(AND(AR6<>$AL6,AS6<>$AL6,AT6<>$AL6,AU6<>$AL6,AV6<>$AL6,AW6<>$AL6,AX6<>$AL6,AZ6<>$AL6,AY6<>$AL6),$AL6,\nIF(AND(AR6<>$AM6,AS6<>$AM6,AT6<>$AM6,AU6<>$AM6,AV6<>$AM6,AW6<>$AM6,AX6<>$AM6,AZ6<>$AM6,AY6<>$AM6),$AM6,\nIF(AND(AR6<>$AN6,AS6<>$AN6,AT6<>$AN6,AU6<>$AN6,AV6<>$AN6,AW6<>$AN6,AX6<>$AN6,AZ6<>$AN6,AY6<>$AN6),$AN6,\nIF(AND(AR6<>$AO6,AS6<>$AO6,AT6<>$AO6,AU6<>$AO6,AV6<>$AO6,AW6<>$AO6,AX6<>$AO6,AZ6<>$AO6,AY6<>$AO6),$AO6,\nIF(AND(AR6<>$AP6,AS6<>$AP6,AT6<>$AP6,AU6<>$AP6,AV6<>$AP6,AW6<>$AP6,AX6<>$AP6,AZ6<>$AP6,AY6<>$AP6),$AP6,\n\"\")))))))))))","v":""}]
[null,{"$f":"IF(OR(SUM(B8)>0,O7=\"x\"),1,IF(ISNUMBER(O7),O7,0))","v":0},{"$f":"IF(O7=\"x\",1,IF(ISNUMBER(O7),1,0))","v":0},{"$f":"J7","v":"811.000"},null,{"$f":"K7 & IF(P7<>\"\",CHAR(10) & P7,\"\")","v":"Wartungsvertrag"},{"$f":"IF(C7=1,N7,\"\")","v":""},null,null,"811.000","Wartungsvertrag",null,null,"pau",null,null,null,null,null,null,"E800_Wartungsvertrag",null,null,null,null,null,null,null,null,null,"x",null,{"$f":"\nIF(V7=\"x\",V$4,\nIF(W7=\"x\",W$4,\nIF(X7=\"x\",X$4,\nIF(Y7=\"x\",Y$4,\nIF(Z7=\"x\",Z$4,\nIF(AA7=\"x\",AA$4,\nIF(AB7=\"x\",AB$4,\nIF(AC7=\"x\",AC$4,\nIF(AD7=\"x\",AD$4,\nIF(AE7=\"x\",AE$4,\n\"\"))))))))))","v":"pau"},{"$f":"\nIF(W7=\"x\",W$4,\nIF(X7=\"x\",X$4,\nIF(Y7=\"x\",Y$4,\nIF(Z7=\"x\",Z$4,\nIF(AA7=\"x\",AA$4,\nIF(AB7=\"x\",AB$4,\nIF(AC7=\"x\",AC$4,\nIF(AD7=\"x\",AD$4,\nIF(AE7=\"x\",AE$4,\n\"\")))))))))","v":"pau"},{"$f":"\nIF(X7=\"x\",X$4,\nIF(Y7=\"x\",Y$4,\nIF(Z7=\"x\",Z$4,\nIF(AA7=\"x\",AA$4,\nIF(AB7=\"x\",AB$4,\nIF(AC7=\"x\",AC$4,\nIF(AD7=\"x\",AD$4,\nIF(AE7=\"x\",AE$4,\n\"\"))))))))","v":"pau"},{"$f":"\nIF(Y7=\"x\",Y$4,\nIF(Z7=\"x\",Z$4,\nIF(AA7=\"x\",AA$4,\nIF(AB7=\"x\",AB$4,\nIF(AC7=\"x\",AC$4,\nIF(AD7=\"x\",AD$4,\nIF(AE7=\"x\",AE$4,\n\"\")))))))","v":"pau"},{"$f":"\nIF(Z7=\"x\",Z$4,\nIF(AA7=\"x\",AA$4,\nIF(AB7=\"x\",AB$4,\nIF(AC7=\"x\",AC$4,\nIF(AD7=\"x\",AD$4,\nIF(AE7=\"x\",AE$4,\n\"\"))))))","v":"pau"},{"$f":"\nIF(AA7=\"x\",AA$4,\nIF(AB7=\"x\",AB$4,\nIF(AC7=\"x\",AC$4,\nIF(AD7=\"x\",AD$4,\nIF(AE7=\"x\",AE$4,\n\"\")))))","v":"pau"},{"$f":"\nIF(AB7=\"x\",AB$4,\nIF(AC7=\"x\",AC$4,\nIF(AD7=\"x\",AD$4,\nIF(AE7=\"x\",AE$4,\n\"\"))))","v":"pau"},{"$f":"\nIF(AC7=\"x\",AC$4,\nIF(AD7=\"x\",AD$4,\nIF(AE7=\"x\",AE$4,\n\"\")))","v":"pau"},{"$f":"\nIF(AD7=\"x\",AD$4,\nIF(AE7=\"x\",AE$4,\n\"\"))","v":"pau"},{"$f":"\nIF(AE7=\"x\",AE$4,\n\"\")","v":"pau"},null,{"$f":"AG7","v":"pau"},"",{"$f":"IF(AS7=\"\",\"\",\nIF(AND(AS7<>$AG7,AR7<>$AG7),$AG7,\nIF(AND(AS7<>$AH7,AR7<>$AH7),$AH7,\nIF(AND(AS7<>$AI7,AR7<>$AI7),$AI7,\nIF(AND(AS7<>$AJ7,AR7<>$AJ7),$AJ7,\nIF(AND(AS7<>$AK7,AR7<>$AK7),$AK7,\nIF(AND(AS7<>$AL7,AR7<>$AL7),$AL7,\nIF(AND(AS7<>$AM7,AR7<>$AM7),$AM7,\nIF(AND(AS7<>$AN7,AR7<>$AN7),$AN7,\nIF(AND(AS7<>$AO7,AR7<>$AO7),$AO7,\nIF(AND(AS7<>$AP7,AR7<>$AP7),$AP7,\n\"\")))))))))))","v":""},{"$f":"IF(AT7=\"\",\"\",\nIF(AND(AR7<>$AG7,AT7<>$AG7,AS7<>$AG7),$AG7,\nIF(AND(AR7<>$AH7,AT7<>$AH7,AS7<>$AH7),$AH7,\nIF(AND(AR7<>$AI7,AT7<>$AI7,AS7<>$AI7),$AI7,\nIF(AND(AR7<>$AJ7,AT7<>$AJ7,AS7<>$AJ7),$AJ7,\nIF(AND(AR7<>$AK7,AT7<>$AK7,AS7<>$AK7),$AK7,\nIF(AND(AR7<>$AL7,AT7<>$AL7,AS7<>$AL7),$AL7,\nIF(AND(AR7<>$AM7,AT7<>$AM7,AS7<>$AM7),$AM7,\nIF(AND(AR7<>$AN7,AT7<>$AN7,AS7<>$AN7),$AN7,\nIF(AND(AR7<>$AO7,AT7<>$AO7,AS7<>$AO7),$AO7,\nIF(AND(AR7<>$AP7,AT7<>$AP7,AS7<>$AP7),$AP7,\n\"\")))))))))))","v":""},{"$f":"IF(AU7=\"\",\"\",\nIF(AND(AR7<>$AG7,AS7<>$AG7,AU7<>$AG7,AT7<>$AG7),$AG7,\nIF(AND(AR7<>$AH7,AS7<>$AH7,AU7<>$AH7,AT7<>$AH7),$AH7,\nIF(AND(AR7<>$AI7,AS7<>$AI7,AU7<>$AI7,AT7<>$AI7),$AI7,\nIF(AND(AR7<>$AJ7,AS7<>$AJ7,AU7<>$AJ7,AT7<>$AJ7),$AJ7,\nIF(AND(AR7<>$AK7,AS7<>$AK7,AU7<>$AK7,AT7<>$AK7),$AK7,\nIF(AND(AR7<>$AL7,AS7<>$AL7,AU7<>$AL7,AT7<>$AL7),$AL7,\nIF(AND(AR7<>$AM7,AS7<>$AM7,AU7<>$AM7,AT7<>$AM7),$AM7,\nIF(AND(AR7<>$AN7,AS7<>$AN7,AU7<>$AN7,AT7<>$AN7),$AN7,\nIF(AND(AR7<>$AO7,AS7<>$AO7,AU7<>$AO7,AT7<>$AO7),$AO7,\nIF(AND(AR7<>$AP7,AS7<>$AP7,AU7<>$AP7,AT7<>$AP7),$AP7,\n\"\")))))))))))","v":""},{"$f":"IF(AV7=\"\",\"\",\nIF(AND(AR7<>$AG7,AS7<>$AG7,AT7<>$AG7,AV7<>$AG7,AU7<>$AG7),$AG7,\nIF(AND(AR7<>$AH7,AS7<>$AH7,AT7<>$AH7,AV7<>$AH7,AU7<>$AH7),$AH7,\nIF(AND(AR7<>$AI7,AS7<>$AI7,AT7<>$AI7,AV7<>$AI7,AU7<>$AI7),$AI7,\nIF(AND(AR7<>$AJ7,AS7<>$AJ7,AT7<>$AJ7,AV7<>$AJ7,AU7<>$AJ7),$AJ7,\nIF(AND(AR7<>$AK7,AS7<>$AK7,AT7<>$AK7,AV7<>$AK7,AU7<>$AK7),$AK7,\nIF(AND(AR7<>$AL7,AS7<>$AL7,AT7<>$AL7,AV7<>$AL7,AU7<>$AL7),$AL7,\nIF(AND(AR7<>$AM7,AS7<>$AM7,AT7<>$AM7,AV7<>$AM7,AU7<>$AM7),$AM7,\nIF(AND(AR7<>$AN7,AS7<>$AN7,AT7<>$AN7,AV7<>$AN7,AU7<>$AN7),$AN7,\nIF(AND(AR7<>$AO7,AS7<>$AO7,AT7<>$AO7,AV7<>$AO7,AU7<>$AO7),$AO7,\nIF(AND(AR7<>$AP7,AS7<>$AP7,AT7<>$AP7,AV7<>$AP7,AU7<>$AP7),$AP7,\n\"\")))))))))))","v":""},{"$f":"IF(AW7=\"\",\"\",\nIF(AND(AR7<>$AG7,AS7<>$AG7,AT7<>$AG7,AU7<>$AG7,AW7<>$AG7,AV7<>$AG7),$AG7,\nIF(AND(AR7<>$AH7,AS7<>$AH7,AT7<>$AH7,AU7<>$AH7,AW7<>$AH7,AV7<>$AH7),$AH7,\nIF(AND(AR7<>$AI7,AS7<>$AI7,AT7<>$AI7,AU7<>$AI7,AW7<>$AI7,AV7<>$AI7),$AI7,\nIF(AND(AR7<>$AJ7,AS7<>$AJ7,AT7<>$AJ7,AU7<>$AJ7,AW7<>$AJ7,AV7<>$AJ7),$AJ7,\nIF(AND(AR7<>$AK7,AS7<>$AK7,AT7<>$AK7,AU7<>$AK7,AW7<>$AK7,AV7<>$AK7),$AK7,\nIF(AND(AR7<>$AL7,AS7<>$AL7,AT7<>$AL7,AU7<>$AL7,AW7<>$AL7,AV7<>$AL7),$AL7,\nIF(AND(AR7<>$AM7,AS7<>$AM7,AT7<>$AM7,AU7<>$AM7,AW7<>$AM7,AV7<>$AM7),$AM7,\nIF(AND(AR7<>$AN7,AS7<>$AN7,AT7<>$AN7,AU7<>$AN7,AW7<>$AN7,AV7<>$AN7),$AN7,\nIF(AND(AR7<>$AO7,AS7<>$AO7,AT7<>$AO7,AU7<>$AO7,AW7<>$AO7,AV7<>$AO7),$AO7,\nIF(AND(AR7<>$AP7,AS7<>$AP7,AT7<>$AP7,AU7<>$AP7,AW7<>$AP7,AV7<>$AP7),$AP7,\n\"\")))))))))))","v":""},{"$f":"IF(AX7=\"\",\"\",\nIF(AND(AR7<>$AG7,AS7<>$AG7,AT7<>$AG7,AU7<>$AG7,AV7<>$AG7,AX7<>$AG7,AW7<>$AG7),$AG7,\nIF(AND(AR7<>$AH7,AS7<>$AH7,AT7<>$AH7,AU7<>$AH7,AV7<>$AH7,AX7<>$AH7,AW7<>$AH7),$AH7,\nIF(AND(AR7<>$AI7,AS7<>$AI7,AT7<>$AI7,AU7<>$AI7,AV7<>$AI7,AX7<>$AI7,AW7<>$AI7),$AI7,\nIF(AND(AR7<>$AJ7,AS7<>$AJ7,AT7<>$AJ7,AU7<>$AJ7,AV7<>$AJ7,AX7<>$AJ7,AW7<>$AJ7),$AJ7,\nIF(AND(AR7<>$AK7,AS7<>$AK7,AT7<>$AK7,AU7<>$AK7,AV7<>$AK7,AX7<>$AK7,AW7<>$AK7),$AK7,\nIF(AND(AR7<>$AL7,AS7<>$AL7,AT7<>$AL7,AU7<>$AL7,AV7<>$AL7,AX7<>$AL7,AW7<>$AL7),$AL7,\nIF(AND(AR7<>$AM7,AS7<>$AM7,AT7<>$AM7,AU7<>$AM7,AV7<>$AM7,AX7<>$AM7,AW7<>$AM7),$AM7,\nIF(AND(AR7<>$AN7,AS7<>$AN7,AT7<>$AN7,AU7<>$AN7,AV7<>$AN7,AX7<>$AN7,AW7<>$AN7),$AN7,\nIF(AND(AR7<>$AO7,AS7<>$AO7,AT7<>$AO7,AU7<>$AO7,AV7<>$AO7,AX7<>$AO7,AW7<>$AO7),$AO7,\nIF(AND(AR7<>$AP7,AS7<>$AP7,AT7<>$AP7,AU7<>$AP7,AV7<>$AP7,AX7<>$AP7,AW7<>$AP7),$AP7,\n\"\")))))))))))","v":""},{"$f":"IF(AY7=\"\",\"\",\nIF(AND(AR7<>$AG7,AS7<>$AG7,AT7<>$AG7,AU7<>$AG7,AV7<>$AG7,AW7<>$AG7,AY7<>$AG7,AX7<>$AG7),$AG7,\nIF(AND(AR7<>$AH7,AS7<>$AH7,AT7<>$AH7,AU7<>$AH7,AV7<>$AH7,AW7<>$AH7,AY7<>$AH7,AX7<>$AH7),$AH7,\nIF(AND(AR7<>$AI7,AS7<>$AI7,AT7<>$AI7,AU7<>$AI7,AV7<>$AI7,AW7<>$AI7,AY7<>$AI7,AX7<>$AI7),$AI7,\nIF(AND(AR7<>$AJ7,AS7<>$AJ7,AT7<>$AJ7,AU7<>$AJ7,AV7<>$AJ7,AW7<>$AJ7,AY7<>$AJ7,AX7<>$AJ7),$AJ7,\nIF(AND(AR7<>$AK7,AS7<>$AK7,AT7<>$AK7,AU7<>$AK7,AV7<>$AK7,AW7<>$AK7,AY7<>$AK7,AX7<>$AK7),$AK7,\nIF(AND(AR7<>$AL7,AS7<>$AL7,AT7<>$AL7,AU7<>$AL7,AV7<>$AL7,AW7<>$AL7,AY7<>$AL7,AX7<>$AL7),$AL7,\nIF(AND(AR7<>$AM7,AS7<>$AM7,AT7<>$AM7,AU7<>$AM7,AV7<>$AM7,AW7<>$AM7,AY7<>$AM7,AX7<>$AM7),$AM7,\nIF(AND(AR7<>$AN7,AS7<>$AN7,AT7<>$AN7,AU7<>$AN7,AV7<>$AN7,AW7<>$AN7,AY7<>$AN7,AX7<>$AN7),$AN7,\nIF(AND(AR7<>$AO7,AS7<>$AO7,AT7<>$AO7,AU7<>$AO7,AV7<>$AO7,AW7<>$AO7,AY7<>$AO7,AX7<>$AO7),$AO7,\nIF(AND(AR7<>$AP7,AS7<>$AP7,AT7<>$AP7,AU7<>$AP7,AV7<>$AP7,AW7<>$AP7,AY7<>$AP7,AX7<>$AP7),$AP7,\n\"\")))))))))))","v":""},{"$f":"IF(AZ7=\"\",\"\",\nIF(AND(AR7<>$AG7,AS7<>$AG7,AT7<>$AG7,AU7<>$AG7,AV7<>$AG7,AW7<>$AG7,AX7<>$AG7,AZ7<>$AG7,AY7<>$AG7),$AG7,\nIF(AND(AR7<>$AH7,AS7<>$AH7,AT7<>$AH7,AU7<>$AH7,AV7<>$AH7,AW7<>$AH7,AX7<>$AH7,AZ7<>$AH7,AY7<>$AH7),$AH7,\nIF(AND(AR7<>$AI7,AS7<>$AI7,AT7<>$AI7,AU7<>$AI7,AV7<>$AI7,AW7<>$AI7,AX7<>$AI7,AZ7<>$AI7,AY7<>$AI7),$AI7,\nIF(AND(AR7<>$AJ7,AS7<>$AJ7,AT7<>$AJ7,AU7<>$AJ7,AV7<>$AJ7,AW7<>$AJ7,AX7<>$AJ7,AZ7<>$AJ7,AY7<>$AJ7),$AJ7,\nIF(AND(AR7<>$AK7,AS7<>$AK7,AT7<>$AK7,AU7<>$AK7,AV7<>$AK7,AW7<>$AK7,AX7<>$AK7,AZ7<>$AK7,AY7<>$AK7),$AK7,\nIF(AND(AR7<>$AL7,AS7<>$AL7,AT7<>$AL7,AU7<>$AL7,AV7<>$AL7,AW7<>$AL7,AX7<>$AL7,AZ7<>$AL7,AY7<>$AL7),$AL7,\nIF(AND(AR7<>$AM7,AS7<>$AM7,AT7<>$AM7,AU7<>$AM7,AV7<>$AM7,AW7<>$AM7,AX7<>$AM7,AZ7<>$AM7,AY7<>$AM7),$AM7,\nIF(AND(AR7<>$AN7,AS7<>$AN7,AT7<>$AN7,AU7<>$AN7,AV7<>$AN7,AW7<>$AN7,AX7<>$AN7,AZ7<>$AN7,AY7<>$AN7),$AN7,\nIF(AND(AR7<>$AO7,AS7<>$AO7,AT7<>$AO7,AU7<>$AO7,AV7<>$AO7,AW7<>$AO7,AX7<>$AO7,AZ7<>$AO7,AY7<>$AO7),$AO7,\nIF(AND(AR7<>$AP7,AS7<>$AP7,AT7<>$AP7,AU7<>$AP7,AV7<>$AP7,AW7<>$AP7,AX7<>$AP7,AZ7<>$AP7,AY7<>$AP7),$AP7,\n\"\")))))))))))","v":""}]
[null,{"$f":"IF(O8=\"x\",1,IF(ISNUMBER(O8),O8,0))","v":0},{"$f":"IF(O8=\"x\",1,IF(ISNUMBER(O8),1,0))","v":0},null,{"$f":"L8","v":"811.100"},{"$f":"M8","v":"Stundensätze Reparatureinsätze"},"",null,null,null,null,"811.100","Stundensätze Reparatureinsätze","pau",null,null,null,null,null,null,null,null,null,null,null,null,"x",null,null,null,"x",null,{"$f":"\nIF(V8=\"x\",V$4,\nIF(W8=\"x\",W$4,\nIF(X8=\"x\",X$4,\nIF(Y8=\"x\",Y$4,\nIF(Z8=\"x\",Z$4,\nIF(AA8=\"x\",AA$4,\nIF(AB8=\"x\",AB$4,\nIF(AC8=\"x\",AC$4,\nIF(AD8=\"x\",AD$4,\nIF(AE8=\"x\",AE$4,\n\"\"))))))))))","v":"Std."},{"$f":"\nIF(W8=\"x\",W$4,\nIF(X8=\"x\",X$4,\nIF(Y8=\"x\",Y$4,\nIF(Z8=\"x\",Z$4,\nIF(AA8=\"x\",AA$4,\nIF(AB8=\"x\",AB$4,\nIF(AC8=\"x\",AC$4,\nIF(AD8=\"x\",AD$4,\nIF(AE8=\"x\",AE$4,\n\"\")))))))))","v":"Std."},{"$f":"\nIF(X8=\"x\",X$4,\nIF(Y8=\"x\",Y$4,\nIF(Z8=\"x\",Z$4,\nIF(AA8=\"x\",AA$4,\nIF(AB8=\"x\",AB$4,\nIF(AC8=\"x\",AC$4,\nIF(AD8=\"x\",AD$4,\nIF(AE8=\"x\",AE$4,\n\"\"))))))))","v":"Std."},{"$f":"\nIF(Y8=\"x\",Y$4,\nIF(Z8=\"x\",Z$4,\nIF(AA8=\"x\",AA$4,\nIF(AB8=\"x\",AB$4,\nIF(AC8=\"x\",AC$4,\nIF(AD8=\"x\",AD$4,\nIF(AE8=\"x\",AE$4,\n\"\")))))))","v":"Std."},{"$f":"\nIF(Z8=\"x\",Z$4,\nIF(AA8=\"x\",AA$4,\nIF(AB8=\"x\",AB$4,\nIF(AC8=\"x\",AC$4,\nIF(AD8=\"x\",AD$4,\nIF(AE8=\"x\",AE$4,\n\"\"))))))","v":"Std."},{"$f":"\nIF(AA8=\"x\",AA$4,\nIF(AB8=\"x\",AB$4,\nIF(AC8=\"x\",AC$4,\nIF(AD8=\"x\",AD$4,\nIF(AE8=\"x\",AE$4,\n\"\")))))","v":"Std."},{"$f":"\nIF(AB8=\"x\",AB$4,\nIF(AC8=\"x\",AC$4,\nIF(AD8=\"x\",AD$4,\nIF(AE8=\"x\",AE$4,\n\"\"))))","v":"pau"},{"$f":"\nIF(AC8=\"x\",AC$4,\nIF(AD8=\"x\",AD$4,\nIF(AE8=\"x\",AE$4,\n\"\")))","v":"pau"},{"$f":"\nIF(AD8=\"x\",AD$4,\nIF(AE8=\"x\",AE$4,\n\"\"))","v":"pau"},{"$f":"\nIF(AE8=\"x\",AE$4,\n\"\")","v":"pau"},null,{"$f":"AG8","v":"Std."},"pau",{"$f":"IF(AS8=\"\",\"\",\nIF(AND(AS8<>$AG8,AR8<>$AG8),$AG8,\nIF(AND(AS8<>$AH8,AR8<>$AH8),$AH8,\nIF(AND(AS8<>$AI8,AR8<>$AI8),$AI8,\nIF(AND(AS8<>$AJ8,AR8<>$AJ8),$AJ8,\nIF(AND(AS8<>$AK8,AR8<>$AK8),$AK8,\nIF(AND(AS8<>$AL8,AR8<>$AL8),$AL8,\nIF(AND(AS8<>$AM8,AR8<>$AM8),$AM8,\nIF(AND(AS8<>$AN8,AR8<>$AN8),$AN8,\nIF(AND(AS8<>$AO8,AR8<>$AO8),$AO8,\nIF(AND(AS8<>$AP8,AR8<>$AP8),$AP8,\n\"\")))))))))))","v":""},{"$f":"IF(AT8=\"\",\"\",\nIF(AND(AR8<>$AG8,AT8<>$AG8,AS8<>$AG8),$AG8,\nIF(AND(AR8<>$AH8,AT8<>$AH8,AS8<>$AH8),$AH8,\nIF(AND(AR8<>$AI8,AT8<>$AI8,AS8<>$AI8),$AI8,\nIF(AND(AR8<>$AJ8,AT8<>$AJ8,AS8<>$AJ8),$AJ8,\nIF(AND(AR8<>$AK8,AT8<>$AK8,AS8<>$AK8),$AK8,\nIF(AND(AR8<>$AL8,AT8<>$AL8,AS8<>$AL8),$AL8,\nIF(AND(AR8<>$AM8,AT8<>$AM8,AS8<>$AM8),$AM8,\nIF(AND(AR8<>$AN8,AT8<>$AN8,AS8<>$AN8),$AN8,\nIF(AND(AR8<>$AO8,AT8<>$AO8,AS8<>$AO8),$AO8,\nIF(AND(AR8<>$AP8,AT8<>$AP8,AS8<>$AP8),$AP8,\n\"\")))))))))))","v":""},{"$f":"IF(AU8=\"\",\"\",\nIF(AND(AR8<>$AG8,AS8<>$AG8,AU8<>$AG8,AT8<>$AG8),$AG8,\nIF(AND(AR8<>$AH8,AS8<>$AH8,AU8<>$AH8,AT8<>$AH8),$AH8,\nIF(AND(AR8<>$AI8,AS8<>$AI8,AU8<>$AI8,AT8<>$AI8),$AI8,\nIF(AND(AR8<>$AJ8,AS8<>$AJ8,AU8<>$AJ8,AT8<>$AJ8),$AJ8,\nIF(AND(AR8<>$AK8,AS8<>$AK8,AU8<>$AK8,AT8<>$AK8),$AK8,\nIF(AND(AR8<>$AL8,AS8<>$AL8,AU8<>$AL8,AT8<>$AL8),$AL8,\nIF(AND(AR8<>$AM8,AS8<>$AM8,AU8<>$AM8,AT8<>$AM8),$AM8,\nIF(AND(AR8<>$AN8,AS8<>$AN8,AU8<>$AN8,AT8<>$AN8),$AN8,\nIF(AND(AR8<>$AO8,AS8<>$AO8,AU8<>$AO8,AT8<>$AO8),$AO8,\nIF(AND(AR8<>$AP8,AS8<>$AP8,AU8<>$AP8,AT8<>$AP8),$AP8,\n\"\")))))))))))","v":""},{"$f":"IF(AV8=\"\",\"\",\nIF(AND(AR8<>$AG8,AS8<>$AG8,AT8<>$AG8,AV8<>$AG8,AU8<>$AG8),$AG8,\nIF(AND(AR8<>$AH8,AS8<>$AH8,AT8<>$AH8,AV8<>$AH8,AU8<>$AH8),$AH8,\nIF(AND(AR8<>$AI8,AS8<>$AI8,AT8<>$AI8,AV8<>$AI8,AU8<>$AI8),$AI8,\nIF(AND(AR8<>$AJ8,AS8<>$AJ8,AT8<>$AJ8,AV8<>$AJ8,AU8<>$AJ8),$AJ8,\nIF(AND(AR8<>$AK8,AS8<>$AK8,AT8<>$AK8,AV8<>$AK8,AU8<>$AK8),$AK8,\nIF(AND(AR8<>$AL8,AS8<>$AL8,AT8<>$AL8,AV8<>$AL8,AU8<>$AL8),$AL8,\nIF(AND(AR8<>$AM8,AS8<>$AM8,AT8<>$AM8,AV8<>$AM8,AU8<>$AM8),$AM8,\nIF(AND(AR8<>$AN8,AS8<>$AN8,AT8<>$AN8,AV8<>$AN8,AU8<>$AN8),$AN8,\nIF(AND(AR8<>$AO8,AS8<>$AO8,AT8<>$AO8,AV8<>$AO8,AU8<>$AO8),$AO8,\nIF(AND(AR8<>$AP8,AS8<>$AP8,AT8<>$AP8,AV8<>$AP8,AU8<>$AP8),$AP8,\n\"\")))))))))))","v":""},{"$f":"IF(AW8=\"\",\"\",\nIF(AND(AR8<>$AG8,AS8<>$AG8,AT8<>$AG8,AU8<>$AG8,AW8<>$AG8,AV8<>$AG8),$AG8,\nIF(AND(AR8<>$AH8,AS8<>$AH8,AT8<>$AH8,AU8<>$AH8,AW8<>$AH8,AV8<>$AH8),$AH8,\nIF(AND(AR8<>$AI8,AS8<>$AI8,AT8<>$AI8,AU8<>$AI8,AW8<>$AI8,AV8<>$AI8),$AI8,\nIF(AND(AR8<>$AJ8,AS8<>$AJ8,AT8<>$AJ8,AU8<>$AJ8,AW8<>$AJ8,AV8<>$AJ8),$AJ8,\nIF(AND(AR8<>$AK8,AS8<>$AK8,AT8<>$AK8,AU8<>$AK8,AW8<>$AK8,AV8<>$AK8),$AK8,\nIF(AND(AR8<>$AL8,AS8<>$AL8,AT8<>$AL8,AU8<>$AL8,AW8<>$AL8,AV8<>$AL8),$AL8,\nIF(AND(AR8<>$AM8,AS8<>$AM8,AT8<>$AM8,AU8<>$AM8,AW8<>$AM8,AV8<>$AM8),$AM8,\nIF(AND(AR8<>$AN8,AS8<>$AN8,AT8<>$AN8,AU8<>$AN8,AW8<>$AN8,AV8<>$AN8),$AN8,\nIF(AND(AR8<>$AO8,AS8<>$AO8,AT8<>$AO8,AU8<>$AO8,AW8<>$AO8,AV8<>$AO8),$AO8,\nIF(AND(AR8<>$AP8,AS8<>$AP8,AT8<>$AP8,AU8<>$AP8,AW8<>$AP8,AV8<>$AP8),$AP8,\n\"\")))))))))))","v":""},{"$f":"IF(AX8=\"\",\"\",\nIF(AND(AR8<>$AG8,AS8<>$AG8,AT8<>$AG8,AU8<>$AG8,AV8<>$AG8,AX8<>$AG8,AW8<>$AG8),$AG8,\nIF(AND(AR8<>$AH8,AS8<>$AH8,AT8<>$AH8,AU8<>$AH8,AV8<>$AH8,AX8<>$AH8,AW8<>$AH8),$AH8,\nIF(AND(AR8<>$AI8,AS8<>$AI8,AT8<>$AI8,AU8<>$AI8,AV8<>$AI8,AX8<>$AI8,AW8<>$AI8),$AI8,\nIF(AND(AR8<>$AJ8,AS8<>$AJ8,AT8<>$AJ8,AU8<>$AJ8,AV8<>$AJ8,AX8<>$AJ8,AW8<>$AJ8),$AJ8,\nIF(AND(AR8<>$AK8,AS8<>$AK8,AT8<>$AK8,AU8<>$AK8,AV8<>$AK8,AX8<>$AK8,AW8<>$AK8),$AK8,\nIF(AND(AR8<>$AL8,AS8<>$AL8,AT8<>$AL8,AU8<>$AL8,AV8<>$AL8,AX8<>$AL8,AW8<>$AL8),$AL8,\nIF(AND(AR8<>$AM8,AS8<>$AM8,AT8<>$AM8,AU8<>$AM8,AV8<>$AM8,AX8<>$AM8,AW8<>$AM8),$AM8,\nIF(AND(AR8<>$AN8,AS8<>$AN8,AT8<>$AN8,AU8<>$AN8,AV8<>$AN8,AX8<>$AN8,AW8<>$AN8),$AN8,\nIF(AND(AR8<>$AO8,AS8<>$AO8,AT8<>$AO8,AU8<>$AO8,AV8<>$AO8,AX8<>$AO8,AW8<>$AO8),$AO8,\nIF(AND(AR8<>$AP8,AS8<>$AP8,AT8<>$AP8,AU8<>$AP8,AV8<>$AP8,AX8<>$AP8,AW8<>$AP8),$AP8,\n\"\")))))))))))","v":""},{"$f":"IF(AY8=\"\",\"\",\nIF(AND(AR8<>$AG8,AS8<>$AG8,AT8<>$AG8,AU8<>$AG8,AV8<>$AG8,AW8<>$AG8,AY8<>$AG8,AX8<>$AG8),$AG8,\nIF(AND(AR8<>$AH8,AS8<>$AH8,AT8<>$AH8,AU8<>$AH8,AV8<>$AH8,AW8<>$AH8,AY8<>$AH8,AX8<>$AH8),$AH8,\nIF(AND(AR8<>$AI8,AS8<>$AI8,AT8<>$AI8,AU8<>$AI8,AV8<>$AI8,AW8<>$AI8,AY8<>$AI8,AX8<>$AI8),$AI8,\nIF(AND(AR8<>$AJ8,AS8<>$AJ8,AT8<>$AJ8,AU8<>$AJ8,AV8<>$AJ8,AW8<>$AJ8,AY8<>$AJ8,AX8<>$AJ8),$AJ8,\nIF(AND(AR8<>$AK8,AS8<>$AK8,AT8<>$AK8,AU8<>$AK8,AV8<>$AK8,AW8<>$AK8,AY8<>$AK8,AX8<>$AK8),$AK8,\nIF(AND(AR8<>$AL8,AS8<>$AL8,AT8<>$AL8,AU8<>$AL8,AV8<>$AL8,AW8<>$AL8,AY8<>$AL8,AX8<>$AL8),$AL8,\nIF(AND(AR8<>$AM8,AS8<>$AM8,AT8<>$AM8,AU8<>$AM8,AV8<>$AM8,AW8<>$AM8,AY8<>$AM8,AX8<>$AM8),$AM8,\nIF(AND(AR8<>$AN8,AS8<>$AN8,AT8<>$AN8,AU8<>$AN8,AV8<>$AN8,AW8<>$AN8,AY8<>$AN8,AX8<>$AN8),$AN8,\nIF(AND(AR8<>$AO8,AS8<>$AO8,AT8<>$AO8,AU8<>$AO8,AV8<>$AO8,AW8<>$AO8,AY8<>$AO8,AX8<>$AO8),$AO8,\nIF(AND(AR8<>$AP8,AS8<>$AP8,AT8<>$AP8,AU8<>$AP8,AV8<>$AP8,AW8<>$AP8,AY8<>$AP8,AX8<>$AP8),$AP8,\n\"\")))))))))))","v":""},{"$f":"IF(AZ8=\"\",\"\",\nIF(AND(AR8<>$AG8,AS8<>$AG8,AT8<>$AG8,AU8<>$AG8,AV8<>$AG8,AW8<>$AG8,AX8<>$AG8,AZ8<>$AG8,AY8<>$AG8),$AG8,\nIF(AND(AR8<>$AH8,AS8<>$AH8,AT8<>$AH8,AU8<>$AH8,AV8<>$AH8,AW8<>$AH8,AX8<>$AH8,AZ8<>$AH8,AY8<>$AH8),$AH8,\nIF(AND(AR8<>$AI8,AS8<>$AI8,AT8<>$AI8,AU8<>$AI8,AV8<>$AI8,AW8<>$AI8,AX8<>$AI8,AZ8<>$AI8,AY8<>$AI8),$AI8,\nIF(AND(AR8<>$AJ8,AS8<>$AJ8,AT8<>$AJ8,AU8<>$AJ8,AV8<>$AJ8,AW8<>$AJ8,AX8<>$AJ8,AZ8<>$AJ8,AY8<>$AJ8),$AJ8,\nIF(AND(AR8<>$AK8,AS8<>$AK8,AT8<>$AK8,AU8<>$AK8,AV8<>$AK8,AW8<>$AK8,AX8<>$AK8,AZ8<>$AK8,AY8<>$AK8),$AK8,\nIF(AND(AR8<>$AL8,AS8<>$AL8,AT8<>$AL8,AU8<>$AL8,AV8<>$AL8,AW8<>$AL8,AX8<>$AL8,AZ8<>$AL8,AY8<>$AL8),$AL8,\nIF(AND(AR8<>$AM8,AS8<>$AM8,AT8<>$AM8,AU8<>$AM8,AV8<>$AM8,AW8<>$AM8,AX8<>$AM8,AZ8<>$AM8,AY8<>$AM8),$AM8,\nIF(AND(AR8<>$AN8,AS8<>$AN8,AT8<>$AN8,AU8<>$AN8,AV8<>$AN8,AW8<>$AN8,AX8<>$AN8,AZ8<>$AN8,AY8<>$AN8),$AN8,\nIF(AND(AR8<>$AO8,AS8<>$AO8,AT8<>$AO8,AU8<>$AO8,AV8<>$AO8,AW8<>$AO8,AX8<>$AO8,AZ8<>$AO8,AY8<>$AO8),$AO8,\nIF(AND(AR8<>$AP8,AS8<>$AP8,AT8<>$AP8,AU8<>$AP8,AV8<>$AP8,AW8<>$AP8,AX8<>$AP8,AZ8<>$AP8,AY8<>$AP8),$AP8,\n\"\")))))))))))","v":""}]
[null,{"$f":"IF(OR(SUM(B10)>0,O9=\"x\"),1,IF(ISNUMBER(O9),O9,0))","v":1},1,{"$f":"J9","v":"812.000"},null,{"$f":"K9","v":"Reinigung"},"pau",null,null,"812.000","Reinigung",null,null,"pau","x",null,null,null,null,null,null,null,null,null,null,null,null,null,null,null,"x",null,"pau","pau","pau","pau","pau","pau","pau","pau","pau","pau",null,"pau","","","","","","","","",""]
[null,0,0,null,{"$f":"L10","v":"812.100"},{"$f":"M10","v":"Grünpflege"},"",null,null,null,null,"812.100","Grünpflege","pau",null,null,null,null,null,null,null,null,null,null,"x",null,null,null,null,null,"x",null,"m2","m2","m2","m2","pau","pau","pau","pau","pau","pau",null,"m2","pau",{"$f":"IF(AS10=\"\",\"\",\nIF(AND(AS10<>$AG10,AR10<>$AG10),$AG10,\nIF(AND(AS10<>$AH10,AR10<>$AH10),$AH10,\nIF(AND(AS10<>$AI10,AR10<>$AI10),$AI10,\nIF(AND(AS10<>$AJ10,AR10<>$AJ10),$AJ10,\nIF(AND(AS10<>$AK10,AR10<>$AK10),$AK10,\nIF(AND(AS10<>$AL10,AR10<>$AL10),$AL10,\nIF(AND(AS10<>$AM10,AR10<>$AM10),$AM10,\nIF(AND(AS10<>$AN10,AR10<>$AN10),$AN10,\nIF(AND(AS10<>$AO10,AR10<>$AO10),$AO10,\nIF(AND(AS10<>$AP10,AR10<>$AP10),$AP10,\n\"\")))))))))))","v":""},{"$f":"IF(AT10=\"\",\"\",\nIF(AND(AR10<>$AG10,AT10<>$AG10,AS10<>$AG10),$AG10,\nIF(AND(AR10<>$AH10,AT10<>$AH10,AS10<>$AH10),$AH10,\nIF(AND(AR10<>$AI10,AT10<>$AI10,AS10<>$AI10),$AI10,\nIF(AND(AR10<>$AJ10,AT10<>$AJ10,AS10<>$AJ10),$AJ10,\nIF(AND(AR10<>$AK10,AT10<>$AK10,AS10<>$AK10),$AK10,\nIF(AND(AR10<>$AL10,AT10<>$AL10,AS10<>$AL10),$AL10,\nIF(AND(AR10<>$AM10,AT10<>$AM10,AS10<>$AM10),$AM10,\nIF(AND(AR10<>$AN10,AT10<>$AN10,AS10<>$AN10),$AN10,\nIF(AND(AR10<>$AO10,AT10<>$AO10,AS10<>$AO10),$AO10,\nIF(AND(AR10<>$AP10,AT10<>$AP10,AS10<>$AP10),$AP10,\n\"\")))))))))))","v":""},{"$f":"IF(AU10=\"\",\"\",\nIF(AND(AR10<>$AG10,AS10<>$AG10,AU10<>$AG10,AT10<>$AG10),$AG10,\nIF(AND(AR10<>$AH10,AS10<>$AH10,AU10<>$AH10,AT10<>$AH10),$AH10,\nIF(AND(AR10<>$AI10,AS10<>$AI10,AU10<>$AI10,AT10<>$AI10),$AI10,\nIF(AND(AR10<>$AJ10,AS10<>$AJ10,AU10<>$AJ10,AT10<>$AJ10),$AJ10,\nIF(AND(AR10<>$AK10,AS10<>$AK10,AU10<>$AK10,AT10<>$AK10),$AK10,\nIF(AND(AR10<>$AL10,AS10<>$AL10,AU10<>$AL10,AT10<>$AL10),$AL10,\nIF(AND(AR10<>$AM10,AS10<>$AM10,AU10<>$AM10,AT10<>$AM10),$AM10,\nIF(AND(AR10<>$AN10,AS10<>$AN10,AU10<>$AN10,AT10<>$AN10),$AN10,\nIF(AND(AR10<>$AO10,AS10<>$AO10,AU10<>$AO10,AT10<>$AO10),$AO10,\nIF(AND(AR10<>$AP10,AS10<>$AP10,AU10<>$AP10,AT10<>$AP10),$AP10,\n\"\")))))))))))","v":""},{"$f":"IF(AV10=\"\",\"\",\nIF(AND(AR10<>$AG10,AS10<>$AG10,AT10<>$AG10,AV10<>$AG10,AU10<>$AG10),$AG10,\nIF(AND(AR10<>$AH10,AS10<>$AH10,AT10<>$AH10,AV10<>$AH10,AU10<>$AH10),$AH10,\nIF(AND(AR10<>$AI10,AS10<>$AI10,AT10<>$AI10,AV10<>$AI10,AU10<>$AI10),$AI10,\nIF(AND(AR10<>$AJ10,AS10<>$AJ10,AT10<>$AJ10,AV10<>$AJ10,AU10<>$AJ10),$AJ10,\nIF(AND(AR10<>$AK10,AS10<>$AK10,AT10<>$AK10,AV10<>$AK10,AU10<>$AK10),$AK10,\nIF(AND(AR10<>$AL10,AS10<>$AL10,AT10<>$AL10,AV10<>$AL10,AU10<>$AL10),$AL10,\nIF(AND(AR10<>$AM10,AS10<>$AM10,AT10<>$AM10,AV10<>$AM10,AU10<>$AM10),$AM10,\nIF(AND(AR10<>$AN10,AS10<>$AN10,AT10<>$AN10,AV10<>$AN10,AU10<>$AN10),$AN10,\nIF(AND(AR10<>$AO10,AS10<>$AO10,AT10<>$AO10,AV10<>$AO10,AU10<>$AO10),$AO10,\nIF(AND(AR10<>$AP10,AS10<>$AP10,AT10<>$AP10,AV10<>$AP10,AU10<>$AP10),$AP10,\n\"\")))))))))))","v":""},{"$f":"IF(AW10=\"\",\"\",\nIF(AND(AR10<>$AG10,AS10<>$AG10,AT10<>$AG10,AU10<>$AG10,AW10<>$AG10,AV10<>$AG10),$AG10,\nIF(AND(AR10<>$AH10,AS10<>$AH10,AT10<>$AH10,AU10<>$AH10,AW10<>$AH10,AV10<>$AH10),$AH10,\nIF(AND(AR10<>$AI10,AS10<>$AI10,AT10<>$AI10,AU10<>$AI10,AW10<>$AI10,AV10<>$AI10),$AI10,\nIF(AND(AR10<>$AJ10,AS10<>$AJ10,AT10<>$AJ10,AU10<>$AJ10,AW10<>$AJ10,AV10<>$AJ10),$AJ10,\nIF(AND(AR10<>$AK10,AS10<>$AK10,AT10<>$AK10,AU10<>$AK10,AW10<>$AK10,AV10<>$AK10),$AK10,\nIF(AND(AR10<>$AL10,AS10<>$AL10,AT10<>$AL10,AU10<>$AL10,AW10<>$AL10,AV10<>$AL10),$AL10,\nIF(AND(AR10<>$AM10,AS10<>$AM10,AT10<>$AM10,AU10<>$AM10,AW10<>$AM10,AV10<>$AM10),$AM10,\nIF(AND(AR10<>$AN10,AS10<>$AN10,AT10<>$AN10,AU10<>$AN10,AW10<>$AN10,AV10<>$AN10),$AN10,\nIF(AND(AR10<>$AO10,AS10<>$AO10,AT10<>$AO10,AU10<>$AO10,AW10<>$AO10,AV10<>$AO10),$AO10,\nIF(AND(AR10<>$AP10,AS10<>$AP10,AT10<>$AP10,AU10<>$AP10,AW10<>$AP10,AV10<>$AP10),$AP10,\n\"\")))))))))))","v":""},{"$f":"IF(AX10=\"\",\"\",\nIF(AND(AR10<>$AG10,AS10<>$AG10,AT10<>$AG10,AU10<>$AG10,AV10<>$AG10,AX10<>$AG10,AW10<>$AG10),$AG10,\nIF(AND(AR10<>$AH10,AS10<>$AH10,AT10<>$AH10,AU10<>$AH10,AV10<>$AH10,AX10<>$AH10,AW10<>$AH10),$AH10,\nIF(AND(AR10<>$AI10,AS10<>$AI10,AT10<>$AI10,AU10<>$AI10,AV10<>$AI10,AX10<>$AI10,AW10<>$AI10),$AI10,\nIF(AND(AR10<>$AJ10,AS10<>$AJ10,AT10<>$AJ10,AU10<>$AJ10,AV10<>$AJ10,AX10<>$AJ10,AW10<>$AJ10),$AJ10,\nIF(AND(AR10<>$AK10,AS10<>$AK10,AT10<>$AK10,AU10<>$AK10,AV10<>$AK10,AX10<>$AK10,AW10<>$AK10),$AK10,\nIF(AND(AR10<>$AL10,AS10<>$AL10,AT10<>$AL10,AU10<>$AL10,AV10<>$AL10,AX10<>$AL10,AW10<>$AL10),$AL10,\nIF(AND(AR10<>$AM10,AS10<>$AM10,AT10<>$AM10,AU10<>$AM10,AV10<>$AM10,AX10<>$AM10,AW10<>$AM10),$AM10,\nIF(AND(AR10<>$AN10,AS10<>$AN10,AT10<>$AN10,AU10<>$AN10,AV10<>$AN10,AX10<>$AN10,AW10<>$AN10),$AN10,\nIF(AND(AR10<>$AO10,AS10<>$AO10,AT10<>$AO10,AU10<>$AO10,AV10<>$AO10,AX10<>$AO10,AW10<>$AO10),$AO10,\nIF(AND(AR10<>$AP10,AS10<>$AP10,AT10<>$AP10,AU10<>$AP10,AV10<>$AP10,AX10<>$AP10,AW10<>$AP10),$AP10,\n\"\")))))))))))","v":""},{"$f":"IF(AY10=\"\",\"\",\nIF(AND(AR10<>$AG10,AS10<>$AG10,AT10<>$AG10,AU10<>$AG10,AV10<>$AG10,AW10<>$AG10,AY10<>$AG10,AX10<>$AG10),$AG10,\nIF(AND(AR10<>$AH10,AS10<>$AH10,AT10<>$AH10,AU10<>$AH10,AV10<>$AH10,AW10<>$AH10,AY10<>$AH10,AX10<>$AH10),$AH10,\nIF(AND(AR10<>$AI10,AS10<>$AI10,AT10<>$AI10,AU10<>$AI10,AV10<>$AI10,AW10<>$AI10,AY10<>$AI10,AX10<>$AI10),$AI10,\nIF(AND(AR10<>$AJ10,AS10<>$AJ10,AT10<>$AJ10,AU10<>$AJ10,AV10<>$AJ10,AW10<>$AJ10,AY10<>$AJ10,AX10<>$AJ10),$AJ10,\nIF(AND(AR10<>$AK10,AS10<>$AK10,AT10<>$AK10,AU10<>$AK10,AV10<>$AK10,AW10<>$AK10,AY10<>$AK10,AX10<>$AK10),$AK10,\nIF(AND(AR10<>$AL10,AS10<>$AL10,AT10<>$AL10,AU10<>$AL10,AV10<>$AL10,AW10<>$AL10,AY10<>$AL10,AX10<>$AL10),$AL10,\nIF(AND(AR10<>$AM10,AS10<>$AM10,AT10<>$AM10,AU10<>$AM10,AV10<>$AM10,AW10<>$AM10,AY10<>$AM10,AX10<>$AM10),$AM10,\nIF(AND(AR10<>$AN10,AS10<>$AN10,AT10<>$AN10,AU10<>$AN10,AV10<>$AN10,AW10<>$AN10,AY10<>$AN10,AX10<>$AN10),$AN10,\nIF(AND(AR10<>$AO10,AS10<>$AO10,AT10<>$AO10,AU10<>$AO10,AV10<>$AO10,AW10<>$AO10,AY10<>$AO10,AX10<>$AO10),$AO10,\nIF(AND(AR10<>$AP10,AS10<>$AP10,AT10<>$AP10,AU10<>$AP10,AV10<>$AP10,AW10<>$AP10,AY10<>$AP10,AX10<>$AP10),$AP10,\n\"\")))))))))))","v":""},{"$f":"IF(AZ10=\"\",\"\",\nIF(AND(AR10<>$AG10,AS10<>$AG10,AT10<>$AG10,AU10<>$AG10,AV10<>$AG10,AW10<>$AG10,AX10<>$AG10,AZ10<>$AG10,AY10<>$AG10),$AG10,\nIF(AND(AR10<>$AH10,AS10<>$AH10,AT10<>$AH10,AU10<>$AH10,AV10<>$AH10,AW10<>$AH10,AX10<>$AH10,AZ10<>$AH10,AY10<>$AH10),$AH10,\nIF(AND(AR10<>$AI10,AS10<>$AI10,AT10<>$AI10,AU10<>$AI10,AV10<>$AI10,AW10<>$AI10,AX10<>$AI10,AZ10<>$AI10,AY10<>$AI10),$AI10,\nIF(AND(AR10<>$AJ10,AS10<>$AJ10,AT10<>$AJ10,AU10<>$AJ10,AV10<>$AJ10,AW10<>$AJ10,AX10<>$AJ10,AZ10<>$AJ10,AY10<>$AJ10),$AJ10,\nIF(AND(AR10<>$AK10,AS10<>$AK10,AT10<>$AK10,AU10<>$AK10,AV10<>$AK10,AW10<>$AK10,AX10<>$AK10,AZ10<>$AK10,AY10<>$AK10),$AK10,\nIF(AND(AR10<>$AL10,AS10<>$AL10,AT10<>$AL10,AU10<>$AL10,AV10<>$AL10,AW10<>$AL10,AX10<>$AL10,AZ10<>$AL10,AY10<>$AL10),$AL10,\nIF(AND(AR10<>$AM10,AS10<>$AM10,AT10<>$AM10,AU10<>$AM10,AV10<>$AM10,AW10<>$AM10,AX10<>$AM10,AZ10<>$AM10,AY10<>$AM10),$AM10,\nIF(AND(AR10<>$AN10,AS10<>$AN10,AT10<>$AN10,AU10<>$AN10,AV10<>$AN10,AW10<>$AN10,AX10<>$AN10,AZ10<>$AN10,AY10<>$AN10),$AN10,\nIF(AND(AR10<>$AO10,AS10<>$AO10,AT10<>$AO10,AU10<>$AO10,AV10<>$AO10,AW10<>$AO10,AX10<>$AO10,AZ10<>$AO10,AY10<>$AO10),$AO10,\nIF(AND(AR10<>$AP10,AS10<>$AP10,AT10<>$AP10,AU10<>$AP10,AV10<>$AP10,AW10<>$AP10,AX10<>$AP10,AZ10<>$AP10,AY10<>$AP10),$AP10,\n\"\")))))))))))","v":""}]
[null,{"$f":"IF(OR(SUM(B12)>0,O11=\"x\"),1,IF(ISNUMBER(O11),O11,0))","v":1},1,{"$f":"J11","v":"813.000"},null,{"$f":"K11","v":"Anlagen-Check"},"pau",null,null,"813.000","Anlagen-Check",null,null,"pau","x",null,null,null,null,null,null,null,null,null,null,null,null,null,null,null,"x",null,"pau","pau","pau","pau","pau","pau","pau","pau","pau","pau",null,"pau","","","","","","","","",""]
[null,0,0,null,{"$f":"L12","v":"813.100"},{"$f":"M12","v":"Sichtkontolle"},"",null,null,null,null,"813.100","Sichtkontolle","pau",null,null,null,null,null,null,null,null,null,null,null,null,null,null,null,null,"x",null,"pau","pau","pau","pau","pau","pau","pau","pau","pau","pau",null,"pau","","","","","","","","",""]
[null,0,0,{"$f":"J13","v":"814.000"},null,{"$f":"K13","v":"Produktions/Verbrauchs-Auswertung"},"",null,null,"814.000","Produktions/Verbrauchs-Auswertung",null,null,"pau",null,null,null,null,null,null,null,null,null,null,null,null,null,null,null,null,"x",null,"pau","pau","pau","pau","pau","pau","pau","pau","pau","pau",null,"pau","","","","","","","","",""]
[null,{"$f":"IF(OR(SUM(B15:B19)>0,O14=\"x\"),1,IF(ISNUMBER(O14),O14,0))","v":0},0,"815.000",null,"Messungen/Aufnahmen","",null,null,"815.000","Messungen/Aufnahmen",null,null,"pau",null,null,null,null,null,null,null,null,null,null,null,null,null,null,null,null,"x",null,"pau","pau","pau","pau","pau","pau","pau","pau","pau","pau",null,"pau","","","","","","","","",""]
[null,0,0,null,{"$f":"L15","v":"815.100"},{"$f":"M15","v":"I/U-Messungen"},"",null,null,null,null,"815.100","I/U-Messungen","pau",null,null,null,null,null,null,null,null,null,null,null,null,null,null,null,null,"x",null,"pau","pau","pau","pau","pau","pau","pau","pau","pau","pau",null,"pau","","","","","","","","",""]
[null,0,0,null,{"$f":"L16","v":"815.200"},"ISO-Messungen","",null,null,null,null,"815.200","ISO-Messungen","pau",null,null,null,null,null,null,null,null,null,null,null,null,null,null,null,null,"x",null,"pau","pau","pau","pau","pau","pau","pau","pau","pau","pau",null,"pau","","","","","","","","",""]
[null,0,0,null,{"$f":"L17","v":"815.300"},"Kennlinienmessung","",null,null,null,null,"815.300","Kennlinienmessung","pau",null,null,null,null,null,null,null,null,null,null,null,null,null,null,null,null,"x",null,"pau","pau","pau","pau","pau","pau","pau","pau","pau","pau",null,"pau","","","","","","","","",""]
[null,0,0,null,{"$f":"L18","v":"815.400"},"Wärmebildaufnahme","",null,null,null,null,"815.400","Wärmebildaufnahme","pau",null,null,null,null,null,null,null,null,null,null,null,null,null,null,null,null,"x",null,"pau","pau","pau","pau","pau","pau","pau","pau","pau","pau",null,"pau","","","","","","","","",""]
[null,0,0,null,{"$f":"L19","v":"815.500"},"Elektrolumineszenz","",null,null,null,null,"815.500","Elektrolumineszenz","pau",null,null,null,null,null,null,null,null,null,null,null,null,null,null,null,null,"x",null,"pau","pau","pau","pau","pau","pau","pau","pau","pau","pau",null,"pau","","","","","","","","",""]
[null,{"$f":"IF(OR(SUM(B21:B22)>0,O20=\"x\"),1,IF(ISNUMBER(O20),O20,0))","v":0},0,{"$f":"J20","v":"816.000"},null,{"$f":"K20","v":"Externe Modulprüfung"},"",null,null,"816.000","Externe Modulprüfung",null,null,"pau",null,null,null,null,null,null,null,null,null,null,null,null,null,null,null,null,"x",null,"pau","pau","pau","pau","pau","pau","pau","pau","pau","pau",null,"pau","","","","","","","","",""]
[null,0,0,null,{"$f":"L21","v":"816.100"},{"$f":"M21","v":"Modulleistung"},"",null,null,null,null,"816.100","Modulleistung","pau",null,null,null,null,null,null,null,null,null,null,null,null,null,null,null,null,"x",null,"pau","pau","pau","pau","pau","pau","pau","pau","pau","pau",null,"pau","","","","","","","","",""]
[null,0,0,null,{"$f":"L22","v":"816.200"},"Elektrolumineszenz","",null,null,null,null,"816.200","Elektrolumineszenz","pau",null,null,null,null,null,null,null,null,null,null,null,null,null,null,null,null,"x",null,"pau","pau","pau","pau","pau","pau","pau","pau","pau","pau",null,"pau","","","","","","","","",""]
[null,1,1,{"$f":"J23","v":"817.000"},null,{"$f":"K23","v":"Periodische Kontrolle (Erneuerung Sicherheitsnachweis)"},"pau",null,null,"817.000","Periodische Kontrolle (Erneuerung Sicherheitsnachweis)",null,null,"pau","x",null,null,null,null,null,null,null,null,null,null,null,null,null,null,null,"x",null,"pau","pau","pau","pau","pau","pau","pau","pau","pau","pau",null,"pau","","","","","","","","",""]
[null,0,0,"818.000",null,"Re-Audit Pronovo (> 300 kWp)","",null,null,"818.000","Re-Audit Pronovo (> 300 kWp)",null,null,"pau",null,null,null,null,null,null,null,null,null,null,null,null,null,null,null,null,"x",null,"pau","pau","pau","pau","pau","pau","pau","pau","pau","pau",null,"pau","","","","","","","","",""]
[null,{"$f":"B6","v":1},0,null,null,null,"",null,null,null,null,null,null,null,null,null,null,null,null,null,null,null,null,null,null,null,null,null,null,null,null,null,"","","","","","","","","","",null,"","","","","","","","","",""]
[null,{"$f":"IF(Q26=\"x\",1,IF(SUM(B27:B32)>0,1,0))","v":1},0,{"$f":"H26","v":"820.000"},null,{"$f":"I26","v":"Eigenverbrauchsabrechnung (ZEV)"},"","820.000","Eigenverbrauchsabrechnung (ZEV)",null,null,null,null,"pau",null,null,null,null,null,null,null,null,null,null,null,null,null,null,null,null,"x",null,"pau","pau","pau","pau","pau","pau","pau","pau","pau","pau",null,"pau","","","","","","","","",""]
[null,{"$f":"IF(O27=\"x\",1,IF(ISNUMBER(O27),O27,0))","v":1},1,{"$f":"J27","v":"821.000"},null,{"$f":"K27","v":"Abrechnung ZEV"},"pau",null,null,"821.000","Abrechnung ZEV",null,null,"pau","x",null,null,null,null,null,null,null,null,null,null,null,null,null,null,null,"x",null,"pau","pau","pau","pau","pau","pau","pau","pau","pau","pau",null,"pau","","","","","","","","",""]
[null,0,0,"822.000",null,"Abrechnung VNB","",null,null,"822.000","Abrechnung VNB",null,null,"pau",null,null,null,null,null,null,null,null,null,null,null,null,null,null,null,null,"x",null,"pau","pau","pau","pau","pau","pau","pau","pau","pau","pau",null,"pau","","","","","","","","",""]
[null,0,0,"823.000",null,"Abrechnung Einzelstrombezüger (Hinterschaltung)","",null,null,"823.000","Abrechnung Einzelstrombezüger (Hinterschaltung)",null,null,"pau",null,null,null,null,null,null,null,null,null,null,null,null,null,null,null,null,"x",null,"pau","pau","pau","pau","pau","pau","pau","pau","pau","pau",null,"pau","","","","","","","","",""]
[null,0,0,"824.000",null,"Abrechnung Wasserzähler","",null,null,"824.000","Abrechnung Wasserzähler",null,null,"pau",null,null,null,null,null,null,null,null,null,null,null,null,null,null,null,null,"x",null,"pau","pau","pau","pau","pau","pau","pau","pau","pau","pau",null,"pau","","","","","","","","",""]
[null,0,0,"825.000",null,"Abrechnung Wärmezähler","",null,null,"825.000","Abrechnung Wärmezähler",null,null,"pau",null,null,null,null,null,null,null,null,null,null,null,null,null,null,null,null,"x",null,"pau","pau","pau","pau","pau","pau","pau","pau","pau","pau",null,"pau","","","","","","","","",""]
[null,0,0,"826.000",null,"Zusatzleistungen","",null,null,"826.000","Zusatzleistungen",null,null,"pau",null,null,null,null,null,null,null,null,null,null,null,null,null,null,null,null,"x",null,"pau","pau","pau","pau","pau","pau","pau","pau","pau","pau",null,"pau","","","","","","","","",""]
[null,{"$f":"B26","v":1},0,null,null,null,"",null,null,null,null,null,null,null,null,null,null,null,null,null,null,null,null,null,null,null,null,null,null,null,null,null,"","","","","","","","","","",null,"","","","","","","","","",""]
[null,{"$f":"IF(Q34=\"x\",1,IF(SUM(B35:B38)>0,1,0))","v":1},0,{"$f":"H34","v":"830.000"},null,{"$f":"I34","v":"Sicherheitsleistungen"},"","830.000","Sicherheitsleistungen",null,null,null,null,"pau",null,null,null,null,null,null,null,null,null,null,null,null,null,null,null,null,"x",null,"pau","pau","pau","pau","pau","pau","pau","pau","pau","pau",null,"pau","","","","","","","","",""]
[null,{"$f":"IF(OR(SUM(B36)>0,O35=\"x\"),1,IF(ISNUMBER(O35),O35,0))","v":1},1,{"$f":"J35","v":"831.000"},null,{"$f":"K35","v":"Erfüllungsgarantie"},"pau",null,null,"831.000","Erfüllungsgarantie",null,null,"pau","x",null,null,null,null,null,null,null,null,null,null,null,null,null,null,null,"x",null,"pau","pau","pau","pau","pau","pau","pau","pau","pau","pau",null,"pau","","","","","","","","",""]
[null,{"$f":"IF(O36=\"x\",1,IF(ISNUMBER(O36),O36,0))","v":0},0,null,{"$f":"L36","v":"832.100"},{"$f":"M36","v":"Rückversicherung"},"",null,null,null,null,"832.100","Rückversicherung","pau",null,null,null,null,null,null,null,null,null,null,null,null,null,null,null,null,"x",null,"pau","pau","pau","pau","pau","pau","pau","pau","pau","pau",null,"pau","","","","","","","","",""]
[null,0,0,{"$f":"J37","v":"832.000"},null,{"$f":"K37","v":"Gewährleistungsgarantie"},"",null,null,"832.000","Gewährleistungsgarantie",null,null,"pau",null,null,null,null,null,null,null,null,null,null,null,null,null,null,null,null,"x",null,"pau","pau","pau","pau","pau","pau","pau","pau","pau","pau",null,"pau","","","","","","","","",""]
[null,1,1,"833.000",null,"Ertragsgarantie","pau",null,null,"833.000","Ertragsgarantie",null,null,"pau","x",null,null,null,null,null,null,null,null,null,null,null,null,null,null,null,"x",null,"pau","pau","pau","pau","pau","pau","pau","pau","pau","pau",null,"pau","","","","","","","","",""]
[null,{"$f":"B34","v":1},0]

{"sheet":"E_Box000","index":11,"n_rows":57,"n_cols":4,"rows_kept":57,"cut":false,"hidden":true,"merged":[]}
["Anwendungsbereich"]
["Strukturebene 1",null,"000","000"]
["Struktruebene 2",null,"010","010"]
["Strukturebene 3",null,"011","012"]
[]
[null,null,"E000_Begriffe_Abkürzungen","E000_Normen"]
["Nr."]
[1,null,"Deckung: oberste, der direkten Bewitterung ausgesetzte Schicht auf dem geneigten Dach","Gesetzliche Vorgaben Elektrizität"]
[2,null,"Flachdach: Oberbegriff für Dächer ohne oder mit geringer Neigung und fugenloser Adichtung","SIA-Regelwerk"]
[3,null,"Geneigtes Dach: Dach mit einer Neigung, die eine überlappend verlegte oder glatte Deckung zuläst","VKF Brandschutzvorschriften"]
[4,null,"Tragwerk: Gesamtheit der Bauteile, die für das Gleichgewicht und die Formerhaltung des Bauwerks erforderlich sind","Stand der Technik Papiere"]
[5,null,"Unterkonstruktion: Schichten und Bauteile der Dach- und Fassadenkonstruktion unter der Deckung oder Bekleidung, die nicht das Tragwerk betreffen","VSE Branchendokumente"]
[6,null,"PV-Montagekonstruktion: dauerhafte, statisch wirksame Haltevorrichtung für Module","NIV: Niederspannungsinstallationsverordnung"]
[7,null,"CrNi-Stahlblech: Chromnickel-Stahlblech","NEV: Niederspannungserzeugnisverordnung"]
[8,null,"ESTI: Eidgenössisches Starkstrominspektorat","HKSV: Verordnung über Herkunftsnachweis"]
[9,null,"KGV: Kantonale Gebäudeversicherung","EnG: Energiegesetz"]
[10,null,"Suva: Schweizerische Unfallversicherung","EnV: Energieverordnung"]
[11,null,"SIA: Schweizerischer Ingenieur- und Architektenverein","EnFV: Energieförderverordnung"]
[12,null,"Swissolar: Schweizerischer Fachverband für Sonnenenergie"]
[13,null,"AC: Alternating current (Wechselstrom)"]
[14,null,"DC: Direct current (Gleichstrom)"]
[15,null,"AM: Air mass (Luftmasse)"]
[16,null,"VNB: Verteilnetzbetreiber"]
[17,null,"LSVA: leistungsabhängige Schwerverkehrsabgabe"]
[18,null,"STC: Standard Test Conditions"]
[19,null,"Azimut: Abweichung der Moduls von Norden"]
[20]
[21]
[22]
[23]
[24]
[25]
[26]
[27]
[28]
[29]
[30]
[31]
[32]
[33]
[34]
[35]
[36]
[37]
[38]
[39]
[40]
[41]
[42]
[43]
[44]
[45]
[46]
[47]
[48]
[49]
[50]

{"sheet":"E_Box100","index":12,"n_rows":57,"n_cols":5,"rows_kept":57,"cut":false,"hidden":true,"merged":[]}
["Anwendungsbereich"]
["Strukturebene 1",null,100,100]
["Struktruebene 2",null,"110, 120, 130, 140, 150, 160, 170, 180, 190",190]
["Strukturebene 3",null,"111 - 193","194-196"]
[]
[null,null,"E100_PV_Module","E100_Blindmodule","E100_PV_Module_rahmenlos"]
["Nr."]
[1,null,"Rahmen silber","Aluverbundplatte","Backsheet weiss"]
[2,null,"Rahmen schwarz","Glas","Backsheet schwarz"]
[3,null,"Rahmen farbig","Metall","Backsheet transparent"]
[4,null,"Backsheet weiss","Farbton","Busbars abgedeckt"]
[5,null,"Backsheet schwarz","Stärke","Frontglas bedruckt"]
[6,null,"Backsheet transparent","Zuschnitt","Glasdruck: Farbgebung innseitig homogen"]
[7,null,"Busbars abgedeckt",null,"Glasdruck: Farbgebung innseitig Muster"]
[8,null,"Frontglas bedruckt",null,"Glasdruck: Beschichtung Aussenseitig"]
[9,null,"Glasdruck: Farbgebung innseitig homogen",null,"Glasdruck: Farbgebung Aussenseitig homogen"]
[10,null,"Glasdruck: Farbgebung innseitig Muster",null,"Zellen rückkontaktiert"]
[11,null,"Glasdruck: Beschichtung Aussenseitig",null,"monokristallin"]
[12,null,"Glasdruck: Farbgebung Aussenseitig homogen",null,"polykristallin"]
[13,null,"Zellen rückkontaktiert",null,"CIGS"]
[14,null,"monokristallin",null,"Amorphes Silizium"]
[15,null,"polykristallin",null,"Organische Zellen"]
[16,null,"CIGS",null,"CdTe"]
[17,null,"Amorphes Silizium",null,"Glasart Frontglas"]
[18,null,"Organische Zellen",null,"Glasart Rückglas"]
[19,null,"CdTe",null,"Stärke Frontglas"]
[20,null,"Glasart Frontglas",null,"Stärke Rückglas"]
[21,null,"Glasart Rückglas",null,"Optimierer"]
[22,null,"Stärke Frontglas",null,"Halbzellen"]
[23,null,"Stärke Rückglas",null,"Schuppung Zellen"]
[24,null,"Optimierer",null,"Anschlussdose"]
[25,null,"Halbzellen",null,"PV-Stecker"]
[26,null,"Schuppung Zellen",null,"min. Leistung Wp"]
[27,null,"Anschlussdose",null,"Flächenwirkungsgrad"]
[28,null,"PV-Stecker",null,"Länge"]
[29,null,"min. Leistung Wp",null,"Breite"]
[30,null,"Flächenwirkungsgrad",null,"Höhe"]
[31,null,"Länge",null,"Bifazial"]
[32,null,"Breite",null,"By-Pass-Dioden (Anzahl)"]
[33,null,"Höhe",null,"Länge Anschlusskabel"]
[34,null,"Bifazial"]
[35,null,"By-Pass-Dioden (Anzahl)"]
[36,null,"Länge Anschlusskabel"]
[37]
[38]
[39]
[40]
[41]
[42]
[43]
[44]
[45]
[46]
[47]
[48]
[49]
[50]

{"sheet":"E_Box200","index":13,"n_rows":57,"n_cols":5,"rows_kept":57,"cut":false,"hidden":true,"merged":[]}
["Anwendungsbereich"]
["Strukturebene 1",null,200,200,200]
["Struktruebene 2",null,"210, 220, 230, 240, 250, 260, 270",280,280]
["Strukturebene 3",null,"211 -279",281,282]
[]
[null,null,"E200_PV_Montagekonstruktion","E200_Aufwuchshemmende_Matte","E200_Anschlüsse_Schrägdach_integriert"]
["Nr."]
[1,null,"Einlegesystem","<3mm Dicke","Zu Ziegel"]
[2,null,"Klemmsystem","4-5mm Dicke","Zu Bibeschwanzziegel"]
[3,null,"Verschraubung an Modulrahmen","6-7mm Dicke","Zu Schiefer oder Platten"]
[4,null,"Kleben an Modul","8-9mm Dicke","Zu grossflächigen Platten gewellt"]
[5,null,"Aluminium",">10mm Dicke","Zu grossflächigen Platten profiliert"]
[6,null,"Edelstahl","Wasserdurchlässigkeit"]
[7,null,"verzinkter Stahl","Klebung"]
[8,null,"Holz","Überlappung"]
[9,null,"Garantiezeit","Garantiezeit"]
[10,null,"Hersteller","UV-Beständigkeit"]
[11,null,"Verstärkung"]
[12,null,"Teilfelder"]
[13,null,"Farbe"]
[14,null,"Schienenanzahl (2/3/4)"]
[15,null,"Kreuzverbund"]
[16,null,"Farbe sichtbaren Teile"]
[17,null,"Ballastierung mit Kies/Substrat"]
[18,null,"Gewichtungslose UK (Steine/Wannen)"]
[19,null,"Geklebt"]
[20]
[21]
[22]
[23]
[24]
[25]
[26]
[27]
[28]
[29]
[30]
[31]
[32]
[33]
[34]
[35]
[36]
[37]
[38]
[39]
[40]
[41]
[42]
[43]
[44]
[45]
[46]
[47]
[48]
[49]
[50]

{"sheet":"E_Box300","index":14,"n_rows":57,"n_cols":17,"rows_kept":57,"cut":false,"hidden":true,"merged":[]}
["Anwendungsbereich"]
["Strukturebene 1",null,300,300,300,300,300,300,300,300,300,300,300,300,300,300,300]
["Struktruebene 2",null,310,320,330,"340-350",360,360,360,360,360,360,360,370,370,370,380]
["Strukturebene 3",null,"311-319","321-329","331-339","341-359",361,362,363,364,365,366,368,371,372,373,381]
[]
[null,null,"E300_Stringwechselrichter","E300_Zentralwechselrichter","E300_GAK","E300_Batterie","E300_Moduloptimierer","E300_Stringoptimierer","E300_Datalogger","E300_Wettersensoren","E300_SmartMeter","E300_Steuerung_Verbraucher","E300_Visualisierung","E300_Ladestationen","E300_Wärmeerzeuger","E300_SmartEnergy","E300_Inselwechselrichter"]
["Nr."]
[1,null,"Nennleistungsverhältnis","Nennleistungsverhältnis","Anzahl MPPT","Lithium-Ionen","Max. anschliessbare Modulleistung","Max. anschliessbare Stringleistung","IP Schutz","Referenzzelle","1- phasig","Anzahl potentialfreie Kontakte","IP Schutz","Ladestation für Öffentlicher Verkehr","Elektroboiler","Ansteuerung Steckdose","Nennleistungsverhältnis"]
[2,null,"Anzahl MPPT","Anzahl MPPT","Anzahl Eingänge pro MPPT","Lithium-Eisenphosphat","Max. anschliessbare Anzahl Module","Max. anschliessbare Anzahl Module","Portal","Pyranomether","3- phasig","Anzahl digitale Eingänge","Befestigungsart","Ladestation für Bikes","WP-Boiler","Portal","Anzahl MPPT"]
[3,null,"Eingangsspannung DC","Eingangsspannung DC","Anschlusssystem Eingang","Blei","Kommunikationsart (z.B. Powerline)","Kommunikationsart (z.B. Powerline)","Befestigungsart","Temperatursensor","Direktmessung","Anzahl analoge Ausgänge","Aufstellungsort","AC","Heizeinsatz 1-step (on/off)","App","Eingangsspannung DC"]
[4,null,"Netzspannung AC","Netzspannung AC","Anschlusssystem Ausgang","Salz","Leerlaufspannung (z.B. 1V)","Leerlaufspannung (z.B. 1V)","Speisespannung (12/24/230V)","Niederschlagssensor","Wandlermessung","Anzahl analoge Eingänge","Speisespannung (12/24/230V)","DC","Heizensatz 2-step (2- oder 3- Phasen)","SmartHome","IP-Schutz"]
[5,null,"IP-Schutz","IP-Schutz","Anschlusssystem POT","Salzwasser","Max. Systemspannung (z.B. 1000/1500V)","Max. Systemspannung (z.B. 1000/1500V)","Anzahl WR-Eingänge mit unterschiedl. Protokoll","IP Schutz","mit Schaltfunktion","Anzahl Eingänge Temperaturelement","Anzeige (LED, Display)","Steckertyp (Typ 1, Typ 2, CCS, CHAdeMO)","Heizensatz stufenlos","Schnittstellen","Gerätetopologie (mit/ohne Trafo)"]
[6,null,"Gerätetopologie (mit/ohne Trafo)","Gerätetopologie (mit/ohne Trafo)","IP-Schutz","Redox","Befestigungsart","Befestigungsart","Anzahl Ausgänge (z.B. potfreier Kontakt)","Befestigungsart","Befestigungsart (z.B. DIN-Schiene oder AP)","max. Anzahl regelbare Ladestationen","Portalanbindung","Ladeleistung AC","Leistung elektrisch","Protokoll","Gerätetopologie (mit/ohne Trafo)"]
[7,null,"AC-Trennstelle","AC-Trennstelle","Befestigungsart","Kapazität","Sicherheitsfunktion bei Abschaltung","Sicherheitsfunktion bei Abschaltung","S0-Schnittstelle","Windmessung","Max. Strom Direktanschluss","inkl. Wechselrichterüberwachung",null,"Ladeleistung DC","Eingangsspannung (230/400V)","Dynamische Abregelungseinheit","DC-Trennstelle"]
[8,null,"DC-Trennstelle","DC-Trennstelle","Einhausungstyp Metall/Kunststoff","Leistung","Überwachung pro Optimierer","Überwachung pro Optimierer","Prtokolle (z.B. Sunspect)","Einstrahlungsmessung","Max. Strom mit Wandler","inkl. Ansteuerung Batteriewechselrichter",null,"Ladespannung AC (230/400V)",null,null,"SPD DC Typ 2"]
[9,null,"Ländereinstellungen","Ländereinstellungen","Strangsicherungen","Erweiterbar",null,null,"Integrieren in Gebäudeleitsystem","Temperaturmessung","Zertifizierung (z.B. MID, keine)","Portal",null,"Ladespannung DC (z.B. 400/800V)",null,null,"SPD DC Typ 1+2"]
[10,null,"Netzparameter","Netzparameter","Lichtbogenerkennung","Nicht erweiterbar",null,null,"Rückmeldekontakte SPD",null,"Protokolle","Protokolle",null,"Display",null,null,"Gewicht"]
[11,null,"Portal","Portal",null,"Kaskadierbar",null,null,null,null,"Kompatibilität","Kompatibilität",null,"Bezahlpanel / Zahlungsmöglichkeit",null,null,"Befestigungsart"]
[12,null,"SPD DC Typ 2","SPD DC Typ 3",null,"Notstromfunktion",null,null,null,null,null,"Schaltmodus (stufenlos, 1-step, 2-step)",null,"Portal"]
[13,null,"SPD DC Typ 1+2","SPD DC Typ 1+3",null,"Zyklenfestigkeit",null,null,null,null,null,"Schaltleistung",null,"Sperrung möglich (mit Karte, Chip, App)"]
[14,null,"SPD AC Typ 2","SPD AC Typ 3",null,null,null,null,null,null,null,null,null,"Ansteuerung PVA möglich"]
[15,null,"SPD AC Typ 1+2","SPD AC Typ 1+3",null,null,null,null,null,null,null,null,null,"Protokoll"]
[16,null,"Option Lichtbogenerkennung","Option Lichtbogenerkennung",null,null,null,null,null,null,null,null,null,"Stufenloses Laden (z.B. nach Überschuss) möglich"]
[17,null,"Option SPD nachrüstbar","Option SPD"]
[18,null,"Option Optimierer (vom gleichen Hersteller)","Gewicht"]
[19,null,"Gewicht","Befestigungsart"]
[20,null,"Befestigungsart"]
[21,null,"mit Strangsicherungen"]
[22,null,"mit Strangüberwachung"]
[23]
[24]
[25]
[26]
[27]
[28]
[29]
[30]
[31]
[32]
[33]
[34]
[35]
[36]
[37]
[38]
[39]
[40]
[41]
[42]
[43]
[44]
[45]
[46]
[47]
[48]
[49]
[50]

{"sheet":"E_Box400","index":15,"n_rows":57,"n_cols":9,"rows_kept":57,"cut":false,"hidden":true,"merged":[]}
["Anwendungsbereich"]
["Strukturebene 1",null,400,400,400,400,400,400,400]
["Struktruebene 2",null,"400",410,420,430,440,450,460]
["Strukturebene 3",null,"400","411-419","421-429","431-435","441-442","451-453","461-463"]
[]
[null,null,"E400_DC_Installation","E400_Solarleitungen","E400_Solarstecker","E400_DC_Kabelschutz","E400_DC_Verbrauchsmaterial","E400_DC_POT_Ausgleich","E400_Anschluss_best_Blitzschutz"]
["Nr."]
[1,null,"1500V geprüft","1500V geprüft","Originalstecker vom Hersteller (gemäss NIN)","Montage auf Steine","UV-beständig","Materialeigenschaften (Aluminium, Kupfer, Chromstahl)","Materialeigenschaften (Aluminium, Kupfer, Chromstahl)"]
[2,null,"gemäss Norm …","gemäss Norm …","1500V geprüft","Montage an Wand","Langlebig","Rostfrei","Vermaschungsweite"]
[3,null,"Querschnitt","Querschnitt","gemäss Norm …","Montage an Decke","Halogenfrei","V2A"]
[4,null,"UV-beständig","UV-beständig",null,"ohne Deckel",null,"V4A"]
[5,null,"Originalstecker vom Hersteller (gemäss NIN)","Mantel",null,"mit Deckel",null,"Halogenfrei"]
[6,null,"halogenfrei",null,null,"Weitspannkanal",null,"Gelb-Grün"]
[7,null,"Langlebig",null,null,"Blau-Verzinkt",null,"Litze"]
[8,null,"Rostfrei (mind. V2A, Aluminium) Kanäle",null,null,"Feuerverzinkt",null,"Kabel"]
[9,null,"Rostfrei V4A Kanäle",null,null,"Rostfrei (mind. V2A, Aluminium)",null,"6mm2"]
[10,null,"Feuerverzinkt Kanäle",null,null,"Rostfrei V4A",null,"10mm2"]
[11,null,"Blau-Verzinkte Kanäle",null,null,"UV-beständig",null,"16mm2"]
[12,null,"Kanäle gelocht",null,null,"M20",null,"25mm2"]
[13,null,"Kanäle geschlossen",null,null,"M25",null,"35mm2"]
[14,null,"Brandschutzklasse",null,null,"M32",null,"50mm2"]
[15,null,null,null,null,"M40",null,"Runddraht"]
[16,null,null,null,null,"M50",null,"Band"]
[17,null,null,null,null,"M63",null,"8mm Durchmesser"]
[18,null,null,null,null,"Kanal gelocht",null,"10mm Durchmesser"]
[19,null,null,null,null,"Kanal geschlossen",null,"Abmessung lxb"]
[20,null,null,null,null,"halogenfrei",null,"Vor Selbstlockerung geschützt"]
[21,null,null,null,null,"Breite Kanal"]
[22,null,null,null,null,"Höhe Kanal"]
[23,null,null,null,null,"Farbe"]
[24,null,null,null,null,"Durchmesser Rohr/Schlauch"]
[25,null,null,null,null,"Kupfer"]
[26,null,null,null,null,"Aluminium"]
[27,null,null,null,null,"Brandschutzklasse"]
[28,null,null,null,null,"Mantelung"]
[29,null,null,null,null,"Flexschlauch 2-teilig"]
[30]
[31]
[32]
[33]
[34]
[35]
[36]
[37]
[38]
[39]
[40]
[41]
[42]
[43]
[44]
[45]
[46]
[47]
[48]
[49]
[50]

{"sheet":"E_Box500","index":16,"n_rows":57,"n_cols":19,"rows_kept":57,"cut":false,"hidden":true,"merged":[]}
["Anwendungsbereich"]
["Strukturebene 1",null,500,500,500,500,500,500,500,500,500,500,500,500,500,500,500,500,500]
["Struktruebene 2",null,510,520,520,520,520,520,520,520,530,540,550,550,550,550,550,550,560]
["Strukturebene 3",null,"511-512",521,522,523,524,525,526,527,"531-535","541-543",551,552,553,554,555,556,561]
[]
[null,null,"E500_AC_Leitungen","E500_AC_Schalter","E500_NS_SGK","E500_AC_Absicherung","E500_NS_NA_Schutz","E500_AC_SPD","E500_AC_Zähler","E500_Stromwandler","E500_AC_Kabelführung","E500_AC_POT_Ausgleich","E500_MS_Trafo","E500_MS_Containerstation","E500_MS_Leitungen","E500_MS_Schaltanlage","E500_MS_NA_Schutz","E500_MS_SPD","E500_ZEV_Zähler"]
["Nr."]
[1,null,"Querschnitt","Kurzschlussstromfestigkeit","mit Hauptschalter","NHS","Leistung","Spannung","geeichte Zähler (MID-zertifiziert)","Wandlerverhältnis","Montage auf Steine","Rostfrei","Typ","Typ","Halogenfrei","Leistungsschutzschalter","Leistung","Spannung","Geeichte Zähler (MID-zertifiziert)"]
[2,null,"Aderanzahl","Strombelastbarkeit","Anzahl Leitungsschutzschalter mit Nennbelastbarkeit","Leistungsschutzschalter","Norm (z.B. nach VDE-AR-N 4105)","Typ 1 (Grobschutz)","ungeeicht Zähler","geeicht","Montage an Wand","V2A","Leistung in kVA","Leistung in kVA","Litze","Lasttrenner","Norm (z.B. nach VDE-AR-N 4105)","Typ 1 (Grobschutz)","SmartMeter ungeeicht"]
[3,null,"TT- Kabel","IP-Schutz","Überspannungsschutz Typ","Lasttrenner","Extern","Typ 2 (Mittelschutz)","Direktmessung","nicht geeicht","Montage an Decke","V4A","Isolierung","IP-Schutz","Kabel","Neutralleiter-Trenner","Extern","Typ 2 (Mittelschutz)","Direktmessung"]
[4,null,"Pur- Kabel","Befestigungsart","Anzahl Steckdosen mit FI Schutz","Neutralleiter-Trenner","In WR integriert","Typ 3 (Sfeinschutz)","Wandlermessung","Einbauart (Klappwandler, Festwandler)","ohne Deckel","Halogenfrei","OS-Spannung in kV",null,"Farbe","Leistungsschalter","In WR integriert","Typ 3 (Sfeinschutz)","Wandlermessung"]
[5,null,"UV- Beständig","Aufstellungsort","IP- Schutzklasse","Schmelzsicherung","Nennleistung","Einbauart (z.B. auf DIN-Schiene)","Wandlerverhältnis",null,"mit Deckel","Gelb-Grün","US-Spannung in V",null,"Isolationsfestigkeit","Selektivität","Nennleistung","Einbauart (z.B. auf DIN-Schiene)","Wandlerverhältnis"]
[6,null,"Hydrophob","Einbau in Verteilung möglich","Platz für Datenlogger","Geräteschutzsicherung","Lastschaltvermögen","mit Vorsicherung","max. Messtrom",null,"Weitspannkanal","Litze","Schaltgruppe",null,"Installationsort (Tiefbau, Hausinstallation, etc.)","Spannung in V","Lastschaltvermögen",null,"max. Messtrom"]
[7,null,"Verlegeart","Nennstrom in A","mit oder ohne NA- Schutz","Motorschutzschalter","Schütze","ohne Vorsicherung","Genauigkeit",null,"Blau-Verzinkt","Kabel","Kurzschlussspannung Uk in %",null,"1LNPE","Lastschaltvermögen in A","Schütze",null,"Genauigkeit"]
[8,null,"Kupfer","Schaltvermögen in A","Anzahl Zähler privat  (Spezifikation max. Strom, mit oder ohne Wandler, geeicht)","Motorschutzrelais","Motorschutzschalter",null,"Portal",null,"Feuerverzinkt","6mm2","Schirmfolie zwischen OS/US",null,"3LNPE","Kurzschlussstrom in A","Motorschutzschalter",null,"Durchfluss"]
[9,null,"Aluminium","Überwachung","Anzahl Zähler VNB (Spezifikation max. Strom, mit oder ohne Wandler)","Leistungsschalter","Leistungsschalter",null,"Schnittstellen",null,"Rostfrei (mind. V2A, Aluminium)","10mm2","Leerlaufverluste",null,"3LPEN","Nennstrom in A","Leistungsschalter",null,"Kommunikationsprotokoll Modbus"]
[10,null,"Halogenfrei","Fernsteuerung","Kurzschlussfestigkeit","Redundanz","Lasttrenner",null,"Protokoll",null,"Rostfrei V4A","16mm2","Lastverluste",null,"1.5mm2",null,"Lasttrenner",null,"Kommunikationsprotokoll M-Bus"]
[11,null,"Litze","Abschliessbar","Aufstellungsort","Selektivität","Kurzschlussleistung",null,null,null,"UV-beständig","25mm2","Integrierter Trafoschutz",null,"2.5mm2",null,"Kurzschlussleistung",null,"Kommunikationsprotokoll KNX"]
[12,null,"Kabel","Berührunssicher","IP-Schutz","Spannung in V","Kurzschlussstrom",null,null,null,"M20","35mm2","Fahrrollen",null,"4mm2",null,"Kurzschlussstrom",null,"Portal"]
[13,null,"Farbe","Spannungsbereich in V","Lüftung","Lastschaltvermögen in A","Spannungsüberwachungsrelais",null,null,null,"M25","50mm2","Steckanschlüsse auf OS-Seite",null,"6mm2",null,"Spannungsüberwachungsrelais",null,"Schnittstellen"]
[14,null,"Isolationsfestigkeit","3-polig schaltbar","Heizung","Kurzschlussstrom in A","Ein Kuppelschalter",null,null,null,"M32","Runddraht","Anschlussfahnen auf US-Seite",null,"10mm2",null,"Ein Kuppelschalter"]
[15,null,"Installationsort (Tiefbau, Hausinstallation, etc.)","4-polig schaltbar","Temp.-Fühler","Nennstrom in A","Zwei Kuppelschalter",null,null,null,"M40","Band","Max. Aufstellhöhe (m.ü.M.)",null,"16mm2",null,"Zwei Kuppelschalter"]
[16,null,"1LNPE","Farbe","Anzahl Eingänge",null,"Max. Spannung",null,null,null,"M50","8mm Durchmesser","Aufstellung (Innen/Aussen)",null,"25mm2",null,"Max. Spannung"]
[17,null,"3LNPE",null,"Anzahl Abgänge",null,"mit oder ohne Schaltkontakrückmeldung",null,null,null,"M63","10mm Durchmesser","Leergewicht",null,"35mm2"]
[18,null,"3LPEN",null,"Max. Anschluss in A je Eingang",null,null,null,null,null,"Kanal gelocht","Abmessung lxb","Gewicht installiert",null,"50mm2"]
[19,null,"1.5mm2",null,"Max. Anschluss in A je Abgang",null,null,null,null,null,"Kanal geschlossen","Vor Selbstlockerung geschützt","Farbe",null,"70mm2"]
[20,null,"2.5mm2",null,"Messfeld Produktionsmessung",null,null,null,null,null,"halogenfrei","Kupfer","Berührungssicher",null,"95mm2"]
[21,null,"4mm2",null,"Wandlermessung",null,null,null,null,null,"Breite Kanal","Aluminium",null,null,"120mm2"]
[22,null,"6mm2",null,"Platz für Datenlogger",null,null,null,null,null,"Höhe Kanal",null,null,null,"150mm2"]
[23,null,"10mm2",null,"Sicherungsart (NHS/LS)",null,null,null,null,null,"Farbe",null,null,null,"185mm2"]
[24,null,"16mm2",null,"NA-Schutz",null,null,null,null,null,"Durchmesser Rohr/Schlauch",null,null,null,"240mm2"]
[25,null,"25mm2",null,"SDP AC",null,null,null,null,null,"Kupfer",null,null,null,"300mm2"]
[26,null,"35mm2",null,null,null,null,null,null,null,"Aluminium",null,null,null,"400mm2"]
[27,null,"50mm2",null,null,null,null,null,null,null,"Brandschutzklasse",null,null,null,"500mm2"]
[28,null,"70mm2",null,null,null,null,null,null,null,"Mantelung",null,null,null,"Max. Spannung geprüft"]
[29,null,"95mm2"]
[30,null,"120mm2"]
[31,null,"150mm2"]
[32,null,"185mm2"]
[33,null,"240mm2"]
[34,null,"300mm2"]
[35,null,"400mm2"]
[36,null,"500mm2"]
[37,null,"Max. Spannung geprüft"]
[38]
[39]
[40]
[41]
[42]
[43]
[44]
[45]
[46]
[47]
[48]
[49]
[50]

{"sheet":"E_Box600","index":17,"n_rows":57,"n_cols":3,"rows_kept":57,"cut":false,"hidden":true,"merged":[]}
["Anwendungsbereich"]
["Strukturebene 1",null,"600"]
["Struktruebene 2",null,"630"]
["Strukturebene 3",null,"631-636"]
[]
[null,null,"E600_PermanenteArbeitssicherheit"]
["Nr."]
[1,null,"Zertfizierung"]
[2,null,"UV-beständig"]
[3,null,"SUVA-konform"]
[4]
[5]
[6]
[7]
[8]
[9]
[10]
[11]
[12]
[13]
[14]
[15]
[16]
[17]
[18]
[19]
[20]
[21]
[22]
[23]
[24]
[25]
[26]
[27]
[28]
[29]
[30]
[31]
[32]
[33]
[34]
[35]
[36]
[37]
[38]
[39]
[40]
[41]
[42]
[43]
[44]
[45]
[46]
[47]
[48]
[49]
[50]

{"sheet":"E_Box700","index":18,"n_rows":57,"n_cols":12,"rows_kept":57,"cut":false,"hidden":true,"merged":[]}
["Anwendungsbereich"]
["Strukturebene 1",null,700,700,700,700,700,700,700,700,700,700]
["Struktruebene 2",null,710,720,720,730,740,750,750,750,760,770]
["Strukturebene 3",null,"711-713","721-722","725-727",734,746,752,753,754,"761-766",773]
[]
[null,null,"E700_Bleche","E700_Ziegel","E700_Holz","E700_Schutzschichten","E700_Kernbohrung","E700_Blitzschutz_Steildach ","E700_Blitzschutz_Flachdach","E700_Blitzschutz_Fassade","E700_Metallarbeiten","E700_Abdichtungen"]
["Nr."]
[1,null,"CU","Typ Jura","Länge","Stärke (mm )","Durchmesser <20 mm","Kupfer","Kupfer","Kupfer","CU","Raumringdichtung"]
[2,null,"Alu blank","Typ Biberschwanz","Breite","Druckbelastung (g/m2)","Druchmesser >20mm < 200mm","Kupfer verzinnt","Kupfer verzinnt","Kupfer verzinnt","Alu blank","Flüssigkunststoff"]
[3,null,"Alu eloxiert","Typ Tegalit","Stärke",null,"Druchmesser >200mm","Aluminium","Aluminium","Aluminium","Alu eloxiert","Silikon"]
[4,null,"Alu pulverbeschichtet","Farbton","Holzfeuchte",null,null,"Raster 10 m","Raster 10 m","Raster 10 m","Alu pulverbeschichtet","Andere"]
[5,null,"Stahl",null,"Qulaität",null,null,"Raster 15 m","Raster 15 m","Raster 15 m","Stahl","Durchmesser"]
[6,null,"Stahl verzinkt",null,"Holzart",null,null,"Raster 20 m","Raster 20 m","Raster 20 m","Stahl verzinkt","Wandstärke"]
[7,null,"Stahl feuerverzinkt",null,"FSC",null,null,null,"Fangstangen",null,"Stahl feuerverzinkt","Material Wand"]
[8,null,"Stahl rostfrei",null,null,null,null,null,null,null,"Stahl rostfrei"]
[9,null,"Stahl lackiert",null,null,null,null,null,null,null,"Stahl lackiert"]
[10,null,"Farbton",null,null,null,null,null,null,null,"Farbton"]
[11]
[12]
[13]
[14]
[15]
[16]
[17]
[18]
[19]
[20]
[21]
[22]
[23]
[24]
[25]
[26]
[27]
[28]
[29]
[30]
[31]
[32]
[33]
[34]
[35]
[36]
[37]
[38]
[39]
[40]
[41]
[42]
[43]
[44]
[45]
[46]
[47]
[48]
[49]
[50]

{"sheet":"E_Box800","index":19,"n_rows":57,"n_cols":3,"rows_kept":57,"cut":false,"hidden":true,"merged":[]}
["Anwendungsbereich"]
["Strukturebene 1",null,800]
["Struktruebene 2",null,810]
["Strukturebene 3",null,811]
[]
[null,null,"E800_Wartungsvertrag"]
["Nr."]
[1,null,"Jährliche Ertragszusammenstellung"]
[2,null,"Jährliche Anlagenkontrolle"]
[3,null,"Ertragszusammenstellung"]
[4,null,"Monitoring"]
[5,null,"Reporting"]
[6,null,"Störungsmanagment"]
[7,null,"Intervall (z.B. täglich, wöchentlich, monatlich, jährlich, alle X Jahre)"]
[8,null,"Instandhaltung"]
[9,null,"Anlagencheck (inkl. Messungen)"]
[10,null,"I/U Messung"]
[11,null,"Isolationsmessung"]
[12,null,"Kennlinienmessung"]
[13,null,"Performancemessung"]
[14,null,"Sichtkontrolle"]
[15,null,"Sichtkontrolle mit Drohne"]
[16,null,"Sichtkontrolle ABS-Einrichtung"]
[17,null,"Lüfterprüfung WR"]
[18,null,"Modulkontrolle mit Wärmebild-Cam"]
[19,null,"Reinigung Solargenerator"]
[20]
[21]
[22]
[23]
[24]
[25]
[26]
[27]
[28]
[29]
[30]
[31]
[32]
[33]
[34]
[35]
[36]
[37]
[38]
[39]
[40]
[41]
[42]
[43]
[44]
[45]
[46]
[47]
[48]
[49]
[50]

{"sheet":"Gesamtverzeichnis","index":20,"n_rows":797,"n_cols":11,"rows_kept":797,"cut":false,"hidden":true,"merged":[]}
[1]
[1,null,"Leistungsverzeichniss"]
[1,null,{"$f":"\"nach SOQ-Offertstruktur \"&Anleitung!A12","v":"nach SOQ-Offertstruktur Version 1.3.1 - Mac"}]
[1]
[1,null,"SOQ-Position",null,null,null,"Beschreibung","Einheit","Menge","Einheitspreis","Betrag"]
[1]
[1,null,"000.000",null,null,null,"Bedingungen"]
[1]
[{"$f":"'000 Bedingungen'!B6","v":1},null,{"$f":"'000 Bedingungen'!C6","v":"010.000"},null,null,null,{"$f":"'000 Bedingungen'!G6","v":"Allgemeine Bedingungen"},{"$f":"'000 Bedingungen'!H6","v":0}]
[{"$f":"'000 Bedingungen'!B7","v":1},null,{"$f":"'000 Bedingungen'!C7","v":"011.000"},null,null,null,{"$f":"'000 Bedingungen'!G7","v":"Begriffe, Abkürzungen"},{"$f":"'000 Bedingungen'!H7","v":0}]
[{"$f":"'000 Bedingungen'!B8","v":1},null,{"$f":"'000 Bedingungen'!C8","v":"012.000"},null,null,null,{"$f":"'000 Bedingungen'!G8","v":"Normen\nEigenschaften: \nSIA-Regelwerk\nVKF Brandschutzvorschriften\nStand der Technik Papiere\nVSE Branchendokumente\nStand der Technik Papiere\nVSE Branchendokumente"},{"$f":"'000 Bedingungen'!H8","v":0}]
[{"$f":"'000 Bedingungen'!B9","v":1},null,{"$f":"'000 Bedingungen'!C9","v":"013.000"},null,null,null,{"$f":"'000 Bedingungen'!G9","v":"Bewilligungen, Auflagen"},{"$f":"'000 Bedingungen'!H9","v":0}]
[{"$f":"'000 Bedingungen'!B10","v":1},null,null,{"$f":"'000 Bedingungen'!D10","v":"013.100"},null,null,{"$f":"'000 Bedingungen'!G10","v":"Baubewilligung"},{"$f":"'000 Bedingungen'!H10","v":0}]
[{"$f":"'000 Bedingungen'!B11","v":0},null,null,{"$f":"'000 Bedingungen'!D11","v":"013.200"},null,null,{"$f":"'000 Bedingungen'!G11","v":"Behördenauflagen"},{"$f":"'000 Bedingungen'!H11","v":0}]
[{"$f":"'000 Bedingungen'!B12","v":1},null,{"$f":"'000 Bedingungen'!C12","v":0},null,null,null,{"$f":"'000 Bedingungen'!G12","v":0},{"$f":"'000 Bedingungen'!H12","v":0}]
[{"$f":"'000 Bedingungen'!B13","v":1},null,{"$f":"'000 Bedingungen'!C13","v":"020.000"},null,null,null,{"$f":"'000 Bedingungen'!G13","v":"Organisation"},{"$f":"'000 Bedingungen'!H13","v":0}]
[{"$f":"'000 Bedingungen'!B14","v":1},null,{"$f":"'000 Bedingungen'!C14","v":"021.000"},null,null,null,{"$f":"'000 Bedingungen'!G14","v":"Bauherrschaft"},{"$f":"'000 Bedingungen'!H14","v":0}]
[{"$f":"'000 Bedingungen'!B15","v":1},null,{"$f":"'000 Bedingungen'!C15","v":"022.000"},null,null,null,{"$f":"'000 Bedingungen'!G15","v":"Architektur"},{"$f":"'000 Bedingungen'!H15","v":0}]
[{"$f":"'000 Bedingungen'!B16","v":1},null,{"$f":"'000 Bedingungen'!C16","v":"023.000"},null,null,null,{"$f":"'000 Bedingungen'!G16","v":"Bauleitung"},{"$f":"'000 Bedingungen'!H16","v":0}]
[{"$f":"'000 Bedingungen'!B17","v":1},null,{"$f":"'000 Bedingungen'!C17","v":"024.000"},null,null,null,{"$f":"'000 Bedingungen'!G17","v":"PV-Planer"},{"$f":"'000 Bedingungen'!H17","v":0}]
[{"$f":"'000 Bedingungen'!B18","v":1},null,{"$f":"'000 Bedingungen'!C18","v":"025.000"},null,null,null,{"$f":"'000 Bedingungen'!G18","v":"Weitere Planer"},{"$f":"'000 Bedingungen'!H18","v":0}]
[{"$f":"'000 Bedingungen'!B19","v":1},null,null,{"$f":"'000 Bedingungen'!D19","v":"025.100"},null,null,{"$f":"'000 Bedingungen'!G19","v":"Elektroplaner"},{"$f":"'000 Bedingungen'!H19","v":0}]
[{"$f":"'000 Bedingungen'!B20","v":0},null,null,{"$f":"'000 Bedingungen'!D20","v":"025.200"},null,null,{"$f":"'000 Bedingungen'!G20","v":"Bauingenieur/Gebäudestatiker"},{"$f":"'000 Bedingungen'!H20","v":0}]
[{"$f":"'000 Bedingungen'!B21","v":0},null,null,{"$f":"'000 Bedingungen'!D21","v":"025.300"},null,null,{"$f":"'000 Bedingungen'!G21","v":"HLK Planer"},{"$f":"'000 Bedingungen'!H21","v":0}]
[{"$f":"'000 Bedingungen'!B22","v":0},null,{"$f":"'000 Bedingungen'!C22","v":"026.000"},null,null,null,{"$f":"'000 Bedingungen'!G22","v":"Berater"},{"$f":"'000 Bedingungen'!H22","v":0}]
[{"$f":"'000 Bedingungen'!B23","v":1},null,{"$f":"'000 Bedingungen'!C23","v":0},null,null,null,{"$f":"'000 Bedingungen'!G23","v":0},{"$f":"'000 Bedingungen'!H23","v":0}]
[{"$f":"'000 Bedingungen'!B24","v":1},null,{"$f":"'000 Bedingungen'!C24","v":"030.000"},null,null,null,{"$f":"'000 Bedingungen'!G24","v":"Ausschreibungskriterien"},{"$f":"'000 Bedingungen'!H24","v":0}]
[{"$f":"'000 Bedingungen'!B25","v":1},null,{"$f":"'000 Bedingungen'!C25","v":"031.000"},null,null,null,{"$f":"'000 Bedingungen'!G25","v":"Art Ausschreibungsverfahren"},{"$f":"'000 Bedingungen'!H25","v":0}]
[{"$f":"'000 Bedingungen'!B26","v":0},null,null,{"$f":"'000 Bedingungen'!D26","v":"031.100"},null,null,{"$f":"'000 Bedingungen'!G26","v":"Offenes Verfahren"},{"$f":"'000 Bedingungen'!H26","v":0}]
[{"$f":"'000 Bedingungen'!B27","v":0},null,null,{"$f":"'000 Bedingungen'!D27","v":"031.200"},null,null,{"$f":"'000 Bedingungen'!G27","v":"Selektives Verfahren (zweistufig, mit Präqualifikation)"},{"$f":"'000 Bedingungen'!H27","v":0}]
[{"$f":"'000 Bedingungen'!B28","v":1},null,null,{"$f":"'000 Bedingungen'!D28","v":"031.300"},null,null,{"$f":"'000 Bedingungen'!G28","v":"Einladungsverfahren"},{"$f":"'000 Bedingungen'!H28","v":0}]
[{"$f":"'000 Bedingungen'!B29","v":0},null,null,{"$f":"'000 Bedingungen'!D29","v":"031.400"},null,null,{"$f":"'000 Bedingungen'!G29","v":"Freihändiges Verfahren"},{"$f":"'000 Bedingungen'!H29","v":0}]
[{"$f":"'000 Bedingungen'!B30","v":1},null,{"$f":"'000 Bedingungen'!C30","v":"032.000"},null,null,null,{"$f":"'000 Bedingungen'!G30","v":"Angebot"},{"$f":"'000 Bedingungen'!H30","v":0}]
[{"$f":"'000 Bedingungen'!B31","v":1},null,null,{"$f":"'000 Bedingungen'!D31","v":"032.100"},null,null,{"$f":"'000 Bedingungen'!G31","v":"Angebotsform"},{"$f":"'000 Bedingungen'!H31","v":0}]
[{"$f":"'000 Bedingungen'!B32","v":0},null,null,null,{"$f":"'000 Bedingungen'!E32","v":"032.110"},null,{"$f":"'000 Bedingungen'!G32","v":"Ausmass"},{"$f":"'000 Bedingungen'!H32","v":0}]
[{"$f":"'000 Bedingungen'!B33","v":1},null,null,null,{"$f":"'000 Bedingungen'!E33","v":"032.120"},null,{"$f":"'000 Bedingungen'!G33","v":"Kostendach"},{"$f":"'000 Bedingungen'!H33","v":0}]
[{"$f":"'000 Bedingungen'!B34","v":0},null,null,null,{"$f":"'000 Bedingungen'!E34","v":"032.130"},null,{"$f":"'000 Bedingungen'!G34","v":"Pauschal"},{"$f":"'000 Bedingungen'!H34","v":0}]
[{"$f":"'000 Bedingungen'!B35","v":0},null,null,{"$f":"'000 Bedingungen'!D35","v":"032.200"},null,null,{"$f":"'000 Bedingungen'!G35","v":"Teilangebote"},{"$f":"'000 Bedingungen'!H35","v":0}]
[{"$f":"'000 Bedingungen'!B36","v":1},null,null,{"$f":"'000 Bedingungen'!D36","v":"032.300"},null,null,{"$f":"'000 Bedingungen'!G36","v":"Varianten"},{"$f":"'000 Bedingungen'!H36","v":0}]
[{"$f":"'000 Bedingungen'!B37","v":0},null,null,{"$f":"'000 Bedingungen'!D37","v":"032.400"},null,null,{"$f":"'000 Bedingungen'!G37","v":"Subunternehmer"},{"$f":"'000 Bedingungen'!H37","v":0}]
[{"$f":"'000 Bedingungen'!B38","v":0},null,null,{"$f":"'000 Bedingungen'!D38","v":"032.500"},null,null,{"$f":"'000 Bedingungen'!G38","v":"ARGE"},{"$f":"'000 Bedingungen'!H38","v":0}]
[{"$f":"'000 Bedingungen'!B39","v":0},null,null,{"$f":"'000 Bedingungen'!D39","v":"032.600"},null,null,{"$f":"'000 Bedingungen'!G39","v":"Gültigkeit Angebot"},{"$f":"'000 Bedingungen'!H39","v":0}]
[{"$f":"'000 Bedingungen'!B40","v":1},null,{"$f":"'000 Bedingungen'!C40","v":"033.000"},null,null,null,{"$f":"'000 Bedingungen'!G40","v":"Kriterien, Vorbehalte"},{"$f":"'000 Bedingungen'!H40","v":0}]
[{"$f":"'000 Bedingungen'!B41","v":1},null,null,{"$f":"'000 Bedingungen'!D41","v":"033.100"},null,null,{"$f":"'000 Bedingungen'!G41","v":"Eignungskriterien Unternehmer"},{"$f":"'000 Bedingungen'!H41","v":0}]
[{"$f":"'000 Bedingungen'!B42","v":1},null,null,null,{"$f":"'000 Bedingungen'!E42","v":"033.110"},null,{"$f":"'000 Bedingungen'!G42","v":"ESTI-Bewilligung NIV9 oder NIV 14"},{"$f":"'000 Bedingungen'!H42","v":0}]
[{"$f":"'000 Bedingungen'!B43","v":1},null,null,null,{"$f":"'000 Bedingungen'!E43","v":"033.120"},null,{"$f":"'000 Bedingungen'!G43","v":"Fähigkeitsausweis Solarprofi"},{"$f":"'000 Bedingungen'!H43","v":0}]
[{"$f":"'000 Bedingungen'!B44","v":1},null,null,null,{"$f":"'000 Bedingungen'!E44","v":"033.130"},null,{"$f":"'000 Bedingungen'!G44","v":"Einhaltung / Deklaration GAV"},{"$f":"'000 Bedingungen'!H44","v":0}]
[{"$f":"'000 Bedingungen'!B45","v":1},null,null,null,{"$f":"'000 Bedingungen'!E45","v":"033.140"},null,{"$f":"'000 Bedingungen'!G45","v":"Referenzen"},{"$f":"'000 Bedingungen'!H45","v":0}]
[{"$f":"'000 Bedingungen'!B46","v":0},null,null,null,{"$f":"'000 Bedingungen'!E46","v":"033.150"},null,{"$f":"'000 Bedingungen'!G46","v":"Weitere"},{"$f":"'000 Bedingungen'!H46","v":0}]
[{"$f":"'000 Bedingungen'!B47","v":1},null,null,{"$f":"'000 Bedingungen'!D47","v":"033.200"},null,null,{"$f":"'000 Bedingungen'!G47","v":"Zuschlagskriterien"},{"$f":"'000 Bedingungen'!H47","v":0}]
[{"$f":"'000 Bedingungen'!B48","v":1},null,null,null,{"$f":"'000 Bedingungen'!E48","v":"033.210"},null,{"$f":"'000 Bedingungen'!G48","v":"Preis / PV- Leistung"},{"$f":"'000 Bedingungen'!H48","v":0}]
[{"$f":"'000 Bedingungen'!B49","v":0},null,null,null,{"$f":"'000 Bedingungen'!E49","v":"033.220"},null,{"$f":"'000 Bedingungen'!G49","v":"Leistung"},{"$f":"'000 Bedingungen'!H49","v":0}]
[{"$f":"'000 Bedingungen'!B50","v":1},null,null,null,{"$f":"'000 Bedingungen'!E50","v":"033.230"},null,{"$f":"'000 Bedingungen'!G50","v":"Qualität"},{"$f":"'000 Bedingungen'!H50","v":0}]
[{"$f":"'000 Bedingungen'!B51","v":1},null,null,null,{"$f":"'000 Bedingungen'!E51","v":"033.240"},null,{"$f":"'000 Bedingungen'!G51","v":"Anlagenkonzept"},{"$f":"'000 Bedingungen'!H51","v":0}]
[{"$f":"'000 Bedingungen'!B52","v":0},null,null,null,{"$f":"'000 Bedingungen'!E52","v":"033.250"},null,{"$f":"'000 Bedingungen'!G52","v":"Unterhalts- und Serviceleistungen"},{"$f":"'000 Bedingungen'!H52","v":0}]
[{"$f":"'000 Bedingungen'!B53","v":0},null,null,null,{"$f":"'000 Bedingungen'!E53","v":"033.260"},null,{"$f":"'000 Bedingungen'!G53","v":"Referenzen"},{"$f":"'000 Bedingungen'!H53","v":0}]
[{"$f":"'000 Bedingungen'!B54","v":0},null,null,null,{"$f":"'000 Bedingungen'!E54","v":"033.270"},null,{"$f":"'000 Bedingungen'!G54","v":"Unternehmen"},{"$f":"'000 Bedingungen'!H54","v":0}]
[{"$f":"'000 Bedingungen'!B55","v":0},null,null,null,{"$f":"'000 Bedingungen'!E55","v":"033.280"},null,{"$f":"'000 Bedingungen'!G55","v":"Weitere"},{"$f":"'000 Bedingungen'!H55","v":0}]
[{"$f":"'000 Bedingungen'!B56","v":1},null,null,{"$f":"'000 Bedingungen'!D56","v":"033.300"},null,null,{"$f":"'000 Bedingungen'!G56","v":"Ausschlusskriterien"},{"$f":"'000 Bedingungen'!H56","v":0}]
[{"$f":"'000 Bedingungen'!B57","v":1},null,null,null,{"$f":"'000 Bedingungen'!E57","v":"033.310"},null,{"$f":"'000 Bedingungen'!G57","v":"Unvollständiges Leistungsverzeichnis"},{"$f":"'000 Bedingungen'!H57","v":0}]
[{"$f":"'000 Bedingungen'!B58","v":1},null,null,null,{"$f":"'000 Bedingungen'!E58","v":"033.320"},null,{"$f":"'000 Bedingungen'!G58","v":"Unvollständige Unternehmerangaben"},{"$f":"'000 Bedingungen'!H58","v":0}]
[{"$f":"'000 Bedingungen'!B59","v":1},null,null,null,{"$f":"'000 Bedingungen'!E59","v":"033.330"},null,{"$f":"'000 Bedingungen'!G59","v":"Unvollständige Referenzangaben"},{"$f":"'000 Bedingungen'!H59","v":0}]
[{"$f":"'000 Bedingungen'!B60","v":0},null,null,null,{"$f":"'000 Bedingungen'!E60","v":"033.340"},null,{"$f":"'000 Bedingungen'!G60","v":"Realisierbarkeit und Termineinhaltung"},{"$f":"'000 Bedingungen'!H60","v":0}]
[{"$f":"'000 Bedingungen'!B61","v":0},null,null,null,{"$f":"'000 Bedingungen'!E61","v":"033.350"},null,{"$f":"'000 Bedingungen'!G61","v":"Weitere"},{"$f":"'000 Bedingungen'!H61","v":0}]
[{"$f":"'000 Bedingungen'!B62","v":1},null,null,{"$f":"'000 Bedingungen'!D62","v":"033.400"},null,null,{"$f":"'000 Bedingungen'!G62","v":"Verhandlungen"},{"$f":"'000 Bedingungen'!H62","v":0}]
[{"$f":"'000 Bedingungen'!B63","v":1},null,null,null,{"$f":"'000 Bedingungen'!E63","v":"033.410"},null,{"$f":"'000 Bedingungen'!G63","v":"Abgebote"},{"$f":"'000 Bedingungen'!H63","v":0}]
[{"$f":"'000 Bedingungen'!B64","v":1},null,{"$f":"'000 Bedingungen'!C64","v":"034.000"},null,null,null,{"$f":"'000 Bedingungen'!G64","v":"Ausschreibungtermine, Fristen"},{"$f":"'000 Bedingungen'!H64","v":0}]
[{"$f":"'000 Bedingungen'!B65","v":0},null,null,{"$f":"'000 Bedingungen'!D65","v":"034.100"},null,null,{"$f":"'000 Bedingungen'!G65","v":"Bezug Unterlagen"},{"$f":"'000 Bedingungen'!H65","v":0}]
[{"$f":"'000 Bedingungen'!B66","v":1},null,null,{"$f":"'000 Bedingungen'!D66","v":"034.200"},null,null,{"$f":"'000 Bedingungen'!G66","v":"Begehung"},{"$f":"'000 Bedingungen'!H66","v":0}]
[{"$f":"'000 Bedingungen'!B67","v":1},null,null,{"$f":"'000 Bedingungen'!D67","v":"034.300"},null,null,{"$f":"'000 Bedingungen'!G67","v":"Fragestellungen, Frage Beantwortung"},{"$f":"'000 Bedingungen'!H67","v":0}]
[{"$f":"'000 Bedingungen'!B68","v":1},null,null,{"$f":"'000 Bedingungen'!D68","v":"034.400"},null,null,{"$f":"'000 Bedingungen'!G68","v":"Einreichen Angebot"},{"$f":"'000 Bedingungen'!H68","v":0}]
[{"$f":"'000 Bedingungen'!B69","v":0},null,null,{"$f":"'000 Bedingungen'!D69","v":"034.500"},null,null,{"$f":"'000 Bedingungen'!G69","v":"Angebotsöffnung, Vergabspiegel"},{"$f":"'000 Bedingungen'!H69","v":0}]
[{"$f":"'000 Bedingungen'!B70","v":0},null,null,{"$f":"'000 Bedingungen'!D70","v":"034.600"},null,null,{"$f":"'000 Bedingungen'!G70","v":"Vergabe"},{"$f":"'000 Bedingungen'!H70","v":0}]
[{"$f":"'000 Bedingungen'!B71","v":1},null,{"$f":"'000 Bedingungen'!C71","v":"035.000"},null,null,null,{"$f":"'000 Bedingungen'!G71","v":"Ausschreibungsunterlagen"},{"$f":"'000 Bedingungen'!H71","v":0}]
[{"$f":"'000 Bedingungen'!B72","v":1},null,null,{"$f":"'000 Bedingungen'!D72","v":"035.100"},null,null,{"$f":"'000 Bedingungen'!G72","v":"Allgemeine Bedingungen"},{"$f":"'000 Bedingungen'!H72","v":0}]
[{"$f":"'000 Bedingungen'!B73","v":1},null,null,{"$f":"'000 Bedingungen'!D73","v":"035.200"},null,null,{"$f":"'000 Bedingungen'!G73","v":"Pläne"},{"$f":"'000 Bedingungen'!H73","v":0}]
[{"$f":"'000 Bedingungen'!B74","v":1},null,null,null,{"$f":"'000 Bedingungen'!E74","v":"035.210"},null,{"$f":"'000 Bedingungen'!G74","v":"Situationsplan"},{"$f":"'000 Bedingungen'!H74","v":0}]
[{"$f":"'000 Bedingungen'!B75","v":0},null,null,null,{"$f":"'000 Bedingungen'!E75","v":"035.220"},null,{"$f":"'000 Bedingungen'!G75","v":"Situationsplan, vermasst"},{"$f":"'000 Bedingungen'!H75","v":0}]
[{"$f":"'000 Bedingungen'!B76","v":1},null,null,null,{"$f":"'000 Bedingungen'!E76","v":"035.230"},null,{"$f":"'000 Bedingungen'!G76","v":"Dachaufsicht"},{"$f":"'000 Bedingungen'!H76","v":0}]
[{"$f":"'000 Bedingungen'!B77","v":0},null,null,null,{"$f":"'000 Bedingungen'!E77","v":"035.240"},null,{"$f":"'000 Bedingungen'!G77","v":"Dachaufsicht, vermasst"},{"$f":"'000 Bedingungen'!H77","v":0}]
[{"$f":"'000 Bedingungen'!B78","v":1},null,null,null,{"$f":"'000 Bedingungen'!E78","v":"035.250"},null,{"$f":"'000 Bedingungen'!G78","v":"Gebäudeschnitt"},{"$f":"'000 Bedingungen'!H78","v":0}]
[{"$f":"'000 Bedingungen'!B79","v":0},null,null,null,{"$f":"'000 Bedingungen'!E79","v":"035.260"},null,{"$f":"'000 Bedingungen'!G79","v":"Gebäudeschnitt, vermasst"},{"$f":"'000 Bedingungen'!H79","v":0}]
[{"$f":"'000 Bedingungen'!B80","v":1},null,null,{"$f":"'000 Bedingungen'!D80","v":"035.300"},null,null,{"$f":"'000 Bedingungen'!G80","v":"Prinzipschema"},{"$f":"'000 Bedingungen'!H80","v":0}]
[{"$f":"'000 Bedingungen'!B81","v":1},null,null,{"$f":"'000 Bedingungen'!D81","v":"035.400"},null,null,{"$f":"'000 Bedingungen'!G81","v":"Fotodokumentation"},{"$f":"'000 Bedingungen'!H81","v":0}]
[{"$f":"'000 Bedingungen'!B82","v":1},null,{"$f":"'000 Bedingungen'!C82","v":"036.000"},null,null,null,{"$f":"'000 Bedingungen'!G82","v":"Eingabeunterlagen"},{"$f":"'000 Bedingungen'!H82","v":0}]
[{"$f":"'000 Bedingungen'!B83","v":1},null,null,{"$f":"'000 Bedingungen'!D83","v":"036.100"},null,null,{"$f":"'000 Bedingungen'!G83","v":"Pläne"},{"$f":"'000 Bedingungen'!H83","v":0}]
[{"$f":"'000 Bedingungen'!B84","v":0},null,null,null,{"$f":"'000 Bedingungen'!E84","v":"036.110"},null,{"$f":"'000 Bedingungen'!G84","v":"Anlagenlayout"},{"$f":"'000 Bedingungen'!H84","v":0}]
[{"$f":"'000 Bedingungen'!B85","v":0},null,null,null,{"$f":"'000 Bedingungen'!E85","v":"036.120"},null,{"$f":"'000 Bedingungen'!G85","v":"Schnitt Modulfeld"},{"$f":"'000 Bedingungen'!H85","v":0}]
[{"$f":"'000 Bedingungen'!B86","v":0},null,null,null,{"$f":"'000 Bedingungen'!E86","v":"036.130"},null,{"$f":"'000 Bedingungen'!G86","v":"Weitere"},{"$f":"'000 Bedingungen'!H86","v":0}]
[{"$f":"'000 Bedingungen'!B87","v":1},null,null,{"$f":"'000 Bedingungen'!D87","v":"036.200"},null,null,{"$f":"'000 Bedingungen'!G87","v":"technische Dokumentation"},{"$f":"'000 Bedingungen'!H87","v":0}]
[{"$f":"'000 Bedingungen'!B88","v":0},null,null,null,{"$f":"'000 Bedingungen'!E88","v":"036.210"},null,{"$f":"'000 Bedingungen'!G88","v":"Prinzipschema"},{"$f":"'000 Bedingungen'!H88","v":0}]
[{"$f":"'000 Bedingungen'!B89","v":0},null,null,null,{"$f":"'000 Bedingungen'!E89","v":"036.220"},null,{"$f":"'000 Bedingungen'!G89","v":"Datenblätter Komponenten"},{"$f":"'000 Bedingungen'!H89","v":0}]
[{"$f":"'000 Bedingungen'!B90","v":0},null,null,null,{"$f":"'000 Bedingungen'!E90","v":"036.230"},null,{"$f":"'000 Bedingungen'!G90","v":"Weitere"},{"$f":"'000 Bedingungen'!H90","v":0}]
[{"$f":"'000 Bedingungen'!B91","v":0},null,null,{"$f":"'000 Bedingungen'!D91","v":"036.300"},null,null,{"$f":"'000 Bedingungen'!G91","v":"Arbeitssicherheitskonzept"},{"$f":"'000 Bedingungen'!H91","v":0}]
[{"$f":"'000 Bedingungen'!B92","v":1},null,null,{"$f":"'000 Bedingungen'!D92","v":"036.400"},null,null,{"$f":"'000 Bedingungen'!G92","v":"Unternehmerangaben"},{"$f":"'000 Bedingungen'!H92","v":0}]
[{"$f":"'000 Bedingungen'!B93","v":0},null,null,null,{"$f":"'000 Bedingungen'!E93","v":"036.410"},null,{"$f":"'000 Bedingungen'!G93","v":"Angaben zu den Eingungskriterien"},{"$f":"'000 Bedingungen'!H93","v":0}]
[{"$f":"'000 Bedingungen'!B94","v":0},null,null,null,{"$f":"'000 Bedingungen'!E94","v":"036.420"},null,{"$f":"'000 Bedingungen'!G94","v":"GAV- Bestätigung"},{"$f":"'000 Bedingungen'!H94","v":0}]
[{"$f":"'000 Bedingungen'!B95","v":0},null,null,null,{"$f":"'000 Bedingungen'!E95","v":"036.430"},null,{"$f":"'000 Bedingungen'!G95","v":"Bestätigung der Haftpflichtversicherung"},{"$f":"'000 Bedingungen'!H95","v":0}]
[{"$f":"'000 Bedingungen'!B96","v":0},null,null,null,{"$f":"'000 Bedingungen'!E96","v":"036.440"},null,{"$f":"'000 Bedingungen'!G96","v":"Weitere"},{"$f":"'000 Bedingungen'!H96","v":0}]
[{"$f":"'000 Bedingungen'!B97","v":1},null,null,{"$f":"'000 Bedingungen'!D97","v":"036.500"},null,null,{"$f":"'000 Bedingungen'!G97","v":"Servicevertrag"},{"$f":"'000 Bedingungen'!H97","v":0}]
[{"$f":"'000 Bedingungen'!B98","v":1},null,{"$f":"'000 Bedingungen'!C98","v":"037.000"},null,null,null,{"$f":"'000 Bedingungen'!G98","v":"Sicherheitsleistungen"},{"$f":"'000 Bedingungen'!H98","v":0}]
[{"$f":"'000 Bedingungen'!B99","v":1},null,null,{"$f":"'000 Bedingungen'!D99","v":"037.100"},null,null,{"$f":"'000 Bedingungen'!G99","v":"Erfüllungsgarantie"},{"$f":"'000 Bedingungen'!H99","v":0}]
[{"$f":"'000 Bedingungen'!B100","v":0},null,null,{"$f":"'000 Bedingungen'!D100","v":"037.200"},null,null,{"$f":"'000 Bedingungen'!G100","v":"Anzahlungsgarantie"},{"$f":"'000 Bedingungen'!H100","v":0}]
[{"$f":"'000 Bedingungen'!B101","v":0},null,null,{"$f":"'000 Bedingungen'!D101","v":"037.300"},null,null,{"$f":"'000 Bedingungen'!G101","v":"Gewährleistungsgarantie"},{"$f":"'000 Bedingungen'!H101","v":0}]
[{"$f":"'000 Bedingungen'!B102","v":0},null,null,{"$f":"'000 Bedingungen'!D102","v":"037.400"},null,null,{"$f":"'000 Bedingungen'!G102","v":"Ertragsgarantie"},{"$f":"'000 Bedingungen'!H102","v":0}]
[{"$f":"'000 Bedingungen'!B103","v":1},null,{"$f":"'000 Bedingungen'!C103","v":"038.000"},null,null,null,{"$f":"'000 Bedingungen'!G103","v":"Vorbehalte"},{"$f":"'000 Bedingungen'!H103","v":0}]
[{"$f":"'000 Bedingungen'!B104","v":1},null,null,{"$f":"'000 Bedingungen'!D104","v":"038.100"},null,null,{"$f":"'000 Bedingungen'!G104","v":"Finanzierung"},{"$f":"'000 Bedingungen'!H104","v":0}]
[{"$f":"'000 Bedingungen'!B105","v":0},null,null,{"$f":"'000 Bedingungen'!D105","v":"038.200"},null,null,{"$f":"'000 Bedingungen'!G105","v":"Bewilligung"},{"$f":"'000 Bedingungen'!H105","v":0}]
[{"$f":"'000 Bedingungen'!B106","v":1},null,{"$f":"'000 Bedingungen'!C106","v":0},null,null,null,{"$f":"'000 Bedingungen'!G106","v":0},{"$f":"'000 Bedingungen'!H106","v":0}]
[{"$f":"'000 Bedingungen'!B107","v":1},null,{"$f":"'000 Bedingungen'!C107","v":"040.000"},null,null,null,{"$f":"'000 Bedingungen'!G107","v":"Vergütungsregeln"},{"$f":"'000 Bedingungen'!H107","v":0}]
[{"$f":"'000 Bedingungen'!B108","v":1},null,{"$f":"'000 Bedingungen'!C108","v":"041.000"},null,null,null,{"$f":"'000 Bedingungen'!G108","v":"Enthaltene Leistungen / Grundbedingungen"},{"$f":"'000 Bedingungen'!H108","v":0}]
[{"$f":"'000 Bedingungen'!B109","v":1},null,null,{"$f":"'000 Bedingungen'!D109","v":"041.100"},null,null,{"$f":"'000 Bedingungen'!G109","v":"Planung"},{"$f":"'000 Bedingungen'!H109","v":0}]
[{"$f":"'000 Bedingungen'!B110","v":0},null,null,null,{"$f":"'000 Bedingungen'!E110","v":"041.110"},null,{"$f":"'000 Bedingungen'!G110","v":"Nachweis Tragfähigkeit Gebäude"},{"$f":"'000 Bedingungen'!H110","v":0}]
[{"$f":"'000 Bedingungen'!B111","v":0},null,null,null,{"$f":"'000 Bedingungen'!E111","v":"041.120"},null,{"$f":"'000 Bedingungen'!G111","v":"Zur Verfügungstellung der Notwendige Unterlagen für Drittuntnehmer für die Funktionstüchtigkeit der PV-Anlage"},{"$f":"'000 Bedingungen'!H111","v":0}]
[{"$f":"'000 Bedingungen'!B112","v":0},null,null,null,{"$f":"'000 Bedingungen'!E112","v":"041.130"},null,{"$f":"'000 Bedingungen'!G112","v":"Koordination Drittunternehmer zur Sicherstellung der Funktionstüchtigkeit der PVA"},{"$f":"'000 Bedingungen'!H112","v":0}]
[{"$f":"'000 Bedingungen'!B113","v":1},null,null,{"$f":"'000 Bedingungen'!D113","v":"041.200"},null,null,{"$f":"'000 Bedingungen'!G113","v":"Montagekonstruktion"},{"$f":"'000 Bedingungen'!H113","v":0}]
[{"$f":"'000 Bedingungen'!B114","v":0},null,null,null,{"$f":"'000 Bedingungen'!E114","v":"041.210"},null,{"$f":"'000 Bedingungen'!G114","v":"Nachweis Gebrauchstauglichkeit PV-Montagesystem"},{"$f":"'000 Bedingungen'!H114","v":0}]
[{"$f":"'000 Bedingungen'!B115","v":0},null,null,null,{"$f":"'000 Bedingungen'!E115","v":"041.220"},null,{"$f":"'000 Bedingungen'!G115","v":"Die Montagekonstruktion wird anhand des vorgegebenen Modullayouts berechnet. Bei Änderung des Layouts kann sich die Berechnung pro Leistungseinheit ändern. Der Unternehmer muss eine plausible und nachvollziehbare Neukalkulation vorlegen."},{"$f":"'000 Bedingungen'!H115","v":0}]
[{"$f":"'000 Bedingungen'!B116","v":0},null,null,null,{"$f":"'000 Bedingungen'!E116","v":"041.230"},null,{"$f":"'000 Bedingungen'!G116","v":"Bautoleranzen"},{"$f":"'000 Bedingungen'!H116","v":0}]
[{"$f":"'000 Bedingungen'!B117","v":1},null,null,{"$f":"'000 Bedingungen'!D117","v":"041.300"},null,null,{"$f":"'000 Bedingungen'!G117","v":"PV-Module"},{"$f":"'000 Bedingungen'!H117","v":0}]
[{"$f":"'000 Bedingungen'!B118","v":0},null,null,null,{"$f":"'000 Bedingungen'!E118","v":"041.310"},null,{"$f":"'000 Bedingungen'!G118","v":"Garantien PV-Modul: Produktgarantie 10a, Leistungsgarantie 80% 25a"},{"$f":"'000 Bedingungen'!H118","v":0}]
[{"$f":"'000 Bedingungen'!B119","v":0},null,null,null,{"$f":"'000 Bedingungen'!E119","v":"041.320"},null,{"$f":"'000 Bedingungen'!G119","v":"Nachweis Gebrauchstauglichkeit PV-Modul auf Montagesystem"},{"$f":"'000 Bedingungen'!H119","v":0}]
[{"$f":"'000 Bedingungen'!B120","v":0},null,null,null,{"$f":"'000 Bedingungen'!E120","v":"041.330"},null,{"$f":"'000 Bedingungen'!G120","v":"Normkonforme Steckverbindungen am PV-Modul"},{"$f":"'000 Bedingungen'!H120","v":0}]
[{"$f":"'000 Bedingungen'!B121","v":1},null,null,{"$f":"'000 Bedingungen'!D121","v":"041.400"},null,null,{"$f":"'000 Bedingungen'!G121","v":"Bauausführung "},{"$f":"'000 Bedingungen'!H121","v":0}]
[{"$f":"'000 Bedingungen'!B122","v":0},null,null,null,{"$f":"'000 Bedingungen'!E122","v":"041.410"},null,{"$f":"'000 Bedingungen'!G122","v":"Witterungsbedingte Arbeitunterbrüche"},{"$f":"'000 Bedingungen'!H122","v":0}]
[{"$f":"'000 Bedingungen'!B123","v":0},null,null,null,{"$f":"'000 Bedingungen'!E123","v":"041.420"},null,{"$f":"'000 Bedingungen'!G123","v":"Schutz vor Verschmutzung der Komponenten bis zur Inbetriebnahme"},{"$f":"'000 Bedingungen'!H123","v":0}]
[{"$f":"'000 Bedingungen'!B124","v":0},null,null,null,{"$f":"'000 Bedingungen'!E124","v":"041.430"},null,{"$f":"'000 Bedingungen'!G124","v":"Teilnahme am notwendigen Bausitzungen"},{"$f":"'000 Bedingungen'!H124","v":0}]
[{"$f":"'000 Bedingungen'!B125","v":0},null,null,null,{"$f":"'000 Bedingungen'!E125","v":"041.440"},null,{"$f":"'000 Bedingungen'!G125","v":"Verschnitt von angebotenen Materialien ist einzurechnen"},{"$f":"'000 Bedingungen'!H125","v":0}]
[{"$f":"'000 Bedingungen'!B126","v":0},null,null,null,{"$f":"'000 Bedingungen'!E126","v":"041.450"},null,{"$f":"'000 Bedingungen'!G126","v":"Einmalige Instruktion"},{"$f":"'000 Bedingungen'!H126","v":0}]
[{"$f":"'000 Bedingungen'!B127","v":0},null,null,{"$f":"'000 Bedingungen'!D127","v":"041.500"},null,null,{"$f":"'000 Bedingungen'!G127","v":"Zusätzliche Leistungen"},{"$f":"'000 Bedingungen'!H127","v":0}]
[{"$f":"'000 Bedingungen'!B128","v":0},null,null,null,{"$f":"'000 Bedingungen'!E128","v":"041.510"},null,{"$f":"'000 Bedingungen'!G128","v":"Produktgebühren (z.B. VRG)"},{"$f":"'000 Bedingungen'!H128","v":0}]
[{"$f":"'000 Bedingungen'!B129","v":1},null,{"$f":"'000 Bedingungen'!C129","v":"042.000"},null,null,null,{"$f":"'000 Bedingungen'!G129","v":"Währung"},{"$f":"'000 Bedingungen'!H129","v":0}]
[{"$f":"'000 Bedingungen'!B130","v":1},null,null,{"$f":"'000 Bedingungen'!D130","v":"042.100"},null,null,{"$f":"'000 Bedingungen'!G130","v":"Währung der Eingabe"},{"$f":"'000 Bedingungen'!H130","v":0}]
[{"$f":"'000 Bedingungen'!B131","v":0},null,null,{"$f":"'000 Bedingungen'!D131","v":"042.200"},null,null,{"$f":"'000 Bedingungen'!G131","v":"Währungsrisiko"},{"$f":"'000 Bedingungen'!H131","v":0}]
[{"$f":"'000 Bedingungen'!B132","v":1},null,{"$f":"'000 Bedingungen'!C132","v":"043.000"},null,null,null,{"$f":"'000 Bedingungen'!G132","v":"Bauabzüge"},{"$f":"'000 Bedingungen'!H132","v":0}]
[{"$f":"'000 Bedingungen'!B133","v":0},null,null,{"$f":"'000 Bedingungen'!D133","v":"043.100"},null,null,{"$f":"'000 Bedingungen'!G133","v":"Allg. Bauabzug (Wasser, Strom, Reinigung)"},{"$f":"'000 Bedingungen'!H133","v":0}]
[{"$f":"'000 Bedingungen'!B134","v":0},null,null,{"$f":"'000 Bedingungen'!D134","v":"043.200"},null,null,{"$f":"'000 Bedingungen'!G134","v":"Reklame"},{"$f":"'000 Bedingungen'!H134","v":0}]
[{"$f":"'000 Bedingungen'!B135","v":0},null,null,{"$f":"'000 Bedingungen'!D135","v":"043.300"},null,null,{"$f":"'000 Bedingungen'!G135","v":"Versicherungen"},{"$f":"'000 Bedingungen'!H135","v":0}]
[{"$f":"'000 Bedingungen'!B136","v":1},null,{"$f":"'000 Bedingungen'!C136","v":0},null,null,null,{"$f":"'000 Bedingungen'!G136","v":0},{"$f":"'000 Bedingungen'!H136","v":0}]
[{"$f":"'000 Bedingungen'!B137","v":1},null,{"$f":"'000 Bedingungen'!C137","v":"050.000"},null,null,null,{"$f":"'000 Bedingungen'!G137","v":"Objektspezifische Angaben"},{"$f":"'000 Bedingungen'!H137","v":0}]
[{"$f":"'000 Bedingungen'!B138","v":1},null,{"$f":"'000 Bedingungen'!C138","v":"051.000"},null,null,null,{"$f":"'000 Bedingungen'!G138","v":"Angaben zum Bauobjekt"},{"$f":"'000 Bedingungen'!H138","v":0}]
[{"$f":"'000 Bedingungen'!B139","v":1},null,null,{"$f":"'000 Bedingungen'!D139","v":"051.100"},null,null,{"$f":"'000 Bedingungen'!G139","v":"Adresse"},{"$f":"'000 Bedingungen'!H139","v":0}]
[{"$f":"'000 Bedingungen'!B140","v":1},null,null,{"$f":"'000 Bedingungen'!D140","v":"051.200"},null,null,{"$f":"'000 Bedingungen'!G140","v":"Höhenlage Bauobjekt"},{"$f":"'000 Bedingungen'!H140","v":0}]
[{"$f":"'000 Bedingungen'!B141","v":1},null,null,{"$f":"'000 Bedingungen'!D141","v":"051.300"},null,null,{"$f":"'000 Bedingungen'!G141","v":"Gebäudehöhe"},{"$f":"'000 Bedingungen'!H141","v":0}]
[{"$f":"'000 Bedingungen'!B142","v":0},null,null,{"$f":"'000 Bedingungen'!D142","v":"051.400"},null,null,{"$f":"'000 Bedingungen'!G142","v":"Gebäudeabmessungen"},{"$f":"'000 Bedingungen'!H142","v":0}]
[{"$f":"'000 Bedingungen'!B143","v":1},null,null,{"$f":"'000 Bedingungen'!D143","v":"051.500"},null,null,{"$f":"'000 Bedingungen'!G143","v":"Dachaufbau"},{"$f":"'000 Bedingungen'!H143","v":0}]
[{"$f":"'000 Bedingungen'!B144","v":1},null,null,null,{"$f":"'000 Bedingungen'!E144","v":"051.510"},null,{"$f":"'000 Bedingungen'!G144","v":"Max. Punktlast Dach bei Flachdach"},{"$f":"'000 Bedingungen'!H144","v":0}]
[{"$f":"'000 Bedingungen'!B145","v":1},null,null,{"$f":"'000 Bedingungen'!D145","v":"051.600"},null,null,{"$f":"'000 Bedingungen'!G145","v":"Dachneigung"},{"$f":"'000 Bedingungen'!H145","v":0}]
[{"$f":"'000 Bedingungen'!B146","v":1},null,null,{"$f":"'000 Bedingungen'!D146","v":"051.700"},null,null,{"$f":"'000 Bedingungen'!G146","v":"Gebäudestatik"},{"$f":"'000 Bedingungen'!H146","v":0}]
[{"$f":"'000 Bedingungen'!B147","v":0},null,null,null,{"$f":"'000 Bedingungen'!E147","v":"051.710"},null,{"$f":"'000 Bedingungen'!G147","v":"Nutzervereinbarung Dach"},{"$f":"'000 Bedingungen'!H147","v":0}]
[{"$f":"'000 Bedingungen'!B148","v":1},null,null,null,{"$f":"'000 Bedingungen'!E148","v":"051.720"},null,{"$f":"'000 Bedingungen'!G148","v":"Angabe Lastreserve Dach"},{"$f":"'000 Bedingungen'!H148","v":0}]
[{"$f":"'000 Bedingungen'!B149","v":0},null,null,{"$f":"'000 Bedingungen'!D149","v":"051.800"},null,null,{"$f":"'000 Bedingungen'!G149","v":"Angabe max. temporäre Dachbelastung"},{"$f":"'000 Bedingungen'!H149","v":0}]
[{"$f":"'000 Bedingungen'!B150","v":1},null,{"$f":"'000 Bedingungen'!C150","v":"052.000"},null,null,null,{"$f":"'000 Bedingungen'!G150","v":"Umfang der Arbeiten"},{"$f":"'000 Bedingungen'!H150","v":0}]
[{"$f":"'000 Bedingungen'!B151","v":1},null,null,{"$f":"'000 Bedingungen'!D151","v":"052.100"},null,null,{"$f":"'000 Bedingungen'!G151","v":"Beschreibung PVA"},{"$f":"'000 Bedingungen'!H151","v":0}]
[{"$f":"'000 Bedingungen'!B152","v":1},null,null,{"$f":"'000 Bedingungen'!D152","v":"052.200"},null,null,{"$f":"'000 Bedingungen'!G152","v":"Beschreibung Leitungsführung"},{"$f":"'000 Bedingungen'!H152","v":0}]
[{"$f":"'000 Bedingungen'!B153","v":0},null,null,null,{"$f":"'000 Bedingungen'!E153","v":"052.210"},null,{"$f":"'000 Bedingungen'!G153","v":"Kabelweg innen"},{"$f":"'000 Bedingungen'!H153","v":0}]
[{"$f":"'000 Bedingungen'!B154","v":0},null,null,null,{"$f":"'000 Bedingungen'!E154","v":"052.220"},null,{"$f":"'000 Bedingungen'!G154","v":"Kabelweg aussen"},{"$f":"'000 Bedingungen'!H154","v":0}]
[{"$f":"'000 Bedingungen'!B155","v":1},null,null,{"$f":"'000 Bedingungen'!D155","v":"052.300"},null,null,{"$f":"'000 Bedingungen'!G155","v":"Beschreibung WR-Standort"},{"$f":"'000 Bedingungen'!H155","v":0}]
[{"$f":"'000 Bedingungen'!B156","v":0},null,null,null,{"$f":"'000 Bedingungen'!E156","v":"052.310"},null,{"$f":"'000 Bedingungen'!G156","v":"WR Aufstellung innen"},{"$f":"'000 Bedingungen'!H156","v":0}]
[{"$f":"'000 Bedingungen'!B157","v":1},null,null,null,{"$f":"'000 Bedingungen'!E157","v":"052.320"},null,{"$f":"'000 Bedingungen'!G157","v":"WR Aufstellung aussen"},{"$f":"'000 Bedingungen'!H157","v":0}]
[{"$f":"'000 Bedingungen'!B158","v":1},null,null,{"$f":"'000 Bedingungen'!D158","v":"052.400"},null,null,{"$f":"'000 Bedingungen'!G158","v":"Beschreibung Netzeinbindung"},{"$f":"'000 Bedingungen'!H158","v":0}]
[{"$f":"'000 Bedingungen'!B159","v":1},null,null,{"$f":"'000 Bedingungen'!D159","v":"052.500"},null,null,{"$f":"'000 Bedingungen'!G159","v":"Beschreibung Erdungs-, Blitzschutz- und Überspannungsschutzkonzept"},{"$f":"'000 Bedingungen'!H159","v":0}]
[{"$f":"'000 Bedingungen'!B160","v":1},null,null,null,{"$f":"'000 Bedingungen'!E160","v":"052.510"},null,{"$f":"'000 Bedingungen'!G160","v":""},{"$f":"'000 Bedingungen'!H160","v":0}]
[{"$f":"'000 Bedingungen'!B161","v":0},null,null,null,null,{"$f":"'000 Bedingungen'!F161","v":"052.511"},{"$f":"'000 Bedingungen'!G161","v":"Gebäude mit Blitzschutzklasse I"},{"$f":"'000 Bedingungen'!H161","v":0}]
[{"$f":"'000 Bedingungen'!B162","v":0},null,null,null,null,{"$f":"'000 Bedingungen'!F162","v":"052.512"},{"$f":"'000 Bedingungen'!G162","v":"Gebäude mit Blitzschutzklasse II"},{"$f":"'000 Bedingungen'!H162","v":0}]
[{"$f":"'000 Bedingungen'!B163","v":0},null,null,null,null,{"$f":"'000 Bedingungen'!F163","v":"052.513"},{"$f":"'000 Bedingungen'!G163","v":"Gebäude mit Blitzschutzklasse III"},{"$f":"'000 Bedingungen'!H163","v":0}]
[{"$f":"'000 Bedingungen'!B164","v":0},null,null,null,{"$f":"'000 Bedingungen'!E164","v":"052.520"},null,{"$f":"'000 Bedingungen'!G164","v":""},{"$f":"'000 Bedingungen'!H164","v":0}]
[{"$f":"'000 Bedingungen'!B165","v":0},null,null,null,{"$f":"'000 Bedingungen'!E165","v":"052.530"},null,{"$f":"'000 Bedingungen'!G165","v":""},{"$f":"'000 Bedingungen'!H165","v":0}]
[{"$f":"'000 Bedingungen'!B166","v":1},null,{"$f":"'000 Bedingungen'!C166","v":"053.000"},null,null,null,{"$f":"'000 Bedingungen'!G166","v":"Infrastruktur"},{"$f":"'000 Bedingungen'!H166","v":0}]
[{"$f":"'000 Bedingungen'!B167","v":1},null,null,{"$f":"'000 Bedingungen'!D167","v":"053.100"},null,null,{"$f":"'000 Bedingungen'!G167","v":"Zufahrt"},{"$f":"'000 Bedingungen'!H167","v":0}]
[{"$f":"'000 Bedingungen'!B168","v":1},null,null,{"$f":"'000 Bedingungen'!D168","v":"053.200"},null,null,{"$f":"'000 Bedingungen'!G168","v":"Parkplätze"},{"$f":"'000 Bedingungen'!H168","v":0}]
[{"$f":"'000 Bedingungen'!B169","v":0},null,null,{"$f":"'000 Bedingungen'!D169","v":"053.300"},null,null,{"$f":"'000 Bedingungen'!G169","v":"Lagerplätze"},{"$f":"'000 Bedingungen'!H169","v":0}]
[{"$f":"'000 Bedingungen'!B170","v":1},null,null,{"$f":"'000 Bedingungen'!D170","v":"053.400"},null,null,{"$f":"'000 Bedingungen'!G170","v":"Aufzugseinrichtungen"},{"$f":"'000 Bedingungen'!H170","v":0}]
[{"$f":"'000 Bedingungen'!B171","v":0},null,null,null,{"$f":"'000 Bedingungen'!E171","v":"053.410"},null,{"$f":"'000 Bedingungen'!G171","v":"Angabe Bodenbelastbarkeit"},{"$f":"'000 Bedingungen'!H171","v":0}]
[{"$f":"'000 Bedingungen'!B172","v":0},null,null,{"$f":"'000 Bedingungen'!D172","v":"053.500"},null,null,{"$f":"'000 Bedingungen'!G172","v":"Elektroanschluss"},{"$f":"'000 Bedingungen'!H172","v":0}]
[{"$f":"'000 Bedingungen'!B173","v":0},null,null,{"$f":"'000 Bedingungen'!D173","v":"053.600"},null,null,{"$f":"'000 Bedingungen'!G173","v":"Sanitäre Einrichtungen"},{"$f":"'000 Bedingungen'!H173","v":0}]
[{"$f":"'000 Bedingungen'!B174","v":0},null,null,{"$f":"'000 Bedingungen'!D174","v":"053.700"},null,null,{"$f":"'000 Bedingungen'!G174","v":"Unterkünfte"},{"$f":"'000 Bedingungen'!H174","v":0}]
[{"$f":"'000 Bedingungen'!B175","v":1},null,{"$f":"'000 Bedingungen'!C175","v":"054.000"},null,null,null,{"$f":"'000 Bedingungen'!G175","v":"Spezielle Bestimmungen Baustelle"},{"$f":"'000 Bedingungen'!H175","v":0}]
[{"$f":"'000 Bedingungen'!B176","v":0},null,null,{"$f":"'000 Bedingungen'!D176","v":"054.100"},null,null,{"$f":"'000 Bedingungen'!G176","v":"Arbeitszeiten"},{"$f":"'000 Bedingungen'!H176","v":0}]
[{"$f":"'000 Bedingungen'!B177","v":0},null,null,{"$f":"'000 Bedingungen'!D177","v":"054.200"},null,null,{"$f":"'000 Bedingungen'!G177","v":"Zugangskontrollen"},{"$f":"'000 Bedingungen'!H177","v":0}]
[{"$f":"'000 Bedingungen'!B178","v":0},null,null,{"$f":"'000 Bedingungen'!D178","v":"054.300"},null,null,{"$f":"'000 Bedingungen'!G178","v":"QS-System"},{"$f":"'000 Bedingungen'!H178","v":0}]
[{"$f":"'000 Bedingungen'!B179","v":1},null,null,{"$f":"'000 Bedingungen'!D179","v":"054.400"},null,null,{"$f":"'000 Bedingungen'!G179","v":"Abfall, Entsorgung"},{"$f":"'000 Bedingungen'!H179","v":0}]
[{"$f":"'000 Bedingungen'!B180","v":0},null,null,{"$f":"'000 Bedingungen'!D180","v":"054.500"},null,null,{"$f":"'000 Bedingungen'!G180","v":"Bauen ökologisch, Ethikcodex"},{"$f":"'000 Bedingungen'!H180","v":0}]
[{"$f":"'000 Bedingungen'!B181","v":1},null,{"$f":"'000 Bedingungen'!C181","v":"055.000"},null,null,null,{"$f":"'000 Bedingungen'!G181","v":"Sicherheit"},{"$f":"'000 Bedingungen'!H181","v":0}]
[{"$f":"'000 Bedingungen'!B182","v":1},null,null,{"$f":"'000 Bedingungen'!D182","v":"055.100"},null,null,{"$f":"'000 Bedingungen'!G182","v":"Arbeitssicherheit temporär (Bestand)"},{"$f":"'000 Bedingungen'!H182","v":0}]
[{"$f":"'000 Bedingungen'!B183","v":1},null,null,null,{"$f":"'000 Bedingungen'!E183","v":"055.110"},null,{"$f":"'000 Bedingungen'!G183","v":"Geländer Dachrand"},{"$f":"'000 Bedingungen'!H183","v":0}]
[{"$f":"'000 Bedingungen'!B184","v":0},null,null,null,{"$f":"'000 Bedingungen'!E184","v":"055.120"},null,{"$f":"'000 Bedingungen'!G184","v":"Gerüst"},{"$f":"'000 Bedingungen'!H184","v":0}]
[{"$f":"'000 Bedingungen'!B185","v":0},null,null,null,{"$f":"'000 Bedingungen'!E185","v":"055.130"},null,{"$f":"'000 Bedingungen'!G185","v":"Zonenabschrankung"},{"$f":"'000 Bedingungen'!H185","v":0}]
[{"$f":"'000 Bedingungen'!B186","v":0},null,null,null,{"$f":"'000 Bedingungen'!E186","v":"055.140"},null,{"$f":"'000 Bedingungen'!G186","v":"Oblichtsicherung"},{"$f":"'000 Bedingungen'!H186","v":0}]
[{"$f":"'000 Bedingungen'!B187","v":1},null,null,null,{"$f":"'000 Bedingungen'!E187","v":"055.150"},null,{"$f":"'000 Bedingungen'!G187","v":"Gerüstturm"},{"$f":"'000 Bedingungen'!H187","v":0}]
[{"$f":"'000 Bedingungen'!B188","v":0},null,null,{"$f":"'000 Bedingungen'!D188","v":"055.200"},null,null,{"$f":"'000 Bedingungen'!G188","v":"Arbeitssicherheit permanent (Bestand)"},{"$f":"'000 Bedingungen'!H188","v":0}]
[{"$f":"'000 Bedingungen'!B189","v":0},null,null,null,{"$f":"'000 Bedingungen'!E189","v":"055.210"},null,{"$f":"'000 Bedingungen'!G189","v":"Dachzugang"},{"$f":"'000 Bedingungen'!H189","v":0}]
[{"$f":"'000 Bedingungen'!B190","v":0},null,null,null,{"$f":"'000 Bedingungen'!E190","v":"055.220"},null,{"$f":"'000 Bedingungen'!G190","v":"Arbeitssicherheitskonzept"},{"$f":"'000 Bedingungen'!H190","v":0}]
[{"$f":"'000 Bedingungen'!B191","v":1},null,{"$f":"'000 Bedingungen'!C191","v":0},null,null,null,{"$f":"'000 Bedingungen'!G191","v":0},{"$f":"'000 Bedingungen'!H191","v":0}]
[{"$f":"'000 Bedingungen'!B192","v":1},null,{"$f":"'000 Bedingungen'!C192","v":"060.000"},null,null,null,{"$f":"'000 Bedingungen'!G192","v":"Bauablauf, Fristen"},{"$f":"'000 Bedingungen'!H192","v":0}]
[{"$f":"'000 Bedingungen'!B193","v":1},null,{"$f":"'000 Bedingungen'!C193","v":"061.000"},null,null,null,{"$f":"'000 Bedingungen'!G193","v":"Bauablauf"},{"$f":"'000 Bedingungen'!H193","v":0}]
[{"$f":"'000 Bedingungen'!B194","v":1},null,null,{"$f":"'000 Bedingungen'!D194","v":"061.100"},null,null,{"$f":"'000 Bedingungen'!G194","v":"Bauprogramm"},{"$f":"'000 Bedingungen'!H194","v":0}]
[{"$f":"'000 Bedingungen'!B195","v":0},null,null,{"$f":"'000 Bedingungen'!D195","v":"061.200"},null,null,{"$f":"'000 Bedingungen'!G195","v":"Bauphasen (Etappierung)"},{"$f":"'000 Bedingungen'!H195","v":0}]
[{"$f":"'000 Bedingungen'!B196","v":1},null,{"$f":"'000 Bedingungen'!C196","v":"062.000"},null,null,null,{"$f":"'000 Bedingungen'!G196","v":"Termine, Fristen"},{"$f":"'000 Bedingungen'!H196","v":0}]
[{"$f":"'000 Bedingungen'!B197","v":1},null,null,{"$f":"'000 Bedingungen'!D197","v":"062.100"},null,null,{"$f":"'000 Bedingungen'!G197","v":"Baubeginn"},{"$f":"'000 Bedingungen'!H197","v":0}]
[{"$f":"'000 Bedingungen'!B198","v":1},null,null,{"$f":"'000 Bedingungen'!D198","v":"062.200"},null,null,{"$f":"'000 Bedingungen'!G198","v":"Inbetriebnahme"},{"$f":"'000 Bedingungen'!H198","v":0}]
[{"$f":"'000 Bedingungen'!B199","v":0},null,null,{"$f":"'000 Bedingungen'!D199","v":"062.300"},null,null,{"$f":"'000 Bedingungen'!G199","v":"Abnahme"},{"$f":"'000 Bedingungen'!H199","v":0}]
[{"$f":"'000 Bedingungen'!B200","v":1},null,{"$f":"'000 Bedingungen'!C200","v":"063.000"},null,null,null,{"$f":"'000 Bedingungen'!G200","v":"Prämien, Strafen"},{"$f":"'000 Bedingungen'!H200","v":0}]
[{"$f":"'000 Bedingungen'!B201","v":0},null,null,{"$f":"'000 Bedingungen'!D201","v":"063.100"},null,null,{"$f":"'000 Bedingungen'!G201","v":"Prämien"},{"$f":"'000 Bedingungen'!H201","v":0}]
[{"$f":"'000 Bedingungen'!B202","v":1},null,null,{"$f":"'000 Bedingungen'!D202","v":"063.200"},null,null,{"$f":"'000 Bedingungen'!G202","v":"Konventionalstrafen"},{"$f":"'000 Bedingungen'!H202","v":0}]
[{"$f":"'000 Bedingungen'!B203","v":0},null,null,{"$f":"'000 Bedingungen'!D203","v":"063.300"},null,null,{"$f":"'000 Bedingungen'!G203","v":"Streiterledigung, Schlichtung"},{"$f":"'000 Bedingungen'!H203","v":0}]
[{"$f":"'000 Bedingungen'!B204","v":1},null,{"$f":"'000 Bedingungen'!C204","v":0},null,null,null,{"$f":"'000 Bedingungen'!G204","v":0},{"$f":"'000 Bedingungen'!H204","v":0}]
[{"$f":"'000 Bedingungen'!B205","v":1},null,{"$f":"'000 Bedingungen'!C205","v":"070.000"},null,null,null,{"$f":"'000 Bedingungen'!G205","v":"Schnittstellen, Zuständigkeiten (Schnittstellenpapier)"},{"$f":"'000 Bedingungen'!H205","v":0}]
[{"$f":"'000 Bedingungen'!B206","v":1},null,{"$f":"'000 Bedingungen'!C206","v":"071.000"},null,null,null,{"$f":"'000 Bedingungen'!G206","v":"Schnittstellen elektrisch"},{"$f":"'000 Bedingungen'!H206","v":0}]
[{"$f":"'000 Bedingungen'!B207","v":0},null,null,{"$f":"'000 Bedingungen'!D207","v":"071.100"},null,null,{"$f":"'000 Bedingungen'!G207","v":"Bis und mit WR"},{"$f":"'000 Bedingungen'!H207","v":0}]
[{"$f":"'000 Bedingungen'!B208","v":0},null,null,{"$f":"'000 Bedingungen'!D208","v":"071.200"},null,null,{"$f":"'000 Bedingungen'!G208","v":"Bis und mit UV Solar"},{"$f":"'000 Bedingungen'!H208","v":0}]
[{"$f":"'000 Bedingungen'!B209","v":1},null,null,{"$f":"'000 Bedingungen'!D209","v":"071.300"},null,null,{"$f":"'000 Bedingungen'!G209","v":"Netzeinbindung komplett"},{"$f":"'000 Bedingungen'!H209","v":0}]
[{"$f":"'000 Bedingungen'!B210","v":1},null,null,{"$f":"'000 Bedingungen'!D210","v":"071.400"},null,null,{"$f":"'000 Bedingungen'!G210","v":"Schnittstelle Blitzschutz"},{"$f":"'000 Bedingungen'!H210","v":0}]
[{"$f":"'000 Bedingungen'!B211","v":1},null,{"$f":"'000 Bedingungen'!C211","v":"072.000"},null,null,null,{"$f":"'000 Bedingungen'!G211","v":"Schnittstellen mechanisch"},{"$f":"'000 Bedingungen'!H211","v":0}]
[{"$f":"'000 Bedingungen'!B212","v":0},null,{"$f":"'000 Bedingungen'!C212","v":"073.000"},null,null,null,{"$f":"'000 Bedingungen'!G212","v":"Schnittstellen administrativ"},{"$f":"'000 Bedingungen'!H212","v":0}]
[{"$f":"'000 Bedingungen'!B213","v":1},null,{"$f":"'000 Bedingungen'!C213","v":0},null,null,null,{"$f":"'000 Bedingungen'!G213","v":0},{"$f":"'000 Bedingungen'!H213","v":0}]
[{"$f":"'000 Bedingungen'!B214","v":1},null,{"$f":"'000 Bedingungen'!C214","v":"080.000"},null,null,null,{"$f":"'000 Bedingungen'!G214","v":"Versicherungen, Abrechnung"},{"$f":"'000 Bedingungen'!H214","v":0}]
[{"$f":"'000 Bedingungen'!B215","v":1},null,{"$f":"'000 Bedingungen'!C215","v":"081.000"},null,null,null,{"$f":"'000 Bedingungen'!G215","v":"Versicherungen Bauherr"},{"$f":"'000 Bedingungen'!H215","v":0}]
[{"$f":"'000 Bedingungen'!B216","v":0},null,null,{"$f":"'000 Bedingungen'!D216","v":"081.100"},null,null,{"$f":"'000 Bedingungen'!G216","v":"Bauherrenhaftpflichtversicherung"},{"$f":"'000 Bedingungen'!H216","v":0}]
[{"$f":"'000 Bedingungen'!B217","v":1},null,null,{"$f":"'000 Bedingungen'!D217","v":"081.200"},null,null,{"$f":"'000 Bedingungen'!G217","v":"Bauwesenversicherung"},{"$f":"'000 Bedingungen'!H217","v":0}]
[{"$f":"'000 Bedingungen'!B218","v":1},null,{"$f":"'000 Bedingungen'!C218","v":"082.000"},null,null,null,{"$f":"'000 Bedingungen'!G218","v":"Versicherungen Unternehmer"},{"$f":"'000 Bedingungen'!H218","v":0}]
[{"$f":"'000 Bedingungen'!B219","v":0},null,null,{"$f":"'000 Bedingungen'!D219","v":"082.100"},null,null,{"$f":"'000 Bedingungen'!G219","v":"Montageversicherung"},{"$f":"'000 Bedingungen'!H219","v":0}]
[{"$f":"'000 Bedingungen'!B220","v":1},null,null,{"$f":"'000 Bedingungen'!D220","v":"082.200"},null,null,{"$f":"'000 Bedingungen'!G220","v":"Unternehmerhaftpflichtversicherung"},{"$f":"'000 Bedingungen'!H220","v":0}]
[{"$f":"'000 Bedingungen'!B221","v":0},null,null,{"$f":"'000 Bedingungen'!D221","v":"082.300"},null,null,{"$f":"'000 Bedingungen'!G221","v":"Montagehaftpflichtversicherung"},{"$f":"'000 Bedingungen'!H221","v":0}]
[{"$f":"'000 Bedingungen'!B222","v":1},null,{"$f":"'000 Bedingungen'!C222","v":"083.000"},null,null,null,{"$f":"'000 Bedingungen'!G222","v":"Abechnung"},{"$f":"'000 Bedingungen'!H222","v":0}]
[{"$f":"'000 Bedingungen'!B223","v":1},null,null,{"$f":"'000 Bedingungen'!D223","v":"083.100"},null,null,{"$f":"'000 Bedingungen'!G223","v":"Zahlungsplan"},{"$f":"'000 Bedingungen'!H223","v":0}]
[{"$f":"'000 Bedingungen'!B224","v":0},null,null,{"$f":"'000 Bedingungen'!D224","v":"083.200"},null,null,{"$f":"'000 Bedingungen'!G224","v":"Zahlungsfristen"},{"$f":"'000 Bedingungen'!H224","v":0}]
[{"$f":"'000 Bedingungen'!B225","v":0},null,{"$f":"'000 Bedingungen'!C225","v":"084.000"},null,null,null,{"$f":"'000 Bedingungen'!G225","v":"Regiearbeiten"},{"$f":"'000 Bedingungen'!H225","v":0}]
[{"$f":"'000 Bedingungen'!B226","v":0},null,null,{"$f":"'000 Bedingungen'!D226","v":"084.100"},null,null,{"$f":"'000 Bedingungen'!G226","v":"Regiebedingungen"},{"$f":"'000 Bedingungen'!H226","v":0}]
[{"$f":"'000 Bedingungen'!B227","v":0},null,{"$f":"'000 Bedingungen'!C227","v":0},null,null,null,{"$f":"'000 Bedingungen'!G227","v":0},{"$f":"'000 Bedingungen'!H227","v":0}]
[1,null,null,null,null,null,"Zwischensumme"]
[1]
[1,null,"100.000",null,null,null,"PV- Module",null,null,null,{"$f":"J233*I233","v":0}]
[1,null,null,null,null,null,null,null,null,null,0]
[{"$f":"'100 PV- Module'!B6","v":1},{"$f":"'100 PV- Module'!C6","v":0},{"$f":"'100 PV- Module'!D6","v":"110.000"},null,null,null,{"$f":"'100 PV- Module'!E6","v":"Glas/Folie mit Rahmen, Aufdach"},{"$f":"'100 PV- Module'!F6","v":""},null,null,0]
[{"$f":"'100 PV- Module'!B7","v":2},{"$f":"'100 PV- Module'!C7","v":1},{"$f":"'100 PV- Module'!D7","v":"111.000"},null,null,null,{"$f":"'100 PV- Module'!E7","v":"Standardgrösse (1 - 2m2), < 25 kg\nEigenschaften: \nRahmen silber\nBacksheet weiss"},{"$f":"'100 PV- Module'!F7","v":"Stk. "},null,null,{"$f":"J236*I236","v":0}]
[{"$f":"'100 PV- Module'!B8","v":1},{"$f":"'100 PV- Module'!C8","v":1},{"$f":"'100 PV- Module'!D8","v":"112.000"},null,null,null,{"$f":"'100 PV- Module'!E8","v":"Standardgrösse (1 - 2m2), > 25 kg\nEigenschaften: \nRahmen schwarz\nBacksheet schwarz\nBusbars abgedeckt"},{"$f":"'100 PV- Module'!F8","v":"Stk. "},null,null,{"$f":"J237*I237","v":0}]
[{"$f":"'100 PV- Module'!B9","v":0},{"$f":"'100 PV- Module'!C9","v":0},{"$f":"'100 PV- Module'!D9","v":"113.000"},null,null,null,{"$f":"'100 PV- Module'!E9","v":"Übergrösse (> 2 m2) < 25 kg"},{"$f":"'100 PV- Module'!F9","v":""},null,null,0]
[{"$f":"'100 PV- Module'!B10","v":0},{"$f":"'100 PV- Module'!C10","v":0},{"$f":"'100 PV- Module'!D10","v":"114.000"},null,null,null,{"$f":"'100 PV- Module'!E10","v":"Übergrösse (> 2 m2) > 25 kg"},{"$f":"'100 PV- Module'!F10","v":""},null,null,0]
[{"$f":"'100 PV- Module'!B11","v":0},{"$f":"'100 PV- Module'!C11","v":0},{"$f":"'100 PV- Module'!D11","v":"115.000"},null,null,null,{"$f":"'100 PV- Module'!E11","v":"PV-Schindeln (< 1 m2); < 25 kg"},{"$f":"'100 PV- Module'!F11","v":""},null,null,0]
[{"$f":"'100 PV- Module'!B12","v":0},{"$f":"'100 PV- Module'!C12","v":0},{"$f":"'100 PV- Module'!D12","v":"116.000"},null,null,null,{"$f":"'100 PV- Module'!E12","v":"PV-Schindeln (< 1 m2); > 25 kg"},{"$f":"'100 PV- Module'!F12","v":""},null,null,0]
[{"$f":"'100 PV- Module'!B13","v":1},{"$f":"'100 PV- Module'!C13","v":0},{"$f":"'100 PV- Module'!D13","v":0},null,null,null,{"$f":"'100 PV- Module'!E13","v":0},{"$f":"'100 PV- Module'!F13","v":""},null,null,0]
[{"$f":"'100 PV- Module'!B14","v":0},{"$f":"'100 PV- Module'!C14","v":0},{"$f":"'100 PV- Module'!D14","v":"120.000"},null,null,null,{"$f":"'100 PV- Module'!E14","v":"Glas/Folie ohne Rahmen, Aufdach"},{"$f":"'100 PV- Module'!F14","v":""},null,null,0]
[{"$f":"'100 PV- Module'!B15","v":0},{"$f":"'100 PV- Module'!C15","v":0},{"$f":"'100 PV- Module'!D15","v":"121.000"},null,null,null,{"$f":"'100 PV- Module'!E15","v":"Standardgrösse (1 - 2m2), < 25 kg"},{"$f":"'100 PV- Module'!F15","v":""},null,null,0]
[{"$f":"'100 PV- Module'!B16","v":0},{"$f":"'100 PV- Module'!C16","v":0},{"$f":"'100 PV- Module'!D16","v":"122.000"},null,null,null,{"$f":"'100 PV- Module'!E16","v":"Standardgrösse (1 - 2m2), > 25 kg"},{"$f":"'100 PV- Module'!F16","v":""},null,null,0]
[{"$f":"'100 PV- Module'!B17","v":0},{"$f":"'100 PV- Module'!C17","v":0},{"$f":"'100 PV- Module'!D17","v":"123.000"},null,null,null,{"$f":"'100 PV- Module'!E17","v":"Übergrösse (> 2 m2) < 25 kg"},{"$f":"'100 PV- Module'!F17","v":""},null,null,0]
[{"$f":"'100 PV- Module'!B18","v":0},{"$f":"'100 PV- Module'!C18","v":0},{"$f":"'100 PV- Module'!D18","v":"124.000"},null,null,null,{"$f":"'100 PV- Module'!E18","v":"Übergrösse (> 2 m2) > 25 kg"},{"$f":"'100 PV- Module'!F18","v":""},null,null,0]
[{"$f":"'100 PV- Module'!B19","v":0},{"$f":"'100 PV- Module'!C19","v":0},{"$f":"'100 PV- Module'!D19","v":"125.000"},null,null,null,{"$f":"'100 PV- Module'!E19","v":"PV-Schindeln (< 1 m2); < 25 kg"},{"$f":"'100 PV- Module'!F19","v":""},null,null,0]
[{"$f":"'100 PV- Module'!B20","v":0},{"$f":"'100 PV- Module'!C20","v":0},{"$f":"'100 PV- Module'!D20","v":"126.000"},null,null,null,{"$f":"'100 PV- Module'!E20","v":"PV-Schindeln (< 1 m2); > 25 kg"},{"$f":"'100 PV- Module'!F20","v":""},null,null,0]
[{"$f":"'100 PV- Module'!B21","v":0},{"$f":"'100 PV- Module'!C21","v":0},{"$f":"'100 PV- Module'!D21","v":0},null,null,null,{"$f":"'100 PV- Module'!E21","v":0},{"$f":"'100 PV- Module'!F21","v":""},null,null,0]
[{"$f":"'100 PV- Module'!B22","v":0},{"$f":"'100 PV- Module'!C22","v":0},{"$f":"'100 PV- Module'!D22","v":"130.000"},null,null,null,{"$f":"'100 PV- Module'!E22","v":"Glas/Glas mit Rahmen, Aufdach"},{"$f":"'100 PV- Module'!F22","v":""},null,null,0]
[{"$f":"'100 PV- Module'!B23","v":0},{"$f":"'100 PV- Module'!C23","v":0},{"$f":"'100 PV- Module'!D23","v":"131.000"},null,null,null,{"$f":"'100 PV- Module'!E23","v":"Standardgrösse (1 - 2m2), < 25 kg"},{"$f":"'100 PV- Module'!F23","v":""},null,null,0]
[{"$f":"'100 PV- Module'!B24","v":0},{"$f":"'100 PV- Module'!C24","v":0},{"$f":"'100 PV- Module'!D24","v":"132.000"},null,null,null,{"$f":"'100 PV- Module'!E24","v":"Standardgrösse (1 - 2m2), > 25 kg"},{"$f":"'100 PV- Module'!F24","v":""},null,null,0]
[{"$f":"'100 PV- Module'!B25","v":0},{"$f":"'100 PV- Module'!C25","v":0},{"$f":"'100 PV- Module'!D25","v":"133.000"},null,null,null,{"$f":"'100 PV- Module'!E25","v":"Übergrösse (> 2 m2) < 25 kg"},{"$f":"'100 PV- Module'!F25","v":""},null,null,0]
[{"$f":"'100 PV- Module'!B26","v":0},{"$f":"'100 PV- Module'!C26","v":0},{"$f":"'100 PV- Module'!D26","v":"134.000"},null,null,null,{"$f":"'100 PV- Module'!E26","v":"Übergrösse (> 2 m2) > 25 kg"},{"$f":"'100 PV- Module'!F26","v":""},null,null,0]
[{"$f":"'100 PV- Module'!B27","v":0},{"$f":"'100 PV- Module'!C27","v":0},{"$f":"'100 PV- Module'!D27","v":"135.000"},null,null,null,{"$f":"'100 PV- Module'!E27","v":"PV-Schindeln (< 1 m2); < 25 kg"},{"$f":"'100 PV- Module'!F27","v":""},null,null,0]
[{"$f":"'100 PV- Module'!B28","v":0},{"$f":"'100 PV- Module'!C28","v":0},{"$f":"'100 PV- Module'!D28","v":"136.000"},null,null,null,{"$f":"'100 PV- Module'!E28","v":"PV-Schindeln (< 1 m2); > 25 kg"},{"$f":"'100 PV- Module'!F28","v":""},null,null,0]
[{"$f":"'100 PV- Module'!B29","v":0},{"$f":"'100 PV- Module'!C29","v":0},{"$f":"'100 PV- Module'!D29","v":0},null,null,null,{"$f":"'100 PV- Module'!E29","v":0},{"$f":"'100 PV- Module'!F29","v":""},null,null,0]
[{"$f":"'100 PV- Module'!B30","v":0},{"$f":"'100 PV- Module'!C30","v":0},{"$f":"'100 PV- Module'!D30","v":"140.000"},null,null,null,{"$f":"'100 PV- Module'!E30","v":"Glas/Glas ohne Rahmen, Aufdach"},{"$f":"'100 PV- Module'!F30","v":""},null,null,0]
[{"$f":"'100 PV- Module'!B31","v":0},{"$f":"'100 PV- Module'!C31","v":0},{"$f":"'100 PV- Module'!D31","v":"141.000"},null,null,null,{"$f":"'100 PV- Module'!E31","v":"Standardgrösse (1 - 2m2), < 25 kg"},{"$f":"'100 PV- Module'!F31","v":""},null,null,0]
[{"$f":"'100 PV- Module'!B32","v":0},{"$f":"'100 PV- Module'!C32","v":0},{"$f":"'100 PV- Module'!D32","v":"142.000"},null,null,null,{"$f":"'100 PV- Module'!E32","v":"Standardgrösse (1 - 2m2), > 25 kg"},{"$f":"'100 PV- Module'!F32","v":""},null,null,0]
[{"$f":"'100 PV- Module'!B33","v":0},{"$f":"'100 PV- Module'!C33","v":0},{"$f":"'100 PV- Module'!D33","v":"143.000"},null,null,null,{"$f":"'100 PV- Module'!E33","v":"Übergrösse (> 2 m2) < 25 kg"},{"$f":"'100 PV- Module'!F33","v":""},null,null,0]
[{"$f":"'100 PV- Module'!B34","v":0},{"$f":"'100 PV- Module'!C34","v":0},{"$f":"'100 PV- Module'!D34","v":"144.000"},null,null,null,{"$f":"'100 PV- Module'!E34","v":"Übergrösse (> 2 m2) > 25 kg"},{"$f":"'100 PV- Module'!F34","v":""},null,null,0]
[{"$f":"'100 PV- Module'!B35","v":0},{"$f":"'100 PV- Module'!C35","v":0},{"$f":"'100 PV- Module'!D35","v":"145.000"},null,null,null,{"$f":"'100 PV- Module'!E35","v":"PV-Schindeln (< 1 m2); < 25 kg"},{"$f":"'100 PV- Module'!F35","v":""},null,null,0]
[{"$f":"'100 PV- Module'!B36","v":0},{"$f":"'100 PV- Module'!C36","v":0},{"$f":"'100 PV- Module'!D36","v":"146.000"},null,null,null,{"$f":"'100 PV- Module'!E36","v":"PV-Schindeln (< 1 m2); > 25 kg"},{"$f":"'100 PV- Module'!F36","v":""},null,null,0]
[{"$f":"'100 PV- Module'!B37","v":0},{"$f":"'100 PV- Module'!C37","v":0},{"$f":"'100 PV- Module'!D37","v":0},null,null,null,{"$f":"'100 PV- Module'!E37","v":0},{"$f":"'100 PV- Module'!F37","v":""},null,null,0]
[{"$f":"'100 PV- Module'!B38","v":0},{"$f":"'100 PV- Module'!C38","v":0},{"$f":"'100 PV- Module'!D38","v":"150.000"},null,null,null,{"$f":"'100 PV- Module'!E38","v":"Glas/Folie mit Rahmen, integriert"},{"$f":"'100 PV- Module'!F38","v":""},null,null,0]
[{"$f":"'100 PV- Module'!B39","v":0},{"$f":"'100 PV- Module'!C39","v":0},{"$f":"'100 PV- Module'!D39","v":"151.000"},null,null,null,{"$f":"'100 PV- Module'!E39","v":"Standardgrösse (1 - 2m2), < 25 kg"},{"$f":"'100 PV- Module'!F39","v":""},null,null,0]
[{"$f":"'100 PV- Module'!B40","v":0},{"$f":"'100 PV- Module'!C40","v":0},{"$f":"'100 PV- Module'!D40","v":"152.000"},null,null,null,{"$f":"'100 PV- Module'!E40","v":"Standardgrösse (1 - 2m2), > 25 kg"},{"$f":"'100 PV- Module'!F40","v":""},null,null,0]
[{"$f":"'100 PV- Module'!B41","v":0},{"$f":"'100 PV- Module'!C41","v":0},{"$f":"'100 PV- Module'!D41","v":"153.000"},null,null,null,{"$f":"'100 PV- Module'!E41","v":"Übergrösse (> 2 m2) < 25 kg"},{"$f":"'100 PV- Module'!F41","v":""},null,null,0]
[{"$f":"'100 PV- Module'!B42","v":0},{"$f":"'100 PV- Module'!C42","v":0},{"$f":"'100 PV- Module'!D42","v":"154.000"},null,null,null,{"$f":"'100 PV- Module'!E42","v":"Übergrösse (> 2 m2) > 25 kg"},{"$f":"'100 PV- Module'!F42","v":""},null,null,0]
[{"$f":"'100 PV- Module'!B43","v":0},{"$f":"'100 PV- Module'!C43","v":0},{"$f":"'100 PV- Module'!D43","v":"155.000"},null,null,null,{"$f":"'100 PV- Module'!E43","v":"PV-Schindeln (< 1 m2); < 25 kg"},{"$f":"'100 PV- Module'!F43","v":""},null,null,0]
[{"$f":"'100 PV- Module'!B44","v":0},{"$f":"'100 PV- Module'!C44","v":0},{"$f":"'100 PV- Module'!D44","v":"156.000"},null,null,null,{"$f":"'100 PV- Module'!E44","v":"PV-Schindeln (< 1 m2); > 25 kg"},{"$f":"'100 PV- Module'!F44","v":""},null,null,0]
[{"$f":"'100 PV- Module'!B45","v":0},{"$f":"'100 PV- Module'!C45","v":0},{"$f":"'100 PV- Module'!D45","v":0},null,null,null,{"$f":"'100 PV- Module'!E45","v":0},{"$f":"'100 PV- Module'!F45","v":""},null,null,0]
[{"$f":"'100 PV- Module'!B46","v":0},{"$f":"'100 PV- Module'!C46","v":0},{"$f":"'100 PV- Module'!D46","v":"160.000"},null,null,null,{"$f":"'100 PV- Module'!E46","v":"Glas/Folie ohne Rahmen, integriert"},{"$f":"'100 PV- Module'!F46","v":""},null,null,0]
[{"$f":"'100 PV- Module'!B47","v":0},{"$f":"'100 PV- Module'!C47","v":0},{"$f":"'100 PV- Module'!D47","v":"161.000"},null,null,null,{"$f":"'100 PV- Module'!E47","v":"Standardgrösse (1 - 2m2), < 25 kg"},{"$f":"'100 PV- Module'!F47","v":""},null,null,0]
[{"$f":"'100 PV- Module'!B48","v":0},{"$f":"'100 PV- Module'!C48","v":0},{"$f":"'100 PV- Module'!D48","v":"162.000"},null,null,null,{"$f":"'100 PV- Module'!E48","v":"Standardgrösse (1 - 2m2), > 25 kg"},{"$f":"'100 PV- Module'!F48","v":""},null,null,0]
[{"$f":"'100 PV- Module'!B49","v":0},{"$f":"'100 PV- Module'!C49","v":0},{"$f":"'100 PV- Module'!D49","v":"163.000"},null,null,null,{"$f":"'100 PV- Module'!E49","v":"Übergrösse (> 2 m2) < 25 kg"},{"$f":"'100 PV- Module'!F49","v":""},null,null,0]
[{"$f":"'100 PV- Module'!B50","v":0},{"$f":"'100 PV- Module'!C50","v":0},{"$f":"'100 PV- Module'!D50","v":"164.000"},null,null,null,{"$f":"'100 PV- Module'!E50","v":"Übergrösse (> 2 m2) > 25 kg"},{"$f":"'100 PV- Module'!F50","v":""},null,null,0]
[{"$f":"'100 PV- Module'!B51","v":0},{"$f":"'100 PV- Module'!C51","v":0},{"$f":"'100 PV- Module'!D51","v":"165.000"},null,null,null,{"$f":"'100 PV- Module'!E51","v":"PV-Schindeln (< 1 m2); < 25 kg"},{"$f":"'100 PV- Module'!F51","v":""},null,null,0]
[{"$f":"'100 PV- Module'!B52","v":0},{"$f":"'100 PV- Module'!C52","v":0},{"$f":"'100 PV- Module'!D52","v":"166.000"},null,null,null,{"$f":"'100 PV- Module'!E52","v":"PV-Schindeln (< 1 m2); > 25 kg"},{"$f":"'100 PV- Module'!F52","v":""},null,null,0]
[{"$f":"'100 PV- Module'!B53","v":0},{"$f":"'100 PV- Module'!C53","v":0},{"$f":"'100 PV- Module'!D53","v":0},null,null,null,{"$f":"'100 PV- Module'!E53","v":0},{"$f":"'100 PV- Module'!F53","v":""},null,null,0]
[{"$f":"'100 PV- Module'!B54","v":0},{"$f":"'100 PV- Module'!C54","v":0},{"$f":"'100 PV- Module'!D54","v":"170.000"},null,null,null,{"$f":"'100 PV- Module'!E54","v":"Glas/Glas mit Rahmen, integriert"},{"$f":"'100 PV- Module'!F54","v":""},null,null,0]
[{"$f":"'100 PV- Module'!B55","v":0},{"$f":"'100 PV- Module'!C55","v":0},{"$f":"'100 PV- Module'!D55","v":"171.000"},null,null,null,{"$f":"'100 PV- Module'!E55","v":"Standardgrösse (1 - 2m2), < 25 kg"},{"$f":"'100 PV- Module'!F55","v":""},null,null,0]
[{"$f":"'100 PV- Module'!B56","v":0},{"$f":"'100 PV- Module'!C56","v":0},{"$f":"'100 PV- Module'!D56","v":"172.000"},null,null,null,{"$f":"'100 PV- Module'!E56","v":"Standardgrösse (1 - 2m2), > 25 kg"},{"$f":"'100 PV- Module'!F56","v":""},null,null,0]
[{"$f":"'100 PV- Module'!B57","v":0},{"$f":"'100 PV- Module'!C57","v":0},{"$f":"'100 PV- Module'!D57","v":"173.000"},null,null,null,{"$f":"'100 PV- Module'!E57","v":"Übergrösse (> 2 m2) < 25 kg"},{"$f":"'100 PV- Module'!F57","v":""},null,null,0]
[{"$f":"'100 PV- Module'!B58","v":0},{"$f":"'100 PV- Module'!C58","v":0},{"$f":"'100 PV- Module'!D58","v":"174.000"},null,null,null,{"$f":"'100 PV- Module'!E58","v":"Übergrösse (> 2 m2) > 25 kg"},{"$f":"'100 PV- Module'!F58","v":""},null,null,0]
[{"$f":"'100 PV- Module'!B59","v":0},{"$f":"'100 PV- Module'!C59","v":0},{"$f":"'100 PV- Module'!D59","v":"175.000"},null,null,null,{"$f":"'100 PV- Module'!E59","v":"PV-Schindeln (< 1 m2); < 25 kg"},{"$f":"'100 PV- Module'!F59","v":""},null,null,0]
[{"$f":"'100 PV- Module'!B60","v":0},{"$f":"'100 PV- Module'!C60","v":0},{"$f":"'100 PV- Module'!D60","v":"176.000"},null,null,null,{"$f":"'100 PV- Module'!E60","v":"PV-Schindeln (< 1 m2); > 25 kg"},{"$f":"'100 PV- Module'!F60","v":""},null,null,0]
[{"$f":"'100 PV- Module'!B61","v":0},{"$f":"'100 PV- Module'!C61","v":0},{"$f":"'100 PV- Module'!D61","v":0},null,null,null,{"$f":"'100 PV- Module'!E61","v":0},{"$f":"'100 PV- Module'!F61","v":""},null,null,0]
[{"$f":"'100 PV- Module'!B62","v":1},{"$f":"'100 PV- Module'!C62","v":0},{"$f":"'100 PV- Module'!D62","v":"180.000"},null,null,null,{"$f":"'100 PV- Module'!E62","v":"Glas/Glas ohne Rahmen, integriert"},{"$f":"'100 PV- Module'!F62","v":""},null,null,0]
[{"$f":"'100 PV- Module'!B63","v":1},{"$f":"'100 PV- Module'!C63","v":1},{"$f":"'100 PV- Module'!D63","v":"181.000"},null,null,null,{"$f":"'100 PV- Module'!E63","v":"Standardgrösse (1 - 2m2), < 25 kg"},{"$f":"'100 PV- Module'!F63","v":"Stk. "},null,null,0]
[{"$f":"'100 PV- Module'!B64","v":0},{"$f":"'100 PV- Module'!C64","v":0},{"$f":"'100 PV- Module'!D64","v":"182.000"},null,null,null,{"$f":"'100 PV- Module'!E64","v":"Standardgrösse (1 - 2m2), > 25 kg"},{"$f":"'100 PV- Module'!F64","v":""},null,null,0]
[{"$f":"'100 PV- Module'!B65","v":0},{"$f":"'100 PV- Module'!C65","v":0},{"$f":"'100 PV- Module'!D65","v":"183.000"},null,null,null,{"$f":"'100 PV- Module'!E65","v":"Übergrösse (> 2 m2) < 25 kg"},{"$f":"'100 PV- Module'!F65","v":""},null,null,0]
[{"$f":"'100 PV- Module'!B66","v":0},{"$f":"'100 PV- Module'!C66","v":0},{"$f":"'100 PV- Module'!D66","v":"184.000"},null,null,null,{"$f":"'100 PV- Module'!E66","v":"Übergrösse (> 2 m2) > 25 kg"},{"$f":"'100 PV- Module'!F66","v":""},null,null,0]
[{"$f":"'100 PV- Module'!B67","v":0},{"$f":"'100 PV- Module'!C67","v":0},{"$f":"'100 PV- Module'!D67","v":"185.000"},null,null,null,{"$f":"'100 PV- Module'!E67","v":"PV-Schindeln (< 1 m2); < 25 kg"},{"$f":"'100 PV- Module'!F67","v":""},null,null,0]
[{"$f":"'100 PV- Module'!B68","v":0},{"$f":"'100 PV- Module'!C68","v":0},{"$f":"'100 PV- Module'!D68","v":"186.000"},null,null,null,{"$f":"'100 PV- Module'!E68","v":"PV-Schindeln (< 1 m2); > 25 kg"},{"$f":"'100 PV- Module'!F68","v":""},null,null,0]
[{"$f":"'100 PV- Module'!B69","v":1},{"$f":"'100 PV- Module'!C69","v":0},{"$f":"'100 PV- Module'!D69","v":0},null,null,null,{"$f":"'100 PV- Module'!E69","v":0},{"$f":"'100 PV- Module'!F69","v":""},null,null,0]
[{"$f":"'100 PV- Module'!B70","v":0},{"$f":"'100 PV- Module'!C70","v":0},{"$f":"'100 PV- Module'!D70","v":"190.000"},null,null,null,{"$f":"'100 PV- Module'!E70","v":"Spezialmodul"},{"$f":"'100 PV- Module'!F70","v":""},null,null,0]
[{"$f":"'100 PV- Module'!B71","v":0},{"$f":"'100 PV- Module'!C71","v":0},{"$f":"'100 PV- Module'!D71","v":"191.000"},null,null,null,{"$f":"'100 PV- Module'!E71","v":"Glas gebogen"},{"$f":"'100 PV- Module'!F71","v":""},null,null,0]
[{"$f":"'100 PV- Module'!B72","v":0},{"$f":"'100 PV- Module'!C72","v":0},{"$f":"'100 PV- Module'!D72","v":"192.000"},null,null,null,{"$f":"'100 PV- Module'!E72","v":"Plexiglas"},{"$f":"'100 PV- Module'!F72","v":""},null,null,{"$f":"J301*I301","v":0}]
[{"$f":"'100 PV- Module'!B73","v":0},{"$f":"'100 PV- Module'!C73","v":0},{"$f":"'100 PV- Module'!D73","v":"193.000"},null,null,null,{"$f":"'100 PV- Module'!E73","v":"Folien flexibel"},{"$f":"'100 PV- Module'!F73","v":""},null,null,0]
[{"$f":"'100 PV- Module'!B74","v":0},{"$f":"'100 PV- Module'!C74","v":0},{"$f":"'100 PV- Module'!D74","v":"194.000"},null,null,null,{"$f":"'100 PV- Module'!E74","v":"Blindmodule gerahmt"},{"$f":"'100 PV- Module'!F74","v":""},null,null,0]
[{"$f":"'100 PV- Module'!B75","v":0},{"$f":"'100 PV- Module'!C75","v":0},{"$f":"'100 PV- Module'!D75","v":"195.000"},null,null,null,{"$f":"'100 PV- Module'!E75","v":"Blindmodule für Laminateinbau"},{"$f":"'100 PV- Module'!F75","v":""},null,null,0]
[{"$f":"'100 PV- Module'!B76","v":0},{"$f":"'100 PV- Module'!C76","v":0},{"$f":"'100 PV- Module'!D76","v":"196.000"},null,null,null,{"$f":"'100 PV- Module'!E76","v":"Blindmodule für Fassade"},{"$f":"'100 PV- Module'!F76","v":""},null,null,0]
[{"$f":"'100 PV- Module'!B77","v":0},{"$f":"'100 PV- Module'!C77","v":0},{"$f":"'100 PV- Module'!D77","v":"197.000"},null,null,null,{"$f":"'100 PV- Module'!E77","v":"PVT-Hybridmodul"},{"$f":"'100 PV- Module'!F77","v":""},null,null,0]
[{"$f":"'100 PV- Module'!B78","v":0},{"$f":"'100 PV- Module'!A78","v":0},{"$f":"'100 PV- Module'!D78","v":0},null,null,null,{"$f":"'100 PV- Module'!E78","v":0},{"$f":"'100 PV- Module'!F78","v":0},null,null,0]
[1,1,null,null,null,null,"Zwischensumme PV- Module",null,null,null,{"$f":"SUM(K233:K307)","v":0}]
[1]
[1,null,"200.000",null,null,null,"PV- Montagesysteme"]
[1]
[{"$f":"'200 PV- Montagesyst.'!B6","v":0},{"$f":"'200 PV- Montagesyst.'!C6","v":0},{"$f":"'200 PV- Montagesyst.'!D6","v":"210.000"},null,null,null,{"$f":"'200 PV- Montagesyst.'!E6","v":"Schrägdach Aufdach, dachparallel"},{"$f":"'200 PV- Montagesyst.'!F6","v":""}]
[{"$f":"'200 PV- Montagesyst.'!B7","v":0},{"$f":"'200 PV- Montagesyst.'!C7","v":0},{"$f":"'200 PV- Montagesyst.'!D7","v":"211.000"},null,null,null,{"$f":"'200 PV- Montagesyst.'!E7","v":"Ziegel, auf Sparren befestigt"},{"$f":"'200 PV- Montagesyst.'!F7","v":""}]
[{"$f":"'200 PV- Montagesyst.'!B8","v":0},{"$f":"'200 PV- Montagesyst.'!C8","v":0},{"$f":"'200 PV- Montagesyst.'!D8","v":"212.000"},null,null,null,{"$f":"'200 PV- Montagesyst.'!E8","v":"Biberschwanz, auf Sparren befestigt"},{"$f":"'200 PV- Montagesyst.'!F8","v":""}]
[{"$f":"'200 PV- Montagesyst.'!B9","v":0},{"$f":"'200 PV- Montagesyst.'!C9","v":0},{"$f":"'200 PV- Montagesyst.'!D9","v":"213.000"},null,null,null,{"$f":"'200 PV- Montagesyst.'!E9","v":"Schiefer oder Platten, Befestigung in Sparren durch Eindeckung"},{"$f":"'200 PV- Montagesyst.'!F9","v":""}]
[{"$f":"'200 PV- Montagesyst.'!B10","v":0},{"$f":"'200 PV- Montagesyst.'!C10","v":0},{"$f":"'200 PV- Montagesyst.'!D10","v":"214.000"},null,null,null,{"$f":"'200 PV- Montagesyst.'!E10","v":"Grossflächige Platten gewellt oder profiliert, Befestigung in Pfetten durch Eindeckung (z.B. Welleternit)"},{"$f":"'200 PV- Montagesyst.'!F10","v":""}]
[{"$f":"'200 PV- Montagesyst.'!B11","v":0},{"$f":"'200 PV- Montagesyst.'!C11","v":0},{"$f":"'200 PV- Montagesyst.'!D11","v":"215.000"},null,null,null,{"$f":"'200 PV- Montagesyst.'!E11","v":"Grossflächige Platten gewellt oder profiliert, Befestigung in äusserte Dachhaut  (z.B. Trapezblech"},{"$f":"'200 PV- Montagesyst.'!F11","v":""}]
[{"$f":"'200 PV- Montagesyst.'!B12","v":0},{"$f":"'200 PV- Montagesyst.'!C12","v":0},{"$f":"'200 PV- Montagesyst.'!D12","v":"216.000"},null,null,null,{"$f":"'200 PV- Montagesyst.'!E12","v":"Blechfalz, Klammerung an Dachhaut"},{"$f":"'200 PV- Montagesyst.'!F12","v":""}]
[{"$f":"'200 PV- Montagesyst.'!B13","v":0},{"$f":"'200 PV- Montagesyst.'!C13","v":0},{"$f":"'200 PV- Montagesyst.'!D13","v":"217.000"},null,null,null,{"$f":"'200 PV- Montagesyst.'!E13","v":"Weitere"},{"$f":"'200 PV- Montagesyst.'!F13","v":""}]
[{"$f":"'200 PV- Montagesyst.'!B14","v":0},{"$f":"'200 PV- Montagesyst.'!C14","v":0},{"$f":"'200 PV- Montagesyst.'!D14","v":0},null,null,null,{"$f":"'200 PV- Montagesyst.'!E14","v":0},{"$f":"'200 PV- Montagesyst.'!F14","v":""}]
[{"$f":"'200 PV- Montagesyst.'!B15","v":0},{"$f":"'200 PV- Montagesyst.'!C15","v":0},{"$f":"'200 PV- Montagesyst.'!D15","v":"220.000"},null,null,null,{"$f":"'200 PV- Montagesyst.'!E15","v":"Schrägdach Indach, dachparallel"},{"$f":"'200 PV- Montagesyst.'!F15","v":""}]
[{"$f":"'200 PV- Montagesyst.'!B16","v":0},{"$f":"'200 PV- Montagesyst.'!C16","v":0},{"$f":"'200 PV- Montagesyst.'!D16","v":"221.000"},null,null,null,{"$f":"'200 PV- Montagesyst.'!E16","v":"Befestigung auf Konterlatte"},{"$f":"'200 PV- Montagesyst.'!F16","v":""}]
[{"$f":"'200 PV- Montagesyst.'!B17","v":0},{"$f":"'200 PV- Montagesyst.'!C17","v":0},{"$f":"'200 PV- Montagesyst.'!D17","v":"222.000"},null,null,null,{"$f":"'200 PV- Montagesyst.'!E17","v":"Befestigung auf Ziegellattung "},{"$f":"'200 PV- Montagesyst.'!F17","v":""}]
[{"$f":"'200 PV- Montagesyst.'!B18","v":0},{"$f":"'200 PV- Montagesyst.'!C18","v":0},{"$f":"'200 PV- Montagesyst.'!D18","v":"223.000"},null,null,null,{"$f":"'200 PV- Montagesyst.'!E18","v":"Befestigung auf Sparren"},{"$f":"'200 PV- Montagesyst.'!F18","v":""}]
[{"$f":"'200 PV- Montagesyst.'!B19","v":0},{"$f":"'200 PV- Montagesyst.'!C19","v":0},{"$f":"'200 PV- Montagesyst.'!D19","v":"224.000"},null,null,null,{"$f":"'200 PV- Montagesyst.'!E19","v":"Befestigung auf Pfetten"},{"$f":"'200 PV- Montagesyst.'!F19","v":""}]
[{"$f":"'200 PV- Montagesyst.'!B20","v":0},{"$f":"'200 PV- Montagesyst.'!C20","v":0},{"$f":"'200 PV- Montagesyst.'!D20","v":"225.000"},null,null,null,{"$f":"'200 PV- Montagesyst.'!E20","v":"Befestigung auf eignen Systemlattung"},{"$f":"'200 PV- Montagesyst.'!F20","v":""}]
[{"$f":"'200 PV- Montagesyst.'!B21","v":0},{"$f":"'200 PV- Montagesyst.'!C21","v":0},{"$f":"'200 PV- Montagesyst.'!D21","v":0},null,null,null,{"$f":"'200 PV- Montagesyst.'!E21","v":0},{"$f":"'200 PV- Montagesyst.'!F21","v":""}]
[{"$f":"'200 PV- Montagesyst.'!B22","v":1},{"$f":"'200 PV- Montagesyst.'!C22","v":0},{"$f":"'200 PV- Montagesyst.'!D22","v":"230.000"},null,null,null,{"$f":"'200 PV- Montagesyst.'!E22","v":"Flachdach (ohne Dachdurchdringung) Montagesyst. mit zwei entgegengesetzten Ausrichtungen (Ost-West)"},{"$f":"'200 PV- Montagesyst.'!F22","v":""}]
[{"$f":"'200 PV- Montagesyst.'!B23","v":0},{"$f":"'200 PV- Montagesyst.'!C23","v":0},{"$f":"'200 PV- Montagesyst.'!D23","v":"231.000"},null,null,null,{"$f":"'200 PV- Montagesyst.'!E23","v":"Auf Flachdach ohne Schutzschicht"},{"$f":"'200 PV- Montagesyst.'!F23","v":""}]
[{"$f":"'200 PV- Montagesyst.'!B24","v":1},{"$f":"'200 PV- Montagesyst.'!C24","v":1},{"$f":"'200 PV- Montagesyst.'!D24","v":"232.000"},null,null,null,{"$f":"'200 PV- Montagesyst.'!E24","v":"Unter Kies\nEigenschaften: \nKlemmsystem"},{"$f":"'200 PV- Montagesyst.'!F24","v":"Modul"}]
[{"$f":"'200 PV- Montagesyst.'!B25","v":0},{"$f":"'200 PV- Montagesyst.'!C25","v":0},{"$f":"'200 PV- Montagesyst.'!D25","v":"233.000"},null,null,null,{"$f":"'200 PV- Montagesyst.'!E25","v":"Auf Kies"},{"$f":"'200 PV- Montagesyst.'!F25","v":""}]
[{"$f":"'200 PV- Montagesyst.'!B26","v":0},{"$f":"'200 PV- Montagesyst.'!C26","v":0},{"$f":"'200 PV- Montagesyst.'!D26","v":"234.000"},null,null,null,{"$f":"'200 PV- Montagesyst.'!E26","v":"Unter Begrünung, erhöhte Konstruktion"},{"$f":"'200 PV- Montagesyst.'!F26","v":""}]
[{"$f":"'200 PV- Montagesyst.'!B27","v":0},{"$f":"'200 PV- Montagesyst.'!C27","v":0},{"$f":"'200 PV- Montagesyst.'!D27","v":"235.000"},null,null,null,{"$f":"'200 PV- Montagesyst.'!E27","v":"Auf Begrünung, erhöhte Konstruktion"},{"$f":"'200 PV- Montagesyst.'!F27","v":""}]
[{"$f":"'200 PV- Montagesyst.'!B28","v":0},{"$f":"'200 PV- Montagesyst.'!C28","v":0},{"$f":"'200 PV- Montagesyst.'!D28","v":"236.000"},null,null,null,{"$f":"'200 PV- Montagesyst.'!E28","v":"Auf Gehwegplatten montiert"},{"$f":"'200 PV- Montagesyst.'!F28","v":""}]
[{"$f":"'200 PV- Montagesyst.'!B29","v":0},{"$f":"'200 PV- Montagesyst.'!C29","v":0},{"$f":"'200 PV- Montagesyst.'!D29","v":"237.000"},null,null,null,{"$f":"'200 PV- Montagesyst.'!E29","v":"Weitere"},{"$f":"'200 PV- Montagesyst.'!F29","v":""}]
[{"$f":"'200 PV- Montagesyst.'!B30","v":1},{"$f":"'200 PV- Montagesyst.'!C30","v":0},{"$f":"'200 PV- Montagesyst.'!D30","v":0},null,null,null,{"$f":"'200 PV- Montagesyst.'!E30","v":0},{"$f":"'200 PV- Montagesyst.'!F30","v":""}]
[{"$f":"'200 PV- Montagesyst.'!B31","v":0},{"$f":"'200 PV- Montagesyst.'!C31","v":0},{"$f":"'200 PV- Montagesyst.'!D31","v":"240.000"},null,null,null,{"$f":"'200 PV- Montagesyst.'!E31","v":"Flachdach (ohne Dachdruchdringung) Montagesystem mit einer Ausrichtung (Süd)"},{"$f":"'200 PV- Montagesyst.'!F31","v":""}]
[{"$f":"'200 PV- Montagesyst.'!B32","v":0},{"$f":"'200 PV- Montagesyst.'!C32","v":0},{"$f":"'200 PV- Montagesyst.'!D32","v":"241.000"},null,null,null,{"$f":"'200 PV- Montagesyst.'!E32","v":"Auf Flachdach ohne Schutzschicht"},{"$f":"'200 PV- Montagesyst.'!F32","v":""}]
[{"$f":"'200 PV- Montagesyst.'!B33","v":0},{"$f":"'200 PV- Montagesyst.'!C33","v":0},{"$f":"'200 PV- Montagesyst.'!D33","v":"242.000"},null,null,null,{"$f":"'200 PV- Montagesyst.'!E33","v":"Unter Kies"},{"$f":"'200 PV- Montagesyst.'!F33","v":""}]
[{"$f":"'200 PV- Montagesyst.'!B34","v":0},{"$f":"'200 PV- Montagesyst.'!C34","v":0},{"$f":"'200 PV- Montagesyst.'!D34","v":"243.000"},null,null,null,{"$f":"'200 PV- Montagesyst.'!E34","v":"Auf Kies"},{"$f":"'200 PV- Montagesyst.'!F34","v":""}]
[{"$f":"'200 PV- Montagesyst.'!B35","v":0},{"$f":"'200 PV- Montagesyst.'!C35","v":0},{"$f":"'200 PV- Montagesyst.'!D35","v":"244.000"},null,null,null,{"$f":"'200 PV- Montagesyst.'!E35","v":"Unter Begrünung, erhöhte Konstruktion"},{"$f":"'200 PV- Montagesyst.'!F35","v":""}]
[{"$f":"'200 PV- Montagesyst.'!B36","v":0},{"$f":"'200 PV- Montagesyst.'!C36","v":0},{"$f":"'200 PV- Montagesyst.'!D36","v":"245.000"},null,null,null,{"$f":"'200 PV- Montagesyst.'!E36","v":"Auf Begrünung, erhöhte Konstruktion"},{"$f":"'200 PV- Montagesyst.'!F36","v":""}]
[{"$f":"'200 PV- Montagesyst.'!B37","v":0},{"$f":"'200 PV- Montagesyst.'!C37","v":0},{"$f":"'200 PV- Montagesyst.'!D37","v":"246.000"},null,null,null,{"$f":"'200 PV- Montagesyst.'!E37","v":"Auf Gehwegplatten montiert"},{"$f":"'200 PV- Montagesyst.'!F37","v":""}]
[{"$f":"'200 PV- Montagesyst.'!B38","v":0},{"$f":"'200 PV- Montagesyst.'!C38","v":0},{"$f":"'200 PV- Montagesyst.'!D38","v":0},null,null,null,{"$f":"'200 PV- Montagesyst.'!E38","v":0},{"$f":"'200 PV- Montagesyst.'!F38","v":""}]
[{"$f":"'200 PV- Montagesyst.'!B39","v":0},{"$f":"'200 PV- Montagesyst.'!C39","v":0},{"$f":"'200 PV- Montagesyst.'!D39","v":"250.000"},null,null,null,{"$f":"'200 PV- Montagesyst.'!E39","v":"Fassade"},{"$f":"'200 PV- Montagesyst.'!F39","v":""}]
[{"$f":"'200 PV- Montagesyst.'!B40","v":0},{"$f":"'200 PV- Montagesyst.'!C40","v":0},{"$f":"'200 PV- Montagesyst.'!D40","v":"251.000"},null,null,null,{"$f":"'200 PV- Montagesyst.'!E40","v":"Parallel gebäudeintegriert Standardmodul"},{"$f":"'200 PV- Montagesyst.'!F40","v":""}]
[{"$f":"'200 PV- Montagesyst.'!B41","v":0},{"$f":"'200 PV- Montagesyst.'!C41","v":0},{"$f":"'200 PV- Montagesyst.'!D41","v":"252.000"},null,null,null,{"$f":"'200 PV- Montagesyst.'!E41","v":"Parallel gebäudeintegriert Modul mit Spezialgrösse"},{"$f":"'200 PV- Montagesyst.'!F41","v":""}]
[{"$f":"'200 PV- Montagesyst.'!B42","v":0},{"$f":"'200 PV- Montagesyst.'!C42","v":0},{"$f":"'200 PV- Montagesyst.'!D42","v":"253.000"},null,null,null,{"$f":"'200 PV- Montagesyst.'!E42","v":"Parallel angebaut Standardmodul"},{"$f":"'200 PV- Montagesyst.'!F42","v":""}]
[{"$f":"'200 PV- Montagesyst.'!B43","v":0},{"$f":"'200 PV- Montagesyst.'!C43","v":0},{"$f":"'200 PV- Montagesyst.'!D43","v":"254.000"},null,null,null,{"$f":"'200 PV- Montagesyst.'!E43","v":"Parallel angebaut Modul mit Spezialgrösse"},{"$f":"'200 PV- Montagesyst.'!F43","v":""}]
[{"$f":"'200 PV- Montagesyst.'!B44","v":0},{"$f":"'200 PV- Montagesyst.'!C44","v":0},{"$f":"'200 PV- Montagesyst.'!D44","v":"255.000"},null,null,null,{"$f":"'200 PV- Montagesyst.'!E44","v":"Schräg angebaut Standardmodul"},{"$f":"'200 PV- Montagesyst.'!F44","v":""}]
[{"$f":"'200 PV- Montagesyst.'!B45","v":0},{"$f":"'200 PV- Montagesyst.'!C45","v":0},{"$f":"'200 PV- Montagesyst.'!D45","v":"256.000"},null,null,null,{"$f":"'200 PV- Montagesyst.'!E45","v":"Schräg angebaut Modul mit Spezialgrösse"},{"$f":"'200 PV- Montagesyst.'!F45","v":""}]
[{"$f":"'200 PV- Montagesyst.'!B46","v":0},{"$f":"'200 PV- Montagesyst.'!C46","v":0},{"$f":"'200 PV- Montagesyst.'!D46","v":"257.000"},null,null,null,{"$f":"'200 PV- Montagesyst.'!E46","v":"Geschuppte Module"},{"$f":"'200 PV- Montagesyst.'!F46","v":""}]
[{"$f":"'200 PV- Montagesyst.'!B47","v":0},{"$f":"'200 PV- Montagesyst.'!C47","v":0},{"$f":"'200 PV- Montagesyst.'!D47","v":0},null,null,null,{"$f":"'200 PV- Montagesyst.'!E47","v":0},{"$f":"'200 PV- Montagesyst.'!F47","v":""}]
[{"$f":"'200 PV- Montagesyst.'!B48","v":0},{"$f":"'200 PV- Montagesyst.'!C48","v":0},{"$f":"'200 PV- Montagesyst.'!D48","v":"260.000"},null,null,null,{"$f":"'200 PV- Montagesyst.'!E48","v":"Freifläche"},{"$f":"'200 PV- Montagesyst.'!F48","v":""}]
[{"$f":"'200 PV- Montagesyst.'!B49","v":0},{"$f":"'200 PV- Montagesyst.'!C49","v":0},{"$f":"'200 PV- Montagesyst.'!D49","v":"261.000"},null,null,null,{"$f":"'200 PV- Montagesyst.'!E49","v":"In Boden gerammt"},{"$f":"'200 PV- Montagesyst.'!F49","v":""}]
[{"$f":"'200 PV- Montagesyst.'!B50","v":0},{"$f":"'200 PV- Montagesyst.'!C50","v":0},{"$f":"'200 PV- Montagesyst.'!D50","v":"262.000"},null,null,null,{"$f":"'200 PV- Montagesyst.'!E50","v":"Auf festem Untergrund gestellt"},{"$f":"'200 PV- Montagesyst.'!F50","v":""}]
[{"$f":"'200 PV- Montagesyst.'!B51","v":0},{"$f":"'200 PV- Montagesyst.'!C51","v":0},{"$f":"'200 PV- Montagesyst.'!D51","v":"263.000"},null,null,null,{"$f":"'200 PV- Montagesyst.'!E51","v":"Carports"},{"$f":"'200 PV- Montagesyst.'!F51","v":""}]
[{"$f":"'200 PV- Montagesyst.'!B52","v":0},{"$f":"'200 PV- Montagesyst.'!C52","v":0},{"$f":"'200 PV- Montagesyst.'!D52","v":"264.000"},null,null,null,{"$f":"'200 PV- Montagesyst.'!E52","v":"Bikeports"},{"$f":"'200 PV- Montagesyst.'!F52","v":""}]
[{"$f":"'200 PV- Montagesyst.'!B53","v":0},{"$f":"'200 PV- Montagesyst.'!C53","v":0},{"$f":"'200 PV- Montagesyst.'!D53","v":"265.000"},null,null,null,{"$f":"'200 PV- Montagesyst.'!E53","v":"Schwimmend"},{"$f":"'200 PV- Montagesyst.'!F53","v":""}]
[{"$f":"'200 PV- Montagesyst.'!B54","v":0},{"$f":"'200 PV- Montagesyst.'!C54","v":0},{"$f":"'200 PV- Montagesyst.'!D54","v":0},null,null,null,{"$f":"'200 PV- Montagesyst.'!E54","v":0},{"$f":"'200 PV- Montagesyst.'!F54","v":""}]
[{"$f":"'200 PV- Montagesyst.'!B55","v":0},{"$f":"'200 PV- Montagesyst.'!C55","v":0},{"$f":"'200 PV- Montagesyst.'!D55","v":"270.000"},null,null,null,{"$f":"'200 PV- Montagesyst.'!E55","v":"Weitere"},{"$f":"'200 PV- Montagesyst.'!F55","v":""}]
[{"$f":"'200 PV- Montagesyst.'!B56","v":0},{"$f":"'200 PV- Montagesyst.'!C56","v":0},{"$f":"'200 PV- Montagesyst.'!D56","v":"271.000"},null,null,null,{"$f":"'200 PV- Montagesyst.'!E56","v":"Schrägdach, Aufgeständert"},{"$f":"'200 PV- Montagesyst.'!F56","v":""}]
[{"$f":"'200 PV- Montagesyst.'!B57","v":0},{"$f":"'200 PV- Montagesyst.'!C57","v":0},{"$f":"'200 PV- Montagesyst.'!D57","v":0},null,null,null,{"$f":"'200 PV- Montagesyst.'!E57","v":0},{"$f":"'200 PV- Montagesyst.'!F57","v":""}]
[{"$f":"'200 PV- Montagesyst.'!B58","v":0},{"$f":"'200 PV- Montagesyst.'!C58","v":0},{"$f":"'200 PV- Montagesyst.'!D58","v":"280.000"},null,null,null,{"$f":"'200 PV- Montagesyst.'!E58","v":"Zusatzmaterial"},{"$f":"'200 PV- Montagesyst.'!F58","v":""}]
[{"$f":"'200 PV- Montagesyst.'!B59","v":0},{"$f":"'200 PV- Montagesyst.'!C59","v":0},{"$f":"'200 PV- Montagesyst.'!D59","v":"281.000"},null,null,null,{"$f":"'200 PV- Montagesyst.'!E59","v":"Aufwuchshemmende Matte (UV-beständig)"},{"$f":"'200 PV- Montagesyst.'!F59","v":""}]
[{"$f":"'200 PV- Montagesyst.'!B60","v":0},{"$f":"'200 PV- Montagesyst.'!C60","v":0},{"$f":"'200 PV- Montagesyst.'!D60","v":"282.000"},null,null,null,{"$f":"'200 PV- Montagesyst.'!E60","v":"Anschlüsse für Schrägdach integriert"},{"$f":"'200 PV- Montagesyst.'!F60","v":""}]
[{"$f":"'200 PV- Montagesyst.'!B61","v":0},{"$f":"'200 PV- Montagesyst.'!C61","v":0},{"$f":"'200 PV- Montagesyst.'!D61","v":"283.000"},null,null,null,{"$f":"'200 PV- Montagesyst.'!E61","v":"Schneefang"},{"$f":"'200 PV- Montagesyst.'!F61","v":""}]
[{"$f":"'200 PV- Montagesyst.'!B62","v":0},{"$f":"'200 PV- Montagesyst.'!C62","v":0},{"$f":"'200 PV- Montagesyst.'!D62","v":"284.000"},null,null,null,{"$f":"'200 PV- Montagesyst.'!E62","v":"Schneestopper "},{"$f":"'200 PV- Montagesyst.'!F62","v":""}]
[{"$f":"'200 PV- Montagesyst.'!B63","v":0},{"$f":"'200 PV- Montagesyst.'!C63","v":0},{"$f":"'200 PV- Montagesyst.'!D63","v":"285.000"},null,null,null,{"$f":"'200 PV- Montagesyst.'!E63","v":"Dachfenster für Indachanlagen"},{"$f":"'200 PV- Montagesyst.'!F63","v":""}]
[{"$f":"'200 PV- Montagesyst.'!B64","v":0},{"$f":"'200 PV- Montagesyst.'!C64","v":0},{"$f":"'200 PV- Montagesyst.'!D64","v":"286.000"},null,null,null,{"$f":"'200 PV- Montagesyst.'!E64","v":"Thermiekollektor für Indachanlagen"},{"$f":"'200 PV- Montagesyst.'!F64","v":""}]
[{"$f":"'200 PV- Montagesyst.'!B65","v":0},{"$f":"'200 PV- Montagesyst.'!C65","v":0},{"$f":"'200 PV- Montagesyst.'!D65","v":0},null,null,null,{"$f":"'200 PV- Montagesyst.'!E65","v":0},{"$f":"'200 PV- Montagesyst.'!F65","v":0}]
[1,1,null,null,null,null,"Zwischensumme PV- Montagesysteme"]
[1]
[1,null,"300.000",null,null,null,"Anschlussgeräte"]
[1]
[{"$f":"'300 Anschlussgeräte'!B6","v":1},{"$f":"'300 Anschlussgeräte'!C6","v":0},{"$f":"'300 Anschlussgeräte'!D6","v":"310.000"},null,null,null,{"$f":"'300 Anschlussgeräte'!E6","v":"Stringwechselrichter netzgeführt"},{"$f":"'300 Anschlussgeräte'!F6","v":""}]
[{"$f":"'300 Anschlussgeräte'!B7","v":1},{"$f":"'300 Anschlussgeräte'!C7","v":1},{"$f":"'300 Anschlussgeräte'!D7","v":"311.000"},null,null,null,{"$f":"'300 Anschlussgeräte'!E7","v":"Stringwechselrichter für NS ohne Hybridfunktion\nEigenschaften: \nAnzahl MPPT\nIP-Schutz\nDC-Trennstelle"},{"$f":"'300 Anschlussgeräte'!F7","v":"Stk. "}]
[{"$f":"'300 Anschlussgeräte'!B8","v":0},{"$f":"'300 Anschlussgeräte'!C8","v":0},{"$f":"'300 Anschlussgeräte'!D8","v":"312.000"},null,null,null,{"$f":"'300 Anschlussgeräte'!E8","v":"Stringwechselrichter für NS mit Hybridfunktion"},{"$f":"'300 Anschlussgeräte'!F8","v":""}]
[{"$f":"'300 Anschlussgeräte'!B9","v":0},{"$f":"'300 Anschlussgeräte'!C9","v":0},{"$f":"'300 Anschlussgeräte'!D9","v":"313.000"},null,null,null,{"$f":"'300 Anschlussgeräte'!E9","v":"Stringwechselrichter für Special-Voltage"},{"$f":"'300 Anschlussgeräte'!F9","v":""}]
[{"$f":"'300 Anschlussgeräte'!B10","v":0},{"$f":"'300 Anschlussgeräte'!C10","v":0},{"$f":"'300 Anschlussgeräte'!D10","v":"314.000"},null,null,null,{"$f":"'300 Anschlussgeräte'!E10","v":"Modulwechselrichter"},{"$f":"'300 Anschlussgeräte'!F10","v":""}]
[{"$f":"'300 Anschlussgeräte'!B11","v":1},{"$f":"'300 Anschlussgeräte'!C11","v":0},{"$f":"'300 Anschlussgeräte'!D11","v":0},null,null,null,{"$f":"'300 Anschlussgeräte'!E11","v":0},{"$f":"'300 Anschlussgeräte'!F11","v":""}]
[{"$f":"'300 Anschlussgeräte'!B12","v":0},{"$f":"'300 Anschlussgeräte'!C12","v":0},{"$f":"'300 Anschlussgeräte'!D12","v":"320.000"},null,null,null,{"$f":"'300 Anschlussgeräte'!E12","v":"Zentralwechselrichter netzgeführt"},{"$f":"'300 Anschlussgeräte'!F12","v":""}]
[{"$f":"'300 Anschlussgeräte'!B13","v":0},{"$f":"'300 Anschlussgeräte'!C13","v":0},{"$f":"'300 Anschlussgeräte'!D13","v":"321.000"},null,null,null,{"$f":"'300 Anschlussgeräte'!E13","v":"Zentralwechselrichter für NS"},{"$f":"'300 Anschlussgeräte'!F13","v":""}]
[{"$f":"'300 Anschlussgeräte'!B14","v":0},{"$f":"'300 Anschlussgeräte'!C14","v":0},{"$f":"'300 Anschlussgeräte'!D14","v":"322.000"},null,null,null,{"$f":"'300 Anschlussgeräte'!E14","v":"Zentralwechselrichter für Special Voltage"},{"$f":"'300 Anschlussgeräte'!F14","v":""}]
[{"$f":"'300 Anschlussgeräte'!B15","v":0},{"$f":"'300 Anschlussgeräte'!C15","v":0},{"$f":"'300 Anschlussgeräte'!D15","v":0},null,null,null,{"$f":"'300 Anschlussgeräte'!E15","v":0},{"$f":"'300 Anschlussgeräte'!F15","v":""}]
[{"$f":"'300 Anschlussgeräte'!B16","v":1},{"$f":"'300 Anschlussgeräte'!C16","v":0},{"$f":"'300 Anschlussgeräte'!D16","v":"330.000"},null,null,null,{"$f":"'300 Anschlussgeräte'!E16","v":"Generatoranschlusskasten"},{"$f":"'300 Anschlussgeräte'!F16","v":""}]
[{"$f":"'300 Anschlussgeräte'!B17","v":0},{"$f":"'300 Anschlussgeräte'!C17","v":0},{"$f":"'300 Anschlussgeräte'!D17","v":"331.000"},null,null,null,{"$f":"'300 Anschlussgeräte'!E17","v":"ohne SPD, ohne Trennschalter"},{"$f":"'300 Anschlussgeräte'!F17","v":""}]
[{"$f":"'300 Anschlussgeräte'!B18","v":0},{"$f":"'300 Anschlussgeräte'!C18","v":0},{"$f":"'300 Anschlussgeräte'!D18","v":"332.000"},null,null,null,{"$f":"'300 Anschlussgeräte'!E18","v":"ohne SPD, mit Trennschalter"},{"$f":"'300 Anschlussgeräte'!F18","v":""}]
[{"$f":"'300 Anschlussgeräte'!B19","v":0},{"$f":"'300 Anschlussgeräte'!C19","v":0},{"$f":"'300 Anschlussgeräte'!D19","v":"333.000"},null,null,null,{"$f":"'300 Anschlussgeräte'!E19","v":"mit SPD 2, ohne Trennschalter"},{"$f":"'300 Anschlussgeräte'!F19","v":""}]
[{"$f":"'300 Anschlussgeräte'!B20","v":0},{"$f":"'300 Anschlussgeräte'!C20","v":0},{"$f":"'300 Anschlussgeräte'!D20","v":"334.000"},null,null,null,{"$f":"'300 Anschlussgeräte'!E20","v":"mit SPD 2, mit Trennschalter"},{"$f":"'300 Anschlussgeräte'!F20","v":""}]
[{"$f":"'300 Anschlussgeräte'!B21","v":1},{"$f":"'300 Anschlussgeräte'!C21","v":1},{"$f":"'300 Anschlussgeräte'!D21","v":"335.000"},null,null,null,{"$f":"'300 Anschlussgeräte'!E21","v":"mit SPD 1+ 2, ohne Trennschalter\nEigenschaften: \nAnzahl MPPT\nEinhausungstyp Metall/Kunststoff"},{"$f":"'300 Anschlussgeräte'!F21","v":"Stk. "}]
[{"$f":"'300 Anschlussgeräte'!B22","v":0},{"$f":"'300 Anschlussgeräte'!C22","v":0},{"$f":"'300 Anschlussgeräte'!D22","v":"336.000"},null,null,null,{"$f":"'300 Anschlussgeräte'!E22","v":"mit SPD 1+ 2, mit Trennschalter"},{"$f":"'300 Anschlussgeräte'!F22","v":""}]
[{"$f":"'300 Anschlussgeräte'!B23","v":0},{"$f":"'300 Anschlussgeräte'!C23","v":0},{"$f":"'300 Anschlussgeräte'!D23","v":"337.000"},null,null,null,{"$f":"'300 Anschlussgeräte'!E23","v":"DC-Sicherungen"},{"$f":"'300 Anschlussgeräte'!F23","v":""}]
[{"$f":"'300 Anschlussgeräte'!B24","v":0},{"$f":"'300 Anschlussgeräte'!C24","v":0},{"$f":"'300 Anschlussgeräte'!D24","v":"338.000"},null,null,null,{"$f":"'300 Anschlussgeräte'!E24","v":"Überspannungschutzpatronen"},{"$f":"'300 Anschlussgeräte'!F24","v":""}]
[{"$f":"'300 Anschlussgeräte'!B25","v":1},{"$f":"'300 Anschlussgeräte'!C25","v":0},{"$f":"'300 Anschlussgeräte'!D25","v":0},null,null,null,{"$f":"'300 Anschlussgeräte'!E25","v":0},{"$f":"'300 Anschlussgeräte'!F25","v":""}]
[{"$f":"'300 Anschlussgeräte'!B26","v":0},{"$f":"'300 Anschlussgeräte'!C26","v":0},{"$f":"'300 Anschlussgeräte'!D26","v":"340.000"},null,null,null,{"$f":"'300 Anschlussgeräte'!E26","v":"Batteriespeicher DC-Systeme"},{"$f":"'300 Anschlussgeräte'!F26","v":""}]
[{"$f":"'300 Anschlussgeräte'!B27","v":0},{"$f":"'300 Anschlussgeräte'!C27","v":0},{"$f":"'300 Anschlussgeräte'!D27","v":"341.000"},null,null,null,{"$f":"'300 Anschlussgeräte'!E27","v":"Containermodul (Aussenanwendung, Komplettsystem)"},{"$f":"'300 Anschlussgeräte'!F27","v":""}]
[{"$f":"'300 Anschlussgeräte'!B28","v":0},{"$f":"'300 Anschlussgeräte'!C28","v":0},{"$f":"'300 Anschlussgeräte'!D28","v":"342.000"},null,null,null,{"$f":"'300 Anschlussgeräte'!E28","v":"Batteriesspeichersystem (inkl. WR und Laderegler)"},{"$f":"'300 Anschlussgeräte'!F28","v":""}]
[{"$f":"'300 Anschlussgeräte'!B29","v":0},{"$f":"'300 Anschlussgeräte'!C29","v":0},{"$f":"'300 Anschlussgeräte'!D29","v":"343.000"},null,null,null,{"$f":"'300 Anschlussgeräte'!E29","v":"Batteriespeichersystem (ohne WR und Laderegler)"},{"$f":"'300 Anschlussgeräte'!F29","v":""}]
[{"$f":"'300 Anschlussgeräte'!B30","v":0},{"$f":"'300 Anschlussgeräte'!C30","v":0},{"$f":"'300 Anschlussgeräte'!D30","v":"344.000"},null,null,null,{"$f":"'300 Anschlussgeräte'!E30","v":"Batterieladeregler"},{"$f":"'300 Anschlussgeräte'!F30","v":""}]
[{"$f":"'300 Anschlussgeräte'!B31","v":0},{"$f":"'300 Anschlussgeräte'!C31","v":0},{"$f":"'300 Anschlussgeräte'!D31","v":"345.000"},null,null,null,{"$f":"'300 Anschlussgeräte'!E31","v":"Batteriemodul"},{"$f":"'300 Anschlussgeräte'!F31","v":""}]
[{"$f":"'300 Anschlussgeräte'!B32","v":0},{"$f":"'300 Anschlussgeräte'!C32","v":0},{"$f":"'300 Anschlussgeräte'!D32","v":0},null,null,null,{"$f":"'300 Anschlussgeräte'!E32","v":0},{"$f":"'300 Anschlussgeräte'!F32","v":""}]
[{"$f":"'300 Anschlussgeräte'!B33","v":0},{"$f":"'300 Anschlussgeräte'!C33","v":0},{"$f":"'300 Anschlussgeräte'!D33","v":"350.000"},null,null,null,{"$f":"'300 Anschlussgeräte'!E33","v":"Batteriespeicher AC-System"},{"$f":"'300 Anschlussgeräte'!F33","v":""}]
[{"$f":"'300 Anschlussgeräte'!B34","v":0},{"$f":"'300 Anschlussgeräte'!C34","v":0},{"$f":"'300 Anschlussgeräte'!D34","v":"351.000"},null,null,null,{"$f":"'300 Anschlussgeräte'!E34","v":"Containermodul (Aussenanwendung, Komplettsystem)"},{"$f":"'300 Anschlussgeräte'!F34","v":""}]
[{"$f":"'300 Anschlussgeräte'!B35","v":0},{"$f":"'300 Anschlussgeräte'!C35","v":0},{"$f":"'300 Anschlussgeräte'!D35","v":"352.000"},null,null,null,{"$f":"'300 Anschlussgeräte'!E35","v":"Batteriespeichersysteme (inkl. WR)"},{"$f":"'300 Anschlussgeräte'!F35","v":""}]
[{"$f":"'300 Anschlussgeräte'!B36","v":0},{"$f":"'300 Anschlussgeräte'!C36","v":0},{"$f":"'300 Anschlussgeräte'!D36","v":"353.000"},null,null,null,{"$f":"'300 Anschlussgeräte'!E36","v":"Batteriemodul"},{"$f":"'300 Anschlussgeräte'!F36","v":""}]
[{"$f":"'300 Anschlussgeräte'!B37","v":0},{"$f":"'300 Anschlussgeräte'!C37","v":0},{"$f":"'300 Anschlussgeräte'!D37","v":0},null,null,null,{"$f":"'300 Anschlussgeräte'!E37","v":0},{"$f":"'300 Anschlussgeräte'!F37","v":""}]
[{"$f":"'300 Anschlussgeräte'!B38","v":1},{"$f":"'300 Anschlussgeräte'!C38","v":0},{"$f":"'300 Anschlussgeräte'!D38","v":"360.000"},null,null,null,{"$f":"'300 Anschlussgeräte'!E38","v":"Peripheriegeräte WR/Batterie"},{"$f":"'300 Anschlussgeräte'!F38","v":""}]
[{"$f":"'300 Anschlussgeräte'!B39","v":0},{"$f":"'300 Anschlussgeräte'!C39","v":0},{"$f":"'300 Anschlussgeräte'!D39","v":"361.000"},null,null,null,{"$f":"'300 Anschlussgeräte'!E39","v":"Modul-Optimizer"},{"$f":"'300 Anschlussgeräte'!F39","v":""}]
[{"$f":"'300 Anschlussgeräte'!B40","v":0},{"$f":"'300 Anschlussgeräte'!C40","v":0},{"$f":"'300 Anschlussgeräte'!D40","v":"362.000"},null,null,null,{"$f":"'300 Anschlussgeräte'!E40","v":"String-Optimizer"},{"$f":"'300 Anschlussgeräte'!F40","v":""}]
[{"$f":"'300 Anschlussgeräte'!B41","v":0},{"$f":"'300 Anschlussgeräte'!C41","v":0},{"$f":"'300 Anschlussgeräte'!D41","v":"363.000"},null,null,null,{"$f":"'300 Anschlussgeräte'!E41","v":"Datenlogger"},{"$f":"'300 Anschlussgeräte'!F41","v":""}]
[{"$f":"'300 Anschlussgeräte'!B42","v":0},{"$f":"'300 Anschlussgeräte'!C42","v":0},{"$f":"'300 Anschlussgeräte'!D42","v":"364.000"},null,null,null,{"$f":"'300 Anschlussgeräte'!E42","v":"Wettersensoren"},{"$f":"'300 Anschlussgeräte'!F42","v":""}]
[{"$f":"'300 Anschlussgeräte'!B43","v":1},{"$f":"'300 Anschlussgeräte'!C43","v":1},{"$f":"'300 Anschlussgeräte'!D43","v":"365.000"},null,null,null,{"$f":"'300 Anschlussgeräte'!E43","v":"SmartMeter\nEigenschaften: \n3- phasig\nDirektmessung"},{"$f":"'300 Anschlussgeräte'!F43","v":"Stk. "}]
[{"$f":"'300 Anschlussgeräte'!B44","v":1},{"$f":"'300 Anschlussgeräte'!C44","v":1},{"$f":"'300 Anschlussgeräte'!D44","v":"366.000"},null,null,null,{"$f":"'300 Anschlussgeräte'!E44","v":"Steuerung Verbraucher (z.B. Elektro-Heizeinsatz od. Elektroladestation)\nEigenschaften: \nAnzahl potentialfreie Kontakte"},{"$f":"'300 Anschlussgeräte'!F44","v":"Stk. "}]
[{"$f":"'300 Anschlussgeräte'!B45","v":1},{"$f":"'300 Anschlussgeräte'!C45","v":1},{"$f":"'300 Anschlussgeräte'!D45","v":"367.000"},null,null,null,{"$f":"'300 Anschlussgeräte'!E45","v":"SIM-Router"},{"$f":"'300 Anschlussgeräte'!F45","v":"Stk. "}]
[{"$f":"'300 Anschlussgeräte'!B46","v":0},{"$f":"'300 Anschlussgeräte'!C46","v":0},{"$f":"'300 Anschlussgeräte'!D46","v":"368.000"},null,null,null,{"$f":"'300 Anschlussgeräte'!E46","v":"Visualisierung"},{"$f":"'300 Anschlussgeräte'!F46","v":""}]
[{"$f":"'300 Anschlussgeräte'!B47","v":1},{"$f":"'300 Anschlussgeräte'!C47","v":0},{"$f":"'300 Anschlussgeräte'!D47","v":0},null,null,null,{"$f":"'300 Anschlussgeräte'!E47","v":0},{"$f":"'300 Anschlussgeräte'!F47","v":""}]
[{"$f":"'300 Anschlussgeräte'!B48","v":1},{"$f":"'300 Anschlussgeräte'!C48","v":0},{"$f":"'300 Anschlussgeräte'!D48","v":"370.000"},null,null,null,{"$f":"'300 Anschlussgeräte'!E48","v":"Angesteuerte Verbraucher/Smart Energy"},{"$f":"'300 Anschlussgeräte'!F48","v":""}]
[{"$f":"'300 Anschlussgeräte'!B49","v":1},{"$f":"'300 Anschlussgeräte'!C49","v":1},{"$f":"'300 Anschlussgeräte'!D49","v":"371.000"},null,null,null,{"$f":"'300 Anschlussgeräte'!E49","v":"Elektroladestationen \nEigenschaften: \nSteckertyp (Typ 1, Typ 2, CCS, CHAdeMO)"},{"$f":"'300 Anschlussgeräte'!F49","v":"Stk. "}]
[{"$f":"'300 Anschlussgeräte'!B50","v":0},{"$f":"'300 Anschlussgeräte'!C50","v":0},{"$f":"'300 Anschlussgeräte'!D50","v":"372.000"},null,null,null,{"$f":"'300 Anschlussgeräte'!E50","v":"Wärmeerzeuger"},{"$f":"'300 Anschlussgeräte'!F50","v":""}]
[{"$f":"'300 Anschlussgeräte'!B51","v":0},{"$f":"'300 Anschlussgeräte'!C51","v":0},{"$f":"'300 Anschlussgeräte'!D51","v":"373.000"},null,null,null,{"$f":"'300 Anschlussgeräte'!E51","v":"SmartEnergy-Geräte"},{"$f":"'300 Anschlussgeräte'!F51","v":""}]
[{"$f":"'300 Anschlussgeräte'!B52","v":1},{"$f":"'300 Anschlussgeräte'!C52","v":0},{"$f":"'300 Anschlussgeräte'!D52","v":0},null,null,null,{"$f":"'300 Anschlussgeräte'!E52","v":0},{"$f":"'300 Anschlussgeräte'!F52","v":""}]
[{"$f":"'300 Anschlussgeräte'!B53","v":0},{"$f":"'300 Anschlussgeräte'!C53","v":0},{"$f":"'300 Anschlussgeräte'!D53","v":"380.000"},null,null,null,{"$f":"'300 Anschlussgeräte'!E53","v":"Insel-Komponenten"},{"$f":"'300 Anschlussgeräte'!F53","v":""}]
[{"$f":"'300 Anschlussgeräte'!B54","v":0},{"$f":"'300 Anschlussgeräte'!C54","v":0},{"$f":"'300 Anschlussgeräte'!D54","v":"381.000"},null,null,null,{"$f":"'300 Anschlussgeräte'!E54","v":"Inselwechselrichter"},{"$f":"'300 Anschlussgeräte'!F54","v":""}]
[{"$f":"'300 Anschlussgeräte'!B55","v":0},{"$f":"'300 Anschlussgeräte'!C55","v":0},{"$f":"'300 Anschlussgeräte'!D55","v":"382.000"},null,null,null,{"$f":"'300 Anschlussgeräte'!E55","v":"Solarladeregler"},{"$f":"'300 Anschlussgeräte'!F55","v":""}]
[{"$f":"'300 Anschlussgeräte'!B56","v":0},{"$f":"'300 Anschlussgeräte'!C56","v":0},{"$f":"'300 Anschlussgeräte'!D56","v":"383.000"},null,null,null,{"$f":"'300 Anschlussgeräte'!E56","v":"Insel-Batterien"},{"$f":"'300 Anschlussgeräte'!F56","v":""}]
[{"$f":"'300 Anschlussgeräte'!B57","v":0},{"$f":"'300 Anschlussgeräte'!C57","v":0},{"$f":"'300 Anschlussgeräte'!D57","v":"384.000"},null,null,null,{"$f":"'300 Anschlussgeräte'!E57","v":"DC-Elektroheizeinsatz (Direktanschluss an PV-Generator)"},{"$f":"'300 Anschlussgeräte'!F57","v":""}]
[{"$f":"'300 Anschlussgeräte'!B58","v":0},{"$f":"'300 Anschlussgeräte'!C58","v":0},{"$f":"'300 Anschlussgeräte'!D58","v":"385.000"},null,null,null,{"$f":"'300 Anschlussgeräte'!E58","v":"DC- Beleuchtungssystem"},{"$f":"'300 Anschlussgeräte'!F58","v":""}]
[{"$f":"'300 Anschlussgeräte'!B59","v":0},{"$f":"'300 Anschlussgeräte'!C59","v":0},{"$f":"'300 Anschlussgeräte'!D59","v":"386.000"},null,null,null,{"$f":"'300 Anschlussgeräte'!E59","v":"DC- Kühlschrank"},{"$f":"'300 Anschlussgeräte'!F59","v":""}]
[{"$f":"'300 Anschlussgeräte'!B60","v":0},{"$f":"'300 Anschlussgeräte'!C60","v":0},{"$f":"'300 Anschlussgeräte'!D60","v":"387.000"},null,null,null,{"$f":"'300 Anschlussgeräte'!E60","v":"Weitere"},{"$f":"'300 Anschlussgeräte'!F60","v":""}]
[{"$f":"'300 Anschlussgeräte'!B61","v":0},{"$f":"'300 Anschlussgeräte'!C61","v":0},{"$f":"'300 Anschlussgeräte'!D61","v":0},null,null,null,{"$f":"'300 Anschlussgeräte'!E61","v":0},{"$f":"'300 Anschlussgeräte'!F61","v":""}]
[1,1,null,null,null,null,"Zwischensumme Anschlussgeräte"]
[1]
[1,{"$f":"'400 DC- Installation'!C6","v":0},"400.000",null,null,null,"DC- Installation",{"$f":"'400 DC- Installation'!F6","v":""}]
[1]
[{"$f":"'400 DC- Installation'!B9","v":1},{"$f":"'400 DC- Installation'!C9","v":1},{"$f":"'400 DC- Installation'!D9","v":"410.000"},null,null,null,{"$f":"'400 DC- Installation'!E9","v":"DC-Solarleitungen"},{"$f":"'400 DC- Installation'!F9","v":"pau"}]
[{"$f":"'400 DC- Installation'!B10","v":1},{"$f":"'400 DC- Installation'!C10","v":0},{"$f":"'400 DC- Installation'!D10","v":0},null,null,null,{"$f":"'400 DC- Installation'!E10","v":"Eigenschaften: \nQuerschnitt\nUV-beständig"},{"$f":"'400 DC- Installation'!F10","v":""}]
[{"$f":"'400 DC- Installation'!B11","v":0},{"$f":"'400 DC- Installation'!C11","v":0},{"$f":"'400 DC- Installation'!D11","v":"411.000"},null,null,null,{"$f":"'400 DC- Installation'!E11","v":"Cu 4 mm2"},{"$f":"'400 DC- Installation'!F11","v":""}]
[{"$f":"'400 DC- Installation'!B12","v":0},{"$f":"'400 DC- Installation'!C12","v":0},{"$f":"'400 DC- Installation'!D12","v":"412.000"},null,null,null,{"$f":"'400 DC- Installation'!E12","v":"Cu 6 mm2"},{"$f":"'400 DC- Installation'!F12","v":""}]
[{"$f":"'400 DC- Installation'!B13","v":0},{"$f":"'400 DC- Installation'!C13","v":0},{"$f":"'400 DC- Installation'!D13","v":"413.000"},null,null,null,{"$f":"'400 DC- Installation'!E13","v":"Cu 10 mm2"},{"$f":"'400 DC- Installation'!F13","v":""}]
[{"$f":"'400 DC- Installation'!B14","v":0},{"$f":"'400 DC- Installation'!C14","v":0},{"$f":"'400 DC- Installation'!D14","v":"414.000"},null,null,null,{"$f":"'400 DC- Installation'!E14","v":"Cu 16 mm2"},{"$f":"'400 DC- Installation'!F14","v":""}]
[{"$f":"'400 DC- Installation'!B15","v":0},{"$f":"'400 DC- Installation'!C15","v":0},{"$f":"'400 DC- Installation'!D15","v":"415.000"},null,null,null,{"$f":"'400 DC- Installation'!E15","v":"Cu 25 mm2"},{"$f":"'400 DC- Installation'!F15","v":""}]
[{"$f":"'400 DC- Installation'!B16","v":0},{"$f":"'400 DC- Installation'!C16","v":0},{"$f":"'400 DC- Installation'!D16","v":"416.000"},null,null,null,{"$f":"'400 DC- Installation'!E16","v":"Cu 35 mm2"},{"$f":"'400 DC- Installation'!F16","v":""}]
[{"$f":"'400 DC- Installation'!B17","v":0},{"$f":"'400 DC- Installation'!C17","v":0},{"$f":"'400 DC- Installation'!D17","v":"417.000"},null,null,null,{"$f":"'400 DC- Installation'!E17","v":"Cu 50 mm2"},{"$f":"'400 DC- Installation'!F17","v":""}]
[{"$f":"'400 DC- Installation'!B18","v":0},{"$f":"'400 DC- Installation'!C18","v":0},{"$f":"'400 DC- Installation'!D18","v":"418.000"},null,null,null,{"$f":"'400 DC- Installation'!E18","v":"Al"},{"$f":"'400 DC- Installation'!F18","v":""}]
[{"$f":"'400 DC- Installation'!B19","v":1},{"$f":"'400 DC- Installation'!C19","v":0},{"$f":"'400 DC- Installation'!D19","v":0},null,null,null,{"$f":"'400 DC- Installation'!E19","v":0},{"$f":"'400 DC- Installation'!F19","v":""}]
[{"$f":"'400 DC- Installation'!B20","v":1},{"$f":"'400 DC- Installation'!C20","v":1},{"$f":"'400 DC- Installation'!D20","v":"420.000"},null,null,null,{"$f":"'400 DC- Installation'!E20","v":"Solarstecker "},{"$f":"'400 DC- Installation'!F20","v":"pau"}]
[{"$f":"'400 DC- Installation'!B21","v":1},{"$f":"'400 DC- Installation'!C21","v":0},{"$f":"'400 DC- Installation'!D21","v":0},null,null,null,{"$f":"'400 DC- Installation'!E21","v":"Eigenschaften: \nOriginalstecker vom Hersteller (gemäss NIN)"},{"$f":"'400 DC- Installation'!F21","v":""}]
[{"$f":"'400 DC- Installation'!B22","v":0},{"$f":"'400 DC- Installation'!C22","v":0},{"$f":"'400 DC- Installation'!D22","v":"421.000"},null,null,null,{"$f":"'400 DC- Installation'!E22","v":"4 mm2"},{"$f":"'400 DC- Installation'!F22","v":""}]
[{"$f":"'400 DC- Installation'!B23","v":0},{"$f":"'400 DC- Installation'!C23","v":0},{"$f":"'400 DC- Installation'!D23","v":"422.000"},null,null,null,{"$f":"'400 DC- Installation'!E23","v":"6 mm2"},{"$f":"'400 DC- Installation'!F23","v":""}]
[{"$f":"'400 DC- Installation'!B24","v":0},{"$f":"'400 DC- Installation'!C24","v":0},{"$f":"'400 DC- Installation'!D24","v":"423.000"},null,null,null,{"$f":"'400 DC- Installation'!E24","v":"10 mm2"},{"$f":"'400 DC- Installation'!F24","v":""}]
[{"$f":"'400 DC- Installation'!B25","v":0},{"$f":"'400 DC- Installation'!C25","v":0},{"$f":"'400 DC- Installation'!D25","v":"424.000"},null,null,null,{"$f":"'400 DC- Installation'!E25","v":"Y-Stecker"},{"$f":"'400 DC- Installation'!F25","v":""}]
[{"$f":"'400 DC- Installation'!B26","v":1},{"$f":"'400 DC- Installation'!C26","v":0},{"$f":"'400 DC- Installation'!D26","v":0},null,null,null,{"$f":"'400 DC- Installation'!E26","v":0},{"$f":"'400 DC- Installation'!F26","v":""}]
[{"$f":"'400 DC- Installation'!B27","v":1},{"$f":"'400 DC- Installation'!C27","v":0},{"$f":"'400 DC- Installation'!D27","v":"430.000"},null,null,null,{"$f":"'400 DC- Installation'!E27","v":"Kabelschutz/Kabelführung"},{"$f":"'400 DC- Installation'!F27","v":""}]
[{"$f":"'400 DC- Installation'!B28","v":0},{"$f":"'400 DC- Installation'!C28","v":0},{"$f":"'400 DC- Installation'!D28","v":0},null,null,null,{"$f":"'400 DC- Installation'!E28","v":""},{"$f":"'400 DC- Installation'!F28","v":""}]
[{"$f":"'400 DC- Installation'!B29","v":1},{"$f":"'400 DC- Installation'!C29","v":1},{"$f":"'400 DC- Installation'!D29","v":"431.000"},null,null,null,{"$f":"'400 DC- Installation'!E29","v":"Trassen\nEigenschaften: \nmit Deckel\nFeuerverzinkt"},{"$f":"'400 DC- Installation'!F29","v":"lfm"}]
[{"$f":"'400 DC- Installation'!B30","v":0},{"$f":"'400 DC- Installation'!C30","v":0},{"$f":"'400 DC- Installation'!D30","v":"432.000"},null,null,null,{"$f":"'400 DC- Installation'!E30","v":"Kanäle"},{"$f":"'400 DC- Installation'!F30","v":""}]
[{"$f":"'400 DC- Installation'!B31","v":0},{"$f":"'400 DC- Installation'!C31","v":0},{"$f":"'400 DC- Installation'!D31","v":"433.000"},null,null,null,{"$f":"'400 DC- Installation'!E31","v":"Rohre"},{"$f":"'400 DC- Installation'!F31","v":""}]
[{"$f":"'400 DC- Installation'!B32","v":0},{"$f":"'400 DC- Installation'!C32","v":0},{"$f":"'400 DC- Installation'!D32","v":"434.000"},null,null,null,{"$f":"'400 DC- Installation'!E32","v":"Schläuche"},{"$f":"'400 DC- Installation'!F32","v":""}]
[{"$f":"'400 DC- Installation'!B33","v":0},{"$f":"'400 DC- Installation'!C33","v":0},{"$f":"'400 DC- Installation'!D33","v":"435.000"},null,null,null,{"$f":"'400 DC- Installation'!E33","v":"Steinplatten (Gartenplatten)"},{"$f":"'400 DC- Installation'!F33","v":""}]
[{"$f":"'400 DC- Installation'!B34","v":0},{"$f":"'400 DC- Installation'!C34","v":0},{"$f":"'400 DC- Installation'!D34","v":"436.000"},null,null,null,{"$f":"'400 DC- Installation'!E34","v":"Kantenschutz"},{"$f":"'400 DC- Installation'!F34","v":""}]
[{"$f":"'400 DC- Installation'!B35","v":1},{"$f":"'400 DC- Installation'!C35","v":0},{"$f":"'400 DC- Installation'!D35","v":0},null,null,null,{"$f":"'400 DC- Installation'!E35","v":0},{"$f":"'400 DC- Installation'!F35","v":""}]
[{"$f":"'400 DC- Installation'!B36","v":1},{"$f":"'400 DC- Installation'!C36","v":0},{"$f":"'400 DC- Installation'!D36","v":"440.000"},null,null,null,{"$f":"'400 DC- Installation'!E36","v":"Verbrauchsmaterial"},{"$f":"'400 DC- Installation'!F36","v":""}]
[{"$f":"'400 DC- Installation'!B37","v":0},{"$f":"'400 DC- Installation'!C37","v":0},{"$f":"'400 DC- Installation'!D37","v":0},null,null,null,{"$f":"'400 DC- Installation'!E37","v":""},{"$f":"'400 DC- Installation'!F37","v":""}]
[{"$f":"'400 DC- Installation'!B38","v":1},{"$f":"'400 DC- Installation'!C38","v":1},{"$f":"'400 DC- Installation'!D38","v":"441.000"},null,null,null,{"$f":"'400 DC- Installation'!E38","v":"Kabelbeschriftung\nEigenschaften: \nUV-beständig"},{"$f":"'400 DC- Installation'!F38","v":"Stk. "}]
[{"$f":"'400 DC- Installation'!B39","v":1},{"$f":"'400 DC- Installation'!C39","v":1},{"$f":"'400 DC- Installation'!D39","v":"442.000"},null,null,null,{"$f":"'400 DC- Installation'!E39","v":"Kabelbefestigungsmaterial\nEigenschaften: \nUV-beständig"},{"$f":"'400 DC- Installation'!F39","v":"Stk. "}]
[{"$f":"'400 DC- Installation'!B40","v":1},{"$f":"'400 DC- Installation'!C40","v":0},{"$f":"'400 DC- Installation'!D40","v":0},null,null,null,{"$f":"'400 DC- Installation'!E40","v":0},{"$f":"'400 DC- Installation'!F40","v":""}]
[{"$f":"'400 DC- Installation'!B41","v":1},{"$f":"'400 DC- Installation'!C41","v":0},{"$f":"'400 DC- Installation'!D41","v":"450.000"},null,null,null,{"$f":"'400 DC- Installation'!E41","v":"POT-Ausgleich"},{"$f":"'400 DC- Installation'!F41","v":""}]
[{"$f":"'400 DC- Installation'!B42","v":0},{"$f":"'400 DC- Installation'!C42","v":0},{"$f":"'400 DC- Installation'!D42","v":0},null,null,null,{"$f":"'400 DC- Installation'!E42","v":""},{"$f":"'400 DC- Installation'!F42","v":""}]
[{"$f":"'400 DC- Installation'!B43","v":1},{"$f":"'400 DC- Installation'!C43","v":1},{"$f":"'400 DC- Installation'!D43","v":"451.000"},null,null,null,{"$f":"'400 DC- Installation'!E43","v":"Leiter\nEigenschaften: \n16mm2"},{"$f":"'400 DC- Installation'!F43","v":"lfm"}]
[{"$f":"'400 DC- Installation'!B44","v":1},{"$f":"'400 DC- Installation'!C44","v":1},{"$f":"'400 DC- Installation'!D44","v":"452.000"},null,null,null,{"$f":"'400 DC- Installation'!E44","v":"Klemmen\nEigenschaften: \nRostfrei"},{"$f":"'400 DC- Installation'!F44","v":"Stk. "}]
[{"$f":"'400 DC- Installation'!B45","v":0},{"$f":"'400 DC- Installation'!C45","v":0},{"$f":"'400 DC- Installation'!D45","v":"453.000"},null,null,null,{"$f":"'400 DC- Installation'!E45","v":"Kabelschuhe"},{"$f":"'400 DC- Installation'!F45","v":""}]
[{"$f":"'400 DC- Installation'!B46","v":1},{"$f":"'400 DC- Installation'!C46","v":1},{"$f":"'400 DC- Installation'!D46","v":"454.000"},null,null,null,{"$f":"'400 DC- Installation'!E46","v":"POT-Schiene"},{"$f":"'400 DC- Installation'!F46","v":"Stk. "}]
[{"$f":"'400 DC- Installation'!B47","v":1},{"$f":"'400 DC- Installation'!C47","v":0},{"$f":"'400 DC- Installation'!D47","v":0},null,null,null,{"$f":"'400 DC- Installation'!E47","v":0},{"$f":"'400 DC- Installation'!F47","v":""}]
[{"$f":"'400 DC- Installation'!B48","v":1},{"$f":"'400 DC- Installation'!C48","v":0},{"$f":"'400 DC- Installation'!D48","v":"460.000"},null,null,null,{"$f":"'400 DC- Installation'!E48","v":"Anschluss an bestehenden Blitzschutz"},{"$f":"'400 DC- Installation'!F48","v":""}]
[{"$f":"'400 DC- Installation'!B49","v":0},{"$f":"'400 DC- Installation'!C49","v":0},{"$f":"'400 DC- Installation'!D49","v":0},null,null,null,{"$f":"'400 DC- Installation'!E49","v":""},{"$f":"'400 DC- Installation'!F49","v":""}]
[{"$f":"'400 DC- Installation'!B50","v":1},{"$f":"'400 DC- Installation'!C50","v":1},{"$f":"'400 DC- Installation'!D50","v":"461.000"},null,null,null,{"$f":"'400 DC- Installation'!E50","v":"Draht"},{"$f":"'400 DC- Installation'!F50","v":"lfm"}]
[{"$f":"'400 DC- Installation'!B51","v":1},{"$f":"'400 DC- Installation'!C51","v":1},{"$f":"'400 DC- Installation'!D51","v":"462.000"},null,null,null,{"$f":"'400 DC- Installation'!E51","v":"Klemmen"},{"$f":"'400 DC- Installation'!F51","v":"Stk. "}]
[{"$f":"'400 DC- Installation'!B52","v":0},{"$f":"'400 DC- Installation'!C52","v":0},{"$f":"'400 DC- Installation'!D52","v":"463.000"},null,null,null,{"$f":"'400 DC- Installation'!E52","v":"Dachleitungsstützen"},{"$f":"'400 DC- Installation'!F52","v":""}]
[{"$f":"'400 DC- Installation'!B53","v":0},{"$f":"'400 DC- Installation'!C53","v":0},{"$f":"'400 DC- Installation'!D53","v":0},null,null,null,{"$f":"'400 DC- Installation'!E53","v":0},{"$f":"'400 DC- Installation'!F53","v":0}]
[1,1,null,null,null,null,"Zwischensumme DC- Installation"]
[1]
[1,null,"500.000",null,null,null,"AC- Installation"]
[1]
[{"$f":"'500 AC- Installationen'!B6","v":1},{"$f":"'500 AC- Installationen'!C6","v":1},{"$f":"'500 AC- Installationen'!D6","v":"510.000"},null,null,null,{"$f":"'500 AC- Installationen'!E6","v":"AC-Leitungen"},{"$f":"'500 AC- Installationen'!F6","v":"pau"}]
[{"$f":"'500 AC- Installationen'!B7","v":1},{"$f":"'500 AC- Installationen'!C7","v":0},{"$f":"'500 AC- Installationen'!D7","v":0},null,null,null,{"$f":"'500 AC- Installationen'!E7","v":"Eigenschaften: \nQuerschnitt\n6mm2\nPur- Kabel"},{"$f":"'500 AC- Installationen'!F7","v":0}]
[{"$f":"'500 AC- Installationen'!B8","v":0},{"$f":"'500 AC- Installationen'!C8","v":0},{"$f":"'500 AC- Installationen'!D8","v":"511.000"},null,null,null,{"$f":"'500 AC- Installationen'!E8","v":"Aussenkabel (Installation im Freien)"},{"$f":"'500 AC- Installationen'!F8","v":""}]
[{"$f":"'500 AC- Installationen'!B9","v":0},{"$f":"'500 AC- Installationen'!C9","v":0},{"$f":"'500 AC- Installationen'!D9","v":"512.000"},null,null,null,{"$f":"'500 AC- Installationen'!E9","v":"Innenleitung (Installation im Gebäude)"},{"$f":"'500 AC- Installationen'!F9","v":""}]
[{"$f":"'500 AC- Installationen'!B10","v":0},{"$f":"'500 AC- Installationen'!C10","v":0},{"$f":"'500 AC- Installationen'!D10","v":"513.000"},null,null,null,{"$f":"'500 AC- Installationen'!E10","v":"Erdkabel"},{"$f":"'500 AC- Installationen'!F10","v":""}]
[{"$f":"'500 AC- Installationen'!B11","v":1},{"$f":"'500 AC- Installationen'!C11","v":0},{"$f":"'500 AC- Installationen'!D11","v":0},null,null,null,{"$f":"'500 AC- Installationen'!E11","v":0},{"$f":"'500 AC- Installationen'!F11","v":""}]
[{"$f":"'500 AC- Installationen'!B12","v":1},{"$f":"'500 AC- Installationen'!C12","v":0},{"$f":"'500 AC- Installationen'!D12","v":"520.000"},null,null,null,{"$f":"'500 AC- Installationen'!E12","v":"NS-Schalt-, Schutz- und Messgeräte"},{"$f":"'500 AC- Installationen'!F12","v":""}]
[{"$f":"'500 AC- Installationen'!B13","v":1},{"$f":"'500 AC- Installationen'!C13","v":1},{"$f":"'500 AC- Installationen'!D13","v":"521.000"},null,null,null,{"$f":"'500 AC- Installationen'!E13","v":"AC-Schalter\nEigenschaften: \nStrombelastbarkeit"},{"$f":"'500 AC- Installationen'!F13","v":"Stk. "}]
[{"$f":"'500 AC- Installationen'!B14","v":0},{"$f":"'500 AC- Installationen'!C14","v":0},{"$f":"'500 AC- Installationen'!D14","v":"522.000"},null,null,null,{"$f":"'500 AC- Installationen'!E14","v":"SGK (NS-Verteilung)"},{"$f":"'500 AC- Installationen'!F14","v":""}]
[{"$f":"'500 AC- Installationen'!B15","v":0},{"$f":"'500 AC- Installationen'!C15","v":0},{"$f":"'500 AC- Installationen'!D15","v":"523.000"},null,null,null,{"$f":"'500 AC- Installationen'!E15","v":"AC-Absicherung"},{"$f":"'500 AC- Installationen'!F15","v":""}]
[{"$f":"'500 AC- Installationen'!B16","v":1},{"$f":"'500 AC- Installationen'!C16","v":1},{"$f":"'500 AC- Installationen'!D16","v":"524.000"},null,null,null,{"$f":"'500 AC- Installationen'!E16","v":"NA-Schutz\nEigenschaften: \nIn WR integriert"},{"$f":"'500 AC- Installationen'!F16","v":"Stk. "}]
[{"$f":"'500 AC- Installationen'!B17","v":1},{"$f":"'500 AC- Installationen'!C17","v":1},{"$f":"'500 AC- Installationen'!D17","v":"525.000"},null,null,null,{"$f":"'500 AC- Installationen'!E17","v":"SPD "},{"$f":"'500 AC- Installationen'!F17","v":"Stk. "}]
[{"$f":"'500 AC- Installationen'!B18","v":1},{"$f":"'500 AC- Installationen'!C18","v":1},{"$f":"'500 AC- Installationen'!D18","v":"526.000"},null,null,null,{"$f":"'500 AC- Installationen'!E18","v":"Zähler"},{"$f":"'500 AC- Installationen'!F18","v":"Stk. "}]
[{"$f":"'500 AC- Installationen'!B19","v":1},{"$f":"'500 AC- Installationen'!C19","v":1},{"$f":"'500 AC- Installationen'!D19","v":"527.000"},null,null,null,{"$f":"'500 AC- Installationen'!E19","v":"Stromwandler"},{"$f":"'500 AC- Installationen'!F19","v":"Stk. "}]
[{"$f":"'500 AC- Installationen'!B20","v":1},{"$f":"'500 AC- Installationen'!C20","v":0},{"$f":"'500 AC- Installationen'!D20","v":0},null,null,null,{"$f":"'500 AC- Installationen'!E20","v":0},{"$f":"'500 AC- Installationen'!F20","v":""}]
[{"$f":"'500 AC- Installationen'!B21","v":1},{"$f":"'500 AC- Installationen'!C21","v":1},{"$f":"'500 AC- Installationen'!D21","v":"530.000"},null,null,null,{"$f":"'500 AC- Installationen'!E21","v":"Leitungsführung/Kabelschutz"},{"$f":"'500 AC- Installationen'!F21","v":"pau"}]
[{"$f":"'500 AC- Installationen'!B22","v":0},{"$f":"'500 AC- Installationen'!C22","v":0},{"$f":"'500 AC- Installationen'!D22","v":0},null,null,null,{"$f":"'500 AC- Installationen'!E22","v":""},{"$f":"'500 AC- Installationen'!F22","v":""}]
[{"$f":"'500 AC- Installationen'!B23","v":1},{"$f":"'500 AC- Installationen'!C23","v":1},{"$f":"'500 AC- Installationen'!D23","v":"531.000"},null,null,null,{"$f":"'500 AC- Installationen'!E23","v":"Trassen\nEigenschaften: \nFeuerverzinkt"},{"$f":"'500 AC- Installationen'!F23","v":"lfm"}]
[{"$f":"'500 AC- Installationen'!B24","v":0},{"$f":"'500 AC- Installationen'!C24","v":0},{"$f":"'500 AC- Installationen'!D24","v":"532.000"},null,null,null,{"$f":"'500 AC- Installationen'!E24","v":"Kanäle"},{"$f":"'500 AC- Installationen'!F24","v":""}]
[{"$f":"'500 AC- Installationen'!B25","v":0},{"$f":"'500 AC- Installationen'!C25","v":0},{"$f":"'500 AC- Installationen'!D25","v":"533.000"},null,null,null,{"$f":"'500 AC- Installationen'!E25","v":"Rohre"},{"$f":"'500 AC- Installationen'!F25","v":""}]
[{"$f":"'500 AC- Installationen'!B26","v":0},{"$f":"'500 AC- Installationen'!C26","v":0},{"$f":"'500 AC- Installationen'!D26","v":"534.000"},null,null,null,{"$f":"'500 AC- Installationen'!E26","v":"Schläuche"},{"$f":"'500 AC- Installationen'!F26","v":""}]
[{"$f":"'500 AC- Installationen'!B27","v":0},{"$f":"'500 AC- Installationen'!C27","v":0},{"$f":"'500 AC- Installationen'!D27","v":"535.000"},null,null,null,{"$f":"'500 AC- Installationen'!E27","v":"Steinplatten (Gartenplatten)"},{"$f":"'500 AC- Installationen'!F27","v":""}]
[{"$f":"'500 AC- Installationen'!B28","v":1},{"$f":"'500 AC- Installationen'!C28","v":0},{"$f":"'500 AC- Installationen'!D28","v":0},null,null,null,{"$f":"'500 AC- Installationen'!E28","v":0},{"$f":"'500 AC- Installationen'!F28","v":""}]
[{"$f":"'500 AC- Installationen'!B29","v":1},{"$f":"'500 AC- Installationen'!C29","v":0},{"$f":"'500 AC- Installationen'!D29","v":"540.000"},null,null,null,{"$f":"'500 AC- Installationen'!E29","v":"POT-Ausgleich"},{"$f":"'500 AC- Installationen'!F29","v":""}]
[{"$f":"'500 AC- Installationen'!B30","v":0},{"$f":"'500 AC- Installationen'!C30","v":0},{"$f":"'500 AC- Installationen'!D30","v":0},null,null,null,{"$f":"'500 AC- Installationen'!E30","v":""},{"$f":"'500 AC- Installationen'!F30","v":""}]
[{"$f":"'500 AC- Installationen'!B31","v":1},{"$f":"'500 AC- Installationen'!C31","v":1},{"$f":"'500 AC- Installationen'!D31","v":"541.000"},null,null,null,{"$f":"'500 AC- Installationen'!E31","v":"Leiter\nEigenschaften: \n16mm2"},{"$f":"'500 AC- Installationen'!F31","v":"lfm"}]
[{"$f":"'500 AC- Installationen'!B32","v":1},{"$f":"'500 AC- Installationen'!C32","v":1},{"$f":"'500 AC- Installationen'!D32","v":"542.000"},null,null,null,{"$f":"'500 AC- Installationen'!E32","v":"Klemmen\nEigenschaften: \nRostfrei"},{"$f":"'500 AC- Installationen'!F32","v":"Stk. "}]
[{"$f":"'500 AC- Installationen'!B33","v":0},{"$f":"'500 AC- Installationen'!C33","v":0},{"$f":"'500 AC- Installationen'!D33","v":"543.000"},null,null,null,{"$f":"'500 AC- Installationen'!E33","v":"Kabelschuhe"},{"$f":"'500 AC- Installationen'!F33","v":""}]
[{"$f":"'500 AC- Installationen'!B34","v":0},{"$f":"'500 AC- Installationen'!C34","v":0},{"$f":"'500 AC- Installationen'!D34","v":"544.000"},null,null,null,{"$f":"'500 AC- Installationen'!E34","v":"POT-Schiene"},{"$f":"'500 AC- Installationen'!F34","v":""}]
[{"$f":"'500 AC- Installationen'!B35","v":1},{"$f":"'500 AC- Installationen'!C35","v":0},{"$f":"'500 AC- Installationen'!D35","v":0},null,null,null,{"$f":"'500 AC- Installationen'!E35","v":0},{"$f":"'500 AC- Installationen'!F35","v":""}]
[{"$f":"'500 AC- Installationen'!B36","v":0},{"$f":"'500 AC- Installationen'!C36","v":0},{"$f":"'500 AC- Installationen'!D36","v":"550.000"},null,null,null,{"$f":"'500 AC- Installationen'!E36","v":"MS-Installationen"},{"$f":"'500 AC- Installationen'!F36","v":""}]
[{"$f":"'500 AC- Installationen'!B37","v":0},{"$f":"'500 AC- Installationen'!C37","v":0},{"$f":"'500 AC- Installationen'!D37","v":"551.000"},null,null,null,{"$f":"'500 AC- Installationen'!E37","v":"MS-Trafo"},{"$f":"'500 AC- Installationen'!F37","v":""}]
[{"$f":"'500 AC- Installationen'!B38","v":0},{"$f":"'500 AC- Installationen'!C38","v":0},{"$f":"'500 AC- Installationen'!D38","v":"552.000"},null,null,null,{"$f":"'500 AC- Installationen'!E38","v":"MS-Containerstation"},{"$f":"'500 AC- Installationen'!F38","v":""}]
[{"$f":"'500 AC- Installationen'!B39","v":0},{"$f":"'500 AC- Installationen'!C39","v":0},{"$f":"'500 AC- Installationen'!D39","v":"553.000"},null,null,null,{"$f":"'500 AC- Installationen'!E39","v":"MS-Leitungen"},{"$f":"'500 AC- Installationen'!F39","v":""}]
[{"$f":"'500 AC- Installationen'!B40","v":0},{"$f":"'500 AC- Installationen'!C40","v":0},{"$f":"'500 AC- Installationen'!D40","v":"554.000"},null,null,null,{"$f":"'500 AC- Installationen'!E40","v":"MS-Schaltanlage"},{"$f":"'500 AC- Installationen'!F40","v":""}]
[{"$f":"'500 AC- Installationen'!B41","v":0},{"$f":"'500 AC- Installationen'!C41","v":0},{"$f":"'500 AC- Installationen'!D41","v":"555.000"},null,null,null,{"$f":"'500 AC- Installationen'!E41","v":"NA-Schutz"},{"$f":"'500 AC- Installationen'!F41","v":""}]
[{"$f":"'500 AC- Installationen'!B42","v":0},{"$f":"'500 AC- Installationen'!C42","v":0},{"$f":"'500 AC- Installationen'!D42","v":"556.000"},null,null,null,{"$f":"'500 AC- Installationen'!E42","v":"SPD"},{"$f":"'500 AC- Installationen'!F42","v":""}]
[{"$f":"'500 AC- Installationen'!B43","v":0},{"$f":"'500 AC- Installationen'!C43","v":0},{"$f":"'500 AC- Installationen'!D43","v":"557.000"},null,null,null,{"$f":"'500 AC- Installationen'!E43","v":"Leit-/Schutztechnik"},{"$f":"'500 AC- Installationen'!F43","v":""}]
[{"$f":"'500 AC- Installationen'!B44","v":0},{"$f":"'500 AC- Installationen'!C44","v":0},{"$f":"'500 AC- Installationen'!D44","v":0},null,null,null,{"$f":"'500 AC- Installationen'!E44","v":0},{"$f":"'500 AC- Installationen'!F44","v":""}]
[{"$f":"'500 AC- Installationen'!B45","v":1},{"$f":"'500 AC- Installationen'!C45","v":0},{"$f":"'500 AC- Installationen'!D45","v":"560.000"},null,null,null,{"$f":"'500 AC- Installationen'!E45","v":"ZEV-Installationen"},{"$f":"'500 AC- Installationen'!F45","v":""}]
[{"$f":"'500 AC- Installationen'!B46","v":1},{"$f":"'500 AC- Installationen'!C46","v":1},{"$f":"'500 AC- Installationen'!D46","v":"561.000"},null,null,null,{"$f":"'500 AC- Installationen'!E46","v":"Zähler Strom\nEigenschaften: \nGeeichte Zähler (MID-zertifiziert)\nDirektmessung"},{"$f":"'500 AC- Installationen'!F46","v":"Stk. "}]
[{"$f":"'500 AC- Installationen'!B47","v":0},{"$f":"'500 AC- Installationen'!C47","v":0},{"$f":"'500 AC- Installationen'!D47","v":"562.000"},null,null,null,{"$f":"'500 AC- Installationen'!E47","v":"Wandler für Stromzähler"},{"$f":"'500 AC- Installationen'!F47","v":""}]
[{"$f":"'500 AC- Installationen'!B48","v":0},{"$f":"'500 AC- Installationen'!C48","v":0},{"$f":"'500 AC- Installationen'!D48","v":"563.000"},null,null,null,{"$f":"'500 AC- Installationen'!E48","v":"Zähler Wasser Kalt"},{"$f":"'500 AC- Installationen'!F48","v":""}]
[{"$f":"'500 AC- Installationen'!B49","v":0},{"$f":"'500 AC- Installationen'!C49","v":0},{"$f":"'500 AC- Installationen'!D49","v":"564.000"},null,null,null,{"$f":"'500 AC- Installationen'!E49","v":"Zähler Wasser Warm"},{"$f":"'500 AC- Installationen'!F49","v":""}]
[{"$f":"'500 AC- Installationen'!B50","v":0},{"$f":"'500 AC- Installationen'!C50","v":0},{"$f":"'500 AC- Installationen'!D50","v":"565.000"},null,null,null,{"$f":"'500 AC- Installationen'!E50","v":"Zähler Wärme"},{"$f":"'500 AC- Installationen'!F50","v":""}]
[{"$f":"'500 AC- Installationen'!B51","v":1},{"$f":"'500 AC- Installationen'!C51","v":1},{"$f":"'500 AC- Installationen'!D51","v":"566.000"},null,null,null,{"$f":"'500 AC- Installationen'!E51","v":"Datenlogger"},{"$f":"'500 AC- Installationen'!F51","v":"Stk. "}]
[{"$f":"'500 AC- Installationen'!B52","v":1},{"$f":"'500 AC- Installationen'!C52","v":1},{"$f":"'500 AC- Installationen'!D52","v":"567.000"},null,null,null,{"$f":"'500 AC- Installationen'!E52","v":"Kommunikation/Auslesung"},{"$f":"'500 AC- Installationen'!F52","v":"Stk. "}]
[{"$f":"'500 AC- Installationen'!B53","v":1},{"$f":"'500 AC- Installationen'!C53","v":1},{"$f":"'500 AC- Installationen'!D53","v":"568.000"},null,null,null,{"$f":"'500 AC- Installationen'!E53","v":"Konfiguration"},{"$f":"'500 AC- Installationen'!F53","v":"Stk. "}]
[{"$f":"'500 AC- Installationen'!B54","v":0},{"$f":"'500 AC- Installationen'!C54","v":0},{"$f":"'500 AC- Installationen'!D54","v":0},null,null,null,{"$f":"'500 AC- Installationen'!E54","v":0},{"$f":"'500 AC- Installationen'!F54","v":0}]
[1,1,null,null,null,null,"Zwischensumme AC- Installation"]
[1]
[1,null,"600.000",null,null,null,"Bauvorbereitung und Planung"]
[1]
[{"$f":"'600 Bauvorber., Planung'!B6","v":1},{"$f":"'600 Bauvorber., Planung'!C6","v":0},{"$f":"'600 Bauvorber., Planung'!D6","v":"610.000"},null,null,null,{"$f":"'600 Bauvorber., Planung'!G6","v":"Baustelleneinrichtung/Logistik"},{"$f":"'600 Bauvorber., Planung'!H6","v":""}]
[{"$f":"'600 Bauvorber., Planung'!B7","v":1},{"$f":"'600 Bauvorber., Planung'!C7","v":1},{"$f":"'600 Bauvorber., Planung'!D7","v":"611.000"},null,null,null,{"$f":"'600 Bauvorber., Planung'!G7","v":"Baustelleneinrichtung"},{"$f":"'600 Bauvorber., Planung'!H7","v":"pau"}]
[{"$f":"'600 Bauvorber., Planung'!B8","v":0},{"$f":"'600 Bauvorber., Planung'!C8","v":0},null,{"$f":"'600 Bauvorber., Planung'!E8","v":"611.100"},null,null,{"$f":"'600 Bauvorber., Planung'!G8","v":"Allg. Baustelleneinrichtung"},{"$f":"'600 Bauvorber., Planung'!H8","v":""}]
[{"$f":"'600 Bauvorber., Planung'!B9","v":0},{"$f":"'600 Bauvorber., Planung'!C9","v":0},null,{"$f":"'600 Bauvorber., Planung'!E9","v":"611.200"},null,null,{"$f":"'600 Bauvorber., Planung'!G9","v":"Elektroanschluss"},{"$f":"'600 Bauvorber., Planung'!H9","v":""}]
[{"$f":"'600 Bauvorber., Planung'!B10","v":0},{"$f":"'600 Bauvorber., Planung'!C10","v":0},null,{"$f":"'600 Bauvorber., Planung'!E10","v":"611.300"},null,null,{"$f":"'600 Bauvorber., Planung'!G10","v":"Container"},{"$f":"'600 Bauvorber., Planung'!H10","v":""}]
[{"$f":"'600 Bauvorber., Planung'!B11","v":1},{"$f":"'600 Bauvorber., Planung'!C11","v":1},{"$f":"'600 Bauvorber., Planung'!D11","v":"612.000"},null,null,null,{"$f":"'600 Bauvorber., Planung'!G11","v":"Transport bis Baustelle"},{"$f":"'600 Bauvorber., Planung'!H11","v":"pau"}]
[{"$f":"'600 Bauvorber., Planung'!B12","v":1},{"$f":"'600 Bauvorber., Planung'!C12","v":1},{"$f":"'600 Bauvorber., Planung'!D12","v":"613.000"},null,null,null,{"$f":"'600 Bauvorber., Planung'!G12","v":"Hebemittel"},{"$f":"'600 Bauvorber., Planung'!H12","v":"pau"}]
[{"$f":"'600 Bauvorber., Planung'!B13","v":0},{"$f":"'600 Bauvorber., Planung'!C13","v":0},null,{"$f":"'600 Bauvorber., Planung'!E13","v":"613.100"},null,null,{"$f":"'600 Bauvorber., Planung'!G13","v":"Kran"},{"$f":"'600 Bauvorber., Planung'!H13","v":""}]
[{"$f":"'600 Bauvorber., Planung'!B14","v":0},{"$f":"'600 Bauvorber., Planung'!C14","v":0},null,null,{"$f":"'600 Bauvorber., Planung'!F14","v":"613.110"},null,{"$f":"'600 Bauvorber., Planung'!G14","v":"Mobiler Kran"},{"$f":"'600 Bauvorber., Planung'!H14","v":""}]
[{"$f":"'600 Bauvorber., Planung'!B15","v":0},{"$f":"'600 Bauvorber., Planung'!C15","v":0},null,{"$f":"'600 Bauvorber., Planung'!E15","v":"613.200"},null,null,{"$f":"'600 Bauvorber., Planung'!G15","v":"Teleskoplader"},{"$f":"'600 Bauvorber., Planung'!H15","v":""}]
[{"$f":"'600 Bauvorber., Planung'!B16","v":0},{"$f":"'600 Bauvorber., Planung'!C16","v":0},null,{"$f":"'600 Bauvorber., Planung'!E16","v":"613.300"},null,null,{"$f":"'600 Bauvorber., Planung'!G16","v":"Stapler"},{"$f":"'600 Bauvorber., Planung'!H16","v":""}]
[{"$f":"'600 Bauvorber., Planung'!B17","v":0},{"$f":"'600 Bauvorber., Planung'!C17","v":0},null,{"$f":"'600 Bauvorber., Planung'!E17","v":"613.400"},null,null,{"$f":"'600 Bauvorber., Planung'!G17","v":"Lastwagenkran"},{"$f":"'600 Bauvorber., Planung'!H17","v":""}]
[{"$f":"'600 Bauvorber., Planung'!B18","v":0},{"$f":"'600 Bauvorber., Planung'!C18","v":0},null,{"$f":"'600 Bauvorber., Planung'!E18","v":"613.500"},null,null,{"$f":"'600 Bauvorber., Planung'!G18","v":"Dachlift"},{"$f":"'600 Bauvorber., Planung'!H18","v":""}]
[{"$f":"'600 Bauvorber., Planung'!B19","v":0},{"$f":"'600 Bauvorber., Planung'!C19","v":0},null,{"$f":"'600 Bauvorber., Planung'!E19","v":"613.600"},null,null,{"$f":"'600 Bauvorber., Planung'!G19","v":"Helikopter"},{"$f":"'600 Bauvorber., Planung'!H19","v":""}]
[{"$f":"'600 Bauvorber., Planung'!B20","v":1},{"$f":"'600 Bauvorber., Planung'!C20","v":1},{"$f":"'600 Bauvorber., Planung'!D20","v":"614.000"},null,null,null,{"$f":"'600 Bauvorber., Planung'!G20","v":"Entsorgung"},{"$f":"'600 Bauvorber., Planung'!H20","v":"pau"}]
[{"$f":"'600 Bauvorber., Planung'!B21","v":0},{"$f":"'600 Bauvorber., Planung'!C21","v":0},null,{"$f":"'600 Bauvorber., Planung'!E21","v":"614.100"},null,null,{"$f":"'600 Bauvorber., Planung'!G21","v":"Mulden"},{"$f":"'600 Bauvorber., Planung'!H21","v":""}]
[{"$f":"'600 Bauvorber., Planung'!B22","v":0},{"$f":"'600 Bauvorber., Planung'!C22","v":0},null,{"$f":"'600 Bauvorber., Planung'!E22","v":"614.200"},null,null,{"$f":"'600 Bauvorber., Planung'!G22","v":"Entsorgung Bauabfälle"},{"$f":"'600 Bauvorber., Planung'!H22","v":""}]
[{"$f":"'600 Bauvorber., Planung'!B23","v":0},{"$f":"'600 Bauvorber., Planung'!C23","v":0},{"$f":"'600 Bauvorber., Planung'!D23","v":"615.000"},null,null,null,{"$f":"'600 Bauvorber., Planung'!G23","v":"WC, Sanitäre Installationen"},{"$f":"'600 Bauvorber., Planung'!H23","v":""}]
[{"$f":"'600 Bauvorber., Planung'!B24","v":0},{"$f":"'600 Bauvorber., Planung'!C24","v":0},null,{"$f":"'600 Bauvorber., Planung'!E24","v":"615.100"},null,null,{"$f":"'600 Bauvorber., Planung'!G24","v":"Anschlussarbeiten für Toiletten"},{"$f":"'600 Bauvorber., Planung'!H24","v":""}]
[{"$f":"'600 Bauvorber., Planung'!B25","v":0},{"$f":"'600 Bauvorber., Planung'!C25","v":0},{"$f":"'600 Bauvorber., Planung'!D25","v":"616.000"},null,null,null,{"$f":"'600 Bauvorber., Planung'!G25","v":"Parkplätze"},{"$f":"'600 Bauvorber., Planung'!H25","v":""}]
[{"$f":"'600 Bauvorber., Planung'!B26","v":0},{"$f":"'600 Bauvorber., Planung'!C26","v":0},{"$f":"'600 Bauvorber., Planung'!D26","v":"617.000"},null,null,null,{"$f":"'600 Bauvorber., Planung'!G26","v":"Umschlagplatz"},{"$f":"'600 Bauvorber., Planung'!H26","v":""}]
[{"$f":"'600 Bauvorber., Planung'!B27","v":0},{"$f":"'600 Bauvorber., Planung'!C27","v":0},{"$f":"'600 Bauvorber., Planung'!D27","v":"618.000"},null,null,null,{"$f":"'600 Bauvorber., Planung'!G27","v":"Zwischenlager"},{"$f":"'600 Bauvorber., Planung'!H27","v":""}]
[{"$f":"'600 Bauvorber., Planung'!B28","v":1},{"$f":"'600 Bauvorber., Planung'!C28","v":0},{"$f":"'600 Bauvorber., Planung'!D28","v":0},null,null,null,{"$f":"'600 Bauvorber., Planung'!G28","v":0},{"$f":"'600 Bauvorber., Planung'!H28","v":""}]
[{"$f":"'600 Bauvorber., Planung'!B29","v":1},{"$f":"'600 Bauvorber., Planung'!C29","v":0},{"$f":"'600 Bauvorber., Planung'!D29","v":"620.000"},null,null,null,{"$f":"'600 Bauvorber., Planung'!G29","v":"Arbeitssicherheit temporär"},{"$f":"'600 Bauvorber., Planung'!H29","v":""}]
[{"$f":"'600 Bauvorber., Planung'!B30","v":0},{"$f":"'600 Bauvorber., Planung'!C30","v":0},{"$f":"'600 Bauvorber., Planung'!D30","v":"621.000"},null,null,null,{"$f":"'600 Bauvorber., Planung'!G30","v":"Arbeitssicherheitskonzept"},{"$f":"'600 Bauvorber., Planung'!H30","v":""}]
[{"$f":"'600 Bauvorber., Planung'!B31","v":1},{"$f":"'600 Bauvorber., Planung'!C31","v":0},{"$f":"'600 Bauvorber., Planung'!D31","v":"622.000"},null,null,null,{"$f":"'600 Bauvorber., Planung'!G31","v":"Arbeitssicherheitseinrichtungen"},{"$f":"'600 Bauvorber., Planung'!H31","v":""}]
[{"$f":"'600 Bauvorber., Planung'!B32","v":1},{"$f":"'600 Bauvorber., Planung'!C32","v":1},null,{"$f":"'600 Bauvorber., Planung'!E32","v":"622.100"},null,null,{"$f":"'600 Bauvorber., Planung'!G32","v":"Gerüstturm "},{"$f":"'600 Bauvorber., Planung'!H32","v":"lfm"}]
[{"$f":"'600 Bauvorber., Planung'!B33","v":1},{"$f":"'600 Bauvorber., Planung'!C33","v":1},null,{"$f":"'600 Bauvorber., Planung'!E33","v":"622.200"},null,null,{"$f":"'600 Bauvorber., Planung'!G33","v":"Fassadengerüst Flachdach "},{"$f":"'600 Bauvorber., Planung'!H33","v":"m2"}]
[{"$f":"'600 Bauvorber., Planung'!B34","v":0},{"$f":"'600 Bauvorber., Planung'!C34","v":0},null,{"$f":"'600 Bauvorber., Planung'!E34","v":"622.300"},null,null,{"$f":"'600 Bauvorber., Planung'!G34","v":"Gerüst mit Dachrandsicherung"},{"$f":"'600 Bauvorber., Planung'!H34","v":""}]
[{"$f":"'600 Bauvorber., Planung'!B35","v":0},{"$f":"'600 Bauvorber., Planung'!C35","v":0},null,{"$f":"'600 Bauvorber., Planung'!E35","v":"622.400"},null,null,{"$f":"'600 Bauvorber., Planung'!G35","v":"Zonenabschrankung "},{"$f":"'600 Bauvorber., Planung'!H35","v":""}]
[{"$f":"'600 Bauvorber., Planung'!B36","v":0},{"$f":"'600 Bauvorber., Planung'!C36","v":0},null,{"$f":"'600 Bauvorber., Planung'!E36","v":"622.500"},null,null,{"$f":"'600 Bauvorber., Planung'!G36","v":"Oblichtsicherung "},{"$f":"'600 Bauvorber., Planung'!H36","v":""}]
[{"$f":"'600 Bauvorber., Planung'!B37","v":0},{"$f":"'600 Bauvorber., Planung'!C37","v":0},null,{"$f":"'600 Bauvorber., Planung'!E37","v":"622.600"},null,null,{"$f":"'600 Bauvorber., Planung'!G37","v":"Netz unter Dach"},{"$f":"'600 Bauvorber., Planung'!H37","v":""}]
[{"$f":"'600 Bauvorber., Planung'!B38","v":0},{"$f":"'600 Bauvorber., Planung'!C38","v":0},null,{"$f":"'600 Bauvorber., Planung'!E38","v":"622.700"},null,null,{"$f":"'600 Bauvorber., Planung'!G38","v":"Sicherheits- und Schutzeinrichtungen (Beleuchtung, Signalisation, etc.)"},{"$f":"'600 Bauvorber., Planung'!H38","v":""}]
[{"$f":"'600 Bauvorber., Planung'!B39","v":0},{"$f":"'600 Bauvorber., Planung'!C39","v":0},null,{"$f":"'600 Bauvorber., Planung'!E39","v":"622.800"},null,null,{"$f":"'600 Bauvorber., Planung'!G39","v":"Sicherung Ortgang"},{"$f":"'600 Bauvorber., Planung'!H39","v":""}]
[{"$f":"'600 Bauvorber., Planung'!B40","v":1},{"$f":"'600 Bauvorber., Planung'!C40","v":0},{"$f":"'600 Bauvorber., Planung'!D40","v":0},null,null,null,{"$f":"'600 Bauvorber., Planung'!G40","v":0},{"$f":"'600 Bauvorber., Planung'!H40","v":""}]
[{"$f":"'600 Bauvorber., Planung'!B41","v":1},{"$f":"'600 Bauvorber., Planung'!C41","v":0},{"$f":"'600 Bauvorber., Planung'!D41","v":"630.000"},null,null,null,{"$f":"'600 Bauvorber., Planung'!G41","v":"Arbeitssicherheit permanent"},{"$f":"'600 Bauvorber., Planung'!H41","v":""}]
[{"$f":"'600 Bauvorber., Planung'!B42","v":1},{"$f":"'600 Bauvorber., Planung'!C42","v":0},{"$f":"'600 Bauvorber., Planung'!D42","v":"631.000"},null,null,null,{"$f":"'600 Bauvorber., Planung'!G42","v":"Einzelanschlagpunkt"},{"$f":"'600 Bauvorber., Planung'!H42","v":""}]
[{"$f":"'600 Bauvorber., Planung'!B43","v":1},{"$f":"'600 Bauvorber., Planung'!C43","v":1},null,{"$f":"'600 Bauvorber., Planung'!E43","v":"631.100"},null,null,{"$f":"'600 Bauvorber., Planung'!G43","v":"Einzelanschlagpunkt ins Dach montiert"},{"$f":"'600 Bauvorber., Planung'!H43","v":"Stk. "}]
[{"$f":"'600 Bauvorber., Planung'!B44","v":0},{"$f":"'600 Bauvorber., Planung'!C44","v":0},null,{"$f":"'600 Bauvorber., Planung'!E44","v":"631.200"},null,null,{"$f":"'600 Bauvorber., Planung'!G44","v":"Einzelanschlagpunkt mit Kies/Substrat beschwert"},{"$f":"'600 Bauvorber., Planung'!H44","v":""}]
[{"$f":"'600 Bauvorber., Planung'!B45","v":0},{"$f":"'600 Bauvorber., Planung'!C45","v":0},null,{"$f":"'600 Bauvorber., Planung'!E45","v":"631.300"},null,null,{"$f":"'600 Bauvorber., Planung'!G45","v":"Einzelanschlagpunkt mit Ballaststeinen beschwert"},{"$f":"'600 Bauvorber., Planung'!H45","v":""}]
[{"$f":"'600 Bauvorber., Planung'!B46","v":0},{"$f":"'600 Bauvorber., Planung'!C46","v":0},null,{"$f":"'600 Bauvorber., Planung'!E46","v":"631.400"},null,null,{"$f":"'600 Bauvorber., Planung'!G46","v":"Einzelanschlagpunkt auf UK montiert"},{"$f":"'600 Bauvorber., Planung'!H46","v":""}]
[{"$f":"'600 Bauvorber., Planung'!B47","v":0},{"$f":"'600 Bauvorber., Planung'!C47","v":0},null,{"$f":"'600 Bauvorber., Planung'!E47","v":"631.500"},null,null,{"$f":"'600 Bauvorber., Planung'!G47","v":"Einzelanschlagpunkt an Wand/Decke montiert"},{"$f":"'600 Bauvorber., Planung'!H47","v":""}]
[{"$f":"'600 Bauvorber., Planung'!B48","v":1},{"$f":"'600 Bauvorber., Planung'!C48","v":0},{"$f":"'600 Bauvorber., Planung'!D48","v":"632.000"},null,null,null,{"$f":"'600 Bauvorber., Planung'!G48","v":"Seil- oder Schienensystem"},{"$f":"'600 Bauvorber., Planung'!H48","v":""}]
[{"$f":"'600 Bauvorber., Planung'!B49","v":1},{"$f":"'600 Bauvorber., Planung'!C49","v":1},null,{"$f":"'600 Bauvorber., Planung'!E49","v":"632.100"},null,null,{"$f":"'600 Bauvorber., Planung'!G49","v":"Seil- oder Schienensystem ins Dach montiert"},{"$f":"'600 Bauvorber., Planung'!H49","v":"lfm"}]
[{"$f":"'600 Bauvorber., Planung'!B50","v":0},{"$f":"'600 Bauvorber., Planung'!C50","v":0},null,{"$f":"'600 Bauvorber., Planung'!E50","v":"632.200"},null,null,{"$f":"'600 Bauvorber., Planung'!G50","v":"Seil- oder Schienensystem mit Kies/Substrat beschwert"},{"$f":"'600 Bauvorber., Planung'!H50","v":""}]
[{"$f":"'600 Bauvorber., Planung'!B51","v":0},{"$f":"'600 Bauvorber., Planung'!C51","v":0},null,{"$f":"'600 Bauvorber., Planung'!E51","v":"632.300"},null,null,{"$f":"'600 Bauvorber., Planung'!G51","v":"Seil- oder Schienensystem mit Ballaststeinen beschwert"},{"$f":"'600 Bauvorber., Planung'!H51","v":""}]
[{"$f":"'600 Bauvorber., Planung'!B52","v":0},{"$f":"'600 Bauvorber., Planung'!C52","v":0},null,{"$f":"'600 Bauvorber., Planung'!E52","v":"632.400"},null,null,{"$f":"'600 Bauvorber., Planung'!G52","v":"Seil- oder Schienensystem auf UK montiert"},{"$f":"'600 Bauvorber., Planung'!H52","v":""}]
[{"$f":"'600 Bauvorber., Planung'!B53","v":0},{"$f":"'600 Bauvorber., Planung'!C53","v":0},null,{"$f":"'600 Bauvorber., Planung'!E53","v":"632.500"},null,null,{"$f":"'600 Bauvorber., Planung'!G53","v":"Seil- oder Schienensystem an Wand/Decke montiert"},{"$f":"'600 Bauvorber., Planung'!H53","v":""}]
[{"$f":"'600 Bauvorber., Planung'!B54","v":0},{"$f":"'600 Bauvorber., Planung'!C54","v":0},{"$f":"'600 Bauvorber., Planung'!D54","v":"633.000"},null,null,null,{"$f":"'600 Bauvorber., Planung'!G54","v":"Dachzugang"},{"$f":"'600 Bauvorber., Planung'!H54","v":""}]
[{"$f":"'600 Bauvorber., Planung'!B55","v":0},{"$f":"'600 Bauvorber., Planung'!C55","v":0},null,{"$f":"'600 Bauvorber., Planung'!E55","v":"633.100"},null,null,{"$f":"'600 Bauvorber., Planung'!G55","v":"Leiter mit Fallschutz"},{"$f":"'600 Bauvorber., Planung'!H55","v":""}]
[{"$f":"'600 Bauvorber., Planung'!B56","v":0},{"$f":"'600 Bauvorber., Planung'!C56","v":0},null,{"$f":"'600 Bauvorber., Planung'!E56","v":"633.200"},null,null,{"$f":"'600 Bauvorber., Planung'!G56","v":"Dachausstieg"},{"$f":"'600 Bauvorber., Planung'!H56","v":""}]
[{"$f":"'600 Bauvorber., Planung'!B57","v":0},{"$f":"'600 Bauvorber., Planung'!C57","v":0},null,{"$f":"'600 Bauvorber., Planung'!E57","v":"633.300"},null,null,{"$f":"'600 Bauvorber., Planung'!G57","v":"Aussentreppe"},{"$f":"'600 Bauvorber., Planung'!H57","v":""}]
[{"$f":"'600 Bauvorber., Planung'!B58","v":1},{"$f":"'600 Bauvorber., Planung'!C58","v":0},{"$f":"'600 Bauvorber., Planung'!D58","v":"634.000"},null,null,null,{"$f":"'600 Bauvorber., Planung'!G58","v":"Oblicht-Durchsturzsicherung"},{"$f":"'600 Bauvorber., Planung'!H58","v":""}]
[{"$f":"'600 Bauvorber., Planung'!B59","v":1},{"$f":"'600 Bauvorber., Planung'!C59","v":1},null,{"$f":"'600 Bauvorber., Planung'!E59","v":"634.100"},null,null,{"$f":"'600 Bauvorber., Planung'!G59","v":"Oblicht-Durchsturzsicherung Gitter"},{"$f":"'600 Bauvorber., Planung'!H59","v":"m2"}]
[{"$f":"'600 Bauvorber., Planung'!B60","v":0},{"$f":"'600 Bauvorber., Planung'!C60","v":0},null,{"$f":"'600 Bauvorber., Planung'!E60","v":"634.200"},null,null,{"$f":"'600 Bauvorber., Planung'!G60","v":"Oblicht-Durchsturzsicherung Netze"},{"$f":"'600 Bauvorber., Planung'!H60","v":""}]
[{"$f":"'600 Bauvorber., Planung'!B61","v":0},{"$f":"'600 Bauvorber., Planung'!C61","v":0},null,{"$f":"'600 Bauvorber., Planung'!E61","v":"634.300"},null,null,{"$f":"'600 Bauvorber., Planung'!G61","v":"Oblicht-Durchsturzsicherung Geländer"},{"$f":"'600 Bauvorber., Planung'!H61","v":""}]
[{"$f":"'600 Bauvorber., Planung'!B62","v":0},{"$f":"'600 Bauvorber., Planung'!C62","v":0},{"$f":"'600 Bauvorber., Planung'!D62","v":"635.000"},null,null,null,{"$f":"'600 Bauvorber., Planung'!G62","v":"Podeste (Für Zugang WR etc.)"},{"$f":"'600 Bauvorber., Planung'!H62","v":""}]
[{"$f":"'600 Bauvorber., Planung'!B63","v":0},{"$f":"'600 Bauvorber., Planung'!C63","v":0},{"$f":"'600 Bauvorber., Planung'!D63","v":"636.000"},null,null,null,{"$f":"'600 Bauvorber., Planung'!G63","v":"Geländer"},{"$f":"'600 Bauvorber., Planung'!H63","v":""}]
[{"$f":"'600 Bauvorber., Planung'!B64","v":0},{"$f":"'600 Bauvorber., Planung'!C64","v":0},null,{"$f":"'600 Bauvorber., Planung'!E64","v":"636.100"},null,null,{"$f":"'600 Bauvorber., Planung'!G64","v":"Geländer klappbar"},{"$f":"'600 Bauvorber., Planung'!H64","v":""}]
[{"$f":"'600 Bauvorber., Planung'!B65","v":1},{"$f":"'600 Bauvorber., Planung'!C65","v":0},{"$f":"'600 Bauvorber., Planung'!D65","v":0},null,null,null,{"$f":"'600 Bauvorber., Planung'!G65","v":0},{"$f":"'600 Bauvorber., Planung'!H65","v":""}]
[{"$f":"'600 Bauvorber., Planung'!B66","v":1},{"$f":"'600 Bauvorber., Planung'!C66","v":0},{"$f":"'600 Bauvorber., Planung'!D66","v":"640.000"},null,null,null,{"$f":"'600 Bauvorber., Planung'!G66","v":"Bewilligungen/Föderbenantragung"},{"$f":"'600 Bauvorber., Planung'!H66","v":""}]
[{"$f":"'600 Bauvorber., Planung'!B67","v":0},{"$f":"'600 Bauvorber., Planung'!C67","v":0},{"$f":"'600 Bauvorber., Planung'!D67","v":"641.000"},null,null,null,{"$f":"'600 Bauvorber., Planung'!G67","v":"Erstellen & Einreichen  & Abschluss TAG"},{"$f":"'600 Bauvorber., Planung'!H67","v":""}]
[{"$f":"'600 Bauvorber., Planung'!B68","v":1},{"$f":"'600 Bauvorber., Planung'!C68","v":1},{"$f":"'600 Bauvorber., Planung'!D68","v":"642.000"},null,null,null,{"$f":"'600 Bauvorber., Planung'!G68","v":"Erstellen & Einreichen  & Abschluss IA "},{"$f":"'600 Bauvorber., Planung'!H68","v":"Std."}]
[{"$f":"'600 Bauvorber., Planung'!B69","v":0},{"$f":"'600 Bauvorber., Planung'!C69","v":0},{"$f":"'600 Bauvorber., Planung'!D69","v":"643.000"},null,null,null,{"$f":"'600 Bauvorber., Planung'!G69","v":"Erstellen & Einreichen & Abschluss Baugesuch"},{"$f":"'600 Bauvorber., Planung'!H69","v":""}]
[{"$f":"'600 Bauvorber., Planung'!B70","v":1},{"$f":"'600 Bauvorber., Planung'!C70","v":1},{"$f":"'600 Bauvorber., Planung'!D70","v":"644.000"},null,null,null,{"$f":"'600 Bauvorber., Planung'!G70","v":"Erstellen & Einreichen  & Abschluss Baumeldung"},{"$f":"'600 Bauvorber., Planung'!H70","v":"Std."}]
[{"$f":"'600 Bauvorber., Planung'!B71","v":0},{"$f":"'600 Bauvorber., Planung'!C71","v":0},{"$f":"'600 Bauvorber., Planung'!D71","v":"645.000"},null,null,null,{"$f":"'600 Bauvorber., Planung'!G71","v":"Erstellen & Einreichen  & Abschluss Planvorlage ESTI für PV"},{"$f":"'600 Bauvorber., Planung'!H71","v":""}]
[{"$f":"'600 Bauvorber., Planung'!B72","v":0},{"$f":"'600 Bauvorber., Planung'!C72","v":0},{"$f":"'600 Bauvorber., Planung'!D72","v":"646.000"},null,null,null,{"$f":"'600 Bauvorber., Planung'!G72","v":"Erstellen & Einreichen  & Abschluss Planvorlage ESTI für MS"},{"$f":"'600 Bauvorber., Planung'!H72","v":""}]
[{"$f":"'600 Bauvorber., Planung'!B73","v":0},{"$f":"'600 Bauvorber., Planung'!C73","v":0},{"$f":"'600 Bauvorber., Planung'!D73","v":"647.000"},null,null,null,{"$f":"'600 Bauvorber., Planung'!G73","v":"Erstellen & Einreichen  & Abschluss Anmeldung Förderung"},{"$f":"'600 Bauvorber., Planung'!H73","v":""}]
[{"$f":"'600 Bauvorber., Planung'!B74","v":0},{"$f":"'600 Bauvorber., Planung'!C74","v":0},null,{"$f":"'600 Bauvorber., Planung'!E74","v":"647.100"},null,null,{"$f":"'600 Bauvorber., Planung'!G74","v":"Erstellen & Einreichen  & Abschluss Pronovo-Anmeldung"},{"$f":"'600 Bauvorber., Planung'!H74","v":""}]
[{"$f":"'600 Bauvorber., Planung'!B75","v":0},{"$f":"'600 Bauvorber., Planung'!C75","v":0},null,{"$f":"'600 Bauvorber., Planung'!E75","v":"647.200"},null,null,{"$f":"'600 Bauvorber., Planung'!G75","v":"Erstellen & Einreichen  & Abschluss Anmeldung Förderung Kanton oder Gemeinde"},{"$f":"'600 Bauvorber., Planung'!H75","v":""}]
[{"$f":"'600 Bauvorber., Planung'!B76","v":1},{"$f":"'600 Bauvorber., Planung'!C76","v":0},{"$f":"'600 Bauvorber., Planung'!D76","v":"648.000"},null,null,null,{"$f":"'600 Bauvorber., Planung'!G76","v":"Gebühren"},{"$f":"'600 Bauvorber., Planung'!H76","v":""}]
[{"$f":"'600 Bauvorber., Planung'!B77","v":0},{"$f":"'600 Bauvorber., Planung'!C77","v":0},null,{"$f":"'600 Bauvorber., Planung'!E77","v":"648.100"},null,null,{"$f":"'600 Bauvorber., Planung'!G77","v":"Gebühren Baugesuch"},{"$f":"'600 Bauvorber., Planung'!H77","v":""}]
[{"$f":"'600 Bauvorber., Planung'!B78","v":0},{"$f":"'600 Bauvorber., Planung'!C78","v":0},null,{"$f":"'600 Bauvorber., Planung'!E78","v":"648.200"},null,null,{"$f":"'600 Bauvorber., Planung'!G78","v":"Gebühren VNB"},{"$f":"'600 Bauvorber., Planung'!H78","v":""}]
[{"$f":"'600 Bauvorber., Planung'!B79","v":1},{"$f":"'600 Bauvorber., Planung'!C79","v":1},null,{"$f":"'600 Bauvorber., Planung'!E79","v":"648.300"},null,null,{"$f":"'600 Bauvorber., Planung'!G79","v":"Gebühren ESTI"},{"$f":"'600 Bauvorber., Planung'!H79","v":"Stk. "}]
[{"$f":"'600 Bauvorber., Planung'!B80","v":1},{"$f":"'600 Bauvorber., Planung'!C80","v":0},{"$f":"'600 Bauvorber., Planung'!D80","v":0},null,null,null,{"$f":"'600 Bauvorber., Planung'!G80","v":0},{"$f":"'600 Bauvorber., Planung'!H80","v":""}]
[{"$f":"'600 Bauvorber., Planung'!B81","v":1},{"$f":"'600 Bauvorber., Planung'!C81","v":0},{"$f":"'600 Bauvorber., Planung'!D81","v":"650.000"},null,null,null,{"$f":"'600 Bauvorber., Planung'!G81","v":"Ausführungsplanung"},{"$f":"'600 Bauvorber., Planung'!H81","v":""}]
[{"$f":"'600 Bauvorber., Planung'!B82","v":0},{"$f":"'600 Bauvorber., Planung'!C82","v":0},{"$f":"'600 Bauvorber., Planung'!D82","v":"651.000"},null,null,null,{"$f":"'600 Bauvorber., Planung'!G82","v":"Schnittstellensicherung"},{"$f":"'600 Bauvorber., Planung'!H82","v":""}]
[{"$f":"'600 Bauvorber., Planung'!B83","v":0},{"$f":"'600 Bauvorber., Planung'!C83","v":0},null,{"$f":"'600 Bauvorber., Planung'!E83","v":"651.100"},null,null,{"$f":"'600 Bauvorber., Planung'!G83","v":"Expertise"},{"$f":"'600 Bauvorber., Planung'!H83","v":""}]
[{"$f":"'600 Bauvorber., Planung'!B84","v":0},{"$f":"'600 Bauvorber., Planung'!C84","v":0},null,{"$f":"'600 Bauvorber., Planung'!E84","v":"651.200"},null,null,{"$f":"'600 Bauvorber., Planung'!G84","v":"Abnahme"},{"$f":"'600 Bauvorber., Planung'!H84","v":""}]
[{"$f":"'600 Bauvorber., Planung'!B85","v":0},{"$f":"'600 Bauvorber., Planung'!C85","v":0},null,{"$f":"'600 Bauvorber., Planung'!E85","v":"651.300"},null,null,{"$f":"'600 Bauvorber., Planung'!G85","v":"Zustandsaufnahmen"},{"$f":"'600 Bauvorber., Planung'!H85","v":""}]
[{"$f":"'600 Bauvorber., Planung'!B86","v":0},{"$f":"'600 Bauvorber., Planung'!C86","v":0},null,{"$f":"'600 Bauvorber., Planung'!E86","v":"651.400"},null,null,{"$f":"'600 Bauvorber., Planung'!G86","v":"Masskontrolle am Bau"},{"$f":"'600 Bauvorber., Planung'!H86","v":""}]
[{"$f":"'600 Bauvorber., Planung'!B87","v":0},{"$f":"'600 Bauvorber., Planung'!C87","v":0},null,{"$f":"'600 Bauvorber., Planung'!E87","v":"651.500"},null,null,{"$f":"'600 Bauvorber., Planung'!G87","v":"Sondierungen"},{"$f":"'600 Bauvorber., Planung'!H87","v":""}]
[{"$f":"'600 Bauvorber., Planung'!B88","v":1},{"$f":"'600 Bauvorber., Planung'!C88","v":1},{"$f":"'600 Bauvorber., Planung'!D88","v":"652.000"},null,null,null,{"$f":"'600 Bauvorber., Planung'!G88","v":"Ausführungspläne erstellen/zeichnen"},{"$f":"'600 Bauvorber., Planung'!H88","v":"Std."}]
[{"$f":"'600 Bauvorber., Planung'!B89","v":0},{"$f":"'600 Bauvorber., Planung'!C89","v":0},null,{"$f":"'600 Bauvorber., Planung'!E89","v":"652.100"},null,null,{"$f":"'600 Bauvorber., Planung'!G89","v":"Modulplan erstellen"},{"$f":"'600 Bauvorber., Planung'!H89","v":""}]
[{"$f":"'600 Bauvorber., Planung'!B90","v":0},{"$f":"'600 Bauvorber., Planung'!C90","v":0},null,{"$f":"'600 Bauvorber., Planung'!E90","v":"652.200"},null,null,{"$f":"'600 Bauvorber., Planung'!G90","v":"Stringplan erstellen"},{"$f":"'600 Bauvorber., Planung'!H90","v":""}]
[{"$f":"'600 Bauvorber., Planung'!B91","v":0},{"$f":"'600 Bauvorber., Planung'!C91","v":0},null,{"$f":"'600 Bauvorber., Planung'!E91","v":"652.300"},null,null,{"$f":"'600 Bauvorber., Planung'!G91","v":"Logistikplan erstellen"},{"$f":"'600 Bauvorber., Planung'!H91","v":""}]
[{"$f":"'600 Bauvorber., Planung'!B92","v":0},{"$f":"'600 Bauvorber., Planung'!C92","v":0},null,{"$f":"'600 Bauvorber., Planung'!E92","v":"652.400"},null,null,{"$f":"'600 Bauvorber., Planung'!G92","v":"Dispo WR erstellen"},{"$f":"'600 Bauvorber., Planung'!H92","v":""}]
[{"$f":"'600 Bauvorber., Planung'!B93","v":0},{"$f":"'600 Bauvorber., Planung'!C93","v":0},null,{"$f":"'600 Bauvorber., Planung'!E93","v":"652.500"},null,null,{"$f":"'600 Bauvorber., Planung'!G93","v":"Dispo UV/HV erstellen"},{"$f":"'600 Bauvorber., Planung'!H93","v":""}]
[{"$f":"'600 Bauvorber., Planung'!B94","v":0},{"$f":"'600 Bauvorber., Planung'!C94","v":0},{"$f":"'600 Bauvorber., Planung'!D94","v":"653.000"},null,null,null,{"$f":"'600 Bauvorber., Planung'!G94","v":"Gebäudestatiknachweis erstellen"},{"$f":"'600 Bauvorber., Planung'!H94","v":""}]
[{"$f":"'600 Bauvorber., Planung'!B95","v":0},{"$f":"'600 Bauvorber., Planung'!C95","v":0},{"$f":"'600 Bauvorber., Planung'!D95","v":"654.000"},null,null,null,{"$f":"'600 Bauvorber., Planung'!G95","v":"Statikbericht Montagekonstruktion erstellen"},{"$f":"'600 Bauvorber., Planung'!H95","v":""}]
[{"$f":"'600 Bauvorber., Planung'!B96","v":0},{"$f":"'600 Bauvorber., Planung'!C96","v":0},{"$f":"'600 Bauvorber., Planung'!D96","v":"655.000"},null,null,null,{"$f":"'600 Bauvorber., Planung'!G96","v":"Statikbericht Unternehmer erstellen"},{"$f":"'600 Bauvorber., Planung'!H96","v":""}]
[{"$f":"'600 Bauvorber., Planung'!B97","v":0},{"$f":"'600 Bauvorber., Planung'!C97","v":0},{"$f":"'600 Bauvorber., Planung'!D97","v":"656.000"},null,null,null,{"$f":"'600 Bauvorber., Planung'!G97","v":"Erstellen Brandschutzkonzept"},{"$f":"'600 Bauvorber., Planung'!H97","v":""}]
[{"$f":"'600 Bauvorber., Planung'!B98","v":0},{"$f":"'600 Bauvorber., Planung'!C98","v":0},{"$f":"'600 Bauvorber., Planung'!D98","v":"657.000"},null,null,null,{"$f":"'600 Bauvorber., Planung'!G98","v":"Erstellen Überspannungs- und Blitzschutzkonzept"},{"$f":"'600 Bauvorber., Planung'!H98","v":""}]
[{"$f":"'600 Bauvorber., Planung'!B99","v":0},{"$f":"'600 Bauvorber., Planung'!C99","v":0},{"$f":"'600 Bauvorber., Planung'!D99","v":"658.000"},null,null,null,{"$f":"'600 Bauvorber., Planung'!G99","v":"Selektivitätsnachweis"},{"$f":"'600 Bauvorber., Planung'!H99","v":""}]
[{"$f":"'600 Bauvorber., Planung'!B100","v":0},{"$f":"'600 Bauvorber., Planung'!C100","v":0},{"$f":"'600 Bauvorber., Planung'!D100","v":"659.000"},null,null,null,{"$f":"'600 Bauvorber., Planung'!G100","v":"Muster"},{"$f":"'600 Bauvorber., Planung'!H100","v":""}]
[{"$f":"'600 Bauvorber., Planung'!B101","v":0},{"$f":"'600 Bauvorber., Planung'!C101","v":0},null,{"$f":"'600 Bauvorber., Planung'!E101","v":"659.100"},null,null,{"$f":"'600 Bauvorber., Planung'!G101","v":"Handmuster"},{"$f":"'600 Bauvorber., Planung'!H101","v":""}]
[{"$f":"'600 Bauvorber., Planung'!B102","v":0},{"$f":"'600 Bauvorber., Planung'!C102","v":0},null,{"$f":"'600 Bauvorber., Planung'!E102","v":"659.200"},null,null,{"$f":"'600 Bauvorber., Planung'!G102","v":"Mock-Up erstellen"},{"$f":"'600 Bauvorber., Planung'!H102","v":""}]
[{"$f":"'600 Bauvorber., Planung'!B103","v":1},{"$f":"'600 Bauvorber., Planung'!C103","v":0},{"$f":"'600 Bauvorber., Planung'!D103","v":0},null,null,null,{"$f":"'600 Bauvorber., Planung'!G103","v":0},{"$f":"'600 Bauvorber., Planung'!H103","v":""}]
[{"$f":"'600 Bauvorber., Planung'!B104","v":1},{"$f":"'600 Bauvorber., Planung'!C104","v":0},{"$f":"'600 Bauvorber., Planung'!D104","v":"660.000"},null,null,null,{"$f":"'600 Bauvorber., Planung'!G104","v":"Projekt- und Bauleitung"},{"$f":"'600 Bauvorber., Planung'!H104","v":""}]
[{"$f":"'600 Bauvorber., Planung'!B105","v":1},{"$f":"'600 Bauvorber., Planung'!C105","v":1},{"$f":"'600 Bauvorber., Planung'!D105","v":"661.000"},null,null,null,{"$f":"'600 Bauvorber., Planung'!G105","v":"Projektleitung"},{"$f":"'600 Bauvorber., Planung'!H105","v":"Std."}]
[{"$f":"'600 Bauvorber., Planung'!B106","v":1},{"$f":"'600 Bauvorber., Planung'!C106","v":1},{"$f":"'600 Bauvorber., Planung'!D106","v":"662.000"},null,null,null,{"$f":"'600 Bauvorber., Planung'!G106","v":"Bauleitung"},{"$f":"'600 Bauvorber., Planung'!H106","v":"Std."}]
[{"$f":"'600 Bauvorber., Planung'!B107","v":0},{"$f":"'600 Bauvorber., Planung'!C107","v":1},{"$f":"'600 Bauvorber., Planung'!D107","v":"663.000"},null,null,null,{"$f":"'600 Bauvorber., Planung'!G107","v":"Inbetriebnahme"},{"$f":"'600 Bauvorber., Planung'!H107","v":"Std."}]
[{"$f":"'600 Bauvorber., Planung'!B108","v":0},{"$f":"'600 Bauvorber., Planung'!C108","v":0},null,{"$f":"'600 Bauvorber., Planung'!E108","v":"663.100"},null,null,{"$f":"'600 Bauvorber., Planung'!G108","v":"Inbetriebnahme PVA"},{"$f":"'600 Bauvorber., Planung'!H108","v":""}]
[{"$f":"'600 Bauvorber., Planung'!B109","v":0},{"$f":"'600 Bauvorber., Planung'!C109","v":0},null,{"$f":"'600 Bauvorber., Planung'!E109","v":"663.200"},null,null,{"$f":"'600 Bauvorber., Planung'!G109","v":"Programmierungen von Steuerungen"},{"$f":"'600 Bauvorber., Planung'!H109","v":""}]
[{"$f":"'600 Bauvorber., Planung'!B110","v":1},{"$f":"'600 Bauvorber., Planung'!C110","v":1},{"$f":"'600 Bauvorber., Planung'!D110","v":"664.000"},null,null,null,{"$f":"'600 Bauvorber., Planung'!G110","v":"Anlagendokumentation"},{"$f":"'600 Bauvorber., Planung'!H110","v":"Std."}]
[{"$f":"'600 Bauvorber., Planung'!B111","v":1},{"$f":"'600 Bauvorber., Planung'!C111","v":1},{"$f":"'600 Bauvorber., Planung'!D111","v":"665.000"},null,null,null,{"$f":"'600 Bauvorber., Planung'!G111","v":"Instruktion"},{"$f":"'600 Bauvorber., Planung'!H111","v":"Std."}]
[{"$f":"'600 Bauvorber., Planung'!B112","v":0},{"$f":"'600 Bauvorber., Planung'!C112","v":0},{"$f":"'600 Bauvorber., Planung'!D112","v":"666.000"},null,null,null,{"$f":"'600 Bauvorber., Planung'!G112","v":"Regieansätze"},{"$f":"'600 Bauvorber., Planung'!H112","v":""}]
[{"$f":"'600 Bauvorber., Planung'!B113","v":1},{"$f":"'600 Bauvorber., Planung'!C113","v":0},{"$f":"'600 Bauvorber., Planung'!D113","v":0},null,null,null,{"$f":"'600 Bauvorber., Planung'!G113","v":0},{"$f":"'600 Bauvorber., Planung'!H113","v":""}]
[{"$f":"'600 Bauvorber., Planung'!B114","v":1},{"$f":"'600 Bauvorber., Planung'!C114","v":0},{"$f":"'600 Bauvorber., Planung'!D114","v":"670.000"},null,null,null,{"$f":"'600 Bauvorber., Planung'!G114","v":"Abnahmen"},{"$f":"'600 Bauvorber., Planung'!H114","v":""}]
[{"$f":"'600 Bauvorber., Planung'!B115","v":1},{"$f":"'600 Bauvorber., Planung'!C115","v":1},{"$f":"'600 Bauvorber., Planung'!D115","v":"671.000"},null,null,null,{"$f":"'600 Bauvorber., Planung'!G115","v":"Abnahme Planer/Bauherr/Behörde/VNB"},{"$f":"'600 Bauvorber., Planung'!H115","v":"Std."}]
[{"$f":"'600 Bauvorber., Planung'!B116","v":1},{"$f":"'600 Bauvorber., Planung'!C116","v":1},{"$f":"'600 Bauvorber., Planung'!D116","v":"672.000"},null,null,null,{"$f":"'600 Bauvorber., Planung'!G116","v":"Erstellen SiNa"},{"$f":"'600 Bauvorber., Planung'!H116","v":"Std."}]
[{"$f":"'600 Bauvorber., Planung'!B117","v":1},{"$f":"'600 Bauvorber., Planung'!C117","v":1},{"$f":"'600 Bauvorber., Planung'!D117","v":"673.000"},null,null,null,{"$f":"'600 Bauvorber., Planung'!G117","v":"Erstellen MP PV (Mess- und Prüfprotokoll)"},{"$f":"'600 Bauvorber., Planung'!H117","v":"Std."}]
[{"$f":"'600 Bauvorber., Planung'!B118","v":1},{"$f":"'600 Bauvorber., Planung'!C118","v":1},{"$f":"'600 Bauvorber., Planung'!D118","v":"674.000"},null,null,null,{"$f":"'600 Bauvorber., Planung'!G118","v":"Akkreditierte Kontrolle DC"},{"$f":"'600 Bauvorber., Planung'!H118","v":"Std."}]
[{"$f":"'600 Bauvorber., Planung'!B119","v":1},{"$f":"'600 Bauvorber., Planung'!C119","v":1},{"$f":"'600 Bauvorber., Planung'!D119","v":"675.000"},null,null,null,{"$f":"'600 Bauvorber., Planung'!G119","v":"Unabhängige Kontrolle AC"},{"$f":"'600 Bauvorber., Planung'!H119","v":"Std."}]
[{"$f":"'600 Bauvorber., Planung'!B120","v":1},{"$f":"'600 Bauvorber., Planung'!C120","v":1},{"$f":"'600 Bauvorber., Planung'!D120","v":"676.000"},null,null,null,{"$f":"'600 Bauvorber., Planung'!G120","v":"Beglaubigung Pronovo durch Auditor inkl. Einreichen Pronovo"},{"$f":"'600 Bauvorber., Planung'!H120","v":"Std."}]
[{"$f":"'600 Bauvorber., Planung'!B121","v":0},{"$f":"'600 Bauvorber., Planung'!C121","v":0},null,{"$f":"'600 Bauvorber., Planung'!E121","v":"676.100"},null,null,{"$f":"'600 Bauvorber., Planung'!G121","v":"Beglaubigung Pronovo durch Auditor inkl. Einreichen Pronovo inkl. HKN"},{"$f":"'600 Bauvorber., Planung'!H121","v":""}]
[{"$f":"'600 Bauvorber., Planung'!B122","v":0},{"$f":"'600 Bauvorber., Planung'!C122","v":0},{"$f":"'600 Bauvorber., Planung'!D122","v":"677.000"},null,null,null,{"$f":"'600 Bauvorber., Planung'!G122","v":"Abnahme mit ESTI vor Ort"},{"$f":"'600 Bauvorber., Planung'!H122","v":""}]
[{"$f":"'600 Bauvorber., Planung'!B123","v":0},{"$f":"'600 Bauvorber., Planung'!C123","v":0},{"$f":"'600 Bauvorber., Planung'!D123","v":"678.000"},null,null,null,{"$f":"'600 Bauvorber., Planung'!G123","v":"Blitzschutzattest"},{"$f":"'600 Bauvorber., Planung'!H123","v":""}]
[{"$f":"'600 Bauvorber., Planung'!B124","v":1},{"$f":"'600 Bauvorber., Planung'!C124","v":0},{"$f":"'600 Bauvorber., Planung'!D124","v":0},null,null,null,{"$f":"'600 Bauvorber., Planung'!G124","v":0},{"$f":"'600 Bauvorber., Planung'!H124","v":0}]
[1,1,null,null,null,null,"Zwischensumme Bauvorbereitung und Planung"]
[1]
[1,null,"700.000",null,null,null,"Gebäudearbeiten"]
[1]
[{"$f":"'700 Gebäudearbeiten'!B6","v":0},{"$f":"'700 Gebäudearbeiten'!C6","v":0},{"$f":"'700 Gebäudearbeiten'!D6","v":"710.000"},null,null,null,{"$f":"'700 Gebäudearbeiten'!F6","v":"Spenglerarbeiten"},{"$f":"'700 Gebäudearbeiten'!G6","v":""}]
[{"$f":"'700 Gebäudearbeiten'!B7","v":0},{"$f":"'700 Gebäudearbeiten'!C7","v":0},{"$f":"'700 Gebäudearbeiten'!D7","v":0},null,null,null,{"$f":"'700 Gebäudearbeiten'!F7","v":""},{"$f":"'700 Gebäudearbeiten'!G7","v":0}]
[{"$f":"'700 Gebäudearbeiten'!B8","v":0},{"$f":"'700 Gebäudearbeiten'!C8","v":0},{"$f":"'700 Gebäudearbeiten'!D8","v":"711.000"},null,null,null,{"$f":"'700 Gebäudearbeiten'!F8","v":"Spenglerarbeiten auf geneigten Dächern"},{"$f":"'700 Gebäudearbeiten'!G8","v":""}]
[{"$f":"'700 Gebäudearbeiten'!B9","v":0},{"$f":"'700 Gebäudearbeiten'!C9","v":0},null,{"$f":"'700 Gebäudearbeiten'!E9","v":"711.100"},null,null,{"$f":"'700 Gebäudearbeiten'!F9","v":"Anschlussblech Dachfenster"},{"$f":"'700 Gebäudearbeiten'!G9","v":""}]
[{"$f":"'700 Gebäudearbeiten'!B10","v":0},{"$f":"'700 Gebäudearbeiten'!C10","v":0},null,{"$f":"'700 Gebäudearbeiten'!E10","v":"711.200"},null,null,{"$f":"'700 Gebäudearbeiten'!F10","v":"Ortabschlussblech"},{"$f":"'700 Gebäudearbeiten'!G10","v":""}]
[{"$f":"'700 Gebäudearbeiten'!B11","v":0},{"$f":"'700 Gebäudearbeiten'!C11","v":0},null,{"$f":"'700 Gebäudearbeiten'!E11","v":"711.300"},null,null,{"$f":"'700 Gebäudearbeiten'!F11","v":"Firstblech"},{"$f":"'700 Gebäudearbeiten'!G11","v":""}]
[{"$f":"'700 Gebäudearbeiten'!B12","v":0},{"$f":"'700 Gebäudearbeiten'!C12","v":0},null,{"$f":"'700 Gebäudearbeiten'!E12","v":"711.400"},null,null,{"$f":"'700 Gebäudearbeiten'!F12","v":"Einlaufblech Traufe"},{"$f":"'700 Gebäudearbeiten'!G12","v":""}]
[{"$f":"'700 Gebäudearbeiten'!B13","v":0},{"$f":"'700 Gebäudearbeiten'!C13","v":0},null,{"$f":"'700 Gebäudearbeiten'!E13","v":"711.500"},null,null,{"$f":"'700 Gebäudearbeiten'!F13","v":"Traufe"},{"$f":"'700 Gebäudearbeiten'!G13","v":""}]
[{"$f":"'700 Gebäudearbeiten'!B14","v":0},{"$f":"'700 Gebäudearbeiten'!C14","v":0},null,{"$f":"'700 Gebäudearbeiten'!E14","v":"711.600"},null,null,{"$f":"'700 Gebäudearbeiten'!F14","v":"Lochblech"},{"$f":"'700 Gebäudearbeiten'!G14","v":""}]
[{"$f":"'700 Gebäudearbeiten'!B15","v":0},{"$f":"'700 Gebäudearbeiten'!C15","v":0},null,{"$f":"'700 Gebäudearbeiten'!E15","v":"711.700"},null,null,{"$f":"'700 Gebäudearbeiten'!F15","v":"Abkantblech"},{"$f":"'700 Gebäudearbeiten'!G15","v":""}]
[{"$f":"'700 Gebäudearbeiten'!B16","v":0},{"$f":"'700 Gebäudearbeiten'!C16","v":0},{"$f":"'700 Gebäudearbeiten'!D16","v":"712.000"},null,null,null,{"$f":"'700 Gebäudearbeiten'!F16","v":"Spenglerarbeiten auf Flachdächern"},{"$f":"'700 Gebäudearbeiten'!G16","v":""}]
[{"$f":"'700 Gebäudearbeiten'!B17","v":0},{"$f":"'700 Gebäudearbeiten'!C17","v":0},null,{"$f":"'700 Gebäudearbeiten'!E17","v":"712.100"},null,null,{"$f":"'700 Gebäudearbeiten'!F17","v":"Einfassung Schwanenhals"},{"$f":"'700 Gebäudearbeiten'!G17","v":""}]
[{"$f":"'700 Gebäudearbeiten'!B18","v":0},{"$f":"'700 Gebäudearbeiten'!C18","v":0},null,{"$f":"'700 Gebäudearbeiten'!E18","v":"712.200"},null,null,{"$f":"'700 Gebäudearbeiten'!F18","v":"Kabeleinführungsbox auf Dach"},{"$f":"'700 Gebäudearbeiten'!G18","v":""}]
[{"$f":"'700 Gebäudearbeiten'!B19","v":0},{"$f":"'700 Gebäudearbeiten'!C19","v":0},{"$f":"'700 Gebäudearbeiten'!D19","v":"713.000"},null,null,null,{"$f":"'700 Gebäudearbeiten'!F19","v":"Spenglerarbeiten an Fassaden"},{"$f":"'700 Gebäudearbeiten'!G19","v":""}]
[{"$f":"'700 Gebäudearbeiten'!B20","v":0},{"$f":"'700 Gebäudearbeiten'!C20","v":0},null,{"$f":"'700 Gebäudearbeiten'!E20","v":"713.100"},null,null,{"$f":"'700 Gebäudearbeiten'!F20","v":"Eckprofil"},{"$f":"'700 Gebäudearbeiten'!G20","v":""}]
[{"$f":"'700 Gebäudearbeiten'!B21","v":0},{"$f":"'700 Gebäudearbeiten'!C21","v":0},null,{"$f":"'700 Gebäudearbeiten'!E21","v":"713.200"},null,null,{"$f":"'700 Gebäudearbeiten'!F21","v":"Zierblech"},{"$f":"'700 Gebäudearbeiten'!G21","v":""}]
[{"$f":"'700 Gebäudearbeiten'!B22","v":0},{"$f":"'700 Gebäudearbeiten'!C22","v":0},null,{"$f":"'700 Gebäudearbeiten'!E22","v":"713.300"},null,null,{"$f":"'700 Gebäudearbeiten'!F22","v":"Dachrand-/Brüstungsblech"},{"$f":"'700 Gebäudearbeiten'!G22","v":""}]
[{"$f":"'700 Gebäudearbeiten'!B23","v":0},{"$f":"'700 Gebäudearbeiten'!C23","v":0},null,{"$f":"'700 Gebäudearbeiten'!E23","v":"713.400"},null,null,{"$f":"'700 Gebäudearbeiten'!F23","v":"Sockelblech"},{"$f":"'700 Gebäudearbeiten'!G23","v":""}]
[{"$f":"'700 Gebäudearbeiten'!B24","v":0},{"$f":"'700 Gebäudearbeiten'!C24","v":0},null,{"$f":"'700 Gebäudearbeiten'!E24","v":"713.500"},null,null,{"$f":"'700 Gebäudearbeiten'!F24","v":"Zarge"},{"$f":"'700 Gebäudearbeiten'!G24","v":""}]
[{"$f":"'700 Gebäudearbeiten'!B25","v":0},{"$f":"'700 Gebäudearbeiten'!C25","v":0},null,{"$f":"'700 Gebäudearbeiten'!E25","v":"713.600"},null,null,{"$f":"'700 Gebäudearbeiten'!F25","v":"Fensterbank"},{"$f":"'700 Gebäudearbeiten'!G25","v":""}]
[{"$f":"'700 Gebäudearbeiten'!B26","v":0},{"$f":"'700 Gebäudearbeiten'!C26","v":0},null,{"$f":"'700 Gebäudearbeiten'!E26","v":"713.700"},null,null,{"$f":"'700 Gebäudearbeiten'!F26","v":"Lochblech"},{"$f":"'700 Gebäudearbeiten'!G26","v":""}]
[{"$f":"'700 Gebäudearbeiten'!B27","v":0},{"$f":"'700 Gebäudearbeiten'!C27","v":0},null,{"$f":"'700 Gebäudearbeiten'!E27","v":"713.800"},null,null,{"$f":"'700 Gebäudearbeiten'!F27","v":"Abkantblech"},{"$f":"'700 Gebäudearbeiten'!G27","v":""}]
[{"$f":"'700 Gebäudearbeiten'!B28","v":0},{"$f":"'700 Gebäudearbeiten'!C28","v":0},null,{"$f":"'700 Gebäudearbeiten'!E28","v":"713.900"},null,null,{"$f":"'700 Gebäudearbeiten'!F28","v":"Brandsperre hinterlüftete Fassade"},{"$f":"'700 Gebäudearbeiten'!G28","v":""}]
[{"$f":"'700 Gebäudearbeiten'!B29","v":0},{"$f":"'700 Gebäudearbeiten'!C29","v":0},{"$f":"'700 Gebäudearbeiten'!D29","v":0},null,null,null,{"$f":"'700 Gebäudearbeiten'!F29","v":0},{"$f":"'700 Gebäudearbeiten'!G29","v":""}]
[{"$f":"'700 Gebäudearbeiten'!B30","v":0},{"$f":"'700 Gebäudearbeiten'!C30","v":0},{"$f":"'700 Gebäudearbeiten'!D30","v":"720.000"},null,null,null,{"$f":"'700 Gebäudearbeiten'!F30","v":"Anpassungen an geneigten Dächern"},{"$f":"'700 Gebäudearbeiten'!G30","v":""}]
[{"$f":"'700 Gebäudearbeiten'!B31","v":0},{"$f":"'700 Gebäudearbeiten'!C31","v":0},{"$f":"'700 Gebäudearbeiten'!D31","v":"721.000"},null,null,null,{"$f":"'700 Gebäudearbeiten'!F31","v":"Ziegel"},{"$f":"'700 Gebäudearbeiten'!G31","v":""}]
[{"$f":"'700 Gebäudearbeiten'!B32","v":0},{"$f":"'700 Gebäudearbeiten'!C32","v":0},null,{"$f":"'700 Gebäudearbeiten'!E32","v":"721.100"},null,null,{"$f":"'700 Gebäudearbeiten'!F32","v":"Ziegel"},{"$f":"'700 Gebäudearbeiten'!G32","v":""}]
[{"$f":"'700 Gebäudearbeiten'!B33","v":0},{"$f":"'700 Gebäudearbeiten'!C33","v":0},null,{"$f":"'700 Gebäudearbeiten'!E33","v":"721.200"},null,null,{"$f":"'700 Gebäudearbeiten'!F33","v":"Firstziegel"},{"$f":"'700 Gebäudearbeiten'!G33","v":""}]
[{"$f":"'700 Gebäudearbeiten'!B34","v":0},{"$f":"'700 Gebäudearbeiten'!C34","v":0},null,{"$f":"'700 Gebäudearbeiten'!E34","v":"721.300"},null,null,{"$f":"'700 Gebäudearbeiten'!F34","v":"Ortziegel"},{"$f":"'700 Gebäudearbeiten'!G34","v":""}]
[{"$f":"'700 Gebäudearbeiten'!B35","v":0},{"$f":"'700 Gebäudearbeiten'!C35","v":0},{"$f":"'700 Gebäudearbeiten'!D35","v":"722.000"},null,null,null,{"$f":"'700 Gebäudearbeiten'!F35","v":"Blechziegel"},{"$f":"'700 Gebäudearbeiten'!G35","v":""}]
[{"$f":"'700 Gebäudearbeiten'!B36","v":0},{"$f":"'700 Gebäudearbeiten'!C36","v":0},{"$f":"'700 Gebäudearbeiten'!D36","v":"723.000"},null,null,null,{"$f":"'700 Gebäudearbeiten'!F36","v":"Lattung für Indachanlagen"},{"$f":"'700 Gebäudearbeiten'!G36","v":""}]
[{"$f":"'700 Gebäudearbeiten'!B37","v":0},{"$f":"'700 Gebäudearbeiten'!C37","v":0},{"$f":"'700 Gebäudearbeiten'!D37","v":"724.000"},null,null,null,{"$f":"'700 Gebäudearbeiten'!F37","v":"Kantholz"},{"$f":"'700 Gebäudearbeiten'!G37","v":""}]
[{"$f":"'700 Gebäudearbeiten'!B38","v":0},{"$f":"'700 Gebäudearbeiten'!C38","v":0},{"$f":"'700 Gebäudearbeiten'!D38","v":"725.000"},null,null,null,{"$f":"'700 Gebäudearbeiten'!F38","v":"3-Schicht-Schaltafel"},{"$f":"'700 Gebäudearbeiten'!G38","v":""}]
[{"$f":"'700 Gebäudearbeiten'!B39","v":0},{"$f":"'700 Gebäudearbeiten'!C39","v":0},{"$f":"'700 Gebäudearbeiten'!D39","v":"726.000"},null,null,null,{"$f":"'700 Gebäudearbeiten'!F39","v":"Schneefang"},{"$f":"'700 Gebäudearbeiten'!G39","v":""}]
[{"$f":"'700 Gebäudearbeiten'!B40","v":0},{"$f":"'700 Gebäudearbeiten'!C40","v":0},{"$f":"'700 Gebäudearbeiten'!D40","v":"727.000"},null,null,null,{"$f":"'700 Gebäudearbeiten'!F40","v":"Dachfenster"},{"$f":"'700 Gebäudearbeiten'!G40","v":""}]
[{"$f":"'700 Gebäudearbeiten'!B41","v":0},{"$f":"'700 Gebäudearbeiten'!C41","v":0},{"$f":"'700 Gebäudearbeiten'!D41","v":0},null,null,null,{"$f":"'700 Gebäudearbeiten'!F41","v":0},{"$f":"'700 Gebäudearbeiten'!G41","v":""}]
[{"$f":"'700 Gebäudearbeiten'!B42","v":1},{"$f":"'700 Gebäudearbeiten'!C42","v":0},{"$f":"'700 Gebäudearbeiten'!D42","v":"730.000"},null,null,null,{"$f":"'700 Gebäudearbeiten'!F42","v":"Anpassungen auf Flachdächer"},{"$f":"'700 Gebäudearbeiten'!G42","v":""}]
[{"$f":"'700 Gebäudearbeiten'!B43","v":1},{"$f":"'700 Gebäudearbeiten'!C43","v":0},{"$f":"'700 Gebäudearbeiten'!D43","v":"731.000"},null,null,null,{"$f":"'700 Gebäudearbeiten'!F43","v":"Kies"},{"$f":"'700 Gebäudearbeiten'!G43","v":""}]
[{"$f":"'700 Gebäudearbeiten'!B44","v":0},{"$f":"'700 Gebäudearbeiten'!C44","v":0},null,{"$f":"'700 Gebäudearbeiten'!E44","v":"731.100"},null,null,{"$f":"'700 Gebäudearbeiten'!F44","v":"Kies runter saugen & entsorgen"},{"$f":"'700 Gebäudearbeiten'!G44","v":""}]
[{"$f":"'700 Gebäudearbeiten'!B45","v":0},{"$f":"'700 Gebäudearbeiten'!C45","v":0},null,{"$f":"'700 Gebäudearbeiten'!E45","v":"731.200"},null,null,{"$f":"'700 Gebäudearbeiten'!F45","v":"Kies hoch blasen"},{"$f":"'700 Gebäudearbeiten'!G45","v":""}]
[{"$f":"'700 Gebäudearbeiten'!B46","v":1},{"$f":"'700 Gebäudearbeiten'!C46","v":1},null,{"$f":"'700 Gebäudearbeiten'!E46","v":"731.300"},null,null,{"$f":"'700 Gebäudearbeiten'!F46","v":"Kies manuell versetzen"},{"$f":"'700 Gebäudearbeiten'!G46","v":"m2"}]
[{"$f":"'700 Gebäudearbeiten'!B47","v":0},{"$f":"'700 Gebäudearbeiten'!C47","v":0},{"$f":"'700 Gebäudearbeiten'!D47","v":"732.000"},null,null,null,{"$f":"'700 Gebäudearbeiten'!F47","v":"Begrünung"},{"$f":"'700 Gebäudearbeiten'!G47","v":""}]
[{"$f":"'700 Gebäudearbeiten'!B48","v":0},{"$f":"'700 Gebäudearbeiten'!C48","v":0},null,{"$f":"'700 Gebäudearbeiten'!E48","v":"732.100"},null,null,{"$f":"'700 Gebäudearbeiten'!F48","v":"Substrat glätten / ausnivillieren (m2)"},{"$f":"'700 Gebäudearbeiten'!G48","v":""}]
[{"$f":"'700 Gebäudearbeiten'!B49","v":0},{"$f":"'700 Gebäudearbeiten'!C49","v":0},null,{"$f":"'700 Gebäudearbeiten'!E49","v":"732.200"},null,null,{"$f":"'700 Gebäudearbeiten'!F49","v":"Substrat runter saugen & entsorgen"},{"$f":"'700 Gebäudearbeiten'!G49","v":""}]
[{"$f":"'700 Gebäudearbeiten'!B50","v":0},{"$f":"'700 Gebäudearbeiten'!C50","v":0},null,{"$f":"'700 Gebäudearbeiten'!E50","v":"732.300"},null,null,{"$f":"'700 Gebäudearbeiten'!F50","v":"Substrat hoch blasen"},{"$f":"'700 Gebäudearbeiten'!G50","v":""}]
[{"$f":"'700 Gebäudearbeiten'!B51","v":0},{"$f":"'700 Gebäudearbeiten'!C51","v":0},null,{"$f":"'700 Gebäudearbeiten'!E51","v":"732.400"},null,null,{"$f":"'700 Gebäudearbeiten'!F51","v":"Pflanzen entfernen und entsorgen"},{"$f":"'700 Gebäudearbeiten'!G51","v":""}]
[{"$f":"'700 Gebäudearbeiten'!B52","v":1},{"$f":"'700 Gebäudearbeiten'!C52","v":1},{"$f":"'700 Gebäudearbeiten'!D52","v":"733.000"},null,null,null,{"$f":"'700 Gebäudearbeiten'!F52","v":"Gehwegplatten"},{"$f":"'700 Gebäudearbeiten'!G52","v":"pau"}]
[{"$f":"'700 Gebäudearbeiten'!B53","v":1},{"$f":"'700 Gebäudearbeiten'!C53","v":0},{"$f":"'700 Gebäudearbeiten'!D53","v":"734.000"},null,null,null,{"$f":"'700 Gebäudearbeiten'!F53","v":"Schutzschichten"},{"$f":"'700 Gebäudearbeiten'!G53","v":""}]
[{"$f":"'700 Gebäudearbeiten'!B54","v":1},{"$f":"'700 Gebäudearbeiten'!C54","v":1},null,{"$f":"'700 Gebäudearbeiten'!E54","v":"734.100"},null,null,{"$f":"'700 Gebäudearbeiten'!F54","v":"Vlies\nEigenschaften: \nStärke (mm )"},{"$f":"'700 Gebäudearbeiten'!G54","v":"m2"}]
[{"$f":"'700 Gebäudearbeiten'!B55","v":0},{"$f":"'700 Gebäudearbeiten'!C55","v":0},null,{"$f":"'700 Gebäudearbeiten'!E55","v":"734.200"},null,null,{"$f":"'700 Gebäudearbeiten'!F55","v":"Gummischrot"},{"$f":"'700 Gebäudearbeiten'!G55","v":""}]
[{"$f":"'700 Gebäudearbeiten'!B56","v":0},{"$f":"'700 Gebäudearbeiten'!C56","v":0},null,{"$f":"'700 Gebäudearbeiten'!E56","v":"734.300"},null,null,{"$f":"'700 Gebäudearbeiten'!F56","v":"Retentionsmatten"},{"$f":"'700 Gebäudearbeiten'!G56","v":""}]
[{"$f":"'700 Gebäudearbeiten'!B57","v":0},{"$f":"'700 Gebäudearbeiten'!C57","v":0},{"$f":"'700 Gebäudearbeiten'!D57","v":"735.000"},null,null,null,{"$f":"'700 Gebäudearbeiten'!F57","v":"EAP Rückbau inkl, Abdichtungsarbeiten"},{"$f":"'700 Gebäudearbeiten'!G57","v":""}]
[{"$f":"'700 Gebäudearbeiten'!B58","v":0},{"$f":"'700 Gebäudearbeiten'!C58","v":0},{"$f":"'700 Gebäudearbeiten'!D58","v":"736.000"},null,null,null,{"$f":"'700 Gebäudearbeiten'!F58","v":"Dunstrohre verziehen"},{"$f":"'700 Gebäudearbeiten'!G58","v":""}]
[{"$f":"'700 Gebäudearbeiten'!B59","v":1},{"$f":"'700 Gebäudearbeiten'!C59","v":0},{"$f":"'700 Gebäudearbeiten'!D59","v":0},null,null,null,{"$f":"'700 Gebäudearbeiten'!F59","v":0},{"$f":"'700 Gebäudearbeiten'!G59","v":""}]
[{"$f":"'700 Gebäudearbeiten'!B60","v":0},{"$f":"'700 Gebäudearbeiten'!C60","v":0},{"$f":"'700 Gebäudearbeiten'!D60","v":"740.000"},null,null,null,{"$f":"'700 Gebäudearbeiten'!F60","v":"Anpassungen Fassaden"},{"$f":"'700 Gebäudearbeiten'!G60","v":""}]
[{"$f":"'700 Gebäudearbeiten'!B61","v":0},{"$f":"'700 Gebäudearbeiten'!C61","v":0},{"$f":"'700 Gebäudearbeiten'!D61","v":"741.000"},null,null,null,{"$f":"'700 Gebäudearbeiten'!F61","v":"Betonfräsen"},{"$f":"'700 Gebäudearbeiten'!G61","v":""}]
[{"$f":"'700 Gebäudearbeiten'!B62","v":0},{"$f":"'700 Gebäudearbeiten'!C62","v":0},{"$f":"'700 Gebäudearbeiten'!D62","v":"742.000"},null,null,null,{"$f":"'700 Gebäudearbeiten'!F62","v":"Blechanpassung vor Ort"},{"$f":"'700 Gebäudearbeiten'!G62","v":""}]
[{"$f":"'700 Gebäudearbeiten'!B63","v":0},{"$f":"'700 Gebäudearbeiten'!C63","v":0},{"$f":"'700 Gebäudearbeiten'!D63","v":"743.000"},null,null,null,{"$f":"'700 Gebäudearbeiten'!F63","v":"Putz"},{"$f":"'700 Gebäudearbeiten'!G63","v":""}]
[{"$f":"'700 Gebäudearbeiten'!B64","v":0},{"$f":"'700 Gebäudearbeiten'!C64","v":0},{"$f":"'700 Gebäudearbeiten'!D64","v":"744.000"},null,null,null,{"$f":"'700 Gebäudearbeiten'!F64","v":"Brett"},{"$f":"'700 Gebäudearbeiten'!G64","v":""}]
[{"$f":"'700 Gebäudearbeiten'!B65","v":0},{"$f":"'700 Gebäudearbeiten'!C65","v":0},{"$f":"'700 Gebäudearbeiten'!D65","v":"745.000"},null,null,null,{"$f":"'700 Gebäudearbeiten'!F65","v":"Lattung"},{"$f":"'700 Gebäudearbeiten'!G65","v":""}]
[{"$f":"'700 Gebäudearbeiten'!B66","v":0},{"$f":"'700 Gebäudearbeiten'!C66","v":0},{"$f":"'700 Gebäudearbeiten'!D66","v":"746.000"},null,null,null,{"$f":"'700 Gebäudearbeiten'!F66","v":"Kernbohrung"},{"$f":"'700 Gebäudearbeiten'!G66","v":""}]
[{"$f":"'700 Gebäudearbeiten'!B67","v":0},{"$f":"'700 Gebäudearbeiten'!C67","v":0},{"$f":"'700 Gebäudearbeiten'!D67","v":0},null,null,null,{"$f":"'700 Gebäudearbeiten'!F67","v":0},{"$f":"'700 Gebäudearbeiten'!G67","v":""}]
[{"$f":"'700 Gebäudearbeiten'!B68","v":1},{"$f":"'700 Gebäudearbeiten'!C68","v":0},{"$f":"'700 Gebäudearbeiten'!D68","v":"750.000"},null,null,null,{"$f":"'700 Gebäudearbeiten'!F68","v":"Blitzschutz"},{"$f":"'700 Gebäudearbeiten'!G68","v":""}]
[{"$f":"'700 Gebäudearbeiten'!B69","v":0},{"$f":"'700 Gebäudearbeiten'!C69","v":0},{"$f":"'700 Gebäudearbeiten'!D69","v":"751.000"},null,null,null,{"$f":"'700 Gebäudearbeiten'!F69","v":"Blitzschutzrückbau und Entsorgung"},{"$f":"'700 Gebäudearbeiten'!G69","v":""}]
[{"$f":"'700 Gebäudearbeiten'!B70","v":0},{"$f":"'700 Gebäudearbeiten'!C70","v":0},{"$f":"'700 Gebäudearbeiten'!D70","v":"752.000"},null,null,null,{"$f":"'700 Gebäudearbeiten'!F70","v":"Blitzschutz Steildach"},{"$f":"'700 Gebäudearbeiten'!G70","v":""}]
[{"$f":"'700 Gebäudearbeiten'!B71","v":1},{"$f":"'700 Gebäudearbeiten'!C71","v":1},{"$f":"'700 Gebäudearbeiten'!D71","v":"753.000"},null,null,null,{"$f":"'700 Gebäudearbeiten'!F71","v":"Blitzschutz Flachdach"},{"$f":"'700 Gebäudearbeiten'!G71","v":"lfm"}]
[{"$f":"'700 Gebäudearbeiten'!B72","v":0},{"$f":"'700 Gebäudearbeiten'!C72","v":0},{"$f":"'700 Gebäudearbeiten'!D72","v":"754.000"},null,null,null,{"$f":"'700 Gebäudearbeiten'!F72","v":"Blitzschutz Fassade"},{"$f":"'700 Gebäudearbeiten'!G72","v":""}]
[{"$f":"'700 Gebäudearbeiten'!B73","v":1},{"$f":"'700 Gebäudearbeiten'!C73","v":0},{"$f":"'700 Gebäudearbeiten'!D73","v":0},null,null,null,{"$f":"'700 Gebäudearbeiten'!F73","v":0},{"$f":"'700 Gebäudearbeiten'!G73","v":""}]
[{"$f":"'700 Gebäudearbeiten'!B74","v":1},{"$f":"'700 Gebäudearbeiten'!C74","v":0},{"$f":"'700 Gebäudearbeiten'!D74","v":"760.000"},null,null,null,{"$f":"'700 Gebäudearbeiten'!F74","v":"Metallarbeiten"},{"$f":"'700 Gebäudearbeiten'!G74","v":""}]
[{"$f":"'700 Gebäudearbeiten'!B75","v":0},{"$f":"'700 Gebäudearbeiten'!C75","v":0},{"$f":"'700 Gebäudearbeiten'!D75","v":0},null,null,null,{"$f":"'700 Gebäudearbeiten'!F75","v":""},{"$f":"'700 Gebäudearbeiten'!G75","v":""}]
[{"$f":"'700 Gebäudearbeiten'!B76","v":1},{"$f":"'700 Gebäudearbeiten'!C76","v":0},{"$f":"'700 Gebäudearbeiten'!D76","v":"761.000"},null,null,null,{"$f":"'700 Gebäudearbeiten'!F76","v":"Montagegestell"},{"$f":"'700 Gebäudearbeiten'!G76","v":""}]
[{"$f":"'700 Gebäudearbeiten'!B77","v":0},{"$f":"'700 Gebäudearbeiten'!C77","v":0},null,{"$f":"'700 Gebäudearbeiten'!E77","v":"761.100"},null,null,{"$f":"'700 Gebäudearbeiten'!F77","v":"Montagegestell Wand"},{"$f":"'700 Gebäudearbeiten'!G77","v":""}]
[{"$f":"'700 Gebäudearbeiten'!B78","v":1},{"$f":"'700 Gebäudearbeiten'!C78","v":1},null,{"$f":"'700 Gebäudearbeiten'!E78","v":"761.200"},null,null,{"$f":"'700 Gebäudearbeiten'!F78","v":"Montaggestell frei aufgestellt auflastgehalten"},{"$f":"'700 Gebäudearbeiten'!G78","v":"pau"}]
[{"$f":"'700 Gebäudearbeiten'!B79","v":1},{"$f":"'700 Gebäudearbeiten'!C79","v":1},{"$f":"'700 Gebäudearbeiten'!D79","v":"762.000"},null,null,null,{"$f":"'700 Gebäudearbeiten'!F79","v":"Witterungsschutz"},{"$f":"'700 Gebäudearbeiten'!G79","v":"pau"}]
[{"$f":"'700 Gebäudearbeiten'!B80","v":0},{"$f":"'700 Gebäudearbeiten'!C80","v":0},null,{"$f":"'700 Gebäudearbeiten'!E80","v":"762.100"},null,null,{"$f":"'700 Gebäudearbeiten'!F80","v":"Witterungsschutz eingegittert, abschliessbar"},{"$f":"'700 Gebäudearbeiten'!G80","v":""}]
[{"$f":"'700 Gebäudearbeiten'!B81","v":0},{"$f":"'700 Gebäudearbeiten'!C81","v":0},null,{"$f":"'700 Gebäudearbeiten'!E81","v":"762.200"},null,null,{"$f":"'700 Gebäudearbeiten'!F81","v":"Witterungsschutz Abdeckung"},{"$f":"'700 Gebäudearbeiten'!G81","v":""}]
[{"$f":"'700 Gebäudearbeiten'!B82","v":0},{"$f":"'700 Gebäudearbeiten'!C82","v":0},null,{"$f":"'700 Gebäudearbeiten'!E82","v":"762.300"},null,null,{"$f":"'700 Gebäudearbeiten'!F82","v":"Witterungsschutz Einhausung Container"},{"$f":"'700 Gebäudearbeiten'!G82","v":""}]
[{"$f":"'700 Gebäudearbeiten'!B83","v":0},{"$f":"'700 Gebäudearbeiten'!C83","v":0},{"$f":"'700 Gebäudearbeiten'!D83","v":"763.000"},null,null,null,{"$f":"'700 Gebäudearbeiten'!F83","v":"Berührungschutz (Vandalenschutz)"},{"$f":"'700 Gebäudearbeiten'!G83","v":""}]
[{"$f":"'700 Gebäudearbeiten'!B84","v":0},{"$f":"'700 Gebäudearbeiten'!C84","v":0},{"$f":"'700 Gebäudearbeiten'!D84","v":"764.000"},null,null,null,{"$f":"'700 Gebäudearbeiten'!F84","v":"Spezialkonsolen"},{"$f":"'700 Gebäudearbeiten'!G84","v":""}]
[{"$f":"'700 Gebäudearbeiten'!B85","v":0},{"$f":"'700 Gebäudearbeiten'!C85","v":0},{"$f":"'700 Gebäudearbeiten'!D85","v":"765.000"},null,null,null,{"$f":"'700 Gebäudearbeiten'!F85","v":"Vierkant Rohr geschweist"},{"$f":"'700 Gebäudearbeiten'!G85","v":""}]
[{"$f":"'700 Gebäudearbeiten'!B86","v":0},{"$f":"'700 Gebäudearbeiten'!C86","v":0},{"$f":"'700 Gebäudearbeiten'!D86","v":"766.000"},null,null,null,{"$f":"'700 Gebäudearbeiten'!F86","v":"Blech"},{"$f":"'700 Gebäudearbeiten'!G86","v":""}]
[{"$f":"'700 Gebäudearbeiten'!B87","v":0},{"$f":"'700 Gebäudearbeiten'!C87","v":0},{"$f":"'700 Gebäudearbeiten'!D87","v":"767.000"},null,null,null,{"$f":"'700 Gebäudearbeiten'!F87","v":"Blech gekantet"},{"$f":"'700 Gebäudearbeiten'!G87","v":""}]
[{"$f":"'700 Gebäudearbeiten'!B88","v":1},{"$f":"'700 Gebäudearbeiten'!C88","v":0},{"$f":"'700 Gebäudearbeiten'!D88","v":0},null,null,null,{"$f":"'700 Gebäudearbeiten'!F88","v":0},{"$f":"'700 Gebäudearbeiten'!G88","v":""}]
[{"$f":"'700 Gebäudearbeiten'!B89","v":1},{"$f":"'700 Gebäudearbeiten'!C89","v":0},{"$f":"'700 Gebäudearbeiten'!D89","v":"770.000"},null,null,null,{"$f":"'700 Gebäudearbeiten'!F89","v":"Durchbrüche/Bohrungen"},{"$f":"'700 Gebäudearbeiten'!G89","v":""}]
[{"$f":"'700 Gebäudearbeiten'!B90","v":1},{"$f":"'700 Gebäudearbeiten'!C90","v":1},{"$f":"'700 Gebäudearbeiten'!D90","v":"771.000"},null,null,null,{"$f":"'700 Gebäudearbeiten'!F90","v":"Kernbohrung "},{"$f":"'700 Gebäudearbeiten'!G90","v":"Stk. "}]
[{"$f":"'700 Gebäudearbeiten'!B91","v":0},{"$f":"'700 Gebäudearbeiten'!C91","v":0},{"$f":"'700 Gebäudearbeiten'!D91","v":"772.000"},null,null,null,{"$f":"'700 Gebäudearbeiten'!F91","v":"Fräsen"},{"$f":"'700 Gebäudearbeiten'!G91","v":""}]
[{"$f":"'700 Gebäudearbeiten'!B92","v":0},{"$f":"'700 Gebäudearbeiten'!C92","v":0},{"$f":"'700 Gebäudearbeiten'!D92","v":"773.000"},null,null,null,{"$f":"'700 Gebäudearbeiten'!F92","v":"Abdichtungen"},{"$f":"'700 Gebäudearbeiten'!G92","v":""}]
[{"$f":"'700 Gebäudearbeiten'!B93","v":1},{"$f":"'700 Gebäudearbeiten'!C93","v":1},{"$f":"'700 Gebäudearbeiten'!D93","v":"774.000"},null,null,null,{"$f":"'700 Gebäudearbeiten'!F93","v":"Brandschott schliessen"},{"$f":"'700 Gebäudearbeiten'!G93","v":"Stk. "}]
[{"$f":"'700 Gebäudearbeiten'!B94","v":1},{"$f":"'700 Gebäudearbeiten'!C94","v":0},{"$f":"'700 Gebäudearbeiten'!D94","v":0},null,null,null,{"$f":"'700 Gebäudearbeiten'!F94","v":0},{"$f":"'700 Gebäudearbeiten'!G94","v":""}]
[{"$f":"'700 Gebäudearbeiten'!B95","v":0},{"$f":"'700 Gebäudearbeiten'!C95","v":0},{"$f":"'700 Gebäudearbeiten'!D95","v":"780.000"},null,null,null,{"$f":"'700 Gebäudearbeiten'!F95","v":"Verkleidungen/Abdeckungen"},{"$f":"'700 Gebäudearbeiten'!G95","v":""}]
[{"$f":"'700 Gebäudearbeiten'!B96","v":0},{"$f":"'700 Gebäudearbeiten'!C96","v":0},{"$f":"'700 Gebäudearbeiten'!D96","v":"781.000"},null,null,null,{"$f":"'700 Gebäudearbeiten'!F96","v":"Gipsfaserplatte"},{"$f":"'700 Gebäudearbeiten'!G96","v":""}]
[{"$f":"'700 Gebäudearbeiten'!B97","v":0},{"$f":"'700 Gebäudearbeiten'!C97","v":0},{"$f":"'700 Gebäudearbeiten'!D97","v":"782.000"},null,null,null,{"$f":"'700 Gebäudearbeiten'!F97","v":"Holz lackiert"},{"$f":"'700 Gebäudearbeiten'!G97","v":""}]
[{"$f":"'700 Gebäudearbeiten'!B98","v":0},{"$f":"'700 Gebäudearbeiten'!C98","v":0},{"$f":"'700 Gebäudearbeiten'!D98","v":"783.000"},null,null,null,{"$f":"'700 Gebäudearbeiten'!F98","v":"Holz natur"},{"$f":"'700 Gebäudearbeiten'!G98","v":""}]
[{"$f":"'700 Gebäudearbeiten'!B99","v":0},{"$f":"'700 Gebäudearbeiten'!C99","v":0},{"$f":"'700 Gebäudearbeiten'!D99","v":"784.000"},null,null,null,{"$f":"'700 Gebäudearbeiten'!F99","v":"Blech"},{"$f":"'700 Gebäudearbeiten'!G99","v":""}]
[{"$f":"'700 Gebäudearbeiten'!B100","v":0},{"$f":"'700 Gebäudearbeiten'!C100","v":0},{"$f":"'700 Gebäudearbeiten'!D100","v":"785.000"},null,null,null,{"$f":"'700 Gebäudearbeiten'!F100","v":"Faserzementplatte"},{"$f":"'700 Gebäudearbeiten'!G100","v":""}]
[{"$f":"'700 Gebäudearbeiten'!B101","v":0},{"$f":"'700 Gebäudearbeiten'!C101","v":0},{"$f":"'700 Gebäudearbeiten'!D101","v":0},null,null,null,{"$f":"'700 Gebäudearbeiten'!F101","v":0},{"$f":"'700 Gebäudearbeiten'!G101","v":0}]
[1,1,null,null,null,null,"Zwischensumme Gebäudearbeiten"]
[1]
[1,null,"800.000",null,null,null,"Dienstleistungen"]
[1]
[{"$f":"'800 Dienstleistungen'!B6","v":1},{"$f":"'800 Dienstleistungen'!C6","v":0},{"$f":"'800 Dienstleistungen'!D6","v":"810.000"},null,null,null,{"$f":"'800 Dienstleistungen'!F6","v":"Wartung"},{"$f":"'800 Dienstleistungen'!G6","v":""}]
[{"$f":"'800 Dienstleistungen'!B7","v":0},{"$f":"'800 Dienstleistungen'!C7","v":0},{"$f":"'800 Dienstleistungen'!D7","v":"811.000"},null,null,null,{"$f":"'800 Dienstleistungen'!F7","v":"Wartungsvertrag"},{"$f":"'800 Dienstleistungen'!G7","v":""}]
[{"$f":"'800 Dienstleistungen'!B8","v":0},{"$f":"'800 Dienstleistungen'!C8","v":0},{"$f":"'800 Dienstleistungen'!E8","v":"811.100"},null,null,null,{"$f":"'800 Dienstleistungen'!F8","v":"Stundensätze Reparatureinsätze"},{"$f":"'800 Dienstleistungen'!G8","v":""}]
[{"$f":"'800 Dienstleistungen'!B9","v":1},{"$f":"'800 Dienstleistungen'!C9","v":1},{"$f":"'800 Dienstleistungen'!D9","v":"812.000"},null,null,null,{"$f":"'800 Dienstleistungen'!F9","v":"Reinigung"},{"$f":"'800 Dienstleistungen'!G9","v":"pau"}]
[{"$f":"'800 Dienstleistungen'!B10","v":0},{"$f":"'800 Dienstleistungen'!C10","v":0},{"$f":"'800 Dienstleistungen'!E10","v":"812.100"},null,null,null,{"$f":"'800 Dienstleistungen'!F10","v":"Grünpflege"},{"$f":"'800 Dienstleistungen'!G10","v":""}]
[{"$f":"'800 Dienstleistungen'!B11","v":1},{"$f":"'800 Dienstleistungen'!C11","v":1},{"$f":"'800 Dienstleistungen'!D11","v":"813.000"},null,null,null,{"$f":"'800 Dienstleistungen'!F11","v":"Anlagen-Check"},{"$f":"'800 Dienstleistungen'!G11","v":"pau"}]
[{"$f":"'800 Dienstleistungen'!B12","v":0},{"$f":"'800 Dienstleistungen'!C12","v":0},{"$f":"'800 Dienstleistungen'!E12","v":"813.100"},null,null,null,{"$f":"'800 Dienstleistungen'!F12","v":"Sichtkontolle"},{"$f":"'800 Dienstleistungen'!G12","v":""}]
[{"$f":"'800 Dienstleistungen'!B13","v":0},{"$f":"'800 Dienstleistungen'!C13","v":0},{"$f":"'800 Dienstleistungen'!D13","v":"814.000"},null,null,null,{"$f":"'800 Dienstleistungen'!F13","v":"Produktions/Verbrauchs-Auswertung"},{"$f":"'800 Dienstleistungen'!G13","v":""}]
[{"$f":"'800 Dienstleistungen'!B14","v":0},{"$f":"'800 Dienstleistungen'!C14","v":0},{"$f":"'800 Dienstleistungen'!D14","v":"815.000"},null,null,null,{"$f":"'800 Dienstleistungen'!F14","v":"Messungen/Aufnahmen"},{"$f":"'800 Dienstleistungen'!G14","v":""}]
[{"$f":"'800 Dienstleistungen'!B15","v":0},{"$f":"'800 Dienstleistungen'!C15","v":0},{"$f":"'800 Dienstleistungen'!E15","v":"815.100"},null,null,null,{"$f":"'800 Dienstleistungen'!F15","v":"I/U-Messungen"},{"$f":"'800 Dienstleistungen'!G15","v":""}]
[{"$f":"'800 Dienstleistungen'!B16","v":0},{"$f":"'800 Dienstleistungen'!C16","v":0},{"$f":"'800 Dienstleistungen'!E16","v":"815.200"},null,null,null,{"$f":"'800 Dienstleistungen'!F16","v":"ISO-Messungen"},{"$f":"'800 Dienstleistungen'!G16","v":""}]
[{"$f":"'800 Dienstleistungen'!B17","v":0},{"$f":"'800 Dienstleistungen'!C17","v":0},{"$f":"'800 Dienstleistungen'!E17","v":"815.300"},null,null,null,{"$f":"'800 Dienstleistungen'!F17","v":"Kennlinienmessung"},{"$f":"'800 Dienstleistungen'!G17","v":""}]
[{"$f":"'800 Dienstleistungen'!B18","v":0},{"$f":"'800 Dienstleistungen'!C18","v":0},{"$f":"'800 Dienstleistungen'!E18","v":"815.400"},null,null,null,{"$f":"'800 Dienstleistungen'!F18","v":"Wärmebildaufnahme"},{"$f":"'800 Dienstleistungen'!G18","v":""}]
[{"$f":"'800 Dienstleistungen'!B19","v":0},{"$f":"'800 Dienstleistungen'!C19","v":0},{"$f":"'800 Dienstleistungen'!E19","v":"815.500"},null,null,null,{"$f":"'800 Dienstleistungen'!F19","v":"Elektrolumineszenz"},{"$f":"'800 Dienstleistungen'!G19","v":""}]
[{"$f":"'800 Dienstleistungen'!B20","v":0},{"$f":"'800 Dienstleistungen'!C20","v":0},{"$f":"'800 Dienstleistungen'!D20","v":"816.000"},null,null,null,{"$f":"'800 Dienstleistungen'!F20","v":"Externe Modulprüfung"},{"$f":"'800 Dienstleistungen'!G20","v":""}]
[{"$f":"'800 Dienstleistungen'!B21","v":0},{"$f":"'800 Dienstleistungen'!C21","v":0},{"$f":"'800 Dienstleistungen'!E21","v":"816.100"},null,null,null,{"$f":"'800 Dienstleistungen'!F21","v":"Modulleistung"},{"$f":"'800 Dienstleistungen'!G21","v":""}]
[{"$f":"'800 Dienstleistungen'!B22","v":0},{"$f":"'800 Dienstleistungen'!C22","v":0},{"$f":"'800 Dienstleistungen'!E22","v":"816.200"},null,null,null,{"$f":"'800 Dienstleistungen'!F22","v":"Elektrolumineszenz"},{"$f":"'800 Dienstleistungen'!G22","v":""}]
[{"$f":"'800 Dienstleistungen'!B23","v":1},{"$f":"'800 Dienstleistungen'!C23","v":1},{"$f":"'800 Dienstleistungen'!D23","v":"817.000"},null,null,null,{"$f":"'800 Dienstleistungen'!F23","v":"Periodische Kontrolle (Erneuerung Sicherheitsnachweis)"},{"$f":"'800 Dienstleistungen'!G23","v":"pau"}]
[{"$f":"'800 Dienstleistungen'!B24","v":0},{"$f":"'800 Dienstleistungen'!C24","v":0},{"$f":"'800 Dienstleistungen'!D24","v":"818.000"},null,null,null,{"$f":"'800 Dienstleistungen'!F24","v":"Re-Audit Pronovo (> 300 kWp)"},{"$f":"'800 Dienstleistungen'!G24","v":""}]
[{"$f":"'800 Dienstleistungen'!B25","v":1},{"$f":"'800 Dienstleistungen'!C25","v":0},{"$f":"'800 Dienstleistungen'!D25","v":0},null,null,null,{"$f":"'800 Dienstleistungen'!F25","v":0},{"$f":"'800 Dienstleistungen'!G25","v":""}]
[{"$f":"'800 Dienstleistungen'!B26","v":1},{"$f":"'800 Dienstleistungen'!C26","v":0},{"$f":"'800 Dienstleistungen'!D26","v":"820.000"},null,null,null,{"$f":"'800 Dienstleistungen'!F26","v":"Eigenverbrauchsabrechnung (ZEV)"},{"$f":"'800 Dienstleistungen'!G26","v":""}]
[{"$f":"'800 Dienstleistungen'!B27","v":1},{"$f":"'800 Dienstleistungen'!C27","v":1},{"$f":"'800 Dienstleistungen'!D27","v":"821.000"},null,null,null,{"$f":"'800 Dienstleistungen'!F27","v":"Abrechnung ZEV"},{"$f":"'800 Dienstleistungen'!G27","v":"pau"}]
[{"$f":"'800 Dienstleistungen'!B28","v":0},{"$f":"'800 Dienstleistungen'!C28","v":0},{"$f":"'800 Dienstleistungen'!D28","v":"822.000"},null,null,null,{"$f":"'800 Dienstleistungen'!F28","v":"Abrechnung VNB"},{"$f":"'800 Dienstleistungen'!G28","v":""}]
[{"$f":"'800 Dienstleistungen'!B29","v":0},{"$f":"'800 Dienstleistungen'!C29","v":0},{"$f":"'800 Dienstleistungen'!D29","v":"823.000"},null,null,null,{"$f":"'800 Dienstleistungen'!F29","v":"Abrechnung Einzelstrombezüger (Hinterschaltung)"},{"$f":"'800 Dienstleistungen'!G29","v":""}]
[{"$f":"'800 Dienstleistungen'!B30","v":0},{"$f":"'800 Dienstleistungen'!C30","v":0},{"$f":"'800 Dienstleistungen'!D30","v":"824.000"},null,null,null,{"$f":"'800 Dienstleistungen'!F30","v":"Abrechnung Wasserzähler"},{"$f":"'800 Dienstleistungen'!G30","v":""}]
[{"$f":"'800 Dienstleistungen'!B31","v":0},{"$f":"'800 Dienstleistungen'!C31","v":0},{"$f":"'800 Dienstleistungen'!D31","v":"825.000"},null,null,null,{"$f":"'800 Dienstleistungen'!F31","v":"Abrechnung Wärmezähler"},{"$f":"'800 Dienstleistungen'!G31","v":""}]
[{"$f":"'800 Dienstleistungen'!B32","v":0},{"$f":"'800 Dienstleistungen'!C32","v":0},{"$f":"'800 Dienstleistungen'!D32","v":"826.000"},null,null,null,{"$f":"'800 Dienstleistungen'!F32","v":"Zusatzleistungen"},{"$f":"'800 Dienstleistungen'!G32","v":""}]
[{"$f":"'800 Dienstleistungen'!B33","v":1},{"$f":"'800 Dienstleistungen'!C33","v":0},{"$f":"'800 Dienstleistungen'!D33","v":0},null,null,null,{"$f":"'800 Dienstleistungen'!F33","v":0},{"$f":"'800 Dienstleistungen'!G33","v":""}]
[{"$f":"'800 Dienstleistungen'!B34","v":1},{"$f":"'800 Dienstleistungen'!C34","v":0},{"$f":"'800 Dienstleistungen'!D34","v":"830.000"},null,null,null,{"$f":"'800 Dienstleistungen'!F34","v":"Sicherheitsleistungen"},{"$f":"'800 Dienstleistungen'!G34","v":""}]
[{"$f":"'800 Dienstleistungen'!B35","v":1},{"$f":"'800 Dienstleistungen'!C35","v":1},{"$f":"'800 Dienstleistungen'!D35","v":"831.000"},null,null,null,{"$f":"'800 Dienstleistungen'!F35","v":"Erfüllungsgarantie"},{"$f":"'800 Dienstleistungen'!G35","v":"pau"}]
[{"$f":"'800 Dienstleistungen'!B36","v":0},{"$f":"'800 Dienstleistungen'!C36","v":0},{"$f":"'800 Dienstleistungen'!E36","v":"832.100"},null,null,null,{"$f":"'800 Dienstleistungen'!F36","v":"Rückversicherung"},{"$f":"'800 Dienstleistungen'!G36","v":""}]
[{"$f":"'800 Dienstleistungen'!B37","v":0},{"$f":"'800 Dienstleistungen'!C37","v":0},{"$f":"'800 Dienstleistungen'!D37","v":"832.000"},null,null,null,{"$f":"'800 Dienstleistungen'!F37","v":"Gewährleistungsgarantie"},{"$f":"'800 Dienstleistungen'!G37","v":""}]
[{"$f":"'800 Dienstleistungen'!B38","v":1},{"$f":"'800 Dienstleistungen'!C38","v":1},{"$f":"'800 Dienstleistungen'!D38","v":"833.000"},null,null,null,{"$f":"'800 Dienstleistungen'!F38","v":"Ertragsgarantie"},{"$f":"'800 Dienstleistungen'!G38","v":"pau"}]
[{"$f":"'800 Dienstleistungen'!B39","v":1},{"$f":"'800 Dienstleistungen'!C39","v":0},{"$f":"'800 Dienstleistungen'!D39","v":0},null,null,null,{"$f":"'800 Dienstleistungen'!F39","v":0},{"$f":"'800 Dienstleistungen'!G39","v":0}]
[1,1,null,null,null,null,"Zwischensumme Dienstleistungen"]
[1]
[1,1,null,null,null,null,"Total",null,null,null,{"$f":"SUM(K795,K757,K657,K534,K481,K432,K372,K308,K231)","v":0}]